{"text_format":"1","workbook":"xlsx","n_sheets":2,"sheets":["1. INFORMACION ACUMULADA","Tipo"],"not_rendered":{"charts":0,"images":0,"macros":1,"external_links":0,"defined_names":14,"comments":0,"pivot_tables":0},"unopened":[],"bounds":{"document_bytes":16777216,"sheet_cells":100000,"rows_first":2000,"rows_last":500,"rows_between":2000,"halvings":0,"cell_chars":16384,"cell_head_chars":4096},"cells_cut":0,"cells_raw":0,"read":"whole","date_system":"1900"}

{"sheet":"1. INFORMACION ACUMULADA","index":0,"n_rows":744,"n_cols":40,"rows_kept":744,"cut":false,"hidden":false,"merged":[[0,0,0,39],[1,0,1,20],[1,28,1,33],[1,34,1,37],[1,21,1,27]]}
["Anexo contractual de la vigencia 2022"]
["1- INFORMACION GENERAL",null,null,null,null,null,null,null,null,null,null,null,null,null,null,null,null,null,null,null,null,"2- INFORMACION FINANCIERA",null,null,null,null,null,null,"3 - PLAZOS ",null,null,null,null,null,"4. CESION",null,null,null,"5. ESTADO","6. %  Avance y/o cumplimiento"]
["Número Contrato","Año","Número de proceso contractual \nSECOP","Link proceso SECOP","Tipo de contrato ","Modalidad de Selección","Procedimiento o causal","Objeto","Afectación","Plan de Desarrollo Distrital","Número Programa","Equivalencia número de programa","Propósito","Número Proyecto","Número de proponentes","Número  de Identificación del contratista\n(Cédula o NIT sin puntos, comas ni caracteres especiales y sin digito de verificación)","Nombre del contratista\n  (según el caso: nombres y apellidos o Razón social y Tipo societario)","Naturaleza Jurídica","Número  de Identificación del integrante del Consorcio o U.T.\n(Cédula o NIT sin puntos, comas ni caracteres especiales y sin digito de verificación)","Nombre del Integrante del Consorcio o U.T. y Tipo societario\n (Según el caso: nombres y apellidos o razón social y tipo societario)","% Participación (indicar solo el numero del porcentaje, sin caracteres especiales)","Vigencias futuras","Valor Inicial del contrato","Valor total reducciones \n(En valor negativo)","Número de adiciones","Valor total de adiciones ","Valor Final ","Giros (Valor en pesos)","Fecha de suscripción (DD/MM/AAAA)","Fecha de inicio (DD/MM/AAAA)","Fecha de terminación (DD/MM/AAAA)","Plazo en días","Número de prórrogas","Prorroga en días","Número  de Identificación del cesionario\n(NIT sin digito de verificación)","Nombre cesionario","Fecha cesión\n(DD/MM/AAAA)","Valor cesión","Estado","% Avance y/o Cumplimiento"]
["FDLSC-CO-368-2022",2022,"FDLSC-LP-001-2022","https://community.secop.gov.co/Public/Tendering/OpportunityDetail/Index?noticeUID=CO1.NTC.2892957&isFromPublicArea=True&isModal=False","Obra pública","Licitación pública","No aplica","CONTRATAR A PRECIOS UNITARIOS, LAS OBRAS DE CONSTRUCCIÓN DE PARQUES VECINALES Y/O BOLSILLO DE LA LOCALIDAD DE SAN CRISTOBAL EN LA CIUDAD DE BOGOTÁ D.C, DE CONFORMIDAD CON LOS ESTUDIOS Y DISEÑOS ARQUITECTONICOS Y DE INGENERIA PRODUCTO DEL CONTRATO 278 DE 201","Inversión","Un nuevo contrato social y ambiental para la Bogotá del Siglo XXI",33,{"$f":"IF(ISERROR(VLOOKUP(K4,#REF!,2,FALSE)),\" \",VLOOKUP(K4,#REF!,2,FALSE))","v":" "},{"$f":"IF(ISERROR(VLOOKUP(K4,#REF!,3,FALSE)),\" \",VLOOKUP(K4,#REF!,3,FALSE))","v":" "},1863,4,900351236,"ESTUDIOS E INGENIERIA SAS","Persona Jurídica",null,"N/A","N/A",null,14900820381,0,0,0,{"$f":"+W4+X4+Z4","v":14900820381},4470246114,"2022-05-31","2022-06-23","2023-08-22",420,0,0,null,null,null,null,"En ejecución",{"$f":"IF(ISERROR(AB4/AA4),\"-\",(AB4/AA4))","v":0.29999999997986687}]
[null,2022,null,null,"Otros gastos",null,null,"INGRESO VITAL PARA SAN CRISTÓBAL TRANSFERENCIAS","Inversión","Un nuevo contrato social y ambiental para la Bogotá del Siglo XXI",1,{"$f":"IF(ISERROR(VLOOKUP(K5,#REF!,2,FALSE)),\" \",VLOOKUP(K5,#REF!,2,FALSE))","v":" "},{"$f":"IF(ISERROR(VLOOKUP(K5,#REF!,3,FALSE)),\" \",VLOOKUP(K5,#REF!,3,FALSE))","v":" "},1852,0,null,null,null,null,null,null,null,7722000000,0,0,0,{"$f":"+W5+X5+Z5","v":7722000000},7649994845,null,null,null,null,null,null,null,null,null,null,null,{"$f":"IF(ISERROR(AB5/AA5),\"-\",(AB5/AA5))","v":0.99067532310282314}]
[null,2022,null,null,"Otros gastos",null,null,"TRANSFERENCIAS SISTEMA BOGOTA SOLIDARIA","Inversión","Un nuevo contrato social y ambiental para la Bogotá del Siglo XXI",1,{"$f":"IF(ISERROR(VLOOKUP(K6,#REF!,2,FALSE)),\" \",VLOOKUP(K6,#REF!,2,FALSE))","v":" "},{"$f":"IF(ISERROR(VLOOKUP(K6,#REF!,3,FALSE)),\" \",VLOOKUP(K6,#REF!,3,FALSE))","v":" "},1852,0,null,null,null,null,null,null,null,6189025000,0,0,0,{"$f":"+W6+X6+Z6","v":6189025000},6189025000,null,null,null,null,null,null,null,null,null,null,null,{"$f":"IF(ISERROR(AB6/AA6),\"-\",(AB6/AA6))","v":1}]
["FDLSC-CVNI-407-2022",2022,"FDLSC-CD-246-2022","https://community.secop.gov.co/Public/Tendering/OpportunityDetail/Index?noticeUID=CO1.NTC.3195701&isFromPublicArea=True&isModal=true&asPopupView=true","Convenios/Contratos interadministrativos","Contratación directa","Contratos interadministrativos","AUNAR ESFUERZOS TÉCNICOS, ADMINISTRATIVOS, JURÍDICOS Y FINANCIEROS ENTRE LA AGENCIA DISTRITAL PARA LA EDUCACIÓN SUPERIOR, LA CIENCIA Y LA TECNOLOGÍA - ATENEA Y EL FONDO DE DESARROLLO LOCAL DE SAN CRISTÓBAL PARA LA IMPLEMENTACIÓN DE UN NUEVO MODELO INCLUSIVO, EFICIENTE Y FLEXIBLE PARA EL ACCESO Y LA PERMANENCIA DE LAS Y LOS JÓVENES EGRESADOS DE INSTITUCIONES DE EDUCACIÓN MEDIA A PROGRAMAS DE EDUCACIÓN SUPERIOR Y POSMEDIA. EL APORTE POR PARTE DE LA AGENCIA ATENEA SE VERÁ REFLEJADO EN BRINDAR TODA LA CAPACIDAD TÉCNICA, ADMINISTRATIVA, JURÍDICA, TALENTO HUMANO Y DE LAS ACTIVIDADES OPERATIVAS Y DE EJECUCIÓN PROPIAS DEL PROGRAMA PARA EL BUEN DESARROLLO DEL OBJETO DEL CONVENIO, CON EL FIN DE LLEVAR A CABO LA IMPLEMENTACIÓN DE UN NUEVO MODELO INCLUSIVO, EFICIENTE Y FLEXIBLE PARA EL ACCESO Y LA PERMANENCIA, TENIENDO EN CUENTA, LA NATURALEZA DESDE SU CREACIÓN, REALIZANDO EL EFECTIVO CONTROL Y SEGUIMIENTO. ","Inversión","Un nuevo contrato social y ambiental para la Bogotá del Siglo XXI",17,{"$f":"IF(ISERROR(VLOOKUP(K7,#REF!,2,FALSE)),\" \",VLOOKUP(K7,#REF!,2,FALSE))","v":" "},{"$f":"IF(ISERROR(VLOOKUP(K7,#REF!,3,FALSE)),\" \",VLOOKUP(K7,#REF!,3,FALSE))","v":" "},1792,0,901508361,"AGENCIA DISTRITAL PARA LA EDUCACION SUPERIOR, LA CIENCIA Y LA TECNOLOGÍA \"ATENEA\"","Persona Jurídica",null,"N/A","N/A",null,5426161000,0,0,0,{"$f":"+W7+X7+Z7","v":5426161000},5426161000,"2022-08-26","2022-08-26","2029-12-31",2280,0,0,null,null,null,null,"En ejecución",{"$f":"IF(ISERROR(AB7/AA7),\"-\",(AB7/AA7))","v":1}]
[5962020,2020,"FDLSC-LP-002-2020","https://community.secop.gov.co/Public/Tendering/OpportunityDetail/Index?noticeUID=CO1.NTC.1542157&isFromPublicArea=True&isModal=False","Obra pública","Licitación pública","No aplica","REALIZAR LAS OBRAS DE CONSERVACIÓN DE LA MALLA VIAL Y ESPACIO PÚBLICO ASOCIADO EN LA LOCALIDAD DE SAN CRISTÓBAL, BOGOTÁ, D.C. A TRAVÉS DEL SISTEMA DE PRECIOS UNITARIOS FIJOS, SIN FORMULA DE REAJUSTE Y A MONTO AGOTABLE","Inversión","Un nuevo contrato social y ambiental para la Bogotá del Siglo XXI",49,{"$f":"IF(ISERROR(VLOOKUP(K8,#REF!,2,FALSE)),\" \",VLOOKUP(K8,#REF!,2,FALSE))","v":" "},{"$f":"IF(ISERROR(VLOOKUP(K8,#REF!,3,FALSE)),\" \",VLOOKUP(K8,#REF!,3,FALSE))","v":" "},1871,53,"901461394","CONSORCIO GAMA GALAN DQ","Consorcio",901252604,"DQ INVERSIONES SAS",0.5,null,0,0,1,3174761759,{"$f":"+W8+X8+Z8","v":3174761759},1661347115,"2022-02-14","2021-03-15","2022-06-14",450,1,120,null,null,null,null,"Terminado",{"$f":"IF(ISERROR(AB8/AA8),\"-\",(AB8/AA8))","v":0.52329820034221974}]
["FDLSC-CVNI-450-2022",2022,"FDLSC-CD-224-2022","https://community.secop.gov.co/Public/Tendering/OpportunityDetail/Index?noticeUID=CO1.NTC.3144275&isFromPublicArea=True&isModal=true&asPopupView=true","Convenios/Contratos interadministrativos","Contratación directa","Contratos interadministrativos","AUNAR ESFUERZOS ADMINISTRATIVOS, TÉCNICOS, LOGISTICOS Y FINANCIEROS ENTRE PROPAÍS Y EL FONDO DE DESARROLLO LOCAL DE SAN CRISTOBAL PARA LA CONSOLIDACIÓN Y FORTALECIMIENTO ECONÓMICO DE LAS MICROEMPRESAS A TRAVÉS DEL PROGRAMA MICROEMPRESA LOCAL 3.0 Y DE LOS EMPRENDIMIENTOS A TRAVES DEL PROGRAMA BOGOTA PRODUCTIVA LOCAL","Inversión","Un nuevo contrato social y ambiental para la Bogotá del Siglo XXI",6,{"$f":"IF(ISERROR(VLOOKUP(K9,#REF!,2,FALSE)),\" \",VLOOKUP(K9,#REF!,2,FALSE))","v":" "},{"$f":"IF(ISERROR(VLOOKUP(K9,#REF!,3,FALSE)),\" \",VLOOKUP(K9,#REF!,3,FALSE))","v":" "},1865,0,800250713,"CORPORACIÓN PARA EL DESARROLLO DE LAS MICROEMPRESAS","Persona Jurídica",null,"N/A","N/A",null,2588552604,0,0,0,{"$f":"+W9+X9+Z9","v":2588552604},862850868,"2022-08-17","2022-09-12","2023-06-11",270,0,0,null,null,null,null,"En ejecución",{"$f":"IF(ISERROR(AB9/AA9),\"-\",(AB9/AA9))","v":0.33333333333333331}]
[524,2021,"FDLSC-SASI-004-2021\t","https://community.secop.gov.co/Public/Tendering/OpportunityDetail/Index?noticeUID=CO1.NTC.2436185&isFromPublicArea=True&isModal=true&asPopupView=true","Compraventa de bienes muebles","Selección abreviada","Subasta inversa ","CONTRATAR LA PRESTACIÓN DEL SERVICIO DE MANTENIMIENTO PREVENTIVO, MANTENIMIENTO CORRECTIVO CON EL SUMINISTRO Y CAMBIO DE REPUESTOS DE LAS IMPRESORAS Y ESCÁNERES QUE HACEN PARTE DE LA PLATAFORMA TECNOLÓGICA DE LA ALCALDÍA LOCAL DE SAN CRISTÓBAL Y LA JUNTA ADMINISTRADORA LOCAL.","Inversión","Un nuevo contrato social y ambiental para la Bogotá del Siglo XXI",12,{"$f":"IF(ISERROR(VLOOKUP(K10,#REF!,2,FALSE)),\" \",VLOOKUP(K10,#REF!,2,FALSE))","v":" "},{"$f":"IF(ISERROR(VLOOKUP(K10,#REF!,3,FALSE)),\" \",VLOOKUP(K10,#REF!,3,FALSE))","v":" "},1724,13,"830005066","SECURITY VIDEO EQUIPMENT SAS","Persona Jurídica","N/A","N/A","N/A",null,1510216764,0,1,140520236,{"$f":"+W10+X10+Z10","v":1650737000},1650731023,"2022-10-12","2022-03-14","2022-11-14",120,0,0,null,null,null,null,"Terminado",{"$f":"IF(ISERROR(AB10/AA10),\"-\",(AB10/AA10))","v":0.9999963791930514}]
["FDLSC-CSU-373-2022",2022,"FDLSC-SASI-002-2022","https://community.secop.gov.co/Public/Tendering/OpportunityDetail/Index?noticeUID=CO1.NTC.2935631&isFromPublicArea=True&isModal=False","Suministro","Selección abreviada","Subasta inversa ","CONTRATA EL SUMINISTRO DE MATERIALES ASFALTICOS, DE BASE Y SUB-BASE GRANULAR, DISPOSICIÓN FINAL DE ESCOMBROS Y DEMÁS ELEMENTOS REQUERIDOS PARA LA REHABILITACIÓN, MANTENIMIENTO DE LA MALLA VIAL, ESPACIO PÚBLICO Y CICLO-INFRAESTRUCTURA DE LA LOCALIDAD DE SAN CRISTOBAL, A MONTO AGOTABLE","Inversión","Un nuevo contrato social y ambiental para la Bogotá del Siglo XXI",49,{"$f":"IF(ISERROR(VLOOKUP(K11,#REF!,2,FALSE)),\" \",VLOOKUP(K11,#REF!,2,FALSE))","v":" "},{"$f":"IF(ISERROR(VLOOKUP(K11,#REF!,3,FALSE)),\" \",VLOOKUP(K11,#REF!,3,FALSE))","v":" "},1871,2,830073703,"PAVIOBRAS SAS","Persona Jurídica",null,"N/A","N/A",null,1270087103,0,1,373650548,{"$f":"+W11+X11+Z11","v":1643737651},550720226,"2022-07-06","2022-07-08","2023-04-07",270,0,0,null,null,null,null,"En ejecución",{"$f":"IF(ISERROR(AB11/AA11),\"-\",(AB11/AA11))","v":0.33504143782613882}]
["FDLSC-CVNI-668-2022",2022,"FDLSC-CD-352-2022","https://community.secop.gov.co/Public/Tendering/OpportunityDetail/Index?noticeUID=CO1.NTC.3686568&isFromPublicArea=True&isModal=true&asPopupView=true","Convenios/Contratos interadministrativos","Contratación directa","Contratos interadministrativos","AUNAR ESFUERZOS, TÉCNICOS, ADMINISTRATIVOS Y FINANCIEROS PARA DESARROLLAR ACTIVIDADES DE PROYECTOS DE INVERSIÓN DEL FONDO DE DESARROLLO   LOCAL   DE   SAN   CRISTÓBAL   RELACIONADOS   CON   TEMÁTICAS SOCIALES QUE IMPACTAN DIRECTAMENTE LA COMUNIDAD DE LA LOCALIDAD","Inversión","Un nuevo contrato social y ambiental para la Bogotá del Siglo XXI",6,{"$f":"IF(ISERROR(VLOOKUP(K12,#REF!,2,FALSE)),\" \",VLOOKUP(K12,#REF!,2,FALSE))","v":" "},{"$f":"IF(ISERROR(VLOOKUP(K12,#REF!,3,FALSE)),\" \",VLOOKUP(K12,#REF!,3,FALSE))","v":" "},1811,0,901100455,"ALIANZA PÚBLICA PARA EL DESARROLLO INTEGRAL – ALDESARROLLO ","Persona Jurídica",null,"N/A","N/A",null,1581669475,0,0,0,{"$f":"+W12+X12+Z12","v":1581669475},0,"2022-12-29",null,null,240,null,null,null,null,null,null,"Celebrado o por iniciar",{"$f":"IF(ISERROR(AB12/AA12),\"-\",(AB12/AA12))","v":0}]
["FDLSC-CTOI-667-2022",2022,"FDLSC-CD-351-2022","https://community.secop.gov.co/Public/Tendering/OpportunityDetail/Index?noticeUID=CO1.NTC.3686363&isFromPublicArea=True&isModal=true&asPopupView=true","Convenios/Contratos interadministrativos","Contratación directa","Contratos interadministrativos","REALIZAR LAS  ACCIONES  TÉCNICAS,  JURÍDICAS  Y FINANCIERAS  NECESARIAS  PARA  LA  GESTIÓN DE LOS PROYECTOS DE INVERSIÓN DEL FONDO DE DESARROLLO LOCAL DE SAN CRISTÓBAL RELACIONADOS CON ESTÍMULOS, EMOLUMENTOS Y  FORTALECIMIENTO DE ORGANIZACIONES DE LA LOCALIDAD, ASÍ COMO LAS DEMÁS ACTIVIDADES REQUERIDAS EN SU DESARROLLO QUE SE ENMARCAN EN LOS CRITERIOS DE ELEGIBILIDAD Y MARCO NORMATIVO VINCULANTE DE CADA COMPONENTE","Inversión","Un nuevo contrato social y ambiental para la Bogotá del Siglo XXI",6,{"$f":"IF(ISERROR(VLOOKUP(K13,#REF!,2,FALSE)),\" \",VLOOKUP(K13,#REF!,2,FALSE))","v":" "},{"$f":"IF(ISERROR(VLOOKUP(K13,#REF!,3,FALSE)),\" \",VLOOKUP(K13,#REF!,3,FALSE))","v":" "},1865,0,899999316,"EMPRESA NACIONAL PROMOTORA DEL DESARROLLO TERRITORIAL - ENTERRITORIO","Persona Jurídica",null,"N/A","N/A",null,1515173164,0,0,0,{"$f":"+W13+X13+Z13","v":1515173164},0,"2022-12-29",null,null,240,null,null,null,null,null,null,"Celebrado o por iniciar",{"$f":"IF(ISERROR(AB13/AA13),\"-\",(AB13/AA13))","v":0}]
["FDLSC-CPS-621-2022",2022,"FDLSC-LP-005-2022","https://community.secop.gov.co/Public/Tendering/OpportunityDetail/Index?noticeUID=CO1.NTC.3458576&isFromPublicArea=True&isModal=true&asPopupView=true","Contratos de prestación de servicios","Licitación pública","No aplica","CONTRATAR LA PRESTACION DE SERVICIOS DE SALUD, PARA APORTAR A LA CALIDAD DE VIDA DE GRUPOS POBLACIONALES, COMUNIDAD CON DISCAPACIDAD, CUIDADORES Y CUIDADORAS, HABITANTES EN LA LOCALIDAD DE SAN CRISTÓBAL, A TRAVÉS DE LA IMPLEMENTACIÓN DE ACCIONES COMPLEMENTARIAS EN SALUD Y PREVENCIÓN DEL EMBARAZO ADOLESCENTE","Inversión","Un nuevo contrato social y ambiental para la Bogotá del Siglo XXI",6,{"$f":"IF(ISERROR(VLOOKUP(K14,#REF!,2,FALSE)),\" \",VLOOKUP(K14,#REF!,2,FALSE))","v":" "},{"$f":"IF(ISERROR(VLOOKUP(K14,#REF!,3,FALSE)),\" \",VLOOKUP(K14,#REF!,3,FALSE))","v":" "},1843,2,900521780,"B2 NETWORKS SAS ","Persona Jurídica",null,"N/A","N/A",null,1465154000,0,0,0,{"$f":"+W14+X14+Z14","v":1465154000},0,"2022-12-16",null,null,50,null,null,null,null,null,null,"Celebrado o por iniciar",{"$f":"IF(ISERROR(AB14/AA14),\"-\",(AB14/AA14))","v":0}]
["FDLSC-INTV-367-2022",2022,"FDLSC-CMA-002-2022","https://community.secop.gov.co/Public/Tendering/OpportunityDetail/Index?noticeUID=CO1.NTC.2923330&isFromPublicArea=True&isModal=False","Interventoría","Concurso de méritos","No aplica","REALIZAR LA INTERVENTORIA TECNICA, ADMINISTRATIVA, FINANCIERA, JURIDICA, SOCIAL, AMBIENTAL Y SST AL CONTRATO QUE TIENE COMO OBJETO CONTRATAR A PRECIOS UNITARIOS, LAS OBRAS DE CONSTRUCCIÓN DE PARQUES VECINALES Y/O BOLSILLO DE LA LOCALIDAD DE SAN CRISTOBAL EN LA CIUDAD DE BOGOTÁ D.C, DE CONFORMIDAD CON LOS ESTUDIOS Y DISEÑOS ARQUITECTONICOS","Inversión","Un nuevo contrato social y ambiental para la Bogotá del Siglo XXI",33,{"$f":"IF(ISERROR(VLOOKUP(K15,#REF!,2,FALSE)),\" \",VLOOKUP(K15,#REF!,2,FALSE))","v":" "},{"$f":"IF(ISERROR(VLOOKUP(K15,#REF!,3,FALSE)),\" \",VLOOKUP(K15,#REF!,3,FALSE))","v":" "},1863,2,901601348,"CONSORCIO PARQUES SC","Consorcio",519764583,"SANDRA MONICA CARDOZO ROJAS",0.5,null,1415771295,0,0,0,{"$f":"+W15+X15+Z15","v":1415771295},161802432,"2022-06-01","2022-04-22","2023-08-22",420,0,0,null,null,null,null,"En ejecución",{"$f":"IF(ISERROR(AB15/AA15),\"-\",(AB15/AA15))","v":0.11428571307486496}]
["FDLSC-CTOI-667-2022",2022,"FDLSC-CD-351-2022","https://community.secop.gov.co/Public/Tendering/OpportunityDetail/Index?noticeUID=CO1.NTC.3686363&isFromPublicArea=True&isModal=true&asPopupView=true","Convenios/Contratos interadministrativos","Contratación directa","Contratos interadministrativos","REALIZAR LAS  ACCIONES  TÉCNICAS,  JURÍDICAS  Y FINANCIERAS  NECESARIAS  PARA  LA  GESTIÓN DE LOS PROYECTOS DE INVERSIÓN DEL FONDO DE DESARROLLO LOCAL DE SAN CRISTÓBAL RELACIONADOS CON ESTÍMULOS, EMOLUMENTOS Y  FORTALECIMIENTO DE ORGANIZACIONES DE LA LOCALIDAD, ASÍ COMO LAS DEMÁS ACTIVIDADES REQUERIDAS EN SU DESARROLLO QUE SE ENMARCAN EN LOS CRITERIOS DE ELEGIBILIDAD Y MARCO NORMATIVO VINCULANTE DE CADA COMPONENTE","Inversión","Un nuevo contrato social y ambiental para la Bogotá del Siglo XXI",55,{"$f":"IF(ISERROR(VLOOKUP(K16,#REF!,2,FALSE)),\" \",VLOOKUP(K16,#REF!,2,FALSE))","v":" "},{"$f":"IF(ISERROR(VLOOKUP(K16,#REF!,3,FALSE)),\" \",VLOOKUP(K16,#REF!,3,FALSE))","v":" "},1872,0,899999316,"EMPRESA NACIONAL PROMOTORA DEL DESARROLLO TERRITORIAL - ENTERRITORIO","Persona Jurídica",null,"N/A","N/A",null,1352716500,0,0,0,{"$f":"+W16+X16+Z16","v":1352716500},0,"2022-12-29",null,null,240,null,null,null,null,null,null,"Celebrado o por iniciar",{"$f":"IF(ISERROR(AB16/AA16),\"-\",(AB16/AA16))","v":0}]
["FDLSC-COP-378-2022",2022,"FDLSC-LP-003-2022","https://community.secop.gov.co/Public/Tendering/OpportunityDetail/Index?noticeUID=CO1.NTC.2980638&isFromPublicArea=True&isModal=False","Obra pública","Licitación pública","No aplica","EJECUTAR A MONTO AGOTABLE POR EL SISTEMA DE PRECIOS UNITARIOS FIJOS SIN FÓRMULA DE REAJUSTE LAS OBRAS Y ACTIVIDADES PARA LA CONSERVACIÓN DE PUENTES VEHICULARES Y/O PEATONALES DE LA LOCALIDAD DE SAN CRISTÓBAL.”","Inversión","Un nuevo contrato social y ambiental para la Bogotá del Siglo XXI",49,{"$f":"IF(ISERROR(VLOOKUP(K17,#REF!,2,FALSE)),\" \",VLOOKUP(K17,#REF!,2,FALSE))","v":" "},{"$f":"IF(ISERROR(VLOOKUP(K17,#REF!,3,FALSE)),\" \",VLOOKUP(K17,#REF!,3,FALSE))","v":" "},1871,5,900128706,"INGENIERIA Y DESARROLLO URBANISTICO SAS","Persona Jurídica",null,"N/A","N/A",null,821487273,0,1,355411028,{"$f":"+W17+X17+Z17","v":1176898301},739335228,"2022-07-22","2022-08-03","2023-02-02",135,1,45,null,null,null,null,"En ejecución",{"$f":"IF(ISERROR(AB17/AA17),\"-\",(AB17/AA17))","v":0.6282065556316917}]
[525,2021,"FDLSC-SASI-005-2021\t","https://community.secop.gov.co/Public/Tendering/OpportunityDetail/Index?noticeUID=CO1.NTC.2438947&isFromPublicArea=True&isModal=true&asPopupView=true","Compraventa de bienes muebles","Selección abreviada","Subasta inversa ","CONTRATAR A MONTO AGOTABLE LA ADQUISICIÓN Y DISTRIBUCIÓN DE ELEMENTOS PEDAGÓGICOS Y DIDÁCTICOS, PARA FORTALECER EL PROCESO FORMATIVO DE LOS ESTUDIANTES DE LAS IED DE SAN CRISTÓBAL, EN EL MARCO DEL PROYECTO 1790 \"SAN CRISTÓBAL FORTALECE LA EDUCACIÓN.","Inversión","Un nuevo contrato social y ambiental para la Bogotá del Siglo XXI",14,{"$f":"IF(ISERROR(VLOOKUP(K18,#REF!,2,FALSE)),\" \",VLOOKUP(K18,#REF!,2,FALSE))","v":" "},{"$f":"IF(ISERROR(VLOOKUP(K18,#REF!,3,FALSE)),\" \",VLOOKUP(K18,#REF!,3,FALSE))","v":" "},1790,10,"830016004","REDCOMPUTO LIMITADA","Persona Jurídica","N/A","N/A","N/A",null,804023000,{"$f":"-10","v":-10},1,364869096,{"$f":"+W18+X18+Z18","v":1168892086},804022990,"2022-11-15","2022-03-18","2022-12-15",105,1,17,null,null,null,null,"Terminado",{"$f":"IF(ISERROR(AB18/AA18),\"-\",(AB18/AA18))","v":0.68785048648194891}]
["FDLSC-CPS-551-2022",2022,"FDLSC-LP-004-2022","https://community.secop.gov.co/Public/Tendering/OpportunityDetail/Index?noticeUID=CO1.NTC.3274245&isFromPublicArea=True&isModal=true&asPopupView=true","Contratos de prestación de servicios","Licitación pública","No aplica","PRESTAR LOS SERVICIOS PARA BRINDAR ATENCIÓN A PERSONAS CON DISCAPACIDAD Y/O CUIDADORES CON EL OTORGAMIENTO DE DISPOSITIVOS DE ASISTENCIA PERSONAL-AYUDAS TÉCNICAS NO INCLUIDAS EN EL PLAN DE BENEFICIOS EN SALUD, EN LA LOCALIDAD DE SAN CRISTÓBAL.","Inversión","Un nuevo contrato social y ambiental para la Bogotá del Siglo XXI",6,{"$f":"IF(ISERROR(VLOOKUP(K19,#REF!,2,FALSE)),\" \",VLOOKUP(K19,#REF!,2,FALSE))","v":" "},{"$f":"IF(ISERROR(VLOOKUP(K19,#REF!,3,FALSE)),\" \",VLOOKUP(K19,#REF!,3,FALSE))","v":" "},1843,1,900259168,"TU SALUD H&G SAS","Persona Jurídica",null,"N/A","N/A",null,1159785000,0,0,0,{"$f":"+W19+X19+Z19","v":1159785000},0,"2022-10-25","2022-11-10","2023-08-09",270,0,0,null,null,null,null,"En ejecución",{"$f":"IF(ISERROR(AB19/AA19),\"-\",(AB19/AA19))","v":0}]
["FDLSC-CVNI-668-2022",2022,"FDLSC-CD-352-2022","https://community.secop.gov.co/Public/Tendering/OpportunityDetail/Index?noticeUID=CO1.NTC.3686568&isFromPublicArea=True&isModal=true&asPopupView=true","Convenios/Contratos interadministrativos","Contratación directa","Contratos interadministrativos","AUNAR ESFUERZOS, TÉCNICOS, ADMINISTRATIVOS Y FINANCIEROS PARA DESARROLLAR ACTIVIDADES DE PROYECTOS DE INVERSIÓN DEL FONDO DE DESARROLLO   LOCAL   DE   SAN   CRISTÓBAL   RELACIONADOS   CON   TEMÁTICAS SOCIALES QUE IMPACTAN DIRECTAMENTE LA COMUNIDAD DE LA LOCALIDAD","Inversión","Un nuevo contrato social y ambiental para la Bogotá del Siglo XXI",40,{"$f":"IF(ISERROR(VLOOKUP(K20,#REF!,2,FALSE)),\" \",VLOOKUP(K20,#REF!,2,FALSE))","v":" "},{"$f":"IF(ISERROR(VLOOKUP(K20,#REF!,3,FALSE)),\" \",VLOOKUP(K20,#REF!,3,FALSE))","v":" "},1870,0,901100455,"ALIANZA PÚBLICA PARA EL DESARROLLO INTEGRAL – ALDESARROLLO ","Persona Jurídica",null,"N/A","N/A",null,1150656901,0,0,0,{"$f":"+W20+X20+Z20","v":1150656901},0,"2022-12-29",null,null,240,null,null,null,null,null,null,"Celebrado o por iniciar",{"$f":"IF(ISERROR(AB20/AA20),\"-\",(AB20/AA20))","v":0}]
["FDLSC-CTOI-667-2022",2022,"FDLSC-CD-351-2022","https://community.secop.gov.co/Public/Tendering/OpportunityDetail/Index?noticeUID=CO1.NTC.3686363&isFromPublicArea=True&isModal=true&asPopupView=true","Convenios/Contratos interadministrativos","Contratación directa","Contratos interadministrativos","REALIZAR LAS  ACCIONES  TÉCNICAS,  JURÍDICAS  Y FINANCIERAS  NECESARIAS  PARA  LA  GESTIÓN DE LOS PROYECTOS DE INVERSIÓN DEL FONDO DE DESARROLLO LOCAL DE SAN CRISTÓBAL RELACIONADOS CON ESTÍMULOS, EMOLUMENTOS Y  FORTALECIMIENTO DE ORGANIZACIONES DE LA LOCALIDAD, ASÍ COMO LAS DEMÁS ACTIVIDADES REQUERIDAS EN SU DESARROLLO QUE SE ENMARCAN EN LOS CRITERIOS DE ELEGIBILIDAD Y MARCO NORMATIVO VINCULANTE DE CADA COMPONENTE","Inversión","Un nuevo contrato social y ambiental para la Bogotá del Siglo XXI",21,{"$f":"IF(ISERROR(VLOOKUP(K21,#REF!,2,FALSE)),\" \",VLOOKUP(K21,#REF!,2,FALSE))","v":" "},{"$f":"IF(ISERROR(VLOOKUP(K21,#REF!,3,FALSE)),\" \",VLOOKUP(K21,#REF!,3,FALSE))","v":" "},1803,0,899999316,"EMPRESA NACIONAL PROMOTORA DEL DESARROLLO TERRITORIAL - ENTERRITORIO","Persona Jurídica",null,"N/A","N/A",null,1099498101,0,0,0,{"$f":"+W21+X21+Z21","v":1099498101},0,"2022-12-29",null,null,240,null,null,null,null,null,null,"Celebrado o por iniciar",{"$f":"IF(ISERROR(AB21/AA21),\"-\",(AB21/AA21))","v":0}]
[null,2022,null,null,"Otros gastos",null,null,"HONORARIOS EDILES","Funcionamiento","Un nuevo contrato social y ambiental para la Bogotá del Siglo XXI","No aplica",{"$f":"IF(ISERROR(VLOOKUP(K22,#REF!,2,FALSE)),\" \",VLOOKUP(K22,#REF!,2,FALSE))","v":" "},{"$f":"IF(ISERROR(VLOOKUP(K22,#REF!,3,FALSE)),\" \",VLOOKUP(K22,#REF!,3,FALSE))","v":" "},"3007\n",0,null,null,null,null,null,null,null,1080794799,0,0,0,{"$f":"+W22+X22+Z22","v":1080794799},1080385097,null,null,null,null,null,null,null,null,null,null,null,{"$f":"IF(ISERROR(AB22/AA22),\"-\",(AB22/AA22))","v":0.9996209252668693}]
["FDLSC-CVNI-374-2022",2022,"FDLSC-CD-176-2022","https://www.contratos.gov.co/consultas/detalleProceso.do?numConstancia=22-22-36865&g-recaptcha-response=03ANYolqsJE-6O_vQJOChod67mHaono8UeqgyLP06RRKI7UWEmia8gTw1SkaVLKV1FyGEgNd1WGDZQnZiF6IBBsI0-95z7Pug6CJSJTkQzZV1h5A2r60_zH5LhM0lEOopHSmdSEgiuLhpXYIh3VJWYM2S8rWC1mgXNC59KAByJqiOpr0vlAj1Uhc1RNHLZVp9u_WtKnj9F_nwqbwF9pOA9--EXJoZbXZ4wRg6WWWlvnyupHcqupx5oiB0YSdAnm64DGZ6p84ssrqxJ0ezoBQ3mNwOI44Pg5Tv4zl_q_IwkF7VkGCkjYF63-oWUwxvD14VabG_Wx6MbF24SDDN1koecTtQGHbp9axeGEc5YQRbUop5SQCzEIms1wiUiN8jccflKD2bssezzosviXac9_yhYWBC4NdpWsJNl7oueK-AVepNPvMJSGLbkmAtvhc8sx-mhy4Y9ffpH0FejhkPh9-l0jR9O9wJJC55e0A","Convenios/Contratos interadministrativos","Contratación directa","Contratos interadministrativos","AUNAR ESFUERZOS TÉCNICOS, ADMINISTRATIVOS Y FINANCIEROS CON EL FIN DE DESARROLLAR ACCIONES ARTICULADAS ENTRE LA SCRD, EL IDARTES Y LOS FONDOS DE DESARROLLO LOCAL, ORIENTADAS A FOMENTAR PROCESOS DE FORMACIÓN, CUALIFICACIÓN, FORTALECIMIENTO DE LOS AGENTES CULTURALES TERRITORIALES DEL DISTRITO CAPITAL, EN EL MARCO DE LA GENERACIÓN Y CIRCULACIÓN DE BIENES Y SERVICIOS CULTURALES, ARTISTICOS Y PATRIMONIALES DE CONFORMIDAD CON LAS INICIATIVAS PRIORIZADAS Y CONCERTADAS EN LA ESTRATEGIA DISTRITAL \"PRESUPUESTOS PARTICIPATIVOS\" Y/O DE LAS CONCERTACIONES CON LOS GRUPOS DE INTERÉS DE LAS LOCALIDADES Y A LAS ACCIONES ADELANTADAS EN EL \"PROCESO MISIONAL DE FOMENTO\", DE ACUERDO CON LOS PROYECTOS A EJECUTAR ASOCIADOS A LAS METAS DE CADA LOCALIDAD EN EL PROGRAMA \"ES CULTURA LOCAL 2022\".","Inversión","Un nuevo contrato social y ambiental para la Bogotá del Siglo XXI",21,"Creación y vida cotidiana: Apropiación ciudadana del arte, la cultura y el patrimonio, para la democracia cultural","Propósito 1: Hacer un nuevo contrato social para incrementar la inclusión social, productiva y política",1803,0,899999061,"SECRETARIA DISTRITAL DE CULTURA RECREACI ON Y DEPORTE","Persona Jurídica",null,"N/A","N/A",null,1072061036,0,0,0,{"$f":"+W23+X23+Z23","v":1072061036},902577296,"2022-07-08","2022-07-19","2023-08-31",395,0,0,null,null,null,null,"En ejecución",{"$f":"IF(ISERROR(AB23/AA23),\"-\",(AB23/AA23))","v":0.84190849745610941}]
["FDLSC-CPS-364-2022",2022,"FDLSC-LP-002-2022","https://community.secop.gov.co/Public/Tendering/OpportunityDetail/Index?noticeUID=CO1.NTC.2875121&isFromPublicArea=True&isModal=true&asPopupView=true","Contratos de prestación de servicios","Licitación pública","No aplica","PRESTACION DEL SERVICIO DE VIGILANCIA, GUARDA, CUSTODIA, MONITOREO DE ALARMAS Y SEGURIDAD PRIVADA CON ARMAS, MEDIOS TECNOLOGICOS Y CONTROL DE ACCESO PARA LOS USUARIOS, FUNCIONARIOS Y PERSONAS EN GENERAL, MEDIANTE EL ESTABLECIMIENTO DE CONTROL DE INGRESO Y SALIDA DE LAS INSTALACIONES DE LA ENTIDAD, Y PARA LOS BIENES MUEBLES E INMUEBLES EN LOS CUALES SE DESARROLLE LA MISIONALIDAD DE LA ALCALDIA LOCAL DE SAN CRISTOBAL Y DE TODOS AQUELLOS POR LOS CUALES LLEGASE A SER LEGALMENTE RESPONSABLE","Funcionamiento","Un nuevo contrato social y ambiental para la Bogotá del Siglo XXI","No aplica",{"$f":"IF(ISERROR(VLOOKUP(K24,#REF!,2,FALSE)),\" \",VLOOKUP(K24,#REF!,2,FALSE))","v":" "},{"$f":"IF(ISERROR(VLOOKUP(K24,#REF!,3,FALSE)),\" \",VLOOKUP(K24,#REF!,3,FALSE))","v":" "},5250,1,900431565,"SQUADRA SEGURIDAD LTDA","Persona Natural",null,"N/A","N/A",null,675249168,0,2,205857832,{"$f":"+W24+X24+Z24","v":881107000},594140368,"2022-04-06","2022-04-06","2023-03-13",240,2,88,null,null,null,null,"En ejecución",{"$f":"IF(ISERROR(AB24/AA24),\"-\",(AB24/AA24))","v":0.67431125618114485}]
[null,2022,null,null,"Otros gastos",null,null,"OBLIGACIONES POR PAGAR FUNCIONAMIENTO-VIGENCIAS ANTERIORES","Funcionamiento","Un nuevo contrato social y ambiental para la Bogotá del Siglo XXI","No aplica",{"$f":"IF(ISERROR(VLOOKUP(K25,#REF!,2,FALSE)),\" \",VLOOKUP(K25,#REF!,2,FALSE))","v":" "},{"$f":"IF(ISERROR(VLOOKUP(K25,#REF!,3,FALSE)),\" \",VLOOKUP(K25,#REF!,3,FALSE))","v":" "},"0004\n",0,null,null,null,null,null,null,null,1041127004,{"$f":"-239964119","v":-239964119},0,0,{"$f":"+W25+X25+Z25","v":801162885},680529914,null,null,null,null,null,null,null,null,null,null,null,{"$f":"IF(ISERROR(AB25/AA25),\"-\",(AB25/AA25))","v":0.84942765914574292}]
["FDLSC-CPS-641-2022",2022,"FDLSC-LP-008-2022","https://community.secop.gov.co/Public/Tendering/OpportunityDetail/Index?noticeUID=CO1.NTC.3575531&isFromPublicArea=True&isModal=true&asPopupView=true","Contratos de prestación de servicios","Licitación pública","No aplica","PRESTAR LOS SERVICIOS PARA LA FORMACIÓN DE LA ESCUELA DE SEGURIDAD CIUDADANA, LA IMPLEMENTACIÓN DE ACCIONES PEDAGÓGICAS DEL CÓDIGO NACIONAL DE SEGURIDAD ENTREGA DE EQUIPOS TECNOLÓGICOS DE ALARMAS COMUNITARIAS PARA EL FORTALECIMIENTO DE LAS REDES DE SEGURIDAD CIUDADANA","Inversión","Un nuevo contrato social y ambiental para la Bogotá del Siglo XXI",48,{"$f":"IF(ISERROR(VLOOKUP(K26,#REF!,2,FALSE)),\" \",VLOOKUP(K26,#REF!,2,FALSE))","v":" "},{"$f":"IF(ISERROR(VLOOKUP(K26,#REF!,3,FALSE)),\" \",VLOOKUP(K26,#REF!,3,FALSE))","v":" "},1844,2,900129311,"H & M TECNOLOGIES Y CIA S EN C","Persona Jurídica",null,"N/A","N/A",null,482312000,0,1,294304829,{"$f":"+W26+X26+Z26","v":776616829},0,"2022-12-21","2022-12-23","2023-05-22",150,0,0,null,null,null,null,"En ejecución",{"$f":"IF(ISERROR(AB26/AA26),\"-\",(AB26/AA26))","v":0}]
["FDLSC-CPS-623-2022",2022,"FDLSC-LP 007-2022","https://community.secop.gov.co/Public/Tendering/OpportunityDetail/Index?noticeUID=CO1.NTC.3455805&isFromPublicArea=True&isModal=true&asPopupView=true","Contratos de prestación de servicios","Licitación pública","No aplica","PRESTACIÓN DE SERVICIOS Y DE APOYO A LA GESTIÓN PARA LA REALIZACIÓN DE LAS INICIATIVAS DEPORTIVAS EN DIFERENTES ACTIVIDADES RECREODEPORTIVAS EN LA LOCALIDAD DE SAN CRISTÓBAL","Inversión","Un nuevo contrato social y ambiental para la Bogotá del Siglo XXI",20,{"$f":"IF(ISERROR(VLOOKUP(K27,#REF!,2,FALSE)),\" \",VLOOKUP(K27,#REF!,2,FALSE))","v":" "},{"$f":"IF(ISERROR(VLOOKUP(K27,#REF!,3,FALSE)),\" \",VLOOKUP(K27,#REF!,3,FALSE))","v":" "},1801,3,830133329,"FUNDACION PARA EL DESARROLLO SOCIOCULTURAL, DEPORTIVO, COMUNITARIO, AGROPECUARIO Y/O AMBIENTAL – FUNDESCO","Persona Jurídica",null,"N/A","N/A",null,741365393,0,0,0,{"$f":"+W27+X27+Z27","v":741365393},0,"2022-12-19",null,null,240,null,null,null,null,null,null,"Celebrado o por iniciar",{"$f":"IF(ISERROR(AB27/AA27),\"-\",(AB27/AA27))","v":0}]
["FDLSC-CVNI-668-2022",2022,"FDLSC-CD-352-2022","https://community.secop.gov.co/Public/Tendering/OpportunityDetail/Index?noticeUID=CO1.NTC.3686568&isFromPublicArea=True&isModal=true&asPopupView=true","Convenios/Contratos interadministrativos","Contratación directa","Contratos interadministrativos","AUNAR ESFUERZOS, TÉCNICOS, ADMINISTRATIVOS Y FINANCIEROS PARA DESARROLLAR ACTIVIDADES DE PROYECTOS DE INVERSIÓN DEL FONDO DE DESARROLLO   LOCAL   DE   SAN   CRISTÓBAL   RELACIONADOS   CON   TEMÁTICAS SOCIALES QUE IMPACTAN DIRECTAMENTE LA COMUNIDAD DE LA LOCALIDAD","Inversión","Un nuevo contrato social y ambiental para la Bogotá del Siglo XXI",57,{"$f":"IF(ISERROR(VLOOKUP(K28,#REF!,2,FALSE)),\" \",VLOOKUP(K28,#REF!,2,FALSE))","v":" "},{"$f":"IF(ISERROR(VLOOKUP(K28,#REF!,3,FALSE)),\" \",VLOOKUP(K28,#REF!,3,FALSE))","v":" "},1873,0,901100455,"ALIANZA PÚBLICA PARA EL DESARROLLO INTEGRAL – ALDESARROLLO ","Persona Jurídica",null,"N/A","N/A",null,547331192,0,0,0,{"$f":"+W28+X28+Z28","v":547331192},0,"2022-12-29",null,null,240,null,null,null,null,null,null,"Celebrado o por iniciar",{"$f":"IF(ISERROR(AB28/AA28),\"-\",(AB28/AA28))","v":0}]
["FDLSC-CV-608-2022",2022,"FDLSC-SASI-008-2022","https://community.secop.gov.co/Public/Tendering/OpportunityDetail/Index?noticeUID=CO1.NTC.3415961&isFromPublicArea=True&isModal=true&asPopupView=true","Compraventa de bienes muebles","Selección abreviada","Subasta inversa ","CONTRATAR LA ADQUISICIÓN, DISTRIBUCIÓN E INSTALACIÓN DE ELEMENTOS DE MOBILIARIO, PEDAGÓGICOS, ARTÍSTICOS, DE OFICIO Y DEPORTIVOS, PARA FORTALECER EL PROCESO FORMATIVO DE LA CASA DE LA JUVENTUD DAMAWHA DE LA SECRETARÍA DE INTEGRACIÓN SOCIAL DE LA LOCALIDAD DE SAN CRISTÓBAL, EN EL MARCO DEL PROYECTO 1792 \"SAN CRISTÓBAL LE APUESTA A UNA EDUCACIÓN SIN LÍMITES","Inversión","Un nuevo contrato social y ambiental para la Bogotá del Siglo XXI",17,{"$f":"IF(ISERROR(VLOOKUP(K29,#REF!,2,FALSE)),\" \",VLOOKUP(K29,#REF!,2,FALSE))","v":" "},{"$f":"IF(ISERROR(VLOOKUP(K29,#REF!,3,FALSE)),\" \",VLOOKUP(K29,#REF!,3,FALSE))","v":" "},1792,7,830005066,"SECURITY VIDEO EQUIPMENT SAS","Persona Jurídica",null,"N/A","N/A",null,542255000,0,0,0,{"$f":"+W29+X29+Z29","v":542255000},0,"2022-12-13","2022-12-22","2023-04-21",120,0,0,null,null,null,null,"En ejecución",{"$f":"IF(ISERROR(AB29/AA29),\"-\",(AB29/AA29))","v":0}]
["FDLSC-CTOI-667-2022",2022,"FDLSC-CD-351-2022","https://community.secop.gov.co/Public/Tendering/OpportunityDetail/Index?noticeUID=CO1.NTC.3686363&isFromPublicArea=True&isModal=true&asPopupView=true","Convenios/Contratos interadministrativos","Contratación directa","Contratos interadministrativos","REALIZAR LAS  ACCIONES  TÉCNICAS,  JURÍDICAS  Y FINANCIERAS  NECESARIAS  PARA  LA  GESTIÓN DE LOS PROYECTOS DE INVERSIÓN DEL FONDO DE DESARROLLO LOCAL DE SAN CRISTÓBAL RELACIONADOS CON ESTÍMULOS, EMOLUMENTOS Y  FORTALECIMIENTO DE ORGANIZACIONES DE LA LOCALIDAD, ASÍ COMO LAS DEMÁS ACTIVIDADES REQUERIDAS EN SU DESARROLLO QUE SE ENMARCAN EN LOS CRITERIOS DE ELEGIBILIDAD Y MARCO NORMATIVO VINCULANTE DE CADA COMPONENTE","Inversión","Un nuevo contrato social y ambiental para la Bogotá del Siglo XXI",39,{"$f":"IF(ISERROR(VLOOKUP(K30,#REF!,2,FALSE)),\" \",VLOOKUP(K30,#REF!,2,FALSE))","v":" "},{"$f":"IF(ISERROR(VLOOKUP(K30,#REF!,3,FALSE)),\" \",VLOOKUP(K30,#REF!,3,FALSE))","v":" "},1869,0,899999316,"EMPRESA NACIONAL PROMOTORA DEL DESARROLLO TERRITORIAL - ENTERRITORIO","Persona Jurídica",null,"N/A","N/A",null,537248867,0,0,0,{"$f":"+W30+X30+Z30","v":537248867},0,"2022-12-29",null,null,240,null,null,null,null,null,null,"Celebrado o por iniciar",{"$f":"IF(ISERROR(AB30/AA30),\"-\",(AB30/AA30))","v":0}]
[507,2021,"FDLSC-LP-002-2021","https://community.secop.gov.co/Public/Tendering/OpportunityDetail/Index?noticeUID=CO1.NTC.2397616&isFromPublicArea=True&isModal=true&asPopupView=true","Obra pública","Licitación pública","No aplica","EJECUTAR A PRECIOS UNITARIOS SIN FORMULA DE REAJUSTE Y A MONTO AGOTABLE, LAS ACTIVIDADES NECESARIAS PARA LA CONSTRUCCIÓN DE LA MALLA VIAL DE LA LOCALIDAD DE SAN CRISTÓBAL EN BOGOTÁ D.C.","Inversión","Un nuevo contrato social y ambiental para la Bogotá del Siglo XXI",49,{"$f":"IF(ISERROR(VLOOKUP(K31,#REF!,2,FALSE)),\" \",VLOOKUP(K31,#REF!,2,FALSE))","v":" "},{"$f":"IF(ISERROR(VLOOKUP(K31,#REF!,3,FALSE)),\" \",VLOOKUP(K31,#REF!,3,FALSE))","v":" "},1871,0,"901607744","CONSORCIO VIA D J","Consorcio",901252604,"DQ INVERSIONES SAS",0.5,null,0,0,3,522121856,{"$f":"+W31+X31+Z31","v":522121856},0,"2022-08-05","2022-02-04","2022-12-19",249,1,23,null,null,null,null,"Terminado",{"$f":"IF(ISERROR(AB31/AA31),\"-\",(AB31/AA31))","v":0}]
["FDLSC-CVNI-374-2022",2022,"FDLSC-CD-176-2022","https://www.contratos.gov.co/consultas/detalleProceso.do?numConstancia=22-22-36865&g-recaptcha-response=03ANYolqsJE-6O_vQJOChod67mHaono8UeqgyLP06RRKI7UWEmia8gTw1SkaVLKV1FyGEgNd1WGDZQnZiF6IBBsI0-95z7Pug6CJSJTkQzZV1h5A2r60_zH5LhM0lEOopHSmdSEgiuLhpXYIh3VJWYM2S8rWC1mgXNC59KAByJqiOpr0vlAj1Uhc1RNHLZVp9u_WtKnj9F_nwqbwF9pOA9--EXJoZbXZ4wRg6WWWlvnyupHcqupx5oiB0YSdAnm64DGZ6p84ssrqxJ0ezoBQ3mNwOI44Pg5Tv4zl_q_IwkF7VkGCkjYF63-oWUwxvD14VabG_Wx6MbF24SDDN1koecTtQGHbp9axeGEc5YQRbUop5SQCzEIms1wiUiN8jccflKD2bssezzosviXac9_yhYWBC4NdpWsJNl7oueK-AVepNPvMJSGLbkmAtvhc8sx-mhy4Y9ffpH0FejhkPh9-l0jR9O9wJJC55e0A","Convenios/Contratos interadministrativos","Contratación directa","Contratos interadministrativos","AUNAR ESFUERZOS TÉCNICOS, ADMINISTRATIVOS Y FINANCIEROS CON EL FIN DE DESARROLLAR ACCIONES ARTICULADAS ENTRE LA SCRD, EL IDARTES Y LOS FONDOS DE DESARROLLO LOCAL, ORIENTADAS A FOMENTAR PROCESOS DE FORMACIÓN, CUALIFICACIÓN, FORTALECIMIENTO DE LOS AGENTES CULTURALES TERRITORIALES DEL DISTRITO CAPITAL, EN EL MARCO DE LA GENERACIÓN Y CIRCULACIÓN DE BIENES Y SERVICIOS CULTURALES, ARTISTICOS Y PATRIMONIALES DE CONFORMIDAD CON LAS INICIATIVAS PRIORIZADAS Y CONCERTADAS EN LA ESTRATEGIA DISTRITAL \"PRESUPUESTOS PARTICIPATIVOS\" Y/O DE LAS CONCERTACIONES CON LOS GRUPOS DE INTERÉS DE LAS LOCALIDADES Y A LAS ACCIONES ADELANTADAS EN EL \"PROCESO MISIONAL DE FOMENTO\", DE ACUERDO CON LOS PROYECTOS A EJECUTAR ASOCIADOS A LAS METAS DE CADA LOCALIDAD EN EL PROGRAMA \"ES CULTURA LOCAL 2022\".","Inversión","Un nuevo contrato social y ambiental para la Bogotá del Siglo XXI",24,"Creación y vida cotidiana: Apropiación ciudadana del arte, la cultura y el patrimonio, para la democracia cultural","Propósito 1: Hacer un nuevo contrato social para incrementar la inclusión social, productiva y política",1858,0,900413030,"INSTITUTO DISTRITAL DE LAS ARTES","Persona Jurídica",null,"N/A","N/A",null,475000000,0,0,0,{"$f":"+W32+X32+Z32","v":475000000},{"$f":"+X32+Y32+AA32","v":475000000},"2022-07-08","2022-07-19","2023-08-31",395,0,0,null,null,null,null,"En ejecución",{"$f":"IF(ISERROR(AB32/AA32),\"-\",(AB32/AA32))","v":1}]
["FDLSC-CPS-621-2022",2022,"FDLSC-LP-005-2022","https://community.secop.gov.co/Public/Tendering/OpportunityDetail/Index?noticeUID=CO1.NTC.3458576&isFromPublicArea=True&isModal=true&asPopupView=true","Contratos de prestación de servicios","Licitación pública","No aplica","CONTRATAR LA PRESTACION DE SERVICIOS DE SALUD, PARA APORTAR A LA CALIDAD DE VIDA DE GRUPOS POBLACIONALES, COMUNIDAD CON DISCAPACIDAD, CUIDADORES Y CUIDADORAS, HABITANTES EN LA LOCALIDAD DE SAN CRISTÓBAL, A TRAVÉS DE LA IMPLEMENTACIÓN DE ACCIONES COMPLEMENTARIAS EN SALUD Y PREVENCIÓN DEL EMBARAZO ADOLESCENTE","Inversión","Un nuevo contrato social y ambiental para la Bogotá del Siglo XXI",8,{"$f":"IF(ISERROR(VLOOKUP(K33,#REF!,2,FALSE)),\" \",VLOOKUP(K33,#REF!,2,FALSE))","v":" "},{"$f":"IF(ISERROR(VLOOKUP(K33,#REF!,3,FALSE)),\" \",VLOOKUP(K33,#REF!,3,FALSE))","v":" "},1861,2,900521780,"B2 NETWORKS SAS ","Persona Jurídica",null,"N/A","N/A",null,462444200,0,0,0,{"$f":"+W33+X33+Z33","v":462444200},0,"2022-12-16",null,null,50,null,null,null,null,null,null,"Celebrado o por iniciar",{"$f":"IF(ISERROR(AB33/AA33),\"-\",(AB33/AA33))","v":0}]
["FDLSC-CV-524-2022",2022,"FDLSC-SASI-005-2022","https://community.secop.gov.co/Public/Tendering/OpportunityDetail/Index?noticeUID=CO1.NTC.3201382&isFromPublicArea=True&isModal=true&asPopupView=true","Compraventa de bienes muebles","Selección abreviada","Subasta inversa ","ADQUISICIÓN Y DISTRIBUCIÓN DE ELEMENTOS PEDAGÓGICOS, TECNOLÓGICOS, TERAPEUTICOS Y DIDÁCTICOS A MONTO AGOTABLE, PARA FORTALECER EL PROCESO FORMATIVO DE LOS DOS (2) CENTRO CRECER DE LA LOCALIDAD DE SAN CRISTÓBAL, EN EL MARCO DEL PROYECTO 1811 \"SAN CRISTÓBAL TE CUIDA  ","Inversión","Un nuevo contrato social y ambiental para la Bogotá del Siglo XXI",6,{"$f":"IF(ISERROR(VLOOKUP(K34,#REF!,2,FALSE)),\" \",VLOOKUP(K34,#REF!,2,FALSE))","v":" "},{"$f":"IF(ISERROR(VLOOKUP(K34,#REF!,3,FALSE)),\" \",VLOOKUP(K34,#REF!,3,FALSE))","v":" "},1811,12,830084135,"DIDACTICOS SIMBOLOS Y SIGNOS S EN C","Persona Jurídica",null,"N/A","N/A",null,448220412,0,0,0,{"$f":"+W34+X34+Z34","v":448220412},0,"2022-09-29","2022-11-02","2023-03-03",120,0,0,null,null,null,null,"En ejecución",{"$f":"IF(ISERROR(AB34/AA34),\"-\",(AB34/AA34))","v":0}]
["FDLSC-CPS-671-2022",2022,"FDLSC-SAMC-012-2022","https://community.secop.gov.co/Public/Tendering/OpportunityDetail/Index?noticeUID=CO1.NTC.3634226&isFromPublicArea=True&isModal=true&asPopupView=true","Contratos de prestación de servicios","Selección abreviada","Selección abreviada por menor cuantía ","CONTRATAR LA FABRICACION, ADQUISICIÓN, SUMINISTRO, INSTALACIÓN Y TRANSPORTE, DEL BIEN MUEBLE MODULAR, COMO CAMPUS CULTURAL PARA LA ALCALDIA LOCAL DE SAN CRISTÓBAL","Inversión","Un nuevo contrato social y ambiental para la Bogotá del Siglo XXI",21,{"$f":"IF(ISERROR(VLOOKUP(K35,#REF!,2,FALSE)),\" \",VLOOKUP(K35,#REF!,2,FALSE))","v":" "},{"$f":"IF(ISERROR(VLOOKUP(K35,#REF!,3,FALSE)),\" \",VLOOKUP(K35,#REF!,3,FALSE))","v":" "},1803,3,900126632,"LIMACOR MY S A S","Persona Jurídica",null,"N/A","N/A",null,446866126,0,0,0,{"$f":"+W35+X35+Z35","v":446866126},0,"2022-12-28",null,null,180,null,null,null,null,null,null,"Celebrado o por iniciar",{"$f":"IF(ISERROR(AB35/AA35),\"-\",(AB35/AA35))","v":0}]
["FDLSC-CPS-620-2022",2022,"FDLSC-SAMC-002-2022","https://community.secop.gov.co/Public/Tendering/OpportunityDetail/Index?noticeUID=CO1.NTC.3569349&isFromPublicArea=True&isModal=true&asPopupView=true","Contratos de prestación de servicios","Selección abreviada","Selección abreviada por menor cuantía ","CONTRATAR LA PRESTACIÓN DE SERVICIOS DE OPERADOR LOGÍSTICO, PARA LA ORGANIZACIÓN, PRODUCCIÓN Y DEMÁS ACCIONES LOGÍSTICAS, A MONTO AGOTABLE PARA LA REALIZACIÓN DE EVENTOS DE CIRCULACIÓN ARTÍSTICA, CULTURAL Y PATRIMONIAL DE LA ALCALDÍA LOCAL DE SAN CRISTÓBAL","Inversión","Un nuevo contrato social y ambiental para la Bogotá del Siglo XXI",21,{"$f":"IF(ISERROR(VLOOKUP(K36,#REF!,2,FALSE)),\" \",VLOOKUP(K36,#REF!,2,FALSE))","v":" "},{"$f":"IF(ISERROR(VLOOKUP(K36,#REF!,3,FALSE)),\" \",VLOOKUP(K36,#REF!,3,FALSE))","v":" "},1803,8,0,"UNION TEMPORAL FIESTAS SAN CRISTOBAL 2022","Unión Temporal",900251399,"FUNDACIÓN WAYS OF HOPE",0.6,null,443000000,0,0,0,{"$f":"+W36+X36+Z36","v":443000000},0,"2022-12-23","2022-12-27","2023-04-26",120,0,0,null,null,null,null,"En ejecución",{"$f":"IF(ISERROR(AB36/AA36),\"-\",(AB36/AA36))","v":0}]
[527,2021,"FDLSC-SASI-007-2021\t","https://community.secop.gov.co/Public/Tendering/OpportunityDetail/Index?noticeUID=CO1.NTC.2455241&isFromPublicArea=True&isModal=true&asPopupView=true","Compraventa de bienes muebles","Selección abreviada","Subasta inversa ","ADQUISICIÓN Y DISTRIBUCIÓN DE ELEMENTOS PEDAGÓGICOS Y DIDÁCTICOS A MONTO AGOTABLE, PARA FORTALECER EL PROCESO FORMATIVO DE LOS JARDINES INFANTILES Y EL CENTRO AMAR DE LA SECRETARÍA DE INTEGRACIÓN SOCIAL DE LA LOCALIDAD DE SAN CRISTÓBAL, EN EL MARCO DEL PROYECTO 1811 \"SAN CRISTÓBAL TE CUIDA. ADQUISICIÓN Y DISTRIBUCIÓN DE ELEMENTOS PEDAGÓGICOS Y DIDÁCTICOS A MONTO AGOTABLE, PARA FORTALECER EL PROCESO FORMATIVO DE LOS JARDINES INFANTILES Y EL CENTRO AMAR DE LA SECRETARÍA DE INTEGRACIÓN SOCIAL","Inversión","Un nuevo contrato social y ambiental para la Bogotá del Siglo XXI",6,{"$f":"IF(ISERROR(VLOOKUP(K37,#REF!,2,FALSE)),\" \",VLOOKUP(K37,#REF!,2,FALSE))","v":" "},{"$f":"IF(ISERROR(VLOOKUP(K37,#REF!,3,FALSE)),\" \",VLOOKUP(K37,#REF!,3,FALSE))","v":" "},1811,6,"900838665","ABOVE SAS","Persona Jurídica","N/A","N/A","N/A",null,391638843,0,1,49506157,{"$f":"+W37+X37+Z37","v":441145000},0,"2022-12-20","2022-03-25","2023-02-24",120,1,61,null,null,null,null,"En ejecución",{"$f":"IF(ISERROR(AB37/AA37),\"-\",(AB37/AA37))","v":0}]
["FDLSC-CV-650-2022",2022,"FDLSC-SASI-014-2022","https://community.secop.gov.co/Public/Tendering/OpportunityDetail/Index?noticeUID=CO1.NTC.3624166&isFromPublicArea=True&isModal=true&asPopupView=true","Compraventa de bienes muebles","Selección abreviada","Subasta inversa ","ADQUIRIR LA DOTACIÓN TÉCNICA ESPECIALIZADA Y PUESTA EN FUNCIONAMIENTO DE SISTEMAS DE SONIDO, EQUIPOS TECNOLÓGICOS, ESTRUCTURAS METÁLICAS Y MOBILIARIO PARA PROMOVER LA GESTIÓN LOCAL EN LOS TEMAS DE ARTE, CULTURA Y PATRIMONIO EN LA LOCALIDAD DE SAN CRISTÓBAL","Inversión","Un nuevo contrato social y ambiental para la Bogotá del Siglo XXI",24,{"$f":"IF(ISERROR(VLOOKUP(K38,#REF!,2,FALSE)),\" \",VLOOKUP(K38,#REF!,2,FALSE))","v":" "},{"$f":"IF(ISERROR(VLOOKUP(K38,#REF!,3,FALSE)),\" \",VLOOKUP(K38,#REF!,3,FALSE))","v":" "},1858,5,830005066,"SECURITY VIDEO EQUIPMENT SAS ","Persona Jurídica",null,"N/A","N/A",null,427983250,0,0,0,{"$f":"+W38+X38+Z38","v":427983250},0,"2022-12-27","2023-01-10","2023-05-09",120,0,0,null,null,null,null,"En ejecución",{"$f":"IF(ISERROR(AB38/AA38),\"-\",(AB38/AA38))","v":0}]
["FDLSC-CTOI-669-2022",2022,"FDLSC-CD-353-2022","https://community.secop.gov.co/Public/Tendering/OpportunityDetail/Index?noticeUID=CO1.NTC.3686807&isFromPublicArea=True&isModal=true&asPopupView=true","Convenios/Contratos interadministrativos","Contratación directa","Contratos interadministrativos","CONTRATAR LA GERENCIA INTEGRAL PARA DESARROLLAR ACTIVIDADES DE PROYECTOS DE INVERSIÓN DEL FONDO DE DESARROLLO LOCAL DE SAN CRISTÓBAL RELACIONADOS CON TEMÁTICAS SOCIALES QUE IMPACTAN DIRECTAMENTE LA COMUNIDAD DE LA LOCALIDAD.","Inversión","Un nuevo contrato social y ambiental para la Bogotá del Siglo XXI",20,{"$f":"IF(ISERROR(VLOOKUP(K39,#REF!,2,FALSE)),\" \",VLOOKUP(K39,#REF!,2,FALSE))","v":" "},{"$f":"IF(ISERROR(VLOOKUP(K39,#REF!,3,FALSE)),\" \",VLOOKUP(K39,#REF!,3,FALSE))","v":" "},1801,0,900258772,"FONDO DE DESARROLLO DE PROYECTOS DE CUNDINAMARCA - FONDECÚN","Persona Jurídica",null,"N/A","N/A",null,421256014,0,0,0,{"$f":"+W39+X39+Z39","v":421256014},0,"2022-12-29",null,null,240,null,null,null,null,null,null,"Celebrado o por iniciar",{"$f":"IF(ISERROR(AB39/AA39),\"-\",(AB39/AA39))","v":0}]
["FDLSC-CVNI-511-2022 (SDA 20221918)",2022,"FDLSC-CD-312-2022","https://www.contratos.gov.co/consultas/detalleProceso.do?numConstancia=23-22-54113&g-recaptcha-response=03AD1IbLAecgwkpqCHvEELH2bNXMSJm_IWv01z3GKa4H1_VnM8VQiLNs8HDzKSnSHkymWYXoeuJFggjxFtHKPknSGFDpyTDJdUeBqv2mU5rVhqqpq0YW5TOGwzEZ0KAa1OU18UYrkcNod_dsgjlEzpezAGd07RPz1T3mDbOoQRKyoTIrwbNSUYk3o5u0REjZVxLqirho5hRUhh87tRoZtaRyL0xW_vb_HR94vBOVgYPAmNeItLFDW_IxmGQDobK3JGlRiuEGCRKZ91Eks4wS1M15IZKksn8X7YdYbZWnyu6Ry-b7EqqRjSwLAUtD1hoO0W28fwxLr1xrHxR70CY0X9PLP-8CI3tXclfYkizUJTrEj6X4VqL12LUZT3KMTpNLcPsQI_xDp0oaEaOj_28nRmId6VF518jNecMayEOnp4lOrPMsRvJ6t0ssoRitVe1wgLdSYFGlU3bLthSUP1HVMgTyFq1xnRBfoR6RujIqdM8RsYabm6B8RVeC6k5vbU58OfNcs26tEuMczlTpf8glfB_VCtHtrjZjyF-A","Convenios/Contratos interadministrativos","Contratación directa","Contratos interadministrativos","AUNAR ESFUERZOS TÉCNICOS, ADMINISTRATIVOS Y FINANCIEROS PARA LA RESTAURACIÓN, REHABILITACIÓN O RECUPERACIÓN ECOLÓGICA Y MANTENIMIENTO DE LAS ÁREAS DEFINIDAS EN LA ESTRUCTURA ECOLÓGICA PRINCIPAL Y OTRAS ÁREAS DEL DISTRITO CAPITAL, CON LA PARTICIPACIÓN DE LOS JÓVENES BENEFICIARIOS DEL IDIPRON.","Inversión","Un nuevo contrato social y ambiental para la Bogotá del Siglo XXI",28,{"$f":"IF(ISERROR(VLOOKUP(K40,#REF!,2,FALSE)),\" \",VLOOKUP(K40,#REF!,2,FALSE))","v":" "},{"$f":"IF(ISERROR(VLOOKUP(K40,#REF!,3,FALSE)),\" \",VLOOKUP(K40,#REF!,3,FALSE))","v":" "},1819,0,899999333,"SECRETARIA DISTRITAL DE AMBIENTE - INSTITUTO DISTRITAL PARA LA PROTECCIÓN DE LA NIÑEZ Y LA JUVENTUD - IDIPRON","Persona Jurídica",null,"N/A","N/A",null,419722333,0,0,0,{"$f":"+W40+X40+Z40","v":419722333},0,"2022-11-22","2022-12-01","2023-03-31",120,0,0,null,null,null,null,"En ejecución",{"$f":"IF(ISERROR(AB40/AA40),\"-\",(AB40/AA40))","v":0}]
["FDLSC-CSU-649-2022",2022,"FDLSC-SASI-009-2022","https://community.secop.gov.co/Public/Tendering/OpportunityDetail/Index?noticeUID=CO1.NTC.3297541&isFromPublicArea=True&isModal=true&asPopupView=true","Suministro","Selección abreviada","Subasta inversa ","ADQUISICIÓN DE ELEMENTOS DEPORTIVOS PARA LA DOTACIÓN DE LAS ESCUELAS Y CLUBES DEPORTIVOS, AVALADOS POR EL IDRD Y DEPORTISTAS DE ALTO RENDIMIENTO DE LA LOCALIDAD DE SAN CRISTÓBAL EN EL MARCO DEL PROYECTO 1801, SAN CRISTÓBAL ES DEPORTE.","Inversión","Un nuevo contrato social y ambiental para la Bogotá del Siglo XXI",20,{"$f":"IF(ISERROR(VLOOKUP(K41,#REF!,2,FALSE)),\" \",VLOOKUP(K41,#REF!,2,FALSE))","v":" "},{"$f":"IF(ISERROR(VLOOKUP(K41,#REF!,3,FALSE)),\" \",VLOOKUP(K41,#REF!,3,FALSE))","v":" "},1801,9,901659143,"CONSORCIO DEPORTES SAN CRISTOBAL","Consorcio",900894055,"GRUPO EMPRESARIAL LEAR Y ASOCIADOS S.A.S",0.9,null,400000000,0,0,0,{"$f":"+W41+X41+Z41","v":400000000},0,"2022-12-28","2022-12-30","2023-03-29",90,0,0,null,null,null,null,"En ejecución",{"$f":"IF(ISERROR(AB41/AA41),\"-\",(AB41/AA41))","v":0}]
["FDLSC-CV-664-2022",2022,"FDLSC-SASI-010-2022","https://community.secop.gov.co/Public/Tendering/OpportunityDetail/Index?noticeUID=CO1.NTC.3619356&isFromPublicArea=True&isModal=true&asPopupView=true","Compraventa de bienes muebles","Selección abreviada","Subasta inversa ","DOTACIONES LOGISTICAS A ORGANISMOS DE SEGURIDAD EN LA LOCALIDAD DE SAN CRISTOBAL","Inversión","Un nuevo contrato social y ambiental para la Bogotá del Siglo XXI",48,{"$f":"IF(ISERROR(VLOOKUP(K42,#REF!,2,FALSE)),\" \",VLOOKUP(K42,#REF!,2,FALSE))","v":" "},{"$f":"IF(ISERROR(VLOOKUP(K42,#REF!,3,FALSE)),\" \",VLOOKUP(K42,#REF!,3,FALSE))","v":" "},1844,3,900251139,"DISTRIBUIDORA Y COMERCIALIZADORA E W EL TRIANGULO SAS","Persona Jurídica",null,"N/A","N/A",null,399185500,0,0,0,{"$f":"+W42+X42+Z42","v":399185500},0,"2022-12-28","2023-01-04","2023-04-03",90,0,0,null,null,null,null,"En ejecución",{"$f":"IF(ISERROR(AB42/AA42),\"-\",(AB42/AA42))","v":0}]
["FDLSC-CPS-641-2022",2022,"FDLSC-LP-008-2022","https://community.secop.gov.co/Public/Tendering/OpportunityDetail/Index?noticeUID=CO1.NTC.3575531&isFromPublicArea=True&isModal=true&asPopupView=true","Contratos de prestación de servicios","Licitación pública","No aplica","PRESTAR LOS SERVICIOS PARA LA FORMACIÓN DE LA ESCUELA DE SEGURIDAD CIUDADANA, LA IMPLEMENTACIÓN DE ACCIONES PEDAGÓGICAS DEL CÓDIGO NACIONAL DE SEGURIDAD ENTREGA DE EQUIPOS TECNOLÓGICOS DE ALARMAS COMUNITARIAS PARA EL FORTALECIMIENTO DE LAS REDES DE SEGURIDAD CIUDADANA","Inversión","Un nuevo contrato social y ambiental para la Bogotá del Siglo XXI",43,{"$f":"IF(ISERROR(VLOOKUP(K43,#REF!,2,FALSE)),\" \",VLOOKUP(K43,#REF!,2,FALSE))","v":" "},{"$f":"IF(ISERROR(VLOOKUP(K43,#REF!,3,FALSE)),\" \",VLOOKUP(K43,#REF!,3,FALSE))","v":" "},1824,2,900129311,"H & M TECNOLOGIES Y CIA S EN C","Persona Jurídica",null,"N/A","N/A",null,397584353,0,0,0,{"$f":"+W43+X43+Z43","v":397584353},0,"2022-12-21","2022-12-23","2023-05-22",150,0,0,null,null,null,null,"En ejecución",{"$f":"IF(ISERROR(AB43/AA43),\"-\",(AB43/AA43))","v":0}]
[526,2021,"FDLSC-SASI-006-2021","https://community.secop.gov.co/Public/Tendering/OpportunityDetail/Index?noticeUID=CO1.NTC.2449282&isFromPublicArea=True&isModal=true&asPopupView=true","Compraventa de bienes muebles","Selección abreviada","Subasta inversa ","ADQUISICIÓN A MONTO AGOTABLE DE ELEMENTOS TECNOLÓGICOS E INSUMOS DE CARÁCTER LOGÍSTICO, PARA EL FORTALECIMIENTO DE LAS JUNTAS DE ACCIÓN COMUNAL.","Inversión","Un nuevo contrato social y ambiental para la Bogotá del Siglo XXI",55,{"$f":"IF(ISERROR(VLOOKUP(K44,#REF!,2,FALSE)),\" \",VLOOKUP(K44,#REF!,2,FALSE))","v":" "},{"$f":"IF(ISERROR(VLOOKUP(K44,#REF!,3,FALSE)),\" \",VLOOKUP(K44,#REF!,3,FALSE))","v":" "},1872,7,"1130672304","ANDRES FERNANDO MUÑOZ LOPEZ","Persona Natural","N/A","N/A","N/A",null,287000000,0,1,100000000,{"$f":"+W44+X44+Z44","v":387000000},111706486,"2022-12-28","2022-04-12","2022-12-31",180,1,66,null,null,null,null,"En ejecución",{"$f":"IF(ISERROR(AB44/AA44),\"-\",(AB44/AA44))","v":0.28864725064599484}]
[6152020,2020,"FDLSC-CMA-002-2020","https://community.secop.gov.co/Public/Tendering/OpportunityDetail/Index?noticeUID=CO1.NTC.1554733&isFromPublicArea=True&isModal=true&asPopupView=true\n","Interventoría","Concurso de méritos","No aplica","\tREALIZAR LA INTERVENTORÍA, TÉCNICA, ADMINISTRATIVA, JURÍDICA, FINANCIERA, SOCIAL, AMBIENTAL Y DE SEGURIDAD Y SALUD EN EL TRABAJO AL CONTRATO CUYO OBJETO ES: “REALIZAR LAS OBRAS DE CONSERVACIÓN DE LA MALLA VIAL Y ESPACIO PÚBLICO ASOCIADO EN LA LOCALIDAD DE SAN CRISTÓBAL, BOGOTÁ, D.C. A TRAVÉS DEL SISTEMA DE PRECIOS UNITARIOS FIJOS, SIN FORMULA DE REAJUSTE Y A MONTO AGOTABLE”","Inversión","Un nuevo contrato social y ambiental para la Bogotá del Siglo XXI",49,{"$f":"IF(ISERROR(VLOOKUP(K45,#REF!,2,FALSE)),\" \",VLOOKUP(K45,#REF!,2,FALSE))","v":" "},{"$f":"IF(ISERROR(VLOOKUP(K45,#REF!,3,FALSE)),\" \",VLOOKUP(K45,#REF!,3,FALSE))","v":" "},1871,62,"901442113","CONSORCIO INTER GEOTERRA SAN CRISTOBAL","Consorcio",800184582,"GEOTECNICA & CIMENTACIONES SAS",0.5,null,0,0,1,332174241,{"$f":"+W45+X45+Z45","v":332174241},188055214,"2022-02-14","2021-03-15","2022-06-14",450,1,120,null,null,null,null,"Liquidado",{"$f":"IF(ISERROR(AB45/AA45),\"-\",(AB45/AA45))","v":0.56613424759808517}]
["FDLSC-CPS-651-2022",2022,"FDLSC-SAMC-004-2022","https://community.secop.gov.co/Public/Tendering/OpportunityDetail/Index?noticeUID=CO1.NTC.3624410&isFromPublicArea=True&isModal=true&asPopupView=true","Contratos de prestación de servicios","Selección abreviada","Selección abreviada por menor cuantía ","PRESTACIÓN DE SERVICIOS PARA EL  FORTALECIMIENTO, ACOMPAÑAMIENTO Y ASESORÍA EN LA FORMULACIÓN Y EJECUCIÓN DE LOS PROCESOS CIUDADANOS DE EDUCACIÓN AMBIENTAL DE LA LOCALIDAD DE SAN CRISTÓBAL ","Inversión","Un nuevo contrato social y ambiental para la Bogotá del Siglo XXI",27,{"$f":"IF(ISERROR(VLOOKUP(K46,#REF!,2,FALSE)),\" \",VLOOKUP(K46,#REF!,2,FALSE))","v":" "},{"$f":"IF(ISERROR(VLOOKUP(K46,#REF!,3,FALSE)),\" \",VLOOKUP(K46,#REF!,3,FALSE))","v":" "},1859,4,900219569,"FUNDACION SIN ANIMO DE LUCRO ECOLOGICA FULECOL- FULECOL ","Persona Jurídica",null,"N/A","N/A",null,262864000,0,1,64875905,{"$f":"+W46+X46+Z46","v":327739905},0,"2022-12-27","2022-12-30","2023-06-26",180,0,0,null,null,null,null,"En ejecución",{"$f":"IF(ISERROR(AB46/AA46),\"-\",(AB46/AA46))","v":0}]
["FDLSC-CTOI-669-2022",2022,"FDLSC-CD-353-2022","https://community.secop.gov.co/Public/Tendering/OpportunityDetail/Index?noticeUID=CO1.NTC.3686807&isFromPublicArea=True&isModal=true&asPopupView=true","Convenios/Contratos interadministrativos","Contratación directa","Contratos interadministrativos","CONTRATAR LA GERENCIA INTEGRAL PARA DESARROLLAR ACTIVIDADES DE PROYECTOS DE INVERSIÓN DEL FONDO DE DESARROLLO LOCAL DE SAN CRISTÓBAL RELACIONADOS CON TEMÁTICAS SOCIALES QUE IMPACTAN DIRECTAMENTE LA COMUNIDAD DE LA LOCALIDAD.","Inversión","Un nuevo contrato social y ambiental para la Bogotá del Siglo XXI",33,{"$f":"IF(ISERROR(VLOOKUP(K47,#REF!,2,FALSE)),\" \",VLOOKUP(K47,#REF!,2,FALSE))","v":" "},{"$f":"IF(ISERROR(VLOOKUP(K47,#REF!,3,FALSE)),\" \",VLOOKUP(K47,#REF!,3,FALSE))","v":" "},1867,0,900258772,"FONDO DE DESARROLLO DE PROYECTOS DE CUNDINAMARCA - FONDECÚN","Persona Jurídica",null,"N/A","N/A",null,312259995,0,0,0,{"$f":"+W47+X47+Z47","v":312259995},0,"2022-12-29",null,null,240,null,null,null,null,null,null,"Celebrado o por iniciar",{"$f":"IF(ISERROR(AB47/AA47),\"-\",(AB47/AA47))","v":0}]
["FDLSC-CPS-660-2022",2022,"FDLSC-SAMC-014-2022","https://community.secop.gov.co/Public/Tendering/OpportunityDetail/Index?noticeUID=CO1.NTC.3627454&isFromPublicArea=True&isModal=true&asPopupView=true","Contratos de prestación de servicios","Selección abreviada","Selección abreviada por menor cuantía ","CONTRATAR LOS SERVICIOS TÉCNICOS Y OPERATIVOS ENTRE EL FONDO DE DESARROLLO LOCAL DE SAN CRISTÓBAL Y EL PROPONENTE, PARA EJECUTAR ACTIVIDADES DE AVANCE, FORTALECIMIENTO Y MANEJO DE AGRICULTURA URBANA EN LA LOCALIDAD DE SAN CRISTÓBAL","Inversión","Un nuevo contrato social y ambiental para la Bogotá del Siglo XXI",24,{"$f":"IF(ISERROR(VLOOKUP(K48,#REF!,2,FALSE)),\" \",VLOOKUP(K48,#REF!,2,FALSE))","v":" "},{"$f":"IF(ISERROR(VLOOKUP(K48,#REF!,3,FALSE)),\" \",VLOOKUP(K48,#REF!,3,FALSE))","v":" "},1813,6,900164390,"IMPULSAR FUNDACIÓN SOCIAL ","Persona Jurídica",null,"N/A","N/A",null,296164577,0,0,0,{"$f":"+W48+X48+Z48","v":296164577},0,"2022-12-28",null,null,180,null,null,null,null,null,null,"Celebrado o por iniciar",{"$f":"IF(ISERROR(AB48/AA48),\"-\",(AB48/AA48))","v":0}]
[85202,2022,124302,"https://colombiacompra.gov.co/tienda-virtual-del-estado-colombiano/ordenes-compra/85202","Otros","Selección abreviada","Acuerdo marco de precios ","CONTRATAR LA PRESTACIÓN DE SERVICIO Y SUMINISTRO DE ASEO Y CAFETERÍA PARA LAS INSTALACIONES DE LA ALCALDÍA LOCAL DE SAN CRISTOBAL SUS SEDES Y LA JUNTA ADMINISTRADORA LOCAL, DE CONFORMIDAD CON LAS DISPOSICIONES TÉCNICAS ESTABLECIDAS EN EL ACUERDO MARCO DE PRECIOS No CCE-972-AMP-2019","Funcionamiento","Un nuevo contrato social y ambiental para la Bogotá del Siglo XXI","No aplica",{"$f":"IF(ISERROR(VLOOKUP(K49,#REF!,2,FALSE)),\" \",VLOOKUP(K49,#REF!,2,FALSE))","v":" "},{"$f":"IF(ISERROR(VLOOKUP(K49,#REF!,3,FALSE)),\" \",VLOOKUP(K49,#REF!,3,FALSE))","v":" "},5330,16,"800242738\n","LADOINSA","Persona Jurídica",null,"N/A","N/A",null,199214266,0,1,60785733,{"$f":"+W49+X49+Z49","v":259999999},183143751,"2022-02-11","2022-02-11","2023-03-21",300,1,96,null,null,null,null,"En ejecución",{"$f":"IF(ISERROR(AB49/AA49),\"-\",(AB49/AA49))","v":0.70439904501691941}]
["FDLSC-CV-568-2022",2022,"FDLSC-SASI-006-2022 LOTE 1 MAQUINARIA DE CONFECCIÓN\nFDLSC-SASI-006-2022 LOTE 3 MAQUINARIA DE BELLEZA Y ESTÉTICA\nFDLSC-SASI-006-2022 LOTE 4 MAQUINARIA Y ELEMENTOS PARA COCINA Y PANADERÍA. ","https://community.secop.gov.co/Public/Tendering/OpportunityDetail/Index?noticeUID=CO1.NTC.3304278&isFromPublicArea=True&isModal=true&asPopupView=true","Compraventa de bienes muebles","Selección abreviada","Subasta inversa ","CONTRATAR A MONTO AGOTABLE LA ADQUISICIÓN Y DISTRIBUCIÓN DE ELEMENTOS PARA EL CENTRO DE DESARROLLO COMUNITARIO SAN BLAS DE LA LOCALIDAD DE SAN CRISTÓBAL, EN EL MARCO DEL PROYECTO 1811 SAN CRISTÓBAL TE CUIDA.”","Inversión","Un nuevo contrato social y ambiental para la Bogotá del Siglo XXI",6,{"$f":"IF(ISERROR(VLOOKUP(K50,#REF!,2,FALSE)),\" \",VLOOKUP(K50,#REF!,2,FALSE))","v":" "},{"$f":"IF(ISERROR(VLOOKUP(K50,#REF!,3,FALSE)),\" \",VLOOKUP(K50,#REF!,3,FALSE))","v":" "},1811,11,900486425,"WORKING PROJECTS SAS","Persona Jurídica",null,"N/A","N/A",null,249677587,0,0,0,{"$f":"+W50+X50+Z50","v":249677587},0,"2022-11-09","2022-11-16","2023-03-15",120,0,0,null,null,null,null,"En ejecución",{"$f":"IF(ISERROR(AB50/AA50),\"-\",(AB50/AA50))","v":0}]
["FDLSC-CV-569-2022",2022,"FDLSC-SASI-006-2022 LOTE 2 MATERIAL TECNOLÓGICO","https://community.secop.gov.co/Public/Tendering/OpportunityDetail/Index?noticeUID=CO1.NTC.3304278&isFromPublicArea=True&isModal=true&asPopupView=true","Compraventa de bienes muebles","Selección abreviada","Subasta inversa ","CONTRATAR A MONTO AGOTABLE LA ADQUISICIÓN Y DISTRIBUCIÓN DE ELEMENTOS PARA EL CENTRO DE DESARROLLO COMUNITARIO SAN BLAS DE LA LOCALIDAD DE SAN CRISTÓBAL, EN EL MARCO DEL PROYECTO 1811 SAN CRISTÓBAL TE CUIDA.","Inversión","Un nuevo contrato social y ambiental para la Bogotá del Siglo XXI",6,{"$f":"IF(ISERROR(VLOOKUP(K51,#REF!,2,FALSE)),\" \",VLOOKUP(K51,#REF!,2,FALSE))","v":" "},{"$f":"IF(ISERROR(VLOOKUP(K51,#REF!,3,FALSE)),\" \",VLOOKUP(K51,#REF!,3,FALSE))","v":" "},1811,11,830005066,"SECURITY VIDEO EQUIPMENT SAS ","Persona Jurídica",null,"N/A","N/A",null,242580798,0,0,0,{"$f":"+W51+X51+Z51","v":242580798},0,"2022-11-10","2022-11-16","2023-03-15",120,0,0,null,null,null,null,"En ejecución",{"$f":"IF(ISERROR(AB51/AA51),\"-\",(AB51/AA51))","v":0}]
["FDLSC-CVNI-668-2022",2022,"FDLSC-CD-352-2022","https://community.secop.gov.co/Public/Tendering/OpportunityDetail/Index?noticeUID=CO1.NTC.3686568&isFromPublicArea=True&isModal=true&asPopupView=true","Convenios/Contratos interadministrativos","Contratación directa","Contratos interadministrativos","AUNAR ESFUERZOS, TÉCNICOS, ADMINISTRATIVOS Y FINANCIEROS PARA DESARROLLAR ACTIVIDADES DE PROYECTOS DE INVERSIÓN DEL FONDO DE DESARROLLO   LOCAL   DE   SAN   CRISTÓBAL   RELACIONADOS   CON   TEMÁTICAS SOCIALES QUE IMPACTAN DIRECTAMENTE LA COMUNIDAD DE LA LOCALIDAD","Inversión","Un nuevo contrato social y ambiental para la Bogotá del Siglo XXI",38,{"$f":"IF(ISERROR(VLOOKUP(K52,#REF!,2,FALSE)),\" \",VLOOKUP(K52,#REF!,2,FALSE))","v":" "},{"$f":"IF(ISERROR(VLOOKUP(K52,#REF!,3,FALSE)),\" \",VLOOKUP(K52,#REF!,3,FALSE))","v":" "},1868,0,901100455,"ALIANZA PÚBLICA PARA EL DESARROLLO INTEGRAL – ALDESARROLLO ","Persona Jurídica",null,"N/A","N/A",null,235407962,0,0,0,{"$f":"+W52+X52+Z52","v":235407962},0,"2022-12-29",null,null,240,null,null,null,null,null,null,"Celebrado o por iniciar",{"$f":"IF(ISERROR(AB52/AA52),\"-\",(AB52/AA52))","v":0}]
["FDLSC-CPS-666-2022",2022,"FDLSC-SAMC-005-2022","https://community.secop.gov.co/Public/Tendering/OpportunityDetail/Index?noticeUID=CO1.NTC.3601213&isFromPublicArea=True&isModal=true&asPopupView=true","Contratos de prestación de servicios","Selección abreviada","Selección abreviada por menor cuantía ","CONTRATAR LOS SERVICIOS DE APOYO LOGÍSTICOS, TRANSPORTE, PUBLICITARIOS, ELEMENTOS DE MERCHANDISING Y CATERING REQUERIDOS PARA EL DESARROLLO OPERATIVO DE LOS EVENTOS LIDERADOS POR LA ALCALDIA LOCAL DE SAN CRISTÓBAL","Inversión","Un nuevo contrato social y ambiental para la Bogotá del Siglo XXI",57,{"$f":"IF(ISERROR(VLOOKUP(K53,#REF!,2,FALSE)),\" \",VLOOKUP(K53,#REF!,2,FALSE))","v":" "},{"$f":"IF(ISERROR(VLOOKUP(K53,#REF!,3,FALSE)),\" \",VLOOKUP(K53,#REF!,3,FALSE))","v":" "},1873,1,900521780,"B2 NETWORKS S A S","Persona Jurídica",null,"N/A","N/A",null,229538116,0,0,0,{"$f":"+W53+X53+Z53","v":229538116},0,"2022-12-28",null,null,180,null,null,null,null,null,null,"Celebrado o por iniciar",{"$f":"IF(ISERROR(AB53/AA53),\"-\",(AB53/AA53))","v":0}]
["FDLSC-CVNI-374-2022",2022,"FDLSC-CD-176-2022","https://www.contratos.gov.co/consultas/detalleProceso.do?numConstancia=22-22-36865&g-recaptcha-response=03ANYolqsJE-6O_vQJOChod67mHaono8UeqgyLP06RRKI7UWEmia8gTw1SkaVLKV1FyGEgNd1WGDZQnZiF6IBBsI0-95z7Pug6CJSJTkQzZV1h5A2r60_zH5LhM0lEOopHSmdSEgiuLhpXYIh3VJWYM2S8rWC1mgXNC59KAByJqiOpr0vlAj1Uhc1RNHLZVp9u_WtKnj9F_nwqbwF9pOA9--EXJoZbXZ4wRg6WWWlvnyupHcqupx5oiB0YSdAnm64DGZ6p84ssrqxJ0ezoBQ3mNwOI44Pg5Tv4zl_q_IwkF7VkGCkjYF63-oWUwxvD14VabG_Wx6MbF24SDDN1koecTtQGHbp9axeGEc5YQRbUop5SQCzEIms1wiUiN8jccflKD2bssezzosviXac9_yhYWBC4NdpWsJNl7oueK-AVepNPvMJSGLbkmAtvhc8sx-mhy4Y9ffpH0FejhkPh9-l0jR9O9wJJC55e0A","Convenios/Contratos interadministrativos","Contratación directa","Contratos interadministrativos","AUNAR ESFUERZOS TÉCNICOS, ADMINISTRATIVOS Y FINANCIEROS CON EL FIN DE DESARROLLAR ACCIONES ARTICULADAS ENTRE LA SCRD, EL IDARTES Y LOS FONDOS DE DESARROLLO LOCAL, ORIENTADAS A FOMENTAR PROCESOS DE FORMACIÓN, CUALIFICACIÓN, FORTALECIMIENTO DE LOS AGENTES CULTURALES TERRITORIALES DEL DISTRITO CAPITAL, EN EL MARCO DE LA GENERACIÓN Y CIRCULACIÓN DE BIENES Y SERVICIOS CULTURALES, ARTISTICOS Y PATRIMONIALES DE CONFORMIDAD CON LAS INICIATIVAS PRIORIZADAS Y CONCERTADAS EN LA ESTRATEGIA DISTRITAL \"PRESUPUESTOS PARTICIPATIVOS\" Y/O DE LAS CONCERTACIONES CON LOS GRUPOS DE INTERÉS DE LAS LOCALIDADES Y A LAS ACCIONES ADELANTADAS EN EL \"PROCESO MISIONAL DE FOMENTO\", DE ACUERDO CON LOS PROYECTOS A EJECUTAR ASOCIADOS A LAS METAS DE CADA LOCALIDAD EN EL PROGRAMA \"ES CULTURA LOCAL 2022\".","Inversión","Un nuevo contrato social y ambiental para la Bogotá del Siglo XXI",24,"Creación y vida cotidiana: Apropiación ciudadana del arte, la cultura y el patrimonio, para la democracia cultural","Propósito 1: Hacer un nuevo contrato social para incrementar la inclusión social, productiva y política",1858,0,899999061,"SECRETARIA DISTRITAL DE CULTURA RECREACI ON Y DEPORTE","Persona Jurídica",null,"N/A","N/A",null,225000000,0,0,0,{"$f":"+W54+X54+Z54","v":225000000},189427500,"2022-07-08","2022-07-19","2023-08-31",395,0,0,null,null,null,null,"En ejecución",{"$f":"IF(ISERROR(AB54/AA54),\"-\",(AB54/AA54))","v":0.84189999999999998}]
["538",2021,"FDLSC-SAMC-015-2021","https://community.secop.gov.co/Public/Tendering/OpportunityDetail/Index?noticeUID=CO1.NTC.2459561&isFromPublicArea=True&isModal=true&asPopupView=true","Contratos de prestación de servicios","Selección abreviada","Selección abreviada por menor cuantía ","PRESTACIÓN DE SERVICIOS DE APOYO A LA GESTIÓN PARA LA REALIZACIÓN DE LAS INICIATIVAS DEPORTIVAS EN DIFERENTES ACTIVIDADES RECREO-DEPORTIVAS EN LA LOCALIDAD DE SAN CRISTÓBAL","Inversión","Un nuevo contrato social y ambiental para la Bogotá del Siglo XXI",20,{"$f":"IF(ISERROR(VLOOKUP(K55,#REF!,2,FALSE)),\" \",VLOOKUP(K55,#REF!,2,FALSE))","v":" "},{"$f":"IF(ISERROR(VLOOKUP(K55,#REF!,3,FALSE)),\" \",VLOOKUP(K55,#REF!,3,FALSE))","v":" "},1801,3,"900572437","FUNDACION PAIS HUMANO","Persona Jurídica","N/A","N/A","N/A",null,216183209,0,0,0,{"$f":"+W55+X55+Z55","v":216183209},43236642,"2021-12-31","2022-04-05","2022-12-04",240,0,0,null,null,null,null,"Terminado",{"$f":"IF(ISERROR(AB55/AA55),\"-\",(AB55/AA55))","v":0.20000000092514122}]
["FDLSC-CSU-371-2022",2022,"FDLSC-SASI-001-2022","https://community.secop.gov.co/Public/Tendering/OpportunityDetail/Index?noticeUID=CO1.NTC.2942362&isFromPublicArea=True&isModal=False","Suministro","Selección abreviada","Subasta inversa ","SUMINISTRO DE ELEMENTOS DE CONSTRUCCIÓN, HERRAMIENTAS Y FERRETERÍA NECESARIOS PARA LA REHABILITACIÓN, MANTENIMIENTO DE LA MALLA VIAL, ESPACIO PÚBLICO Y CICLO-INFRAESTRUCTURA DE LA LOCALIDAD DE SAN CRISTOBAL, A MONTO AGOTABLE","Inversión","Un nuevo contrato social y ambiental para la Bogotá del Siglo XXI",49,{"$f":"IF(ISERROR(VLOOKUP(K56,#REF!,2,FALSE)),\" \",VLOOKUP(K56,#REF!,2,FALSE))","v":" "},{"$f":"IF(ISERROR(VLOOKUP(K56,#REF!,3,FALSE)),\" \",VLOOKUP(K56,#REF!,3,FALSE))","v":" "},1871,15,900495749,"COMERCIALIZADORA ELECTROMERO SAS ","Persona Jurídica",null,"N/A","N/A",null,208830784,0,0,0,{"$f":"+W56+X56+Z56","v":208830784},33106016,"2022-06-24","2022-06-24","2023-04-30",270,0,0,null,null,null,null,"En ejecución",{"$f":"IF(ISERROR(AB56/AA56),\"-\",(AB56/AA56))","v":0.15853034387880285}]
["FDLSC-CV-665-2022",2022,"FDLSC-SASI-012-2022","https://community.secop.gov.co/Public/Tendering/OpportunityDetail/Index?noticeUID=CO1.NTC.3620078&isFromPublicArea=True&isModal=true&asPopupView=true","Compraventa de bienes muebles","Selección abreviada","Subasta inversa ","CONTRATAR LA ADQUISICIÓN DE ELEMENTOS PARA EL FORTALECIMIENTO DEL CENTRO DE RESERVAS Y ACCIONES OPERATIVAS DE LA LOCALIDAD DE SAN CRISTÓBAL","Inversión","Un nuevo contrato social y ambiental para la Bogotá del Siglo XXI",30,{"$f":"IF(ISERROR(VLOOKUP(K57,#REF!,2,FALSE)),\" \",VLOOKUP(K57,#REF!,2,FALSE))","v":" "},{"$f":"IF(ISERROR(VLOOKUP(K57,#REF!,3,FALSE)),\" \",VLOOKUP(K57,#REF!,3,FALSE))","v":" "},1866,3,900505401,"ESM SOLUTIONS SAS","Persona Jurídica",null,"N/A","N/A",null,204242910,0,0,0,{"$f":"+W57+X57+Z57","v":204242910},0,"2022-12-28","2023-01-04","2023-07-03",180,0,0,null,null,null,null,"En ejecución",{"$f":"IF(ISERROR(AB57/AA57),\"-\",(AB57/AA57))","v":0}]
["FDLSC-CTOI-670-2022",2022,"FDLSC-CD-354-2022","https://community.secop.gov.co/Public/Tendering/OpportunityDetail/Index?noticeUID=CO1.NTC.3684953&isFromPublicArea=True&isModal=true&asPopupView=true","Convenios/Contratos interadministrativos","Contratación directa","Contratos interadministrativos","PRESTAR EL SERVICIO DE ACCIONES TÉCNICAS, METODOLÓGICAS, OPERATIVAS Y LOGÍSTICAS PARA IMPLEMENTAR ESTRATEGIAS DE RECONOCIMIENTO DE LOS SABERES ANCESTRALES EN MEDICINA EN LA LOCALIDAD DE SAN CRISTÓBAL. ","Inversión","Un nuevo contrato social y ambiental para la Bogotá del Siglo XXI",6,{"$f":"IF(ISERROR(VLOOKUP(K58,#REF!,2,FALSE)),\" \",VLOOKUP(K58,#REF!,2,FALSE))","v":" "},{"$f":"IF(ISERROR(VLOOKUP(K58,#REF!,3,FALSE)),\" \",VLOOKUP(K58,#REF!,3,FALSE))","v":" "},1843,0,830032429,"CABILDO INDIGENA INGA DE BOGOTÁ D.C","Persona Jurídica",null,"N/A","N/A",null,194195000,0,0,0,{"$f":"+W58+X58+Z58","v":194195000},0,"2022-12-28",null,null,180,null,null,null,null,null,null,"Celebrado o por iniciar",{"$f":"IF(ISERROR(AB58/AA58),\"-\",(AB58/AA58))","v":0}]
["515",2021,"FDLSC-LP-005-2021","https://community.secop.gov.co/Public/Tendering/OpportunityDetail/Index?noticeUID=CO1.NTC.2420248&isFromPublicArea=True&isModal=true&asPopupView=true","Contratos de prestación de servicios","Licitación pública","No aplica","PRESTAR LOS SERVICIOS PARA EL FORTALECIMIENTO DE LOS MECANISMOS DE JUSTICIA COMUNITARIA PARA LA TRANSFORMACIÓN DE LA CONFLICTIVIDAD EN LA LOCALIDAD DE SAN CRISTÓBAL.","Inversión","Un nuevo contrato social y ambiental para la Bogotá del Siglo XXI",48,{"$f":"IF(ISERROR(VLOOKUP(K59,#REF!,2,FALSE)),\" \",VLOOKUP(K59,#REF!,2,FALSE))","v":" "},{"$f":"IF(ISERROR(VLOOKUP(K59,#REF!,3,FALSE)),\" \",VLOOKUP(K59,#REF!,3,FALSE))","v":" "},1844,0,900521780,"B2 NETWORKS SAS","Persona Jurídica","N/A","N/A","N/A",null,0,0,1,185692500,{"$f":"+W59+X59+Z59","v":185692500},86333154,"2022-08-12","2022-02-23","2022-11-22",105,1,12,null,null,null,null,"Terminado",{"$f":"IF(ISERROR(AB59/AA59),\"-\",(AB59/AA59))","v":0.46492536855284949}]
["FDLSC-CV-650-2022",2022,"FDLSC-SASI-014-2022","https://community.secop.gov.co/Public/Tendering/OpportunityDetail/Index?noticeUID=CO1.NTC.3624166&isFromPublicArea=True&isModal=true&asPopupView=true","Compraventa de bienes muebles","Selección abreviada","Subasta inversa ","ADQUIRIR LA DOTACIÓN TÉCNICA ESPECIALIZADA Y PUESTA EN FUNCIONAMIENTO DE SISTEMAS DE SONIDO, EQUIPOS TECNOLÓGICOS, ESTRUCTURAS METÁLICAS Y MOBILIARIO PARA PROMOVER LA GESTIÓN LOCAL EN LOS TEMAS DE ARTE, CULTURA Y PATRIMONIO EN LA LOCALIDAD DE SAN CRISTÓBAL","Inversión","Un nuevo contrato social y ambiental para la Bogotá del Siglo XXI",21,{"$f":"IF(ISERROR(VLOOKUP(K60,#REF!,2,FALSE)),\" \",VLOOKUP(K60,#REF!,2,FALSE))","v":" "},{"$f":"IF(ISERROR(VLOOKUP(K60,#REF!,3,FALSE)),\" \",VLOOKUP(K60,#REF!,3,FALSE))","v":" "},1803,5,830005066,"SECURITY VIDEO EQUIPMENT SAS ","Persona Jurídica",null,"N/A","N/A",null,184396771,0,0,0,{"$f":"+W60+X60+Z60","v":184396771},0,"2022-12-27","2023-01-10","2023-05-09",120,0,0,null,null,null,null,"En ejecución",{"$f":"IF(ISERROR(AB60/AA60),\"-\",(AB60/AA60))","v":0}]
["FDLSC-CV-563-2022",2022,"FDLSC-SASI-007-2022","https://community.secop.gov.co/Public/Tendering/OpportunityDetail/Index?noticeUID=CO1.NTC.3309046&isFromPublicArea=True&isModal=true&asPopupView=true","Compraventa de bienes muebles","Selección abreviada","Subasta inversa ","CONTRATAR LA ADQUISICIÓN Y DISTRIBUCIÓN DE LOS ELEMENTOS PEDAGÓGICOS PARA DAR DESARROLLO AL PROGRAMA DE RESOLUCIÓN DE CONFLICTOS EN LA COMUNIDAD ESCOLAR ORIENTADO AL MEJORAMIENTO DE LA CONVIVENCIA ENTRE LOS ACTORES PRESENTES EN LA ESCUELA Y COLEGIOS DE LA LOCALIDAD DE SAN CRISTÓBAL","Inversión","Un nuevo contrato social y ambiental para la Bogotá del Siglo XXI",48,{"$f":"IF(ISERROR(VLOOKUP(K61,#REF!,2,FALSE)),\" \",VLOOKUP(K61,#REF!,2,FALSE))","v":" "},{"$f":"IF(ISERROR(VLOOKUP(K61,#REF!,3,FALSE)),\" \",VLOOKUP(K61,#REF!,3,FALSE))","v":" "},1844,7,900251139,"DISTRIBUIDORA Y COMERCIALIZADORA E W EL TRIANGULO SAS","Persona Jurídica",null,"N/A","N/A",null,182654920,0,0,0,{"$f":"+W61+X61+Z61","v":182654920},0,"2022-11-02","2022-11-25","2023-03-24",90,0,0,null,null,null,null,"En ejecución",{"$f":"IF(ISERROR(AB61/AA61),\"-\",(AB61/AA61))","v":0}]
[102973,2022,177197,"https://colombiacompra.gov.co/tienda-virtual-del-estado-colombiano/ordenes-compra/102973","Otros","Selección abreviada","Acuerdo marco de precios ","CONTRATAR LA ADQUISICIÓN DE EQUIPOS TECNOLÓGICOS QUE INCIDAN EN EL FORTALECIMIENTO INSTITUCIONAL Y FOMENTO DE LA PARTICIPACIÓN CIUDADANA A TRAVÉS DE LA ESTRATEGIA GOBIERNO ABIERTO - LOTE 1: COMPUTADORES PORTATILES Y DISCOS DUROS EXTERNOS (LOTE 6 ACUERDO MARCO DE PRECIOS)","Inversión","Un nuevo contrato social y ambiental para la Bogotá del Siglo XXI",57,{"$f":"IF(ISERROR(VLOOKUP(K62,#REF!,2,FALSE)),\" \",VLOOKUP(K62,#REF!,2,FALSE))","v":" "},{"$f":"IF(ISERROR(VLOOKUP(K62,#REF!,3,FALSE)),\" \",VLOOKUP(K62,#REF!,3,FALSE))","v":" "},1873,25,830001338,"SUMIMAS S A S","Persona Jurídica",null,"N/A","N/A",null,171639775,0,0,0,{"$f":"+W62+X62+Z62","v":171639775},0,"2022-12-22","2022-12-22","2023-06-21",180,0,0,null,null,null,null,"En ejecución",{"$f":"IF(ISERROR(AB62/AA62),\"-\",(AB62/AA62))","v":0}]
["FDLSC-CSU-655-2022",2022,"FDLSC-SASI-013-2022 LOTE 1","https://community.secop.gov.co/Public/Tendering/OpportunityDetail/Index?noticeUID=CO1.NTC.3625526&isFromPublicArea=True&isModal=true&asPopupView=true","Suministro","Selección abreviada","Subasta inversa ","CONTRATAR LA ADQUISICIÓN DE ELEMENTOS PARA LA EJECUCIÓN DE ACCIONES, EN EL MARCO DE LOS ESCENARIOS DE RIESGO CARACTERIZADOS EN EL PLAN LOCAL DE GESTIÓN DE RIESGOS DE LA LOCALIDAD DE SAN CRISTÓBAL ","Inversión","Un nuevo contrato social y ambiental para la Bogotá del Siglo XXI",30,{"$f":"IF(ISERROR(VLOOKUP(K63,#REF!,2,FALSE)),\" \",VLOOKUP(K63,#REF!,2,FALSE))","v":" "},{"$f":"IF(ISERROR(VLOOKUP(K63,#REF!,3,FALSE)),\" \",VLOOKUP(K63,#REF!,3,FALSE))","v":" "},1866,11,901151222,"CONVIL SOLUCIONES S.A.S","Persona Jurídica",null,"N/A","N/A",null,150000000,0,0,0,{"$f":"+W63+X63+Z63","v":150000000},0,"2022-12-28",null,null,240,null,null,null,null,null,null,"Celebrado o por iniciar",{"$f":"IF(ISERROR(AB63/AA63),\"-\",(AB63/AA63))","v":0}]
["FDLSC-CSU-656-2022",2022,"FDLSC-SASI-013-2022 LOTE 2","https://community.secop.gov.co/Public/Tendering/OpportunityDetail/Index?noticeUID=CO1.NTC.3625526&isFromPublicArea=True&isModal=true&asPopupView=true","Suministro","Selección abreviada","Subasta inversa ","CONTRATAR LA ADQUISICIÓN DE ELEMENTOS PARA LA EJECUCIÓN DE ACCIONES, EN EL MARCO DE LOS ESCENARIOS DE RIESGO CARACTERIZADOS EN EL PLAN LOCAL DE GESTIÓN DE RIESGOS DE LA LOCALIDAD DE SAN CRISTÓBAL ","Inversión","Un nuevo contrato social y ambiental para la Bogotá del Siglo XXI",30,{"$f":"IF(ISERROR(VLOOKUP(K64,#REF!,2,FALSE)),\" \",VLOOKUP(K64,#REF!,2,FALSE))","v":" "},{"$f":"IF(ISERROR(VLOOKUP(K64,#REF!,3,FALSE)),\" \",VLOOKUP(K64,#REF!,3,FALSE))","v":" "},1866,11,830109420,"BRAND CENTER S.A.S.","Persona Jurídica",null,"N/A","N/A",null,150000000,0,0,0,{"$f":"+W64+X64+Z64","v":150000000},0,"2022-12-28",null,null,240,null,null,null,null,null,null,"Celebrado o por iniciar",{"$f":"IF(ISERROR(AB64/AA64),\"-\",(AB64/AA64))","v":0}]
["FDLSC-CCO-640-2022",2022,"FDLSC-CMA-004-2022","https://community.secop.gov.co/Public/Tendering/OpportunityDetail/Index?noticeUID=CO1.NTC.3616031&isFromPublicArea=True&isModal=true&asPopupView=true","Consultoría","Concurso de méritos","No aplica","CONTRATAR LA ELABORACIÓN DE ESTUDIOS, DISEÑOS Y OBTENCIÓN DE LA LICENCIA DE CONSTRUCCIÓN EN LA MODALIDAD QUE CORRESPONDA Y DISPONIBILIDAD DE SERVICIOS PUBLICOS PARA LA CONSTRUCCIÓN DE SALONES COMUNALES EN LA LOCALIDAD DE SAN CRISTOBAL DE LA CIUDAD DE BOGOTÁ D. C","Inversión","Un nuevo contrato social y ambiental para la Bogotá del Siglo XXI",55,{"$f":"IF(ISERROR(VLOOKUP(K65,#REF!,2,FALSE)),\" \",VLOOKUP(K65,#REF!,2,FALSE))","v":" "},{"$f":"IF(ISERROR(VLOOKUP(K65,#REF!,3,FALSE)),\" \",VLOOKUP(K65,#REF!,3,FALSE))","v":" "},1872,4,900331710,"GRUPO M&M CONSULTORIA S.A.S","Persona Jurídica",null,"N/A","N/A",null,147674873,0,0,0,{"$f":"+W65+X65+Z65","v":147674873},0,"2022-12-21",null,null,180,null,null,null,null,null,null,"Celebrado o por iniciar",{"$f":"IF(ISERROR(AB65/AA65),\"-\",(AB65/AA65))","v":0}]
["521",2021,"FDLSC-CMA-001-2021","https://community.secop.gov.co/Public/Tendering/OpportunityDetail/Index?noticeUID=CO1.NTC.2434222&isFromPublicArea=True&isModal=true&asPopupView=true","Interventoría","Concurso de méritos","No aplica","REALIZAR LA INTERVENTORÍA TÉCNICA ADMINISTRATIVA,JURÍDICA FINANCIERA SOCIAL AMBIENTAL Y DE SEGURIDAD Y SALUD EN EL TRABAJO AL CONTRATO cuyo objeto es EJECUTAR A PRECIOS UNITARIOS SIN FÓRMULA DE REAJUSTE Y A MONTO AGOTABLE, LAS ACTIVIDADES NECESARIAS PARA LA CONSTRUCCIÓN DE LA MALLA VIAL DE LA LOCALIDAD DE SAN CRISTÓBAL, EN BOGOTA D.C.","Inversión","Un nuevo contrato social y ambiental para la Bogotá del Siglo XXI",49,{"$f":"IF(ISERROR(VLOOKUP(K66,#REF!,2,FALSE)),\" \",VLOOKUP(K66,#REF!,2,FALSE))","v":" "},{"$f":"IF(ISERROR(VLOOKUP(K66,#REF!,3,FALSE)),\" \",VLOOKUP(K66,#REF!,3,FALSE))","v":" "},1871,0,"900916608","GAVINCO INGENIEROS CONSULTORES S A S","Persona Jurídica","N/A","N/A","N/A",null,0,0,1,145089733,{"$f":"+W66+X66+Z66","v":145089733},11605617,"2022-08-05","2022-02-04","2022-12-19",249,1,23,null,null,null,null,"Liquidado",{"$f":"IF(ISERROR(AB66/AA66),\"-\",(AB66/AA66))","v":7.9989236729796728E-2}]
[null,2022,null,null,"Otros gastos",null,null,"PAGO DE SALUD EDILES 2022\n","Funcionamiento","Un nuevo contrato social y ambiental para la Bogotá del Siglo XXI","No aplica",{"$f":"IF(ISERROR(VLOOKUP(K67,#REF!,2,FALSE)),\" \",VLOOKUP(K67,#REF!,2,FALSE))","v":" "},{"$f":"IF(ISERROR(VLOOKUP(K67,#REF!,3,FALSE)),\" \",VLOOKUP(K67,#REF!,3,FALSE))","v":" "},1349,0,null,null,null,null,null,null,null,135105200,0,0,0,{"$f":"+W67+X67+Z67","v":135105200},135054000,null,null,null,null,null,null,null,null,null,null,null,{"$f":"IF(ISERROR(AB67/AA67),\"-\",(AB67/AA67))","v":0.99962103605190622}]
[100283,2022,166660,"https://colombiacompra.gov.co/tienda-virtual-del-estado-colombiano/ordenes-compra/100283","Otros","Selección abreviada","Acuerdo marco de precios ","COMPRAVENTA DE MOBILIARIO PARA LAS DIFERENTES DEPENDENCIAS DE LA ALCALDIA LOCAL DE SAN CRISTOBAL","Inversión","Un nuevo contrato social y ambiental para la Bogotá del Siglo XXI",57,{"$f":"IF(ISERROR(VLOOKUP(K68,#REF!,2,FALSE)),\" \",VLOOKUP(K68,#REF!,2,FALSE))","v":" "},{"$f":"IF(ISERROR(VLOOKUP(K68,#REF!,3,FALSE)),\" \",VLOOKUP(K68,#REF!,3,FALSE))","v":" "},1873,1,860007336,"CAJA COLOMBIANA DE SUBSIDIO FAMILIAR COL SUBSIDIO","Persona Jurídica",null,"N/A","N/A",null,134946700,0,0,0,{"$f":"+W68+X68+Z68","v":134946700},0,"2022-11-24","2022-11-24","2023-01-24",60,0,0,null,null,null,null,"En ejecución",{"$f":"IF(ISERROR(AB68/AA68),\"-\",(AB68/AA68))","v":0}]
["FDLSC-CV-654-2022",2022,"FDLSC-SASI-011-2022","https://community.secop.gov.co/Public/Tendering/OpportunityDetail/Index?noticeUID=CO1.NTC.3588060&isFromPublicArea=True&isModal=true&asPopupView=true","Compraventa de bienes muebles","Selección abreviada","Subasta inversa ","LA ADQUISICIÓN DE CHAQUETAS Y OTROS ELEMENTOS AFINES PARA PROMOVER Y FORTALECER LA IMAGEN INSTITUCIONAL EN EL DESARROLLO DE DIFERENTES ACTIVIDADES EN EL MARCO DEL PLAN DE DESARROLLO 2021-2024, DE CONFORMIDAD CON LAS CONDICIONES, CANTIDADES Y ESPECIFICACIONES TECNICAS ESTABLECIDAS","Inversión","Un nuevo contrato social y ambiental para la Bogotá del Siglo XXI",57,{"$f":"IF(ISERROR(VLOOKUP(K69,#REF!,2,FALSE)),\" \",VLOOKUP(K69,#REF!,2,FALSE))","v":" "},{"$f":"IF(ISERROR(VLOOKUP(K69,#REF!,3,FALSE)),\" \",VLOOKUP(K69,#REF!,3,FALSE))","v":" "},1873,3,901061836,"CASTECK S.A.S","Persona Jurídica",null,"N/A","N/A",null,130707500,0,0,0,{"$f":"+W69+X69+Z69","v":130707500},0,"2022-12-27","2023-01-10","2023-05-09",120,0,0,null,null,null,null,"En ejecución",{"$f":"IF(ISERROR(AB69/AA69),\"-\",(AB69/AA69))","v":0}]
["FDLSC-CV-572-2022",2022,"FDLSC-SASI-006-2022 LOTE 5 ELEMENTOS MUSICALES","https://community.secop.gov.co/Public/Tendering/OpportunityDetail/Index?noticeUID=CO1.NTC.3304278&isFromPublicArea=True&isModal=true&asPopupView=true","Compraventa de bienes muebles","Selección abreviada","Subasta inversa ","CONTRATAR A MONTO AGOTABLE LA ADQUISICIÓN Y DISTRIBUCIÓN DE ELEMENTOS PARA EL CENTRO DE DESARROLLO COMUNITARIO SAN BLAS DE LA LOCALIDAD DE SAN CRISTÓBAL, EN EL MARCO DEL PROYECTO 1811 SAN CRISTÓBAL TE CUIDA.","Inversión","Un nuevo contrato social y ambiental para la Bogotá del Siglo XXI",6,{"$f":"IF(ISERROR(VLOOKUP(K70,#REF!,2,FALSE)),\" \",VLOOKUP(K70,#REF!,2,FALSE))","v":" "},{"$f":"IF(ISERROR(VLOOKUP(K70,#REF!,3,FALSE)),\" \",VLOOKUP(K70,#REF!,3,FALSE))","v":" "},1811,11,800089897,"COMERCIALIZADORA SERLECOM SAS","Persona Jurídica",null,"N/A","N/A",null,124274502,0,0,0,{"$f":"+W70+X70+Z70","v":124274502},0,"2022-11-08","2022-11-16","2023-03-15",120,0,0,null,null,null,null,"En ejecución",{"$f":"IF(ISERROR(AB70/AA70),\"-\",(AB70/AA70))","v":0}]
["FDLSC-CS-366-2022",2022,"FDLSC-SAMC-001-2022","https://community.secop.gov.co/Public/Tendering/OpportunityDetail/Index?noticeUID=CO1.NTC.2905509&isFromPublicArea=True&isModal=true&asPopupView=true","Suministro","Selección abreviada","Selección abreviada por menor cuantía ","CONTRATAR UNA COMPAÑIA ASEGURADORA, AVALADA POR LA SUPERINTENDENCIA FINANCIERA, LOS SEGUROS QUE AMPAREN LOS BIENES MUEBLES E INMUEBLES, Y EN GENERAL, EL PATRIMONIO DEL FONDO DE DESARROLLO LOCAL DE SAN CRISTOBAL DE CONFORMIDAD CON LAS ESPECIFICACIONES TÉCNICAS DESCRITAS EN LOS PLIEGOS DE CONDICIONES.","Funcionamiento","Un nuevo contrato social y ambiental para la Bogotá del Siglo XXI","No aplica",{"$f":"IF(ISERROR(VLOOKUP(K71,#REF!,2,FALSE)),\" \",VLOOKUP(K71,#REF!,2,FALSE))","v":" "},{"$f":"IF(ISERROR(VLOOKUP(K71,#REF!,3,FALSE)),\" \",VLOOKUP(K71,#REF!,3,FALSE))","v":" "},"1311\n1359\n",2,860524654,"ASEGURADORA SOLIDARIA DE COLOMBIA-ENTIDAD COOPERATIVA","Persona Jurídica",null,"N/A","N/A",null,121802577,0,0,0,{"$f":"+W71+X71+Z71","v":121802577},119084791,"2022-04-22","2022-04-22","2023-02-10",294,0,0,null,null,null,null,"En ejecución",{"$f":"IF(ISERROR(AB71/AA71),\"-\",(AB71/AA71))","v":0.97768695813389894}]
["FDLSC-CPS-040-2022",2022,"FDLSC-CD-024-2022","https://community.secop.gov.co/Public/Tendering/OpportunityDetail/Index?noticeUID=CO1.NTC.2605816&isFromPublicArea=True&isModal=true&asPopupView=true","Contratos de prestación de servicios profesionales y de apoyo a la gestión","Contratación directa","Prestación de servicios profesionales y de apoyo a la gestión, o para la ejecución de trabajos artísticos que sólo puedan encomendarse a determinadas personas naturales","PRESTAR LOS SERVICIOS PROFESIONALES ESPECIALIZADOS AL DESPACHO DEL ALCALDE LOCAL PARA ORIENTAR EN TEMAS DE DERECHO ADMINISTRATIVO Y CONTRACTUAL,EN EL MARCO DE LAS NECESIDADES DEL FONDO DE DESARROLLO LOCAL.","Inversión","Un nuevo contrato social y ambiental para la Bogotá del Siglo XXI",57,{"$f":"IF(ISERROR(VLOOKUP(K72,#REF!,2,FALSE)),\" \",VLOOKUP(K72,#REF!,2,FALSE))","v":" "},{"$f":"IF(ISERROR(VLOOKUP(K72,#REF!,3,FALSE)),\" \",VLOOKUP(K72,#REF!,3,FALSE))","v":" "},1873,0,80768178,"DIEGO FERNANDO RODRIGUEZ VASQUEZ","Persona Natural",null,"N/A","N/A",null,78400000,0,2,39200000,{"$f":"+W72+X72+Z72","v":117600000},101266667,"2022-01-19","2022-01-21","2023-01-20",240,2,120,null,null,null,null,"En ejecución",{"$f":"IF(ISERROR(AB72/AA72),\"-\",(AB72/AA72))","v":0.86111111394557827}]
["FDLSC-CPS-094-2022",2022,"FDLSC-CD-055-2022","https://community.secop.gov.co/Public/Tendering/OpportunityDetail/Index?noticeUID=CO1.NTC.2647184&isFromPublicArea=True&isModal=true&asPopupView=true","Contratos de prestación de servicios profesionales y de apoyo a la gestión","Contratación directa","Prestación de servicios profesionales y de apoyo a la gestión, o para la ejecución de trabajos artísticos que sólo puedan encomendarse a determinadas personas naturales","PRESTAR SUS SERVICIOS PROFESIONALES ESPECIALIZADOS PARA APOYAR TÉCNICAMENTE AL DESPACHO EN LA REVISIÓN Y  SEGUIMIENTO DE TODOS LOS PROCESOS RELACIONADOS CON ENTES DE CONTROL Y LOS RESPECTIVOS PROCEDIMIENTOS DE IMPLEMENTACIÓN Y FORTALECIMIENTO DEL SISTEMA INTEGRADO DE GESTIÓN DE LA ALCALDÍA LOCAL DE SAN CRISTÓBAL.","Inversión","Un nuevo contrato social y ambiental para la Bogotá del Siglo XXI",57,{"$f":"IF(ISERROR(VLOOKUP(K73,#REF!,2,FALSE)),\" \",VLOOKUP(K73,#REF!,2,FALSE))","v":" "},{"$f":"IF(ISERROR(VLOOKUP(K73,#REF!,3,FALSE)),\" \",VLOOKUP(K73,#REF!,3,FALSE))","v":" "},1873,0,51990383,"MARISOL MUÑOZ PERALTA","Persona Natural",null,"N/A","N/A",null,78400000,0,2,37566666,{"$f":"+W73+X73+Z73","v":115966666},99633333,"2022-01-24","2022-01-26","2023-01-20",240,2,115,null,null,null,null,"En ejecución",{"$f":"IF(ISERROR(AB73/AA73),\"-\",(AB73/AA73))","v":0.85915493164216694}]
["FDLSC-INTV-379-2022",2022,"FDLSC-CMA-003-2022","https://community.secop.gov.co/Public/Tendering/OpportunityDetail/Index?noticeUID=CO1.NTC.2979231&isFromPublicArea=True&isModal=False","Interventoría","Concurso de méritos","No aplica","REALIZAR LA INTERVENTORÍA TÉCNICA, ADMINISTRATIVA, FINANCIERA, JURÍDICA, SOCIAL, AMBIENTAL Y SST AL CONTRATO DE OBRA CUYO OBJETO ES EJECUTAR A MONTO AGOTABLE POR EL SISTEMA DE PRECIOS UNITARIOS FIJOS SIN FÓRMULA DE REAJUSTE LAS OBRAS Y ACTIVIDADES PARA LA CONSERVACIÓN DE PUENTES VEHICULARES Y/O PEATONALES DE LA LOCALIDAD DE SAN CRISTÓBAL","Inversión","Un nuevo contrato social y ambiental para la Bogotá del Siglo XXI",49,{"$f":"IF(ISERROR(VLOOKUP(K74,#REF!,2,FALSE)),\" \",VLOOKUP(K74,#REF!,2,FALSE))","v":" "},{"$f":"IF(ISERROR(VLOOKUP(K74,#REF!,3,FALSE)),\" \",VLOOKUP(K74,#REF!,3,FALSE))","v":" "},1871,4,901172605,"ICOD CONSTRUCCIONES Y PROYECTOS SAS","Persona Jurídica",null,"N/A","N/A",null,82148721,0,1,33486100,{"$f":"+W74+X74+Z74","v":115634821},65688551,"2022-07-22","2022-08-03","2023-02-02",135,1,45,null,null,null,null,"En ejecución",{"$f":"IF(ISERROR(AB74/AA74),\"-\",(AB74/AA74))","v":0.56806894698267396}]
[null,2022,null,null,"Otros gastos",null,null,"INGRESO VITAL PARA SAN CRISTÓBAL COSTOS OPERATIVOS","Inversión","Un nuevo contrato social y ambiental para la Bogotá del Siglo XXI",1,{"$f":"IF(ISERROR(VLOOKUP(K75,#REF!,2,FALSE)),\" \",VLOOKUP(K75,#REF!,2,FALSE))","v":" "},{"$f":"IF(ISERROR(VLOOKUP(K75,#REF!,3,FALSE)),\" \",VLOOKUP(K75,#REF!,3,FALSE))","v":" "},1852,0,null,null,null,null,null,null,null,108000000,0,0,0,{"$f":"+W75+X75+Z75","v":108000000},87953578,null,null,null,null,null,null,null,null,null,null,null,{"$f":"IF(ISERROR(AB75/AA75),\"-\",(AB75/AA75))","v":0.81438498148148153}]
["FDLSC-CPS-639-2022",2022,"FDLSC-CMA-006-2022","https://community.secop.gov.co/Public/Tendering/OpportunityDetail/Index?noticeUID=CO1.NTC.3615841&isFromPublicArea=True&isModal=true&asPopupView=true","Contratos de prestación de servicios","Concurso de méritos","No aplica","REALIZAR LA REVISION Y VERIFICACION DE LA ESTABILIDAD Y CALIDAD DE LAS OBRAS DE INFRAESTRUCTURA EJECUTADAS CON RECURSOS DEL FONDO DE DESARROLLO LOCAL DE SAN CRISTÓBAL Y QUE CUENTEN CON PÓLIZA DE ESTABILIDAD VIGENTE, EN CUMPLIMIENTO DEL ARTÍCULO 4º, NUMERAL 4º DE LA LEY 80 DE 1993","Inversión","Un nuevo contrato social y ambiental para la Bogotá del Siglo XXI",49,{"$f":"IF(ISERROR(VLOOKUP(K76,#REF!,2,FALSE)),\" \",VLOOKUP(K76,#REF!,2,FALSE))","v":" "},{"$f":"IF(ISERROR(VLOOKUP(K76,#REF!,3,FALSE)),\" \",VLOOKUP(K76,#REF!,3,FALSE))","v":" "},1871,1,900984598,"SAVIMAC SAS","Persona Jurídica",null,"N/A","N/A",null,107251275,0,0,0,{"$f":"+W76+X76+Z76","v":107251275},0,"2022-12-21",null,null,180,null,null,null,null,null,null,"Celebrado o por iniciar",{"$f":"IF(ISERROR(AB76/AA76),\"-\",(AB76/AA76))","v":0}]
["FDLSC-CPS-056-2022",2022,"FDLSC-CD-035-2022","https://community.secop.gov.co/Public/Tendering/OpportunityDetail/Index?noticeUID=CO1.NTC.2604329&isFromPublicArea=True&isModal=true&asPopupView=true","Contratos de prestación de servicios profesionales y de apoyo a la gestión","Contratación directa","Prestación de servicios profesionales y de apoyo a la gestión, o para la ejecución de trabajos artísticos que sólo puedan encomendarse a determinadas personas naturales","PRESTAR SUR SERVICIOS PROFESIONALES ESPECIALIZADOS AL DESPACHO DEL ALCALDE LOCAL DE SAN CRISTÓBAL EN LA REVISIÓN DE LOS ASPECTOS JURÍDICOS, NORMATIVOS Y  POLICIVOS EN EL MARCO DE LAS FUNCIONES ADMINISTRATIVAS Y  APOYANDO TODAS LAS LABORES QUE SEAN DIRECCIONADAS POR EL ALCALDE LOCAL PARA CUMPLIR CON LA MISIÓN DE LA ALCALDÍA LOCAL DE SAN CRISTÓBAL.","Inversión","Un nuevo contrato social y ambiental para la Bogotá del Siglo XXI",57,{"$f":"IF(ISERROR(VLOOKUP(K77,#REF!,2,FALSE)),\" \",VLOOKUP(K77,#REF!,2,FALSE))","v":" "},{"$f":"IF(ISERROR(VLOOKUP(K77,#REF!,3,FALSE)),\" \",VLOOKUP(K77,#REF!,3,FALSE))","v":" "},1873,0,52835719,"MABEL LORENA MONTERO BARBOSA ","Persona Natural",null,"N/A","N/A",null,70864000,0,2,35432000,{"$f":"+W77+X77+Z77","v":106296000},91532667,"2022-01-19","2022-01-21","2023-01-20",240,2,120,null,null,null,null,"En ejecución",{"$f":"IF(ISERROR(AB77/AA77),\"-\",(AB77/AA77))","v":0.86111111424700837}]
[94333,2022,163847,"https://colombiacompra.gov.co/tienda-virtual-del-estado-colombiano/ordenes-compra/85202","Otros","Selección abreviada","Acuerdo marco de precios ","ADQUISICION DE LICENCIAS MICROSOFT OFFICE 365 - E 1 PARA EL FONDO DE DESARROLLO LOCAL DE SAN CRISTOBAL MEDIANTE EL IAD\nCCE-139-2020","Funcionamiento","Un nuevo contrato social y ambiental para la Bogotá del Siglo XXI","No aplica",{"$f":"IF(ISERROR(VLOOKUP(K78,#REF!,2,FALSE)),\" \",VLOOKUP(K78,#REF!,2,FALSE))","v":" "},{"$f":"IF(ISERROR(VLOOKUP(K78,#REF!,3,FALSE)),\" \",VLOOKUP(K78,#REF!,3,FALSE))","v":" "},3143,4,901373456,"UT Soft IG 3","Persona Jurídica",null,"N/A","N/A",null,102774000,0,0,0,{"$f":"+W78+X78+Z78","v":102774000},102774000,"2022-08-05","2022-08-05","2022-12-04",360,0,0,null,null,null,null,"Terminado",{"$f":"IF(ISERROR(AB78/AA78),\"-\",(AB78/AA78))","v":1}]
["FDLSC-CTOI-471-2022",2022,"FDLSC-CD-263-2022","https://www.contratos.gov.co/consultas/detalleProceso.do?numConstancia=22-22-51098&g-recaptcha-response=03AD1IbLADh_s_f-oK-3MMME9Uw0LGujH7xdwzURsS1ENKbxoOYq2f9kpOwALUvr97tFabEGVhnBmbx1KHJBY2GVGXGm-RmpfOp4NdKjQMJhrZIHoOPTBXKmJ-yLDA58QTH2fd51TUbycut0kZu-9LUO1GzvqtcWT_cTFRUJFLVCzreNcbt1YmboEFgWXJPfC_5hyWlW0p8q0Z3H4CJgpjProS-vrzUcWprL6kh4J1SZah3mrmDllIXrDvSnlGzR6LHqnea7tYxkdtqVoonI0BAlxH1XxF7Xu7ROgOoDGI9i8H5nqV0Mh83EBC7hYzHB0pl3Vq-LLy7nbXYHgEDEG-gMpgqCPuBnTmtigKjg4WyCvdDyuTHDeztWMe43ONUac0jdqJVJgGvMZPdBOLvVxLCg6u7Kj9bazw2XuyEXHYgo5Mj2lkEFpI-wCLjIezir-fmJAivl2U6fRD2dfv7Y2pYQJuwFbsTkjNOAPW5NA5MIDE9gceyjFi239EP8ORYhPZhLb3EE1mLxmfEYUhdG-pFzSif2eGdo3Wr1KLPB93BS2DTR7awEkvX9u-FB0_1OBD6zmqrYyJ2Jd_-LWAjJ5K1XO-c2Hw3mKX0pVR_4Dkn9QcsCu-JHHi46A","Convenios/Contratos interadministrativos","Contratación directa","Contratos interadministrativos","PRESTAR LOS SERVICIOS DE PLANEACIÓN, EJECUCIÓN Y DIVULGACIÓN DE LAS ACTIVIDADES A DESARROLLARSE EN EL MARCO DE LA ACCIÓN DE CIUDAD NAVIDAD 2022 RELACIONADAS CON LA GENERACIÓN DE LOS ENTORNOS LUMÍNICOS Y DIFUSIÓN DE LOS ACTOS PRINCIPALES QUE HARÁN PARTE DE LA ESTRATEGIA COMUNICACIONAL A CARGO DE LA OFICINA CONSEJERÍA DE COMUNICACIONES DE LA SECRETARÍA GENERAL DE LA ALCALDÍA MAYOR DE BOGOTÁ.","Inversión","Un nuevo contrato social y ambiental para la Bogotá del Siglo XXI",21,{"$f":"IF(ISERROR(VLOOKUP(K79,#REF!,2,FALSE)),\" \",VLOOKUP(K79,#REF!,2,FALSE))","v":" "},{"$f":"IF(ISERROR(VLOOKUP(K79,#REF!,3,FALSE)),\" \",VLOOKUP(K79,#REF!,3,FALSE))","v":" "},1803,0,830012587,"CANAL CAPITAL","Persona Jurídica",null,"N/A","N/A",null,100000000,0,0,0,{"$f":"+W79+X79+Z79","v":100000000},0,"2022-11-24","2022-11-01","2023-03-31",150,0,0,null,null,null,null,"En ejecución",{"$f":"IF(ISERROR(AB79/AA79),\"-\",(AB79/AA79))","v":0}]
["FDLSC-CSU-657-2022",2022,"FDLSC-SASI-013-2022 LOTE 3","https://community.secop.gov.co/Public/Tendering/OpportunityDetail/Index?noticeUID=CO1.NTC.3625526&isFromPublicArea=True&isModal=true&asPopupView=true","Suministro","Selección abreviada","Subasta inversa ","CONTRATAR LA ADQUISICIÓN DE ELEMENTOS PARA LA EJECUCIÓN DE ACCIONES, EN EL MARCO DE LOS ESCENARIOS DE RIESGO CARACTERIZADOS EN EL PLAN LOCAL DE GESTIÓN DE RIESGOS DE LA LOCALIDAD DE SAN CRISTÓBAL ","Inversión","Un nuevo contrato social y ambiental para la Bogotá del Siglo XXI",30,{"$f":"IF(ISERROR(VLOOKUP(K80,#REF!,2,FALSE)),\" \",VLOOKUP(K80,#REF!,2,FALSE))","v":" "},{"$f":"IF(ISERROR(VLOOKUP(K80,#REF!,3,FALSE)),\" \",VLOOKUP(K80,#REF!,3,FALSE))","v":" "},1866,11,901114836,"COMPAÑIA MAYFER SB SAS","Persona Jurídica",null,"N/A","N/A",null,100000000,0,0,0,{"$f":"+W80+X80+Z80","v":100000000},0,"2022-12-28",null,null,240,null,null,null,null,null,null,"Celebrado o por iniciar",{"$f":"IF(ISERROR(AB80/AA80),\"-\",(AB80/AA80))","v":0}]
["FDLSC-CPS-042-2022",2022,"FDLSC-CD-026-2022","https://community.secop.gov.co/Public/Tendering/OpportunityDetail/Index?noticeUID=CO1.NTC.2601029&isFromPublicArea=True&isModal=true&asPopupView=true","Contratos de prestación de servicios profesionales y de apoyo a la gestión","Contratación directa","Prestación de servicios profesionales y de apoyo a la gestión, o para la ejecución de trabajos artísticos que sólo puedan encomendarse a determinadas personas naturales","PRESTAR SUS SERVICIOS PROFESIONALES ESPECIALIZADOS APOYANDO AL ALCALDE LOCAL EN LA REVISIÓN JURÍDICA DE LOS PRODUCTOS DERIVADOS DE LA GESTIÓN DE LAS DIFERENTES DEPENDENCIAS DE LA ALCALDÍA LOCAL DE SAN CRISTÓBAL.","Inversión","Un nuevo contrato social y ambiental para la Bogotá del Siglo XXI",57,{"$f":"IF(ISERROR(VLOOKUP(K81,#REF!,2,FALSE)),\" \",VLOOKUP(K81,#REF!,2,FALSE))","v":" "},{"$f":"IF(ISERROR(VLOOKUP(K81,#REF!,3,FALSE)),\" \",VLOOKUP(K81,#REF!,3,FALSE))","v":" "},1873,0,1032451121,"NUBIA YULIETH SALAZAR PARDO","Persona Natural",null,"N/A","N/A",null,85844000,0,1,10405333,{"$f":"+W81+X81+Z81","v":96249333},72837332,"2022-01-18","2022-01-21","2023-01-30",330,1,40,79906188,"RODNY FABIAN ORTIZ CHAMORRO","2022-08-08",44742933,"En ejecución",{"$f":"IF(ISERROR(AB81/AA81),\"-\",(AB81/AA81))","v":0.75675674552466765}]
["FDLSC-CPS-093-2022",2022,"FDLSC-CD-054-2022","https://community.secop.gov.co/Public/Tendering/OpportunityDetail/Index?noticeUID=CO1.NTC.2648581&isFromPublicArea=True&isModal=true&asPopupView=true","Contratos de prestación de servicios profesionales y de apoyo a la gestión","Contratación directa","Prestación de servicios profesionales y de apoyo a la gestión, o para la ejecución de trabajos artísticos que sólo puedan encomendarse a determinadas personas naturales","PRESTAR SERVICIOS PROFESIONALES ESPECIALIZADOS PARA APOYAR AL DESPACHO DEL ALCALDE LOCAL EN LA REVISIÓN Y ACOMPAÑAMIENTO DE LOS ASPECTOS SOCIALES Y POBLACIONALES, EN ARTICULACIÓN CON LOS EQUIPOS DE LA ENTIDAD, ENCARGADOS DE ESTAS TEMÁTICAS.","Inversión","Un nuevo contrato social y ambiental para la Bogotá del Siglo XXI",57,{"$f":"IF(ISERROR(VLOOKUP(K82,#REF!,2,FALSE)),\" \",VLOOKUP(K82,#REF!,2,FALSE))","v":" "},{"$f":"IF(ISERROR(VLOOKUP(K82,#REF!,3,FALSE)),\" \",VLOOKUP(K82,#REF!,3,FALSE))","v":" "},1873,0,52538400,"AURA LIZETH MELO ÁVILA","Persona Natural",null,"N/A","N/A",null,68227200,0,1,26722320,{"$f":"+W82+X82+Z82","v":94949520},86421120,"2022-01-24","2022-01-27","2022-12-30",240,1,94,null,null,null,null,"Terminado",{"$f":"IF(ISERROR(AB82/AA82),\"-\",(AB82/AA82))","v":0.91017964071856283}]
["FDLSC-CTOI-441-2022",2022,"FDLSC-CD-219-2022","https://community.secop.gov.co/Public/Tendering/OpportunityDetail/Index?noticeUID=CO1.NTC.3148561&isFromPublicArea=True&isModal=true&asPopupView=true","Convenios/Contratos interadministrativos","Contratación directa","Contratos interadministrativos","PRESTAR EL SERVICIO DE CENTRO DE ADMINISTRACION DE CORRESPONDENCIA Y CORREO CERTIFICADO QUE REQUIERA LA ALCALDIA LOCAL DE SAN CRISTOBAL EN LAS MODALIDADES DE CORREO CERTIFICADO NACIONAL, SMS Y CORREO ELECTRONICO CERTIFICADO A NIVEL URBANO Y NACIONAL","Inversión","Un nuevo contrato social y ambiental para la Bogotá del Siglo XXI",57,{"$f":"IF(ISERROR(VLOOKUP(K83,#REF!,2,FALSE)),\" \",VLOOKUP(K83,#REF!,2,FALSE))","v":" "},{"$f":"IF(ISERROR(VLOOKUP(K83,#REF!,3,FALSE)),\" \",VLOOKUP(K83,#REF!,3,FALSE))","v":" "},1873,0,900062917,"SERVICIOS POSTALES NACIONALES S.A.","Persona Jurídica",null,"N/A","N/A",null,94835600,0,0,0,{"$f":"+W83+X83+Z83","v":94835600},0,"2022-08-18","2022-09-06","2023-03-05",180,0,0,null,null,null,null,"En ejecución",{"$f":"IF(ISERROR(AB83/AA83),\"-\",(AB83/AA83))","v":0}]
["FDLSC-CPS-061-2022",2022,"FDLSC-CD-039-2022","https://community.secop.gov.co/Public/Tendering/OpportunityDetail/Index?noticeUID=CO1.NTC.2605998&isFromPublicArea=True&isModal=true&asPopupView=true","Contratos de prestación de servicios profesionales y de apoyo a la gestión","Contratación directa","Prestación de servicios profesionales y de apoyo a la gestión, o para la ejecución de trabajos artísticos que sólo puedan encomendarse a determinadas personas naturales","PRESTAR SERVICIOS PROFESIONALES ESPECIALIZADOS EN EL ÁREA DE GESTION DE DESARROLLO LOCAL PARA LA FORMULACIÓN, EVALUACIÓN Y SEGUIMIENTO DE LOS PROYECTOS DE GESTIÓN AMBIENTAL, EN CUMPLIMIENTO A LAS METAS ESTABLECIDAS EN EL PLAN DE DESARROLLO LOCAL 2021 2024","Inversión","Un nuevo contrato social y ambiental para la Bogotá del Siglo XXI",57,{"$f":"IF(ISERROR(VLOOKUP(K84,#REF!,2,FALSE)),\" \",VLOOKUP(K84,#REF!,2,FALSE))","v":" "},{"$f":"IF(ISERROR(VLOOKUP(K84,#REF!,3,FALSE)),\" \",VLOOKUP(K84,#REF!,3,FALSE))","v":" "},1873,0,79849967,"DIEGO MAURICIO ROJAS CACHOPE","Persona Natural",null,"N/A","N/A",null,63200000,0,2,30546667,{"$f":"+W84+X84+Z84","v":93746667},80580000,"2022-01-24","2022-01-25","2023-01-20",240,2,117,null,null,null,null,"En ejecución",{"$f":"IF(ISERROR(AB84/AA84),\"-\",(AB84/AA84))","v":0.85955055874146435}]
["FDLSC-CPS-013-2022",2022,"FDLSC-CD-007-2022","https://community.secop.gov.co/Public/Tendering/OpportunityDetail/Index?noticeUID=CO1.NTC.2590381&isFromPublicArea=True&isModal=true&asPopupView=true","Contratos de prestación de servicios profesionales y de apoyo a la gestión","Contratación directa","Prestación de servicios profesionales y de apoyo a la gestión, o para la ejecución de trabajos artísticos que sólo puedan encomendarse a determinadas personas naturales","PRESTAR SERVICIOS PROFESIONALES ESPECIALIZADOS EN EL ÁREA DE GESTION DE DESARROLLO LOCAL PARA APOYAR TECNICAMENTE LA FORMULACIÓN, EVALUACIÓN, PRESENTACIÓN Y SEGUIMIENTO DE LOS PROYECTOS DE INVERSIÓN, EN TEMAS DE DOTACIONES ESCOLARES, EN CUMPLIMIENTO DEL PLAN DE DESARROLLO LOCAL 2020-2024","Inversión","Un nuevo contrato social y ambiental para la Bogotá del Siglo XXI",57,{"$f":"IF(ISERROR(VLOOKUP(K85,#REF!,2,FALSE)),\" \",VLOOKUP(K85,#REF!,2,FALSE))","v":" "},{"$f":"IF(ISERROR(VLOOKUP(K85,#REF!,3,FALSE)),\" \",VLOOKUP(K85,#REF!,3,FALSE))","v":" "},1873,0,53164606,"LINDA  VANESSA  ACUÑA RAMIREZ","Persona Natural",null,"N/A","N/A",null,82500000,0,1,10000000,{"$f":"+W85+X85+Z85","v":92500000},77500000,"2022-01-18","2022-01-21","2023-01-30",330,1,40,null,null,null,null,"En ejecución",{"$f":"IF(ISERROR(AB85/AA85),\"-\",(AB85/AA85))","v":0.83783783783783783}]
["FDLSC-CPS-659-2022",2022,"FDLSC-SAMC-013-2022","https://community.secop.gov.co/Public/Tendering/OpportunityDetail/Index?noticeUID=CO1.NTC.3627353&isFromPublicArea=True&isModal=true&asPopupView=true","Contratos de prestación de servicios","Selección abreviada","Selección abreviada por menor cuantía ","CONTRATAR SERVICIOS TÉCNICOS Y OPERATIVOS ENTRE EL FONDO DE DESARROLLO LOCAL DE SAN CRISTÓBAL Y EL PROPONENTE PARA LA EJECUCIÓN DE ACTIVIDADES DE MANTENIMIENTO DE JARDINERÍA EN LA LOCALIDAD DE SAN CRISTÓBAL","Inversión","Un nuevo contrato social y ambiental para la Bogotá del Siglo XXI",27,{"$f":"IF(ISERROR(VLOOKUP(K86,#REF!,2,FALSE)),\" \",VLOOKUP(K86,#REF!,2,FALSE))","v":" "},{"$f":"IF(ISERROR(VLOOKUP(K86,#REF!,3,FALSE)),\" \",VLOOKUP(K86,#REF!,3,FALSE))","v":" "},1859,11,860506842,"AREAS VERDES LTDA","Persona Jurídica",null,"N/A","N/A",null,89474239,0,0,0,{"$f":"+W86+X86+Z86","v":89474239},0,"2022-12-28",null,null,150,null,null,null,null,null,null,"Celebrado o por iniciar",{"$f":"IF(ISERROR(AB86/AA86),\"-\",(AB86/AA86))","v":0}]
["FDLSC-CPS-296-2022",2022,"FDLSC-CD-151-2022","https://community.secop.gov.co/Public/Tendering/OpportunityDetail/Index?noticeUID=CO1.NTC.2590234&isFromPublicArea=True&isModal=true&asPopupView=true","Contratos de prestación de servicios profesionales y de apoyo a la gestión","Contratación directa","Prestación de servicios profesionales y de apoyo a la gestión, o para la ejecución de trabajos artísticos que sólo puedan encomendarse a determinadas personas naturales","PRESTAR SUS SERVICIOS PROFESIONALES COMO LÍDER DE PRENSA Y COMUNICACIONES ORIENTANDO TODOS LOS PLANES Y ESTRATEGIAS DE COMUNICACIÓN INTERNA Y EXTERNA PARA LA DIVULGACIÓN DE LOS PROGRAMAS, PROYECTOS Y ACTIVIDADES DE LA ALCALDÍA LOCAL","Inversión","Un nuevo contrato social y ambiental para la Bogotá del Siglo XXI",57,{"$f":"IF(ISERROR(VLOOKUP(K87,#REF!,2,FALSE)),\" \",VLOOKUP(K87,#REF!,2,FALSE))","v":" "},{"$f":"IF(ISERROR(VLOOKUP(K87,#REF!,3,FALSE)),\" \",VLOOKUP(K87,#REF!,3,FALSE))","v":" "},1873,0,91292728,"IVAN DARIO SERRANO ALMEYDA","Persona Natural",null,"N/A","N/A",null,64000000,0,1,24800000,{"$f":"+W87+X87+Z87","v":88800000},73066666,"2022-01-28","2022-01-28","2022-12-30",240,1,93,1094898365,"LEIDY VIVIANA VIVAS LOPEZ","2022-06-23",50400000,"Terminado",{"$f":"IF(ISERROR(AB87/AA87),\"-\",(AB87/AA87))","v":0.82282281531531531}]
["FDLSC-CPS-098-2022",2022,"FDLSC-CD-058-2022","https://community.secop.gov.co/Public/Tendering/OpportunityDetail/Index?noticeUID=CO1.NTC.2649102&isFromPublicArea=True&isModal=true&asPopupView=true","Contratos de prestación de servicios profesionales y de apoyo a la gestión","Contratación directa","Prestación de servicios profesionales y de apoyo a la gestión, o para la ejecución de trabajos artísticos que sólo puedan encomendarse a determinadas personas naturales","PRESTAR SUS SERVICIOS PROFESIONALES ESPECIALIZADOS EN EL ÁREA DE GESTIÓN PARA EL DESARROLLO LOCAL PARA EL FORTALECIMIENTO DE LA FUNCIÓN ADMINISTRATIVA Y DESARROLLO INSTITUCIONAL DEL COMPONENTE SOCIAL EN CUMPLIMIENTO A LAS METAS ESTABLECIDAS EN EL PLAN DE DESARROLLO LOCAL 2021-2024","Inversión","Un nuevo contrato social y ambiental para la Bogotá del Siglo XXI",57,{"$f":"IF(ISERROR(VLOOKUP(K88,#REF!,2,FALSE)),\" \",VLOOKUP(K88,#REF!,2,FALSE))","v":" "},{"$f":"IF(ISERROR(VLOOKUP(K88,#REF!,3,FALSE)),\" \",VLOOKUP(K88,#REF!,3,FALSE))","v":" "},1873,0,1075241124,"HEYDY YOHANA TAMAYO SOLORZANO","Persona Natural",null,"N/A","N/A",null,65920000,0,1,21973333,{"$f":"+W88+X88+Z88","v":87893333},55757333,"2022-01-25","2022-02-03","2022-12-31",240,1,80,1110456365,"HEYDY YOHANA TAMAYO SOLORZANO","2022-08-26",32136000,"En ejecución",{"$f":"IF(ISERROR(AB88/AA88),\"-\",(AB88/AA88))","v":0.6343749986133761}]
["FDLSC-CPS-057-2022",2022,"FDLSC-CD-036-2022","https://community.secop.gov.co/Public/Tendering/OpportunityDetail/Index?noticeUID=CO1.NTC.2626935&isFromPublicArea=True&isModal=true&asPopupView=true","Contratos de prestación de servicios profesionales y de apoyo a la gestión","Contratación directa","Prestación de servicios profesionales y de apoyo a la gestión, o para la ejecución de trabajos artísticos que sólo puedan encomendarse a determinadas personas naturales","PRESTAR SUS SERVICIOS PROFESIONALES ESPECIALIZADOS PARA EL SEGUIMIENTO TÉCNICO Y  OPERATIVO EN LA FORMULACIÓN Y  SEGUIMIENTO DE LOS PROYECTOS DE INVERSIÓN RELACIONADOS CON TEMAS DE REACTIVACIÓN ECONÓMICA, EN EL MARCO DE LAS NECESIDADES Y CUMPLIMIENTO DEL PLAN DE DESARROLLO LOCAL DE SAN CRISTÓBAL","Inversión","Un nuevo contrato social y ambiental para la Bogotá del Siglo XXI",6,{"$f":"IF(ISERROR(VLOOKUP(K89,#REF!,2,FALSE)),\" \",VLOOKUP(K89,#REF!,2,FALSE))","v":" "},{"$f":"IF(ISERROR(VLOOKUP(K89,#REF!,3,FALSE)),\" \",VLOOKUP(K89,#REF!,3,FALSE))","v":" "},1865,0,1023860894,"JEIMY JULIETH TORRES FORERO","Persona Natural",null,"N/A","N/A",null,77583000,0,1,8698700,{"$f":"+W89+X89+Z89","v":86281700},71940600,"2022-01-21","2022-01-25","2023-01-31",330,1,37,null,null,null,null,"En ejecución",{"$f":"IF(ISERROR(AB89/AA89),\"-\",(AB89/AA89))","v":0.83378746594005448}]
["FDLSC-CPS-008-2022",2022,"FDLSC-CD-004-2022","https://community.secop.gov.co/Public/Tendering/OpportunityDetail/Index?noticeUID=CO1.NTC.2609840&isFromPublicArea=True&isModal=true&asPopupView=true","Contratos de prestación de servicios profesionales y de apoyo a la gestión","Contratación directa","Prestación de servicios profesionales y de apoyo a la gestión, o para la ejecución de trabajos artísticos que sólo puedan encomendarse a determinadas personas naturales","APOYAR AL ALCALDE LOCAL EN LA FORMULACIÓN, SEGUIMIENTO E IMPLEMENTACION DE LA ESTRATEGIA LOCAL PARA LA TERMINACIÓN JURIDICA O INACTIVACION DE LAS ACTUACIONES ADMINISTRATIVAS QUE CURSAN EN LA ALCALDÍA LOCAL.","Inversión","Un nuevo contrato social y ambiental para la Bogotá del Siglo XXI",57,{"$f":"IF(ISERROR(VLOOKUP(K90,#REF!,2,FALSE)),\" \",VLOOKUP(K90,#REF!,2,FALSE))","v":" "},{"$f":"IF(ISERROR(VLOOKUP(K90,#REF!,3,FALSE)),\" \",VLOOKUP(K90,#REF!,3,FALSE))","v":" "},1873,0,1122647761,"BERNA PAOLA ROJAS ROA","Persona Natural",null,"N/A","N/A",null,56424000,0,2,28212000,{"$f":"+W90+X90+Z90","v":84636000},71940600,"2022-01-21","2022-01-25","2023-01-24",240,2,120,null,null,null,null,"En ejecución",{"$f":"IF(ISERROR(AB90/AA90),\"-\",(AB90/AA90))","v":0.85}]
["FDLSC-CPS-022-2022",2022,"FDLSC-CD-014-2022","https://community.secop.gov.co/Public/Tendering/OpportunityDetail/Index?noticeUID=CO1.NTC.2591780&isFromPublicArea=True&isModal=true&asPopupView=true","Contratos de prestación de servicios profesionales y de apoyo a la gestión","Contratación directa","Prestación de servicios profesionales y de apoyo a la gestión, o para la ejecución de trabajos artísticos que sólo puedan encomendarse a determinadas personas naturales","PRESTAR SUS SERVICIOS PROFESIONALES PARA APOYAR TECNICAMENTE A LOS RESPONSABLES E INTEGRANTES DE  LOS PROCESOS EN LA IMPLEMENTACIÓN DE HERRAMIENTAS DE GESTIÓN, SIGUIENDO LOS LINEAMIENTOS METODOLÓGICOS ESTABLECIDOS POR LA OFICINA ASESORA DE PLANEACIÓN  DE LA SECRETARIA DE GOBIERNO.","Inversión","Un nuevo contrato social y ambiental para la Bogotá del Siglo XXI",57,{"$f":"IF(ISERROR(VLOOKUP(K91,#REF!,2,FALSE)),\" \",VLOOKUP(K91,#REF!,2,FALSE))","v":" "},{"$f":"IF(ISERROR(VLOOKUP(K91,#REF!,3,FALSE)),\" \",VLOOKUP(K91,#REF!,3,FALSE))","v":" "},1873,0,79696383,"ARCADIO SARMIENTO RAMIREZ","Persona Natural",null,"N/A","N/A",null,74800000,0,1,9293333,{"$f":"+W91+X91+Z91","v":84093333},70266667,"2022-01-18","2022-01-21","2023-01-31",330,1,42,null,null,null,null,"En ejecución",{"$f":"IF(ISERROR(AB91/AA91),\"-\",(AB91/AA91))","v":0.83557952210075914}]
["FDLSC-CPS-193-2022",2022,"FDLSC-CD-093-2022","https://community.secop.gov.co/Public/Tendering/OpportunityDetail/Index?noticeUID=CO1.NTC.2693749&isFromPublicArea=True&isModal=true&asPopupView=true","Contratos de prestación de servicios profesionales y de apoyo a la gestión","Contratación directa","Prestación de servicios profesionales y de apoyo a la gestión, o para la ejecución de trabajos artísticos que sólo puedan encomendarse a determinadas personas naturales","PRESTAR LOS SERVICIOS PROFESIONALES A LA ALCALDÍA LOCAL DE SAN CRISTÓBAL, PARA LA EJECUCIÓN DE LAS ACTIVIDADES Y PROCESOS ADMINISTRATIVOS Y DE CAMPO RELACIONADOS CON LA ATENCIÓN A VÍCTIMAS EN EL MARCO DE LAS NECESIDADES DEL FONDO DE DESARROLLO LOCAL Y DINAMIZACIÓN PARA LA EJECUCIÓN DE LOS PROYECTOS QUE HACEN PARTE DEL PLAN DE DESARROLLO.","Inversión","Un nuevo contrato social y ambiental para la Bogotá del Siglo XXI",39,{"$f":"IF(ISERROR(VLOOKUP(K92,#REF!,2,FALSE)),\" \",VLOOKUP(K92,#REF!,2,FALSE))","v":" "},{"$f":"IF(ISERROR(VLOOKUP(K92,#REF!,3,FALSE)),\" \",VLOOKUP(K92,#REF!,3,FALSE))","v":" "},1869,0,1026568689,"ZAFIRO CIFUENTES AGAMEZ","Persona Natural",null,"N/A","N/A",null,56424000,0,2,27271600,{"$f":"+W92+X92+Z92","v":83695600},69589600,"2022-01-27","2022-02-05","2023-01-30",240,2,116,null,null,null,null,"En ejecución",{"$f":"IF(ISERROR(AB92/AA92),\"-\",(AB92/AA92))","v":0.8314606741573034}]
["FDLSC-CPS-124-2022",2022,"FDLSC-CD-066-2022","https://community.secop.gov.co/Public/Tendering/OpportunityDetail/Index?noticeUID=CO1.NTC.2680810&isFromPublicArea=True&isModal=true&asPopupView=true","Contratos de prestación de servicios profesionales y de apoyo a la gestión","Contratación directa","Prestación de servicios profesionales y de apoyo a la gestión, o para la ejecución de trabajos artísticos que sólo puedan encomendarse a determinadas personas naturales","APOYAR LA FORMULACION, EJECUCION, SEGUIMIENTO Y MEJORA CONTINUA DE LAS HERRAMIENTAS QUE CONFORMAN LA GESTION AMBIENTAL INSTITUCIONAL DE LA ALCALDIA LOCAL","Inversión","Un nuevo contrato social y ambiental para la Bogotá del Siglo XXI",57,{"$f":"IF(ISERROR(VLOOKUP(K93,#REF!,2,FALSE)),\" \",VLOOKUP(K93,#REF!,2,FALSE))","v":" "},{"$f":"IF(ISERROR(VLOOKUP(K93,#REF!,3,FALSE)),\" \",VLOOKUP(K93,#REF!,3,FALSE))","v":" "},1873,0,52872370,"GLITZA JOHANNA VEGA","Persona Natural",null,"N/A","N/A",null,56000000,0,1,27533324,{"$f":"+W93+X93+Z93","v":83533324},69300000,"2022-01-26","2022-02-04","2023-01-30",240,2,118,null,null,null,null,"En ejecución",{"$f":"IF(ISERROR(AB93/AA93),\"-\",(AB93/AA93))","v":0.82960903124123253}]
["FDLSC-CPS-146-2022",2022,"FDLSC-CD-073-2022","https://community.secop.gov.co/Public/Tendering/OpportunityDetail/Index?noticeUID=CO1.NTC.2683008&isFromPublicArea=True&isModal=true&asPopupView=true","Contratos de prestación de servicios profesionales y de apoyo a la gestión","Contratación directa","Prestación de servicios profesionales y de apoyo a la gestión, o para la ejecución de trabajos artísticos que sólo puedan encomendarse a determinadas personas naturales","PRESTAR SUS SERVICIOS PROFESIONALES ESPECIALIZADOS COMO APOYO AL DESPACHO PARA LA GESTIÓN DE LOS ASUNTOS RELACIONADOS CON EL FORTALECIMIENTO A LOS PROCESOS CIUDADANOS DE GESTIÓN DE ECOBARRIOS EN LA LOCALIDAD DE SAN CRISTÓBAL, DE CONFORMIDAD CON EL MARCO NORMATIVO APLICABLE EN LA MATERIA.","Inversión","Un nuevo contrato social y ambiental para la Bogotá del Siglo XXI",57,{"$f":"IF(ISERROR(VLOOKUP(K94,#REF!,2,FALSE)),\" \",VLOOKUP(K94,#REF!,2,FALSE))","v":" "},{"$f":"IF(ISERROR(VLOOKUP(K94,#REF!,3,FALSE)),\" \",VLOOKUP(K94,#REF!,3,FALSE))","v":" "},1873,0,79359289,"JUAN CARLOS CASTELLANOS PUENTES","Persona Natural",null,"N/A","N/A",null,82500000,0,0,0,{"$f":"+W94+X94+Z94","v":82500000},74750000,"2022-01-25","2022-02-02","2023-01-01",330,0,0,null,null,null,null,"En ejecución",{"$f":"IF(ISERROR(AB94/AA94),\"-\",(AB94/AA94))","v":0.90606060606060601}]
["FDLSC-CPS-197-2022",2022,"FDLSC-CD-096-2022","https://community.secop.gov.co/Public/Tendering/OpportunityDetail/Index?noticeUID=CO1.NTC.2719660&isFromPublicArea=True&isModal=true&asPopupView=true","Contratos de prestación de servicios profesionales y de apoyo a la gestión","Contratación directa","Prestación de servicios profesionales y de apoyo a la gestión, o para la ejecución de trabajos artísticos que sólo puedan encomendarse a determinadas personas naturales","PRESTAR SUS SERVICIOS PROFESIONALES PARA LA ARTICULACIÓN, ASISTENCIA Y  ACOMPAÑAMIENTO DE LOS PROCESOS DE PLANEACIÓN LOCAL, PARA LA PROMOCIÓN DE LA PARTICIPACIÓN DE LAS MUJERES Y DE LA EQUIDAD DE GÉNERO, PARA MATERIALIZAR EN LA LOCALIDAD LAS ESTRATEGIAS DE TERRITORIALIZACIÓN Y TRANSVERSALIZACIÓN DE LA POLÍTICA PUBLICA DE MUJERES Y EQUIDAD DE GÉNERO, PPMYEG.","Inversión","Un nuevo contrato social y ambiental para la Bogotá del Siglo XXI",40,{"$f":"IF(ISERROR(VLOOKUP(K95,#REF!,2,FALSE)),\" \",VLOOKUP(K95,#REF!,2,FALSE))","v":" "},{"$f":"IF(ISERROR(VLOOKUP(K95,#REF!,3,FALSE)),\" \",VLOOKUP(K95,#REF!,3,FALSE))","v":" "},1870,0,1024513174,"MONICA ALEJANDRA BERNAL FORIGUA","Persona Natural",null,"N/A","N/A",null,55200000,0,2,27140000,{"$f":"+W95+X95+Z95","v":82340000},68540000,"2022-01-27","2022-02-03","2023-01-30",240,2,118,null,null,null,null,"En ejecución",{"$f":"IF(ISERROR(AB95/AA95),\"-\",(AB95/AA95))","v":0.83240223463687146}]
[null,2022,null,null,"Otros gastos",null,null,"PAGO DE ARL CONTRATISTAS RIESGO IV Y V","Inversión","Un nuevo contrato social y ambiental para la Bogotá del Siglo XXI",57,{"$f":"IF(ISERROR(VLOOKUP(K96,#REF!,2,FALSE)),\" \",VLOOKUP(K96,#REF!,2,FALSE))","v":" "},{"$f":"IF(ISERROR(VLOOKUP(K96,#REF!,3,FALSE)),\" \",VLOOKUP(K96,#REF!,3,FALSE))","v":" "},1873,0,null,null,null,null,null,null,null,80917700,0,0,0,{"$f":"+W96+X96+Z96","v":80917700},80917700,null,null,null,null,null,null,null,null,null,null,null,{"$f":"IF(ISERROR(AB96/AA96),\"-\",(AB96/AA96))","v":1}]
["FDLSC-CPS-017-2022",2022,"FDLSC-CD-010-2022","https://community.secop.gov.co/Public/Tendering/OpportunityDetail/Index?noticeUID=CO1.NTC.2590823&isFromPublicArea=True&isModal=true&asPopupView=true","Contratos de prestación de servicios profesionales y de apoyo a la gestión","Contratación directa","Prestación de servicios profesionales y de apoyo a la gestión, o para la ejecución de trabajos artísticos que sólo puedan encomendarse a determinadas personas naturales","PRESTAR SERVICIOS PROFESIONALES PARA TRAMITAR LAS ETAPAS PRECONTRACTUALES Y CONTRACTUALES DE ACUERDO AL PLAN DE ADQUISICIONES Y AL PLAN DE CONTRATACIÓN QUE ADELANTE EL FONDO DE DESARROLLO LOCAL DE SAN CRISTÓBAL","Inversión","Un nuevo contrato social y ambiental para la Bogotá del Siglo XXI",57,{"$f":"IF(ISERROR(VLOOKUP(K97,#REF!,2,FALSE)),\" \",VLOOKUP(K97,#REF!,2,FALSE))","v":" "},{"$f":"IF(ISERROR(VLOOKUP(K97,#REF!,3,FALSE)),\" \",VLOOKUP(K97,#REF!,3,FALSE))","v":" "},1873,0,1090395548,"ALIDA ANDREA CALDERON OSPINA","Persona Natural",null,"N/A","N/A",null,53600000,0,2,26799999,{"$f":"+W97+X97+Z97","v":80399999},69233333,"2022-01-18","2022-01-21","2023-01-20",240,2,120,null,null,null,null,"En ejecución",{"$f":"IF(ISERROR(AB97/AA97),\"-\",(AB97/AA97))","v":0.86111111767551141}]
["FDLSC-CPS-037-2022",2022,"FDLSC-CD-022-2022","https://community.secop.gov.co/Public/Tendering/OpportunityDetail/Index?noticeUID=CO1.NTC.2604969&isFromPublicArea=True&isModal=true&asPopupView=true","Contratos de prestación de servicios profesionales y de apoyo a la gestión","Contratación directa","Prestación de servicios profesionales y de apoyo a la gestión, o para la ejecución de trabajos artísticos que sólo puedan encomendarse a determinadas personas naturales","PRESTAR SERVICIOS PROFESIONALES PARA APOYO LA REVISIÓN, EN CONTRATACIÓN DEL FONDO DE DESARROLLO LOCAL SAN CRISTÓBAL, EN CUANTO A LA PROYECCIÓN DE LOS DIFERENTES DOCUMENTOS, QUE SE REQUIERAN EN LOS PROCESOS DE CONTRATACIÓN EN LAS ETAPAS PRECONTRACTUAL, CONTRACTUAL Y POSTCONTRACTUALASÍ COMO EN LAS DEMÁS ACTIVIDADES ASIGNADAS, DE CONFORMIDAD CON LAS DIRECTRICES Y POLÍTICAS DE LA ADMINISTRACIÓN LOCAL.","Inversión","Un nuevo contrato social y ambiental para la Bogotá del Siglo XXI",57,{"$f":"IF(ISERROR(VLOOKUP(K98,#REF!,2,FALSE)),\" \",VLOOKUP(K98,#REF!,2,FALSE))","v":" "},{"$f":"IF(ISERROR(VLOOKUP(K98,#REF!,3,FALSE)),\" \",VLOOKUP(K98,#REF!,3,FALSE))","v":" "},1873,0,1053325334,"JOSE LUIS SUAREZ PARRA","Persona Natural",null,"N/A","N/A",null,53600000,0,2,26129999,{"$f":"+W98+X98+Z98","v":79729999},68563333,"2022-01-21","2022-01-24","2023-01-20",240,1,97,null,null,null,null,"En ejecución",{"$f":"IF(ISERROR(AB98/AA98),\"-\",(AB98/AA98))","v":0.85994398419596119}]
["FDLSC-CPS-666-2022",2022,"FDLSC-SAMC-005-2022","https://community.secop.gov.co/Public/Tendering/OpportunityDetail/Index?noticeUID=CO1.NTC.3601213&isFromPublicArea=True&isModal=true&asPopupView=true","Contratos de prestación de servicios","Selección abreviada","Selección abreviada por menor cuantía ","CONTRATAR LOS SERVICIOS DE APOYO LOGÍSTICOS, TRANSPORTE, PUBLICITARIOS, ELEMENTOS DE MERCHANDISING Y CATERING REQUERIDOS PARA EL DESARROLLO OPERATIVO DE LOS EVENTOS LIDERADOS POR LA ALCALDIA LOCAL DE SAN CRISTÓBAL","Inversión","Un nuevo contrato social y ambiental para la Bogotá del Siglo XXI",45,{"$f":"IF(ISERROR(VLOOKUP(K99,#REF!,2,FALSE)),\" \",VLOOKUP(K99,#REF!,2,FALSE))","v":" "},{"$f":"IF(ISERROR(VLOOKUP(K99,#REF!,3,FALSE)),\" \",VLOOKUP(K99,#REF!,3,FALSE))","v":" "},1835,1,900521780,"B2 NETWORKS S A S","Persona Jurídica",null,"N/A","N/A",null,79235989,0,0,0,{"$f":"+W99+X99+Z99","v":79235989},0,"2022-12-28",null,null,180,null,null,null,null,null,null,"Celebrado o por iniciar",{"$f":"IF(ISERROR(AB99/AA99),\"-\",(AB99/AA99))","v":0}]
["FDLSC-CPS-324-2022",2022,"FDLSC-CD-162-2022","https://community.secop.gov.co/Public/Tendering/OpportunityDetail/Index?noticeUID=CO1.NTC.2770350&isFromPublicArea=True&isModal=true&asPopupView=true","Contratos de prestación de servicios profesionales y de apoyo a la gestión","Contratación directa","Prestación de servicios profesionales y de apoyo a la gestión, o para la ejecución de trabajos artísticos que sólo puedan encomendarse a determinadas personas naturales","PRESTAR SUS SERVICIOS PROFESIONALES PARA LA GESTIÓN EN EL AREA DE DESARROLLO LOCAL DE SAN CRISTOBAL, EN EL APOYO DE LA EJECUCIÓN DE OBRAS DIRECTAS CON MAQUINARIA AMARILLA, ASÍ COMO LA FORMULACION, PLANEACION, PRESENTACIÓN Y SEGUIMIENTO DE LOS PROYECTOS DE INFRAESTRUCTURA Y OBRAS CIVILES QUE DESARROLLE LA ENTIDAD, Y EN LOS REQUERMIENTOS DE INFRAESTRUCTURA CIVIL QUE TENGA LA ALCALDIA LOCAL DE SAN CRISTOBAL","Inversión","Un nuevo contrato social y ambiental para la Bogotá del Siglo XXI",49,{"$f":"IF(ISERROR(VLOOKUP(K100,#REF!,2,FALSE)),\" \",VLOOKUP(K100,#REF!,2,FALSE))","v":" "},{"$f":"IF(ISERROR(VLOOKUP(K100,#REF!,3,FALSE)),\" \",VLOOKUP(K100,#REF!,3,FALSE))","v":" "},1871,0,1076646357,"AHYDA ROCIO QUIROGA PIRAQUIVE","Persona Natural",null,"N/A","N/A",null,52800000,0,2,25520000,{"$f":"+W100+X100+Z100","v":78320000},65120000,"2022-01-28","2022-02-05","2023-01-30",240,2,116,null,null,null,null,"En ejecución",{"$f":"IF(ISERROR(AB100/AA100),\"-\",(AB100/AA100))","v":0.8314606741573034}]
["FDLSC-CPS-060-2022",2022,"FDLSC-CD-038-2022","https://community.secop.gov.co/Public/Tendering/OpportunityDetail/Index?noticeUID=CO1.NTC.2610518&isFromPublicArea=True&isModal=true&asPopupView=true","Contratos de prestación de servicios profesionales y de apoyo a la gestión","Contratación directa","Prestación de servicios profesionales y de apoyo a la gestión, o para la ejecución de trabajos artísticos que sólo puedan encomendarse a determinadas personas naturales","PRESTAR    SERVICIOS PROFESIONALES EN EL ÁREA DE GESTIÓN DE DESARROLLO LOCAL PARA LA FORMULACIÓN, EVALUACIÓN, PRESENTACIÓN Y SEGUIMIENTO A PROYECTOS DE INVERSIÓN LOCAL, ASI CÓMO EL APOYO PARA EL REGISTRO DE LOS MISMOS EN LOS DIFERENTES SISTEMAS DE INFORMACIÓN.","Inversión","Un nuevo contrato social y ambiental para la Bogotá del Siglo XXI",57,{"$f":"IF(ISERROR(VLOOKUP(K101,#REF!,2,FALSE)),\" \",VLOOKUP(K101,#REF!,2,FALSE))","v":" "},{"$f":"IF(ISERROR(VLOOKUP(K101,#REF!,3,FALSE)),\" \",VLOOKUP(K101,#REF!,3,FALSE))","v":" "},1873,0,1031150040,"ESTEFANIA MARTINEZ MELO","Persona Natural",null,"N/A","N/A",null,71500000,0,1,6500000,{"$f":"+W101+X101+Z101","v":78000000},66083333,"2022-01-20","2022-01-26","2023-01-25",330,1,30,null,null,null,null,"En ejecución",{"$f":"IF(ISERROR(AB101/AA101),\"-\",(AB101/AA101))","v":0.84722221794871799}]
["FDLSC-CPS-116-2022",2022,"FDLSC-CD-064-2022","https://community.secop.gov.co/Public/Tendering/OpportunityDetail/Index?noticeUID=CO1.NTC.2693451&isFromPublicArea=True&isModal=true&asPopupView=true","Contratos de prestación de servicios profesionales y de apoyo a la gestión","Contratación directa","Prestación de servicios profesionales y de apoyo a la gestión, o para la ejecución de trabajos artísticos que sólo puedan encomendarse a determinadas personas naturales","PRESTAR LOS SERVICIOS PROFESIONALES ESPECIALIZADOS A LA ALCALDÍA LOCAL DE SAN CRISTÓBAL, PARA LA EJECUCIÓN DE LAS ACTIVIDADES Y PROCESOS ADMINISTRATIVOS Y DE CAMPO RELACIONADOS CON LA ATENCIÓN A LA PREVENCIÓN DE LA VIOLENCIA INTRAFAMILIAR, EN EL MARCO DE LAS NECESIDADES DEL FONDO DE DESARROLLO LOCAL.","Inversión","Un nuevo contrato social y ambiental para la Bogotá del Siglo XXI",6,{"$f":"IF(ISERROR(VLOOKUP(K102,#REF!,2,FALSE)),\" \",VLOOKUP(K102,#REF!,2,FALSE))","v":" "},{"$f":"IF(ISERROR(VLOOKUP(K102,#REF!,3,FALSE)),\" \",VLOOKUP(K102,#REF!,3,FALSE))","v":" "},1811,0,1023869235,"ABSELINDA BETANCOURT APONTE","Persona Natural",null,"N/A","N/A",null,77583000,0,0,0,{"$f":"+W102+X102+Z102","v":77583000},41377600,"2022-01-26","2022-02-05","2022-08-02",330,0,0,null,null,null,null,"Terminado",{"$f":"IF(ISERROR(AB102/AA102),\"-\",(AB102/AA102))","v":0.53333333333333333}]
["FDLSC-CPS-185-2022",2022,"FDLSC-CD-087-2022","https://community.secop.gov.co/Public/Tendering/OpportunityDetail/Index?noticeUID=CO1.NTC.2719506&isFromPublicArea=True&isModal=true&asPopupView=true","Contratos de prestación de servicios profesionales y de apoyo a la gestión","Contratación directa","Prestación de servicios profesionales y de apoyo a la gestión, o para la ejecución de trabajos artísticos que sólo puedan encomendarse a determinadas personas naturales","APOYAR AL ALCALDE LOCAL EN LA PROMOCIÓN, ARTICULACIÓN, ACOMPAÑAMIENTO Y  SEGUIMIENTO PARA LA ATENCIÓN Y  PROTECCIÓN DE LOS ANIMALES DOMÉSTICOS Y SILVESTRES DE LA LOCALIDAD.","Inversión","Un nuevo contrato social y ambiental para la Bogotá del Siglo XXI",34,{"$f":"IF(ISERROR(VLOOKUP(K103,#REF!,2,FALSE)),\" \",VLOOKUP(K103,#REF!,2,FALSE))","v":" "},{"$f":"IF(ISERROR(VLOOKUP(K103,#REF!,3,FALSE)),\" \",VLOOKUP(K103,#REF!,3,FALSE))","v":" "},1826,0,52824441,"CRISTHIAN CAMILO CALDERON CARDOZO","Persona Natural",null,"N/A","N/A",null,71500000,0,1,6066667,{"$f":"+W103+X103+Z103","v":77566667},53516666,"2022-01-27","2022-02-04","2023-01-31",330,1,28,80169690,"JUAN PABLO OLMOS CASTRO","2022-06-17",48533334,"En ejecución",{"$f":"IF(ISERROR(AB103/AA103),\"-\",(AB103/AA103))","v":0.68994412251850401}]
[null,2022,null,null,"Otros gastos",null,null,"PAGOS VARIOS POR RESOLUCIONES 1873","Inversión","Un nuevo contrato social y ambiental para la Bogotá del Siglo XXI",57,{"$f":"IF(ISERROR(VLOOKUP(K104,#REF!,2,FALSE)),\" \",VLOOKUP(K104,#REF!,2,FALSE))","v":" "},{"$f":"IF(ISERROR(VLOOKUP(K104,#REF!,3,FALSE)),\" \",VLOOKUP(K104,#REF!,3,FALSE))","v":" "},1873,0,null,null,null,null,null,null,null,76595112,0,0,0,{"$f":"+W104+X104+Z104","v":76595112},76587359,null,null,null,null,null,null,null,null,null,null,null,{"$f":"IF(ISERROR(AB104/AA104),\"-\",(AB104/AA104))","v":0.99989877944169592}]
["FDLSC-CPS-038-2022",2022,"FDLSC-CD-022-2022","https://community.secop.gov.co/Public/Tendering/OpportunityDetail/Index?noticeUID=CO1.NTC.2604969&isFromPublicArea=True&isModal=true&asPopupView=true","Contratos de prestación de servicios profesionales y de apoyo a la gestión","Contratación directa","Prestación de servicios profesionales y de apoyo a la gestión, o para la ejecución de trabajos artísticos que sólo puedan encomendarse a determinadas personas naturales","PRESTAR SERVICIOS PROFESIONALES PARA APOYO LA REVISIÓN, EN CONTRATACIÓN DEL FONDO DE DESARROLLO LOCAL SAN CRISTÓBAL, EN CUANTO A LA PROYECCIÓN DE LOS DIFERENTES DOCUMENTOS, QUE SE REQUIERAN EN LOS PROCESOS DE CONTRATACIÓN EN LAS ETAPAS PRECONTRACTUAL, CONTRACTUAL Y POSTCONTRACTUALASÍ COMO EN LAS DEMÁS ACTIVIDADES ASIGNADAS, DE CONFORMIDAD CON LAS DIRECTRICES Y POLÍTICAS DE LA ADMINISTRACIÓN LOCAL.","Inversión","Un nuevo contrato social y ambiental para la Bogotá del Siglo XXI",57,{"$f":"IF(ISERROR(VLOOKUP(K105,#REF!,2,FALSE)),\" \",VLOOKUP(K105,#REF!,2,FALSE))","v":" "},{"$f":"IF(ISERROR(VLOOKUP(K105,#REF!,3,FALSE)),\" \",VLOOKUP(K105,#REF!,3,FALSE))","v":" "},1873,0,1071302968,"JEIMY ROCIO TORRES HERNANDEZ","Persona Natural",null,"N/A","N/A",null,53600000,0,1,21440000,{"$f":"+W105+X105+Z105","v":75040000},68340000,"2022-01-20","2022-01-25","2022-12-30",240,1,96,null,null,null,null,"Terminado",{"$f":"IF(ISERROR(AB105/AA105),\"-\",(AB105/AA105))","v":0.9107142857142857}]
["FDLSC-CPS-142-2022",2022,"FDLSC-CD-072-2022","https://community.secop.gov.co/Public/Tendering/OpportunityDetail/Index?noticeUID=CO1.NTC.2675641&isFromPublicArea=True&isModal=true&asPopupView=true","Contratos de prestación de servicios profesionales y de apoyo a la gestión","Contratación directa","Prestación de servicios profesionales y de apoyo a la gestión, o para la ejecución de trabajos artísticos que sólo puedan encomendarse a determinadas personas naturales","PRESTAR SUS SERVICIOS PROFESIONALES EN LA DEPURACION DE OBLIGACIONES POR PAGAR, TRAMITE DE PAGOS Y LIQUIDACIÓN DE CONTRATOS, DE CONFORMIDAD CON LAS CONDICIONES Y OBLIGACIONES ESTABLECIDAS POR EL FONDO DE DESARROLLO LOCAL","Inversión","Un nuevo contrato social y ambiental para la Bogotá del Siglo XXI",57,{"$f":"IF(ISERROR(VLOOKUP(K106,#REF!,2,FALSE)),\" \",VLOOKUP(K106,#REF!,2,FALSE))","v":" "},{"$f":"IF(ISERROR(VLOOKUP(K106,#REF!,3,FALSE)),\" \",VLOOKUP(K106,#REF!,3,FALSE))","v":" "},1873,0,79639019,"JAVIER CASTILLO GUERRERO","Persona Natural",null,"N/A","N/A",null,49600000,0,2,24800000,{"$f":"+W106+X106+Z106","v":74400000},62000000,"2022-01-25","2022-02-01","2023-01-30",240,2,120,null,null,null,null,"En ejecución",{"$f":"IF(ISERROR(AB106/AA106),\"-\",(AB106/AA106))","v":0.83333333333333337}]
["FDLSC-CPS-145-2022",2022,"FDLSC-CD-072-2022","https://community.secop.gov.co/Public/Tendering/OpportunityDetail/Index?noticeUID=CO1.NTC.2675641&isFromPublicArea=True&isModal=true&asPopupView=true","Contratos de prestación de servicios profesionales y de apoyo a la gestión","Contratación directa","Prestación de servicios profesionales y de apoyo a la gestión, o para la ejecución de trabajos artísticos que sólo puedan encomendarse a determinadas personas naturales","PRESTAR SUS SERVICIOS PROFESIONALES EN LA DEPURACION DE OBLIGACIONES POR PAGAR, TRAMITE DE PAGOS Y LIQUIDACIÓN DE CONTRATOS, DE CONFORMIDAD CON LAS CONDICIONES Y OBLIGACIONES ESTABLECIDAS POR EL FONDO DE DESARROLLO LOCAL","Inversión","Un nuevo contrato social y ambiental para la Bogotá del Siglo XXI",57,{"$f":"IF(ISERROR(VLOOKUP(K107,#REF!,2,FALSE)),\" \",VLOOKUP(K107,#REF!,2,FALSE))","v":" "},{"$f":"IF(ISERROR(VLOOKUP(K107,#REF!,3,FALSE)),\" \",VLOOKUP(K107,#REF!,3,FALSE))","v":" "},1873,0,79230850,"LUIS JAVIER GOUZY AMORTEGUI","Persona Natural",null,"N/A","N/A",null,49600000,0,2,24800000,{"$f":"+W107+X107+Z107","v":74400000},62000000,"2022-01-26","2022-02-01","2023-01-30",240,1,90,null,null,null,null,"En ejecución",{"$f":"IF(ISERROR(AB107/AA107),\"-\",(AB107/AA107))","v":0.83333333333333337}]
["FDLSC-CPS-012-2022",2022,"FDLSC-CD-006-2022","https://community.secop.gov.co/Public/Tendering/OpportunityDetail/Index?noticeUID=CO1.NTC.2583311&isFromPublicArea=True&isModal=true&asPopupView=true","Contratos de prestación de servicios profesionales y de apoyo a la gestión","Contratación directa","Prestación de servicios profesionales y de apoyo a la gestión, o para la ejecución de trabajos artísticos que sólo puedan encomendarse a determinadas personas naturales","PRESTAR SERVICIOS PROFESIONALES DE APOYO AL ÁREA DE GESTIÓN DEL DEL DESARROLLO LOCAL EN ACTIVIDADES DE CONTRATACIÓN, PARA FORTALECER ETAPAS PRECONTRACTUALES Y CONTRACTUALES QUE ADELANTE LA ADMINISTRACIÓN LOCAL DE SAN CRISTOBAL.","Inversión","Un nuevo contrato social y ambiental para la Bogotá del Siglo XXI",57,{"$f":"IF(ISERROR(VLOOKUP(K108,#REF!,2,FALSE)),\" \",VLOOKUP(K108,#REF!,2,FALSE))","v":" "},{"$f":"IF(ISERROR(VLOOKUP(K108,#REF!,3,FALSE)),\" \",VLOOKUP(K108,#REF!,3,FALSE))","v":" "},1873,0,1019018991,"GINA CATALINA CAMACHO BELTRAN","Persona Natural",null,"N/A","N/A",null,49440000,0,2,24720000,{"$f":"+W108+X108+Z108","v":74160000},54384000,"2022-01-18","2022-01-21","2023-01-20",240,2,100,1010232717,"MARIA FERNANDA GOMEZ CARDONA","2022-03-07",39964000,"En ejecución",{"$f":"IF(ISERROR(AB108/AA108),\"-\",(AB108/AA108))","v":0.73333333333333328}]
["FDLSC-CPS-010-2022",2022,"FDLSC-CD-006-2022","https://community.secop.gov.co/Public/Tendering/OpportunityDetail/Index?noticeUID=CO1.NTC.2583311&isFromPublicArea=True&isModal=true&asPopupView=true","Contratos de prestación de servicios profesionales y de apoyo a la gestión","Contratación directa","Prestación de servicios profesionales y de apoyo a la gestión, o para la ejecución de trabajos artísticos que sólo puedan encomendarse a determinadas personas naturales","PRESTAR SERVICIOS PROFESIONALES DE APOYO AL ÁREA DE GESTIÓN DEL DEL DESARROLLO LOCAL EN ACTIVIDADES DE CONTRATACIÓN, PARA FORTALECER ETAPAS PRECONTRACTUALES Y CONTRACTUALES QUE ADELANTE LA ADMINISTRACIÓN LOCAL DE SAN CRISTOBAL.","Inversión","Un nuevo contrato social y ambiental para la Bogotá del Siglo XXI",57,{"$f":"IF(ISERROR(VLOOKUP(K109,#REF!,2,FALSE)),\" \",VLOOKUP(K109,#REF!,2,FALSE))","v":" "},{"$f":"IF(ISERROR(VLOOKUP(K109,#REF!,3,FALSE)),\" \",VLOOKUP(K109,#REF!,3,FALSE))","v":" "},1873,0,1033698738,"FROYLAN SNAIDER SANCHEZ PIZA","Persona Natural",null,"N/A","N/A",null,49440000,0,2,24720000,{"$f":"+W109+X109+Z109","v":74160000},63036000,"2022-01-18","2022-01-25","2023-01-24",240,2,120,null,null,null,null,"En ejecución",{"$f":"IF(ISERROR(AB109/AA109),\"-\",(AB109/AA109))","v":0.85}]
["FDLSC-CPS-011-2022",2022,"FDLSC-CD-006-2022","https://community.secop.gov.co/Public/Tendering/OpportunityDetail/Index?noticeUID=CO1.NTC.2583311&isFromPublicArea=True&isModal=true&asPopupView=true","Contratos de prestación de servicios profesionales y de apoyo a la gestión","Contratación directa","Prestación de servicios profesionales y de apoyo a la gestión, o para la ejecución de trabajos artísticos que sólo puedan encomendarse a determinadas personas naturales","PRESTAR SERVICIOS PROFESIONALES DE APOYO AL ÁREA DE GESTIÓN DEL DEL DESARROLLO LOCAL EN ACTIVIDADES DE CONTRATACIÓN, PARA FORTALECER ETAPAS PRECONTRACTUALES Y CONTRACTUALES QUE ADELANTE LA ADMINISTRACIÓN LOCAL DE SAN CRISTOBAL.","Inversión","Un nuevo contrato social y ambiental para la Bogotá del Siglo XXI",57,{"$f":"IF(ISERROR(VLOOKUP(K110,#REF!,2,FALSE)),\" \",VLOOKUP(K110,#REF!,2,FALSE))","v":" "},{"$f":"IF(ISERROR(VLOOKUP(K110,#REF!,3,FALSE)),\" \",VLOOKUP(K110,#REF!,3,FALSE))","v":" "},1873,0,80075660,"JOSE BERNARDO GARCIA AGAMEZ","Persona Natural",null,"N/A","N/A",null,49440000,0,2,24720000,{"$f":"+W110+X110+Z110","v":74160000},63654000,"2022-01-18","2022-01-21","2023-01-20",240,1,100,null,null,null,null,"En ejecución",{"$f":"IF(ISERROR(AB110/AA110),\"-\",(AB110/AA110))","v":0.85833333333333328}]
["FDLSC-CPS-123-2022",2022,"FDLSC-CD-091-2022","https://community.secop.gov.co/Public/Tendering/OpportunityDetail/Index?noticeUID=CO1.NTC.2758562&isFromPublicArea=True&isModal=true&asPopupView=true","Contratos de prestación de servicios profesionales y de apoyo a la gestión","Contratación directa","Prestación de servicios profesionales y de apoyo a la gestión, o para la ejecución de trabajos artísticos que sólo puedan encomendarse a determinadas personas naturales","PRESTAR SUS SERVICIOS PROFESIONALES PARA LA GESTIÓN EN EL ÁREA DE DESARROLLO LOCAL DE SAN CRISTÓBAL, EN EL APOYO DE LA FORMULACIÓN, PLANEACIÓN, PRESENTACIÓN Y SEGUIMIENTO DE LOS PROYECTOS DE INFRAESTRUCTURA Y OBRAS CIVILES QUE DESARROLLE LA ENTIDAD, Y EN LOS REQUERIMIENTOS DE INFRAESTRUCTURA CIVIL QUE TENGA LA ALCALDÍA LOCAL DE SAN CRISTÓBAL","Inversión","Un nuevo contrato social y ambiental para la Bogotá del Siglo XXI",49,{"$f":"IF(ISERROR(VLOOKUP(K111,#REF!,2,FALSE)),\" \",VLOOKUP(K111,#REF!,2,FALSE))","v":" "},{"$f":"IF(ISERROR(VLOOKUP(K111,#REF!,3,FALSE)),\" \",VLOOKUP(K111,#REF!,3,FALSE))","v":" "},1871,0,80114000,"JOSE DARIO GAVILANES","Persona Natural",null,"N/A","N/A",null,73700000,0,0,0,{"$f":"+W111+X111+Z111","v":73700000},66776667,"2022-01-28","2022-02-02","2023-01-01",330,0,0,null,null,null,null,"En ejecución",{"$f":"IF(ISERROR(AB111/AA111),\"-\",(AB111/AA111))","v":0.90606061058344645}]
["FDLSC-CPS-043-2022",2022,"FDLSC-CD-027-2022","https://community.secop.gov.co/Public/Tendering/OpportunityDetail/Index?noticeUID=CO1.NTC.2619167&isFromPublicArea=True&isModal=true&asPopupView=true","Contratos de prestación de servicios profesionales y de apoyo a la gestión","Contratación directa","Prestación de servicios profesionales y de apoyo a la gestión, o para la ejecución de trabajos artísticos que sólo puedan encomendarse a determinadas personas naturales","APOYAR AL EQUIPO DE PRENSA Y  COMUNICACIONES DE LA ALCALDÍA LOCAL EN LA REALIZACIÓN Y  PUBLICACIÓN DE CONTENIDOS DE REDES SOCIALES Y  CANALES DE DIVULGACIÓN DIGITAL (SITIO WEB) DE LA ALCALDÍA LOCAL.","Inversión","Un nuevo contrato social y ambiental para la Bogotá del Siglo XXI",57,{"$f":"IF(ISERROR(VLOOKUP(K112,#REF!,2,FALSE)),\" \",VLOOKUP(K112,#REF!,2,FALSE))","v":" "},{"$f":"IF(ISERROR(VLOOKUP(K112,#REF!,3,FALSE)),\" \",VLOOKUP(K112,#REF!,3,FALSE))","v":" "},1873,0,1052389187,"CLAUDIA CAROLINA CHINOME ALVARADO","Persona Natural",null,"N/A","N/A",null,73645000,0,0,0,{"$f":"+W112+X112+Z112","v":73645000},44187000,"2022-01-19","2022-01-26","2023-04-01",330,0,0,null,null,null,null,"En ejecución",{"$f":"IF(ISERROR(AB112/AA112),\"-\",(AB112/AA112))","v":0.6}]
["FDLSC-CPS-072-2022",2022,"FDLSC-CD-043-2022","https://community.secop.gov.co/Public/Tendering/OpportunityDetail/Index?noticeUID=CO1.NTC.2625927&isFromPublicArea=True&isModal=true&asPopupView=true","Contratos de prestación de servicios profesionales y de apoyo a la gestión","Contratación directa","Prestación de servicios profesionales y de apoyo a la gestión, o para la ejecución de trabajos artísticos que sólo puedan encomendarse a determinadas personas naturales","PRESTAR SUS SERVICIOS PROFESIONALES PARA EL FONDO DE DESARROLLO LOCAL DE SAN CRISTOBAL EN LO REFERENTE AL SECTOR HÁBITAT, A LA LUZ DEL PLAN DE DESARROLLO 2021-2024 UN NUEVO CONTRATO AMBIENTAL Y SOCIAL PARA SAN CRISTOBAL","Inversión","Un nuevo contrato social y ambiental para la Bogotá del Siglo XXI",57,{"$f":"IF(ISERROR(VLOOKUP(K113,#REF!,2,FALSE)),\" \",VLOOKUP(K113,#REF!,2,FALSE))","v":" "},{"$f":"IF(ISERROR(VLOOKUP(K113,#REF!,3,FALSE)),\" \",VLOOKUP(K113,#REF!,3,FALSE))","v":" "},1873,0,1023931539,"ANGELICA JOHANNA PATARROYO LONDOÑO","Persona Natural",null,"N/A","N/A",null,66000000,0,1,7600000,{"$f":"+W113+X113+Z113","v":73600000},61400000,"2022-01-21","2022-01-24","2023-02-01",330,1,38,null,null,null,null,"En ejecución",{"$f":"IF(ISERROR(AB113/AA113),\"-\",(AB113/AA113))","v":0.83423913043478259}]
["FDLSC-CPS-346-2022",2022,"FDLSC-CD-171-2022","https://community.secop.gov.co/Public/Tendering/OpportunityDetail/Index?noticeUID=CO1.NTC.2813466&isFromPublicArea=True&isModal=true&asPopupView=true","Contratos de prestación de servicios profesionales y de apoyo a la gestión","Contratación directa","Prestación de servicios profesionales y de apoyo a la gestión, o para la ejecución de trabajos artísticos que sólo puedan encomendarse a determinadas personas naturales","PRESTAR SERVICIOS PROFESIONALES A  LA ALCALDÍA LOCAL DE SAN CRISTÓBAL, BRINDANDO APOYO EN LA EJECUCIÓN OPERATIVA DE LA ESTRATEGIA TERRITORIAL EN ARTICULACIÓN CON LOS PROYECTOS LOCALES EN MATERIA DE SEGURIDAD Y CONVIVENCIA.","Inversión","Un nuevo contrato social y ambiental para la Bogotá del Siglo XXI",43,{"$f":"IF(ISERROR(VLOOKUP(K114,#REF!,2,FALSE)),\" \",VLOOKUP(K114,#REF!,2,FALSE))","v":" "},{"$f":"IF(ISERROR(VLOOKUP(K114,#REF!,3,FALSE)),\" \",VLOOKUP(K114,#REF!,3,FALSE))","v":" "},1824,0,1026273234,"DAVID ALEJANDRO MONTEJO ROA","Persona Natural",null,"N/A","N/A",null,54512000,0,1,18170666,{"$f":"+W114+X114+Z114","v":72682666},65868667,"2022-01-28","2022-02-11","2022-12-30",240,1,80,null,null,null,null,"Terminado",{"$f":"IF(ISERROR(AB114/AA114),\"-\",(AB114/AA114))","v":0.90625001289853624}]
["FDLSC-CPS-014-2022",2022,"FDLSC-CD-008-2022","https://community.secop.gov.co/Public/Tendering/OpportunityDetail/Index?noticeUID=CO1.NTC.2585352&isFromPublicArea=True&isModal=true&asPopupView=true","Contratos de prestación de servicios profesionales y de apoyo a la gestión","Contratación directa","Prestación de servicios profesionales y de apoyo a la gestión, o para la ejecución de trabajos artísticos que sólo puedan encomendarse a determinadas personas naturales","PRESTAR SUS SERVICIOS PROFESIONALES PARA APOYAR LOS TEMAS PRESUPUESTALES EN EL MARCO DEL PLAN DE DESARROLLO 2021-2024.","Inversión","Un nuevo contrato social y ambiental para la Bogotá del Siglo XXI",57,{"$f":"IF(ISERROR(VLOOKUP(K115,#REF!,2,FALSE)),\" \",VLOOKUP(K115,#REF!,2,FALSE))","v":" "},{"$f":"IF(ISERROR(VLOOKUP(K115,#REF!,3,FALSE)),\" \",VLOOKUP(K115,#REF!,3,FALSE))","v":" "},1873,0,1023867248,"DIANA AURORA DUARTE SUAREZ","Persona Natural",null,"N/A","N/A",null,64471000,0,1,7814667,{"$f":"+W115+X115+Z115","v":72285667},60954400,"2022-01-18","2022-01-19","2023-01-28",330,1,40,null,null,null,null,"En ejecución",{"$f":"IF(ISERROR(AB115/AA115),\"-\",(AB115/AA115))","v":0.84324323935476719}]
["FDLSC-CPS-051-2022",2022,"FDLSC-CD-032-2022","https://community.secop.gov.co/Public/Tendering/OpportunityDetail/Index?noticeUID=CO1.NTC.2593579&isFromPublicArea=True&isModal=true&asPopupView=true","Contratos de prestación de servicios profesionales y de apoyo a la gestión","Contratación directa","Prestación de servicios profesionales y de apoyo a la gestión, o para la ejecución de trabajos artísticos que sólo puedan encomendarse a determinadas personas naturales","EL CONTRATISTA PRESTARA SUS SERVICIOS PROFESIONALES AL FONDO DE DESARROLLO LOCAL DE SAN CRISTOBAL EN EL MARCO DEL PLAN DE DESARROLLO 2021- 2024, REALIZANDO LA FORMULACION DE LOS PROYECTOS DE FUNCIONAMIENTO Y SEGUIMIENTO A LOS MISMOS Y LAS DEMAS ACTIVIDADES QUE SE GENEREN.","Inversión","Un nuevo contrato social y ambiental para la Bogotá del Siglo XXI",57,{"$f":"IF(ISERROR(VLOOKUP(K116,#REF!,2,FALSE)),\" \",VLOOKUP(K116,#REF!,2,FALSE))","v":" "},{"$f":"IF(ISERROR(VLOOKUP(K116,#REF!,3,FALSE)),\" \",VLOOKUP(K116,#REF!,3,FALSE))","v":" "},1873,0,53092448,"MONICA ALEXANDRA GOMEZ SARMIENTO","Persona Natural",null,"N/A","N/A",null,66000000,0,1,6000000,{"$f":"+W116+X116+Z116","v":72000000},62000000,"2022-01-19","2022-01-21","2023-01-20",330,1,30,null,null,null,null,"En ejecución",{"$f":"IF(ISERROR(AB116/AA116),\"-\",(AB116/AA116))","v":0.86111111111111116}]
["FDLSC-CPS-144-2022",2022,"FDLSC-CD-072-2022","https://community.secop.gov.co/Public/Tendering/OpportunityDetail/Index?noticeUID=CO1.NTC.2675641&isFromPublicArea=True&isModal=true&asPopupView=true","Contratos de prestación de servicios profesionales y de apoyo a la gestión","Contratación directa","Prestación de servicios profesionales y de apoyo a la gestión, o para la ejecución de trabajos artísticos que sólo puedan encomendarse a determinadas personas naturales","PRESTAR SUS SERVICIOS PROFESIONALES EN LA DEPURACION DE OBLIGACIONES POR PAGAR, TRAMITE DE PAGOS Y LIQUIDACIÓN DE CONTRATOS, DE CONFORMIDAD CON LAS CONDICIONES Y OBLIGACIONES ESTABLECIDAS POR EL FONDO DE DESARROLLO LOCAL","Inversión","Un nuevo contrato social y ambiental para la Bogotá del Siglo XXI",57,{"$f":"IF(ISERROR(VLOOKUP(K117,#REF!,2,FALSE)),\" \",VLOOKUP(K117,#REF!,2,FALSE))","v":" "},{"$f":"IF(ISERROR(VLOOKUP(K117,#REF!,3,FALSE)),\" \",VLOOKUP(K117,#REF!,3,FALSE))","v":" "},1873,0,39632724,"LISSI OVALLE GONZALEZ","Persona Natural",null,"N/A","N/A",null,49600000,0,2,21906666,{"$f":"+W117+X117+Z117","v":71506666},61173333,"2022-01-28","2022-02-05","2023-01-20",240,1,86,null,null,null,null,"En ejecución",{"$f":"IF(ISERROR(AB117/AA117),\"-\",(AB117/AA117))","v":0.85549133279406431}]
["FDLSC-CPS-203-2022",2022,"FDLSC-CD-100-2022","https://community.secop.gov.co/Public/Tendering/OpportunityDetail/Index?noticeUID=CO1.NTC.2745724&isFromPublicArea=True&isModal=true&asPopupView=true","Contratos de prestación de servicios profesionales y de apoyo a la gestión","Contratación directa","Prestación de servicios profesionales y de apoyo a la gestión, o para la ejecución de trabajos artísticos que sólo puedan encomendarse a determinadas personas naturales","PRESTAR SUS SERVICIOS PROFESIONALES EN LA GESTIÓN Y  ACOMPAÑAMIENTO DE LOS PROCESOS E  INSTANCIAS DE PARTICIPACIÓN CIUDADANA DE CONFORMIDAD CON EL MARCO NORMATIVO APLICABLE EN LA MATERIA.","Inversión","Un nuevo contrato social y ambiental para la Bogotá del Siglo XXI",55,{"$f":"IF(ISERROR(VLOOKUP(K118,#REF!,2,FALSE)),\" \",VLOOKUP(K118,#REF!,2,FALSE))","v":" "},{"$f":"IF(ISERROR(VLOOKUP(K118,#REF!,3,FALSE)),\" \",VLOOKUP(K118,#REF!,3,FALSE))","v":" "},1872,0,1013636275,"BEBLIN LORENA BAGUI MINA","Persona Natural",null,"N/A","N/A",null,48000000,0,2,23400000,{"$f":"+W118+X118+Z118","v":71400000},59400000,"2022-01-28","2022-02-04","2023-01-30",240,2,117,null,null,null,null,"En ejecución",{"$f":"IF(ISERROR(AB118/AA118),\"-\",(AB118/AA118))","v":0.83193277310924374}]
["FDLSC-CPS-261-2022",2022,"FDLSC-CD-140-2022","https://community.secop.gov.co/Public/Tendering/OpportunityDetail/Index?noticeUID=CO1.NTC.2735206&isFromPublicArea=True&isModal=true&asPopupView=true","Contratos de prestación de servicios profesionales y de apoyo a la gestión","Contratación directa","Prestación de servicios profesionales y de apoyo a la gestión, o para la ejecución de trabajos artísticos que sólo puedan encomendarse a determinadas personas naturales","PRESTAR SUS SERVICIOS PROFESIONALES EN EL FORTALECIMIENTO INSTITUCIONAL MEDIANTE EL MONITOREO CONTINUO A LAS METAS DEL PLAN DE DESARROLLO LOCAL, Y APOYO A LA ACTUALIZACIÓN, SEGUIMIENTO Y EVALUACIÓN A LOS PROYECTOS DE INVERSIÓN LOCAL.","Inversión","Un nuevo contrato social y ambiental para la Bogotá del Siglo XXI",57,{"$f":"IF(ISERROR(VLOOKUP(K119,#REF!,2,FALSE)),\" \",VLOOKUP(K119,#REF!,2,FALSE))","v":" "},{"$f":"IF(ISERROR(VLOOKUP(K119,#REF!,3,FALSE)),\" \",VLOOKUP(K119,#REF!,3,FALSE))","v":" "},1873,0,1015452339,"LAURA PATRICIA LOPEZ QUIÑONES","Persona Natural",null,"N/A","N/A",null,48000000,0,2,23400000,{"$f":"+W119+X119+Z119","v":71400000},59400000,"2022-01-27","2022-02-04","2023-01-31",240,1,87,null,null,null,null,"En ejecución",{"$f":"IF(ISERROR(AB119/AA119),\"-\",(AB119/AA119))","v":0.83193277310924374}]
["FDLSC-CPS-009-2022",2022,"FDLSC-CD-005-2022","https://community.secop.gov.co/Public/Tendering/OpportunityDetail/Index?noticeUID=CO1.NTC.2603868&isFromPublicArea=True&isModal=true&asPopupView=true","Contratos de prestación de servicios profesionales y de apoyo a la gestión","Contratación directa","Prestación de servicios profesionales y de apoyo a la gestión, o para la ejecución de trabajos artísticos que sólo puedan encomendarse a determinadas personas naturales","PRESTAR LOS SERVICIOS COMO ADMINISTRADOR DE RED EN LO RELACIONADO CON LA PLATAFORMA INFORMATICA Y MEDIOS TECNOLOGICOS DE LA ALCALDIA LOCAL DE SAN CRISTOBAL Y SER EL ENLACE CON LA SECRETARIA DISTRITAL DE GOBIERNO","Inversión","Un nuevo contrato social y ambiental para la Bogotá del Siglo XXI",57,{"$f":"IF(ISERROR(VLOOKUP(K120,#REF!,2,FALSE)),\" \",VLOOKUP(K120,#REF!,2,FALSE))","v":" "},{"$f":"IF(ISERROR(VLOOKUP(K120,#REF!,3,FALSE)),\" \",VLOOKUP(K120,#REF!,3,FALSE))","v":" "},1873,0,1070585045,"JULIETH ANDREA MARTINEZ TOVAR","Persona Natural",null,"N/A","N/A",null,62315000,0,1,7533333,{"$f":"+W120+X120+Z120","v":69848333},58538333,"2022-01-19","2022-01-21","2023-01-20",330,1,40,null,null,null,null,"En ejecución",{"$f":"IF(ISERROR(AB120/AA120),\"-\",(AB120/AA120))","v":0.83807773909221284}]
[null,2022,null,null,"Otros gastos",null,null,"FACTURA PAGO DE SERVICIO DE ELECTRICIDAD","Funcionamiento","Un nuevo contrato social y ambiental para la Bogotá del Siglo XXI","No aplica",{"$f":"IF(ISERROR(VLOOKUP(K121,#REF!,2,FALSE)),\" \",VLOOKUP(K121,#REF!,2,FALSE))","v":" "},{"$f":"IF(ISERROR(VLOOKUP(K121,#REF!,3,FALSE)),\" \",VLOOKUP(K121,#REF!,3,FALSE))","v":" "},"6312\n",0,null,null,null,null,null,null,null,68063682,0,0,0,{"$f":"+W121+X121+Z121","v":68063682},67566162,null,null,null,null,null,null,null,null,null,null,null,{"$f":"IF(ISERROR(AB121/AA121),\"-\",(AB121/AA121))","v":0.99269037487569367}]
["FDLSC-CPS-100-2022",2022,"FDLSC-CD-060-2022","https://community.secop.gov.co/Public/Tendering/OpportunityDetail/Index?noticeUID=CO1.NTC.2695812&isFromPublicArea=True&isModal=true&asPopupView=true","Contratos de prestación de servicios profesionales y de apoyo a la gestión","Contratación directa","Prestación de servicios profesionales y de apoyo a la gestión, o para la ejecución de trabajos artísticos que sólo puedan encomendarse a determinadas personas naturales","PRESTAR LOS SERVICIOS PROFESIONALES A  LA ALCALDÍA LOCAL DE SAN CRISTÓBALPARA LA EJECUCIÓN DE LAS ACTIVIDADES, PROCESOS ADMINISTRATIVOS Y DE CAMPO RELACIONADOS CON LA REACTIVACIÓN ECONÓMICA EN EL MARCO DE LAS NECESIDADES DEL FONDO DE DESARROLLO LOCAL Y DINAMIZACIÓN PARA LA EJECUCIÓN DE LOS PROYECTOS QUE HACEN PARTE DEL PLAN DE DESARROLLO.","Inversión","Un nuevo contrato social y ambiental para la Bogotá del Siglo XXI",57,{"$f":"IF(ISERROR(VLOOKUP(K122,#REF!,2,FALSE)),\" \",VLOOKUP(K122,#REF!,2,FALSE))","v":" "},{"$f":"IF(ISERROR(VLOOKUP(K122,#REF!,3,FALSE)),\" \",VLOOKUP(K122,#REF!,3,FALSE))","v":" "},1873,0,79971383,"OSWALDO JAVIER SANCHEZ SOLER","Persona Natural",null,"N/A","N/A",null,49400000,0,1,17922000,{"$f":"+W122+X122+Z122","v":67322000},60770000,"2022-01-26","2022-02-04","2022-12-30",240,1,87,null,null,null,null,"Terminado",{"$f":"IF(ISERROR(AB122/AA122),\"-\",(AB122/AA122))","v":0.90267668815543212}]
["FDLSC-CPS-103-2022",2022,"FDLSC-CD-003-2022","https://community.secop.gov.co/Public/Tendering/OpportunityDetail/Index?noticeUID=CO1.NTC.2590234&isFromPublicArea=True&isModal=true&asPopupView=true","Contratos de prestación de servicios profesionales y de apoyo a la gestión","Contratación directa","Prestación de servicios profesionales y de apoyo a la gestión, o para la ejecución de trabajos artísticos que sólo puedan encomendarse a determinadas personas naturales","APOYAR JURÍDICAMENTE LA EJECUCIÓN DE LAS ACCIONES REQUERIDAS PARA LA DEPURACIÓN DE LAS ACTUACIONES ADMINISTRATIVAS QUE CURSAN EN LA ALCALDÍA LOCAL.","Inversión","Un nuevo contrato social y ambiental para la Bogotá del Siglo XXI",57,{"$f":"IF(ISERROR(VLOOKUP(K123,#REF!,2,FALSE)),\" \",VLOOKUP(K123,#REF!,2,FALSE))","v":" "},{"$f":"IF(ISERROR(VLOOKUP(K123,#REF!,3,FALSE)),\" \",VLOOKUP(K123,#REF!,3,FALSE))","v":" "},1873,0,79890536,"OMAR ALBERTO IBAÑEZ JIMENEZ","Persona Natural",null,"N/A","N/A",null,44000000,0,2,22000000,{"$f":"+W123+X123+Z123","v":66000000},56100000,"2022-01-21","2022-01-25","2023-01-24",240,2,120,null,null,null,null,"En ejecución",{"$f":"IF(ISERROR(AB123/AA123),\"-\",(AB123/AA123))","v":0.85}]
["FDLSC-CPS-108-2022",2022,"FDLSC-CD-003-2022","https://community.secop.gov.co/Public/Tendering/OpportunityDetail/Index?noticeUID=CO1.NTC.2590234&isFromPublicArea=True&isModal=true&asPopupView=true","Contratos de prestación de servicios profesionales y de apoyo a la gestión","Contratación directa","Prestación de servicios profesionales y de apoyo a la gestión, o para la ejecución de trabajos artísticos que sólo puedan encomendarse a determinadas personas naturales","APOYAR JURÍDICAMENTE LA EJECUCIÓN DE LAS ACCIONES REQUERIDAS PARA LA DEPURACIÓN DE LAS ACTUACIONES ADMINISTRATIVAS QUE CURSAN EN LA ALCALDÍA LOCAL.","Inversión","Un nuevo contrato social y ambiental para la Bogotá del Siglo XXI",57,{"$f":"IF(ISERROR(VLOOKUP(K124,#REF!,2,FALSE)),\" \",VLOOKUP(K124,#REF!,2,FALSE))","v":" "},{"$f":"IF(ISERROR(VLOOKUP(K124,#REF!,3,FALSE)),\" \",VLOOKUP(K124,#REF!,3,FALSE))","v":" "},1873,0,79812331,"DIEGO FERNEY CHILITO ALVARADO","Persona Natural",null,"N/A","N/A",null,44000000,0,2,22000000,{"$f":"+W124+X124+Z124","v":66000000},56100000,"2022-01-24","2022-01-25","2023-01-24",240,1,96,null,null,null,null,"En ejecución",{"$f":"IF(ISERROR(AB124/AA124),\"-\",(AB124/AA124))","v":0.85}]
["FDLSC-CPS-003-2022",2022,"FDLSC-CD-003-2022","https://community.secop.gov.co/Public/Tendering/OpportunityDetail/Index?noticeUID=CO1.NTC.2590234&isFromPublicArea=True&isModal=true&asPopupView=true","Contratos de prestación de servicios profesionales y de apoyo a la gestión","Contratación directa","Prestación de servicios profesionales y de apoyo a la gestión, o para la ejecución de trabajos artísticos que sólo puedan encomendarse a determinadas personas naturales","APOYAR JURÍDICAMENTE LA EJECUCIÓN DE LAS ACCIONES REQUERIDAS PARA LA DEPURACIÓN DE LAS ACTUACIONES ADMINISTRATIVAS QUE CURSAN EN LA ALCALDÍA LOCAL.","Inversión","Un nuevo contrato social y ambiental para la Bogotá del Siglo XXI",57,{"$f":"IF(ISERROR(VLOOKUP(K125,#REF!,2,FALSE)),\" \",VLOOKUP(K125,#REF!,2,FALSE))","v":" "},{"$f":"IF(ISERROR(VLOOKUP(K125,#REF!,3,FALSE)),\" \",VLOOKUP(K125,#REF!,3,FALSE))","v":" "},1873,0,80419632,"DANIEL MUNEVAR MUNEVAR","Persona Natural",null,"N/A","N/A",null,44000000,0,2,22000000,{"$f":"+W125+X125+Z125","v":66000000},57200000,"2022-01-18","2022-01-19","2023-01-18",240,2,204,null,null,null,null,"En ejecución",{"$f":"IF(ISERROR(AB125/AA125),\"-\",(AB125/AA125))","v":0.8666666666666667}]
["FDLSC-CPS-007-2022",2022,"FDLSC-CD-003-2022","https://community.secop.gov.co/Public/Tendering/OpportunityDetail/Index?noticeUID=CO1.NTC.2590234&isFromPublicArea=True&isModal=true&asPopupView=true","Contratos de prestación de servicios profesionales y de apoyo a la gestión","Contratación directa","Prestación de servicios profesionales y de apoyo a la gestión, o para la ejecución de trabajos artísticos que sólo puedan encomendarse a determinadas personas naturales","APOYAR JURÍDICAMENTE LA EJECUCIÓN DE LAS ACCIONES REQUERIDAS PARA LA DEPURACIÓN DE LAS ACTUACIONES ADMINISTRATIVAS QUE CURSAN EN LA ALCALDÍA LOCAL.","Inversión","Un nuevo contrato social y ambiental para la Bogotá del Siglo XXI",57,{"$f":"IF(ISERROR(VLOOKUP(K126,#REF!,2,FALSE)),\" \",VLOOKUP(K126,#REF!,2,FALSE))","v":" "},{"$f":"IF(ISERROR(VLOOKUP(K126,#REF!,3,FALSE)),\" \",VLOOKUP(K126,#REF!,3,FALSE))","v":" "},1873,0,51755468,"NUBIA ALCIRA SACRISTAN PIÑEROS","Persona Natural",null,"N/A","N/A",null,44000000,0,2,22000000,{"$f":"+W126+X126+Z126","v":66000000},57200000,"2022-01-18","2022-01-19","2023-01-18",240,2,204,null,null,null,null,"En ejecución",{"$f":"IF(ISERROR(AB126/AA126),\"-\",(AB126/AA126))","v":0.8666666666666667}]
["FDLSC-CPS-097-2022",2022,"FDLSC-CD-058-2022","https://community.secop.gov.co/Public/Tendering/OpportunityDetail/Index?noticeUID=CO1.NTC.2649102&isFromPublicArea=True&isModal=true&asPopupView=true","Contratos de prestación de servicios profesionales y de apoyo a la gestión","Contratación directa","Prestación de servicios profesionales y de apoyo a la gestión, o para la ejecución de trabajos artísticos que sólo puedan encomendarse a determinadas personas naturales","PRESTAR SUS SERVICIOS PROFESIONALES ESPECIALIZADOS EN EL ÁREA DE GESTIÓN PARA EL DESARROLLO LOCAL PARA EL FORTALECIMIENTO DE LA FUNCIÓN ADMINISTRATIVA Y DESARROLLO INSTITUCIONAL DEL COMPONENTE SOCIAL EN CUMPLIMIENTO A LAS METAS ESTABLECIDAS EN EL PLAN DE DESARROLLO LOCAL 2021-2024","Inversión","Un nuevo contrato social y ambiental para la Bogotá del Siglo XXI",57,{"$f":"IF(ISERROR(VLOOKUP(K127,#REF!,2,FALSE)),\" \",VLOOKUP(K127,#REF!,2,FALSE))","v":" "},{"$f":"IF(ISERROR(VLOOKUP(K127,#REF!,3,FALSE)),\" \",VLOOKUP(K127,#REF!,3,FALSE))","v":" "},1873,0,51895879,"ALEJANDRA JARAMILLO FERNANDEZ","Persona Natural",null,"N/A","N/A",null,65920000,0,0,0,{"$f":"+W127+X127+Z127","v":65920000},59053333,"2022-01-24","2022-01-26","2022-09-25",240,0,0,null,null,null,null,"Terminado",{"$f":"IF(ISERROR(AB127/AA127),\"-\",(AB127/AA127))","v":0.89583332827669904}]
[null,2022,null,null,"Otros gastos",null,null,"FACTURA PAGO DE SERVICIO DE ASEO, ACUEODUCTO Y ALCANTARILLADO","Funcionamiento","Un nuevo contrato social y ambiental para la Bogotá del Siglo XXI","No aplica",{"$f":"IF(ISERROR(VLOOKUP(K128,#REF!,2,FALSE)),\" \",VLOOKUP(K128,#REF!,2,FALSE))","v":" "},{"$f":"IF(ISERROR(VLOOKUP(K128,#REF!,3,FALSE)),\" \",VLOOKUP(K128,#REF!,3,FALSE))","v":" "},"0004\n",0,null,null,null,null,null,null,null,65967958,{"$f":"-89328","v":-89328},0,0,{"$f":"+W128+X128+Z128","v":65878630},39015259,null,null,null,null,null,null,null,null,null,null,null,{"$f":"IF(ISERROR(AB128/AA128),\"-\",(AB128/AA128))","v":0.59222936178241714}]
["FDLSC-CPS-202-2022",2022,"FDLSC-CD-100-2022","https://community.secop.gov.co/Public/Tendering/OpportunityDetail/Index?noticeUID=CO1.NTC.2745724&isFromPublicArea=True&isModal=true&asPopupView=true","Contratos de prestación de servicios profesionales y de apoyo a la gestión","Contratación directa","Prestación de servicios profesionales y de apoyo a la gestión, o para la ejecución de trabajos artísticos que sólo puedan encomendarse a determinadas personas naturales","PRESTAR SUS SERVICIOS PROFESIONALES EN LA GESTIÓN Y  ACOMPAÑAMIENTO DE LOS PROCESOS E  INSTANCIAS DE PARTICIPACIÓN CIUDADANA DE CONFORMIDAD CON EL MARCO NORMATIVO APLICABLE EN LA MATERIA.","Inversión","Un nuevo contrato social y ambiental para la Bogotá del Siglo XXI",55,{"$f":"IF(ISERROR(VLOOKUP(K129,#REF!,2,FALSE)),\" \",VLOOKUP(K129,#REF!,2,FALSE))","v":" "},{"$f":"IF(ISERROR(VLOOKUP(K129,#REF!,3,FALSE)),\" \",VLOOKUP(K129,#REF!,3,FALSE))","v":" "},1872,0,79746593,"CARLOS ALBERTO RIOS MONROY","Persona Natural",null,"N/A","N/A",null,48000000,0,1,17600000,{"$f":"+W129+X129+Z129","v":65600000},59600000,"2022-01-27","2022-02-03","2022-12-30",240,1,88,null,null,null,null,"Terminado",{"$f":"IF(ISERROR(AB129/AA129),\"-\",(AB129/AA129))","v":0.90853658536585369}]
["FDLSC-CPS-227-2022",2022,"FDLSC-CD-113-2022","https://community.secop.gov.co/Public/Tendering/OpportunityDetail/Index?noticeUID=CO1.NTC.2736612&isFromPublicArea=True&isModal=true&asPopupView=true","Contratos de prestación de servicios profesionales y de apoyo a la gestión","Contratación directa","Prestación de servicios profesionales y de apoyo a la gestión, o para la ejecución de trabajos artísticos que sólo puedan encomendarse a determinadas personas naturales","APOYAR AL EQUIPO DE PRENSA Y COMUNICACIONES DE LA ALCALDÍA LOCAL EN LA CREACIÓN, REALIZACIÓN, PRODUCCIÓN Y EDICIÓN DE VÍDEOS, ASÍ COMO EL REGISTRO, EDICIÓN Y LA PRESENTACIÓN DE FOTOGRAFÍAS DE LOS ACONTECIMIENTOS, HECHOS Y EVENTOS EXTERNOS E INTERNOS DE LA ALCALDÍA LOCAL, PARA SER UTILIZADOS COMO INSUMOS DE COMUNICACIÓN EN LOS MEDIOS, ESPECIALMENTE ESCRITOS, DIGITALES Y AUDIOVISUALES.","Inversión","Un nuevo contrato social y ambiental para la Bogotá del Siglo XXI",57,{"$f":"IF(ISERROR(VLOOKUP(K130,#REF!,2,FALSE)),\" \",VLOOKUP(K130,#REF!,2,FALSE))","v":" "},{"$f":"IF(ISERROR(VLOOKUP(K130,#REF!,3,FALSE)),\" \",VLOOKUP(K130,#REF!,3,FALSE))","v":" "},1873,0,1018472943,"ANDRES FELIPE HURTATIZ RAMIREZ","Persona Natural",null,"N/A","N/A",null,44000000,0,2,21450000,{"$f":"+W130+X130+Z130","v":65450000},53716667,"2022-01-28","2022-02-04","2023-01-30",240,2,117,1020746027,"JUAN CAMILO BARRIOS GOMEZ","2022-07-23",13016667,"En ejecución",{"$f":"IF(ISERROR(AB130/AA130),\"-\",(AB130/AA130))","v":0.82072829640947287}]
["FDLSC-CPS-204-2022",2022,"FDLSC-CD-100-2022","https://community.secop.gov.co/Public/Tendering/OpportunityDetail/Index?noticeUID=CO1.NTC.2745724&isFromPublicArea=True&isModal=true&asPopupView=true","Contratos de prestación de servicios profesionales y de apoyo a la gestión","Contratación directa","Prestación de servicios profesionales y de apoyo a la gestión, o para la ejecución de trabajos artísticos que sólo puedan encomendarse a determinadas personas naturales","PRESTAR SUS SERVICIOS PROFESIONALES EN LA GESTIÓN Y  ACOMPAÑAMIENTO DE LOS PROCESOS E  INSTANCIAS DE PARTICIPACIÓN CIUDADANA DE CONFORMIDAD CON EL MARCO NORMATIVO APLICABLE EN LA MATERIA.","Inversión","Un nuevo contrato social y ambiental para la Bogotá del Siglo XXI",55,{"$f":"IF(ISERROR(VLOOKUP(K131,#REF!,2,FALSE)),\" \",VLOOKUP(K131,#REF!,2,FALSE))","v":" "},{"$f":"IF(ISERROR(VLOOKUP(K131,#REF!,3,FALSE)),\" \",VLOOKUP(K131,#REF!,3,FALSE))","v":" "},1872,0,1032419460,"MARTHA ESPERANZA ROMERO NIÑO","Persona Natural",null,"N/A","N/A",null,48000000,0,1,17400000,{"$f":"+W131+X131+Z131","v":65400000},59400000,"2022-01-28","2022-02-04","2022-12-30",240,1,87,null,null,null,null,"Terminado",{"$f":"IF(ISERROR(AB131/AA131),\"-\",(AB131/AA131))","v":0.90825688073394495}]
["FDLSC-CPS-223-2022",2022,"FDLSC-CD-110-2022","https://community.secop.gov.co/Public/Tendering/OpportunityDetail/Index?noticeUID=CO1.NTC.2707760&isFromPublicArea=True&isModal=true&asPopupView=true","Contratos de prestación de servicios profesionales y de apoyo a la gestión","Contratación directa","Prestación de servicios profesionales y de apoyo a la gestión, o para la ejecución de trabajos artísticos que sólo puedan encomendarse a determinadas personas naturales","PRESTAR SUS SERVICIOS PROFESIONALES DE APOYO A LA CASA DEL CONSUMIDOR EN LAS ACTUACIONES TÉCNICAS Y ADMINISTRATIVAS EN EL MARCO DEL CONVENIO INTERADMINISTRATIVO 1258 DE 2016","Inversión","Un nuevo contrato social y ambiental para la Bogotá del Siglo XXI",57,{"$f":"IF(ISERROR(VLOOKUP(K132,#REF!,2,FALSE)),\" \",VLOOKUP(K132,#REF!,2,FALSE))","v":" "},{"$f":"IF(ISERROR(VLOOKUP(K132,#REF!,3,FALSE)),\" \",VLOOKUP(K132,#REF!,3,FALSE))","v":" "},1873,0,16284289,"ALVARO ENRIQUE TASCON VALENCIA","Persona Natural",null,"N/A","N/A",null,44000000,0,2,20900000,{"$f":"+W132+X132+Z132","v":64900000},53900000,"2022-01-27","2022-02-07","2023-01-30",240,2,114,null,null,null,null,"En ejecución",{"$f":"IF(ISERROR(AB132/AA132),\"-\",(AB132/AA132))","v":0.83050847457627119}]
["FDLSC-CPS-319-2022",2022,"FDLSC-CD-003-2022","https://community.secop.gov.co/Public/Tendering/OpportunityDetail/Index?noticeUID=CO1.NTC.2719871&isFromPublicArea=True&isModal=true&asPopupView=true","Contratos de prestación de servicios profesionales y de apoyo a la gestión","Contratación directa","Prestación de servicios profesionales y de apoyo a la gestión, o para la ejecución de trabajos artísticos que sólo puedan encomendarse a determinadas personas naturales","APOYAR JURÍDICAMENTE LA EJECUCIÓN DE LAS ACCIONES REQUERIDAS PARA LA DEPURACIÓN DE LAS ACTUACIONES ADMINISTRATIVAS QUE CURSAN EN LA ALCALDÍA LOCAL.","Inversión","Un nuevo contrato social y ambiental para la Bogotá del Siglo XXI",57,{"$f":"IF(ISERROR(VLOOKUP(K133,#REF!,2,FALSE)),\" \",VLOOKUP(K133,#REF!,2,FALSE))","v":" "},{"$f":"IF(ISERROR(VLOOKUP(K133,#REF!,3,FALSE)),\" \",VLOOKUP(K133,#REF!,3,FALSE))","v":" "},1873,0,1031122064,"EDWARD LEONARDO GUEVARA GOMEZ","Persona Natural",null,"N/A","N/A",null,44000000,0,2,20900000,{"$f":"+W133+X133+Z133","v":64900000},53900000,"2022-01-28","2022-02-07","2023-01-30",240,2,114,null,null,null,null,"En ejecución",{"$f":"IF(ISERROR(AB133/AA133),\"-\",(AB133/AA133))","v":0.83050847457627119}]
["FDLSC-CPS-059-2022",2022,"FDLSC-CD-037-2022","https://community.secop.gov.co/Public/Tendering/OpportunityDetail/Index?noticeUID=CO1.NTC.2685913&isFromPublicArea=True&isModal=true&asPopupView=true","Contratos de prestación de servicios profesionales y de apoyo a la gestión","Contratación directa","Prestación de servicios profesionales y de apoyo a la gestión, o para la ejecución de trabajos artísticos que sólo puedan encomendarse a determinadas personas naturales","PRESTAR SERVICIOS PROFESIONALES EN EL ÁREA DE GESTIÓN DE DESARROLLO LOCAL PARA LA FORMULACIÓN, EVALUACIÓN, PRESENTACIÓN Y SEGUIMIENTO A PROYECTOS DE INVERSIÓN LOCAL Y APOYAR LAS ACTIVIDADES DE PLANEACIÓN EN TEMAS ADMINISTRATIVOS Y EN LOS PROYECTOS DE INVERSIÓN LOCAL","Inversión","Un nuevo contrato social y ambiental para la Bogotá del Siglo XXI",57,{"$f":"IF(ISERROR(VLOOKUP(K134,#REF!,2,FALSE)),\" \",VLOOKUP(K134,#REF!,2,FALSE))","v":" "},{"$f":"IF(ISERROR(VLOOKUP(K134,#REF!,3,FALSE)),\" \",VLOOKUP(K134,#REF!,3,FALSE))","v":" "},1873,0,1022326785,"LAURA ANDREA CUESTA VILLATE","Persona Natural",null,"N/A","N/A",null,59400000,0,1,5040000,{"$f":"+W134+X134+Z134","v":64440000},53640000,"2022-01-25","2022-02-03","2023-01-30",330,1,28,null,null,null,null,"En ejecución",{"$f":"IF(ISERROR(AB134/AA134),\"-\",(AB134/AA134))","v":0.83240223463687146}]
["FDLSC-CPS-025-2022",2022,"FDLSC-CD-016-2022","https://community.secop.gov.co/Public/Tendering/OpportunityDetail/Index?noticeUID=CO1.NTC.2618789&isFromPublicArea=True&isModal=true&asPopupView=true","Contratos de prestación de servicios profesionales y de apoyo a la gestión","Contratación directa","Prestación de servicios profesionales y de apoyo a la gestión, o para la ejecución de trabajos artísticos que sólo puedan encomendarse a determinadas personas naturales","PRESTAR SERVICIOS PROFESIONALES PARA APOYO A REVISIÓN JURÍDICA EN CONTRATACIÓN DE LA ALCALDÍA LOCAL SAN CRISTÓBAL, EN LA PROYECCIÓN DE LOS DIFERENTES DOCUMENTOS QUE SE REQUIERAN EN LOS PROCESOS DE CONTRATACIÓN EN LAS ETAPAS PRECONTRACTUAL, CONTRACTUAL Y POST CONTRACTUAL, ASÍ COMO EN LAS DEMÁS ACTIVIDADES ASIGNADAS, DE CONFORMIDAD CON LAS DIRECTRICES Y POLÍTICAS DE LA ADMINISTRACIÓN LOCAL.","Inversión","Un nuevo contrato social y ambiental para la Bogotá del Siglo XXI",57,{"$f":"IF(ISERROR(VLOOKUP(K135,#REF!,2,FALSE)),\" \",VLOOKUP(K135,#REF!,2,FALSE))","v":" "},{"$f":"IF(ISERROR(VLOOKUP(K135,#REF!,3,FALSE)),\" \",VLOOKUP(K135,#REF!,3,FALSE))","v":" "},1873,0,1057785620,"ESTEFANIA CASALLAS RIAÑO","Persona Natural",null,"N/A","N/A",null,41376000,0,2,20688000,{"$f":"+W135+X135+Z135","v":62064000},52926800,"2022-01-21","2022-01-24","2023-01-23",240,2,120,null,null,null,null,"En ejecución",{"$f":"IF(ISERROR(AB135/AA135),\"-\",(AB135/AA135))","v":0.85277777777777775}]
["FDLSC-CPS-026-2022",2022,"FDLSC-CD-016-2022","https://community.secop.gov.co/Public/Tendering/OpportunityDetail/Index?noticeUID=CO1.NTC.2618789&isFromPublicArea=True&isModal=true&asPopupView=true","Contratos de prestación de servicios profesionales y de apoyo a la gestión","Contratación directa","Prestación de servicios profesionales y de apoyo a la gestión, o para la ejecución de trabajos artísticos que sólo puedan encomendarse a determinadas personas naturales","PRESTAR SERVICIOS PROFESIONALES PARA APOYO A REVISIÓN JURÍDICA EN CONTRATACIÓN DE LA ALCALDÍA LOCAL SAN CRISTÓBAL, EN LA PROYECCIÓN DE LOS DIFERENTES DOCUMENTOS QUE SE REQUIERAN EN LOS PROCESOS DE CONTRATACIÓN EN LAS ETAPAS PRECONTRACTUAL, CONTRACTUAL Y POST CONTRACTUAL, ASÍ COMO EN LAS DEMÁS ACTIVIDADES ASIGNADAS, DE CONFORMIDAD CON LAS DIRECTRICES Y POLÍTICAS DE LA ADMINISTRACIÓN LOCAL.","Inversión","Un nuevo contrato social y ambiental para la Bogotá del Siglo XXI",57,{"$f":"IF(ISERROR(VLOOKUP(K136,#REF!,2,FALSE)),\" \",VLOOKUP(K136,#REF!,2,FALSE))","v":" "},{"$f":"IF(ISERROR(VLOOKUP(K136,#REF!,3,FALSE)),\" \",VLOOKUP(K136,#REF!,3,FALSE))","v":" "},1873,0,1016094734,"LAURA ESTEFANIA PINZÓN QUIROGA","Persona Natural",null,"N/A","N/A",null,41376000,0,2,20688000,{"$f":"+W136+X136+Z136","v":62064000},52926800,"2022-01-19","2022-01-24","2023-01-23",240,2,120,null,null,null,null,"En ejecución",{"$f":"IF(ISERROR(AB136/AA136),\"-\",(AB136/AA136))","v":0.85277777777777775}]
["FDLSC-CPS-169-2022",2022,"FDLSC-CD-081-2022","https://community.secop.gov.co/Public/Tendering/OpportunityDetail/Index?noticeUID=CO1.NTC.2681054&isFromPublicArea=True&isModal=true&asPopupView=true","Contratos de prestación de servicios profesionales y de apoyo a la gestión","Contratación directa","Prestación de servicios profesionales y de apoyo a la gestión, o para la ejecución de trabajos artísticos que sólo puedan encomendarse a determinadas personas naturales","APOYAR JURÍDICAMENTE LA EJECUCIÓN DE LAS ACCIONES REQUERIDAS PARA EL TRÁMITE E IMPULSO PROCESAL DE LAS ACTUACIONES CONTRAVENCIONALES Y/O QUERELLAS QUE CURSEN EN LAS INSPECCIONES DE POLICÍA DE LA LOCALIDAD","Inversión","Un nuevo contrato social y ambiental para la Bogotá del Siglo XXI",57,{"$f":"IF(ISERROR(VLOOKUP(K137,#REF!,2,FALSE)),\" \",VLOOKUP(K137,#REF!,2,FALSE))","v":" "},{"$f":"IF(ISERROR(VLOOKUP(K137,#REF!,3,FALSE)),\" \",VLOOKUP(K137,#REF!,3,FALSE))","v":" "},1873,0,1090425332,"ALEXANDRA GARCIA RODRIGUEZ","Persona Natural",null,"N/A","N/A",null,45320000,0,1,16617333,{"$f":"+W137+X137+Z137","v":61937333},56272333,"2022-01-25","2022-02-03","2022-12-30",240,1,88,null,null,null,null,"Terminado",{"$f":"IF(ISERROR(AB137/AA137),\"-\",(AB137/AA137))","v":0.90853658487361733}]
["FDLSC-CPS-170-2022",2022,"FDLSC-CD-081-2022","https://community.secop.gov.co/Public/Tendering/OpportunityDetail/Index?noticeUID=CO1.NTC.2681054&isFromPublicArea=True&isModal=true&asPopupView=true","Contratos de prestación de servicios profesionales y de apoyo a la gestión","Contratación directa","Prestación de servicios profesionales y de apoyo a la gestión, o para la ejecución de trabajos artísticos que sólo puedan encomendarse a determinadas personas naturales","APOYAR JURÍDICAMENTE LA EJECUCIÓN DE LAS ACCIONES REQUERIDAS PARA EL TRÁMITE E IMPULSO PROCESAL DE LAS ACTUACIONES CONTRAVENCIONALES Y/O QUERELLAS QUE CURSEN EN LAS INSPECCIONES DE POLICÍA DE LA LOCALIDAD","Inversión","Un nuevo contrato social y ambiental para la Bogotá del Siglo XXI",57,{"$f":"IF(ISERROR(VLOOKUP(K138,#REF!,2,FALSE)),\" \",VLOOKUP(K138,#REF!,2,FALSE))","v":" "},{"$f":"IF(ISERROR(VLOOKUP(K138,#REF!,3,FALSE)),\" \",VLOOKUP(K138,#REF!,3,FALSE))","v":" "},1873,0,1030641485,"DANIEL ALBERTO INFANTE SANCHEZ","Persona Natural",null,"N/A","N/A",null,45320000,0,1,16617333,{"$f":"+W138+X138+Z138","v":61937333},56272333,"2022-01-28","2022-02-03","2022-12-30",240,1,88,null,null,null,null,"Terminado",{"$f":"IF(ISERROR(AB138/AA138),\"-\",(AB138/AA138))","v":0.90853658487361733}]
["FDLSC-CPS-173-2022",2022,"FDLSC-CD-082-2022","https://community.secop.gov.co/Public/Tendering/OpportunityDetail/Index?noticeUID=CO1.NTC.2681345&isFromPublicArea=True&isModal=true&asPopupView=true","Contratos de prestación de servicios profesionales y de apoyo a la gestión","Contratación directa","Prestación de servicios profesionales y de apoyo a la gestión, o para la ejecución de trabajos artísticos que sólo puedan encomendarse a determinadas personas naturales","APOYAR TÉCNICAMENTE LAS DISTINTAS ETAPAS DE LOS PROCESOS DE COMPETENCIA DE LAS INSPECCIONES DE POLICÍA DE LA LOCALIDAD, SEGÚN REPARTO.","Inversión","Un nuevo contrato social y ambiental para la Bogotá del Siglo XXI",57,{"$f":"IF(ISERROR(VLOOKUP(K139,#REF!,2,FALSE)),\" \",VLOOKUP(K139,#REF!,2,FALSE))","v":" "},{"$f":"IF(ISERROR(VLOOKUP(K139,#REF!,3,FALSE)),\" \",VLOOKUP(K139,#REF!,3,FALSE))","v":" "},1873,0,80504271,"JUSTO MAURICIO CEPEDA ARENAS ","Persona Natural",null,"N/A","N/A",null,45320000,0,1,16617333,{"$f":"+W139+X139+Z139","v":61937333},56272333,"2022-01-25","2022-02-03","2022-12-30",240,1,88,null,null,null,null,"Terminado",{"$f":"IF(ISERROR(AB139/AA139),\"-\",(AB139/AA139))","v":0.90853658487361733}]
["FDLSC-CPS-174-2022",2022,"FDLSC-CD-082-2022","https://community.secop.gov.co/Public/Tendering/OpportunityDetail/Index?noticeUID=CO1.NTC.2681345&isFromPublicArea=True&isModal=true&asPopupView=true","Contratos de prestación de servicios profesionales y de apoyo a la gestión","Contratación directa","Prestación de servicios profesionales y de apoyo a la gestión, o para la ejecución de trabajos artísticos que sólo puedan encomendarse a determinadas personas naturales","APOYAR TÉCNICAMENTE LAS DISTINTAS ETAPAS DE LOS PROCESOS DE COMPETENCIA DE LAS INSPECCIONES DE POLICÍA DE LA LOCALIDAD, SEGÚN REPARTO.","Inversión","Un nuevo contrato social y ambiental para la Bogotá del Siglo XXI",57,{"$f":"IF(ISERROR(VLOOKUP(K140,#REF!,2,FALSE)),\" \",VLOOKUP(K140,#REF!,2,FALSE))","v":" "},{"$f":"IF(ISERROR(VLOOKUP(K140,#REF!,3,FALSE)),\" \",VLOOKUP(K140,#REF!,3,FALSE))","v":" "},1873,0,1022340099,"SANDRA MILENA BARRERA ESTEPA","Persona Natural",null,"N/A","N/A",null,45320000,0,1,16617333,{"$f":"+W140+X140+Z140","v":61937333},56272333,"2022-01-25","2022-02-03","2022-12-30",240,1,88,null,null,null,null,"Terminado",{"$f":"IF(ISERROR(AB140/AA140),\"-\",(AB140/AA140))","v":0.90853658487361733}]
["FDLSC-CPS-172-2022",2022,"FDLSC-CD-082-2022","https://community.secop.gov.co/Public/Tendering/OpportunityDetail/Index?noticeUID=CO1.NTC.2681345&isFromPublicArea=True&isModal=true&asPopupView=true","Contratos de prestación de servicios profesionales y de apoyo a la gestión","Contratación directa","Prestación de servicios profesionales y de apoyo a la gestión, o para la ejecución de trabajos artísticos que sólo puedan encomendarse a determinadas personas naturales","APOYAR TÉCNICAMENTE LAS DISTINTAS ETAPAS DE LOS PROCESOS DE COMPETENCIA DE LAS INSPECCIONES DE POLICÍA DE LA LOCALIDAD, SEGÚN REPARTO.","Inversión","Un nuevo contrato social y ambiental para la Bogotá del Siglo XXI",57,{"$f":"IF(ISERROR(VLOOKUP(K141,#REF!,2,FALSE)),\" \",VLOOKUP(K141,#REF!,2,FALSE))","v":" "},{"$f":"IF(ISERROR(VLOOKUP(K141,#REF!,3,FALSE)),\" \",VLOOKUP(K141,#REF!,3,FALSE))","v":" "},1873,0,13509148,"JUAN JERONIMO RAMIREZ BAUTISTA","Persona Natural",null,"N/A","N/A",null,45320000,0,1,16617333,{"$f":"+W141+X141+Z141","v":61937333},56272334,"2022-01-25","2022-02-03","2022-12-30",240,1,88,null,null,null,null,"Terminado",{"$f":"IF(ISERROR(AB141/AA141),\"-\",(AB141/AA141))","v":0.9085366010189686}]
["FDLSC-CPS-356-2022",2022,"FDLSC-CD-063-2022","https://community.secop.gov.co/Public/Tendering/OpportunityDetail/Index?noticeUID=CO1.NTC.2686112&isFromPublicArea=True&isModal=true&asPopupView=true","Contratos de prestación de servicios profesionales y de apoyo a la gestión","Contratación directa","Prestación de servicios profesionales y de apoyo a la gestión, o para la ejecución de trabajos artísticos que sólo puedan encomendarse a determinadas personas naturales","APOYAR TÉCNICAMENTE LAS DISTINTAS ETAPAS DE LOS PROCESOS DE COMPETENCIA DE LA ALCALDÍA LOCAL PARA LA DEPURACIÓN DE ACTUACIONES ADMINISTRATIVAS.","Inversión","Un nuevo contrato social y ambiental para la Bogotá del Siglo XXI",57,{"$f":"IF(ISERROR(VLOOKUP(K142,#REF!,2,FALSE)),\" \",VLOOKUP(K142,#REF!,2,FALSE))","v":" "},{"$f":"IF(ISERROR(VLOOKUP(K142,#REF!,3,FALSE)),\" \",VLOOKUP(K142,#REF!,3,FALSE))","v":" "},1873,0,1026291089,"LAURA VANESA PEÑA AVILA","Persona Natural",null,"N/A","N/A",null,44000000,0,2,17783333,{"$f":"+W142+X142+Z142","v":61783333},49316666,"2022-01-28","2022-02-24","2023-01-30",240,2,97,1026291089,"LAURA VANESA PEÑA AVILA","2022-07-06",37583333,"En ejecución",{"$f":"IF(ISERROR(AB142/AA142),\"-\",(AB142/AA142))","v":0.79821957808588928}]
["FDLSC-CPS-225-2022",2022,"FDLSC-CD-111-2022","https://community.secop.gov.co/Public/Tendering/OpportunityDetail/Index?noticeUID=CO1.NTC.2736592&isFromPublicArea=True&isModal=true&asPopupView=true","Contratos de prestación de servicios profesionales y de apoyo a la gestión","Contratación directa","Prestación de servicios profesionales y de apoyo a la gestión, o para la ejecución de trabajos artísticos que sólo puedan encomendarse a determinadas personas naturales","APOYAR EL CUBRIMIENTO DE LAS ACTIVIDADES, CRONOGRAMAS Y AGENDAS DE LA ALCALDÍA LOCAL A NIVEL INTERNO Y EXTERNO, ASÍ COMO LA GENERACIÓN DE CONTENIDOS PERIODISTICOS.","Inversión","Un nuevo contrato social y ambiental para la Bogotá del Siglo XXI",57,{"$f":"IF(ISERROR(VLOOKUP(K143,#REF!,2,FALSE)),\" \",VLOOKUP(K143,#REF!,2,FALSE))","v":" "},{"$f":"IF(ISERROR(VLOOKUP(K143,#REF!,3,FALSE)),\" \",VLOOKUP(K143,#REF!,3,FALSE))","v":" "},1873,0,52158486,"LINA MARIA RUSSI DIAZ","Persona Natural",null,"N/A","N/A",null,41376000,0,2,20170800,{"$f":"+W143+X143+Z143","v":61546800},45341200,"2022-01-27","2022-02-04","2023-01-30",240,2,117,80203447,"FABIAN LEONARDO YAÑEZ RAMOS","2022-07-06",35514400,"En ejecución",{"$f":"IF(ISERROR(AB143/AA143),\"-\",(AB143/AA143))","v":0.73669467787114851}]
["FDLSC-CPS-224-2022",2022,"FDLSC-CD-111-2022","https://community.secop.gov.co/Public/Tendering/OpportunityDetail/Index?noticeUID=CO1.NTC.2736592&isFromPublicArea=True&isModal=true&asPopupView=true","Contratos de prestación de servicios profesionales y de apoyo a la gestión","Contratación directa","Prestación de servicios profesionales y de apoyo a la gestión, o para la ejecución de trabajos artísticos que sólo puedan encomendarse a determinadas personas naturales","APOYAR EL CUBRIMIENTO DE LAS ACTIVIDADES, CRONOGRAMAS Y AGENDAS DE LA ALCALDÍA LOCAL A NIVEL INTERNO Y EXTERNO, ASÍ COMO LA GENERACIÓN DE CONTENIDOS PERIODISTICOS.","Inversión","Un nuevo contrato social y ambiental para la Bogotá del Siglo XXI",57,{"$f":"IF(ISERROR(VLOOKUP(K144,#REF!,2,FALSE)),\" \",VLOOKUP(K144,#REF!,2,FALSE))","v":" "},{"$f":"IF(ISERROR(VLOOKUP(K144,#REF!,3,FALSE)),\" \",VLOOKUP(K144,#REF!,3,FALSE))","v":" "},1873,0,1015431632,"WENDY YURANI RODRIGUEZ ALARCON","Persona Natural",null,"N/A","N/A",null,41376000,0,2,20170800,{"$f":"+W144+X144+Z144","v":61546800},51202800,"2022-01-27","2022-02-04","2023-01-30",240,2,117,null,null,null,null,"En ejecución",{"$f":"IF(ISERROR(AB144/AA144),\"-\",(AB144/AA144))","v":0.83193277310924374}]
["FDLSC-CPS-128-2022",2022,"FDLSC-CD-083-2022","https://community.secop.gov.co/Public/Tendering/OpportunityDetail/Index?noticeUID=CO1.NTC.2718890&isFromPublicArea=True&isModal=true&asPopupView=true","Contratos de prestación de servicios profesionales y de apoyo a la gestión","Contratación directa","Prestación de servicios profesionales y de apoyo a la gestión, o para la ejecución de trabajos artísticos que sólo puedan encomendarse a determinadas personas naturales","PRESTAR SUS SERVICIOS PROFESIONALES PARA ATENDER TODO LO RELACIONADO AL PROYECTO 1866 \"SAN CRISTÓBAL PREPARADA ANTE EMERGENCIAS, A LA LUZ DEL PLAN DE DESARROLLO LOCAL \"UN NUEVO CONTRATO AMBIENTAL Y SOCIAL PARA SAN CRISTÓBAL 2021-2024\"","Inversión","Un nuevo contrato social y ambiental para la Bogotá del Siglo XXI",30,{"$f":"IF(ISERROR(VLOOKUP(K145,#REF!,2,FALSE)),\" \",VLOOKUP(K145,#REF!,2,FALSE))","v":" "},{"$f":"IF(ISERROR(VLOOKUP(K145,#REF!,3,FALSE)),\" \",VLOOKUP(K145,#REF!,3,FALSE))","v":" "},1866,0,1031148439,"JUAN SEBASTIAN RODRIGUEZ AMARILLO","Persona Natural",null,"N/A","N/A",null,41296000,0,2,20131800,{"$f":"+W145+X145+Z145","v":61427800},51103800,"2022-01-27","2022-02-04","2023-01-30",240,2,117,null,null,null,null,"En ejecución",{"$f":"IF(ISERROR(AB145/AA145),\"-\",(AB145/AA145))","v":0.83193277310924374}]
["FDLSC-CPS-117-2022",2022,"FDLSC-CD-065-2022","https://community.secop.gov.co/Public/Tendering/OpportunityDetail/Index?noticeUID=CO1.NTC.2654843&isFromPublicArea=True&isModal=true&asPopupView=true","Contratos de prestación de servicios profesionales y de apoyo a la gestión","Contratación directa","Prestación de servicios profesionales y de apoyo a la gestión, o para la ejecución de trabajos artísticos que sólo puedan encomendarse a determinadas personas naturales","PRESTAR LOS SERVICIOS PROFESIONALES A LA ALCALDÍA LOCAL DE SAN CRISTOBAL, PARA LA EJECUCIÓN DE LAS ACTIVIDADES Y PROCESOS ADMINISTRATIVOS Y DE CAMPO RELACIONADOS CON LA REACTIVACIÓN ECONÓMICA EN EL MARCO DE LAS NECESIDADES DEL FONDO DE DESARROLLO LOCAL Y DINAMIZACIÓN PARA LA EJECUCIÓN DE LOS PROYECTOS QUE HACEN PARTE DEL PLAN DE DESARROLLO.","Inversión","Un nuevo contrato social y ambiental para la Bogotá del Siglo XXI",6,{"$f":"IF(ISERROR(VLOOKUP(K146,#REF!,2,FALSE)),\" \",VLOOKUP(K146,#REF!,2,FALSE))","v":" "},{"$f":"IF(ISERROR(VLOOKUP(K146,#REF!,3,FALSE)),\" \",VLOOKUP(K146,#REF!,3,FALSE))","v":" "},1865,0,66932552,"LEIDY DAYANA SALAZAR PARDO","Persona Natural",null,"N/A","N/A",null,60500000,0,0,0,{"$f":"+W146+X146+Z146","v":60500000},54450000,"2022-01-25","2022-02-04","2023-01-03",330,0,0,null,null,null,null,"En ejecución",{"$f":"IF(ISERROR(AB146/AA146),\"-\",(AB146/AA146))","v":0.9}]
["FDLSC-CPS-200-2022",2022,"FDLSC-CD-098-2022","https://community.secop.gov.co/Public/Tendering/OpportunityDetail/Index?noticeUID=CO1.NTC.2698153&isFromPublicArea=True&isModal=true&asPopupView=true","Contratos de prestación de servicios profesionales y de apoyo a la gestión","Contratación directa","Prestación de servicios profesionales y de apoyo a la gestión, o para la ejecución de trabajos artísticos que sólo puedan encomendarse a determinadas personas naturales","PRESTAR SUS SERVICIOS PROFESIONALES PARA ADELANTAR EL PROCESO DE COBROS PERSUASIVOS DE LAS MULTAS IMPUESTAS POR LA ALCALDÍA LOCAL DE SAN CRISTÓBAL","Inversión","Un nuevo contrato social y ambiental para la Bogotá del Siglo XXI",57,{"$f":"IF(ISERROR(VLOOKUP(K147,#REF!,2,FALSE)),\" \",VLOOKUP(K147,#REF!,2,FALSE))","v":" "},{"$f":"IF(ISERROR(VLOOKUP(K147,#REF!,3,FALSE)),\" \",VLOOKUP(K147,#REF!,3,FALSE))","v":" "},1873,0,52839994,"ANGELA VIVIANA MORALES MARQUEZ","Persona Natural",null,"N/A","N/A",null,60500000,0,0,0,{"$f":"+W147+X147+Z147","v":60500000},54633333,"2022-01-27","2022-02-03","2023-01-02",330,0,0,null,null,null,null,"En ejecución",{"$f":"IF(ISERROR(AB147/AA147),\"-\",(AB147/AA147))","v":0.90303029752066111}]
["FDLSC-CPS-299-2022",2022,"FDLSC-CD-152-2022","https://community.secop.gov.co/Public/Tendering/OpportunityDetail/Index?noticeUID=CO1.NTC.2789268&isFromPublicArea=True&isModal=true&asPopupView=true","Contratos de prestación de servicios profesionales y de apoyo a la gestión","Contratación directa","Prestación de servicios profesionales y de apoyo a la gestión, o para la ejecución de trabajos artísticos que sólo puedan encomendarse a determinadas personas naturales","PRESTAR SUS SERVICIOS PROFESIONALES A LA ALCALDÍA LOCAL DE SAN CRISTÓBAL, PARA APOYAR JURÍDICAMENTE AL PROYECTO 1865 EN ACTIVIDADES DE REACTIVACIÓN ECONÓMICA, EN EL SEGUIMIENTO CONTRACTUAL DE LOS PROCESOS DE CONTRATACIÓN QUE SE DERIVEN DE LAS NECESIDADES DEL FONDO DE DESARROLLO LOCAL PERMITIENDO LA DINAMIZACIÓN PARA LA EJECUCIÓN DEL PDL.","Inversión","Un nuevo contrato social y ambiental para la Bogotá del Siglo XXI",6,{"$f":"IF(ISERROR(VLOOKUP(K148,#REF!,2,FALSE)),\" \",VLOOKUP(K148,#REF!,2,FALSE))","v":" "},{"$f":"IF(ISERROR(VLOOKUP(K148,#REF!,3,FALSE)),\" \",VLOOKUP(K148,#REF!,3,FALSE))","v":" "},1865,0,80052435,"FABIAN MAURICIO NOMEZQUI GONZALEZ","Persona Natural",null,"N/A","N/A",null,44000000,0,1,15950000,{"$f":"+W148+X148+Z148","v":59950000},53716666,"2022-01-28","2022-02-04","2022-12-30",240,1,87,1105685143,"VANESSA ALEJANDRA HERNANDEZ COLLAZOS","2022-06-14",36300000,"Terminado",{"$f":"IF(ISERROR(AB148/AA148),\"-\",(AB148/AA148))","v":0.89602445371142614}]
["FDLSC-CPS-318-2022",2022,"FDLSC-CD-003-2022","https://community.secop.gov.co/Public/Tendering/OpportunityDetail/Index?noticeUID=CO1.NTC.2590234&isFromPublicArea=True&isModal=true&asPopupView=true","Contratos de prestación de servicios profesionales y de apoyo a la gestión","Contratación directa","Prestación de servicios profesionales y de apoyo a la gestión, o para la ejecución de trabajos artísticos que sólo puedan encomendarse a determinadas personas naturales","APOYAR JURÍDICAMENTE LA EJECUCIÓN DE LAS ACCIONES REQUERIDAS PARA LA DEPURACIÓN DE LAS ACTUACIONES ADMINISTRATIVAS QUE CURSAN EN LA ALCALDÍA LOCAL.","Inversión","Un nuevo contrato social y ambiental para la Bogotá del Siglo XXI",57,{"$f":"IF(ISERROR(VLOOKUP(K149,#REF!,2,FALSE)),\" \",VLOOKUP(K149,#REF!,2,FALSE))","v":" "},{"$f":"IF(ISERROR(VLOOKUP(K149,#REF!,3,FALSE)),\" \",VLOOKUP(K149,#REF!,3,FALSE))","v":" "},1873,0,52201860,"MAGDA BARRAGAN RAMIREZ","Persona Natural",null,"N/A","N/A",null,44000000,0,1,15950000,{"$f":"+W149+X149+Z149","v":59950000},54449999,"2022-01-28","2022-02-04","2022-12-30",240,1,87,null,null,null,null,"Terminado",{"$f":"IF(ISERROR(AB149/AA149),\"-\",(AB149/AA149))","v":0.9082568640533778}]
["FDLSC-CPS-183-2022",2022,"FDLSC-CD-085-2022","https://community.secop.gov.co/Public/Tendering/OpportunityDetail/Index?noticeUID=CO1.NTC.2694444&isFromPublicArea=True&isModal=true&asPopupView=true","Contratos de prestación de servicios profesionales y de apoyo a la gestión","Contratación directa","Prestación de servicios profesionales y de apoyo a la gestión, o para la ejecución de trabajos artísticos que sólo puedan encomendarse a determinadas personas naturales","PRESTAR SUS SERVICIOS PROFESIONALES PARA APOYAR LA GESTIÓN LOCAL Y TERRITORIAL DE LOS TEMAS DE SEGURIDAD Y CONVIVENCIA CIUDADANA, EN EL MARCO DE LAS ACCIONES EN TERRITORIO Y EL TRABAJO INTERINSTITUCIONAL QUE DEMANDA EL CUMPLIMIENTO DEL PLAN DE DESARROLLO LOCAL 2021 -2024.","Inversión","Un nuevo contrato social y ambiental para la Bogotá del Siglo XXI",57,{"$f":"IF(ISERROR(VLOOKUP(K150,#REF!,2,FALSE)),\" \",VLOOKUP(K150,#REF!,2,FALSE))","v":" "},{"$f":"IF(ISERROR(VLOOKUP(K150,#REF!,3,FALSE)),\" \",VLOOKUP(K150,#REF!,3,FALSE))","v":" "},1873,0,19413321,"DAGOBERTO CASTILLO REYES","Persona Natural",null,"N/A","N/A",null,44000000,0,1,15950000,{"$f":"+W150+X150+Z150","v":59950000},54450000,"2022-01-26","2022-02-04","2022-12-30",240,1,87,null,null,null,null,"Terminado",{"$f":"IF(ISERROR(AB150/AA150),\"-\",(AB150/AA150))","v":0.90825688073394495}]
["FDLSC-CPS-325-2022",2022,"FDLSC-CD-163-2022","https://community.secop.gov.co/Public/Tendering/OpportunityDetail/Index?noticeUID=CO1.NTC.2770963&isFromPublicArea=True&isModal=true&asPopupView=true","Contratos de prestación de servicios profesionales y de apoyo a la gestión","Contratación directa","Prestación de servicios profesionales y de apoyo a la gestión, o para la ejecución de trabajos artísticos que sólo puedan encomendarse a determinadas personas naturales","PRESTACIÓN DE SERVICIOS PROFESIONALES ESPECIALIZADOS AL FONDO DE DESARROLLO LOCAL DE SAN CRISTÓBAL PARA APOYAR LAS ACTUACIONES Y GESTIONES INHERENTES A LA DEPURACIÓN DE OBLIGACIONES POR PAGAR Y LA LIQUIDACIÓN Y PAGO DE LOS CONTRATOS SUSCRITOS CON RECURSOS DEL FDLSC.","Inversión","Un nuevo contrato social y ambiental para la Bogotá del Siglo XXI",57,{"$f":"IF(ISERROR(VLOOKUP(K151,#REF!,2,FALSE)),\" \",VLOOKUP(K151,#REF!,2,FALSE))","v":" "},{"$f":"IF(ISERROR(VLOOKUP(K151,#REF!,3,FALSE)),\" \",VLOOKUP(K151,#REF!,3,FALSE))","v":" "},1873,0,15244097,"CARLOS ALBERTO DIAZ ROBINSON","Persona Natural",null,"N/A","N/A",null,57680000,0,0,0,{"$f":"+W151+X151+Z151","v":57680000},0,"2022-01-28","2022-02-01","2022-06-01",240,0,0,null,null,null,null,"Terminado",{"$f":"IF(ISERROR(AB151/AA151),\"-\",(AB151/AA151))","v":0}]
["FDLSC-CPS-196-2022",2022,"FDLSC-CD-095-2022","https://community.secop.gov.co/Public/Tendering/OpportunityDetail/Index?noticeUID=CO1.NTC.2718436&isFromPublicArea=True&isModal=true&asPopupView=true","Contratos de prestación de servicios profesionales y de apoyo a la gestión","Contratación directa","Prestación de servicios profesionales y de apoyo a la gestión, o para la ejecución de trabajos artísticos que sólo puedan encomendarse a determinadas personas naturales","PRESTAR SUS SERVICIOS PROFESIONALES PARA APOYAR AL ALCALDE LOCAL EN LA PROMOCIÓN, ACOMPAÑAMIENTO Y  ATENCIÓN DE LAS INSTANCIAS DE COORDINACIÓN INTERINSTITUCIONALES Y LAS INSTANCIAS DE PARTICIPACIÓN LOCALES, ASÍ COMO LOS PROCESOS COMUNITARIOS EN LA LOCALIDAD.","Inversión","Un nuevo contrato social y ambiental para la Bogotá del Siglo XXI",57,{"$f":"IF(ISERROR(VLOOKUP(K152,#REF!,2,FALSE)),\" \",VLOOKUP(K152,#REF!,2,FALSE))","v":" "},{"$f":"IF(ISERROR(VLOOKUP(K152,#REF!,3,FALSE)),\" \",VLOOKUP(K152,#REF!,3,FALSE))","v":" "},1873,0,52883153,"JACQUELINE ADRIANA MEJIA MENDEZ","Persona Natural",null,"N/A","N/A",null,56424000,0,0,0,{"$f":"+W152+X152+Z152","v":56424000},55953800,"2022-01-27","2022-02-03","2022-10-02",240,0,0,null,null,null,null,"Terminado",{"$f":"IF(ISERROR(AB152/AA152),\"-\",(AB152/AA152))","v":0.9916666666666667}]
["FDLSC-CPS-205-2022",2022,"FDLSC-CD-088-2022","https://community.secop.gov.co/Public/Tendering/OpportunityDetail/Index?noticeUID=CO1.NTC.2784844&isFromPublicArea=True&isModal=true&asPopupView=true","Contratos de prestación de servicios profesionales y de apoyo a la gestión","Contratación directa","Prestación de servicios profesionales y de apoyo a la gestión, o para la ejecución de trabajos artísticos que sólo puedan encomendarse a determinadas personas naturales","PRESTAR SUS SERVICIOS PROFESIONALES AL FDLSC PARA REALIZAR LA FORMULACIÓN, PRESENTACIÓN, EVALUACIÓN, SEGUIMIENTO Y APOYAR LA SUPERVISIÓN DE LOS PROCESOS CONTRACTUALES DERIVADOS DE TEMAS DE RECREACIÓN, CULTURA Y DEPORTE, Y LOS DEMAS QUE LE SEAN ASIGNADOS PARA LA PLANEACION. ","Inversión","Un nuevo contrato social y ambiental para la Bogotá del Siglo XXI",57,{"$f":"IF(ISERROR(VLOOKUP(K153,#REF!,2,FALSE)),\" \",VLOOKUP(K153,#REF!,2,FALSE))","v":" "},{"$f":"IF(ISERROR(VLOOKUP(K153,#REF!,3,FALSE)),\" \",VLOOKUP(K153,#REF!,3,FALSE))","v":" "},1873,0,79636537,"JOHN JAIRO RUIZ MARTINEZ ","Persona Natural",null,"N/A","N/A",null,41035200,0,1,14704280,{"$f":"+W153+X153+Z153","v":55739480},45480680,"2022-01-28","2022-02-05","2022-12-30",240,1,86,null,null,null,null,"Terminado",{"$f":"IF(ISERROR(AB153/AA153),\"-\",(AB153/AA153))","v":0.81595092024539873}]
["FDLSC-CPS-015-2022",2022,"FDLSC-CD-009-2022","https://community.secop.gov.co/Public/Tendering/OpportunityDetail/Index?noticeUID=CO1.NTC.2587171&isFromPublicArea=True&isModal=true&asPopupView=true","Contratos de prestación de servicios profesionales y de apoyo a la gestión","Contratación directa","Prestación de servicios profesionales y de apoyo a la gestión, o para la ejecución de trabajos artísticos que sólo puedan encomendarse a determinadas personas naturales","PRESTAR SUS SERVICIOS PROFESIONALES PARA APOYAR LOS TEMAS PRESUPUESTALES EN EL MARCO DEL PLAN DE DESARROLLO 2021-2024.","Inversión","Un nuevo contrato social y ambiental para la Bogotá del Siglo XXI",57,{"$f":"IF(ISERROR(VLOOKUP(K154,#REF!,2,FALSE)),\" \",VLOOKUP(K154,#REF!,2,FALSE))","v":" "},{"$f":"IF(ISERROR(VLOOKUP(K154,#REF!,3,FALSE)),\" \",VLOOKUP(K154,#REF!,3,FALSE))","v":" "},1873,0,1088344980,"MARIA CAMILA MONJE RAMIREZ","Persona Natural",null,"N/A","N/A",null,49410130,0,1,5989107,{"$f":"+W154+X154+Z154","v":55399237},46715032,"2022-01-18","2022-01-19","2023-01-28",330,1,40,null,null,null,null,"En ejecución",{"$f":"IF(ISERROR(AB154/AA154),\"-\",(AB154/AA154))","v":0.84324323816950764}]
["FDLSC-CPS-016-2022",2022,"FDLSC-CD-009-2022","https://community.secop.gov.co/Public/Tendering/OpportunityDetail/Index?noticeUID=CO1.NTC.2587171&isFromPublicArea=True&isModal=true&asPopupView=true","Contratos de prestación de servicios profesionales y de apoyo a la gestión","Contratación directa","Prestación de servicios profesionales y de apoyo a la gestión, o para la ejecución de trabajos artísticos que sólo puedan encomendarse a determinadas personas naturales","PRESTAR SUS SERVICIOS PROFESIONALES PARA APOYAR LOS TEMAS PRESUPUESTALES EN EL MARCO DEL PLAN DE DESARROLLO 2021-2024.","Inversión","Un nuevo contrato social y ambiental para la Bogotá del Siglo XXI",57,{"$f":"IF(ISERROR(VLOOKUP(K155,#REF!,2,FALSE)),\" \",VLOOKUP(K155,#REF!,2,FALSE))","v":" "},{"$f":"IF(ISERROR(VLOOKUP(K155,#REF!,3,FALSE)),\" \",VLOOKUP(K155,#REF!,3,FALSE))","v":" "},1873,0,79607845,"JOSE JAVIER RUIZ CALDERON","Persona Natural",null,"N/A","N/A",null,49410130,0,1,5989107,{"$f":"+W155+X155+Z155","v":55399237},46715032,"2022-01-18","2022-01-19","2023-01-28",330,1,40,null,null,null,null,"En ejecución",{"$f":"IF(ISERROR(AB155/AA155),\"-\",(AB155/AA155))","v":0.84324323816950764}]
["FDLSC-CPS-265-2022",2022,"FDLSC-CD-142-2022","https://community.secop.gov.co/Public/Tendering/OpportunityDetail/Index?noticeUID=CO1.NTC.2742940&isFromPublicArea=True&isModal=true&asPopupView=true","Contratos de prestación de servicios profesionales y de apoyo a la gestión","Contratación directa","Prestación de servicios profesionales y de apoyo a la gestión, o para la ejecución de trabajos artísticos que sólo puedan encomendarse a determinadas personas naturales","PRESTAR LOS SERVICIOS PROFESIONALES PARA LA OPERACIÓN, PRESTACIÓN, SEGUIMIENTO Y CUMPLIMIENTO DE LOS PROCEDIMIENTOS ADMINISTRATIVOS, OPERATIVOS Y  PROGRAMÁTICOS DEL SERVICIO APOYO ECONÓMICO TIPO C, QUE CONTRIBUYAN A  LA GARANTÍA DE LOS DERECHOS DE LA POBLACIÓN MAYOR EN EL MARCO DE LA POLÍTICA PÚBLICA SOCIAL PARA EL ENVEJECIMIENTO Y LA VEJEZ EN EL DISTRITO CAPITAL A CARGO DE LA ALCALDÍA LOCAL","Inversión","Un nuevo contrato social y ambiental para la Bogotá del Siglo XXI",1,{"$f":"IF(ISERROR(VLOOKUP(K156,#REF!,2,FALSE)),\" \",VLOOKUP(K156,#REF!,2,FALSE))","v":" "},{"$f":"IF(ISERROR(VLOOKUP(K156,#REF!,3,FALSE)),\" \",VLOOKUP(K156,#REF!,3,FALSE))","v":" "},1852,0,80114984,"SERGIO ENRIQUE MORALES GIL","Persona Natural",null,"N/A","N/A",null,37264000,0,2,18010933,{"$f":"+W156+X156+Z156","v":55274933},45958933,"2022-01-27","2022-02-05","2022-12-30",240,1,86,1023965638,"EMILY VANESSA ORJUELA MARTINEZ","2022-04-06",45803667,"Terminado",{"$f":"IF(ISERROR(AB156/AA156),\"-\",(AB156/AA156))","v":0.83146067314093353}]
["FDLSC-CPS-266-2022",2022,"FDLSC-CD-142-2022","https://community.secop.gov.co/Public/Tendering/OpportunityDetail/Index?noticeUID=CO1.NTC.2742940&isFromPublicArea=True&isModal=true&asPopupView=true","Contratos de prestación de servicios profesionales y de apoyo a la gestión","Contratación directa","Prestación de servicios profesionales y de apoyo a la gestión, o para la ejecución de trabajos artísticos que sólo puedan encomendarse a determinadas personas naturales","PRESTAR LOS SERVICIOS PROFESIONALES PARA LA OPERACIÓN, PRESTACIÓN, SEGUIMIENTO Y CUMPLIMIENTO DE LOS PROCEDIMIENTOS ADMINISTRATIVOS, OPERATIVOS Y  PROGRAMÁTICOS DEL SERVICIO APOYO ECONÓMICO TIPO C, QUE CONTRIBUYAN A  LA GARANTÍA DE LOS DERECHOS DE LA POBLACIÓN MAYOR EN EL MARCO DE LA POLÍTICA PÚBLICA SOCIAL PARA EL ENVEJECIMIENTO Y LA VEJEZ EN EL DISTRITO CAPITAL A CARGO DE LA ALCALDÍA LOCAL","Inversión","Un nuevo contrato social y ambiental para la Bogotá del Siglo XXI",1,{"$f":"IF(ISERROR(VLOOKUP(K157,#REF!,2,FALSE)),\" \",VLOOKUP(K157,#REF!,2,FALSE))","v":" "},{"$f":"IF(ISERROR(VLOOKUP(K157,#REF!,3,FALSE)),\" \",VLOOKUP(K157,#REF!,3,FALSE))","v":" "},1852,0,1023875783,"JAIRO YECID VILLALBA AREVALO","Persona Natural",null,"N/A","N/A",null,37264000,0,2,18010933,{"$f":"+W157+X157+Z157","v":55274933},45958933,"2022-01-27","2022-02-05","2023-01-30",240,1,86,null,null,null,null,"En ejecución",{"$f":"IF(ISERROR(AB157/AA157),\"-\",(AB157/AA157))","v":0.83146067314093353}]
["FDLSC-CPS-269-2022",2022,"FDLSC-CD-142-2022","https://community.secop.gov.co/Public/Tendering/OpportunityDetail/Index?noticeUID=CO1.NTC.2742940&isFromPublicArea=True&isModal=true&asPopupView=true","Contratos de prestación de servicios profesionales y de apoyo a la gestión","Contratación directa","Prestación de servicios profesionales y de apoyo a la gestión, o para la ejecución de trabajos artísticos que sólo puedan encomendarse a determinadas personas naturales","PRESTAR LOS SERVICIOS PROFESIONALES PARA LA OPERACIÓN, PRESTACIÓN, SEGUIMIENTO Y CUMPLIMIENTO DE LOS PROCEDIMIENTOS ADMINISTRATIVOS, OPERATIVOS Y  PROGRAMÁTICOS DEL SERVICIO APOYO ECONÓMICO TIPO C, QUE CONTRIBUYAN A  LA GARANTÍA DE LOS DERECHOS DE LA POBLACIÓN MAYOR EN EL MARCO DE LA POLÍTICA PÚBLICA SOCIAL PARA EL ENVEJECIMIENTO Y LA VEJEZ EN EL DISTRITO CAPITAL A CARGO DE LA ALCALDÍA LOCAL","Inversión","Un nuevo contrato social y ambiental para la Bogotá del Siglo XXI",1,{"$f":"IF(ISERROR(VLOOKUP(K158,#REF!,2,FALSE)),\" \",VLOOKUP(K158,#REF!,2,FALSE))","v":" "},{"$f":"IF(ISERROR(VLOOKUP(K158,#REF!,3,FALSE)),\" \",VLOOKUP(K158,#REF!,3,FALSE))","v":" "},1852,0,1033774824,"ERIKA ALEXANDRA VANEGAS VELASQUEZ  ","Persona Natural",null,"N/A","N/A",null,37264000,0,2,18010933,{"$f":"+W158+X158+Z158","v":55274933},45958933,"2022-01-28","2022-02-05","2023-01-30",240,1,86,null,null,null,null,"En ejecución",{"$f":"IF(ISERROR(AB158/AA158),\"-\",(AB158/AA158))","v":0.83146067314093353}]
["FDLSC-CPS-270-2022",2022,"FDLSC-CD-142-2022","https://community.secop.gov.co/Public/Tendering/OpportunityDetail/Index?noticeUID=CO1.NTC.2742940&isFromPublicArea=True&isModal=true&asPopupView=true","Contratos de prestación de servicios profesionales y de apoyo a la gestión","Contratación directa","Prestación de servicios profesionales y de apoyo a la gestión, o para la ejecución de trabajos artísticos que sólo puedan encomendarse a determinadas personas naturales","PRESTAR LOS SERVICIOS PROFESIONALES PARA LA OPERACIÓN, PRESTACIÓN, SEGUIMIENTO Y CUMPLIMIENTO DE LOS PROCEDIMIENTOS ADMINISTRATIVOS, OPERATIVOS Y  PROGRAMÁTICOS DEL SERVICIO APOYO ECONÓMICO TIPO C, QUE CONTRIBUYAN A  LA GARANTÍA DE LOS DERECHOS DE LA POBLACIÓN MAYOR EN EL MARCO DE LA POLÍTICA PÚBLICA SOCIAL PARA EL ENVEJECIMIENTO Y LA VEJEZ EN EL DISTRITO CAPITAL A CARGO DE LA ALCALDÍA LOCAL","Inversión","Un nuevo contrato social y ambiental para la Bogotá del Siglo XXI",1,{"$f":"IF(ISERROR(VLOOKUP(K159,#REF!,2,FALSE)),\" \",VLOOKUP(K159,#REF!,2,FALSE))","v":" "},{"$f":"IF(ISERROR(VLOOKUP(K159,#REF!,3,FALSE)),\" \",VLOOKUP(K159,#REF!,3,FALSE))","v":" "},1852,0,52220503,"DIANA CONSTANZA REINA MORENO","Persona Natural",null,"N/A","N/A",null,37264000,0,2,18010933,{"$f":"+W159+X159+Z159","v":55274933},45958933,"2022-01-28","2022-02-05","2023-01-30",240,1,86,null,null,null,null,"En ejecución",{"$f":"IF(ISERROR(AB159/AA159),\"-\",(AB159/AA159))","v":0.83146067314093353}]
["FDLSC-CPS-303-2022",2022,"FDLSC-CD-155-2022","https://community.secop.gov.co/Public/Tendering/OpportunityDetail/Index?noticeUID=CO1.NTC.2769792&isFromPublicArea=True&isModal=true&asPopupView=true","Contratos de prestación de servicios profesionales y de apoyo a la gestión","Contratación directa","Prestación de servicios profesionales y de apoyo a la gestión, o para la ejecución de trabajos artísticos que sólo puedan encomendarse a determinadas personas naturales","PRESTAR SERVICIOS PROFESIONALES EN EL DESPACHO DEL ALCALDE LOCAL DE SAN CRISTÓBAL PARA APOYAR LA REVISIÓN, VERIFICACIÓN Y ACOMPAÑAMIENTO DE LOS ASPECTOS ADMINISTRATIVOS DE LOS ASUNTOS RELACIONADOS CON ACCESIBILIDAD UNIVERSAL Y LA GARANTÍA DE LOS DERECHOS DE LAS PERSONAS CON DISCAPACIDAD, EN EL EL DESARROLLO DE LOS PROCESOS DE MALLA VIAL, ESPACIO PÚBLICO, INFRAESTRUCTURA DE OBRAS DE INGENIERÍA O ARQUITECTURA DEL FDLSC, DE CONFORMIDAD CON EL MARCO NORMATIVO APLICABLE EN LA MATERIA.","Inversión","Un nuevo contrato social y ambiental para la Bogotá del Siglo XXI",57,{"$f":"IF(ISERROR(VLOOKUP(K160,#REF!,2,FALSE)),\" \",VLOOKUP(K160,#REF!,2,FALSE))","v":" "},{"$f":"IF(ISERROR(VLOOKUP(K160,#REF!,3,FALSE)),\" \",VLOOKUP(K160,#REF!,3,FALSE))","v":" "},1873,0,9534873,"ELKIN JAVIER ROJAS RUIZ","Persona Natural",null,"N/A","N/A",null,55000000,0,0,0,{"$f":"+W160+X160+Z160","v":55000000},39833333,"2022-01-28","2022-02-02","2023-01-01",330,0,0,null,null,null,null,"En ejecución",{"$f":"IF(ISERROR(AB160/AA160),\"-\",(AB160/AA160))","v":0.72424241818181823}]
["FDLSC-CPS-237-2022",2022,"FDLSC-CD-122-2022","https://community.secop.gov.co/Public/Tendering/OpportunityDetail/Index?noticeUID=CO1.NTC.2753073&isFromPublicArea=True&isModal=true&asPopupView=true","Contratos de prestación de servicios profesionales y de apoyo a la gestión","Contratación directa","Prestación de servicios profesionales y de apoyo a la gestión, o para la ejecución de trabajos artísticos que sólo puedan encomendarse a determinadas personas naturales","PRESTAR LOS SERVICIOS PROFESIONALES A  LA ALCALDÍA LOCAL DE SAN CRISTÓBAL, PARA LA FORMULACIÓN, EVALUACIÓN ,  APOYO A  LA SUPERVISIÓN Y EJECUCIÓN DE LAS ACTIVIDADES Y PROCESOS ADMINISTRATIVOS Y DE CAMPO RELACIONADOS CON LA ATENCIÓN A VÍCTIMAS EN EL MARCO DE LAS NECESIDADES DEL FONDO DE DESARROLLO LOCAL Y  DINAMIZACIÓN PARA LA EJECUCIÓN DE LOS PROYECTOS QUE HACEN PARTE DEL PLAN DE DESARROLLO.","Inversión","Un nuevo contrato social y ambiental para la Bogotá del Siglo XXI",39,{"$f":"IF(ISERROR(VLOOKUP(K161,#REF!,2,FALSE)),\" \",VLOOKUP(K161,#REF!,2,FALSE))","v":" "},{"$f":"IF(ISERROR(VLOOKUP(K161,#REF!,3,FALSE)),\" \",VLOOKUP(K161,#REF!,3,FALSE))","v":" "},1869,0,43627942,"TATIANA  PELAEZ MANTILLA","Persona Natural",null,"N/A","N/A",null,40000000,0,1,14333333,{"$f":"+W161+X161+Z161","v":54333333},47500000,"2022-01-28","2022-02-05","2023-01-30",240,1,86,5492352,"CARLOS MARTIN MENDOZA PARADA","2022-08-12",9166667,"En ejecución",{"$f":"IF(ISERROR(AB161/AA161),\"-\",(AB161/AA161))","v":0.87423313419774928}]
["FDLSC-CPS-027-2022",2022,"FDLSC-CD-017-2022","https://community.secop.gov.co/Public/Tendering/OpportunityDetail/Index?noticeUID=CO1.NTC.2622154&isFromPublicArea=True&isModal=False","Contratos de prestación de servicios profesionales y de apoyo a la gestión","Contratación directa","Prestación de servicios profesionales y de apoyo a la gestión, o para la ejecución de trabajos artísticos que sólo puedan encomendarse a determinadas personas naturales","PRESTAR SUS SERVICIOS PROFESIONALES PARA EL APOYO TÉCNICO DEL PROYECTO DE SEPARACIÓN EN LA FUENTE, A LA LUZ DEL PLAN DE DESARROLLO 2021-2024 UN NUEVO CONTRATO AMBIENTAL Y SOCIAL PARA SAN CRISTÓBAL. ","Inversión","Un nuevo contrato social y ambiental para la Bogotá del Siglo XXI",38,{"$f":"IF(ISERROR(VLOOKUP(K162,#REF!,2,FALSE)),\" \",VLOOKUP(K162,#REF!,2,FALSE))","v":" "},{"$f":"IF(ISERROR(VLOOKUP(K162,#REF!,3,FALSE)),\" \",VLOOKUP(K162,#REF!,3,FALSE))","v":" "},1868,0,1077870637,"JHONATAN ORLANDO NUÑEZ FERRO","Persona Natural",null,"N/A","N/A",null,36112000,0,2,18055267,{"$f":"+W162+X162+Z162","v":54167267},46193267,"2022-01-20","2022-01-24","2023-01-23",240,2,120,null,null,null,null,"En ejecución",{"$f":"IF(ISERROR(AB162/AA162),\"-\",(AB162/AA162))","v":0.85278932385493988}]
["FDLSC-CPS-222-2022",2022,"FDLSC-CD-109-2022","https://community.secop.gov.co/Public/Tendering/OpportunityDetail/Index?noticeUID=CO1.NTC.2707364&isFromPublicArea=True&isModal=False","Contratos de prestación de servicios profesionales y de apoyo a la gestión","Contratación directa","Prestación de servicios profesionales y de apoyo a la gestión, o para la ejecución de trabajos artísticos que sólo puedan encomendarse a determinadas personas naturales","PRESTAR SUS SERVICIOS PROFESIONALES PARA LA IMPLEMENTACIÓN DE LAS ACCIONES Y LINEAMIENTOS TÉCNICOS SURTIDOS DEL PROGRAMA DE GESTIÓN DOCUMENTAL Y DEMÁS INSTRUMENTOS TÉCNICOS ARCHIVÍSTICOS","Inversión","Un nuevo contrato social y ambiental para la Bogotá del Siglo XXI",57,{"$f":"IF(ISERROR(VLOOKUP(K163,#REF!,2,FALSE)),\" \",VLOOKUP(K163,#REF!,2,FALSE))","v":" "},{"$f":"IF(ISERROR(VLOOKUP(K163,#REF!,3,FALSE)),\" \",VLOOKUP(K163,#REF!,3,FALSE))","v":" "},1873,0,1010208060,"ELIANA GIZETH TRIANA TORRES","Persona Natural",null,"N/A","N/A",null,36112000,0,2,17905533,{"$f":"+W163+X163+Z163","v":54017533},44989533,"2022-01-27","2022-02-02","2023-01-30",240,2,119,null,null,null,null,"En ejecución",{"$f":"IF(ISERROR(AB163/AA163),\"-\",(AB163/AA163))","v":0.8328690797486068}]
["FDLSC-CPS-393-2022",2022,"FDLSC-CD-187-2022","https://community.secop.gov.co/Public/Tendering/OpportunityDetail/Index?noticeUID=CO1.NTC.3075956&isFromPublicArea=True&isModal=true&asPopupView=true","Contratos de prestación de servicios profesionales y de apoyo a la gestión","Contratación directa","Prestación de servicios profesionales y de apoyo a la gestión, o para la ejecución de trabajos artísticos que sólo puedan encomendarse a determinadas personas naturales","PRESTAR SUS SERVICIOS PROFESIONALES ESPECIALIZADOS PARA APOYAR LA GESTION DE LOS ASUNTOS RELACIONADOS CON EL DESARROLLO DE LOS PROCESOS DE MALLA VIAL, ESPACIO PÚBLICO, INFRAESTRUCTURA DE OBRAS DE INGENIERÍA O ARQUITECTURA DEL FDLSC, DE CONFORMIDAD CON EL MARCO NORMATIVO APLICABLE EN LA MATERIA.”","Inversión","Un nuevo contrato social y ambiental para la Bogotá del Siglo XXI",57,{"$f":"IF(ISERROR(VLOOKUP(K164,#REF!,2,FALSE)),\" \",VLOOKUP(K164,#REF!,2,FALSE))","v":" "},{"$f":"IF(ISERROR(VLOOKUP(K164,#REF!,3,FALSE)),\" \",VLOOKUP(K164,#REF!,3,FALSE))","v":" "},1873,0,1013597108,"SANDRA YINETH FAJARDO USAQUÉN","Persona Natural",null,"N/A","N/A",null,45000000,0,1,9000000,{"$f":"+W164+X164+Z164","v":54000000},36600000,"2022-07-27","2022-07-29","2023-01-28",150,0,0,null,null,null,null,"En ejecución",{"$f":"IF(ISERROR(AB164/AA164),\"-\",(AB164/AA164))","v":0.67777777777777781}]
["FDLSC-CPS-096-2022",2022,"FDLSC-CD-057-2022","https://community.secop.gov.co/Public/Tendering/OpportunityDetail/Index?noticeUID=CO1.NTC.2648658&isFromPublicArea=True&isModal=true&asPopupView=true","Contratos de prestación de servicios profesionales y de apoyo a la gestión","Contratación directa","Prestación de servicios profesionales y de apoyo a la gestión, o para la ejecución de trabajos artísticos que sólo puedan encomendarse a determinadas personas naturales","PRESTAR SUS SERVICIOS PROFESIONALES ESPECIALIZADOS PARA APOYAR LA GESTION DE LOS ASUNTOS RELACIONADOS CON EL DESARROLLO DE LOS PROCESOS DE MALLA VIAL, ESPACIO PÚBLICO, INFRAESTRUCTURA DE OBRAS DE INGENIERÍA  O ARQUITECTURA DEL FDLSC, DE CONFORMIDAD CON EL MARCO NORMATIVO APLICABLE EN LA MATERIA.","Inversión","Un nuevo contrato social y ambiental para la Bogotá del Siglo XXI",57,{"$f":"IF(ISERROR(VLOOKUP(K165,#REF!,2,FALSE)),\" \",VLOOKUP(K165,#REF!,2,FALSE))","v":" "},{"$f":"IF(ISERROR(VLOOKUP(K165,#REF!,3,FALSE)),\" \",VLOOKUP(K165,#REF!,3,FALSE))","v":" "},1873,0,1013597108,"SANDRA YINETH FAJARDO USAQUÉN","Persona Natural",null,"N/A","N/A",null,54000000,0,0,0,{"$f":"+W165+X165+Z165","v":54000000},54000000,"2022-01-24","2022-01-27","2022-07-26",180,0,0,null,null,null,null,"Terminado",{"$f":"IF(ISERROR(AB165/AA165),\"-\",(AB165/AA165))","v":1}]
["FDLSC-CPS-153-2022",2022,"FDLSC-CD-076-2022","https://community.secop.gov.co/Public/Tendering/OpportunityDetail/Index?noticeUID=CO1.NTC.2685749&isFromPublicArea=True&isModal=true&asPopupView=true","Contratos de prestación de servicios profesionales y de apoyo a la gestión","Contratación directa","Prestación de servicios profesionales y de apoyo a la gestión, o para la ejecución de trabajos artísticos que sólo puedan encomendarse a determinadas personas naturales","PRESTAR SUS SERVICIOS PROFESIONALES PARA LA GESTIÓN DEL RIESGO, A LA LUZ DEL PLAN DE DESARROLLO 2021-2024, UN NUEVO CONTRATO AMBIENTAL Y SOCIAL PARA SAN CRISTÓBAL.","Inversión","Un nuevo contrato social y ambiental para la Bogotá del Siglo XXI",30,{"$f":"IF(ISERROR(VLOOKUP(K166,#REF!,2,FALSE)),\" \",VLOOKUP(K166,#REF!,2,FALSE))","v":" "},{"$f":"IF(ISERROR(VLOOKUP(K166,#REF!,3,FALSE)),\" \",VLOOKUP(K166,#REF!,3,FALSE))","v":" "},1866,0,1010205046,"GINNA MILENA CEPEDA VELASCO","Persona Natural",null,"N/A","N/A",null,36112000,0,2,17604600,{"$f":"+W166+X166+Z166","v":53716600},44688600,"2022-01-25","2022-02-04","2023-01-30",240,2,117,null,null,null,null,"En ejecución",{"$f":"IF(ISERROR(AB166/AA166),\"-\",(AB166/AA166))","v":0.83193277310924374}]
["FDLSC-CPS-047-2022",2022,"FDLSC-CD-018-2022","https://community.secop.gov.co/Public/Tendering/OpportunityDetail/Index?noticeUID=CO1.NTC.2604610&isFromPublicArea=True&isModal=true&asPopupView=true","Contratos de prestación de servicios profesionales y de apoyo a la gestión","Contratación directa","Prestación de servicios profesionales y de apoyo a la gestión, o para la ejecución de trabajos artísticos que sólo puedan encomendarse a determinadas personas naturales","PRESTAR LOS SERVICIOS PROFESIONALES PARA LA OPERACIÓN, SEGUIMIENTO Y CUMPLIMIENTO DE LOS PROCESOS Y PROCEDIMIENTOS DEL SERVICIO APOYO ECONÓMICO TIPO C, REQUERIDOS PARA EL OPORTUNO Y ADECUADO REGISTRO, CRUCE Y REPORTE DE LOS DATOS EN EL SISTEMA MISIONAL SIRBE, QUE CONTRIBUYAN A LA GARANTÍA DE LOS DERECHOS DE LA POBLACIÓN MAYOR EN EL MARCO DE LA POLÍTICA PÚBLICA SOCIAL PARA EL ENVEJECIMIENTO Y LA VEJEZ EN EL DISTRITO CAPITAL A CARGO DE LA ALCALDÍA LOCAL","Inversión","Un nuevo contrato social y ambiental para la Bogotá del Siglo XXI",1,{"$f":"IF(ISERROR(VLOOKUP(K167,#REF!,2,FALSE)),\" \",VLOOKUP(K167,#REF!,2,FALSE))","v":" "},{"$f":"IF(ISERROR(VLOOKUP(K167,#REF!,3,FALSE)),\" \",VLOOKUP(K167,#REF!,3,FALSE))","v":" "},1852,0,53102990,"NYDIA EDITH GUTIERREZ GARZON","Persona Natural",null,"N/A","N/A",null,36160000,0,2,17477333,{"$f":"+W167+X167+Z167","v":53637333},44597333,"2022-01-25","2022-02-05","2023-01-30",240,1,86,null,null,null,null,"En ejecución",{"$f":"IF(ISERROR(AB167/AA167),\"-\",(AB167/AA167))","v":0.83146067310990279}]
["353",2021,"FDLSC-SASI-002-2021","https://community.secop.gov.co/Public/Tendering/OpportunityDetail/Index?noticeUID=CO1.NTC.2139275&isFromPublicArea=True&isModal=False","Suministro","Selección abreviada","Subasta inversa ","CONTRATAR A MONTO AGOTABLE EL SUMINISTRO DE INSUMOS, REFRIGERIOS Y ELEMENTOS DE MERCHANDISING REQUERIDOS PARA EL DESARROLLO LOGISTICO Y OPERATIVO DEL PROGRAMA “RETO LOCAL JOVENES Y ENTORNOS SEGUROS” EN LA LOCALIDAD DE SAN CRISTÓBAL POR EL LOTE 2","Inversión","Un nuevo contrato social y ambiental para la Bogotá del Siglo XXI",1,{"$f":"IF(ISERROR(VLOOKUP(K168,#REF!,2,FALSE)),\" \",VLOOKUP(K168,#REF!,2,FALSE))","v":" "},{"$f":"IF(ISERROR(VLOOKUP(K168,#REF!,3,FALSE)),\" \",VLOOKUP(K168,#REF!,3,FALSE))","v":" "},1852,0,"900879034","INVERSIONES AYL SAS","Persona Jurídica","N/A","N/A","N/A",null,0,0,1,52550000,{"$f":"+W168+X168+Z168","v":52550000},39064010,"2022-05-16","2022-08-27","2022-08-26",360,0,0,null,null,null,null,"Liquidado",{"$f":"IF(ISERROR(AB168/AA168),\"-\",(AB168/AA168))","v":0.74336841103710749}]
["FDLSC-CPS-241-2022",2022,"FDLSC-CD-119-2022","https://community.secop.gov.co/Public/Tendering/OpportunityDetail/Index?noticeUID=CO1.NTC.2728056&isFromPublicArea=True&isModal=true&asPopupView=true","Contratos de prestación de servicios profesionales y de apoyo a la gestión","Contratación directa","Prestación de servicios profesionales y de apoyo a la gestión, o para la ejecución de trabajos artísticos que sólo puedan encomendarse a determinadas personas naturales","PRESTAR SUS SERVICIOS PROFESIONALES PARA APOYAR LOS TEMAS RELACIONADOS AL SISTEMA INTEGRADO DE GESTIÓN DE CALIDAD (SIG) DE ACUERDO CON LAS SOLCITUDES DE LA ADMINISTRACIÓN LOCAL.","Inversión","Un nuevo contrato social y ambiental para la Bogotá del Siglo XXI",57,{"$f":"IF(ISERROR(VLOOKUP(K169,#REF!,2,FALSE)),\" \",VLOOKUP(K169,#REF!,2,FALSE))","v":" "},{"$f":"IF(ISERROR(VLOOKUP(K169,#REF!,3,FALSE)),\" \",VLOOKUP(K169,#REF!,3,FALSE))","v":" "},1873,0,79967309,"VICTOR JOVANI MORENO YEPES","Persona Natural",null,"N/A","N/A",null,52000000,0,0,0,{"$f":"+W169+X169+Z169","v":52000000},48183333,"2022-01-27","2022-02-02","2022-08-12",240,0,0,null,null,null,null,"Liquidado",{"$f":"IF(ISERROR(AB169/AA169),\"-\",(AB169/AA169))","v":0.9266025576923077}]
["FDLSC-CPS-666-2022",2022,"FDLSC-SAMC-005-2022","https://community.secop.gov.co/Public/Tendering/OpportunityDetail/Index?noticeUID=CO1.NTC.3601213&isFromPublicArea=True&isModal=true&asPopupView=true","Contratos de prestación de servicios","Selección abreviada","Selección abreviada por menor cuantía ","CONTRATAR LOS SERVICIOS DE APOYO LOGÍSTICOS, TRANSPORTE, PUBLICITARIOS, ELEMENTOS DE MERCHANDISING Y CATERING REQUERIDOS PARA EL DESARROLLO OPERATIVO DE LOS EVENTOS LIDERADOS POR LA ALCALDIA LOCAL DE SAN CRISTÓBAL","Inversión","Un nuevo contrato social y ambiental para la Bogotá del Siglo XXI",55,{"$f":"IF(ISERROR(VLOOKUP(K170,#REF!,2,FALSE)),\" \",VLOOKUP(K170,#REF!,2,FALSE))","v":" "},{"$f":"IF(ISERROR(VLOOKUP(K170,#REF!,3,FALSE)),\" \",VLOOKUP(K170,#REF!,3,FALSE))","v":" "},1872,1,900521780,"B2 NETWORKS S A S","Persona Jurídica",null,"N/A","N/A",null,51971024,0,0,0,{"$f":"+W170+X170+Z170","v":51971024},0,"2022-12-28",null,null,180,null,null,null,null,null,null,"Celebrado o por iniciar",{"$f":"IF(ISERROR(AB170/AA170),\"-\",(AB170/AA170))","v":0}]
["FDLSC-CPS-239-2022",2022,"FDLSC-CD-124-2022","https://community.secop.gov.co/Public/Tendering/OpportunityDetail/Index?noticeUID=CO1.NTC.2745217&isFromPublicArea=True&isModal=true&asPopupView=true","Contratos de prestación de servicios profesionales y de apoyo a la gestión","Contratación directa","Prestación de servicios profesionales y de apoyo a la gestión, o para la ejecución de trabajos artísticos que sólo puedan encomendarse a determinadas personas naturales","PRESTAR SUS SERVICIOS PROFESIONALES PARA APOYAR EN LA FORMULACIÓN Y ACOMPAÑAMIENTO DE LOS ACUERDOS QUE PROMUEVAN LA FORMALIDAD, EL ACCESO PARA EL APROVECHAMIENTO DEL ESPACIO PÚBLICO.","Inversión","Un nuevo contrato social y ambiental para la Bogotá del Siglo XXI",45,{"$f":"IF(ISERROR(VLOOKUP(K171,#REF!,2,FALSE)),\" \",VLOOKUP(K171,#REF!,2,FALSE))","v":" "},{"$f":"IF(ISERROR(VLOOKUP(K171,#REF!,3,FALSE)),\" \",VLOOKUP(K171,#REF!,3,FALSE))","v":" "},1835,0,79387457,"JOSE MARTIN MORALES TORRES","Persona Natural",null,"N/A","N/A",null,36112000,0,2,15799000,{"$f":"+W171+X171+Z171","v":51911000},42883000,"2022-01-27","2022-02-16","2023-01-30",240,2,105,null,null,null,null,"En ejecución",{"$f":"IF(ISERROR(AB171/AA171),\"-\",(AB171/AA171))","v":0.82608695652173914}]
["FDLSC-INTV-642-2022",2022,"FDLSC-CMA-005-2022","https://community.secop.gov.co/Public/Tendering/OpportunityDetail/Index?noticeUID=CO1.NTC.3623449&isFromPublicArea=True&isModal=true&asPopupView=true","Interventoría","Concurso de méritos","No aplica","REALIZAR LA INTERVENTORÍA TÉCNICA, ADMINISTRATIVA, FINANCIERA, SOCIAL, CONTABLE, AMBIENTAL Y JURÍDICA AL CONTRATO QUE TIENE POR OBJETO CONTRATAR LA ELABORACIÓN DE ESTUDIOS, DISEÑOS Y OBTENCIÓN DE LA LICENCIA DE CONSTRUCCIÓN EN LA MODALIDAD QUE CORRESPONDA Y DISPONIBILIDAD DE SERVICIOS PUBLICOS PARA LA CONSTRUCCIÓN DE SALONES COMUNALES EN LA LOCALIDAD DE SAN CRISTOBAL DE LA CIUDAD DE BOGOTÁ D. C","Inversión","Un nuevo contrato social y ambiental para la Bogotá del Siglo XXI",55,{"$f":"IF(ISERROR(VLOOKUP(K172,#REF!,2,FALSE)),\" \",VLOOKUP(K172,#REF!,2,FALSE))","v":" "},{"$f":"IF(ISERROR(VLOOKUP(K172,#REF!,3,FALSE)),\" \",VLOOKUP(K172,#REF!,3,FALSE))","v":" "},1872,2,900160387,"CEYCO INGENIERIA SAS","Persona Jurídica",null,"N/A","N/A",null,51524376,0,0,0,{"$f":"+W172+X172+Z172","v":51524376},0,"2022-12-23",null,null,180,null,null,null,null,null,null,"Celebrado o por iniciar",{"$f":"IF(ISERROR(AB172/AA172),\"-\",(AB172/AA172))","v":0}]
["FDLSC-CPS-041-2022",2022,"FDLSC-CD-025-2022","https://community.secop.gov.co/Public/Tendering/OpportunityDetail/Index?noticeUID=CO1.NTC.2645012&isFromPublicArea=True&isModal=true&asPopupView=true","Contratos de prestación de servicios profesionales y de apoyo a la gestión","Contratación directa","Prestación de servicios profesionales y de apoyo a la gestión, o para la ejecución de trabajos artísticos que sólo puedan encomendarse a determinadas personas naturales","PRESTAR SERVICIOS PROFESIONALES ESPECIALIZADOS PARA TRAMITAR LAS ETAPAS PRECONTRACTUALES Y CONTRACTUALES DE ACUERDO CON EL PLAN DE ADQUISICIONES Y AL PLAN DE CONTRATACIÓN QUE ADELANTE EL FONDO DE DESARROLLO LOCAL DE SAN CRISTÓBAL EN EL MARCO DEL PLAN DE DESARROLLO 2021-2024.","Inversión","Un nuevo contrato social y ambiental para la Bogotá del Siglo XXI",57,{"$f":"IF(ISERROR(VLOOKUP(K173,#REF!,2,FALSE)),\" \",VLOOKUP(K173,#REF!,2,FALSE))","v":" "},{"$f":"IF(ISERROR(VLOOKUP(K173,#REF!,3,FALSE)),\" \",VLOOKUP(K173,#REF!,3,FALSE))","v":" "},1873,0,79906188,"RODNY FABIAN ORTIZ CHAMORRO","Persona Natural",null,"N/A","N/A",null,51170400,0,0,0,{"$f":"+W173+X173+Z173","v":51170400},51170400,"2022-01-21","2022-01-25","2022-07-24",180,0,0,null,null,null,null,"Terminado",{"$f":"IF(ISERROR(AB173/AA173),\"-\",(AB173/AA173))","v":1}]
["FDLSC-CPS-210-2022",2022,"FDLSC-CD-068-2022","https://community.secop.gov.co/Public/Tendering/OpportunityDetail/Index?noticeUID=CO1.NTC.2713299&isFromPublicArea=True&isModal=False","Contratos de prestación de servicios profesionales y de apoyo a la gestión","Contratación directa","Prestación de servicios profesionales y de apoyo a la gestión, o para la ejecución de trabajos artísticos que sólo puedan encomendarse a determinadas personas naturales","PRESTAR LOS SERVICIOS DE APOYO TECNICO  A LA GESTIÓN DE LA ALCALDÍA LOCAL DE SAN CRISTOBAL EN EL DESARROLLO DE ACTIVIDADES DE REACTIVACIÓN ECONOMICA, ACOMPAÑAMIENTO EN CAMPO Y PARTICIPACIÓN EN LOS PROCESOS NECESARIOS PARA LA CORRECTA EJECUCIÓN DE LOS EVENTOS RELACIONADOS Y DE LAS NECESIDADES DE LA ALCALDIA LOCAL.","Inversión","Un nuevo contrato social y ambiental para la Bogotá del Siglo XXI",6,{"$f":"IF(ISERROR(VLOOKUP(K174,#REF!,2,FALSE)),\" \",VLOOKUP(K174,#REF!,2,FALSE))","v":" "},{"$f":"IF(ISERROR(VLOOKUP(K174,#REF!,3,FALSE)),\" \",VLOOKUP(K174,#REF!,3,FALSE))","v":" "},1865,0,79685883,"JUAN CARLOS HIGUERA TRIANA","Persona Natural",null,"N/A","N/A",null,34400000,0,2,16626667,{"$f":"+W174+X174+Z174","v":51026667},42426666,"2022-01-26","2022-02-05","2023-01-30",240,1,86,null,null,null,null,"En ejecución",{"$f":"IF(ISERROR(AB174/AA174),\"-\",(AB174/AA174))","v":0.83146065566069605}]
["FDLSC-CPS-171-2022",2022,"FDLSC-CD-082-2022","https://community.secop.gov.co/Public/Tendering/OpportunityDetail/Index?noticeUID=CO1.NTC.2681345&isFromPublicArea=True&isModal=true&asPopupView=true","Contratos de prestación de servicios profesionales y de apoyo a la gestión","Contratación directa","Prestación de servicios profesionales y de apoyo a la gestión, o para la ejecución de trabajos artísticos que sólo puedan encomendarse a determinadas personas naturales","APOYAR TÉCNICAMENTE LAS DISTINTAS ETAPAS DE LOS PROCESOS DE COMPETENCIA DE LAS INSPECCIONES DE POLICÍA DE LA LOCALIDAD, SEGÚN REPARTO.","Inversión","Un nuevo contrato social y ambiental para la Bogotá del Siglo XXI",57,{"$f":"IF(ISERROR(VLOOKUP(K175,#REF!,2,FALSE)),\" \",VLOOKUP(K175,#REF!,2,FALSE))","v":" "},{"$f":"IF(ISERROR(VLOOKUP(K175,#REF!,3,FALSE)),\" \",VLOOKUP(K175,#REF!,3,FALSE))","v":" "},1873,0,19427171,"JOSE GABRIEL MOLINA LAGOS","Persona Natural",null,"N/A","N/A",null,50985000,0,0,0,{"$f":"+W175+X175+Z175","v":50985000},50985000,"2022-01-25","2022-02-03","2022-11-02",270,0,0,null,null,null,null,"Terminado",{"$f":"IF(ISERROR(AB175/AA175),\"-\",(AB175/AA175))","v":1}]
["FDLSC-CPS-032-2022",2022,"FDLSC-CD-017-2022","https://community.secop.gov.co/Public/Tendering/OpportunityDetail/Index?noticeUID=CO1.NTC.2622154&isFromPublicArea=True&isModal=False\n","Contratos de prestación de servicios profesionales y de apoyo a la gestión","Contratación directa","Prestación de servicios profesionales y de apoyo a la gestión, o para la ejecución de trabajos artísticos que sólo puedan encomendarse a determinadas personas naturales","PRESTAR SUS SERVICIOS PROFESIONALES PARA EL APOYO TÉCNICO DEL PROYECTO DE SEPARACIÓN EN LA FUENTE, A LA LUZ DEL PLAN DE DESARROLLO 2021-2024 UN NUEVO CONTRATO AMBIENTAL Y SOCIAL PARA SAN CRISTÓBAL. ","Inversión","Un nuevo contrato social y ambiental para la Bogotá del Siglo XXI",38,{"$f":"IF(ISERROR(VLOOKUP(K176,#REF!,2,FALSE)),\" \",VLOOKUP(K176,#REF!,2,FALSE))","v":" "},{"$f":"IF(ISERROR(VLOOKUP(K176,#REF!,3,FALSE)),\" \",VLOOKUP(K176,#REF!,3,FALSE))","v":" "},1868,0,1019093729,"KEVIN CAMILO CUBILLOS SANCHEZ","Persona Natural",null,"N/A","N/A",null,36112000,0,1,14595267,{"$f":"+W176+X176+Z176","v":50707267},43936267,"2022-01-21","2022-01-24","2022-12-30",240,1,97,79279593,"EDGAR RODRIGO DOMINGUEZ AMADO","2022-05-11",33855000,"Terminado",{"$f":"IF(ISERROR(AB176/AA176),\"-\",(AB176/AA176))","v":0.86646884360776144}]
["FDLSC-CPS-028-2022",2022,"FDLSC-CD-017-2022","https://www.secop.gov.co/CO1ContractsManagement/Tendering/ProcurementContractEdit/View?docUniqueIdentifier=CO1.PCCNTR.3312966&prevCtxUrl=https%3a%2f%2fwww.secop.gov.co%2fCO1ContractsManagement%2fTendering%2fProcurementContractManagement%2fIndex&prevCtxLbl=Contratos+","Contratos de prestación de servicios profesionales y de apoyo a la gestión","Contratación directa","Prestación de servicios profesionales y de apoyo a la gestión, o para la ejecución de trabajos artísticos que sólo puedan encomendarse a determinadas personas naturales","PRESTAR SUS SERVICIOS PROFESIONALES PARA EL APOYO TÉCNICO DEL PROYECTO DE SEPARACIÓN EN LA FUENTE, A LA LUZ DEL PLAN DE DESARROLLO 2021-2024 UN NUEVO CONTRATO AMBIENTAL Y SOCIAL PARA SAN CRISTÓBAL. ","Inversión","Un nuevo contrato social y ambiental para la Bogotá del Siglo XXI",38,{"$f":"IF(ISERROR(VLOOKUP(K177,#REF!,2,FALSE)),\" \",VLOOKUP(K177,#REF!,2,FALSE))","v":" "},{"$f":"IF(ISERROR(VLOOKUP(K177,#REF!,3,FALSE)),\" \",VLOOKUP(K177,#REF!,3,FALSE))","v":" "},1868,0,1096200620,"DIANA ASTRID CHAMORRO RIVEROS","Persona Natural",null,"N/A","N/A",null,36112000,0,1,14595267,{"$f":"+W177+X177+Z177","v":50707267},46193267,"2022-01-21","2022-01-24","2022-12-30",240,1,97,null,null,null,null,"Terminado",{"$f":"IF(ISERROR(AB177/AA177),\"-\",(AB177/AA177))","v":0.91097922907184092}]
["FDLSC-CPS-249-2022",2022,"FDLSC-CD-131-2022","https://community.secop.gov.co/Public/Tendering/OpportunityDetail/Index?noticeUID=CO1.NTC.2744931&isFromPublicArea=True&isModal=true&asPopupView=true","Contratos de prestación de servicios profesionales y de apoyo a la gestión","Contratación directa","Prestación de servicios profesionales y de apoyo a la gestión, o para la ejecución de trabajos artísticos que sólo puedan encomendarse a determinadas personas naturales","EL CONTRATISTA PRESTARÁ SUS SERVICIOS PROFESIONALES PARA EL APOYO A LOS PROCESOS DE PROTECCIÓN Y BIENESTAR ANIMAL DEL FONDO DE DESARROLLO LOCAL DE SAN CRISTOBAL EN MATERIA ADMINISTRATIVA, ASI COMO LABORES DE CAMPO.","Inversión","Un nuevo contrato social y ambiental para la Bogotá del Siglo XXI",34,{"$f":"IF(ISERROR(VLOOKUP(K178,#REF!,2,FALSE)),\" \",VLOOKUP(K178,#REF!,2,FALSE))","v":" "},{"$f":"IF(ISERROR(VLOOKUP(K178,#REF!,3,FALSE)),\" \",VLOOKUP(K178,#REF!,3,FALSE))","v":" "},1826,0,1082772768,"PAOLA ZUNILDA ORDOÑEZ MOTTA","Persona Natural",null,"N/A","N/A",null,37080000,0,1,13441500,{"$f":"+W178+X178+Z178","v":50521500},45886500,"2022-01-27","2022-02-04","2022-12-30",240,1,87,null,null,null,null,"Terminado",{"$f":"IF(ISERROR(AB178/AA178),\"-\",(AB178/AA178))","v":0.90825688073394495}]
["FDLSC-CPS-143-2022",2022,"FDLSC-CD-072-2022","https://community.secop.gov.co/Public/Tendering/OpportunityDetail/Index?noticeUID=CO1.NTC.2675641&isFromPublicArea=True&isModal=true&asPopupView=true","Contratos de prestación de servicios profesionales y de apoyo a la gestión","Contratación directa","Prestación de servicios profesionales y de apoyo a la gestión, o para la ejecución de trabajos artísticos que sólo puedan encomendarse a determinadas personas naturales","PRESTAR SUS SERVICIOS PROFESIONALES EN LA DEPURACION DE OBLIGACIONES POR PAGAR, TRAMITE DE PAGOS Y LIQUIDACIÓN DE CONTRATOS, DE CONFORMIDAD CON LAS CONDICIONES Y OBLIGACIONES ESTABLECIDAS POR EL FONDO DE DESARROLLO LOCAL","Inversión","Un nuevo contrato social y ambiental para la Bogotá del Siglo XXI",57,{"$f":"IF(ISERROR(VLOOKUP(K179,#REF!,2,FALSE)),\" \",VLOOKUP(K179,#REF!,2,FALSE))","v":" "},{"$f":"IF(ISERROR(VLOOKUP(K179,#REF!,3,FALSE)),\" \",VLOOKUP(K179,#REF!,3,FALSE))","v":" "},1873,0,51563254,"MARTHA CECILIA HERNANDEZ TIBADUIZA","Persona Natural",null,"N/A","N/A",null,49600000,0,0,0,{"$f":"+W179+X179+Z179","v":49600000},49600000,"2022-01-26","2022-02-01","2022-09-30",240,0,0,null,null,null,null,"Terminado",{"$f":"IF(ISERROR(AB179/AA179),\"-\",(AB179/AA179))","v":1}]
["FDLSC-CPS-252-2022",2022,"FDLSC-CD-134-2022","https://community.secop.gov.co/Public/Tendering/OpportunityDetail/Index?noticeUID=CO1.NTC.2767388&isFromPublicArea=True&isModal=true&asPopupView=true","Contratos de prestación de servicios profesionales y de apoyo a la gestión","Contratación directa","Prestación de servicios profesionales y de apoyo a la gestión, o para la ejecución de trabajos artísticos que sólo puedan encomendarse a determinadas personas naturales","PRESTAR SUS SERVICIOS PROFESIONALES AL FDLSC PARA REALIZAR LA FORMULACIÓN, PRESENTACIÓN, EVALUACIÓN, SEGUIMIENTO Y APOYO A LA SUPERVISIÓN DE LOS PROCESOS CONTRACTUALES DERIVADOS DEL PROYECTO DE INVERSIÓN 1801 SAN CRISTÓBAL ES DEPORTE Y LOS DEMÁS QUE LE SEAN ASIGNADOS POR PLANEACION.","Inversión","Un nuevo contrato social y ambiental para la Bogotá del Siglo XXI",57,{"$f":"IF(ISERROR(VLOOKUP(K180,#REF!,2,FALSE)),\" \",VLOOKUP(K180,#REF!,2,FALSE))","v":" "},{"$f":"IF(ISERROR(VLOOKUP(K180,#REF!,3,FALSE)),\" \",VLOOKUP(K180,#REF!,3,FALSE))","v":" "},1873,0,79646805,"FREDY ALBERTO HERNANDEZ PAEZ ","Persona Natural",null,"N/A","N/A",null,37080000,0,1,12360000,{"$f":"+W180+X180+Z180","v":49440000},49440000,"2022-01-28","2022-02-11","2022-10-11",180,1,60,null,null,null,null,"Terminado",{"$f":"IF(ISERROR(AB180/AA180),\"-\",(AB180/AA180))","v":1}]
["FDLSC-CPS-201-2022",2022,"FDLSC-CD-099-2022","https://community.secop.gov.co/Public/Tendering/OpportunityDetail/Index?noticeUID=CO1.NTC.2697591&isFromPublicArea=True&isModal=true&asPopupView=true","Contratos de prestación de servicios profesionales y de apoyo a la gestión","Contratación directa","Prestación de servicios profesionales y de apoyo a la gestión, o para la ejecución de trabajos artísticos que sólo puedan encomendarse a determinadas personas naturales","PRESTAR SUS SERVICIOS PROFESIONALES EN EL APOYO DE LOS PROCESOS E INSTANCIAS DE PARTICIPACIÓN CIUDADANA DE CONFORMIDAD CON EL MARCO NORMATIVO APLICABLE EN LA MATERIA.","Inversión","Un nuevo contrato social y ambiental para la Bogotá del Siglo XXI",55,{"$f":"IF(ISERROR(VLOOKUP(K181,#REF!,2,FALSE)),\" \",VLOOKUP(K181,#REF!,2,FALSE))","v":" "},{"$f":"IF(ISERROR(VLOOKUP(K181,#REF!,3,FALSE)),\" \",VLOOKUP(K181,#REF!,3,FALSE))","v":" "},1872,0,1023947690,"ANGIE LORENA PARRA GALINDO","Persona Natural",null,"N/A","N/A",null,36108456,0,1,13239767,{"$f":"+W181+X181+Z181","v":49348223},44834665,"2022-01-26","2022-02-03","2022-12-30",240,1,88,79604201,"PEDRO MIGUEL RODRIGUEZ BARBOSA","2022-04-20",24523660,"Terminado",{"$f":"IF(ISERROR(AB181/AA181),\"-\",(AB181/AA181))","v":0.90853656473101374}]
["FDLSC-CPS-228-2022",2022,"FDLSC-CD-114-2022","https://community.secop.gov.co/Public/Tendering/OpportunityDetail/Index?noticeUID=CO1.NTC.2735351&isFromPublicArea=True&isModal=true&asPopupView=true","Contratos de prestación de servicios profesionales y de apoyo a la gestión","Contratación directa","Prestación de servicios profesionales y de apoyo a la gestión, o para la ejecución de trabajos artísticos que sólo puedan encomendarse a determinadas personas naturales","PRESTAR SUS SERVICIOS PROFESIONALES PARA APOYAR EN LA PRODUCCIÓN, MONTAJE Y REALIZACIÓN DE EVENTOS DE LA ALCALDÍA LOCAL PARA LA DIFUSION DE CONTENIDOS Y ACTIVIDADES DE LA ENTIDAD.","Inversión","Un nuevo contrato social y ambiental para la Bogotá del Siglo XXI",57,{"$f":"IF(ISERROR(VLOOKUP(K182,#REF!,2,FALSE)),\" \",VLOOKUP(K182,#REF!,2,FALSE))","v":" "},{"$f":"IF(ISERROR(VLOOKUP(K182,#REF!,3,FALSE)),\" \",VLOOKUP(K182,#REF!,3,FALSE))","v":" "},1873,0,1023894240,"GIOVANNY ALBERTO ALFONSO MARIN","Persona Natural",null,"N/A","N/A",null,36112000,0,1,13090600,{"$f":"+W182+X182+Z182","v":49202600},42582066,"2022-01-27","2022-02-04","2022-12-30",240,1,87,1032504794,"DANIEL SANTIAGO GONZALEZ MUÑOZ","2022-06-15",17153200,"Terminado",{"$f":"IF(ISERROR(AB182/AA182),\"-\",(AB182/AA182))","v":0.86544341152703308}]
["FDLSC-CPS-245-2022",2022,"FDLSC-CD-127-2022","https://community.secop.gov.co/Public/Tendering/OpportunityDetail/Index?noticeUID=CO1.NTC.2740002&isFromPublicArea=True&isModal=true&asPopupView=true","Contratos de prestación de servicios profesionales y de apoyo a la gestión","Contratación directa","Prestación de servicios profesionales y de apoyo a la gestión, o para la ejecución de trabajos artísticos que sólo puedan encomendarse a determinadas personas naturales","PRESTAR SUS SERVICIOS PROFESIONALES AL FDLSC PARA APOYAR LA FORMULACIÓN,SEGUIMIENTO Y SUPERVISIÓN DE LOS PROCESOS CONTRACTUALES DERIVADOS DEL PROYECTO DE INVERSIÓN 1811 SAN CRISTÓBAL TE CUIDA, PARA LA ATENCIÓN A  POBLACIÓN AFECTADA POR VIOLENCIA INTRAFAMILIAR Y/O SEXUAL EN SITUACIÓN DE VULNERABILIDAD","Inversión","Un nuevo contrato social y ambiental para la Bogotá del Siglo XXI",6,{"$f":"IF(ISERROR(VLOOKUP(K183,#REF!,2,FALSE)),\" \",VLOOKUP(K183,#REF!,2,FALSE))","v":" "},{"$f":"IF(ISERROR(VLOOKUP(K183,#REF!,3,FALSE)),\" \",VLOOKUP(K183,#REF!,3,FALSE))","v":" "},1811,0,1023936015,"YENNY NATALIA VELANDIA CAÑON","Persona Natural",null,"N/A","N/A",null,36112000,0,1,12940133,{"$f":"+W183+X183+Z183","v":49052133},44538133,"2022-01-28","2022-02-05","2022-12-30",240,1,86,null,null,null,null,"Terminado",{"$f":"IF(ISERROR(AB183/AA183),\"-\",(AB183/AA183))","v":0.90797545949734748}]
["FDLSC-CPS-300-2022",2022,"FDLSC-CD-154-2022","https://community.secop.gov.co/Public/Tendering/OpportunityDetail/Index?noticeUID=CO1.NTC.2771618&isFromPublicArea=True&isModal=true&asPopupView=true","Contratos de prestación de servicios profesionales y de apoyo a la gestión","Contratación directa","Prestación de servicios profesionales y de apoyo a la gestión, o para la ejecución de trabajos artísticos que sólo puedan encomendarse a determinadas personas naturales","PRESTAR SUS SERVICIOS PROFESIONALES AL FDLSC PARA APOYAR LA FORMULACIÓN, SEGUIMIENTO Y SUPERVISIÓN DE LOS PROCESOS CONTRACTUALES DERIVADOS DEL PROYECTO DE INVERSIÓN 1811 SAN CRISTÓBAL TE CUIDA, PARA LA ATENCIÓN A  POBLACIÓN AFECTADA POR VIOLENCIA INTRAFAMILIAR Y/O SEXUAL EN SITUACIÓN DE VULNERABILIDAD","Inversión","Un nuevo contrato social y ambiental para la Bogotá del Siglo XXI",6,{"$f":"IF(ISERROR(VLOOKUP(K184,#REF!,2,FALSE)),\" \",VLOOKUP(K184,#REF!,2,FALSE))","v":" "},{"$f":"IF(ISERROR(VLOOKUP(K184,#REF!,3,FALSE)),\" \",VLOOKUP(K184,#REF!,3,FALSE))","v":" "},1811,0,1065847255,"ANDREA CAROLINA OÑATE JALILIE","Persona Natural",null,"N/A","N/A",null,36112000,0,1,12940113,{"$f":"+W184+X184+Z184","v":49052113},44538133,"2022-01-28","2022-02-05","2022-12-30",240,1,86,null,null,null,null,"Terminado",{"$f":"IF(ISERROR(AB184/AA184),\"-\",(AB184/AA184))","v":0.90797582970584778}]
["FDLSC-CPS-350-2022",2022,"FDLSC-CD-117-2022","https://community.secop.gov.co/Public/Tendering/OpportunityDetail/Index?noticeUID=CO1.NTC.2713421&isFromPublicArea=True&isModal=true&asPopupView=true","Contratos de prestación de servicios profesionales y de apoyo a la gestión","Contratación directa","Prestación de servicios profesionales y de apoyo a la gestión, o para la ejecución de trabajos artísticos que sólo puedan encomendarse a determinadas personas naturales","PRESTAR SUS SERVICIOS PROFESIONALES EN EL ÁREA DE GESTIÓN DE DESARROLLO LOCAL, REALIZANDO ACTIVIDADES ESTADÍSTICAS DE LOS PROYECTOS DE INVERSIÓN, DATOS ABIERTOS, ASÍ COMO DE IDENTIFICACIÓN, GEORREFERENCIACIÓN Y ADQUISICIÓN DE INFORMACIÓN PREDIAL PARA LOS DIFERENTES PROYECTOS DE LA ALCALDÍA LOCAL DE SAN CRISTÓBAL.","Inversión","Un nuevo contrato social y ambiental para la Bogotá del Siglo XXI",57,{"$f":"IF(ISERROR(VLOOKUP(K185,#REF!,2,FALSE)),\" \",VLOOKUP(K185,#REF!,2,FALSE))","v":" "},{"$f":"IF(ISERROR(VLOOKUP(K185,#REF!,3,FALSE)),\" \",VLOOKUP(K185,#REF!,3,FALSE))","v":" "},1873,0,53039333,"GISEL ANDREA QUINCHANEGUA URQUIJO","Persona Natural",null,"N/A","N/A",null,33000000,0,1,15950000,{"$f":"+W185+X185+Z185","v":48950000},43450000,"2022-01-28","2022-02-04","2022-12-30",180,1,87,null,null,null,null,"Terminado",{"$f":"IF(ISERROR(AB185/AA185),\"-\",(AB185/AA185))","v":0.88764044943820219}]
["FDLSC-CPS-029-2022",2022,"FDLSC-CD-018-2022","https://community.secop.gov.co/Public/Tendering/OpportunityDetail/Index?noticeUID=CO1.NTC.2604610&isFromPublicArea=True&isModal=true&asPopupView=true","Contratos de prestación de servicios profesionales y de apoyo a la gestión","Contratación directa","Prestación de servicios profesionales y de apoyo a la gestión, o para la ejecución de trabajos artísticos que sólo puedan encomendarse a determinadas personas naturales","PRESTAR LOS SERVICIOS PROFESIONALES PARA LA OPERACIÓN, SEGUIMIENTO Y CUMPLIMIENTO DE LOS PROCESOS Y PROCEDIMIENTOS DEL SERVICIO APOYO ECONÓMICO TIPO C, REQUERIDOS PARA EL OPORTUNO Y ADECUADO REGISTRO, CRUCE Y REPORTE DE LOS DATOS EN EL SISTEMA MISIONAL SIRBE, QUE CONTRIBUYAN A LA GARANTÍA DE LOS DERECHOS DE LA POBLACIÓN MAYOR EN EL MARCO DE LA POLÍTICA PÚBLICA SOCIAL PARA EL ENVEJECIMIENTO Y LA VEJEZ EN EL DISTRITO CAPITAL A CARGO DE LA ALCALDÍA LOCAL","Inversión","Un nuevo contrato social y ambiental para la Bogotá del Siglo XXI",1,{"$f":"IF(ISERROR(VLOOKUP(K186,#REF!,2,FALSE)),\" \",VLOOKUP(K186,#REF!,2,FALSE))","v":" "},{"$f":"IF(ISERROR(VLOOKUP(K186,#REF!,3,FALSE)),\" \",VLOOKUP(K186,#REF!,3,FALSE))","v":" "},1852,0,51723412,"AURORA YARA MARTIN","Persona Natural",null,"N/A","N/A",null,36160000,0,1,12656000,{"$f":"+W186+X186+Z186","v":48816000},39474667,"2022-01-27","2022-02-07","2023-01-30",240,1,84,1030614391,"STEFFANY  ESCOBAR FRANCO\n","2022-09-19",17176000,"En ejecución",{"$f":"IF(ISERROR(AB186/AA186),\"-\",(AB186/AA186))","v":0.80864198213700422}]
["FDLSC-CPS-092-2022",2022,"FDLSC-CD-053-2022","https://community.secop.gov.co/Public/Tendering/OpportunityDetail/Index?noticeUID=CO1.NTC.2687388&isFromPublicArea=True&isModal=true&asPopupView=true","Contratos de prestación de servicios profesionales y de apoyo a la gestión","Contratación directa","Prestación de servicios profesionales y de apoyo a la gestión, o para la ejecución de trabajos artísticos que sólo puedan encomendarse a determinadas personas naturales","PRESTAR SUS SERVICIOS PROFESIONALES ESPECIALIZADOS PARA APOYAR A EL ALCALDE LOCAL EN LA GESTIÓN DE LOS ASUNTOS RELACIONADOS CON SEGURIDAD CIUDADANA, CONVIVENCIA, PREVENCIÓN DE CONFLICTIVIDADES, VIOLENCIAS Y DELITOS EN LA LOCALIDAD, DE CONFORMIDAD CON EL MARCO NORMATIVO APLICABLE EN LA MATERIA.","Inversión","Un nuevo contrato social y ambiental para la Bogotá del Siglo XXI",57,{"$f":"IF(ISERROR(VLOOKUP(K187,#REF!,2,FALSE)),\" \",VLOOKUP(K187,#REF!,2,FALSE))","v":" "},{"$f":"IF(ISERROR(VLOOKUP(K187,#REF!,3,FALSE)),\" \",VLOOKUP(K187,#REF!,3,FALSE))","v":" "},1873,0,79740299,"FREDDY ARTURO CARDEÑO MEJÍA","Persona Natural",null,"N/A","N/A",null,84975000,-36565000,0,0,{"$f":"+W187+X187+Z187","v":48410000},48410000,"2022-01-27","2022-02-04","2022-08-11",330,0,0,null,null,null,null,"Liquidado",{"$f":"IF(ISERROR(AB187/AA187),\"-\",(AB187/AA187))","v":1}]
["FDLSC-CPS-192-2022",2022,"FDLSC-CD-092-2022","https://community.secop.gov.co/Public/Tendering/OpportunityDetail/Index?noticeUID=CO1.NTC.2691669&isFromPublicArea=True&isModal=true&asPopupView=true","Contratos de prestación de servicios profesionales y de apoyo a la gestión","Contratación directa","Prestación de servicios profesionales y de apoyo a la gestión, o para la ejecución de trabajos artísticos que sólo puedan encomendarse a determinadas personas naturales","PRESTAR SUS SERVICIOS PROFESIONALES PARA EL SEGUIMIENTO TÉCNICO Y OPERATIVO DEL PROYECTO DE INVERSIÓN 1835, ASÍ CÓMO LA FORMULACIÓN, PRESENTACIÓN EVALUACIÓN Y SEGUIMIENTO DEL MISMO, EN EL MARCO DE LAS NECESIDADES DE LA ALCALDÍA LOCAL DE SAN CRISTÓBAL","Inversión","Un nuevo contrato social y ambiental para la Bogotá del Siglo XXI",45,{"$f":"IF(ISERROR(VLOOKUP(K188,#REF!,2,FALSE)),\" \",VLOOKUP(K188,#REF!,2,FALSE))","v":" "},{"$f":"IF(ISERROR(VLOOKUP(K188,#REF!,3,FALSE)),\" \",VLOOKUP(K188,#REF!,3,FALSE))","v":" "},1835,0,53117416,"ELIZABETH CARDENAS POVEDA","Persona Natural",null,"N/A","N/A",null,48000000,0,0,0,{"$f":"+W188+X188+Z188","v":48000000},40400000,"2022-01-26","2022-02-01","2022-09-30",240,0,0,52870411,"SARA DEL PILAR PEREZ GOMEZ","2022-03-09",40400000,"Terminado",{"$f":"IF(ISERROR(AB188/AA188),\"-\",(AB188/AA188))","v":0.84166666666666667}]
["FDLSC-CPS-425-2022",2022,"FDLSC-CD-205-2022","https://community.secop.gov.co/Public/Tendering/OpportunityDetail/Index?noticeUID=CO1.NTC.3123349&isFromPublicArea=True&isModal=true&asPopupView=true","Contratos de prestación de servicios profesionales y de apoyo a la gestión","Contratación directa","Prestación de servicios profesionales y de apoyo a la gestión, o para la ejecución de trabajos artísticos que sólo puedan encomendarse a determinadas personas naturales","PRESTAR SERVICIOS PROFESIONALES ESPECIALIZADOS PARA TRAMITAR LAS ETAPAS PRECONTRACTUALES Y CONTRACTUALES DE ACUERDO CON EL PLAN DE ADQUISICIONES Y EL PLAN DE CONTRATACIÓN QUE ADELANTE EL FONDO DE DESARROLLO LOCAL DE SAN CRISTÓBAL EN EL MARCO DEL PLAN DE DESARROLLO 2021-2024","Inversión","Un nuevo contrato social y ambiental para la Bogotá del Siglo XXI",57,{"$f":"IF(ISERROR(VLOOKUP(K189,#REF!,2,FALSE)),\" \",VLOOKUP(K189,#REF!,2,FALSE))","v":" "},{"$f":"IF(ISERROR(VLOOKUP(K189,#REF!,3,FALSE)),\" \",VLOOKUP(K189,#REF!,3,FALSE))","v":" "},1873,0,1032451121,"NUBIA YULIETH SALAZAR PARDO","Persona Natural",null,"N/A","N/A",null,42642000,0,1,4264200,{"$f":"+W189+X189+Z189","v":46906200},30702240,"2022-08-08","2022-08-10","2023-01-24",120,0,0,41636317,"MARTHA ELIZABETH TRIANA LAVERDE","2022-09-20",35535000,"En ejecución",{"$f":"IF(ISERROR(AB189/AA189),\"-\",(AB189/AA189))","v":0.65454545454545454}]
["FDLSC-CPS-138-2022",2022,"FDLSC-CD-068-2022","https://community.secop.gov.co/Public/Tendering/OpportunityDetail/Index?noticeUID=CO1.NTC.2713299&isFromPublicArea=True&isModal=true&asPopupView=true","Contratos de prestación de servicios profesionales y de apoyo a la gestión","Contratación directa","Prestación de servicios profesionales y de apoyo a la gestión, o para la ejecución de trabajos artísticos que sólo puedan encomendarse a determinadas personas naturales","PRESTAR LOS SERVICIOS DE APOYO TECNICO  A LA GESTIÓN DE LA ALCALDÍA LOCAL DE SAN CRISTOBAL EN EL DESARROLLO DE ACTIVIDADES DE REACTIVACIÓN ECONOMICA, ACOMPAÑAMIENTO EN CAMPO Y PARTICIPACIÓN EN LOS PROCESOS NECESARIOS PARA LA CORRECTA EJECUCIÓN DE LOS EVENTOS RELACIONADOS Y DE LAS NECESIDADES DE LA ALCALDIA LOCAL.","Inversión","Un nuevo contrato social y ambiental para la Bogotá del Siglo XXI",6,{"$f":"IF(ISERROR(VLOOKUP(K190,#REF!,2,FALSE)),\" \",VLOOKUP(K190,#REF!,2,FALSE))","v":" "},{"$f":"IF(ISERROR(VLOOKUP(K190,#REF!,3,FALSE)),\" \",VLOOKUP(K190,#REF!,3,FALSE))","v":" "},1865,0,1049615846,"WILLIAM ALEXANDER SUAREZ HURTADO","Persona Natural",null,"N/A","N/A",null,34400000,0,1,12470000,{"$f":"+W190+X190+Z190","v":46870000},42570000,"2022-01-27","2022-02-04","2022-12-30",240,1,87,null,null,null,null,"Terminado",{"$f":"IF(ISERROR(AB190/AA190),\"-\",(AB190/AA190))","v":0.90825688073394495}]
["FDLSC-CPS-035-2022",2022,"FDLSC-CD-020-2022","https://community.secop.gov.co/Public/Tendering/OpportunityDetail/Index?noticeUID=CO1.NTC.2605736&isFromPublicArea=True&isModal=true&asPopupView=true","Contratos de prestación de servicios profesionales y de apoyo a la gestión","Contratación directa","Prestación de servicios profesionales y de apoyo a la gestión, o para la ejecución de trabajos artísticos que sólo puedan encomendarse a determinadas personas naturales","PRESTAR SUS SERVICIOS DE APOYO TÉCNICO A LA GESTIÓN ADMINISTRATIVA, AL ÁREA DE GESTIÓN DEL DESARROLLO LOCAL EN ACTIVIDADES DE CONTRATACIÓN, PARA FORTALECER LAS ETAPAS PRECONTRACTUALES Y CONTRACTUALES DE ACUERDO AL PLAN ANUAL DE ADQUISICIONES DE LA ALCALDÍA LOCAL DE SAN CRISTÓBAL.","Inversión","Un nuevo contrato social y ambiental para la Bogotá del Siglo XXI",57,{"$f":"IF(ISERROR(VLOOKUP(K191,#REF!,2,FALSE)),\" \",VLOOKUP(K191,#REF!,2,FALSE))","v":" "},{"$f":"IF(ISERROR(VLOOKUP(K191,#REF!,3,FALSE)),\" \",VLOOKUP(K191,#REF!,3,FALSE))","v":" "},1873,0,1010236542,"OLGA DANITZA MARINOVICH PARADA","Persona Natural",null,"N/A","N/A",null,31200000,0,2,15600000,{"$f":"+W191+X191+Z191","v":46800000},39000000,"2022-01-21","2022-01-24","2023-01-23",240,1,97,52278102,"DIANA CONSUELO BELTRAN HUERTAS","2022-08-08",21580000,"En ejecución",{"$f":"IF(ISERROR(AB191/AA191),\"-\",(AB191/AA191))","v":0.83333333333333337}]
["FDLSC-CPS-034-2022",2022,"FDLSC-CD-020-2022","https://community.secop.gov.co/Public/Tendering/OpportunityDetail/Index?noticeUID=CO1.NTC.2605736&isFromPublicArea=True&isModal=true&asPopupView=true","Contratos de prestación de servicios profesionales y de apoyo a la gestión","Contratación directa","Prestación de servicios profesionales y de apoyo a la gestión, o para la ejecución de trabajos artísticos que sólo puedan encomendarse a determinadas personas naturales","PRESTAR SUS SERVICIOS DE APOYO TÉCNICO A LA GESTIÓN ADMINISTRATIVA, AL ÁREA DE GESTIÓN DEL DESARROLLO LOCAL EN ACTIVIDADES DE CONTRATACIÓN, PARA FORTALECER LAS ETAPAS PRECONTRACTUALES Y CONTRACTUALES DE ACUERDO AL PLAN ANUAL DE ADQUISICIONES DE LA ALCALDÍA LOCAL DE SAN CRISTÓBAL.","Inversión","Un nuevo contrato social y ambiental para la Bogotá del Siglo XXI",57,{"$f":"IF(ISERROR(VLOOKUP(K192,#REF!,2,FALSE)),\" \",VLOOKUP(K192,#REF!,2,FALSE))","v":" "},{"$f":"IF(ISERROR(VLOOKUP(K192,#REF!,3,FALSE)),\" \",VLOOKUP(K192,#REF!,3,FALSE))","v":" "},1873,0,1023878943,"YURI MASSIEL CRISTANCHO MORALES","Persona Natural",null,"N/A","N/A",null,31200000,0,2,15600000,{"$f":"+W192+X192+Z192","v":46800000},40300000,"2022-01-19","2022-01-21","2023-01-20",240,2,120,null,null,null,null,"En ejecución",{"$f":"IF(ISERROR(AB192/AA192),\"-\",(AB192/AA192))","v":0.86111111111111116}]
["FDLSC-CPS-168-2022",2022,"FDLSC-CD-081-2022","https://community.secop.gov.co/Public/Tendering/OpportunityDetail/Index?noticeUID=CO1.NTC.2681054&isFromPublicArea=True&isModal=true&asPopupView=true","Contratos de prestación de servicios profesionales y de apoyo a la gestión","Contratación directa","Prestación de servicios profesionales y de apoyo a la gestión, o para la ejecución de trabajos artísticos que sólo puedan encomendarse a determinadas personas naturales","APOYAR JURÍDICAMENTE LA EJECUCIÓN DE LAS ACCIONES REQUERIDAS PARA EL TRÁMITE E IMPULSO PROCESAL DE LAS ACTUACIONES CONTRAVENCIONALES Y/O QUERELLAS QUE CURSEN EN LAS INSPECCIONES DE POLICÍA DE LA LOCALIDAD","Inversión","Un nuevo contrato social y ambiental para la Bogotá del Siglo XXI",57,{"$f":"IF(ISERROR(VLOOKUP(K193,#REF!,2,FALSE)),\" \",VLOOKUP(K193,#REF!,2,FALSE))","v":" "},{"$f":"IF(ISERROR(VLOOKUP(K193,#REF!,3,FALSE)),\" \",VLOOKUP(K193,#REF!,3,FALSE))","v":" "},1873,0,1022408312,"JULY ANDREA LESMES PALACIOS","Persona Natural",null,"N/A","N/A",null,45320000,0,0,0,{"$f":"+W193+X193+Z193","v":45320000},45319999,"2022-01-28","2022-02-03","2022-12-30",240,0,0,null,null,null,null,"Terminado",{"$f":"IF(ISERROR(AB193/AA193),\"-\",(AB193/AA193))","v":0.99999997793468665}]
["FDLSC-CV-573-2022",2022,"FDLSC-SASI-006-2022 LOTE 6 ELEMENTOS DE ACTIVIDAD FÍSICA Y DEPORTIVA","https://community.secop.gov.co/Public/Tendering/OpportunityDetail/Index?noticeUID=CO1.NTC.3304278&isFromPublicArea=True&isModal=true&asPopupView=true","Compraventa de bienes muebles","Selección abreviada","Subasta inversa ","CONTRATAR A MONTO AGOTABLE LA ADQUISICIÓN Y DISTRIBUCIÓN DE ELEMENTOS PARA EL CENTRO DE DESARROLLO COMUNITARIO SAN BLAS DE LA LOCALIDAD DE SAN CRISTÓBAL, EN EL MARCO DEL PROYECTO 1811 SAN CRISTÓBAL TE CUIDA.","Inversión","Un nuevo contrato social y ambiental para la Bogotá del Siglo XXI",6,{"$f":"IF(ISERROR(VLOOKUP(K194,#REF!,2,FALSE)),\" \",VLOOKUP(K194,#REF!,2,FALSE))","v":" "},{"$f":"IF(ISERROR(VLOOKUP(K194,#REF!,3,FALSE)),\" \",VLOOKUP(K194,#REF!,3,FALSE))","v":" "},1811,11,901142692,"COMERCIALIZADORA E & T SAS","Persona Jurídica",null,"N/A","N/A",null,45181980,0,0,0,{"$f":"+W194+X194+Z194","v":45181980},0,"2022-11-11","2022-11-16","2023-03-15",120,0,0,null,null,null,null,"En ejecución",{"$f":"IF(ISERROR(AB194/AA194),\"-\",(AB194/AA194))","v":0}]
["FDLSC-CVNI-374-2022",2022,"FDLSC-CD-176-2022","https://www.contratos.gov.co/consultas/detalleProceso.do?numConstancia=22-22-36865&g-recaptcha-response=03ANYolqsJE-6O_vQJOChod67mHaono8UeqgyLP06RRKI7UWEmia8gTw1SkaVLKV1FyGEgNd1WGDZQnZiF6IBBsI0-95z7Pug6CJSJTkQzZV1h5A2r60_zH5LhM0lEOopHSmdSEgiuLhpXYIh3VJWYM2S8rWC1mgXNC59KAByJqiOpr0vlAj1Uhc1RNHLZVp9u_WtKnj9F_nwqbwF9pOA9--EXJoZbXZ4wRg6WWWlvnyupHcqupx5oiB0YSdAnm64DGZ6p84ssrqxJ0ezoBQ3mNwOI44Pg5Tv4zl_q_IwkF7VkGCkjYF63-oWUwxvD14VabG_Wx6MbF24SDDN1koecTtQGHbp9axeGEc5YQRbUop5SQCzEIms1wiUiN8jccflKD2bssezzosviXac9_yhYWBC4NdpWsJNl7oueK-AVepNPvMJSGLbkmAtvhc8sx-mhy4Y9ffpH0FejhkPh9-l0jR9O9wJJC55e0A","Convenios/Contratos interadministrativos","Contratación directa","Contratos interadministrativos","AUNAR ESFUERZOS TÉCNICOS, ADMINISTRATIVOS Y FINANCIEROS CON EL FIN DE DESARROLLAR ACCIONES ARTICULADAS ENTRE LA SCRD, EL IDARTES Y LOS FONDOS DE DESARROLLO LOCAL, ORIENTADAS A FOMENTAR PROCESOS DE FORMACIÓN, CUALIFICACIÓN, FORTALECIMIENTO DE LOS AGENTES CULTURALES TERRITORIALES DEL DISTRITO CAPITAL, EN EL MARCO DE LA GENERACIÓN Y CIRCULACIÓN DE BIENES Y SERVICIOS CULTURALES, ARTISTICOS Y PATRIMONIALES DE CONFORMIDAD CON LAS INICIATIVAS PRIORIZADAS Y CONCERTADAS EN LA ESTRATEGIA DISTRITAL \"PRESUPUESTOS PARTICIPATIVOS\" Y/O DE LAS CONCERTACIONES CON LOS GRUPOS DE INTERÉS DE LAS LOCALIDADES Y A LAS ACCIONES ADELANTADAS EN EL \"PROCESO MISIONAL DE FOMENTO\", DE ACUERDO CON LOS PROYECTOS A EJECUTAR ASOCIADOS A LAS METAS DE CADA LOCALIDAD EN EL PROGRAMA \"ES CULTURA LOCAL 2022\".","Inversión","Un nuevo contrato social y ambiental para la Bogotá del Siglo XXI",21,"Creación y vida cotidiana: Apropiación ciudadana del arte, la cultura y el patrimonio, para la democracia cultural","Propósito 1: Hacer un nuevo contrato social para incrementar la inclusión social, productiva y política",1803,0,900413030,"INSTITUTO DISTRITAL DE LAS ARTES","Persona Jurídica",null,"N/A","N/A",null,45000000,0,0,0,{"$f":"+W195+X195+Z195","v":45000000},{"$f":"+X195+Y195+AA195","v":45000000},"2022-07-08","2022-07-19","2023-08-31",395,0,0,null,null,null,null,"En ejecución",{"$f":"IF(ISERROR(AB195/AA195),\"-\",(AB195/AA195))","v":1}]
["FDLSC-CPS-666-2022",2022,"FDLSC-SAMC-005-2022","https://community.secop.gov.co/Public/Tendering/OpportunityDetail/Index?noticeUID=CO1.NTC.3601213&isFromPublicArea=True&isModal=true&asPopupView=true","Contratos de prestación de servicios","Selección abreviada","Selección abreviada por menor cuantía ","CONTRATAR LOS SERVICIOS DE APOYO LOGÍSTICOS, TRANSPORTE, PUBLICITARIOS, ELEMENTOS DE MERCHANDISING Y CATERING REQUERIDOS PARA EL DESARROLLO OPERATIVO DE LOS EVENTOS LIDERADOS POR LA ALCALDIA LOCAL DE SAN CRISTÓBAL","Inversión","Un nuevo contrato social y ambiental para la Bogotá del Siglo XXI",30,{"$f":"IF(ISERROR(VLOOKUP(K196,#REF!,2,FALSE)),\" \",VLOOKUP(K196,#REF!,2,FALSE))","v":" "},{"$f":"IF(ISERROR(VLOOKUP(K196,#REF!,3,FALSE)),\" \",VLOOKUP(K196,#REF!,3,FALSE))","v":" "},1866,1,900521780,"B2 NETWORKS S A S","Persona Jurídica",null,"N/A","N/A",null,44773595,0,0,0,{"$f":"+W196+X196+Z196","v":44773595},0,"2022-12-28",null,null,180,null,null,null,null,null,null,"Celebrado o por iniciar",{"$f":"IF(ISERROR(AB196/AA196),\"-\",(AB196/AA196))","v":0}]
["FDLSC-CPS-099-2022",2022,"FDLSC-CD-059-2022","https://community.secop.gov.co/Public/Tendering/OpportunityDetail/Index?noticeUID=CO1.NTC.2654057&isFromPublicArea=True&isModal=true&asPopupView=true","Contratos de prestación de servicios profesionales y de apoyo a la gestión","Contratación directa","Prestación de servicios profesionales y de apoyo a la gestión, o para la ejecución de trabajos artísticos que sólo puedan encomendarse a determinadas personas naturales","PRESTAR SUS SERVICIOS TÉCNICOS PARA ADELANTAR EL PROCESO DE COBROS PERSUASIVOS DE LAS MULTAS IMPUESTAS POR LA ALCALDÍA LOCAL.","Inversión","Un nuevo contrato social y ambiental para la Bogotá del Siglo XXI",57,{"$f":"IF(ISERROR(VLOOKUP(K197,#REF!,2,FALSE)),\" \",VLOOKUP(K197,#REF!,2,FALSE))","v":" "},{"$f":"IF(ISERROR(VLOOKUP(K197,#REF!,3,FALSE)),\" \",VLOOKUP(K197,#REF!,3,FALSE))","v":" "},1873,0,52959797,"LILIA YOBANA ESPINAL ESPINAL","Persona Natural",null,"N/A","N/A",null,40700000,0,1,3700000,{"$f":"+W197+X197+Z197","v":44400000},37616667,"2022-01-24","2022-01-26","2023-01-25",330,1,30,null,null,null,null,"En ejecución",{"$f":"IF(ISERROR(AB197/AA197),\"-\",(AB197/AA197))","v":0.84722222972972971}]
["FDLSC-CPS-050-2022",2022,"FDLSC-CD-031-2022","https://community.secop.gov.co/Public/Tendering/OpportunityDetail/Index?noticeUID=CO1.NTC.2605191&isFromPublicArea=True&isModal=true&asPopupView=true","Contratos de prestación de servicios profesionales y de apoyo a la gestión","Contratación directa","Prestación de servicios profesionales y de apoyo a la gestión, o para la ejecución de trabajos artísticos que sólo puedan encomendarse a determinadas personas naturales","PRESTAR SERVICIOS DE APOYO TÉCNICO EN EL ÁREA DE GESTIÓN POLICIVA CON LOS DIFERENTES PROCESOS Y ACTUACIONES ADMINISTRATIVAS EXISTENTES, INCLUIDA LA IMPLEMENTACIÓN DE TRAMITES DE VERIFICACIÓN, SOPORTE Y ACOMPAÑAMIENTO.","Inversión","Un nuevo contrato social y ambiental para la Bogotá del Siglo XXI",57,{"$f":"IF(ISERROR(VLOOKUP(K198,#REF!,2,FALSE)),\" \",VLOOKUP(K198,#REF!,2,FALSE))","v":" "},{"$f":"IF(ISERROR(VLOOKUP(K198,#REF!,3,FALSE)),\" \",VLOOKUP(K198,#REF!,3,FALSE))","v":" "},1873,0,52161441,"DIANA ISABEL BRAVO CORDOBA","Persona Natural",null,"N/A","N/A",null,40700000,0,1,3700000,{"$f":"+W198+X198+Z198","v":44400000},38233333,"2022-01-19","2022-01-21","2023-01-20",330,1,30,null,null,null,null,"En ejecución",{"$f":"IF(ISERROR(AB198/AA198),\"-\",(AB198/AA198))","v":0.86111110360360366}]
["FDLSC-CPS-046-2022",2022,"FDLSC-CD-003-2022","https://community.secop.gov.co/Public/Tendering/OpportunityDetail/Index?noticeUID=CO1.NTC.2590234&isFromPublicArea=True&isModal=true&asPopupView=true","Contratos de prestación de servicios profesionales y de apoyo a la gestión","Contratación directa","Prestación de servicios profesionales y de apoyo a la gestión, o para la ejecución de trabajos artísticos que sólo puedan encomendarse a determinadas personas naturales","APOYAR JURÍDICAMENTE LA EJECUCIÓN DE LAS ACCIONES REQUERIDAS PARA LA DEPURACIÓN DE LAS ACTUACIONES ADMINISTRATIVAS QUE CURSAN EN LA ALCALDÍA LOCAL.","Inversión","Un nuevo contrato social y ambiental para la Bogotá del Siglo XXI",57,{"$f":"IF(ISERROR(VLOOKUP(K199,#REF!,2,FALSE)),\" \",VLOOKUP(K199,#REF!,2,FALSE))","v":" "},{"$f":"IF(ISERROR(VLOOKUP(K199,#REF!,3,FALSE)),\" \",VLOOKUP(K199,#REF!,3,FALSE))","v":" "},1873,0,1018406237,"HELDER GERMAN PARDO BUITRAGO","Persona Natural",null,"N/A","N/A",null,44000000,0,0,0,{"$f":"+W199+X199+Z199","v":44000000},39233333,"2022-01-27","2022-01-27","2022-09-26",240,0,0,null,null,null,null,"Terminado",{"$f":"IF(ISERROR(AB199/AA199),\"-\",(AB199/AA199))","v":0.89166665909090914}]
["FDLSC-CPS-005-2022",2022,"FDLSC-CD-003-2022","https://community.secop.gov.co/Public/Tendering/OpportunityDetail/Index?noticeUID=CO1.NTC.2590234&isFromPublicArea=True&isModal=true&asPopupView=true","Contratos de prestación de servicios profesionales y de apoyo a la gestión","Contratación directa","Prestación de servicios profesionales y de apoyo a la gestión, o para la ejecución de trabajos artísticos que sólo puedan encomendarse a determinadas personas naturales","APOYAR JURÍDICAMENTE LA EJECUCIÓN DE LAS ACCIONES REQUERIDAS PARA LA DEPURACIÓN DE LAS ACTUACIONES ADMINISTRATIVAS QUE CURSAN EN LA ALCALDÍA LOCAL.","Inversión","Un nuevo contrato social y ambiental para la Bogotá del Siglo XXI",57,{"$f":"IF(ISERROR(VLOOKUP(K200,#REF!,2,FALSE)),\" \",VLOOKUP(K200,#REF!,2,FALSE))","v":" "},{"$f":"IF(ISERROR(VLOOKUP(K200,#REF!,3,FALSE)),\" \",VLOOKUP(K200,#REF!,3,FALSE))","v":" "},1873,0,65776970,"LUZ MARLEN BULA GUZMAN","Persona Natural",null,"N/A","N/A",null,44000000,0,0,0,{"$f":"+W200+X200+Z200","v":44000000},40333333,"2022-01-18","2022-01-21","2022-09-20",240,0,0,null,null,null,null,"Terminado",{"$f":"IF(ISERROR(AB200/AA200),\"-\",(AB200/AA200))","v":0.91666665909090905}]
["FDLSC-CPS-031-2022",2022,"FDLSC-CD-003-2022","https://community.secop.gov.co/Public/Tendering/OpportunityDetail/Index?noticeUID=CO1.NTC.2590234&isFromPublicArea=True&isModal=true&asPopupView=true","Contratos de prestación de servicios profesionales y de apoyo a la gestión","Contratación directa","Prestación de servicios profesionales y de apoyo a la gestión, o para la ejecución de trabajos artísticos que sólo puedan encomendarse a determinadas personas naturales","APOYAR JURÍDICAMENTE LA EJECUCIÓN DE LAS ACCIONES REQUERIDAS PARA LA DEPURACIÓN DE LAS ACTUACIONES ADMINISTRATIVAS QUE CURSAN EN LA ALCALDÍA LOCAL.","Inversión","Un nuevo contrato social y ambiental para la Bogotá del Siglo XXI",57,{"$f":"IF(ISERROR(VLOOKUP(K201,#REF!,2,FALSE)),\" \",VLOOKUP(K201,#REF!,2,FALSE))","v":" "},{"$f":"IF(ISERROR(VLOOKUP(K201,#REF!,3,FALSE)),\" \",VLOOKUP(K201,#REF!,3,FALSE))","v":" "},1873,0,1013632002,"CAMILO ANDRES MARQUEZ GUTIERREZ","Persona Natural",null,"N/A","N/A",null,44000000,0,0,0,{"$f":"+W201+X201+Z201","v":44000000},40333333,"2022-01-18","2022-01-21","2022-09-20",240,0,0,null,null,null,null,"Terminado",{"$f":"IF(ISERROR(AB201/AA201),\"-\",(AB201/AA201))","v":0.91666665909090905}]
["FDLSC-CPS-297-2022",2022,"FDLSC-CD-003-2022","https://community.secop.gov.co/Public/Tendering/OpportunityDetail/Index?noticeUID=CO1.NTC.2687936&isFromPublicArea=True&isModal=true&asPopupView=true","Contratos de prestación de servicios profesionales y de apoyo a la gestión","Contratación directa","Prestación de servicios profesionales y de apoyo a la gestión, o para la ejecución de trabajos artísticos que sólo puedan encomendarse a determinadas personas naturales","APOYAR JURÍDICAMENTE LA EJECUCIÓN DE LAS ACCIONES REQUERIDAS PARA LA DEPURACIÓN DE LAS ACTUACIONES ADMINISTRATIVAS QUE CURSAN EN LA ALCALDÍA LOCAL.","Inversión","Un nuevo contrato social y ambiental para la Bogotá del Siglo XXI",57,{"$f":"IF(ISERROR(VLOOKUP(K202,#REF!,2,FALSE)),\" \",VLOOKUP(K202,#REF!,2,FALSE))","v":" "},{"$f":"IF(ISERROR(VLOOKUP(K202,#REF!,3,FALSE)),\" \",VLOOKUP(K202,#REF!,3,FALSE))","v":" "},1873,0,34678272,"ERICA LEDEZMA CUERO","Persona Natural",null,"N/A","N/A",null,37216667,0,1,6783333,{"$f":"+W202+X202+Z202","v":44000000},42166666,"2022-01-27","2022-03-11","2022-11-10",240,0,0,null,null,null,null,"Terminado",{"$f":"IF(ISERROR(AB202/AA202),\"-\",(AB202/AA202))","v":0.95833331818181822}]
["FDLSC-CPS-104-2022",2022,"FDLSC-CD-003-2022","https://community.secop.gov.co/Public/Tendering/OpportunityDetail/Index?noticeUID=CO1.NTC.2590234&isFromPublicArea=True&isModal=true&asPopupView=true","Contratos de prestación de servicios profesionales y de apoyo a la gestión","Contratación directa","Prestación de servicios profesionales y de apoyo a la gestión, o para la ejecución de trabajos artísticos que sólo puedan encomendarse a determinadas personas naturales","APOYAR JURÍDICAMENTE LA EJECUCIÓN DE LAS ACCIONES REQUERIDAS PARA LA DEPURACIÓN DE LAS ACTUACIONES ADMINISTRATIVAS QUE CURSAN EN LA ALCALDÍA LOCAL.","Inversión","Un nuevo contrato social y ambiental para la Bogotá del Siglo XXI",57,{"$f":"IF(ISERROR(VLOOKUP(K203,#REF!,2,FALSE)),\" \",VLOOKUP(K203,#REF!,2,FALSE))","v":" "},{"$f":"IF(ISERROR(VLOOKUP(K203,#REF!,3,FALSE)),\" \",VLOOKUP(K203,#REF!,3,FALSE))","v":" "},1873,0,1110475839,"JAVIER HERNAN CAMPOS MELO","Persona Natural",null,"N/A","N/A",null,44000000,0,0,0,{"$f":"+W203+X203+Z203","v":44000000},43633333,"2022-01-28","2022-02-03","2022-10-02",240,0,0,null,null,null,null,"Terminado",{"$f":"IF(ISERROR(AB203/AA203),\"-\",(AB203/AA203))","v":0.99166665909090912}]
["FDLSC-CPS-004-2022",2022,"FDLSC-CD-003-2022","https://community.secop.gov.co/Public/Tendering/OpportunityDetail/Index?noticeUID=CO1.NTC.2590234&isFromPublicArea=True&isModal=true&asPopupView=true","Contratos de prestación de servicios profesionales y de apoyo a la gestión","Contratación directa","Prestación de servicios profesionales y de apoyo a la gestión, o para la ejecución de trabajos artísticos que sólo puedan encomendarse a determinadas personas naturales","APOYAR JURÍDICAMENTE LA EJECUCIÓN DE LAS ACCIONES REQUERIDAS PARA LA DEPURACIÓN DE LAS ACTUACIONES ADMINISTRATIVAS QUE CURSAN EN LA ALCALDÍA LOCAL.","Inversión","Un nuevo contrato social y ambiental para la Bogotá del Siglo XXI",57,{"$f":"IF(ISERROR(VLOOKUP(K204,#REF!,2,FALSE)),\" \",VLOOKUP(K204,#REF!,2,FALSE))","v":" "},{"$f":"IF(ISERROR(VLOOKUP(K204,#REF!,3,FALSE)),\" \",VLOOKUP(K204,#REF!,3,FALSE))","v":" "},1873,0,79724937,"EDWARD FERNANDO MONTOYA GOMEZ","Persona Natural",null,"N/A","N/A",null,44000000,0,0,0,{"$f":"+W204+X204+Z204","v":44000000},44000000,"2022-01-19","2022-01-24","2022-09-23",240,0,0,null,null,null,null,"Terminado",{"$f":"IF(ISERROR(AB204/AA204),\"-\",(AB204/AA204))","v":1}]
["FDLSC-CPS-006-2022",2022,"FDLSC-CD-003-2022","https://community.secop.gov.co/Public/Tendering/OpportunityDetail/Index?noticeUID=CO1.NTC.2590234&isFromPublicArea=True&isModal=true&asPopupView=true","Contratos de prestación de servicios profesionales y de apoyo a la gestión","Contratación directa","Prestación de servicios profesionales y de apoyo a la gestión, o para la ejecución de trabajos artísticos que sólo puedan encomendarse a determinadas personas naturales","APOYAR JURÍDICAMENTE LA EJECUCIÓN DE LAS ACCIONES REQUERIDAS PARA LA DEPURACIÓN DE LAS ACTUACIONES ADMINISTRATIVAS QUE CURSAN EN LA ALCALDÍA LOCAL.","Inversión","Un nuevo contrato social y ambiental para la Bogotá del Siglo XXI",57,{"$f":"IF(ISERROR(VLOOKUP(K205,#REF!,2,FALSE)),\" \",VLOOKUP(K205,#REF!,2,FALSE))","v":" "},{"$f":"IF(ISERROR(VLOOKUP(K205,#REF!,3,FALSE)),\" \",VLOOKUP(K205,#REF!,3,FALSE))","v":" "},1873,0,52111223,"LUZ MARINA SEPULVEDA","Persona Natural",null,"N/A","N/A",null,44000000,0,0,0,{"$f":"+W205+X205+Z205","v":44000000},44000000,"2022-01-18","2022-01-24","2022-09-23",240,0,0,null,null,null,null,"Terminado",{"$f":"IF(ISERROR(AB205/AA205),\"-\",(AB205/AA205))","v":1}]
["FDLSC-CPS-136-2022",2022,"FDLSC-CD-065-2022","https://community.secop.gov.co/Public/Tendering/OpportunityDetail/Index?noticeUID=CO1.NTC.2654843&isFromPublicArea=True&isModal=true&asPopupView=true","Contratos de prestación de servicios profesionales y de apoyo a la gestión","Contratación directa","Prestación de servicios profesionales y de apoyo a la gestión, o para la ejecución de trabajos artísticos que sólo puedan encomendarse a determinadas personas naturales","PRESTAR LOS SERVICIOS PROFESIONALES A LA ALCALDÍA LOCAL DE SAN CRISTOBAL, PARA LA EJECUCIÓN DE LAS ACTIVIDADES Y PROCESOS ADMINISTRATIVOS Y DE CAMPO RELACIONADOS CON LA REACTIVACIÓN ECONÓMICA EN EL MARCO DE LAS NECESIDADES DEL FONDO DE DESARROLLO LOCAL Y DINAMIZACIÓN PARA LA EJECUCIÓN DE LOS PROYECTOS QUE HACEN PARTE DEL PLAN DE DESARROLLO.","Inversión","Un nuevo contrato social y ambiental para la Bogotá del Siglo XXI",6,{"$f":"IF(ISERROR(VLOOKUP(K206,#REF!,2,FALSE)),\" \",VLOOKUP(K206,#REF!,2,FALSE))","v":" "},{"$f":"IF(ISERROR(VLOOKUP(K206,#REF!,3,FALSE)),\" \",VLOOKUP(K206,#REF!,3,FALSE))","v":" "},1865,0,52861057,"JENNY LORENA PEÑA ORJUELA","Persona Natural",null,"N/A","N/A",null,44000000,0,0,0,{"$f":"+W206+X206+Z206","v":44000000},44000000,"2022-01-24","2022-01-28","2022-09-27",240,0,0,null,null,null,null,"Terminado",{"$f":"IF(ISERROR(AB206/AA206),\"-\",(AB206/AA206))","v":1}]
["FDLSC-CPS-289-2022",2022,"FDLSC-CD-003-2022","https://community.secop.gov.co/Public/Tendering/OpportunityDetail/Index?noticeUID=CO1.NTC.2745217&isFromPublicArea=True&isModal=true&asPopupView=true","Contratos de prestación de servicios profesionales y de apoyo a la gestión","Contratación directa","Prestación de servicios profesionales y de apoyo a la gestión, o para la ejecución de trabajos artísticos que sólo puedan encomendarse a determinadas personas naturales","APOYAR JURÍDICAMENTE LA EJECUCIÓN DE LAS ACCIONES REQUERIDAS PARA LA DEPURACIÓN DE LAS ACTUACIONES ADMINISTRATIVAS QUE CURSAN EN LA ALCALDÍA LOCAL.","Inversión","Un nuevo contrato social y ambiental para la Bogotá del Siglo XXI",57,{"$f":"IF(ISERROR(VLOOKUP(K207,#REF!,2,FALSE)),\" \",VLOOKUP(K207,#REF!,2,FALSE))","v":" "},{"$f":"IF(ISERROR(VLOOKUP(K207,#REF!,3,FALSE)),\" \",VLOOKUP(K207,#REF!,3,FALSE))","v":" "},1873,0,1152693746,"LIGIA MARGARITA DE JESUS MOGOLLON BEHAINE","Persona Natural",null,"N/A","N/A",null,44000000,0,0,0,{"$f":"+W207+X207+Z207","v":44000000},44000000,"2022-01-28","2022-02-03","2022-10-02",240,0,0,null,null,null,null,"Terminado",{"$f":"IF(ISERROR(AB207/AA207),\"-\",(AB207/AA207))","v":1}]
["FDLSC-CPS-120-2022",2022,"FDLSC-CD-020-2022","https://community.secop.gov.co/Public/Tendering/OpportunityDetail/Index?noticeUID=CO1.NTC.2605736&isFromPublicArea=True&isModal=true&asPopupView=true","Contratos de prestación de servicios profesionales y de apoyo a la gestión","Contratación directa","Prestación de servicios profesionales y de apoyo a la gestión, o para la ejecución de trabajos artísticos que sólo puedan encomendarse a determinadas personas naturales","PRESTAR SUS SERVICIOS DE APOYO TÉCNICO A LA GESTIÓN ADMINISTRATIVA, AL ÁREA DE GESTIÓN DEL DESARROLLO LOCAL EN ACTIVIDADES DE CONTRATACIÓN, PARA FORTALECER LAS ETAPAS PRECONTRACTUALES Y CONTRACTUALES DE ACUERDO AL PLAN ANUAL DE ADQUISICIONES DE LA ALCALDÍA LOCAL DE SAN CRISTÓBAL.","Inversión","Un nuevo contrato social y ambiental para la Bogotá del Siglo XXI",57,{"$f":"IF(ISERROR(VLOOKUP(K208,#REF!,2,FALSE)),\" \",VLOOKUP(K208,#REF!,2,FALSE))","v":" "},{"$f":"IF(ISERROR(VLOOKUP(K208,#REF!,3,FALSE)),\" \",VLOOKUP(K208,#REF!,3,FALSE))","v":" "},1873,0,1010171571,"IVAN EDUARDO GOMEZ GUERRERO","Persona Natural",null,"N/A","N/A",null,31200000,0,1,12220000,{"$f":"+W208+X208+Z208","v":43420000},36920000,"2022-01-26","2022-01-27","2022-12-30",240,1,90,null,null,null,null,"Terminado",{"$f":"IF(ISERROR(AB208/AA208),\"-\",(AB208/AA208))","v":0.85029940119760483}]
["FDLSC-CPS-095-2022",2022,"FDLSC-CD-056-2022","https://community.secop.gov.co/Public/Tendering/OpportunityDetail/Index?noticeUID=CO1.NTC.2647402&isFromPublicArea=True&isModal=true&asPopupView=true","Contratos de prestación de servicios profesionales y de apoyo a la gestión","Contratación directa","Prestación de servicios profesionales y de apoyo a la gestión, o para la ejecución de trabajos artísticos que sólo puedan encomendarse a determinadas personas naturales","PRESTAR SUS SERVICIOS TECNICOS EN EL AREA DE GESTION DEL DESARROLLO LOCAL PARA APOYAR EN LAS TAREAS OPERATIVAS DE CARÁCTER ARCHIVÍSTICO DESARROLLADAS EN LA ALCALDÍA PARA GARANTIZAR LA APLICACIÓN CORRECTA DE LOS PROCEDIMIENTOS TÉCNICOS.","Inversión","Un nuevo contrato social y ambiental para la Bogotá del Siglo XXI",57,{"$f":"IF(ISERROR(VLOOKUP(K209,#REF!,2,FALSE)),\" \",VLOOKUP(K209,#REF!,2,FALSE))","v":" "},{"$f":"IF(ISERROR(VLOOKUP(K209,#REF!,3,FALSE)),\" \",VLOOKUP(K209,#REF!,3,FALSE))","v":" "},1873,0,52011192,"OLGA LUCIA HERNANDEZ MELO","Persona Natural",null,"N/A","N/A",null,40788000,0,1,2472000,{"$f":"+W209+X209+Z209","v":43260000},37821600,"2022-01-21","2022-01-25","2023-01-14",330,1,21,null,null,null,null,"En ejecución",{"$f":"IF(ISERROR(AB209/AA209),\"-\",(AB209/AA209))","v":0.87428571428571433}]
["FDLSC-CPS-220-2022",2022,"FDLSC-CD-107-2022","https://community.secop.gov.co/Public/Tendering/OpportunityDetail/Index?noticeUID=CO1.NTC.2719871&isFromPublicArea=True&isModal=true&asPopupView=true","Contratos de prestación de servicios profesionales y de apoyo a la gestión","Contratación directa","Prestación de servicios profesionales y de apoyo a la gestión, o para la ejecución de trabajos artísticos que sólo puedan encomendarse a determinadas personas naturales","PRESTAR SUS SERVICIOS TÉCNICOS PARA APOYAR LA EJECUCIÓN, SEGUIMIENTO Y  VERIFICACIÓN DE LAS ACTIVIDADES DE GESTIÓN AMBIENTAL DE CAMPO EN LA LOCALIDAD DE SAN CRISTÓBAL.","Inversión","Un nuevo contrato social y ambiental para la Bogotá del Siglo XXI",33,{"$f":"IF(ISERROR(VLOOKUP(K210,#REF!,2,FALSE)),\" \",VLOOKUP(K210,#REF!,2,FALSE))","v":" "},{"$f":"IF(ISERROR(VLOOKUP(K210,#REF!,3,FALSE)),\" \",VLOOKUP(K210,#REF!,3,FALSE))","v":" "},1867,0,52903759,"SANDRA ARACELY CASALLAS TORRES","Persona Natural",null,"N/A","N/A",null,31200000,0,1,11570000,{"$f":"+W210+X210+Z210","v":42770000},38870000,"2022-01-27","2022-02-02","2022-12-30",240,1,89,null,null,null,null,"Terminado",{"$f":"IF(ISERROR(AB210/AA210),\"-\",(AB210/AA210))","v":0.90881458966565354}]
["FDLSC-CPS-274-2022",2022,"FDLSC-CD-145-2022","https://community.secop.gov.co/Public/Tendering/OpportunityDetail/Index?noticeUID=CO1.NTC.2743914&isFromPublicArea=True&isModal=true&asPopupView=true","Contratos de prestación de servicios profesionales y de apoyo a la gestión","Contratación directa","Prestación de servicios profesionales y de apoyo a la gestión, o para la ejecución de trabajos artísticos que sólo puedan encomendarse a determinadas personas naturales","PRESTAR SUS SERVICIOS DE APOYO TÉCNICO AL FDLSC PARA APOYAR LA FORMULACIÓN, SEGUIMIENTO, Y APOYO EN TEMAS ADMINISTRATIVOS DE LOS PROYECTOS RELACIONADOS CON LA ATENCIÓN A POBLACIÓN AFECTADA POR VIOLENCIA INTRAFAMILIAR Y/O SEXUAL EN SITUACIÓN DE VULNERABILIDAD","Inversión","Un nuevo contrato social y ambiental para la Bogotá del Siglo XXI",6,{"$f":"IF(ISERROR(VLOOKUP(K211,#REF!,2,FALSE)),\" \",VLOOKUP(K211,#REF!,2,FALSE))","v":" "},{"$f":"IF(ISERROR(VLOOKUP(K211,#REF!,3,FALSE)),\" \",VLOOKUP(K211,#REF!,3,FALSE))","v":" "},1811,0,1031161245,"YEIMY XIOMARA NIÑO GONZALEZ","Persona Natural",null,"N/A","N/A",null,28800000,0,2,13920000,{"$f":"+W211+X211+Z211","v":42720000},35520000,"2022-01-28","2022-02-05","2023-01-30",240,1,86,null,null,null,null,"En ejecución",{"$f":"IF(ISERROR(AB211/AA211),\"-\",(AB211/AA211))","v":0.8314606741573034}]
["FDLSC-CVNI-668-2022",2022,"FDLSC-CD-352-2022","https://community.secop.gov.co/Public/Tendering/OpportunityDetail/Index?noticeUID=CO1.NTC.3686568&isFromPublicArea=True&isModal=true&asPopupView=true","Convenios/Contratos interadministrativos","Contratación directa","Contratos interadministrativos","AUNAR ESFUERZOS, TÉCNICOS, ADMINISTRATIVOS Y FINANCIEROS PARA DESARROLLAR ACTIVIDADES DE PROYECTOS DE INVERSIÓN DEL FONDO DE DESARROLLO   LOCAL   DE   SAN   CRISTÓBAL   RELACIONADOS   CON   TEMÁTICAS SOCIALES QUE IMPACTAN DIRECTAMENTE LA COMUNIDAD DE LA LOCALIDAD","Inversión","Un nuevo contrato social y ambiental para la Bogotá del Siglo XXI",45,{"$f":"IF(ISERROR(VLOOKUP(K212,#REF!,2,FALSE)),\" \",VLOOKUP(K212,#REF!,2,FALSE))","v":" "},{"$f":"IF(ISERROR(VLOOKUP(K212,#REF!,3,FALSE)),\" \",VLOOKUP(K212,#REF!,3,FALSE))","v":" "},1835,0,901100455,"ALIANZA PÚBLICA PARA EL DESARROLLO INTEGRAL – ALDESARROLLO ","Persona Jurídica",null,"N/A","N/A",null,42684000,0,0,0,{"$f":"+W212+X212+Z212","v":42684000},0,"2022-12-29",null,null,240,null,null,null,null,null,null,"Celebrado o por iniciar",{"$f":"IF(ISERROR(AB212/AA212),\"-\",(AB212/AA212))","v":0}]
["FDLSC-CPS-256-2022",2022,"FDLSC-CD-137-2022","https://community.secop.gov.co/Public/Tendering/OpportunityDetail/Index?noticeUID=CO1.NTC.2746385&isFromPublicArea=True&isModal=true&asPopupView=true","Contratos de prestación de servicios profesionales y de apoyo a la gestión","Contratación directa","Prestación de servicios profesionales y de apoyo a la gestión, o para la ejecución de trabajos artísticos que sólo puedan encomendarse a determinadas personas naturales","PRESTAR LOS SERVICIOS PROFESIONALES ESPECIALIZADOS A LA ALCALDÍA LOCAL DE SAN CRISTÓBAL, PARA EL DESARROLLO DEL PROYECTO DE FORTALECIMIENTO DEL PATRIMONIO Y APROPIACIÓN DE LA CULTURA PATRIMONIAL EN LA LOCALIDAD QUE SE ENMARQUEN EN EL ARTICULO 21 DEL PLAN DE DESARROLLO LOCAL: PROGRAMA CREACIÓN Y VIDA COTIDIANA: APROPIACIÓN CIUDADANA DEL ARTE, LA CULTURA Y EL PATRIMONIO, PARA LA DEMOCRACIA CULTURAL.","Inversión","Un nuevo contrato social y ambiental para la Bogotá del Siglo XXI",21,{"$f":"IF(ISERROR(VLOOKUP(K213,#REF!,2,FALSE)),\" \",VLOOKUP(K213,#REF!,2,FALSE))","v":" "},{"$f":"IF(ISERROR(VLOOKUP(K213,#REF!,3,FALSE)),\" \",VLOOKUP(K213,#REF!,3,FALSE))","v":" "},1803,0,79369271,"RUBEN  HERNANDEZ MOLINA","Persona Natural",null,"N/A","N/A",null,42318000,0,0,0,{"$f":"+W213+X213+Z213","v":42318000},42318000,"2022-01-28","2022-02-04","2022-08-03",180,0,0,null,null,null,null,"Terminado",{"$f":"IF(ISERROR(AB213/AA213),\"-\",(AB213/AA213))","v":1}]
["FDLSC-CPS-301-2022",2022,"FDLSC-CD-153-2022","https://community.secop.gov.co/Public/Tendering/OpportunityDetail/Index?noticeUID=CO1.NTC.2758562&isFromPublicArea=True&isModal=true&asPopupView=true","Contratos de prestación de servicios profesionales y de apoyo a la gestión","Contratación directa","Prestación de servicios profesionales y de apoyo a la gestión, o para la ejecución de trabajos artísticos que sólo puedan encomendarse a determinadas personas naturales","PRESTAR SERVICIOS DE APOYO TÉCNICO EN EL DESPACHO DE LA ALCALDIA LOCAL DE SAN CRISTOBAL ACOMPAÑANDO LA AGENDA DEL ALCALDE PARA EL SEGUIMIENTO Y CUMPLIMIENTO DE LOS COMPROMISOS DEL MISMO CON ENTIDADES DEL ORDEN DISTRITAL Y COMUNIDAD DE LA LOCALIDAD.","Inversión","Un nuevo contrato social y ambiental para la Bogotá del Siglo XXI",57,{"$f":"IF(ISERROR(VLOOKUP(K214,#REF!,2,FALSE)),\" \",VLOOKUP(K214,#REF!,2,FALSE))","v":" "},{"$f":"IF(ISERROR(VLOOKUP(K214,#REF!,3,FALSE)),\" \",VLOOKUP(K214,#REF!,3,FALSE))","v":" "},1873,0,1023951445,"KELY ANDREA TORRES YARA","Persona Natural",null,"N/A","N/A",null,28000000,0,2,13533333,{"$f":"+W214+X214+Z214","v":41533333},31966666,"2022-01-28","2022-02-05","2023-01-30",240,1,86,1013651418,"ANGIE LIZETH VINCHIRA FERNANDEZ","2022-03-23",36050000,"En ejecución",{"$f":"IF(ISERROR(AB214/AA214),\"-\",(AB214/AA214))","v":0.76966291147402011}]
["FDLSC-CPS-074-2022",2022,"FDLSC-CD-044-2022","https://community.secop.gov.co/Public/Tendering/OpportunityDetail/Index?noticeUID=CO1.NTC.2639604&isFromPublicArea=True&isModal=true&asPopupView=true","Contratos de prestación de servicios profesionales y de apoyo a la gestión","Contratación directa","Prestación de servicios profesionales y de apoyo a la gestión, o para la ejecución de trabajos artísticos que sólo puedan encomendarse a determinadas personas naturales","APOYAR LAS INSPECCIONES DE POLICÍA CON EL INGRESO DE INFORMACIÓN, USO Y APROPIACIÓN DE LOS SISTEMAS DE INFORMACIÓN VIGENTES DISPUESTOS PARA LAS ACTUACIONES DE POLICÍA.","Inversión","Un nuevo contrato social y ambiental para la Bogotá del Siglo XXI",57,{"$f":"IF(ISERROR(VLOOKUP(K215,#REF!,2,FALSE)),\" \",VLOOKUP(K215,#REF!,2,FALSE))","v":" "},{"$f":"IF(ISERROR(VLOOKUP(K215,#REF!,3,FALSE)),\" \",VLOOKUP(K215,#REF!,3,FALSE))","v":" "},1873,0,1023943024,"LUISA FERNANDA RUSSI RAMOS","Persona Natural",null,"N/A","N/A",null,29664000,0,1,11742000,{"$f":"+W215+X215+Z215","v":41406000},37698000,"2022-01-24","2022-01-26","2022-12-30",240,1,95,null,null,null,null,"Terminado",{"$f":"IF(ISERROR(AB215/AA215),\"-\",(AB215/AA215))","v":0.91044776119402981}]
["FDLSC-CPS-075-2022",2022,"FDLSC-CD-044-2022","https://community.secop.gov.co/Public/Tendering/OpportunityDetail/Index?noticeUID=CO1.NTC.2639604&isFromPublicArea=True&isModal=true&asPopupView=true","Contratos de prestación de servicios profesionales y de apoyo a la gestión","Contratación directa","Prestación de servicios profesionales y de apoyo a la gestión, o para la ejecución de trabajos artísticos que sólo puedan encomendarse a determinadas personas naturales","APOYAR LAS INSPECCIONES DE POLICÍA CON EL INGRESO DE INFORMACIÓN, USO Y APROPIACIÓN DE LOS SISTEMAS DE INFORMACIÓN VIGENTES DISPUESTOS PARA LAS ACTUACIONES DE POLICÍA.","Inversión","Un nuevo contrato social y ambiental para la Bogotá del Siglo XXI",57,{"$f":"IF(ISERROR(VLOOKUP(K216,#REF!,2,FALSE)),\" \",VLOOKUP(K216,#REF!,2,FALSE))","v":" "},{"$f":"IF(ISERROR(VLOOKUP(K216,#REF!,3,FALSE)),\" \",VLOOKUP(K216,#REF!,3,FALSE))","v":" "},1873,0,52063432,"GIOVANNI CANCINO CONTENTO","Persona Natural",null,"N/A","N/A",null,29664000,0,1,11742000,{"$f":"+W216+X216+Z216","v":41406000},37698000,"2022-01-24","2022-01-26","2022-12-30",240,1,95,null,null,null,null,"Terminado",{"$f":"IF(ISERROR(AB216/AA216),\"-\",(AB216/AA216))","v":0.91044776119402981}]
["FDLSC-CPS-262-2022",2022,"FDLSC-CD-141-2022","https://community.secop.gov.co/Public/Tendering/OpportunityDetail/Index?noticeUID=CO1.NTC.2744000&isFromPublicArea=True&isModal=true&asPopupView=true","Contratos de prestación de servicios profesionales y de apoyo a la gestión","Contratación directa","Prestación de servicios profesionales y de apoyo a la gestión, o para la ejecución de trabajos artísticos que sólo puedan encomendarse a determinadas personas naturales","PRESTAR SUS SERVICIOS PROFESIONALES AL FONDO DE DESARROLLO LOCAL DE CRISTOBAL EN EL MARCO DEL PLAN DE DESARROLLO 2021- 2024 APOYANDO LA GESTIÓN ADMINISTRATIVA TENDIENTE A INCREMENTAR LAS HABILIDADES DEL PERSONAL Y EL BIENESTAR INSTITUCIONAL Y LAS DEMAS ACTIVIDADES QUE SE GENEREN.","Inversión","Un nuevo contrato social y ambiental para la Bogotá del Siglo XXI",57,{"$f":"IF(ISERROR(VLOOKUP(K217,#REF!,2,FALSE)),\" \",VLOOKUP(K217,#REF!,2,FALSE))","v":" "},{"$f":"IF(ISERROR(VLOOKUP(K217,#REF!,3,FALSE)),\" \",VLOOKUP(K217,#REF!,3,FALSE))","v":" "},1873,0,1032401910,"ESTEPHANIA VALLENTINA CUAICUAN CHICAIZA","Persona Natural",null,"N/A","N/A",null,41400000,0,0,0,{"$f":"+W217+X217+Z217","v":41400000},41400000,"2022-01-27","2022-02-02","2022-10-01",240,0,0,null,null,null,null,"Terminado",{"$f":"IF(ISERROR(AB217/AA217),\"-\",(AB217/AA217))","v":1}]
["FDLSC-CPS-229-2022",2022,"FDLSC-CD-115-2022","https://community.secop.gov.co/Public/Tendering/OpportunityDetail/Index?noticeUID=CO1.NTC.2743627&isFromPublicArea=True&isModal=true&asPopupView=true","Contratos de prestación de servicios profesionales y de apoyo a la gestión","Contratación directa","Prestación de servicios profesionales y de apoyo a la gestión, o para la ejecución de trabajos artísticos que sólo puedan encomendarse a determinadas personas naturales","APOYAR AL EQUIPO DE PRENSA Y COMUNICACIONES DE LA ALCALDÍA LOCAL EN LA CREACIÓN, REALIZACIÓN, PRODUCCIÓN Y EDICIÓN DE VIDEOS, ASI COMO EL REGISTRO, EDICIÓN Y LA PRESENTACIÓN DE FOTOGRAFÍAS DE LOS ACONTECIMIENTOS, HECHOS Y EVENTOS EXTERNOS E INTERNOS DE LA ALCALDÍA LOCAL, PARA SER UTILIZADOS COMO INSUMOS DE COMUNICACIÓN EN LOS MEDIOS, ESPECIALMENTE ESCRITOS, DIGITALES Y AUDIOVISUALES.","Inversión","Un nuevo contrato social y ambiental para la Bogotá del Siglo XXI",57,{"$f":"IF(ISERROR(VLOOKUP(K218,#REF!,2,FALSE)),\" \",VLOOKUP(K218,#REF!,2,FALSE))","v":" "},{"$f":"IF(ISERROR(VLOOKUP(K218,#REF!,3,FALSE)),\" \",VLOOKUP(K218,#REF!,3,FALSE))","v":" "},1873,0,80183498,"YEAN GABRIEL LEMUS DIAZ","Persona Natural",null,"N/A","N/A",null,41376000,0,0,0,{"$f":"+W218+X218+Z218","v":41376000},21032800,"2022-01-28","2022-02-04","2022-07-21",240,0,0,1019124188,"LAURA MARCELA GARCIA MONTAÑO","2022-04-22",27239200,"Terminado",{"$f":"IF(ISERROR(AB218/AA218),\"-\",(AB218/AA218))","v":0.5083333333333333}]
["FDLSC-CPS-188-2022",2022,"FDLSC-CD-088-2022","https://community.secop.gov.co/Public/Tendering/OpportunityDetail/Index?noticeUID=CO1.NTC.2784844&isFromPublicArea=True&isModal=true&asPopupView=true","Contratos de prestación de servicios profesionales y de apoyo a la gestión","Contratación directa","Prestación de servicios profesionales y de apoyo a la gestión, o para la ejecución de trabajos artísticos que sólo puedan encomendarse a determinadas personas naturales","PRESTAR SUS SERVICIOS PROFESIONALES AL FDLSC PARA REALIZAR LA FORMULACIÓN, PRESENTACIÓN, EVALUACIÓN, SEGUIMIENTO Y APOYAR LA SUPERVISIÓN DE LOS PROCESOS CONTRACTUALES DERIVADOS DE TEMAS DE RECREACIÓN, CULTURA Y DEPORTE, Y LOS DEMAS QUE LE SEAN ASIGNADOS PARA LA PLANEACION. ","Inversión","Un nuevo contrato social y ambiental para la Bogotá del Siglo XXI",57,{"$f":"IF(ISERROR(VLOOKUP(K219,#REF!,2,FALSE)),\" \",VLOOKUP(K219,#REF!,2,FALSE))","v":" "},{"$f":"IF(ISERROR(VLOOKUP(K219,#REF!,3,FALSE)),\" \",VLOOKUP(K219,#REF!,3,FALSE))","v":" "},1873,0,53890460,"CAROL ANDREA URBANO LEAL","Persona Natural",null,"N/A","N/A",null,41035200,0,0,0,{"$f":"+W219+X219+Z219","v":41035200},30092480,"2022-01-28","2022-02-05","2022-09-07",240,0,0,null,null,null,null,"Terminado",{"$f":"IF(ISERROR(AB219/AA219),\"-\",(AB219/AA219))","v":0.73333333333333328}]
["FDLSC-CPS-187-2022",2022,"FDLSC-CD-088-2022","https://community.secop.gov.co/Public/Tendering/OpportunityDetail/Index?noticeUID=CO1.NTC.2784844&isFromPublicArea=True&isModal=true&asPopupView=true","Contratos de prestación de servicios profesionales y de apoyo a la gestión","Contratación directa","Prestación de servicios profesionales y de apoyo a la gestión, o para la ejecución de trabajos artísticos que sólo puedan encomendarse a determinadas personas naturales","PRESTAR SUS SERVICIOS PROFESIONALES AL FDLSC PARA REALIZAR LA FORMULACIÓN, PRESENTACIÓN, EVALUACIÓN, SEGUIMIENTO Y APOYAR LA SUPERVISIÓN DE LOS PROCESOS CONTRACTUALES DERIVADOS DE TEMAS DE RECREACIÓN, CULTURA Y DEPORTE, Y LOS DEMAS QUE LE SEAN ASIGNADOS PARA LA PLANEACION. ","Inversión","Un nuevo contrato social y ambiental para la Bogotá del Siglo XXI",57,{"$f":"IF(ISERROR(VLOOKUP(K220,#REF!,2,FALSE)),\" \",VLOOKUP(K220,#REF!,2,FALSE))","v":" "},{"$f":"IF(ISERROR(VLOOKUP(K220,#REF!,3,FALSE)),\" \",VLOOKUP(K220,#REF!,3,FALSE))","v":" "},1873,0,1014184818,"LAURA FERNANDA GARCÍA RODRIGUEZ","Persona Natural",null,"N/A","N/A",null,41035200,0,0,0,{"$f":"+W220+X220+Z220","v":41035200},41035200,"2022-01-28","2022-02-02","2022-10-01",240,0,0,null,null,null,null,"Terminado",{"$f":"IF(ISERROR(AB220/AA220),\"-\",(AB220/AA220))","v":1}]
["FDLSC-CPS-409-2022",2022,"FDLSC-CD-194-2022","https://community.secop.gov.co/Public/Tendering/OpportunityDetail/Index?noticeUID=CO1.NTC.3105939&isFromPublicArea=True&isModal=true&asPopupView=true","Contratos de prestación de servicios profesionales y de apoyo a la gestión","Contratación directa","Prestación de servicios profesionales y de apoyo a la gestión, o para la ejecución de trabajos artísticos que sólo puedan encomendarse a determinadas personas naturales","PRESTAR SUS SERVICIOS PROFESIONALES PARA APOYAR Y ORIENTAR LA IMPLEMENTACIÓN DEL PROYECTO DE INVERSIÓN VINCULADO AL PROGRAMA JÓVENES A LA U, EN EL MARCO DEL PLAN DE DESARROLLO LOCAL ¿UN NUEVO CONTRATO SOCIAL Y AMBIENTAL PARA SAN CRISTÓBAL, 2021- 2024","Inversión","Un nuevo contrato social y ambiental para la Bogotá del Siglo XXI",57,{"$f":"IF(ISERROR(VLOOKUP(K221,#REF!,2,FALSE)),\" \",VLOOKUP(K221,#REF!,2,FALSE))","v":" "},{"$f":"IF(ISERROR(VLOOKUP(K221,#REF!,3,FALSE)),\" \",VLOOKUP(K221,#REF!,3,FALSE))","v":" "},1873,0,79481562,"JULIO ALEXANDER RIVERA CACHOPE","Persona Natural",null,"N/A","N/A",null,34070000,0,1,6814000,{"$f":"+W221+X221+Z221","v":40884000},25666067,"2022-08-04","2022-08-04","2023-01-30",150,0,0,null,null,null,null,"En ejecución",{"$f":"IF(ISERROR(AB221/AA221),\"-\",(AB221/AA221))","v":0.62777778593092648}]
["FDLSC-CPS-084-2022",2022,"FDLSC-CD-046-2022","https://community.secop.gov.co/Public/Tendering/OpportunityDetail/Index?noticeUID=CO1.NTC.2674929&isFromPublicArea=True&isModal=true&asPopupView=true","Contratos de prestación de servicios profesionales y de apoyo a la gestión","Contratación directa","Prestación de servicios profesionales y de apoyo a la gestión, o para la ejecución de trabajos artísticos que sólo puedan encomendarse a determinadas personas naturales","PRESTAR SUS SERVICIOS PROFESIONALES PARA APOYAR Y  ORIENTAR LA IMPLEMENTACIÓN DEL PROYECTO DE INVERSIÓN VINCULADO AL PROGRAMA JÓVENES A LA U, EN EL MARCO DEL PLAN DE DESARROLLO LOCAL ¿UN NUEVO CONTRATO SOCIAL Y AMBIENTAL PARA SAN CRISTÓBAL, 2021- 2024","Inversión","Un nuevo contrato social y ambiental para la Bogotá del Siglo XXI",57,{"$f":"IF(ISERROR(VLOOKUP(K222,#REF!,2,FALSE)),\" \",VLOOKUP(K222,#REF!,2,FALSE))","v":" "},{"$f":"IF(ISERROR(VLOOKUP(K222,#REF!,3,FALSE)),\" \",VLOOKUP(K222,#REF!,3,FALSE))","v":" "},1873,0,79481562,"JULIO ALEXANDER RIVERA CACHOPE","Persona Natural",null,"N/A","N/A",null,40884000,0,0,0,{"$f":"+W222+X222+Z222","v":40884000},40884000,"2022-01-25","2022-02-02","2022-08-01",180,0,0,null,null,null,null,"Terminado",{"$f":"IF(ISERROR(AB222/AA222),\"-\",(AB222/AA222))","v":1}]
["FDLSC-CPS-233-2022",2022,"FDLSC-CD-119-2022","https://community.secop.gov.co/Public/Tendering/OpportunityDetail/Index?noticeUID=CO1.NTC.2728056&isFromPublicArea=True&isModal=true&asPopupView=true","Contratos de prestación de servicios profesionales y de apoyo a la gestión","Contratación directa","Prestación de servicios profesionales y de apoyo a la gestión, o para la ejecución de trabajos artísticos que sólo puedan encomendarse a determinadas personas naturales","PRESTAR SUS SERVICIOS PROFESIONALES PARA APOYAR LOS TEMAS RELACIONADOS AL SISTEMA INTEGRADO DE GESTIÓN DE CALIDAD (SIG) DE ACUERDO CON LAS SOLCITUDES DE LA ADMINISTRACIÓN LOCAL.","Inversión","Un nuevo contrato social y ambiental para la Bogotá del Siglo XXI",57,{"$f":"IF(ISERROR(VLOOKUP(K223,#REF!,2,FALSE)),\" \",VLOOKUP(K223,#REF!,2,FALSE))","v":" "},{"$f":"IF(ISERROR(VLOOKUP(K223,#REF!,3,FALSE)),\" \",VLOOKUP(K223,#REF!,3,FALSE))","v":" "},1873,0,51715897,"YOLANDA HERRERA VELOZA","Persona Natural",null,"N/A","N/A",null,52000000,-11266667,0,0,{"$f":"+W223+X223+Z223","v":40733333},40733333,"2022-01-27","2022-02-04","2022-10-03",240,0,0,null,null,null,null,"Liquidado",{"$f":"IF(ISERROR(AB223/AA223),\"-\",(AB223/AA223))","v":1}]
["FDLSC-CPS-323-2022",2022,"FDLSC-CD-028-2022","https://community.secop.gov.co/Public/Tendering/OpportunityDetail/Index?noticeUID=CO1.NTC.2639730&isFromPublicArea=True&isModal=true&asPopupView=true","Contratos de prestación de servicios profesionales y de apoyo a la gestión","Contratación directa","Prestación de servicios profesionales y de apoyo a la gestión, o para la ejecución de trabajos artísticos que sólo puedan encomendarse a determinadas personas naturales","PRESTAR SU SERVICIOS TÉCNICOS PARA EL APOYO A LOS PROCESOS DE PROTECCIÓN Y BIENESTAR ANIMAL DEL FONDO DE DESARROLLO LOCAL DE SAN CRÍSTOBAL EN MATERIA ADMINISTRATIVA, ASÍ COMO LABORES DE CAMPO.","Inversión","Un nuevo contrato social y ambiental para la Bogotá del Siglo XXI",57,{"$f":"IF(ISERROR(VLOOKUP(K224,#REF!,2,FALSE)),\" \",VLOOKUP(K224,#REF!,2,FALSE))","v":" "},{"$f":"IF(ISERROR(VLOOKUP(K224,#REF!,3,FALSE)),\" \",VLOOKUP(K224,#REF!,3,FALSE))","v":" "},1873,0,53061580,"DEISY YOHANA CAMARGO DAZA","Persona Natural",null,"N/A","N/A",null,29664000,0,1,10753200,{"$f":"+W224+X224+Z224","v":40417200},36709200,"2022-01-28","2022-02-04","2022-12-30",240,1,87,null,null,null,null,"Terminado",{"$f":"IF(ISERROR(AB224/AA224),\"-\",(AB224/AA224))","v":0.90825688073394495}]
["FDLSC-CPS-019-2022",2022,"FDLSC-CD-010-2022","https://community.secop.gov.co/Public/Tendering/OpportunityDetail/Index?noticeUID=CO1.NTC.2590823&isFromPublicArea=True&isModal=true&asPopupView=true","Contratos de prestación de servicios profesionales y de apoyo a la gestión","Contratación directa","Prestación de servicios profesionales y de apoyo a la gestión, o para la ejecución de trabajos artísticos que sólo puedan encomendarse a determinadas personas naturales","PRESTAR SERVICIOS PROFESIONALES PARA TRAMITAR LAS ETAPAS PRECONTRACTUALES Y CONTRACTUALES DE ACUERDO AL PLAN DE ADQUISICIONES Y AL PLAN DE CONTRATACIÓN QUE ADELANTE EL FONDO DE DESARROLLO LOCAL DE SAN CRISTÓBAL","Inversión","Un nuevo contrato social y ambiental para la Bogotá del Siglo XXI",57,{"$f":"IF(ISERROR(VLOOKUP(K225,#REF!,2,FALSE)),\" \",VLOOKUP(K225,#REF!,2,FALSE))","v":" "},{"$f":"IF(ISERROR(VLOOKUP(K225,#REF!,3,FALSE)),\" \",VLOOKUP(K225,#REF!,3,FALSE))","v":" "},1873,0,1124851607,"ADRIANA ELIZABETH MEZA SANTANDER","Persona Natural",null,"N/A","N/A",null,40200000,0,0,0,{"$f":"+W225+X225+Z225","v":40200000},8710000,"2022-01-28","2022-02-04","2022-08-03",180,0,0,1010165244,"MANUEL ARTURO RODRIGUEZ VASQUEZ","2022-06-17",10496667,"Terminado",{"$f":"IF(ISERROR(AB225/AA225),\"-\",(AB225/AA225))","v":0.21666666666666667}]
["FDLSC-CPS-406-2022",2022,"FDLSC-CD-192-2022","https://community.secop.gov.co/Public/Tendering/OpportunityDetail/Index?noticeUID=CO1.NTC.3101482&isFromPublicArea=True&isModal=true&asPopupView=true","Contratos de prestación de servicios profesionales y de apoyo a la gestión","Contratación directa","Prestación de servicios profesionales y de apoyo a la gestión, o para la ejecución de trabajos artísticos que sólo puedan encomendarse a determinadas personas naturales","PRESTAR SUS SERVICIOS PROFESIONALES PARA LA GESTIÓN EN EL ÁREA DE DESARROLLO LOCAL DE SAN CRISTÓBAL, EN EL APOYO DE LA FORMULACIÓN, PLANEACIÓN, PRESENTACIÓN Y SEGUIMIENTO DE LOS PROYECTOS DE INFRAESTRUCTURA Y OBRAS CIVILES QUE DESARROLLE LA  ENTIDAD, Y EN LOS REQUERIMIENTOS DE INFRAESTRUCTURA CIVIL QUE TENGA LA ALCALDÍA LOCAL DE SAN CRISTÓBAL","Inversión","Un nuevo contrato social y ambiental para la Bogotá del Siglo XXI",49,{"$f":"IF(ISERROR(VLOOKUP(K226,#REF!,2,FALSE)),\" \",VLOOKUP(K226,#REF!,2,FALSE))","v":" "},{"$f":"IF(ISERROR(VLOOKUP(K226,#REF!,3,FALSE)),\" \",VLOOKUP(K226,#REF!,3,FALSE))","v":" "},1871,0,1024547185,"DIEGO CABALLERO ROJAS","Persona Natural",null,"N/A","N/A",null,33500000,0,1,6700000,{"$f":"+W226+X226+Z226","v":40200000},25906667,"2022-08-03","2022-08-05","2023-02-04",150,0,0,null,null,null,null,"En ejecución",{"$f":"IF(ISERROR(AB226/AA226),\"-\",(AB226/AA226))","v":0.64444445273631845}]
["FDLSC-CPS-345-2022",2022,"FDLSC-CD-091-2022","https://community.secop.gov.co/Public/Tendering/OpportunityDetail/Index?noticeUID=CO1.NTC.2758562&isFromPublicArea=True&isModal=true&asPopupView=true","Contratos de prestación de servicios profesionales y de apoyo a la gestión","Contratación directa","Prestación de servicios profesionales y de apoyo a la gestión, o para la ejecución de trabajos artísticos que sólo puedan encomendarse a determinadas personas naturales","PRESTAR SUS SERVICIOS PROFESIONALES PARA LA GESTIÓN EN EL ÁREA DE DESARROLLO LOCAL DE SAN CRISTÓBAL, EN EL APOYO DE LA FORMULACIÓN, PLANEACIÓN, PRESENTACIÓN Y SEGUIMIENTO DE LOS PROYECTOS DE INFRAESTRUCTURA Y OBRAS CIVILES QUE DESARROLLE LA ENTIDAD, Y EN LOS REQUERIMIENTOS DE INFRAESTRUCTURA CIVIL QUE TENGA LA ALCALDÍA LOCAL DE SAN CRISTÓBAL","Inversión","Un nuevo contrato social y ambiental para la Bogotá del Siglo XXI",49,{"$f":"IF(ISERROR(VLOOKUP(K227,#REF!,2,FALSE)),\" \",VLOOKUP(K227,#REF!,2,FALSE))","v":" "},{"$f":"IF(ISERROR(VLOOKUP(K227,#REF!,3,FALSE)),\" \",VLOOKUP(K227,#REF!,3,FALSE))","v":" "},1871,0,1032400823,"JUAN CARLOS BOHORQUEZ","Persona Natural",null,"N/A","N/A",null,40200000,0,0,0,{"$f":"+W227+X227+Z227","v":40200000},32383334,"2022-01-28","2022-02-02","2022-08-01",180,0,0,1105685105,"RAFAEL PALMA BOHORQUEZ","2022-07-05",6030000,"Terminado",{"$f":"IF(ISERROR(AB227/AA227),\"-\",(AB227/AA227))","v":0.80555557213930351}]
["FDLSC-CPS-302-2022",2022,"FDLSC-CD-091-2022","https://community.secop.gov.co/Public/Tendering/OpportunityDetail/Index?noticeUID=CO1.NTC.2785462&isFromPublicArea=True&isModal=true&asPopupView=true","Contratos de prestación de servicios profesionales y de apoyo a la gestión","Contratación directa","Prestación de servicios profesionales y de apoyo a la gestión, o para la ejecución de trabajos artísticos que sólo puedan encomendarse a determinadas personas naturales","PRESTAR SUS SERVICIOS PROFESIONALES PARA LA GESTIÓN EN EL ÁREA DE DESARROLLO LOCAL DE SAN CRISTÓBAL, EN EL APOYO DE LA FORMULACIÓN, PLANEACIÓN, PRESENTACIÓN Y SEGUIMIENTO DE LOS PROYECTOS DE INFRAESTRUCTURA Y OBRAS CIVILES QUE DESARROLLE LA ENTIDAD, Y EN LOS REQUERIMIENTOS DE INFRAESTRUCTURA CIVIL QUE TENGA LA ALCALDÍA LOCAL DE SAN CRISTÓBAL","Inversión","Un nuevo contrato social y ambiental para la Bogotá del Siglo XXI",49,{"$f":"IF(ISERROR(VLOOKUP(K228,#REF!,2,FALSE)),\" \",VLOOKUP(K228,#REF!,2,FALSE))","v":" "},{"$f":"IF(ISERROR(VLOOKUP(K228,#REF!,3,FALSE)),\" \",VLOOKUP(K228,#REF!,3,FALSE))","v":" "},1871,0,1024547185,"DIEGO CABALLERO ROJAS","Persona Natural",null,"N/A","N/A",null,40200000,0,0,0,{"$f":"+W228+X228+Z228","v":40200000},40200000,"2022-01-28","2022-02-02","2022-08-01",180,0,0,null,null,null,null,"Terminado",{"$f":"IF(ISERROR(AB228/AA228),\"-\",(AB228/AA228))","v":1}]
["FDLSC-CSU-497-2022",2022,"FDLSC-MIC-008-2022","https://community.secop.gov.co/Public/Tendering/OpportunityDetail/Index?noticeUID=CO1.NTC.3168458&isFromPublicArea=True&isModal=true&asPopupView=true","Suministro","Contratación mínima cuantia","No aplica","CONTRATAR A MONTO AGOTABLE EL SUMINISTRO DE INSUMOS, REFRIGERIOS Y SERVICIO DE TRANSPORTE REQUERIDOS PARA EL DESARROLLO LOGISTICO Y OPERATIVO DEL PROGRAMA RETO LOCAL JÓVENES Y ENTORNOS SEGUROS EN LA LOCALIDAD DE SAN CRISTÓBAL","Inversión","Un nuevo contrato social y ambiental para la Bogotá del Siglo XXI",1,{"$f":"IF(ISERROR(VLOOKUP(K229,#REF!,2,FALSE)),\" \",VLOOKUP(K229,#REF!,2,FALSE))","v":" "},{"$f":"IF(ISERROR(VLOOKUP(K229,#REF!,3,FALSE)),\" \",VLOOKUP(K229,#REF!,3,FALSE))","v":" "},1852,3,901340203,"SUNSET EVENTS SAS","Persona Jurídica",null,"N/A","N/A",null,40000000,0,0,0,{"$f":"+W229+X229+Z229","v":40000000},14901709,"2022-09-07","2022-09-09","2023-01-06",90,0,0,null,null,null,null,"En ejecución",{"$f":"IF(ISERROR(AB229/AA229),\"-\",(AB229/AA229))","v":0.37254272500000002}]
["FDLSC-CPS-236-2022",2022,"FDLSC-CD-122-2022","https://community.secop.gov.co/Public/Tendering/OpportunityDetail/Index?noticeUID=CO1.NTC.2753073&isFromPublicArea=True&isModal=true&asPopupView=true","Contratos de prestación de servicios profesionales y de apoyo a la gestión","Contratación directa","Prestación de servicios profesionales y de apoyo a la gestión, o para la ejecución de trabajos artísticos que sólo puedan encomendarse a determinadas personas naturales","PRESTAR LOS SERVICIOS PROFESIONALES A  LA ALCALDÍA LOCAL DE SAN CRISTÓBAL, PARA LA FORMULACIÓN, EVALUACIÓN ,  APOYO A  LA SUPERVISIÓN Y EJECUCIÓN DE LAS ACTIVIDADES Y PROCESOS ADMINISTRATIVOS Y DE CAMPO RELACIONADOS CON LA ATENCIÓN A VÍCTIMAS EN EL MARCO DE LAS NECESIDADES DEL FONDO DE DESARROLLO LOCAL Y  DINAMIZACIÓN PARA LA EJECUCIÓN DE LOS PROYECTOS QUE HACEN PARTE DEL PLAN DE DESARROLLO.","Inversión","Un nuevo contrato social y ambiental para la Bogotá del Siglo XXI",39,{"$f":"IF(ISERROR(VLOOKUP(K230,#REF!,2,FALSE)),\" \",VLOOKUP(K230,#REF!,2,FALSE))","v":" "},{"$f":"IF(ISERROR(VLOOKUP(K230,#REF!,3,FALSE)),\" \",VLOOKUP(K230,#REF!,3,FALSE))","v":" "},1869,0,35602304,"EMILDA SANCHEZ PALACIOS","Persona Natural",null,"N/A","N/A",null,40000000,0,0,0,{"$f":"+W230+X230+Z230","v":40000000},39333333,"2022-01-28","2022-02-05","2022-10-04",240,0,0,null,null,null,null,"Terminado",{"$f":"IF(ISERROR(AB230/AA230),\"-\",(AB230/AA230))","v":0.98333332500000004}]
["FDLSC-CSU-370-2022",2022,"FDLSC-MIC-004-2022","https://community.secop.gov.co/Public/Tendering/OpportunityDetail/Index?noticeUID=CO1.NTC.2959755&isFromPublicArea=True&isModal=False","Suministro","Contratación mínima cuantia","No aplica","ADQUISICIÓN DE MATERIALES ELÉCTRICOS Y DE FERRETERÍA PARA EL MANTENIMIENTO LOCATIVO DE LAS INSTALACIONES Y/O LOS BIENES DE LA ALCALDÍA LOCAL DE SAN CRISTOBAL A PRECIOS UNITARIOS A MONTO AGOTABLE","Funcionamiento","Un nuevo contrato social y ambiental para la Bogotá del Siglo XXI","No aplica",{"$f":"IF(ISERROR(VLOOKUP(K231,#REF!,2,FALSE)),\" \",VLOOKUP(K231,#REF!,2,FALSE))","v":" "},{"$f":"IF(ISERROR(VLOOKUP(K231,#REF!,3,FALSE)),\" \",VLOOKUP(K231,#REF!,3,FALSE))","v":" "},9991,11,901577291,"INVERSIONES RODRÍGUEZ RINCON & CIA","Persona Jurídica",null,"N/A","N/A",null,40000000,0,0,0,{"$f":"+W231+X231+Z231","v":40000000},39999948,"2022-06-23","2022-06-22","2022-11-23",150,0,0,null,null,null,null,"Liquidado",{"$f":"IF(ISERROR(AB231/AA231),\"-\",(AB231/AA231))","v":0.99999870000000002}]
["FDLSC-CPS-198-2022",2022,"FDLSC-CD-097-2022","https://community.secop.gov.co/Public/Tendering/OpportunityDetail/Index?noticeUID=CO1.NTC.2710740&isFromPublicArea=True&isModal=true&asPopupView=true","Contratos de prestación de servicios profesionales y de apoyo a la gestión","Contratación directa","Prestación de servicios profesionales y de apoyo a la gestión, o para la ejecución de trabajos artísticos que sólo puedan encomendarse a determinadas personas naturales","PRESTAR SUS SERVICIOS PROFESIONALES EN LO CONCERNIENTE A LAS ACTIVIDADESADMINISTRATIVAS Y DE CAMPO EN LOS PROCESOS DE RESTAURACIÓN ECOLÓGICA, AGRICULTURA URBANA Y PROYECTOS CIUDADANOS DE EDUCACIÓN AMBIENTAL-PROCEDAS","Inversión","Un nuevo contrato social y ambiental para la Bogotá del Siglo XXI",27,{"$f":"IF(ISERROR(VLOOKUP(K232,#REF!,2,FALSE)),\" \",VLOOKUP(K232,#REF!,2,FALSE))","v":" "},{"$f":"IF(ISERROR(VLOOKUP(K232,#REF!,3,FALSE)),\" \",VLOOKUP(K232,#REF!,3,FALSE))","v":" "},1859,0,1073381365,"MARIAM ALEJANDRA ALARCON CANTOR","Persona Natural",null,"N/A","N/A",null,40000000,0,0,0,{"$f":"+W232+X232+Z232","v":40000000},40000000,"2022-01-27","2022-02-16","2022-10-15",240,0,0,null,null,null,null,"Terminado",{"$f":"IF(ISERROR(AB232/AA232),\"-\",(AB232/AA232))","v":1}]
["FDLSC-CPS-666-2022",2022,"FDLSC-SAMC-005-2022","https://community.secop.gov.co/Public/Tendering/OpportunityDetail/Index?noticeUID=CO1.NTC.3601213&isFromPublicArea=True&isModal=true&asPopupView=true","Contratos de prestación de servicios","Selección abreviada","Selección abreviada por menor cuantía ","CONTRATAR LOS SERVICIOS DE APOYO LOGÍSTICOS, TRANSPORTE, PUBLICITARIOS, ELEMENTOS DE MERCHANDISING Y CATERING REQUERIDOS PARA EL DESARROLLO OPERATIVO DE LOS EVENTOS LIDERADOS POR LA ALCALDIA LOCAL DE SAN CRISTÓBAL","Inversión","Un nuevo contrato social y ambiental para la Bogotá del Siglo XXI",20,{"$f":"IF(ISERROR(VLOOKUP(K233,#REF!,2,FALSE)),\" \",VLOOKUP(K233,#REF!,2,FALSE))","v":" "},{"$f":"IF(ISERROR(VLOOKUP(K233,#REF!,3,FALSE)),\" \",VLOOKUP(K233,#REF!,3,FALSE))","v":" "},1801,1,900521780,"B2 NETWORKS S A S","Persona Jurídica",null,"N/A","N/A",null,39275532,0,0,0,{"$f":"+W233+X233+Z233","v":39275532},0,"2022-12-28",null,null,180,null,null,null,null,null,null,"Celebrado o por iniciar",{"$f":"IF(ISERROR(AB233/AA233),\"-\",(AB233/AA233))","v":0}]
["FDLSC-CPS-375-2022",2022,"FDLSC-CD-177-2022","https://community.secop.gov.co/Public/Tendering/OpportunityDetail/Index?noticeUID=CO1.NTC.3031051&isFromPublicArea=True&isModal=False","Contratos de prestación de servicios profesionales y de apoyo a la gestión","Contratación directa","Prestación de servicios profesionales y de apoyo a la gestión, o para la ejecución de trabajos artísticos que sólo puedan encomendarse a determinadas personas naturales","PRESTAR SUS SERVICIOS PROFESIONALES EN EL FDLSC PARA REALIZAR LA FORMULACIÓN, SEGUIMIENTO Y APOYO A LA SUPERVISIÓN DE LOS PROCESOS CONTRACTUALES DERIVADOS DE LOS PROYECTOS DE CULTURA QUE LE SEAN ASIGNADOS EN EL MARCO DEL PLAN DE DESARROLLO LOCAL 2021-2024.","Inversión","Un nuevo contrato social y ambiental para la Bogotá del Siglo XXI",21,{"$f":"IF(ISERROR(VLOOKUP(K234,#REF!,2,FALSE)),\" \",VLOOKUP(K234,#REF!,2,FALSE))","v":" "},{"$f":"IF(ISERROR(VLOOKUP(K234,#REF!,3,FALSE)),\" \",VLOOKUP(K234,#REF!,3,FALSE))","v":" "},1803,0,80810133,"FABIAN ANDRES MIRANDA JACINTO","Persona Natural",null,"N/A","N/A",null,32500000,0,1,6500000,{"$f":"+W234+X234+Z234","v":39000000},28816667,"2022-07-13","2022-07-18","2023-01-17",150,0,0,null,null,null,null,"En ejecución",{"$f":"IF(ISERROR(AB234/AA234),\"-\",(AB234/AA234))","v":0.73888889743589747}]
["FDLSC-CPS-182-2022",2022,"FDLSC-CD-084-2022","https://community.secop.gov.co/Public/Tendering/OpportunityDetail/Index?noticeUID=CO1.NTC.2689646&isFromPublicArea=True&isModal=true&asPopupView=true","Contratos de prestación de servicios profesionales y de apoyo a la gestión","Contratación directa","Prestación de servicios profesionales y de apoyo a la gestión, o para la ejecución de trabajos artísticos que sólo puedan encomendarse a determinadas personas naturales","PRESTAR SUS SERVICIOS PROFESIONALES PARA LA FORMULACION, EVALUACIÓN, PRESENTACIÓN Y SEGUIMIENTO A LOS PROYECTOS DE INVERSIÓN RELACIONADOS CON TEMAS DE SALUD, EN EL MARCO DE LAS NECESIDADES DE LA ALCALDÍA LOCAL DE SAN CRISTOBAL. ","Inversión","Un nuevo contrato social y ambiental para la Bogotá del Siglo XXI",57,{"$f":"IF(ISERROR(VLOOKUP(K235,#REF!,2,FALSE)),\" \",VLOOKUP(K235,#REF!,2,FALSE))","v":" "},{"$f":"IF(ISERROR(VLOOKUP(K235,#REF!,3,FALSE)),\" \",VLOOKUP(K235,#REF!,3,FALSE))","v":" "},1873,0,52824441,"DIANA XIOMARA ALVAREZ CELY\n","Persona Natural",null,"N/A","N/A",null,39000000,0,0,0,{"$f":"+W235+X235+Z235","v":39000000},36833333,"2022-01-26","2022-02-04","2022-08-03",180,0,0,52031418,"GLADYS MANRIQUE ESPINDOLA","2022-07-06",5850000,"Liquidado",{"$f":"IF(ISERROR(AB235/AA235),\"-\",(AB235/AA235))","v":0.94444443589743587}]
["FDLSC-CPS-020-2022",2022,"FDLSC-CD-012-2022","https://community.secop.gov.co/Public/Tendering/OpportunityDetail/Index?noticeUID=CO1.NTC.2639747&isFromPublicArea=True&isModal=true&asPopupView=true","Contratos de prestación de servicios profesionales y de apoyo a la gestión","Contratación directa","Prestación de servicios profesionales y de apoyo a la gestión, o para la ejecución de trabajos artísticos que sólo puedan encomendarse a determinadas personas naturales","PRESTAR SUS SERVICIOS TECNICOS PARA APOYAR LA CONDUCCIÓN, REALIZAR EL RESPECTIVO MANTENIMIENTO Y CORROBORAR SU FUNCIONAMIENTO A LOS VEHÍCULOS LIVIANOS Y/O MAQUINARIA PESADA QUE SE ENCUENTRAN AL SERVICIO DEL FONDO LOCAL DE SAN CRISTOBAL.","Inversión","Un nuevo contrato social y ambiental para la Bogotá del Siglo XXI",49,{"$f":"IF(ISERROR(VLOOKUP(K236,#REF!,2,FALSE)),\" \",VLOOKUP(K236,#REF!,2,FALSE))","v":" "},{"$f":"IF(ISERROR(VLOOKUP(K236,#REF!,3,FALSE)),\" \",VLOOKUP(K236,#REF!,3,FALSE))","v":" "},1871,0,1023938785,"ANA GERALDINE PATIÑO VALBUENA","Persona Natural",null,"N/A","N/A",null,35310000,0,1,3210000,{"$f":"+W236+X236+Z236","v":38520000},32528000,"2022-01-24","2022-01-27","2023-01-26",330,1,30,null,null,null,null,"En ejecución",{"$f":"IF(ISERROR(AB236/AA236),\"-\",(AB236/AA236))","v":0.84444444444444444}]
["FDLSC-CPS-431-2022",2022,"FDLSC-CD-211-2022","https://community.secop.gov.co/Public/Tendering/OpportunityDetail/Index?noticeUID=CO1.NTC.3126373&isFromPublicArea=True&isModal=true&asPopupView=true","Contratos de prestación de servicios profesionales y de apoyo a la gestión","Contratación directa","Prestación de servicios profesionales y de apoyo a la gestión, o para la ejecución de trabajos artísticos que sólo puedan encomendarse a determinadas personas naturales","PRESTAR SERVICIOS PROFESIONALES PARA TRAMITAR LAS ETAPAS PRECONTRACTUALES Y CONTRACTUALES DE ACUERDO AL PLAN DE ADQUISICIONES Y AL PLAN DE CONTRATACIÓN QUE ADELANTE EL FONDO DE DESARROLLO LOCAL DE SAN CRISTÓBAL","Inversión","Un nuevo contrato social y ambiental para la Bogotá del Siglo XXI",57,{"$f":"IF(ISERROR(VLOOKUP(K237,#REF!,2,FALSE)),\" \",VLOOKUP(K237,#REF!,2,FALSE))","v":" "},{"$f":"IF(ISERROR(VLOOKUP(K237,#REF!,3,FALSE)),\" \",VLOOKUP(K237,#REF!,3,FALSE))","v":" "},1873,0,1010165244,"MANUEL ARTURO RODRIGUEZ VASQUEZ","Persona Natural",null,"N/A","N/A",null,26800000,0,1,11390000,{"$f":"+W237+X237+Z237","v":38190000},24790000,"2022-08-10","2022-08-10","2023-01-30",120,1,51,null,null,null,null,"En ejecución",{"$f":"IF(ISERROR(AB237/AA237),\"-\",(AB237/AA237))","v":0.64912280701754388}]
["FDLSC-CPS-639-2022",2022,"FDLSC-CMA-006-2022","https://community.secop.gov.co/Public/Tendering/OpportunityDetail/Index?noticeUID=CO1.NTC.3615841&isFromPublicArea=True&isModal=true&asPopupView=true","Contratos de prestación de servicios","Concurso de méritos","No aplica","REALIZAR LA REVISION Y VERIFICACION DE LA ESTABILIDAD Y CALIDAD DE LAS OBRAS DE INFRAESTRUCTURA EJECUTADAS CON RECURSOS DEL FONDO DE DESARROLLO LOCAL DE SAN CRISTÓBAL Y QUE CUENTEN CON PÓLIZA DE ESTABILIDAD VIGENTE, EN CUMPLIMIENTO DEL ARTÍCULO 4º, NUMERAL 4º DE LA LEY 80 DE 1993","Inversión","Un nuevo contrato social y ambiental para la Bogotá del Siglo XXI",33,{"$f":"IF(ISERROR(VLOOKUP(K238,#REF!,2,FALSE)),\" \",VLOOKUP(K238,#REF!,2,FALSE))","v":" "},{"$f":"IF(ISERROR(VLOOKUP(K238,#REF!,3,FALSE)),\" \",VLOOKUP(K238,#REF!,3,FALSE))","v":" "},1863,1,900984598,"SAVIMAC SAS","Persona Jurídica",null,"N/A","N/A",null,37748725,0,0,0,{"$f":"+W238+X238+Z238","v":37748725},0,"2022-12-21",null,null,180,null,null,null,null,null,null,"Celebrado o por iniciar",{"$f":"IF(ISERROR(AB238/AA238),\"-\",(AB238/AA238))","v":0}]
["FDLSC-CPS-498-2022",2022,"FDLSC-CD-250-2022","https://community.secop.gov.co/Public/Tendering/OpportunityDetail/Index?noticeUID=CO1.NTC.3242942&isFromPublicArea=True&isModal=true&asPopupView=true","Contratos de prestación de servicios profesionales y de apoyo a la gestión","Contratación directa","Prestación de servicios profesionales y de apoyo a la gestión, o para la ejecución de trabajos artísticos que sólo puedan encomendarse a determinadas personas naturales","PRESTAR SUS SERVICIOS PROFESIONALES ESPECIALIZADOS PARA APOYAR AL ALCALDE LOCAL EN LA REVISIÓN DE LOS PRODUCTOS  DERIVADOS DE LA GESTIÓN Y EN LA IMPLEMENTACIÓN DE LA INICIATIVA INNOVADORA \"MONITOREO INTEGRAL GESTIÓN LOCAL\" EN EL MARCO  DEL LABORATORIO DE INNOVACIÓN DE LA SDG","Inversión","Un nuevo contrato social y ambiental para la Bogotá del Siglo XXI",57,{"$f":"IF(ISERROR(VLOOKUP(K239,#REF!,2,FALSE)),\" \",VLOOKUP(K239,#REF!,2,FALSE))","v":" "},{"$f":"IF(ISERROR(VLOOKUP(K239,#REF!,3,FALSE)),\" \",VLOOKUP(K239,#REF!,3,FALSE))","v":" "},1873,0,1018466870,"MELIDA ADYANEC CALDERON AGUIRRE","Persona Natural",null,"N/A","N/A",null,31600000,0,1,5793333,{"$f":"+W239+X239+Z239","v":37393333},21593333,"2022-09-07","2022-09-09","2023-01-30",120,1,22,null,null,null,null,"En ejecución",{"$f":"IF(ISERROR(AB239/AA239),\"-\",(AB239/AA239))","v":0.57746478496581199}]
["FDLSC-CPS-267-2022",2022,"FDLSC-CD-142-2022","https://community.secop.gov.co/Public/Tendering/OpportunityDetail/Index?noticeUID=CO1.NTC.2742940&isFromPublicArea=True&isModal=true&asPopupView=true","Contratos de prestación de servicios profesionales y de apoyo a la gestión","Contratación directa","Prestación de servicios profesionales y de apoyo a la gestión, o para la ejecución de trabajos artísticos que sólo puedan encomendarse a determinadas personas naturales","PRESTAR LOS SERVICIOS PROFESIONALES PARA LA OPERACIÓN, PRESTACIÓN, SEGUIMIENTO Y CUMPLIMIENTO DE LOS PROCEDIMIENTOS ADMINISTRATIVOS, OPERATIVOS Y  PROGRAMÁTICOS DEL SERVICIO APOYO ECONÓMICO TIPO C, QUE CONTRIBUYAN A  LA GARANTÍA DE LOS DERECHOS DE LA POBLACIÓN MAYOR EN EL MARCO DE LA POLÍTICA PÚBLICA SOCIAL PARA EL ENVEJECIMIENTO Y LA VEJEZ EN EL DISTRITO CAPITAL A CARGO DE LA ALCALDÍA LOCAL","Inversión","Un nuevo contrato social y ambiental para la Bogotá del Siglo XXI",1,{"$f":"IF(ISERROR(VLOOKUP(K240,#REF!,2,FALSE)),\" \",VLOOKUP(K240,#REF!,2,FALSE))","v":" "},{"$f":"IF(ISERROR(VLOOKUP(K240,#REF!,3,FALSE)),\" \",VLOOKUP(K240,#REF!,3,FALSE))","v":" "},1852,0,79704257,"EDWIN MAURICIO GARCIA INFANTE","Persona Natural",null,"N/A","N/A",null,37264000,0,0,0,{"$f":"+W240+X240+Z240","v":37264000},36642933,"2022-01-27","2022-02-05","2022-10-04",240,0,0,null,null,null,null,"Terminado",{"$f":"IF(ISERROR(AB240/AA240),\"-\",(AB240/AA240))","v":0.98333332438814947}]
["FDLSC-CPS-264-2022",2022,"FDLSC-CD-142-2022","https://community.secop.gov.co/Public/Tendering/OpportunityDetail/Index?noticeUID=CO1.NTC.2742940&isFromPublicArea=True&isModal=true&asPopupView=true","Contratos de prestación de servicios profesionales y de apoyo a la gestión","Contratación directa","Prestación de servicios profesionales y de apoyo a la gestión, o para la ejecución de trabajos artísticos que sólo puedan encomendarse a determinadas personas naturales","PRESTAR LOS SERVICIOS PROFESIONALES PARA LA OPERACIÓN, PRESTACIÓN, SEGUIMIENTO Y CUMPLIMIENTO DE LOS PROCEDIMIENTOS ADMINISTRATIVOS, OPERATIVOS Y  PROGRAMÁTICOS DEL SERVICIO APOYO ECONÓMICO TIPO C, QUE CONTRIBUYAN A  LA GARANTÍA DE LOS DERECHOS DE LA POBLACIÓN MAYOR EN EL MARCO DE LA POLÍTICA PÚBLICA SOCIAL PARA EL ENVEJECIMIENTO Y LA VEJEZ EN EL DISTRITO CAPITAL A CARGO DE LA ALCALDÍA LOCAL","Inversión","Un nuevo contrato social y ambiental para la Bogotá del Siglo XXI",1,{"$f":"IF(ISERROR(VLOOKUP(K241,#REF!,2,FALSE)),\" \",VLOOKUP(K241,#REF!,2,FALSE))","v":" "},{"$f":"IF(ISERROR(VLOOKUP(K241,#REF!,3,FALSE)),\" \",VLOOKUP(K241,#REF!,3,FALSE))","v":" "},1852,0,1024460834,"MONICA PATRICIA GUARNIZO DIAZ","Persona Natural",null,"N/A","N/A",null,37264000,0,0,0,{"$f":"+W241+X241+Z241","v":37264000},37264000,"2022-01-27","2022-02-05","2022-10-04",240,0,0,null,null,null,null,"Terminado",{"$f":"IF(ISERROR(AB241/AA241),\"-\",(AB241/AA241))","v":1}]
["FDLSC-CPS-268-2022",2022,"FDLSC-CD-142-2022","https://community.secop.gov.co/Public/Tendering/OpportunityDetail/Index?noticeUID=CO1.NTC.2742940&isFromPublicArea=True&isModal=true&asPopupView=true","Contratos de prestación de servicios profesionales y de apoyo a la gestión","Contratación directa","Prestación de servicios profesionales y de apoyo a la gestión, o para la ejecución de trabajos artísticos que sólo puedan encomendarse a determinadas personas naturales","PRESTAR LOS SERVICIOS PROFESIONALES PARA LA OPERACIÓN, PRESTACIÓN, SEGUIMIENTO Y CUMPLIMIENTO DE LOS PROCEDIMIENTOS ADMINISTRATIVOS, OPERATIVOS Y  PROGRAMÁTICOS DEL SERVICIO APOYO ECONÓMICO TIPO C, QUE CONTRIBUYAN A  LA GARANTÍA DE LOS DERECHOS DE LA POBLACIÓN MAYOR EN EL MARCO DE LA POLÍTICA PÚBLICA SOCIAL PARA EL ENVEJECIMIENTO Y LA VEJEZ EN EL DISTRITO CAPITAL A CARGO DE LA ALCALDÍA LOCAL","Inversión","Un nuevo contrato social y ambiental para la Bogotá del Siglo XXI",1,{"$f":"IF(ISERROR(VLOOKUP(K242,#REF!,2,FALSE)),\" \",VLOOKUP(K242,#REF!,2,FALSE))","v":" "},{"$f":"IF(ISERROR(VLOOKUP(K242,#REF!,3,FALSE)),\" \",VLOOKUP(K242,#REF!,3,FALSE))","v":" "},1852,0,1022972767,"LUZ YANETH MORENO OTALORA","Persona Natural",null,"N/A","N/A",null,37264000,0,0,0,{"$f":"+W242+X242+Z242","v":37264000},37264000,"2022-01-27","2022-02-05","2022-10-04",240,0,0,null,null,null,null,"Terminado",{"$f":"IF(ISERROR(AB242/AA242),\"-\",(AB242/AA242))","v":1}]
["FDLSC-CPS-331-2022",2022,"FDLSC-CD-142-2022","https://community.secop.gov.co/Public/Tendering/OpportunityDetail/Index?noticeUID=CO1.NTC.2742940&isFromPublicArea=True&isModal=true&asPopupView=true","Contratos de prestación de servicios profesionales y de apoyo a la gestión","Contratación directa","Prestación de servicios profesionales y de apoyo a la gestión, o para la ejecución de trabajos artísticos que sólo puedan encomendarse a determinadas personas naturales","PRESTAR LOS SERVICIOS PROFESIONALES PARA LA OPERACIÓN, PRESTACIÓN, SEGUIMIENTO Y CUMPLIMIENTO DE LOS PROCEDIMIENTOS ADMINISTRATIVOS, OPERATIVOS Y  PROGRAMÁTICOS DEL SERVICIO APOYO ECONÓMICO TIPO C, QUE CONTRIBUYAN A  LA GARANTÍA DE LOS DERECHOS DE LA POBLACIÓN MAYOR EN EL MARCO DE LA POLÍTICA PÚBLICA SOCIAL PARA EL ENVEJECIMIENTO Y LA VEJEZ EN EL DISTRITO CAPITAL A CARGO DE LA ALCALDÍA LOCAL","Inversión","Un nuevo contrato social y ambiental para la Bogotá del Siglo XXI",1,{"$f":"IF(ISERROR(VLOOKUP(K243,#REF!,2,FALSE)),\" \",VLOOKUP(K243,#REF!,2,FALSE))","v":" "},{"$f":"IF(ISERROR(VLOOKUP(K243,#REF!,3,FALSE)),\" \",VLOOKUP(K243,#REF!,3,FALSE))","v":" "},1852,0,1016084737,"ALISON MICHELL LOPEZ SOTO","Persona Natural",null,"N/A","N/A",null,37264000,0,0,0,{"$f":"+W243+X243+Z243","v":37264000},37264000,"2022-01-28","2022-02-05","2022-10-04",240,0,0,null,null,null,null,"Terminado",{"$f":"IF(ISERROR(AB243/AA243),\"-\",(AB243/AA243))","v":1}]
["FDLSC-CPS-333-2022",2022,"FDLSC-CD-142-2022","https://community.secop.gov.co/Public/Tendering/OpportunityDetail/Index?noticeUID=CO1.NTC.2742940&isFromPublicArea=True&isModal=true&asPopupView=true","Contratos de prestación de servicios profesionales y de apoyo a la gestión","Contratación directa","Prestación de servicios profesionales y de apoyo a la gestión, o para la ejecución de trabajos artísticos que sólo puedan encomendarse a determinadas personas naturales","PRESTAR LOS SERVICIOS PROFESIONALES PARA LA OPERACIÓN, PRESTACIÓN, SEGUIMIENTO Y CUMPLIMIENTO DE LOS PROCEDIMIENTOS ADMINISTRATIVOS, OPERATIVOS Y  PROGRAMÁTICOS DEL SERVICIO APOYO ECONÓMICO TIPO C, QUE CONTRIBUYAN A  LA GARANTÍA DE LOS DERECHOS DE LA POBLACIÓN MAYOR EN EL MARCO DE LA POLÍTICA PÚBLICA SOCIAL PARA EL ENVEJECIMIENTO Y LA VEJEZ EN EL DISTRITO CAPITAL A CARGO DE LA ALCALDÍA LOCAL","Inversión","Un nuevo contrato social y ambiental para la Bogotá del Siglo XXI",1,{"$f":"IF(ISERROR(VLOOKUP(K244,#REF!,2,FALSE)),\" \",VLOOKUP(K244,#REF!,2,FALSE))","v":" "},{"$f":"IF(ISERROR(VLOOKUP(K244,#REF!,3,FALSE)),\" \",VLOOKUP(K244,#REF!,3,FALSE))","v":" "},1852,0,1010210396,"KAREN GERALDINE CARRERO RAMIREZ","Persona Natural",null,"N/A","N/A",null,37264000,0,0,0,{"$f":"+W244+X244+Z244","v":37264000},37264000,"2022-01-28","2022-02-05","2022-10-04",240,0,0,null,null,null,null,"Terminado",{"$f":"IF(ISERROR(AB244/AA244),\"-\",(AB244/AA244))","v":1}]
["FDLSC-CPS-343-2022",2022,"FDLSC-CD-142-2022","https://community.secop.gov.co/Public/Tendering/OpportunityDetail/Index?noticeUID=CO1.NTC.2742940&isFromPublicArea=True&isModal=true&asPopupView=true","Contratos de prestación de servicios profesionales y de apoyo a la gestión","Contratación directa","Prestación de servicios profesionales y de apoyo a la gestión, o para la ejecución de trabajos artísticos que sólo puedan encomendarse a determinadas personas naturales","PRESTAR LOS SERVICIOS PROFESIONALES PARA LA OPERACIÓN, PRESTACIÓN, SEGUIMIENTO Y CUMPLIMIENTO DE LOS PROCEDIMIENTOS ADMINISTRATIVOS, OPERATIVOS Y  PROGRAMÁTICOS DEL SERVICIO APOYO ECONÓMICO TIPO C, QUE CONTRIBUYAN A  LA GARANTÍA DE LOS DERECHOS DE LA POBLACIÓN MAYOR EN EL MARCO DE LA POLÍTICA PÚBLICA SOCIAL PARA EL ENVEJECIMIENTO Y LA VEJEZ EN EL DISTRITO CAPITAL A CARGO DE LA ALCALDÍA LOCAL","Inversión","Un nuevo contrato social y ambiental para la Bogotá del Siglo XXI",1,{"$f":"IF(ISERROR(VLOOKUP(K245,#REF!,2,FALSE)),\" \",VLOOKUP(K245,#REF!,2,FALSE))","v":" "},{"$f":"IF(ISERROR(VLOOKUP(K245,#REF!,3,FALSE)),\" \",VLOOKUP(K245,#REF!,3,FALSE))","v":" "},1852,0,1023863946,"JULIO CESAR GROSSO PEREZ","Persona Natural",null,"N/A","N/A",null,37264000,0,0,0,{"$f":"+W245+X245+Z245","v":37264000},37264000,"2022-01-28","2022-02-05","2022-10-04",240,0,0,null,null,null,null,"Terminado",{"$f":"IF(ISERROR(AB245/AA245),\"-\",(AB245/AA245))","v":1}]
["FDLSC-CPS-238-2022",2022,"FDLSC-CD-123-2022","https://community.secop.gov.co/Public/Tendering/OpportunityDetail/Index?noticeUID=CO1.NTC.2768262&isFromPublicArea=True&isModal=true&asPopupView=true","Contratos de prestación de servicios profesionales y de apoyo a la gestión","Contratación directa","Prestación de servicios profesionales y de apoyo a la gestión, o para la ejecución de trabajos artísticos que sólo puedan encomendarse a determinadas personas naturales","PRESTAR SERVICIOS PROFESIONALES PARA LIDERAR Y GARANTIZAR LA IMPLEMENTACIÓN Y SEGUIMIENTO DE LOS PROCESOS Y PROCEDIMIENTOS DEL SERVICIO SOCIAL","Inversión","Un nuevo contrato social y ambiental para la Bogotá del Siglo XXI",1,{"$f":"IF(ISERROR(VLOOKUP(K246,#REF!,2,FALSE)),\" \",VLOOKUP(K246,#REF!,2,FALSE))","v":" "},{"$f":"IF(ISERROR(VLOOKUP(K246,#REF!,3,FALSE)),\" \",VLOOKUP(K246,#REF!,3,FALSE))","v":" "},1852,0,52916964,"JULIANNA CAROLINA FORERO SAAVEDRA","Persona Natural",null,"N/A","N/A",null,37260000,0,0,0,{"$f":"+W246+X246+Z246","v":37260000},37260000,"2022-01-28","2022-02-05","2022-08-04",180,0,0,null,null,null,null,"Terminado",{"$f":"IF(ISERROR(AB246/AA246),\"-\",(AB246/AA246))","v":1}]
["FDLSC-CPS-066-2022",2022,"FDLSC-CD-042-2022","https://community.secop.gov.co/Public/Tendering/OpportunityDetail/Index?noticeUID=CO1.NTC.2650099&isFromPublicArea=True&isModal=true&asPopupView=true","Contratos de prestación de servicios profesionales y de apoyo a la gestión","Contratación directa","Prestación de servicios profesionales y de apoyo a la gestión, o para la ejecución de trabajos artísticos que sólo puedan encomendarse a determinadas personas naturales","PRESTAR SUS SERVICIOS PROFESIONALES PARA LA GESTIÓN EN EL ÁREA DE DESARROLLO LOCAL DE SAN CRISTÓBAL, EN EL APOYO DE LA FORMULACIÓN, PLANEACIÓN, PRESENTACIÓN Y SEGUIMIENTO DE LOS PROYECTOS DE INFRAESTRUCTURA Y OBRAS CIVILES QUE DESARROLLE LA ENTIDAD, Y EN LOS REQUERIMIENTOS DE INFRAESTRUCTURA CIVIL QUE TENGA LA ALCALDÍA LOCAL DE SAN CRISTÓBAL","Inversión","Un nuevo contrato social y ambiental para la Bogotá del Siglo XXI",49,{"$f":"IF(ISERROR(VLOOKUP(K247,#REF!,2,FALSE)),\" \",VLOOKUP(K247,#REF!,2,FALSE))","v":" "},{"$f":"IF(ISERROR(VLOOKUP(K247,#REF!,3,FALSE)),\" \",VLOOKUP(K247,#REF!,3,FALSE))","v":" "},1871,0,80809788,"JAIME DARIO PARDO RODRIGUEZ","Persona Natural",null,"N/A","N/A",null,37200000,0,0,0,{"$f":"+W247+X247+Z247","v":37200000},25626667,"2022-01-24","2022-01-27","2022-07-26",180,0,0,null,null,null,null,"Terminado",{"$f":"IF(ISERROR(AB247/AA247),\"-\",(AB247/AA247))","v":0.68888889784946239}]
["FDLSC-CPS-254-2022",2022,"FDLSC-CD-079-2022","https://community.secop.gov.co/Public/Tendering/OpportunityDetail/Index?noticeUID=CO1.NTC.2678743&isFromPublicArea=True&isModal=true&asPopupView=true","Contratos de prestación de servicios profesionales y de apoyo a la gestión","Contratación directa","Prestación de servicios profesionales y de apoyo a la gestión, o para la ejecución de trabajos artísticos que sólo puedan encomendarse a determinadas personas naturales","PRESTAR SUS SERVICIOS PROFESIONALES EN LA DEPURACION DE OBLIGACIONES POR PAGAR, TRAMITE DE PAGOS Y LIQUIDACIÓN DE CONTRATOS, DE CONFORMIDAD CON LAS CONDICIONES Y OBLIGACIONES ESTABLECIDAS POR EL FONDO DE DESARROLLO LOCAL.","Inversión","Un nuevo contrato social y ambiental para la Bogotá del Siglo XXI",57,{"$f":"IF(ISERROR(VLOOKUP(K248,#REF!,2,FALSE)),\" \",VLOOKUP(K248,#REF!,2,FALSE))","v":" "},{"$f":"IF(ISERROR(VLOOKUP(K248,#REF!,3,FALSE)),\" \",VLOOKUP(K248,#REF!,3,FALSE))","v":" "},1873,0,1049639896,"GERMAN DANIEL BERNAL CAMACHO","Persona Natural",null,"N/A","N/A",null,37200000,0,0,0,{"$f":"+W248+X248+Z248","v":37200000},37200000,"2022-01-27","2022-02-01","2022-07-31",180,0,0,null,null,null,null,"Terminado",{"$f":"IF(ISERROR(AB248/AA248),\"-\",(AB248/AA248))","v":1}]
["FDLSC-CPS-052-2022",2022,"FDLSC-CD-033-2022","https://community.secop.gov.co/Public/Tendering/OpportunityDetail/Index?noticeUID=CO1.NTC.2621366&isFromPublicArea=True&isModal=true&asPopupView=true","Contratos de prestación de servicios profesionales y de apoyo a la gestión","Contratación directa","Prestación de servicios profesionales y de apoyo a la gestión, o para la ejecución de trabajos artísticos que sólo puedan encomendarse a determinadas personas naturales","PRESTAR SUS SERVICIOS TÉCNICOS EN EL ÁREA DE GESTIÓN DEL DESARROLLO LOCAL PARA TEMAS LOGISITICOS, CON EL FIN DE APOYAR EN LA GESTIÓN Y EJECUCIÓN DE LOS PROCESOS, AYUDAR EN LAS OPERACIONES DE COMPRAS Y ABASTECIMIENTOS DE INVENTARIOS, ALMACENAMIENTO, DISTRIBUCIÓN Y TRANSPORTES.","Inversión","Un nuevo contrato social y ambiental para la Bogotá del Siglo XXI",57,{"$f":"IF(ISERROR(VLOOKUP(K249,#REF!,2,FALSE)),\" \",VLOOKUP(K249,#REF!,2,FALSE))","v":" "},{"$f":"IF(ISERROR(VLOOKUP(K249,#REF!,3,FALSE)),\" \",VLOOKUP(K249,#REF!,3,FALSE))","v":" "},1873,0,52286749,"SANDRA PATRICIA GUTIERREZ PALOMARES","Persona Natural",null,"N/A","N/A",null,24784000,0,2,11772400,{"$f":"+W249+X249+Z249","v":36556400},31909400,"2022-01-20","2022-01-22","2023-01-15",240,2,115,null,null,null,null,"En ejecución",{"$f":"IF(ISERROR(AB249/AA249),\"-\",(AB249/AA249))","v":0.8728813559322034}]
["FDLSC-CPS-242-2022",2022,"FDLSC-CD-119-2022","https://community.secop.gov.co/Public/Tendering/OpportunityDetail/Index?noticeUID=CO1.NTC.2728056&isFromPublicArea=True&isModal=true&asPopupView=true","Contratos de prestación de servicios profesionales y de apoyo a la gestión","Contratación directa","Prestación de servicios profesionales y de apoyo a la gestión, o para la ejecución de trabajos artísticos que sólo puedan encomendarse a determinadas personas naturales","PRESTAR SUS SERVICIOS PROFESIONALES PARA APOYAR LOS TEMAS RELACIONADOS AL SISTEMA INTEGRADO DE GESTIÓN DE CALIDAD (SIG) DE ACUERDO CON LAS SOLCITUDES DE LA ADMINISTRACIÓN LOCAL.","Inversión","Un nuevo contrato social y ambiental para la Bogotá del Siglo XXI",57,{"$f":"IF(ISERROR(VLOOKUP(K250,#REF!,2,FALSE)),\" \",VLOOKUP(K250,#REF!,2,FALSE))","v":" "},{"$f":"IF(ISERROR(VLOOKUP(K250,#REF!,3,FALSE)),\" \",VLOOKUP(K250,#REF!,3,FALSE))","v":" "},1873,0,1022394384,"ANDRES DAVID SEGURA GARCIA","Persona Natural",null,"N/A","N/A",null,52000000,-15600002,0,0,{"$f":"+W250+X250+Z250","v":36399998},36399998,"2022-01-28","2022-02-02","2022-09-14",240,0,0,52086023,"NATALIA ROZO PARRA","2022-07-06",18633334,"Liquidado",{"$f":"IF(ISERROR(AB250/AA250),\"-\",(AB250/AA250))","v":1}]
["FDLSC-CPS-418-2022",2022,"FDLSC-CD-201-2022","https://community.secop.gov.co/Public/Tendering/OpportunityDetail/Index?noticeUID=CO1.NTC.3112118&isFromPublicArea=True&isModal=true&asPopupView=true","Contratos de prestación de servicios profesionales y de apoyo a la gestión","Contratación directa","Prestación de servicios profesionales y de apoyo a la gestión, o para la ejecución de trabajos artísticos que sólo puedan encomendarse a determinadas personas naturales","PRESTAR SUS SERVICIOS PROFESIONALES EN LA DEPURACION DE OBLIGACIONES POR PAGAR, TRAMITE DE PAGOS Y LIQUIDACIÓN DE CONTRATOS, DE CONFORMIDAD CON LAS CONDICIONES Y OBLIGACIONES ESTABLECIDAS POR EL FONDO DE DESARROLLO LOCAL.","Inversión","Un nuevo contrato social y ambiental para la Bogotá del Siglo XXI",57,{"$f":"IF(ISERROR(VLOOKUP(K251,#REF!,2,FALSE)),\" \",VLOOKUP(K251,#REF!,2,FALSE))","v":" "},{"$f":"IF(ISERROR(VLOOKUP(K251,#REF!,3,FALSE)),\" \",VLOOKUP(K251,#REF!,3,FALSE))","v":" "},1873,0,1049639896,"GERMAN DANIEL BERNAL CAMACHO","Persona Natural",null,"N/A","N/A",null,31000000,0,1,5373333,{"$f":"+W251+X251+Z251","v":36373333},23353333,"2022-08-04","2022-08-05","2023-01-30",150,0,0,1091672054,"SYLVIA MAYERLLY JAIMES VACA","2022-11-02",17980000,"En ejecución",{"$f":"IF(ISERROR(AB251/AA251),\"-\",(AB251/AA251))","v":0.64204545126507928}]
["FDLSC-CPS-139-2022",2022,"FDLSC-CD-069-2022","https://community.secop.gov.co/Public/Tendering/OpportunityDetail/Index?noticeUID=CO1.NTC.2691345&isFromPublicArea=True&isModal=true&asPopupView=true","Contratos de prestación de servicios profesionales y de apoyo a la gestión","Contratación directa","Prestación de servicios profesionales y de apoyo a la gestión, o para la ejecución de trabajos artísticos que sólo puedan encomendarse a determinadas personas naturales","PRESTAR SUS SERVICIOS PROFESIONALES PARA LA GESTIÓN DEL RIESGO, A LA LUZ DEL PLAN DE DESARROLLO 2021-2024, UN NUEVO CONTRATO AMBIENTAL Y SOCIAL PARA SAN CRISTÓBAL.","Inversión","Un nuevo contrato social y ambiental para la Bogotá del Siglo XXI",30,{"$f":"IF(ISERROR(VLOOKUP(K252,#REF!,2,FALSE)),\" \",VLOOKUP(K252,#REF!,2,FALSE))","v":" "},{"$f":"IF(ISERROR(VLOOKUP(K252,#REF!,3,FALSE)),\" \",VLOOKUP(K252,#REF!,3,FALSE))","v":" "},1866,0,79729383,"ANDRES MAURICIO BARBOSA PALACIOS","Persona Natural",null,"N/A","N/A",null,36112000,0,0,0,{"$f":"+W252+X252+Z252","v":36112000},8576600,"2022-01-28","2022-02-04","2022-10-03",240,0,0,null,null,null,null,"Terminado",{"$f":"IF(ISERROR(AB252/AA252),\"-\",(AB252/AA252))","v":0.23749999999999999}]
["FDLSC-CPS-332-2022",2022,"FDLSC-CD-165-2022","https://community.secop.gov.co/Public/Tendering/OpportunityDetail/Index?noticeUID=CO1.NTC.2784396&isFromPublicArea=True&isModal=true&asPopupView=true","Contratos de prestación de servicios profesionales y de apoyo a la gestión","Contratación directa","Prestación de servicios profesionales y de apoyo a la gestión, o para la ejecución de trabajos artísticos que sólo puedan encomendarse a determinadas personas naturales","PRESTAR SERVICIOS PROFESIONALES BRINDANDO APOYO EN LAS ACCIONES NECESARIAS PARA EL FORTALECIMIENTO DE LA GESTIÓN SOCIAL PEDAGÓGICA Y ACCIONES TENDIENTES A ORIENTAR, SOCIALIZAR Y FORTALECER LOS ESPACIOS DE INTERRELACIÓN CON LA COMUNIDAD, RELACIONADOS CON LAS ESTRATEGIAS Y PROYECTOS DISTRITALES Y LOCALES.","Inversión","Un nuevo contrato social y ambiental para la Bogotá del Siglo XXI",57,{"$f":"IF(ISERROR(VLOOKUP(K253,#REF!,2,FALSE)),\" \",VLOOKUP(K253,#REF!,2,FALSE))","v":" "},{"$f":"IF(ISERROR(VLOOKUP(K253,#REF!,3,FALSE)),\" \",VLOOKUP(K253,#REF!,3,FALSE))","v":" "},1873,0,1023867182,"MARIA ANGELICA RIVERA CAMARGO","Persona Natural",null,"N/A","N/A",null,36112000,0,0,0,{"$f":"+W253+X253+Z253","v":36112000},30093333,"2022-01-28","2022-02-11","2022-10-10",240,0,0,null,null,null,null,"Terminado",{"$f":"IF(ISERROR(AB253/AA253),\"-\",(AB253/AA253))","v":0.83333332410279126}]
["FDLSC-CPS-348-2022",2022,"FDLSC-CD-172-2022","https://community.secop.gov.co/Public/Tendering/OpportunityDetail/Index?noticeUID=CO1.NTC.2812630&isFromPublicArea=True&isModal=true&asPopupView=true","Contratos de prestación de servicios profesionales y de apoyo a la gestión","Contratación directa","Prestación de servicios profesionales y de apoyo a la gestión, o para la ejecución de trabajos artísticos que sólo puedan encomendarse a determinadas personas naturales","PRESTAR SERVICIOS PROFESIONALES COMO APOYO PARA LA REVISION JURIDICA Y NORMATIVA DE LOS PROCESOS DERIVADOS DE LA GESTION DEL RIESGO, A LA LUZ DEL PLAN DE DESARROLLO 2021-2024 UN NUEVO CONTRATO AMBIENTAL Y SOCIAL PARA SAN CRISTOBAL.","Inversión","Un nuevo contrato social y ambiental para la Bogotá del Siglo XXI",30,{"$f":"IF(ISERROR(VLOOKUP(K254,#REF!,2,FALSE)),\" \",VLOOKUP(K254,#REF!,2,FALSE))","v":" "},{"$f":"IF(ISERROR(VLOOKUP(K254,#REF!,3,FALSE)),\" \",VLOOKUP(K254,#REF!,3,FALSE))","v":" "},1866,0,80793623,"JUAN GABRIEL HENAO TORRES","Persona Natural",null,"N/A","N/A",null,36112000,0,0,0,{"$f":"+W254+X254+Z254","v":36112000},35660600,"2022-01-28","2022-02-04","2022-10-03",240,0,0,null,null,null,null,"Terminado",{"$f":"IF(ISERROR(AB254/AA254),\"-\",(AB254/AA254))","v":0.98750000000000004}]
["FDLSC-CPS-309-2022",2022,"FDLSC-CD-160-2022","https://community.secop.gov.co/Public/Tendering/OpportunityDetail/Index?noticeUID=CO1.NTC.2780206&isFromPublicArea=True&isModal=true&asPopupView=true","Contratos de prestación de servicios profesionales y de apoyo a la gestión","Contratación directa","Prestación de servicios profesionales y de apoyo a la gestión, o para la ejecución de trabajos artísticos que sólo puedan encomendarse a determinadas personas naturales","PRESTAR SUS SERVICIOS PROFESIONALES AL FDLSC PARA APOYAR LA FORMULACIÓN, SEGUIMIENTO Y SUPERVISIÓN DE LOS PROCESOS CONTRACTUALES DERIVADOS DEL PROYECTO DE INVERSIÓN 1811 SAN CRISTÓBAL TE CUIDA, PARA LA ATENCIÓN A  POBLACIÓN AFECTADA POR VIOLENCIA INTRAFAMILIAR Y/O SEXUAL EN SITUACIÓN DE VULNERABILIDAD","Inversión","Un nuevo contrato social y ambiental para la Bogotá del Siglo XXI",6,{"$f":"IF(ISERROR(VLOOKUP(K255,#REF!,2,FALSE)),\" \",VLOOKUP(K255,#REF!,2,FALSE))","v":" "},{"$f":"IF(ISERROR(VLOOKUP(K255,#REF!,3,FALSE)),\" \",VLOOKUP(K255,#REF!,3,FALSE))","v":" "},1811,0,1023864646,"EDNA ROCIO ZULUAGA FAJARDO","Persona Natural",null,"N/A","N/A",null,36112000,0,0,0,{"$f":"+W255+X255+Z255","v":36112000},36112000,"2022-01-28","2022-02-05","2022-10-04",240,0,0,null,null,null,null,"Terminado",{"$f":"IF(ISERROR(AB255/AA255),\"-\",(AB255/AA255))","v":1}]
["FDLSC-CPS-310-2022",2022,"FDLSC-CD-160-2022","https://community.secop.gov.co/Public/Tendering/OpportunityDetail/Index?noticeUID=CO1.NTC.2780206&isFromPublicArea=True&isModal=true&asPopupView=true","Contratos de prestación de servicios profesionales y de apoyo a la gestión","Contratación directa","Prestación de servicios profesionales y de apoyo a la gestión, o para la ejecución de trabajos artísticos que sólo puedan encomendarse a determinadas personas naturales","PRESTAR SUS SERVICIOS PROFESIONALES AL FDLSC PARA APOYAR LA FORMULACIÓN, SEGUIMIENTO Y SUPERVISIÓN DE LOS PROCESOS CONTRACTUALES DERIVADOS DEL PROYECTO DE INVERSIÓN 1811 SAN CRISTÓBAL TE CUIDA, PARA LA ATENCIÓN A  POBLACIÓN AFECTADA POR VIOLENCIA INTRAFAMILIAR Y/O SEXUAL EN SITUACIÓN DE VULNERABILIDAD","Inversión","Un nuevo contrato social y ambiental para la Bogotá del Siglo XXI",6,{"$f":"IF(ISERROR(VLOOKUP(K256,#REF!,2,FALSE)),\" \",VLOOKUP(K256,#REF!,2,FALSE))","v":" "},{"$f":"IF(ISERROR(VLOOKUP(K256,#REF!,3,FALSE)),\" \",VLOOKUP(K256,#REF!,3,FALSE))","v":" "},1811,0,52369923,"ILBA YANETH MESA CASTAÑEDA","Persona Natural",null,"N/A","N/A",null,36112000,0,0,0,{"$f":"+W256+X256+Z256","v":36112000},36112000,"2022-01-28","2022-02-05","2022-10-04",240,0,0,null,null,null,null,"Terminado",{"$f":"IF(ISERROR(AB256/AA256),\"-\",(AB256/AA256))","v":1}]
["FDLSC-CPS-311-2022",2022,"FDLSC-CD-160-2022","https://community.secop.gov.co/Public/Tendering/OpportunityDetail/Index?noticeUID=CO1.NTC.2619173&isFromPublicArea=True&isModal=true&asPopupView=true","Contratos de prestación de servicios profesionales y de apoyo a la gestión","Contratación directa","Prestación de servicios profesionales y de apoyo a la gestión, o para la ejecución de trabajos artísticos que sólo puedan encomendarse a determinadas personas naturales","PRESTAR SUS SERVICIOS PROFESIONALES AL FDLSC PARA APOYAR LA FORMULACIÓN, SEGUIMIENTO Y SUPERVISIÓN DE LOS PROCESOS CONTRACTUALES DERIVADOS DEL PROYECTO DE INVERSIÓN 1811 SAN CRISTÓBAL TE CUIDA, PARA LA ATENCIÓN A  POBLACIÓN AFECTADA POR VIOLENCIA INTRAFAMILIAR Y/O SEXUAL EN SITUACIÓN DE VULNERABILIDAD","Inversión","Un nuevo contrato social y ambiental para la Bogotá del Siglo XXI",6,{"$f":"IF(ISERROR(VLOOKUP(K257,#REF!,2,FALSE)),\" \",VLOOKUP(K257,#REF!,2,FALSE))","v":" "},{"$f":"IF(ISERROR(VLOOKUP(K257,#REF!,3,FALSE)),\" \",VLOOKUP(K257,#REF!,3,FALSE))","v":" "},1811,0,1023953608,"LAURA VANESSA VASQUEZ MUNOZ","Persona Natural",null,"N/A","N/A",null,36112000,0,0,0,{"$f":"+W257+X257+Z257","v":36112000},36112000,"2022-01-28","2022-02-05","2022-10-04",240,0,0,null,null,null,null,"Terminado",{"$f":"IF(ISERROR(AB257/AA257),\"-\",(AB257/AA257))","v":1}]
["FDLSC-CPS-328-2022",2022,"FDLSC-CD-017-2022","https://community.secop.gov.co/Public/Tendering/OpportunityDetail/Index?noticeUID=CO1.NTC.2622154&isFromPublicArea=True&isModal=False","Contratos de prestación de servicios profesionales y de apoyo a la gestión","Contratación directa","Prestación de servicios profesionales y de apoyo a la gestión, o para la ejecución de trabajos artísticos que sólo puedan encomendarse a determinadas personas naturales","PRESTAR SUS SERVICIOS PROFESIONALES PARA EL APOYO TÉCNICO DEL PROYECTO DE SEPARACIÓN EN LA FUENTE, A LA LUZ DEL PLAN DE DESARROLLO 2021-2024 UN NUEVO CONTRATO AMBIENTAL Y SOCIAL PARA SAN CRISTÓBAL. ","Inversión","Un nuevo contrato social y ambiental para la Bogotá del Siglo XXI",38,{"$f":"IF(ISERROR(VLOOKUP(K258,#REF!,2,FALSE)),\" \",VLOOKUP(K258,#REF!,2,FALSE))","v":" "},{"$f":"IF(ISERROR(VLOOKUP(K258,#REF!,3,FALSE)),\" \",VLOOKUP(K258,#REF!,3,FALSE))","v":" "},1868,0,74182760,"LUIS FELIPE CHAPARRO PARADA","Persona Natural",null,"N/A","N/A",null,36112000,{"$f":"-30","v":-30},0,0,{"$f":"+W258+X258+Z258","v":36111970},35811067,"2022-01-28","2022-02-05","2022-10-04",240,0,0,1092356634,"LIZETH MARGARITA ESTUPIÑAN CARMONA","2022-03-16",29942867,"Terminado",{"$f":"IF(ISERROR(AB258/AA258),\"-\",(AB258/AA258))","v":0.99166749972377577}]
["FDLSC-CPS-294-2022",2022,"FDLSC-CD-150-2022","https://community.secop.gov.co/Public/Tendering/OpportunityDetail/Index?noticeUID=CO1.NTC.2589705&isFromPublicArea=True&isModal=true&asPopupView=true","Contratos de prestación de servicios profesionales y de apoyo a la gestión","Contratación directa","Prestación de servicios profesionales y de apoyo a la gestión, o para la ejecución de trabajos artísticos que sólo puedan encomendarse a determinadas personas naturales","PRESTAR LOS SERVICIOS PROFESIONALES EN EL ÁREA DE GESTIÓN DE DESARROLLO LOCAL PARA  REALIZAR LA FORMULACIÓN, EVALUACIÓN, PRESENTACIÓN Y SEGUIMIENTO DE LOS PROYECTOS DE INVERSIÓN LOCAL NO 1724, 1790, 1811 Y 1873 EN CUMPLIMIENTO DEL PLAN DE DESARROLLO 2021 -2024.","Inversión","Un nuevo contrato social y ambiental para la Bogotá del Siglo XXI",57,{"$f":"IF(ISERROR(VLOOKUP(K259,#REF!,2,FALSE)),\" \",VLOOKUP(K259,#REF!,2,FALSE))","v":" "},{"$f":"IF(ISERROR(VLOOKUP(K259,#REF!,3,FALSE)),\" \",VLOOKUP(K259,#REF!,3,FALSE))","v":" "},1873,0,79971425,"CARLOS ALBERTO AVENDAÑO ANGEL","Persona Natural",null,"N/A","N/A",null,35844000,0,0,0,{"$f":"+W259+X259+Z259","v":35844000},35844000,"2022-01-28","2022-02-05","2022-08-04",180,0,0,null,null,null,null,"Terminado",{"$f":"IF(ISERROR(AB259/AA259),\"-\",(AB259/AA259))","v":1}]
["FDLSC-CPS-484-2022",2022,"FDLSC-CD-240-2022","https://community.secop.gov.co/Public/Tendering/OpportunityDetail/Index?noticeUID=CO1.NTC.3198470&isFromPublicArea=True&isModal=true&asPopupView=true","Contratos de prestación de servicios profesionales y de apoyo a la gestión","Contratación directa","Prestación de servicios profesionales y de apoyo a la gestión, o para la ejecución de trabajos artísticos que sólo puedan encomendarse a determinadas personas naturales","PRESTAR SUS SERVICIOS PROFESIONALES ESPECIALIZADOS A LA ALCALDÍA LOCAL DE SAN CRISTÓBAL, PARA LA EJECUCIÓN DE LAS ACTIVIDADES Y PROCESOS ADMINISTRATIVOS Y DE CAMPO RELACIONADOS CON LA ATENCIÓN A LA PREVENCIÓN DE LA VIOLENCIA INTRAFAMILIAR, EN EL MARCO DEL PROYECTO 1811.","Inversión","Un nuevo contrato social y ambiental para la Bogotá del Siglo XXI",6,{"$f":"IF(ISERROR(VLOOKUP(K260,#REF!,2,FALSE)),\" \",VLOOKUP(K260,#REF!,2,FALSE))","v":" "},{"$f":"IF(ISERROR(VLOOKUP(K260,#REF!,3,FALSE)),\" \",VLOOKUP(K260,#REF!,3,FALSE))","v":" "},1811,0,52031418,"GLADYS MANRIQUE ESPINDOLA","Persona Natural",null,"N/A","N/A",null,28212000,0,1,7053000,{"$f":"+W260+X260+Z260","v":35265000},19513300,"2022-08-26","2022-09-08","2023-02-07",120,1,30,null,null,null,null,"En ejecución",{"$f":"IF(ISERROR(AB260/AA260),\"-\",(AB260/AA260))","v":0.55333333333333334}]
["FDLSC-CSU-645-2022",2022,"FDLSC-MIC-015-2022","https://community.secop.gov.co/Public/Tendering/OpportunityDetail/Index?noticeUID=CO1.NTC.3653191&isFromPublicArea=True&isModal=true&asPopupView=true","Suministro","Contratación mínima cuantia","No aplica","CONTRATAR EL SUMINISTRO DE BIENES PARA LA ENTREGA DE CHAQUETAS ROMPE VIENTOS PARA CICLISTAS DE LA LOCALIDAD DE SAN CRISTÓBAL, DEMARCACIÓN Y SEÑALIZACIÓN CON PINTURA DE TRÁFICO PESADO DE LA RUTA SEGURA, E HIDRATACIÓN PARA LOS ASISTENTES, EN EL MARCO DEL PROYECTO 1835, POR UN BUEN USO EN EL ESPACIO PÚBLICO EN SAN CRISTÓBAL","Inversión","Un nuevo contrato social y ambiental para la Bogotá del Siglo XXI",45,{"$f":"IF(ISERROR(VLOOKUP(K261,#REF!,2,FALSE)),\" \",VLOOKUP(K261,#REF!,2,FALSE))","v":" "},{"$f":"IF(ISERROR(VLOOKUP(K261,#REF!,3,FALSE)),\" \",VLOOKUP(K261,#REF!,3,FALSE))","v":" "},1835,2,901301045,"SOLUCIONES INTEGRALES NIRYA SAS","Persona Jurídica",null,"N/A","N/A",null,35118000,0,0,0,{"$f":"+W261+X261+Z261","v":35118000},0,"2022-12-28","2022-12-27","2023-01-26",30,0,0,null,null,null,null,"En ejecución",{"$f":"IF(ISERROR(AB261/AA261),\"-\",(AB261/AA261))","v":0}]
["FDLSC-CPS-243-2022",2022,"FDLSC-CD-126-2022","https://community.secop.gov.co/Public/Tendering/OpportunityDetail/Index?noticeUID=CO1.NTC.2718927&isFromPublicArea=True&isModal=true&asPopupView=true","Contratos de prestación de servicios profesionales y de apoyo a la gestión","Contratación directa","Prestación de servicios profesionales y de apoyo a la gestión, o para la ejecución de trabajos artísticos que sólo puedan encomendarse a determinadas personas naturales","PRESTAR SUS SERVICIOS PROFESIONALES AL FDLSC PARA APOYAR LA FORMULACION, SEGUIMIENTO Y SUPERVISION DE LOS PROCESOS CONTRACTUALES DERIVADOS DE LOS PROYECTOS DE INVERSION QUE LE SEAN ASIGNADOS","Inversión","Un nuevo contrato social y ambiental para la Bogotá del Siglo XXI",21,{"$f":"IF(ISERROR(VLOOKUP(K262,#REF!,2,FALSE)),\" \",VLOOKUP(K262,#REF!,2,FALSE))","v":" "},{"$f":"IF(ISERROR(VLOOKUP(K262,#REF!,3,FALSE)),\" \",VLOOKUP(K262,#REF!,3,FALSE))","v":" "},1803,0,80763615,"CARLOS ALBERTO GARZÓN JIMÉNEZ ","Persona Natural",null,"N/A","N/A",null,34800000,0,0,0,{"$f":"+W262+X262+Z262","v":34800000},28806667,"2022-01-27","2022-02-02","2022-06-30",180,0,0,null,null,null,null,"Terminado",{"$f":"IF(ISERROR(AB262/AA262),\"-\",(AB262/AA262))","v":0.82777778735632179}]
["FDLSC-CPS-502-2022",2022,"FDLSC-CD-256-2022","https://community.secop.gov.co/Public/Tendering/OpportunityDetail/Index?noticeUID=CO1.NTC.3280898&isFromPublicArea=True&isModal=true&asPopupView=true","Contratos de prestación de servicios profesionales y de apoyo a la gestión","Contratación directa","Prestación de servicios profesionales y de apoyo a la gestión, o para la ejecución de trabajos artísticos que sólo puedan encomendarse a determinadas personas naturales","RESTAR SUS SERVICIOS PROFESIONALES ESPECIALIZADOS PARA  APOYAR  AL  DESPACHO  DEL  ALCALDE  LOCAL  EN  ELFORTALECIMIENTO DE CAPACIDADES INSTITUCIONALES Y SECTORIALES EN ARTICULACIÓN ALCALDIA LOCAL DE SAN CRISTÓBAL ENCARGADOS DE LA GESTIÓN. ","Inversión","Un nuevo contrato social y ambiental para la Bogotá del Siglo XXI",57,{"$f":"IF(ISERROR(VLOOKUP(K263,#REF!,2,FALSE)),\" \",VLOOKUP(K263,#REF!,2,FALSE))","v":" "},{"$f":"IF(ISERROR(VLOOKUP(K263,#REF!,3,FALSE)),\" \",VLOOKUP(K263,#REF!,3,FALSE))","v":" "},1873,0,52219978,"LUZ MYRIAM RIAÑO BARRERA","Persona Natural",null,"N/A","N/A",null,34000000,0,0,0,{"$f":"+W263+X263+Z263","v":34000000},21250000,"2022-09-14","2022-09-16","2023-01-15",120,0,0,null,null,null,null,"En ejecución",{"$f":"IF(ISERROR(AB263/AA263),\"-\",(AB263/AA263))","v":0.625}]
["FDLSC-CPS-462-2022",2022,"FDLSC-CD-231-2022","https://community.secop.gov.co/Public/Tendering/OpportunityDetail/Index?noticeUID=CO1.NTC.3164799&isFromPublicArea=True&isModal=true&asPopupView=true","Contratos de prestación de servicios profesionales y de apoyo a la gestión","Contratación directa","Prestación de servicios profesionales y de apoyo a la gestión, o para la ejecución de trabajos artísticos que sólo puedan encomendarse a determinadas personas naturales","PRESTAR SUS SERVICIOS PROFESIONALES  PARALA  FORMULACION,  EVALUACIÓN,  PRESENTACIÓN  Y  SEGUIMIENTO  A    LOS  PROYECTOS  DE  INVERSIÓNRELACIONADOS CON TEMAS DE SALUD, EN EL MARCO DE LAS NECESIDADES DE LA ALCALDÍA LOCAL DE SAN CRISTÓBAL","Inversión","Un nuevo contrato social y ambiental para la Bogotá del Siglo XXI",57,{"$f":"IF(ISERROR(VLOOKUP(K264,#REF!,2,FALSE)),\" \",VLOOKUP(K264,#REF!,2,FALSE))","v":" "},{"$f":"IF(ISERROR(VLOOKUP(K264,#REF!,3,FALSE)),\" \",VLOOKUP(K264,#REF!,3,FALSE))","v":" "},1873,0,52859225,"SANDRA MILENA RODRIGUEZ AMARILLO","Persona Natural",null,"N/A","N/A",null,26000000,0,1,7800000,{"$f":"+W264+X264+Z264","v":33800000},20583333,"2022-08-24","2022-08-26","2023-01-31",120,1,36,null,null,null,null,"En ejecución",{"$f":"IF(ISERROR(AB264/AA264),\"-\",(AB264/AA264))","v":0.60897434911242598}]
["FDLSC-CPS-365-2022",2022,"FDLSC-MIC-003-2022","https://community.secop.gov.co/Public/Tendering/OpportunityDetail/Index?noticeUID=CO1.NTC.2900325&isFromPublicArea=True&isModal=true&asPopupView=true","Contratos de prestación de servicios profesionales y de apoyo a la gestión","Contratación mínima cuantia","No aplica","PRESTAR LOS SERVICIOS DE APOYO LOGISTICO PARA LLEVAR A CABO EL PROCESO DE RENDICIÓN DE CUENTAS EN EL MARCO DEL PROYECTO 1873: SAN CRISTÓBAL AL SERVICIO DE LA CIUDADANIA.","Inversión","Un nuevo contrato social y ambiental para la Bogotá del Siglo XXI",57,{"$f":"IF(ISERROR(VLOOKUP(K265,#REF!,2,FALSE)),\" \",VLOOKUP(K265,#REF!,2,FALSE))","v":" "},{"$f":"IF(ISERROR(VLOOKUP(K265,#REF!,3,FALSE)),\" \",VLOOKUP(K265,#REF!,3,FALSE))","v":" "},1873,8,900521780,"B2 NETWORKS S A S","Persona Natural",null,"N/A","N/A",null,33709650,0,0,0,{"$f":"+W265+X265+Z265","v":33709650},33709650,"2022-04-21","2022-04-17","2022-07-21",90,0,0,null,null,null,null,"Terminado",{"$f":"IF(ISERROR(AB265/AA265),\"-\",(AB265/AA265))","v":1}]
["FDLSC-CPS-021-2022",2022,"FDLSC-CD-013-2022","https://community.secop.gov.co/Public/Tendering/OpportunityDetail/Index?noticeUID=CO1.NTC.2648038&isFromPublicArea=True&isModal=true&asPopupView=true","Contratos de prestación de servicios profesionales y de apoyo a la gestión","Contratación directa","Prestación de servicios profesionales y de apoyo a la gestión, o para la ejecución de trabajos artísticos que sólo puedan encomendarse a determinadas personas naturales","PRESTAR SUS SERVICIOS PROFESIONALES MEDICO VETERINARIOS CON EL FONDO DE DESARROLLO LOCAL DE SAN CRISTÓBAL, PARA REALIZAR LAS DIFERENTES ACTIVIDADES DE ACUERDO CON LAS DIRECTRICES DE LOS PROYECTOS DE PROTECCIÓN Y BIENESTAR ANIMAL EN MATERIA DE ATENCIÓN A EMERGENCIAS, JORNADAS DE VACUNACIÓN, VISITAS DOMICILIARIAS, ENTRE OTROS.","Inversión","Un nuevo contrato social y ambiental para la Bogotá del Siglo XXI",34,{"$f":"IF(ISERROR(VLOOKUP(K266,#REF!,2,FALSE)),\" \",VLOOKUP(K266,#REF!,2,FALSE))","v":" "},{"$f":"IF(ISERROR(VLOOKUP(K266,#REF!,3,FALSE)),\" \",VLOOKUP(K266,#REF!,3,FALSE))","v":" "},1826,0,40332738,"MARIA TERESA SANCHEZ LOPEZ","Persona Natural",null,"N/A","N/A",null,33000000,0,0,0,{"$f":"+W266+X266+Z266","v":33000000},26766667,"2022-01-25","2022-02-07","2022-08-06",180,0,0,1022366372,"CRISTHIAN CAMILO CALDERON CARDOZO","2022-04-29",17966667,"Terminado",{"$f":"IF(ISERROR(AB266/AA266),\"-\",(AB266/AA266))","v":0.81111112121212126}]
["FDLSC-CPS-286-2022",2022,"FDLSC-CD-063-2022","https://community.secop.gov.co/Public/Tendering/OpportunityDetail/Index?noticeUID=CO1.NTC.2742627&isFromPublicArea=True&isModal=true&asPopupView=true","Contratos de prestación de servicios profesionales y de apoyo a la gestión","Contratación directa","Prestación de servicios profesionales y de apoyo a la gestión, o para la ejecución de trabajos artísticos que sólo puedan encomendarse a determinadas personas naturales","APOYAR TÉCNICAMENTE LAS DISTINTAS ETAPAS DE LOS PROCESOS DE COMPETENCIA DE LA ALCALDÍA LOCAL PARA LA DEPURACIÓN DE ACTUACIONES ADMINISTRATIVAS.","Inversión","Un nuevo contrato social y ambiental para la Bogotá del Siglo XXI",57,{"$f":"IF(ISERROR(VLOOKUP(K267,#REF!,2,FALSE)),\" \",VLOOKUP(K267,#REF!,2,FALSE))","v":" "},{"$f":"IF(ISERROR(VLOOKUP(K267,#REF!,3,FALSE)),\" \",VLOOKUP(K267,#REF!,3,FALSE))","v":" "},1873,0,1032456151,"OSCAR JAVIER OVALLE RIVERA","Persona Natural",null,"N/A","N/A",null,33000000,0,0,0,{"$f":"+W267+X267+Z267","v":33000000},27133333,"2022-01-27","2022-02-03","2022-08-02",180,0,0,52422875,"LUZ AMPARO LOPEZ PEREZ","2022-04-01",22366667,"Terminado",{"$f":"IF(ISERROR(AB267/AA267),\"-\",(AB267/AA267))","v":0.82222221212121216}]
["FDLSC-CPS-212-2022",2022,"FDLSC-CD-101-2022","https://community.secop.gov.co/Public/Tendering/OpportunityDetail/Index?noticeUID=CO1.NTC.2709288&isFromPublicArea=True&isModal=true&asPopupView=true","Contratos de prestación de servicios profesionales y de apoyo a la gestión","Contratación directa","Prestación de servicios profesionales y de apoyo a la gestión, o para la ejecución de trabajos artísticos que sólo puedan encomendarse a determinadas personas naturales","PRESTAR SUS SERVICIOS PROFESIONALES EN EL ÁREA DE GESTIÓN DE DESARROLLO LOCAL PARA LA FORMULACIÓN, EVALUACIÓN, PRESENTACIÓN Y SEGUIMIENTO A PROYECTOS DE INVERSIÓN EN SALUD.","Inversión","Un nuevo contrato social y ambiental para la Bogotá del Siglo XXI",6,{"$f":"IF(ISERROR(VLOOKUP(K268,#REF!,2,FALSE)),\" \",VLOOKUP(K268,#REF!,2,FALSE))","v":" "},{"$f":"IF(ISERROR(VLOOKUP(K268,#REF!,3,FALSE)),\" \",VLOOKUP(K268,#REF!,3,FALSE))","v":" "},1843,0,52421045,"ADRIANA MARIA ESPITIA MONTERO","Persona Natural",null,"N/A","N/A",null,33000000,0,0,0,{"$f":"+W268+X268+Z268","v":33000000},31350000,"2022-01-27","2022-02-04","2022-08-03",180,0,0,40038030,"DIANA XIOMARA ALVAREZ CELY","2022-04-18",18883333,"Terminado",{"$f":"IF(ISERROR(AB268/AA268),\"-\",(AB268/AA268))","v":0.95}]
["FDLSC-CPS-071-2022",2022,"FDLSC-CD-013-2022","https://community.secop.gov.co/Public/Tendering/OpportunityDetail/Index?noticeUID=CO1.NTC.2648038&isFromPublicArea=True&isModal=true&asPopupView=true","Contratos de prestación de servicios profesionales y de apoyo a la gestión","Contratación directa","Prestación de servicios profesionales y de apoyo a la gestión, o para la ejecución de trabajos artísticos que sólo puedan encomendarse a determinadas personas naturales","PRESTAR SUS SERVICIOS PROFESIONALES MEDICO VETERINARIOS CON EL FONDO DE DESARROLLO LOCAL DE SAN CRISTÓBAL, PARA REALIZAR LAS DIFERENTES ACTIVIDADES DE ACUERDO CON LAS DIRECTRICES DE LOS PROYECTOS DE PROTECCIÓN Y BIENESTAR ANIMAL EN MATERIA DE ATENCIÓN A EMERGENCIAS, JORNADAS DE VACUNACIÓN, VISITAS DOMICILIARIAS, ENTRE OTROS.","Inversión","Un nuevo contrato social y ambiental para la Bogotá del Siglo XXI",34,{"$f":"IF(ISERROR(VLOOKUP(K269,#REF!,2,FALSE)),\" \",VLOOKUP(K269,#REF!,2,FALSE))","v":" "},{"$f":"IF(ISERROR(VLOOKUP(K269,#REF!,3,FALSE)),\" \",VLOOKUP(K269,#REF!,3,FALSE))","v":" "},1826,0,79598271,"JORGE ALEJANDRO ALAYON MORA","Persona Natural",null,"N/A","N/A",null,33000000,0,0,0,{"$f":"+W269+X269+Z269","v":33000000},32450000,"2022-01-28","2022-02-04","2022-08-03",180,0,0,null,null,null,null,"Terminado",{"$f":"IF(ISERROR(AB269/AA269),\"-\",(AB269/AA269))","v":0.98333333333333328}]
["FDLSC-CPS-354-2022",2022,"FDLSC-CD-063-2022","https://community.secop.gov.co/Public/Tendering/OpportunityDetail/Index?noticeUID=CO1.NTC.2686112&isFromPublicArea=True&isModal=true&asPopupView=true","Contratos de prestación de servicios profesionales y de apoyo a la gestión","Contratación directa","Prestación de servicios profesionales y de apoyo a la gestión, o para la ejecución de trabajos artísticos que sólo puedan encomendarse a determinadas personas naturales","APOYAR TÉCNICAMENTE LAS DISTINTAS ETAPAS DE LOS PROCESOS DE COMPETENCIA DE LA ALCALDÍA LOCAL PARA LA DEPURACIÓN DE ACTUACIONES ADMINISTRATIVAS.","Inversión","Un nuevo contrato social y ambiental para la Bogotá del Siglo XXI",57,{"$f":"IF(ISERROR(VLOOKUP(K270,#REF!,2,FALSE)),\" \",VLOOKUP(K270,#REF!,2,FALSE))","v":" "},{"$f":"IF(ISERROR(VLOOKUP(K270,#REF!,3,FALSE)),\" \",VLOOKUP(K270,#REF!,3,FALSE))","v":" "},1873,0,79468757,"EDGAR IVAN SEPULVEDA PARRA","Persona Natural",null,"N/A","N/A",null,33000000,0,0,0,{"$f":"+W270+X270+Z270","v":33000000},32450000,"2022-01-28","2022-02-04","2022-08-03",180,0,0,null,null,null,null,"Terminado",{"$f":"IF(ISERROR(AB270/AA270),\"-\",(AB270/AA270))","v":0.98333333333333328}]
["FDLSC-CPS-353-2022",2022,"FDLSC-CD-063-2022","https://community.secop.gov.co/Public/Tendering/OpportunityDetail/Index?noticeUID=CO1.NTC.2686112&isFromPublicArea=True&isModal=true&asPopupView=true","Contratos de prestación de servicios profesionales y de apoyo a la gestión","Contratación directa","Prestación de servicios profesionales y de apoyo a la gestión, o para la ejecución de trabajos artísticos que sólo puedan encomendarse a determinadas personas naturales","APOYAR TÉCNICAMENTE LAS DISTINTAS ETAPAS DE LOS PROCESOS DE COMPETENCIA DE LA ALCALDÍA LOCAL PARA LA DEPURACIÓN DE ACTUACIONES ADMINISTRATIVAS.","Inversión","Un nuevo contrato social y ambiental para la Bogotá del Siglo XXI",57,{"$f":"IF(ISERROR(VLOOKUP(K271,#REF!,2,FALSE)),\" \",VLOOKUP(K271,#REF!,2,FALSE))","v":" "},{"$f":"IF(ISERROR(VLOOKUP(K271,#REF!,3,FALSE)),\" \",VLOOKUP(K271,#REF!,3,FALSE))","v":" "},1873,0,52489542,"MAGDA LORENA DAVILA VELANDIA","Persona Natural",null,"N/A","N/A",null,33000000,0,0,0,{"$f":"+W271+X271+Z271","v":33000000},32633333,"2022-01-28","2022-02-03","2022-08-02",180,0,0,null,null,null,null,"Terminado",{"$f":"IF(ISERROR(AB271/AA271),\"-\",(AB271/AA271))","v":0.98888887878787879}]
["FDLSC-CPS-137-2022",2022,"FDLSC-CD-065-2022","https://community.secop.gov.co/Public/Tendering/OpportunityDetail/Index?noticeUID=CO1.NTC.2654843&isFromPublicArea=True&isModal=true&asPopupView=true","Contratos de prestación de servicios profesionales y de apoyo a la gestión","Contratación directa","Prestación de servicios profesionales y de apoyo a la gestión, o para la ejecución de trabajos artísticos que sólo puedan encomendarse a determinadas personas naturales","PRESTAR LOS SERVICIOS PROFESIONALES A LA ALCALDÍA LOCAL DE SAN CRISTOBAL, PARA LA EJECUCIÓN DE LAS ACTIVIDADES Y PROCESOS ADMINISTRATIVOS Y DE CAMPO RELACIONADOS CON LA REACTIVACIÓN ECONÓMICA EN EL MARCO DE LAS NECESIDADES DEL FONDO DE DESARROLLO LOCAL Y DINAMIZACIÓN PARA LA EJECUCIÓN DE LOS PROYECTOS QUE HACEN PARTE DEL PLAN DE DESARROLLO.","Inversión","Un nuevo contrato social y ambiental para la Bogotá del Siglo XXI",6,{"$f":"IF(ISERROR(VLOOKUP(K272,#REF!,2,FALSE)),\" \",VLOOKUP(K272,#REF!,2,FALSE))","v":" "},{"$f":"IF(ISERROR(VLOOKUP(K272,#REF!,3,FALSE)),\" \",VLOOKUP(K272,#REF!,3,FALSE))","v":" "},1865,0,1023882825,"DAMARIZ ADRIANA NEIRA CAMARGO","Persona Natural",null,"N/A","N/A",null,33000000,0,0,0,{"$f":"+W272+X272+Z272","v":33000000},32999999,"2022-01-28","2022-02-02","2022-08-01",180,0,0,null,null,null,null,"Terminado",{"$f":"IF(ISERROR(AB272/AA272),\"-\",(AB272/AA272))","v":0.99999996969696969}]
["FDLSC-CPS-110-2022",2022,"FDLSC-CD-063-2022","https://community.secop.gov.co/Public/Tendering/OpportunityDetail/Index?noticeUID=CO1.NTC.2686112&isFromPublicArea=True&isModal=true&asPopupView=true","Contratos de prestación de servicios profesionales y de apoyo a la gestión","Contratación directa","Prestación de servicios profesionales y de apoyo a la gestión, o para la ejecución de trabajos artísticos que sólo puedan encomendarse a determinadas personas naturales","APOYAR TÉCNICAMENTE LAS DISTINTAS ETAPAS DE LOS PROCESOS DE COMPETENCIA DE LA ALCALDÍA LOCAL PARA LA DEPURACIÓN DE ACTUACIONES ADMINISTRATIVAS.","Inversión","Un nuevo contrato social y ambiental para la Bogotá del Siglo XXI",57,{"$f":"IF(ISERROR(VLOOKUP(K273,#REF!,2,FALSE)),\" \",VLOOKUP(K273,#REF!,2,FALSE))","v":" "},{"$f":"IF(ISERROR(VLOOKUP(K273,#REF!,3,FALSE)),\" \",VLOOKUP(K273,#REF!,3,FALSE))","v":" "},1873,0,79719940,"CESAR ALEXANDER URIZA","Persona Natural",null,"N/A","N/A",null,33000000,0,0,0,{"$f":"+W273+X273+Z273","v":33000000},33000000,"2022-01-25","2022-02-03","2022-08-02",180,0,0,null,null,null,null,"Terminado",{"$f":"IF(ISERROR(AB273/AA273),\"-\",(AB273/AA273))","v":1}]
["FDLSC-CPS-111-2022",2022,"FDLSC-CD-063-2022","https://community.secop.gov.co/Public/Tendering/OpportunityDetail/Index?noticeUID=CO1.NTC.2686112&isFromPublicArea=True&isModal=true&asPopupView=true","Contratos de prestación de servicios profesionales y de apoyo a la gestión","Contratación directa","Prestación de servicios profesionales y de apoyo a la gestión, o para la ejecución de trabajos artísticos que sólo puedan encomendarse a determinadas personas naturales","APOYAR TÉCNICAMENTE LAS DISTINTAS ETAPAS DE LOS PROCESOS DE COMPETENCIA DE LA ALCALDÍA LOCAL PARA LA DEPURACIÓN DE ACTUACIONES ADMINISTRATIVAS.","Inversión","Un nuevo contrato social y ambiental para la Bogotá del Siglo XXI",57,{"$f":"IF(ISERROR(VLOOKUP(K274,#REF!,2,FALSE)),\" \",VLOOKUP(K274,#REF!,2,FALSE))","v":" "},{"$f":"IF(ISERROR(VLOOKUP(K274,#REF!,3,FALSE)),\" \",VLOOKUP(K274,#REF!,3,FALSE))","v":" "},1873,0,52527997,"PAOLA ANDREA ARGUELLO RODRIGUEZ","Persona Natural",null,"N/A","N/A",null,33000000,0,0,0,{"$f":"+W274+X274+Z274","v":33000000},33000000,"2022-01-25","2022-02-05","2022-08-04",180,0,0,null,null,null,null,"Terminado",{"$f":"IF(ISERROR(AB274/AA274),\"-\",(AB274/AA274))","v":1}]
["FDLSC-CPS-113-2022",2022,"FDLSC-CD-063-2022","https://community.secop.gov.co/Public/Tendering/OpportunityDetail/Index?noticeUID=CO1.NTC.2686112&isFromPublicArea=True&isModal=true&asPopupView=true","Contratos de prestación de servicios profesionales y de apoyo a la gestión","Contratación directa","Prestación de servicios profesionales y de apoyo a la gestión, o para la ejecución de trabajos artísticos que sólo puedan encomendarse a determinadas personas naturales","APOYAR TÉCNICAMENTE LAS DISTINTAS ETAPAS DE LOS PROCESOS DE COMPETENCIA DE LA ALCALDÍA LOCAL PARA LA DEPURACIÓN DE ACTUACIONES ADMINISTRATIVAS.","Inversión","Un nuevo contrato social y ambiental para la Bogotá del Siglo XXI",57,{"$f":"IF(ISERROR(VLOOKUP(K275,#REF!,2,FALSE)),\" \",VLOOKUP(K275,#REF!,2,FALSE))","v":" "},{"$f":"IF(ISERROR(VLOOKUP(K275,#REF!,3,FALSE)),\" \",VLOOKUP(K275,#REF!,3,FALSE))","v":" "},1873,0,19221558,"GUSTAVO ALCIDES PINILLA CORTES","Persona Natural",null,"N/A","N/A",null,33000000,0,0,0,{"$f":"+W275+X275+Z275","v":33000000},33000000,"2022-01-25","2022-02-03","2022-08-02",180,0,0,null,null,null,null,"Terminado",{"$f":"IF(ISERROR(AB275/AA275),\"-\",(AB275/AA275))","v":1}]
["FDLSC-CPS-114-2022",2022,"FDLSC-CD-063-2022","https://community.secop.gov.co/Public/Tendering/OpportunityDetail/Index?noticeUID=CO1.NTC.2686112&isFromPublicArea=True&isModal=true&asPopupView=true","Contratos de prestación de servicios profesionales y de apoyo a la gestión","Contratación directa","Prestación de servicios profesionales y de apoyo a la gestión, o para la ejecución de trabajos artísticos que sólo puedan encomendarse a determinadas personas naturales","APOYAR TÉCNICAMENTE LAS DISTINTAS ETAPAS DE LOS PROCESOS DE COMPETENCIA DE LA ALCALDÍA LOCAL PARA LA DEPURACIÓN DE ACTUACIONES ADMINISTRATIVAS.","Inversión","Un nuevo contrato social y ambiental para la Bogotá del Siglo XXI",57,{"$f":"IF(ISERROR(VLOOKUP(K276,#REF!,2,FALSE)),\" \",VLOOKUP(K276,#REF!,2,FALSE))","v":" "},{"$f":"IF(ISERROR(VLOOKUP(K276,#REF!,3,FALSE)),\" \",VLOOKUP(K276,#REF!,3,FALSE))","v":" "},1873,0,79378456,"MIGUEL ANTONIO PEREZ CORDOBA","Persona Natural",null,"N/A","N/A",null,33000000,0,0,0,{"$f":"+W276+X276+Z276","v":33000000},33000000,"2022-01-25","2022-02-03","2022-08-02",180,0,0,null,null,null,null,"Terminado",{"$f":"IF(ISERROR(AB276/AA276),\"-\",(AB276/AA276))","v":1}]
["FDLSC-CPS-206-2022",2022,"FDLSC-CD-101-2022","https://community.secop.gov.co/Public/Tendering/OpportunityDetail/Index?noticeUID=CO1.NTC.2709288&isFromPublicArea=True&isModal=true&asPopupView=true","Contratos de prestación de servicios profesionales y de apoyo a la gestión","Contratación directa","Prestación de servicios profesionales y de apoyo a la gestión, o para la ejecución de trabajos artísticos que sólo puedan encomendarse a determinadas personas naturales","PRESTAR SUS SERVICIOS PROFESIONALES EN EL ÁREA DE GESTIÓN DE DESARROLLO LOCAL PARA LA FORMULACIÓN, EVALUACIÓN, PRESENTACIÓN Y SEGUIMIENTO A PROYECTOS DE INVERSIÓN EN SALUD.","Inversión","Un nuevo contrato social y ambiental para la Bogotá del Siglo XXI",6,{"$f":"IF(ISERROR(VLOOKUP(K277,#REF!,2,FALSE)),\" \",VLOOKUP(K277,#REF!,2,FALSE))","v":" "},{"$f":"IF(ISERROR(VLOOKUP(K277,#REF!,3,FALSE)),\" \",VLOOKUP(K277,#REF!,3,FALSE))","v":" "},1843,0,56073503,"NIDIA ESTHER DIAZ DAZA ","Persona Natural",null,"N/A","N/A",null,33000000,0,0,0,{"$f":"+W277+X277+Z277","v":33000000},33000000,"2022-01-27","2022-02-04","2022-08-03",180,0,0,null,null,null,null,"Terminado",{"$f":"IF(ISERROR(AB277/AA277),\"-\",(AB277/AA277))","v":1}]
["FDLSC-CPS-231-2022",2022,"FDLSC-CD-117-2022","https://community.secop.gov.co/Public/Tendering/OpportunityDetail/Index?noticeUID=CO1.NTC.2713421&isFromPublicArea=True&isModal=true&asPopupView=true","Contratos de prestación de servicios profesionales y de apoyo a la gestión","Contratación directa","Prestación de servicios profesionales y de apoyo a la gestión, o para la ejecución de trabajos artísticos que sólo puedan encomendarse a determinadas personas naturales","PRESTAR SUS SERVICIOS PROFESIONALES EN EL ÁREA DE GESTIÓN DE DESARROLLO LOCAL, REALIZANDO ACTIVIDADES ESTADÍSTICAS DE LOS PROYECTOS DE INVERSIÓN, DATOS ABIERTOS, ASÍ COMO DE IDENTIFICACIÓN, GEORREFERENCIACIÓN Y ADQUISICIÓN DE INFORMACIÓN PREDIAL PARA LOS DIFERENTES PROYECTOS DE LA ALCALDÍA LOCAL DE SAN CRISTÓBAL.","Inversión","Un nuevo contrato social y ambiental para la Bogotá del Siglo XXI",57,{"$f":"IF(ISERROR(VLOOKUP(K278,#REF!,2,FALSE)),\" \",VLOOKUP(K278,#REF!,2,FALSE))","v":" "},{"$f":"IF(ISERROR(VLOOKUP(K278,#REF!,3,FALSE)),\" \",VLOOKUP(K278,#REF!,3,FALSE))","v":" "},1873,0,1023869002,"CRISTIAN CAMILO ALVARADO PRIETO","Persona Natural",null,"N/A","N/A",null,33000000,0,0,0,{"$f":"+W278+X278+Z278","v":33000000},33000000,"2022-01-28","2022-02-04","2022-08-17",180,0,0,null,null,null,null,"Terminado",{"$f":"IF(ISERROR(AB278/AA278),\"-\",(AB278/AA278))","v":1}]
["FDLSC-CPS-272-2022",2022,"FDLSC-CD-101-2022","https://community.secop.gov.co/Public/Tendering/OpportunityDetail/Index?noticeUID=CO1.NTC.2709288&isFromPublicArea=True&isModal=true&asPopupView=true","Contratos de prestación de servicios profesionales y de apoyo a la gestión","Contratación directa","Prestación de servicios profesionales y de apoyo a la gestión, o para la ejecución de trabajos artísticos que sólo puedan encomendarse a determinadas personas naturales","PRESTAR SUS SERVICIOS PROFESIONALES EN EL ÁREA DE GESTIÓN DE DESARROLLO LOCAL PARA LA FORMULACIÓN, EVALUACIÓN, PRESENTACIÓN Y SEGUIMIENTO A PROYECTOS DE INVERSIÓN EN SALUD.","Inversión","Un nuevo contrato social y ambiental para la Bogotá del Siglo XXI",6,{"$f":"IF(ISERROR(VLOOKUP(K279,#REF!,2,FALSE)),\" \",VLOOKUP(K279,#REF!,2,FALSE))","v":" "},{"$f":"IF(ISERROR(VLOOKUP(K279,#REF!,3,FALSE)),\" \",VLOOKUP(K279,#REF!,3,FALSE))","v":" "},1843,0,1019081172,"DIEGO NICOLAS MORENO HERNANDEZ","Persona Natural",null,"N/A","N/A",null,33000000,0,0,0,{"$f":"+W279+X279+Z279","v":33000000},33000000,"2022-01-28","2022-02-04","2022-08-03",180,0,0,null,null,null,null,"Terminado",{"$f":"IF(ISERROR(AB279/AA279),\"-\",(AB279/AA279))","v":1}]
["FDLSC-CPS-283-2022",2022,"FDLSC-CD-063-2022","https://community.secop.gov.co/Public/Tendering/OpportunityDetail/Index?noticeUID=CO1.NTC.2686112&isFromPublicArea=True&isModal=true&asPopupView=true","Contratos de prestación de servicios profesionales y de apoyo a la gestión","Contratación directa","Prestación de servicios profesionales y de apoyo a la gestión, o para la ejecución de trabajos artísticos que sólo puedan encomendarse a determinadas personas naturales","APOYAR TÉCNICAMENTE LAS DISTINTAS ETAPAS DE LOS PROCESOS DE COMPETENCIA DE LA ALCALDÍA LOCAL PARA LA DEPURACIÓN DE ACTUACIONES ADMINISTRATIVAS.","Inversión","Un nuevo contrato social y ambiental para la Bogotá del Siglo XXI",57,{"$f":"IF(ISERROR(VLOOKUP(K280,#REF!,2,FALSE)),\" \",VLOOKUP(K280,#REF!,2,FALSE))","v":" "},{"$f":"IF(ISERROR(VLOOKUP(K280,#REF!,3,FALSE)),\" \",VLOOKUP(K280,#REF!,3,FALSE))","v":" "},1873,0,52738496,"YENNY ARDILA SOLER","Persona Natural",null,"N/A","N/A",null,33000000,0,0,0,{"$f":"+W280+X280+Z280","v":33000000},33000000,"2022-01-27","2022-02-03","2022-08-02",180,0,0,null,null,null,null,"Terminado",{"$f":"IF(ISERROR(AB280/AA280),\"-\",(AB280/AA280))","v":1}]
["FDLSC-CPS-284-2022",2022,"FDLSC-CD-063-2022","https://community.secop.gov.co/Public/Tendering/OpportunityDetail/Index?noticeUID=CO1.NTC.2686112&isFromPublicArea=True&isModal=true&asPopupView=true","Contratos de prestación de servicios profesionales y de apoyo a la gestión","Contratación directa","Prestación de servicios profesionales y de apoyo a la gestión, o para la ejecución de trabajos artísticos que sólo puedan encomendarse a determinadas personas naturales","APOYAR TÉCNICAMENTE LAS DISTINTAS ETAPAS DE LOS PROCESOS DE COMPETENCIA DE LA ALCALDÍA LOCAL PARA LA DEPURACIÓN DE ACTUACIONES ADMINISTRATIVAS.","Inversión","Un nuevo contrato social y ambiental para la Bogotá del Siglo XXI",57,{"$f":"IF(ISERROR(VLOOKUP(K281,#REF!,2,FALSE)),\" \",VLOOKUP(K281,#REF!,2,FALSE))","v":" "},{"$f":"IF(ISERROR(VLOOKUP(K281,#REF!,3,FALSE)),\" \",VLOOKUP(K281,#REF!,3,FALSE))","v":" "},1873,0,79371977,"CARLOS ARTURO SANTANA ANGEL","Persona Natural",null,"N/A","N/A",null,33000000,0,0,0,{"$f":"+W281+X281+Z281","v":33000000},33000000,"2022-01-27","2022-02-03","2022-08-02",180,0,0,null,null,null,null,"Terminado",{"$f":"IF(ISERROR(AB281/AA281),\"-\",(AB281/AA281))","v":1}]
["FDLSC-CPS-285-2022",2022,"FDLSC-CD-063-2022","https://community.secop.gov.co/Public/Tendering/OpportunityDetail/Index?noticeUID=CO1.NTC.2686112&isFromPublicArea=True&isModal=true&asPopupView=true","Contratos de prestación de servicios profesionales y de apoyo a la gestión","Contratación directa","Prestación de servicios profesionales y de apoyo a la gestión, o para la ejecución de trabajos artísticos que sólo puedan encomendarse a determinadas personas naturales","APOYAR TÉCNICAMENTE LAS DISTINTAS ETAPAS DE LOS PROCESOS DE COMPETENCIA DE LA ALCALDÍA LOCAL PARA LA DEPURACIÓN DE ACTUACIONES ADMINISTRATIVAS.","Inversión","Un nuevo contrato social y ambiental para la Bogotá del Siglo XXI",57,{"$f":"IF(ISERROR(VLOOKUP(K282,#REF!,2,FALSE)),\" \",VLOOKUP(K282,#REF!,2,FALSE))","v":" "},{"$f":"IF(ISERROR(VLOOKUP(K282,#REF!,3,FALSE)),\" \",VLOOKUP(K282,#REF!,3,FALSE))","v":" "},1873,0,19365869,"HUMBERTO ALFONSO VASQUEZ MOSQUERA","Persona Natural",null,"N/A","N/A",null,33000000,0,0,0,{"$f":"+W282+X282+Z282","v":33000000},33000000,"2022-01-27","2022-02-04","2022-08-03",180,0,0,null,null,null,null,"Terminado",{"$f":"IF(ISERROR(AB282/AA282),\"-\",(AB282/AA282))","v":1}]
["FDLSC-CPS-121-2022",2022,"FDLSC-CD-067-2022","https://community.secop.gov.co/Public/Tendering/OpportunityDetail/Index?noticeUID=CO1.NTC.2694100&isFromPublicArea=True&isModal=true&asPopupView=true","Contratos de prestación de servicios profesionales y de apoyo a la gestión","Contratación directa","Prestación de servicios profesionales y de apoyo a la gestión, o para la ejecución de trabajos artísticos que sólo puedan encomendarse a determinadas personas naturales","PRESTAR SUS SERVICIOS DE APOYO TÉCNICO EN EL DESPACHO DEL ALCALDE LOCAL, ACOMPAÑANDO LAS ACTIVIDADES ADMINISTRATIVAS Y OPERATIVAS GENERALES DEL DESPACHO, APLICANDO LA NORMATIVIDAD VIGENTE PARA TODOS LOS PROCESOS Y PROCEDIMIENTOS ESTABLECIDOS.","Inversión","Un nuevo contrato social y ambiental para la Bogotá del Siglo XXI",57,{"$f":"IF(ISERROR(VLOOKUP(K283,#REF!,2,FALSE)),\" \",VLOOKUP(K283,#REF!,2,FALSE))","v":" "},{"$f":"IF(ISERROR(VLOOKUP(K283,#REF!,3,FALSE)),\" \",VLOOKUP(K283,#REF!,3,FALSE))","v":" "},1873,0,1013650314,"LAURA ISABEL ACOSTA PARRA","Persona Natural",null,"N/A","N/A",null,32795200,0,0,0,{"$f":"+W283+X283+Z283","v":32795200},32658552,"2022-01-26","2022-02-02","2022-10-01",240,0,0,1023875840,"DERLY NATALI GOMEZ AVILA","2022-05-11",19267180,"Terminado",{"$f":"IF(ISERROR(AB283/AA283),\"-\",(AB283/AA283))","v":0.99583329267697707}]
["FDLSC-CPS-338-2022",2022,"FDLSC-CD-168-2022","https://community.secop.gov.co/Public/Tendering/OpportunityDetail/Index?noticeUID=CO1.NTC.2784164&isFromPublicArea=True&isModal=true&asPopupView=true","Contratos de prestación de servicios profesionales y de apoyo a la gestión","Contratación directa","Prestación de servicios profesionales y de apoyo a la gestión, o para la ejecución de trabajos artísticos que sólo puedan encomendarse a determinadas personas naturales","PRESTAR SUS SERVICIOS PARA APOYAR LA CONDUCCIÓN, REALIZAR EL RESPECTIVO MANTENIMIENTO Y CORROBORAR SU FUNCIONAMIENTO A LOS VEHÍCULOS LIVIANOS Y/O MAQUINARIA PESADA QUE SE ENCUENTRAN AL SERVICIO DEL FONDO LOCAL DE SAN CRISTOBAL.","Inversión","Un nuevo contrato social y ambiental para la Bogotá del Siglo XXI",49,{"$f":"IF(ISERROR(VLOOKUP(K284,#REF!,2,FALSE)),\" \",VLOOKUP(K284,#REF!,2,FALSE))","v":" "},{"$f":"IF(ISERROR(VLOOKUP(K284,#REF!,3,FALSE)),\" \",VLOOKUP(K284,#REF!,3,FALSE))","v":" "},1871,0,79737571,"LUCAS WILSON GONZALEZ MENDOZA","Persona Natural",null,"N/A","N/A",null,21760000,0,2,10789333,{"$f":"+W284+X284+Z284","v":32549333},26837333,"2022-01-28","2022-02-02","2023-01-30",240,1,89,80767245,"JOSE LUIS GARZON RAMIREZ","2022-04-04",26928000,"En ejecución",{"$f":"IF(ISERROR(AB284/AA284),\"-\",(AB284/AA284))","v":0.82451253302179806}]
["FDLSC-CPS-247-2022",2022,"FDLSC-CD-129-2022","https://community.secop.gov.co/Public/Tendering/OpportunityDetail/Index?noticeUID=CO1.NTC.2734997&isFromPublicArea=True&isModal=true&asPopupView=true","Contratos de prestación de servicios profesionales y de apoyo a la gestión","Contratación directa","Prestación de servicios profesionales y de apoyo a la gestión, o para la ejecución de trabajos artísticos que sólo puedan encomendarse a determinadas personas naturales","PRESTAR SUS SERVICIOS ASISTENCIALES EN EL DESPACHO DEL ALCALDE LOCAL, APOYANDO LAS ACTIVIDADES ADMINISTRATIVAS Y DE CORRESPONDENCIA GENERAL DEL DESPACHO, APLICANDO LA NORMATIVIDAD VIGENTE, LOS PROCESOS Y PROCEDIMIENTOS ESTABLECIDOS.","Inversión","Un nuevo contrato social y ambiental para la Bogotá del Siglo XXI",57,{"$f":"IF(ISERROR(VLOOKUP(K285,#REF!,2,FALSE)),\" \",VLOOKUP(K285,#REF!,2,FALSE))","v":" "},{"$f":"IF(ISERROR(VLOOKUP(K285,#REF!,3,FALSE)),\" \",VLOOKUP(K285,#REF!,3,FALSE))","v":" "},1873,0,1023924795,"LAURA MILENA RONCANCIO ANGULO","Persona Natural",null,"N/A","N/A",null,21704000,0,2,10761567,{"$f":"+W285+X285+Z285","v":32465567},27039566,"2022-01-27","2022-02-02","2023-01-30",240,2,119,null,null,null,null,"En ejecución",{"$f":"IF(ISERROR(AB285/AA285),\"-\",(AB285/AA285))","v":0.832869051694061}]
["FDLSC-CPS-308-2022",2022,"FDLSC-CD-159-2022","https://community.secop.gov.co/Public/Tendering/OpportunityDetail/Index?noticeUID=CO1.NTC.2780206&isFromPublicArea=True&isModal=true&asPopupView=true","Contratos de prestación de servicios profesionales y de apoyo a la gestión","Contratación directa","Prestación de servicios profesionales y de apoyo a la gestión, o para la ejecución de trabajos artísticos que sólo puedan encomendarse a determinadas personas naturales","PRESTAR SERVICIOS DE APOYO PARA EL MANTENIMIENTO LOCATIVO,DE JARDINERIA,FONTANERIA, PLOMERIA , ELECTRICO PARA LA ALCALDIA LOCAL DE SAN CRISTOBAL Y LAS SEDES QUE SE ENCUENTRAN A SU CARGO.","Inversión","Un nuevo contrato social y ambiental para la Bogotá del Siglo XXI",57,{"$f":"IF(ISERROR(VLOOKUP(K286,#REF!,2,FALSE)),\" \",VLOOKUP(K286,#REF!,2,FALSE))","v":" "},{"$f":"IF(ISERROR(VLOOKUP(K286,#REF!,3,FALSE)),\" \",VLOOKUP(K286,#REF!,3,FALSE))","v":" "},1873,0,79460651,"LUIS ALFONSO PEREZ PARRA","Persona Natural",null,"N/A","N/A",null,21600000,0,2,10800000,{"$f":"+W286+X286+Z286","v":32400000},27000000,"2022-01-28","2022-02-01","2023-01-30",240,1,90,null,null,null,null,"En ejecución",{"$f":"IF(ISERROR(AB286/AA286),\"-\",(AB286/AA286))","v":0.83333333333333337}]
["FDLSC-CPS-337-2022",2022,"FDLSC-CD-167-2022","https://community.secop.gov.co/Public/Tendering/OpportunityDetail/Index?noticeUID=CO1.NTC.2813465&isFromPublicArea=True&isModal=true&asPopupView=true","Contratos de prestación de servicios profesionales y de apoyo a la gestión","Contratación directa","Prestación de servicios profesionales y de apoyo a la gestión, o para la ejecución de trabajos artísticos que sólo puedan encomendarse a determinadas personas naturales","PRESTACIÓN DE SERVICIOS DE APOYO LOGÍSTICO EN LA EJECUCIÓN DE ACTIVIDADES DE OBRA CIVIL QUE CONLLEVEN AL MEJORAMIENTO Y ADECUACIÓN DEL ESPACIO PÚBLICO Y LA MALLA VIAL DE LA LOCALIDAD DE SAN CRISTÓBAL.","Inversión","Un nuevo contrato social y ambiental para la Bogotá del Siglo XXI",33,{"$f":"IF(ISERROR(VLOOKUP(K287,#REF!,2,FALSE)),\" \",VLOOKUP(K287,#REF!,2,FALSE))","v":" "},{"$f":"IF(ISERROR(VLOOKUP(K287,#REF!,3,FALSE)),\" \",VLOOKUP(K287,#REF!,3,FALSE))","v":" "},1863,0,11795806,"OVIDIO ASPRILLA SANCHEZ","Persona Natural",null,"N/A","N/A",null,32136000,0,0,0,{"$f":"+W287+X287+Z287","v":32136000},31198700,"2022-01-28","2022-02-08","2022-10-07",240,0,0,null,null,null,null,"Terminado",{"$f":"IF(ISERROR(AB287/AA287),\"-\",(AB287/AA287))","v":0.97083333333333333}]
["FDLSC-CPS-115-2022",2022,"FDLSC-CD-063-2022","https://community.secop.gov.co/Public/Tendering/OpportunityDetail/Index?noticeUID=CO1.NTC.2686112&isFromPublicArea=True&isModal=true&asPopupView=true","Contratos de prestación de servicios profesionales y de apoyo a la gestión","Contratación directa","Prestación de servicios profesionales y de apoyo a la gestión, o para la ejecución de trabajos artísticos que sólo puedan encomendarse a determinadas personas naturales","APOYAR TÉCNICAMENTE LAS DISTINTAS ETAPAS DE LOS PROCESOS DE COMPETENCIA DE LA ALCALDÍA LOCAL PARA LA DEPURACIÓN DE ACTUACIONES ADMINISTRATIVAS.","Inversión","Un nuevo contrato social y ambiental para la Bogotá del Siglo XXI",57,{"$f":"IF(ISERROR(VLOOKUP(K288,#REF!,2,FALSE)),\" \",VLOOKUP(K288,#REF!,2,FALSE))","v":" "},{"$f":"IF(ISERROR(VLOOKUP(K288,#REF!,3,FALSE)),\" \",VLOOKUP(K288,#REF!,3,FALSE))","v":" "},1873,0,19456366,"EDGAR GOYENECHE MUÑOZ","Persona Natural",null,"N/A","N/A",null,33000000,-916667,0,0,{"$f":"+W288+X288+Z288","v":32083333},32083333,"2022-01-25","2022-01-28","2022-07-27",180,0,0,79611143,"GIOVANNI TORRES NEIRA","2022-07-05",10450000,"Liquidado",{"$f":"IF(ISERROR(AB288/AA288),\"-\",(AB288/AA288))","v":1}]
["FDLSC-CPS-208-2022",2022,"FDLSC-CD-103-2022","https://community.secop.gov.co/Public/Tendering/OpportunityDetail/Index?noticeUID=CO1.NTC.2726570&isFromPublicArea=True&isModal=true&asPopupView=true","Contratos de prestación de servicios profesionales y de apoyo a la gestión","Contratación directa","Prestación de servicios profesionales y de apoyo a la gestión, o para la ejecución de trabajos artísticos que sólo puedan encomendarse a determinadas personas naturales","PRESTAR SU SERVICIOS TÉCNICOS PARA EL APOYO A LOS PROCESOS DE SALUD DEL FONDO DE DESARROLLO LOCAL DE SAN CRÍSTOBAL EN MATERIA ADMINISTRATIVA, ASÍ COMO LABORES DE CAMPO.","Inversión","Un nuevo contrato social y ambiental para la Bogotá del Siglo XXI",6,{"$f":"IF(ISERROR(VLOOKUP(K289,#REF!,2,FALSE)),\" \",VLOOKUP(K289,#REF!,2,FALSE))","v":" "},{"$f":"IF(ISERROR(VLOOKUP(K289,#REF!,3,FALSE)),\" \",VLOOKUP(K289,#REF!,3,FALSE))","v":" "},1843,0,52168745,"LIDA YASMIN CRISTANCHO CARO","Persona Natural",null,"N/A","N/A",null,31200000,0,0,0,{"$f":"+W289+X289+Z289","v":31200000},30810000,"2022-01-27","2022-02-04","2022-10-03",240,0,0,null,null,null,null,"Terminado",{"$f":"IF(ISERROR(AB289/AA289),\"-\",(AB289/AA289))","v":0.98750000000000004}]
["FDLSC-CPS-023-2022",2022,"FDLSC-CD-015-2022","https://community.secop.gov.co/Public/Tendering/OpportunityDetail/Index?noticeUID=CO1.NTC.2685488&isFromPublicArea=True&isModal=true&asPopupView=true","Contratos de prestación de servicios profesionales y de apoyo a la gestión","Contratación directa","Prestación de servicios profesionales y de apoyo a la gestión, o para la ejecución de trabajos artísticos que sólo puedan encomendarse a determinadas personas naturales","PRESTAR SUS SERVICIOS DE APOYO TECNICO EN PRENSA Y COMUNICACIONES DE LA ALCALDÍA LOCAL PARA APOYAR TECNICAMENTE TODAS ALAS ACTIVIDADES DESARROLLADAS EN EL MARCO DE LAS SOLICITUDES DE LA ADMINSITRACIÓN LOCAL.","Inversión","Un nuevo contrato social y ambiental para la Bogotá del Siglo XXI",57,{"$f":"IF(ISERROR(VLOOKUP(K290,#REF!,2,FALSE)),\" \",VLOOKUP(K290,#REF!,2,FALSE))","v":" "},{"$f":"IF(ISERROR(VLOOKUP(K290,#REF!,3,FALSE)),\" \",VLOOKUP(K290,#REF!,3,FALSE))","v":" "},1873,0,79582167,"EDUARDO SANTAMARIA ALVARADO","Persona Natural",null,"N/A","N/A",null,31200000,0,0,0,{"$f":"+W290+X290+Z290","v":31200000},31200000,"2022-01-27","2022-02-04","2022-10-03",240,0,0,null,null,null,null,"Terminado",{"$f":"IF(ISERROR(AB290/AA290),\"-\",(AB290/AA290))","v":1}]
["FDLSC-CPS-246-2022",2022,"FDLSC-CD-128-2022","https://community.secop.gov.co/Public/Tendering/OpportunityDetail/Index?noticeUID=CO1.NTC.2729514&isFromPublicArea=True&isModal=true&asPopupView=true","Contratos de prestación de servicios profesionales y de apoyo a la gestión","Contratación directa","Prestación de servicios profesionales y de apoyo a la gestión, o para la ejecución de trabajos artísticos que sólo puedan encomendarse a determinadas personas naturales","PRESTAR SUS SERVICIOS DE APOYO ASISTENCIAL PARA APOYAR LA GESTIÓN DEPORTIVA Y EN GENERAL, TODOS LOS PROCESOS DEPORTIVOS DESARROLLADOS EN LA LOCALIDAD Y AQUELLOS QUE SEAN DE COMPETENCIA DEL FONDO, EN EL CUMPLIMIENTO DEL PLAN DE DESARROLLO 2021-2024.","Inversión","Un nuevo contrato social y ambiental para la Bogotá del Siglo XXI",20,{"$f":"IF(ISERROR(VLOOKUP(K291,#REF!,2,FALSE)),\" \",VLOOKUP(K291,#REF!,2,FALSE))","v":" "},{"$f":"IF(ISERROR(VLOOKUP(K291,#REF!,3,FALSE)),\" \",VLOOKUP(K291,#REF!,3,FALSE))","v":" "},1801,0,1023955805,"JUAN SEBASTIAN MARIN CAMARGO","Persona Natural",null,"N/A","N/A",null,20800000,0,2,10313333,{"$f":"+W291+X291+Z291","v":31113333},25913000,"2022-01-27","2022-02-02","2023-01-30",240,2,119,null,null,null,null,"En ejecución",{"$f":"IF(ISERROR(AB291/AA291),\"-\",(AB291/AA291))","v":0.83285837618232672}]
["FDLSC-CPS-495-2022",2022,"FDLSC-CD--249-2022","https://community.secop.gov.co/Public/Tendering/OpportunityDetail/Index?noticeUID=CO1.NTC.3201701&isFromPublicArea=True&isModal=true&asPopupView=true","Contratos de prestación de servicios profesionales y de apoyo a la gestión","Contratación directa","Prestación de servicios profesionales y de apoyo a la gestión, o para la ejecución de trabajos artísticos que sólo puedan encomendarse a determinadas personas naturales","PRESTAR SERVICIOS PROFESIONALES PARA LIDERAR Y GARANTIZAR LA IMPLEMENTACIÓN Y SEGUIMIENTO DE LOS PROCESOS Y PROCEDIMIENTOS DEL SERVICIO SOCIAL","Inversión","Un nuevo contrato social y ambiental para la Bogotá del Siglo XXI",1,{"$f":"IF(ISERROR(VLOOKUP(K292,#REF!,2,FALSE)),\" \",VLOOKUP(K292,#REF!,2,FALSE))","v":" "},{"$f":"IF(ISERROR(VLOOKUP(K292,#REF!,3,FALSE)),\" \",VLOOKUP(K292,#REF!,3,FALSE))","v":" "},1852,0,51723412,"AURORA YARA MARTIN","Persona Natural",null,"N/A","N/A",null,24840000,0,1,6210000,{"$f":"+W292+X292+Z292","v":31050000},17388000,"2022-08-26","2022-09-07","2023-02-06",120,1,30,null,null,null,null,"En ejecución",{"$f":"IF(ISERROR(AB292/AA292),\"-\",(AB292/AA292))","v":0.56000000000000005}]
["FDLSC-CPS-002-2022",2022,"FDLSC-CD-002-2022","https://community.secop.gov.co/Public/Tendering/OpportunityDetail/Index?noticeUID=CO1.NTC.2589666&isFromPublicArea=True&isModal=true&asPopupView=true","Contratos de prestación de servicios profesionales y de apoyo a la gestión","Contratación directa","Prestación de servicios profesionales y de apoyo a la gestión, o para la ejecución de trabajos artísticos que sólo puedan encomendarse a determinadas personas naturales","PRESTAR SUS SERVICIOS PROFESIONALES DE CONTROL DE ACTIVIDADES DE CAMPO EN EL CENTRO DE RESTAURACIÓN AMBIENTAL CERESA, PARA EL DEBIDO CUMPLIMIENTO DEL PROTOCOLO DEL PROCESAMIENTO DE LOS RESIDUOS VEGETALES DEL RETAMO, ASÍ COMO EL CONTROL DE LA MAQUINARIA INSTITUCIONAL Y DE SUS INSUMOS REQUERIDOS EN CAMPO","Inversión","Un nuevo contrato social y ambiental para la Bogotá del Siglo XXI",24,{"$f":"IF(ISERROR(VLOOKUP(K293,#REF!,2,FALSE)),\" \",VLOOKUP(K293,#REF!,2,FALSE))","v":" "},{"$f":"IF(ISERROR(VLOOKUP(K293,#REF!,3,FALSE)),\" \",VLOOKUP(K293,#REF!,3,FALSE))","v":" "},1813,0,80809271,"MARCO ANTONIO BALLESTEROS AGUIRRE","Persona Natural",null,"N/A","N/A",null,31050000,0,0,0,{"$f":"+W293+X293+Z293","v":31050000},31050000,"2022-01-18","2022-01-21","2022-07-20",180,0,0,null,null,null,null,"Terminado",{"$f":"IF(ISERROR(AB293/AA293),\"-\",(AB293/AA293))","v":1}]
["FDLSC-CPS-024-2022",2022,"FDLSC-CD-016-2022","https://community.secop.gov.co/Public/Tendering/OpportunityDetail/Index?noticeUID=CO1.NTC.2618789&isFromPublicArea=True&isModal=true&asPopupView=true","Contratos de prestación de servicios profesionales y de apoyo a la gestión","Contratación directa","Prestación de servicios profesionales y de apoyo a la gestión, o para la ejecución de trabajos artísticos que sólo puedan encomendarse a determinadas personas naturales","PRESTAR SERVICIOS PROFESIONALES PARA APOYO A REVISIÓN JURÍDICA EN CONTRATACIÓN DE LA ALCALDÍA LOCAL SAN CRISTÓBAL, EN LA PROYECCIÓN DE LOS DIFERENTES DOCUMENTOS QUE SE REQUIERAN EN LOS PROCESOS DE CONTRATACIÓN EN LAS ETAPAS PRECONTRACTUAL, CONTRACTUAL Y POST CONTRACTUAL, ASÍ COMO EN LAS DEMÁS ACTIVIDADES ASIGNADAS, DE CONFORMIDAD CON LAS DIRECTRICES Y POLÍTICAS DE LA ADMINISTRACIÓN LOCAL.","Inversión","Un nuevo contrato social y ambiental para la Bogotá del Siglo XXI",57,{"$f":"IF(ISERROR(VLOOKUP(K294,#REF!,2,FALSE)),\" \",VLOOKUP(K294,#REF!,2,FALSE))","v":" "},{"$f":"IF(ISERROR(VLOOKUP(K294,#REF!,3,FALSE)),\" \",VLOOKUP(K294,#REF!,3,FALSE))","v":" "},1873,0,1121883652,"SILVIA CONSTANZA TAMAYO NOVOA","Persona Natural",null,"N/A","N/A",null,31032000,0,0,0,{"$f":"+W294+X294+Z294","v":31032000},30859600,"2022-01-28","2022-02-02","2022-08-01",180,0,0,1010240385,"INES GISSEL GUINEA LINARES","2022-06-13",8447600,"Terminado",{"$f":"IF(ISERROR(AB294/AA294),\"-\",(AB294/AA294))","v":0.99444444444444446}]
["FDLSC-CPS-383-2022",2022,"FDLSC-CD-182-2022","https://community.secop.gov.co/Public/Tendering/OpportunityDetail/Index?noticeUID=CO1.NTC.3091043&isFromPublicArea=True&isModal=true&asPopupView=true","Contratos de prestación de servicios profesionales y de apoyo a la gestión","Contratación directa","Prestación de servicios profesionales y de apoyo a la gestión, o para la ejecución de trabajos artísticos que sólo puedan encomendarse a determinadas personas naturales","PRESTAR SUS SERVICIOS PROFESIONALES PARA APOYAR EL AREA DE DESARROLLO  LOCAL EN LOS PROCESOS CONTABLES Y FINANCIEROS, ASI COMO LOS PROCESOS DE  ANALISIS, REVISIÓN Y CAUSACIÓN CONTABLE DEL PAGO DE LOS CONTRATOS DEL FONDO DE DESARROLLO LOCAL, APLICANDO LA NORMATIVIDAD VIGENTE","Inversión","Un nuevo contrato social y ambiental para la Bogotá del Siglo XXI",57,{"$f":"IF(ISERROR(VLOOKUP(K295,#REF!,2,FALSE)),\" \",VLOOKUP(K295,#REF!,2,FALSE))","v":" "},{"$f":"IF(ISERROR(VLOOKUP(K295,#REF!,3,FALSE)),\" \",VLOOKUP(K295,#REF!,3,FALSE))","v":" "},1873,0,52273387,"DEICY MARCELA AYALA RUIZ","Persona Natural",null,"N/A","N/A",null,25815000,0,1,5163000,{"$f":"+W295+X295+Z295","v":30978000},20307800,"2022-08-02","2022-08-03","2023-01-02",150,0,0,null,null,null,null,"En ejecución",{"$f":"IF(ISERROR(AB295/AA295),\"-\",(AB295/AA295))","v":0.65555555555555556}]
["FDLSC-CPS-404-2022",2022,"FDLSC-CD-190-2022","https://community.secop.gov.co/Public/Tendering/OpportunityDetail/Index?noticeUID=CO1.NTC.3098008&isFromPublicArea=True&isModal=true&asPopupView=true","Contratos de prestación de servicios profesionales y de apoyo a la gestión","Contratación directa","Prestación de servicios profesionales y de apoyo a la gestión, o para la ejecución de trabajos artísticos que sólo puedan encomendarse a determinadas personas naturales","PRESTAR SUS SERVICIOS PROFESIONALES PARA LA GESTIÓN EN EL ÁREA DE DESARROLLO LOCAL DE SAN CRISTÓBAL, EN EL APOYO DE LA PRESENTACIÓN Y SEGUIMIENTO DE LOS PROYECTOS DE INFRAESTRUCTURA Y OBRAS CIVILES QUE DESARROLLE LA ENTIDAD, Y EN LOS REQUERMIENTOS DE INFRAESTRUCTURA CIVIL QUE TENGA LA ALCALDIA LOCAL DE SAN CRISTÓBAL","Inversión","Un nuevo contrato social y ambiental para la Bogotá del Siglo XXI",33,{"$f":"IF(ISERROR(VLOOKUP(K296,#REF!,2,FALSE)),\" \",VLOOKUP(K296,#REF!,2,FALSE))","v":" "},{"$f":"IF(ISERROR(VLOOKUP(K296,#REF!,3,FALSE)),\" \",VLOOKUP(K296,#REF!,3,FALSE))","v":" "},1863,0,1026596208,"NICOLAS CUEVAS RAMIREZ ","Persona Natural",null,"N/A","N/A",null,25685000,0,1,5137000,{"$f":"+W296+X296+Z296","v":30822000},20205533,"2022-08-02","2022-08-03","2023-02-02",150,0,0,null,null,null,null,"En ejecución",{"$f":"IF(ISERROR(AB296/AA296),\"-\",(AB296/AA296))","v":0.6555555447407696}]
["FDLSC-CPS-263-2022",2022,"FDLSC-CD-125-2022","https://community.secop.gov.co/Public/Tendering/OpportunityDetail/Index?noticeUID=CO1.NTC.2742774&isFromPublicArea=True&isModal=true&asPopupView=true","Contratos de prestación de servicios profesionales y de apoyo a la gestión","Contratación directa","Prestación de servicios profesionales y de apoyo a la gestión, o para la ejecución de trabajos artísticos que sólo puedan encomendarse a determinadas personas naturales","PRESTAR SUS SERVICIOS TÉCNICOS PARA EL SEGUIMIENTO Y APOYO EN LAS ACTIVIDADES RELACIONADAS CON SEPARACIÓN EN LA FUENTE, RECICLAJE Y  MITIGACIÓN A  LOS PUNTOS CRÍTICOS Y  DE ACUMULACIÓN DE BASURA, A  LA LUZ DEL PLAN DE DESARROLLO LOCAL DE SAN CRISTOBAL 2021-2024","Inversión","Un nuevo contrato social y ambiental para la Bogotá del Siglo XXI",57,{"$f":"IF(ISERROR(VLOOKUP(K297,#REF!,2,FALSE)),\" \",VLOOKUP(K297,#REF!,2,FALSE))","v":" "},{"$f":"IF(ISERROR(VLOOKUP(K297,#REF!,3,FALSE)),\" \",VLOOKUP(K297,#REF!,3,FALSE))","v":" "},1873,0,79432721,"MARTIN EMILIO CASTILLO VELA","Persona Natural",null,"N/A","N/A",null,30800000,0,0,0,{"$f":"+W297+X297+Z297","v":30800000},30286667,"2022-01-27","2022-02-05","2022-10-04",240,0,0,null,null,null,null,"Terminado",{"$f":"IF(ISERROR(AB297/AA297),\"-\",(AB297/AA297))","v":0.98333334415584417}]
["FDLSC-CPS-316-2022",2022,"FDLSC-CD-125-2022","https://community.secop.gov.co/Public/Tendering/OpportunityDetail/Index?noticeUID=CO1.NTC.2625355&isFromPublicArea=True&isModal=true&asPopupView=true","Contratos de prestación de servicios profesionales y de apoyo a la gestión","Contratación directa","Prestación de servicios profesionales y de apoyo a la gestión, o para la ejecución de trabajos artísticos que sólo puedan encomendarse a determinadas personas naturales","PRESTAR SUS SERVICIOS TÉCNICOS PARA EL SEGUIMIENTO Y APOYO EN LAS ACTIVIDADES RELACIONADAS CON SEPARACIÓN EN LA FUENTE, RECICLAJE Y  MITIGACIÓN A  LOS PUNTOS CRÍTICOS Y  DE ACUMULACIÓN DE BASURA, A  LA LUZ DEL PLAN DE DESARROLLO LOCAL DE SAN CRISTOBAL 2021-2024","Inversión","Un nuevo contrato social y ambiental para la Bogotá del Siglo XXI",57,{"$f":"IF(ISERROR(VLOOKUP(K298,#REF!,2,FALSE)),\" \",VLOOKUP(K298,#REF!,2,FALSE))","v":" "},{"$f":"IF(ISERROR(VLOOKUP(K298,#REF!,3,FALSE)),\" \",VLOOKUP(K298,#REF!,3,FALSE))","v":" "},1873,0,1023882661,"CRISTIAN CAMILO RUBIANO GRANADA","Persona Natural",null,"N/A","N/A",null,30800000,0,0,0,{"$f":"+W298+X298+Z298","v":30800000},30286667,"2022-01-28","2022-02-05","2022-10-04",240,0,0,null,null,null,null,"Terminado",{"$f":"IF(ISERROR(AB298/AA298),\"-\",(AB298/AA298))","v":0.98333334415584417}]
["FDLSC-CPS-240-2022",2022,"FDLSC-CD-125-2022","https://community.secop.gov.co/Public/Tendering/OpportunityDetail/Index?noticeUID=CO1.NTC.2742774&isFromPublicArea=True&isModal=true&asPopupView=true","Contratos de prestación de servicios profesionales y de apoyo a la gestión","Contratación directa","Prestación de servicios profesionales y de apoyo a la gestión, o para la ejecución de trabajos artísticos que sólo puedan encomendarse a determinadas personas naturales","PRESTAR SUS SERVICIOS TÉCNICOS PARA EL SEGUIMIENTO Y APOYO EN LAS ACTIVIDADES RELACIONADAS CON SEPARACIÓN EN LA FUENTE, RECICLAJE Y  MITIGACIÓN A  LOS PUNTOS CRÍTICOS Y  DE ACUMULACIÓN DE BASURA, A  LA LUZ DEL PLAN DE DESARROLLO LOCAL DE SAN CRISTOBAL 2021-2024","Inversión","Un nuevo contrato social y ambiental para la Bogotá del Siglo XXI",57,{"$f":"IF(ISERROR(VLOOKUP(K299,#REF!,2,FALSE)),\" \",VLOOKUP(K299,#REF!,2,FALSE))","v":" "},{"$f":"IF(ISERROR(VLOOKUP(K299,#REF!,3,FALSE)),\" \",VLOOKUP(K299,#REF!,3,FALSE))","v":" "},1873,0,79604828,"AUGUSTO NICOLAS PERTUZ ZAMBRANO","Persona Natural",null,"N/A","N/A",null,30800000,0,0,0,{"$f":"+W299+X299+Z299","v":30800000},30415000,"2022-01-28","2022-02-04","2022-10-03",240,0,0,null,null,null,null,"Terminado",{"$f":"IF(ISERROR(AB299/AA299),\"-\",(AB299/AA299))","v":0.98750000000000004}]
["FDLSC-CPS-186-2022",2022,"FDLSC-CD-088-2022","https://community.secop.gov.co/Public/Tendering/OpportunityDetail/Index?noticeUID=CO1.NTC.2784844&isFromPublicArea=True&isModal=true&asPopupView=true","Contratos de prestación de servicios profesionales y de apoyo a la gestión","Contratación directa","Prestación de servicios profesionales y de apoyo a la gestión, o para la ejecución de trabajos artísticos que sólo puedan encomendarse a determinadas personas naturales","PRESTAR SUS SERVICIOS PROFESIONALES AL FDLSC PARA REALIZAR LA FORMULACIÓN, PRESENTACIÓN, EVALUACIÓN, SEGUIMIENTO Y APOYAR LA SUPERVISIÓN DE LOS PROCESOS CONTRACTUALES DERIVADOS DE TEMAS DE RECREACIÓN, CULTURA Y DEPORTE, Y LOS DEMAS QUE LE SEAN ASIGNADOS PARA LA PLANEACION. ","Inversión","Un nuevo contrato social y ambiental para la Bogotá del Siglo XXI",57,{"$f":"IF(ISERROR(VLOOKUP(K300,#REF!,2,FALSE)),\" \",VLOOKUP(K300,#REF!,2,FALSE))","v":" "},{"$f":"IF(ISERROR(VLOOKUP(K300,#REF!,3,FALSE)),\" \",VLOOKUP(K300,#REF!,3,FALSE))","v":" "},1873,0,52820634,"CAROL DEMELZA LOZANO MORA","Persona Natural",null,"N/A","N/A",null,30776400,0,0,0,{"$f":"+W300+X300+Z300","v":30776400},30776400,"2022-01-28","2022-02-05","2022-08-04",180,0,0,null,null,null,null,"Terminado",{"$f":"IF(ISERROR(AB300/AA300),\"-\",(AB300/AA300))","v":1}]
["FDLSC-CPS-039-2022",2022,"FDLSC-CD-023-2022","https://community.secop.gov.co/Public/Tendering/OpportunityDetail/Index?noticeUID=CO1.NTC.2601354&isFromPublicArea=True&isModal=true&asPopupView=true","Contratos de prestación de servicios profesionales y de apoyo a la gestión","Contratación directa","Prestación de servicios profesionales y de apoyo a la gestión, o para la ejecución de trabajos artísticos que sólo puedan encomendarse a determinadas personas naturales","PRESTAR SERVICIOS DE APOYO EN LA CONDUCCIÓN DE LOS VEHÍCULOS LIVIANOS, Y/O MAQUINARIA PESADA QUE SE ENCUENTRAN AL SERVICIO DE LAS ACTIVIDADES QUE SE DESARROLLAN EN EL FDL.","Inversión","Un nuevo contrato social y ambiental para la Bogotá del Siglo XXI",57,{"$f":"IF(ISERROR(VLOOKUP(K301,#REF!,2,FALSE)),\" \",VLOOKUP(K301,#REF!,2,FALSE))","v":" "},{"$f":"IF(ISERROR(VLOOKUP(K301,#REF!,3,FALSE)),\" \",VLOOKUP(K301,#REF!,3,FALSE))","v":" "},1873,0,79757666,"CARLOS ALBERTO CARREÑO GARCIA","Persona Natural",null,"N/A","N/A",null,28098400,0,1,2554400,{"$f":"+W301+X301+Z301","v":30652800},26310320,"2022-01-20","2022-01-22","2023-01-28",330,1,30,null,null,null,null,"En ejecución",{"$f":"IF(ISERROR(AB301/AA301),\"-\",(AB301/AA301))","v":0.85833333333333328}]
["FDLSC-CPS-410-2022",2022,"FDLSC-CD-195-2022","https://community.secop.gov.co/Public/Tendering/OpportunityDetail/Index?noticeUID=CO1.NTC.3109711&isFromPublicArea=True&isModal=true&asPopupView=true","Contratos de prestación de servicios profesionales y de apoyo a la gestión","Contratación directa","Prestación de servicios profesionales y de apoyo a la gestión, o para la ejecución de trabajos artísticos que sólo puedan encomendarse a determinadas personas naturales","APOYO A REVISIÓN JURÍDICA EN CONTRATACIÓN DE LA ALCALDÍA LOCAL SAN CRISTÓBAL, EN LA PROYECCIÓN DE LOS DIFERENTES DOCUMENTOS QUE SE REQUIERAN EN LOS PROCESOS DE CONTRATACIÓN EN LAS ETAPAS PRECONTRACTUAL, CONTRACTUAL Y POST CONTRACTUAL, ASÍ COMO EN LAS DEMÁS ACTIVIDADES ASIGNADAS, DE CONFORMIDAD CON LAS DIRECTRICES Y POLÍTICAS DE LA ADMINISTRACIÓN LOCAL","Inversión","Un nuevo contrato social y ambiental para la Bogotá del Siglo XXI",57,{"$f":"IF(ISERROR(VLOOKUP(K302,#REF!,2,FALSE)),\" \",VLOOKUP(K302,#REF!,2,FALSE))","v":" "},{"$f":"IF(ISERROR(VLOOKUP(K302,#REF!,3,FALSE)),\" \",VLOOKUP(K302,#REF!,3,FALSE))","v":" "},1873,0,1010240385,"INES GISSEL GUINEA LINARES","Persona Natural",null,"N/A","N/A",null,20668000,0,1,9645067,{"$f":"+W302+X302+Z302","v":30313067},19979067,"2022-08-04","2022-08-05","2023-01-30",120,1,56,null,null,null,null,"En ejecución",{"$f":"IF(ISERROR(AB302/AA302),\"-\",(AB302/AA302))","v":0.65909091283966748}]
["FDLSC-CPS-209-2022",2022,"FDLSC-CD-104-2022","https://community.secop.gov.co/Public/Tendering/OpportunityDetail/Index?noticeUID=CO1.NTC.2727181&isFromPublicArea=True&isModal=true&asPopupView=true","Contratos de prestación de servicios profesionales y de apoyo a la gestión","Contratación directa","Prestación de servicios profesionales y de apoyo a la gestión, o para la ejecución de trabajos artísticos que sólo puedan encomendarse a determinadas personas naturales","APOYAR LA IMPLEMENTACIÓN DEL PROYECTO DE INVERSIÓN VINCULADO AL PROGRAMADE JOVENES A LA U, EN EL MARCO DEL PLAN DE DESARROLLO LOCAL: UN NUEVO CONTRATO SOCIAL Y AMBIENTAL PARA SAN CRISTÓBAL, 2021 -2024. ","Inversión","Un nuevo contrato social y ambiental para la Bogotá del Siglo XXI",17,{"$f":"IF(ISERROR(VLOOKUP(K303,#REF!,2,FALSE)),\" \",VLOOKUP(K303,#REF!,2,FALSE))","v":" "},{"$f":"IF(ISERROR(VLOOKUP(K303,#REF!,3,FALSE)),\" \",VLOOKUP(K303,#REF!,3,FALSE))","v":" "},1792,0,80060049,"EDWIN ANDRES MORA VIRGUEZ","Persona Natural",null,"N/A","N/A",null,30000000,0,0,0,{"$f":"+W303+X303+Z303","v":30000000},29999999,"2022-01-27","2022-02-09","2022-08-08",180,0,0,null,null,null,null,"Terminado",{"$f":"IF(ISERROR(AB303/AA303),\"-\",(AB303/AA303))","v":0.99999996666666668}]
["FDLSC-CPS-211-2022",2022,"FDLSC-CD-104-2022","https://community.secop.gov.co/Public/Tendering/OpportunityDetail/Index?noticeUID=CO1.NTC.2727181&isFromPublicArea=True&isModal=true&asPopupView=true","Contratos de prestación de servicios profesionales y de apoyo a la gestión","Contratación directa","Prestación de servicios profesionales y de apoyo a la gestión, o para la ejecución de trabajos artísticos que sólo puedan encomendarse a determinadas personas naturales","APOYAR LA IMPLEMENTACIÓN DEL PROYECTO DE INVERSIÓN VINCULADO AL PROGRAMADE JOVENES A LA U, EN EL MARCO DEL PLAN DE DESARROLLO LOCAL: UN NUEVO CONTRATO SOCIAL Y AMBIENTAL PARA SAN CRISTÓBAL, 2021 -2024. ","Inversión","Un nuevo contrato social y ambiental para la Bogotá del Siglo XXI",17,{"$f":"IF(ISERROR(VLOOKUP(K304,#REF!,2,FALSE)),\" \",VLOOKUP(K304,#REF!,2,FALSE))","v":" "},{"$f":"IF(ISERROR(VLOOKUP(K304,#REF!,3,FALSE)),\" \",VLOOKUP(K304,#REF!,3,FALSE))","v":" "},1792,0,1099204694,"JULIAN DARIO GONZALEZ PARDO","Persona Natural",null,"N/A","N/A",null,30000000,0,0,0,{"$f":"+W304+X304+Z304","v":30000000},30000000,"2022-01-27","2022-02-02","2022-08-01",180,0,0,null,null,null,null,"Terminado",{"$f":"IF(ISERROR(AB304/AA304),\"-\",(AB304/AA304))","v":1}]
["FDLSC-CPS-232-2022",2022,"FDLSC-CD-118-2022","https://community.secop.gov.co/Public/Tendering/OpportunityDetail/Index?noticeUID=CO1.NTC.2722064&isFromPublicArea=True&isModal=true&asPopupView=true","Contratos de prestación de servicios profesionales y de apoyo a la gestión","Contratación directa","Prestación de servicios profesionales y de apoyo a la gestión, o para la ejecución de trabajos artísticos que sólo puedan encomendarse a determinadas personas naturales","PRESTAR SUS SERVICIOS PROFESIONALES EN EL ÁREA DE GESTIÓN DEL DESARROLLO LOCAL, APOYANDO A  LA ADMINISTRACIÓN LOCAL EN EL DESARROLLO DE LOS PROCESOS ADMINISTRATIVOS REQUERIDOS PARA EL CUMPLIMIENTO DEL PDL 2021-2024","Inversión","Un nuevo contrato social y ambiental para la Bogotá del Siglo XXI",57,{"$f":"IF(ISERROR(VLOOKUP(K305,#REF!,2,FALSE)),\" \",VLOOKUP(K305,#REF!,2,FALSE))","v":" "},{"$f":"IF(ISERROR(VLOOKUP(K305,#REF!,3,FALSE)),\" \",VLOOKUP(K305,#REF!,3,FALSE))","v":" "},1873,0,51563750,"CELMIRA BARRERA AVILA","Persona Natural",null,"N/A","N/A",null,30000000,0,0,0,{"$f":"+W305+X305+Z305","v":30000000},30000000,"2022-01-27","2022-02-02","2022-08-01",180,0,0,null,null,null,null,"Terminado",{"$f":"IF(ISERROR(AB305/AA305),\"-\",(AB305/AA305))","v":1}]
["FDLSC-CPS-255-2022",2022,"FDLSC-CD-136-2022","https://community.secop.gov.co/Public/Tendering/OpportunityDetail/Index?noticeUID=CO1.NTC.2745527&isFromPublicArea=True&isModal=true&asPopupView=true","Contratos de prestación de servicios profesionales y de apoyo a la gestión","Contratación directa","Prestación de servicios profesionales y de apoyo a la gestión, o para la ejecución de trabajos artísticos que sólo puedan encomendarse a determinadas personas naturales","PRESTAR SUS SERVICIOS PROFESIONALES PARA ACOMPAÑAR TODOS LOS PROCESOS DE ATENCION A POBLACION DIFERENCIAL Y MUJERES","Inversión","Un nuevo contrato social y ambiental para la Bogotá del Siglo XXI",6,{"$f":"IF(ISERROR(VLOOKUP(K306,#REF!,2,FALSE)),\" \",VLOOKUP(K306,#REF!,2,FALSE))","v":" "},{"$f":"IF(ISERROR(VLOOKUP(K306,#REF!,3,FALSE)),\" \",VLOOKUP(K306,#REF!,3,FALSE))","v":" "},1811,0,1018462251,"ANGIE STEFANN PEREZ BARBOSA","Persona Natural",null,"N/A","N/A",null,20000000,0,1,10000000,{"$f":"+W306+X306+Z306","v":30000000},30000000,"2022-01-28","2022-02-03","2022-08-02",120,1,60,null,null,null,null,"Terminado",{"$f":"IF(ISERROR(AB306/AA306),\"-\",(AB306/AA306))","v":1}]
["FDLSC-CPS-271-2022",2022,"FDLSC-CD-143-2022","https://community.secop.gov.co/Public/Tendering/OpportunityDetail/Index?noticeUID=CO1.NTC.2744998&isFromPublicArea=True&isModal=true&asPopupView=true","Contratos de prestación de servicios profesionales y de apoyo a la gestión","Contratación directa","Prestación de servicios profesionales y de apoyo a la gestión, o para la ejecución de trabajos artísticos que sólo puedan encomendarse a determinadas personas naturales","PRESTAR SUS SERVICIOS PROFESIONALES EN LO CONCERNIENTE A LAS ACTIVIDADES ADMINISTRATIVAS Y DE CAMPO EN LOS PROCESOS DE AGRICULTURA URBANA, ARBORIZACION (PLANTACIÓN Y MANTENIMIENTO), Y MANEJO DE SITUACIONES AMBIENTALES CONFLICTIVAS EN EL ESPACIO PÚBLICO LOCAL.","Inversión","Un nuevo contrato social y ambiental para la Bogotá del Siglo XXI",24,{"$f":"IF(ISERROR(VLOOKUP(K307,#REF!,2,FALSE)),\" \",VLOOKUP(K307,#REF!,2,FALSE))","v":" "},{"$f":"IF(ISERROR(VLOOKUP(K307,#REF!,3,FALSE)),\" \",VLOOKUP(K307,#REF!,3,FALSE))","v":" "},1813,0,1032473323,"MABEL GERALDINE HERRERA MANCILLA","Persona Natural",null,"N/A","N/A",null,20000000,0,1,10000000,{"$f":"+W307+X307+Z307","v":30000000},30000000,"2022-01-28","2022-02-01","2022-07-30",120,1,60,null,null,null,null,"Terminado",{"$f":"IF(ISERROR(AB307/AA307),\"-\",(AB307/AA307))","v":1}]
["FDLSC-CPS-334-2022",2022,"FDLSC-CD-166-2022","https://community.secop.gov.co/Public/Tendering/OpportunityDetail/Index?noticeUID=CO1.NTC.2776681&isFromPublicArea=True&isModal=true&asPopupView=true","Contratos de prestación de servicios profesionales y de apoyo a la gestión","Contratación directa","Prestación de servicios profesionales y de apoyo a la gestión, o para la ejecución de trabajos artísticos que sólo puedan encomendarse a determinadas personas naturales","PRESTAR SUS SERVICIOS PROFESIONALES PARA LA GESTIÓN  TÉCNICA Y DE REFERENCIACIÓN DEL RIESGO, A LA LUZ DEL PLAN DE DESARROLLO 2021-2024: UN NUEVO CONTRATO AMBIENTAL Y SOCIAL PARA SAN CRISTÓBAL.","Inversión","Un nuevo contrato social y ambiental para la Bogotá del Siglo XXI",30,{"$f":"IF(ISERROR(VLOOKUP(K308,#REF!,2,FALSE)),\" \",VLOOKUP(K308,#REF!,2,FALSE))","v":" "},{"$f":"IF(ISERROR(VLOOKUP(K308,#REF!,3,FALSE)),\" \",VLOOKUP(K308,#REF!,3,FALSE))","v":" "},1866,0,1022943157,"ANDERSSON FABIAN RINCON ALMARIO","Persona Natural",null,"N/A","N/A",null,30000000,0,0,0,{"$f":"+W308+X308+Z308","v":30000000},30000000,"2022-01-28","2022-02-04","2022-08-03",180,0,0,null,null,null,null,"Terminado",{"$f":"IF(ISERROR(AB308/AA308),\"-\",(AB308/AA308))","v":1}]
["FDLSC-CSU-653-2022",2022,"FDLSC-MIC-015-2022","https://community.secop.gov.co/Public/Tendering/OpportunityDetail/Index?noticeUID=CO1.NTC.3653191&isFromPublicArea=True&isModal=true&asPopupView=true","Suministro","Contratación mínima cuantia","No aplica","SUMINISTRO DE REPUESTOS A PRECIOS UNITARIOS Y MONTO AGOTABLE SIN FORMULA  DE REAJUSTE PARA LOS VEHICULOS DEL PARQUE AUTOMOTOR DEL FONDO DE DESARROLLO LOCAL DE SAN CRISTOBAL QUE INCIDEN EN LAS ACTIVIDADES DE LOS PROYECTOS DE INVERSION","Inversión","Un nuevo contrato social y ambiental para la Bogotá del Siglo XXI",57,{"$f":"IF(ISERROR(VLOOKUP(K309,#REF!,2,FALSE)),\" \",VLOOKUP(K309,#REF!,2,FALSE))","v":" "},{"$f":"IF(ISERROR(VLOOKUP(K309,#REF!,3,FALSE)),\" \",VLOOKUP(K309,#REF!,3,FALSE))","v":" "},1873,2,800250589,"CENTRO CAR 19 LIMITADA","Persona Jurídica",null,"N/A","N/A",null,29962000,0,0,0,{"$f":"+W309+X309+Z309","v":29962000},0,"2022-12-18","2023-01-10","2023-05-09",120,0,0,null,null,null,null,"En ejecución",{"$f":"IF(ISERROR(AB309/AA309),\"-\",(AB309/AA309))","v":0}]
["FDLSC-CPS-428-2022",2022,"FDLSC-CD-208-2022","https://community.secop.gov.co/Public/Tendering/OpportunityDetail/Index?noticeUID=CO1.NTC.3123892&isFromPublicArea=True&isModal=true&asPopupView=true","Contratos de prestación de servicios profesionales y de apoyo a la gestión","Contratación directa","Prestación de servicios profesionales y de apoyo a la gestión, o para la ejecución de trabajos artísticos que sólo puedan encomendarse a determinadas personas naturales","PRESTAR LOS SERVICIOS PROFESIONALES EN EL ÁREA DE GESTIÓN DE DESARROLLO LOCAL PARA REALIZAR LA FORMULACIÓN, EVALUACIÓN, PRESENTACIÓN Y SEGUIMIENTO DE LOS PROYECTOS DE INVERSIÓN LOCAL NO 1724, 1790, 1811 Y 1873 EN CUMPLIMIENTO DEL PLAN DE DESARROLLO 2021 -2024.","Inversión","Un nuevo contrato social y ambiental para la Bogotá del Siglo XXI",57,{"$f":"IF(ISERROR(VLOOKUP(K310,#REF!,2,FALSE)),\" \",VLOOKUP(K310,#REF!,2,FALSE))","v":" "},{"$f":"IF(ISERROR(VLOOKUP(K310,#REF!,3,FALSE)),\" \",VLOOKUP(K310,#REF!,3,FALSE))","v":" "},1873,0,79971425,"CARLOS ALBERTO AVENDAÑO ANGEL","Persona Natural",null,"N/A","N/A",null,23896000,0,1,5974000,{"$f":"+W310+X310+Z310","v":29870000},22103800,"2022-08-08","2022-08-10","2023-01-09",120,1,30,null,null,null,null,"En ejecución",{"$f":"IF(ISERROR(AB310/AA310),\"-\",(AB310/AA310))","v":0.74}]
["FDLSC-CPS-355-2022",2022,"FDLSC-CD-028-2022","https://community.secop.gov.co/Public/Tendering/OpportunityDetail/Index?noticeUID=CO1.NTC.2639730&isFromPublicArea=True&isModal=true&asPopupView=true","Contratos de prestación de servicios profesionales y de apoyo a la gestión","Contratación directa","Prestación de servicios profesionales y de apoyo a la gestión, o para la ejecución de trabajos artísticos que sólo puedan encomendarse a determinadas personas naturales","PRESTAR SU SERVICIOS TÉCNICOS PARA EL APOYO A LOS PROCESOS DE PROTECCIÓN Y BIENESTAR ANIMAL DEL FONDO DE DESARROLLO LOCAL DE SAN CRÍSTOBAL EN MATERIA ADMINISTRATIVA, ASÍ COMO LABORES DE CAMPO.","Inversión","Un nuevo contrato social y ambiental para la Bogotá del Siglo XXI",57,{"$f":"IF(ISERROR(VLOOKUP(K311,#REF!,2,FALSE)),\" \",VLOOKUP(K311,#REF!,2,FALSE))","v":" "},{"$f":"IF(ISERROR(VLOOKUP(K311,#REF!,3,FALSE)),\" \",VLOOKUP(K311,#REF!,3,FALSE))","v":" "},1873,0,1110444585,"BRENDA DUKLAYS SAAVEDRA VARON","Persona Natural",null,"N/A","N/A",null,29664000,0,0,0,{"$f":"+W311+X311+Z311","v":29664000},27192000,"2022-01-28","2022-02-08","2022-10-07",240,0,0,1023894240,"GIOVANNY ALBERTO ALFONSO MARÍN","2022-04-11",21877200,"Liquidado",{"$f":"IF(ISERROR(AB311/AA311),\"-\",(AB311/AA311))","v":0.91666666666666663}]
["FDLSC-CPS-044-2022",2022,"FDLSC-CD-028-2022","https://community.secop.gov.co/Public/Tendering/OpportunityDetail/Index?noticeUID=CO1.NTC.2639730&isFromPublicArea=True&isModal=true&asPopupView=true","Contratos de prestación de servicios profesionales y de apoyo a la gestión","Contratación directa","Prestación de servicios profesionales y de apoyo a la gestión, o para la ejecución de trabajos artísticos que sólo puedan encomendarse a determinadas personas naturales","PRESTAR SU SERVICIOS TÉCNICOS PARA EL APOYO A LOS PROCESOS DE PROTECCIÓN Y BIENESTAR ANIMAL DEL FONDO DE DESARROLLO LOCAL DE SAN CRÍSTOBAL EN MATERIA ADMINISTRATIVA, ASÍ COMO LABORES DE CAMPO.","Inversión","Un nuevo contrato social y ambiental para la Bogotá del Siglo XXI",57,{"$f":"IF(ISERROR(VLOOKUP(K312,#REF!,2,FALSE)),\" \",VLOOKUP(K312,#REF!,2,FALSE))","v":" "},{"$f":"IF(ISERROR(VLOOKUP(K312,#REF!,3,FALSE)),\" \",VLOOKUP(K312,#REF!,3,FALSE))","v":" "},1873,0,1023862594,"DIANA CAROLINA FORERO JIMENEZ","Persona Natural",null,"N/A","N/A",null,29664000,0,0,0,{"$f":"+W312+X312+Z312","v":29664000},29664000,"2022-01-24","2022-01-28","2022-09-27",240,0,0,null,null,null,null,"Terminado",{"$f":"IF(ISERROR(AB312/AA312),\"-\",(AB312/AA312))","v":1}]
["FDLSC-CPS-317-2022",2022,"FDLSC-CD-030-2022","https://community.secop.gov.co/Public/Tendering/OpportunityDetail/Index?noticeUID=CO1.NTC.2590234&isFromPublicArea=True&isModal=true&asPopupView=true","Contratos de prestación de servicios profesionales y de apoyo a la gestión","Contratación directa","Prestación de servicios profesionales y de apoyo a la gestión, o para la ejecución de trabajos artísticos que sólo puedan encomendarse a determinadas personas naturales","PRESTAR LOS SERVICIOS TÉCNICOS EN EL ÁREA DE GESTIÓN DE DESARROLLO LOCAL EN LA EJECUCIÓN DE LAS ACTIVIDADES OPERATIVAS Y ADMINISTRATIVAS RELACIONADAS CON EL TRAMITE PERTINENTE A LAS COMUNICACIONES INTERNAS Y EXTERNAS,CON EL FIN DE CONTROLAR DE FORMA ÁGIL Y OPORTUNA LOS DOCUMENTOS ENVIADOS Y RECIBIDOS POR LAS DEPENDENCIAS, DE ACUERDO CON LOS APLICATIVOS EN GENERAL Y LO ESTABLECIDO POR LA SECRETARIA DISTRITAL DE GOBIERNO. ","Inversión","Un nuevo contrato social y ambiental para la Bogotá del Siglo XXI",57,{"$f":"IF(ISERROR(VLOOKUP(K313,#REF!,2,FALSE)),\" \",VLOOKUP(K313,#REF!,2,FALSE))","v":" "},{"$f":"IF(ISERROR(VLOOKUP(K313,#REF!,3,FALSE)),\" \",VLOOKUP(K313,#REF!,3,FALSE))","v":" "},1873,0,52898790,"SANDRA PATRICIA MORALES ARIAS","Persona Natural",null,"N/A","N/A",null,29664000,0,0,0,{"$f":"+W313+X313+Z313","v":29664000},29664000,"2022-01-28","2022-02-02","2022-10-01",240,0,0,null,null,null,null,"Terminado",{"$f":"IF(ISERROR(AB313/AA313),\"-\",(AB313/AA313))","v":1}]
["FDLSC-CPS-064-2022",2022,"FDLSC-CD-031-2022","https://community.secop.gov.co/Public/Tendering/OpportunityDetail/Index?noticeUID=CO1.NTC.2605191&isFromPublicArea=True&isModal=true&asPopupView=true","Contratos de prestación de servicios profesionales y de apoyo a la gestión","Contratación directa","Prestación de servicios profesionales y de apoyo a la gestión, o para la ejecución de trabajos artísticos que sólo puedan encomendarse a determinadas personas naturales","PRESTAR SERVICIOS DE APOYO TÉCNICO EN EL ÁREA DE GESTIÓN POLICIVA CON LOS DIFERENTES PROCESOS Y ACTUACIONES ADMINISTRATIVAS EXISTENTES, INCLUIDA LA IMPLEMENTACIÓN DE TRAMITES DE VERIFICACIÓN, SOPORTE Y ACOMPAÑAMIENTO.","Inversión","Un nuevo contrato social y ambiental para la Bogotá del Siglo XXI",57,{"$f":"IF(ISERROR(VLOOKUP(K314,#REF!,2,FALSE)),\" \",VLOOKUP(K314,#REF!,2,FALSE))","v":" "},{"$f":"IF(ISERROR(VLOOKUP(K314,#REF!,3,FALSE)),\" \",VLOOKUP(K314,#REF!,3,FALSE))","v":" "},1873,0,1023875840,"DERLY NATALI GOMEZ AVILA","Persona Natural",null,"N/A","N/A",null,29600000,0,0,0,{"$f":"+W314+X314+Z314","v":29600000},26639999,"2022-01-20","2022-01-24","2022-09-23",240,0,0,1013650314,"LAURA ISABEL ACOSTA PARRA","2022-05-10",16526667,"Terminado",{"$f":"IF(ISERROR(AB314/AA314),\"-\",(AB314/AA314))","v":0.89999996621621625}]
["FDLSC-CPS-251-2022",2022,"FDLSC-CD-133-2022","https://community.secop.gov.co/Public/Tendering/OpportunityDetail/Index?noticeUID=CO1.NTC.2742751&isFromPublicArea=True&isModal=true&asPopupView=true","Contratos de prestación de servicios profesionales y de apoyo a la gestión","Contratación directa","Prestación de servicios profesionales y de apoyo a la gestión, o para la ejecución de trabajos artísticos que sólo puedan encomendarse a determinadas personas naturales","PRESTAR SUS SERVICIOS TÉCNICOS PARA APOYAR LA PRESENTACIÓN Y SEGUIMIENTODE LOS PROYECTOS DE GESTIÓN DEPORTIVA, ACTIVIDAD FÍSICA Y  RECREATIVA Y  APOYO EN TODOS LOS PROCESOS DEPORTIVOS DESARROLLADOS EN LA LOCALIDAD EN EL MARCO DEL PLAN DE DESARROLLO 2021-2024","Inversión","Un nuevo contrato social y ambiental para la Bogotá del Siglo XXI",20,{"$f":"IF(ISERROR(VLOOKUP(K315,#REF!,2,FALSE)),\" \",VLOOKUP(K315,#REF!,2,FALSE))","v":" "},{"$f":"IF(ISERROR(VLOOKUP(K315,#REF!,3,FALSE)),\" \",VLOOKUP(K315,#REF!,3,FALSE))","v":" "},1801,0,1023942037,"JHOAN SEBASTIAN SOLER ORTIZ ","Persona Natural",null,"N/A","N/A",null,33024000,-3440000,0,0,{"$f":"+W315+X315+Z315","v":29584000},29584000,"2022-01-27","2022-02-02","2022-09-06",240,0,0,null,null,null,null,"Liquidado",{"$f":"IF(ISERROR(AB315/AA315),\"-\",(AB315/AA315))","v":1}]
["FDLSC-CPS-175-2022",2022,"FDLSC-CD-074-2022","https://community.secop.gov.co/Public/Tendering/OpportunityDetail/Index?noticeUID=CO1.NTC.2682338&isFromPublicArea=True&isModal=true&asPopupView=true","Contratos de prestación de servicios profesionales y de apoyo a la gestión","Contratación directa","Prestación de servicios profesionales y de apoyo a la gestión, o para la ejecución de trabajos artísticos que sólo puedan encomendarse a determinadas personas naturales","APOYAR ADMINISTRATIVA Y ASISTENCIALMENTE A LAS INSPECCIONES DE POLICÍA DE LA LOCALIDAD.","Inversión","Un nuevo contrato social y ambiental para la Bogotá del Siglo XXI",57,{"$f":"IF(ISERROR(VLOOKUP(K316,#REF!,2,FALSE)),\" \",VLOOKUP(K316,#REF!,2,FALSE))","v":" "},{"$f":"IF(ISERROR(VLOOKUP(K316,#REF!,3,FALSE)),\" \",VLOOKUP(K316,#REF!,3,FALSE))","v":" "},1873,0,53079823,"YULY CONSTANZA CARDENAS MENDEZ","Persona Natural",null,"N/A","N/A",null,19776000,0,2,9805600,{"$f":"+W316+X316+Z316","v":29581600},24555200,"2022-01-25","2022-02-03","2023-02-01",240,2,119,null,null,null,null,"En ejecución",{"$f":"IF(ISERROR(AB316/AA316),\"-\",(AB316/AA316))","v":0.83008356545961004}]
["FDLSC-CPS-199-2022",2022,"FDLSC-CD-047-2022","https://community.secop.gov.co/Public/Tendering/OpportunityDetail/Index?noticeUID=CO1.NTC.2655616&isFromPublicArea=True&isModal=true&asPopupView=true","Contratos de prestación de servicios profesionales y de apoyo a la gestión","Contratación directa","Prestación de servicios profesionales y de apoyo a la gestión, o para la ejecución de trabajos artísticos que sólo puedan encomendarse a determinadas personas naturales","PRESTACIÓN DE SERVICIOS DE APOYO A LA GESTIÓN, PARA EL LEVANTAMIENTO DE INFORMACIÓN, ACOMPAÑAMIENTO Y ORIENTACIÓN, DERIVADOS DE LA ATENCIÓN A LA MUJER Y A LA COMUNIDAD EN EL MARCO DEL PROYECTO DE INVERSIÓN Y EL PLAN DE DESARROLLO LOCAL 2021-2024.","Inversión","Un nuevo contrato social y ambiental para la Bogotá del Siglo XXI",40,{"$f":"IF(ISERROR(VLOOKUP(K317,#REF!,2,FALSE)),\" \",VLOOKUP(K317,#REF!,2,FALSE))","v":" "},{"$f":"IF(ISERROR(VLOOKUP(K317,#REF!,3,FALSE)),\" \",VLOOKUP(K317,#REF!,3,FALSE))","v":" "},1870,0,51788338,"NOHEMI OCHOA LOPEZ","Persona Natural",null,"N/A","N/A",null,21600000,0,1,7920000,{"$f":"+W317+X317+Z317","v":29520000},26820000,"2022-01-27","2022-02-03","2022-12-30",240,1,88,null,null,null,null,"Terminado",{"$f":"IF(ISERROR(AB317/AA317),\"-\",(AB317/AA317))","v":0.90853658536585369}]
["FDLSC-CPS-176-2022",2022,"FDLSC-CD-074-2022","https://community.secop.gov.co/Public/Tendering/OpportunityDetail/Index?noticeUID=CO1.NTC.2682338&isFromPublicArea=True&isModal=true&asPopupView=true","Contratos de prestación de servicios profesionales y de apoyo a la gestión","Contratación directa","Prestación de servicios profesionales y de apoyo a la gestión, o para la ejecución de trabajos artísticos que sólo puedan encomendarse a determinadas personas naturales","APOYAR ADMINISTRATIVA Y ASISTENCIALMENTE A LAS INSPECCIONES DE POLICÍA DE LA LOCALIDAD.","Inversión","Un nuevo contrato social y ambiental para la Bogotá del Siglo XXI",57,{"$f":"IF(ISERROR(VLOOKUP(K318,#REF!,2,FALSE)),\" \",VLOOKUP(K318,#REF!,2,FALSE))","v":" "},{"$f":"IF(ISERROR(VLOOKUP(K318,#REF!,3,FALSE)),\" \",VLOOKUP(K318,#REF!,3,FALSE))","v":" "},1873,0,51903772,"MARIA ASTRID GONZALEZ PARRA","Persona Natural",null,"N/A","N/A",null,19776000,0,2,9723200,{"$f":"+W318+X318+Z318","v":29499200},24555200,"2022-01-25","2022-02-03","2023-01-30",240,2,118,null,null,null,null,"En ejecución",{"$f":"IF(ISERROR(AB318/AA318),\"-\",(AB318/AA318))","v":0.83240223463687146}]
["FDLSC-CPS-177-2022",2022,"FDLSC-CD-074-2022","https://community.secop.gov.co/Public/Tendering/OpportunityDetail/Index?noticeUID=CO1.NTC.2682338&isFromPublicArea=True&isModal=true&asPopupView=true","Contratos de prestación de servicios profesionales y de apoyo a la gestión","Contratación directa","Prestación de servicios profesionales y de apoyo a la gestión, o para la ejecución de trabajos artísticos que sólo puedan encomendarse a determinadas personas naturales","APOYAR ADMINISTRATIVA Y ASISTENCIALMENTE A LAS INSPECCIONES DE POLICÍA DE LA LOCALIDAD.","Inversión","Un nuevo contrato social y ambiental para la Bogotá del Siglo XXI",57,{"$f":"IF(ISERROR(VLOOKUP(K319,#REF!,2,FALSE)),\" \",VLOOKUP(K319,#REF!,2,FALSE))","v":" "},{"$f":"IF(ISERROR(VLOOKUP(K319,#REF!,3,FALSE)),\" \",VLOOKUP(K319,#REF!,3,FALSE))","v":" "},1873,0,80228009,"CARLOS YESID MORENO CALDERON","Persona Natural",null,"N/A","N/A",null,19776000,0,2,9723200,{"$f":"+W319+X319+Z319","v":29499200},24555200,"2022-01-25","2022-02-03","2023-01-30",240,2,118,null,null,null,null,"En ejecución",{"$f":"IF(ISERROR(AB319/AA319),\"-\",(AB319/AA319))","v":0.83240223463687146}]
["FDLSC-CPS-424-2022",2022,"FDLSC-CD-204-2022","https://community.secop.gov.co/Public/Tendering/OpportunityDetail/Index?noticeUID=CO1.NTC.3123334&isFromPublicArea=True&isModal=true&asPopupView=true","Contratos de prestación de servicios profesionales y de apoyo a la gestión","Contratación directa","Prestación de servicios profesionales y de apoyo a la gestión, o para la ejecución de trabajos artísticos que sólo puedan encomendarse a determinadas personas naturales","PRESTAR SUS SERVICIOS PROFESIONALES PARA APOYAR AL ALCALDE LOCAL EN LA ORGANIZACIÓN DE LAS ACTIVIDADES QUE SE DEBAN ARTICULAR CON IVC Y QUE REQUIERAN EL ACOMPAÑAMIENTO POLICIAL","Inversión","Un nuevo contrato social y ambiental para la Bogotá del Siglo XXI",57,{"$f":"IF(ISERROR(VLOOKUP(K320,#REF!,2,FALSE)),\" \",VLOOKUP(K320,#REF!,2,FALSE))","v":" "},{"$f":"IF(ISERROR(VLOOKUP(K320,#REF!,3,FALSE)),\" \",VLOOKUP(K320,#REF!,3,FALSE))","v":" "},1873,0,80112504,"ARIEL AGUSTIN AHUMADA SACRISTAN","Persona Natural",null,"N/A","N/A",null,20648000,0,1,8775400,{"$f":"+W320+X320+Z320","v":29423400},19099400,"2022-08-08","2022-08-10","2023-01-30",120,1,51,null,null,null,null,"En ejecución",{"$f":"IF(ISERROR(AB320/AA320),\"-\",(AB320/AA320))","v":0.64912280701754388}]
["FDLSC-CV-654-2022",2022,"FDLSC-SASI-011-2022","https://community.secop.gov.co/Public/Tendering/OpportunityDetail/Index?noticeUID=CO1.NTC.3588060&isFromPublicArea=True&isModal=true&asPopupView=true","Compraventa de bienes muebles","Selección abreviada","Subasta inversa ","LA ADQUISICIÓN DE CHAQUETAS Y OTROS ELEMENTOS AFINES PARA PROMOVER Y FORTALECER LA IMAGEN INSTITUCIONAL EN EL DESARROLLO DE DIFERENTES ACTIVIDADES EN EL MARCO DEL PLAN DE DESARROLLO 2021-2024, DE CONFORMIDAD CON LAS CONDICIONES, CANTIDADES Y ESPECIFICACIONES TECNICAS ESTABLECIDAS","Inversión","Un nuevo contrato social y ambiental para la Bogotá del Siglo XXI",45,{"$f":"IF(ISERROR(VLOOKUP(K321,#REF!,2,FALSE)),\" \",VLOOKUP(K321,#REF!,2,FALSE))","v":" "},{"$f":"IF(ISERROR(VLOOKUP(K321,#REF!,3,FALSE)),\" \",VLOOKUP(K321,#REF!,3,FALSE))","v":" "},1835,3,901061836,"CASTECK S.A.S","Persona Jurídica",null,"N/A","N/A",null,29393000,0,0,0,{"$f":"+W321+X321+Z321","v":29393000},0,"2022-12-27","2023-01-10","2023-05-09",120,0,0,null,null,null,null,"En ejecución",{"$f":"IF(ISERROR(AB321/AA321),\"-\",(AB321/AA321))","v":0}]
["FDLSC-CV-661-2022",2022,"FDLSC-MIC-011-2022","https://community.secop.gov.co/Public/Tendering/OpportunityDetail/Index?noticeUID=CO1.NTC.3650918&isFromPublicArea=True&isModal=true&asPopupView=true","Compraventa de bienes muebles","Contratación mínima cuantia","No aplica","ADQUISICIÓN DE CONTENEDOR Y ELEMENTOS PARA EL ALMACENAMIENTO TEMPORAL ADECUADO DE LOS RESIDUOS PELIGROSOS (RESPEL), CONFORME A LA IMPLEMENTACIÓN DEL PLAN INSTITUCIONAL DE GESTIÓN AMBIENTAL -PIGA- EN LA ALCALDÍA LOCAL DE SAN CRISTÓBAL”.","Inversión","Un nuevo contrato social y ambiental para la Bogotá del Siglo XXI",57,{"$f":"IF(ISERROR(VLOOKUP(K322,#REF!,2,FALSE)),\" \",VLOOKUP(K322,#REF!,2,FALSE))","v":" "},{"$f":"IF(ISERROR(VLOOKUP(K322,#REF!,3,FALSE)),\" \",VLOOKUP(K322,#REF!,3,FALSE))","v":" "},1873,2,1102720365,"MOSTHYE VICENTE MEDINA RODRIGUEZ","Persona Natural",null,"N/A","N/A",null,29155000,0,0,0,{"$f":"+W322+X322+Z322","v":29155000},0,"2022-12-28","2023-01-10","2023-03-09",60,0,0,null,null,null,null,"En ejecución",{"$f":"IF(ISERROR(AB322/AA322),\"-\",(AB322/AA322))","v":0}]
["FDLSC-CPS-049-2022",2022,"FDLSC-CD-030-2022","https://community.secop.gov.co/Public/Tendering/OpportunityDetail/Index?noticeUID=CO1.NTC.2625355&isFromPublicArea=True&isModal=true&asPopupView=true","Contratos de prestación de servicios profesionales y de apoyo a la gestión","Contratación directa","Prestación de servicios profesionales y de apoyo a la gestión, o para la ejecución de trabajos artísticos que sólo puedan encomendarse a determinadas personas naturales","PRESTAR LOS SERVICIOS TÉCNICOS EN EL ÁREA DE GESTIÓN DE DESARROLLO LOCAL EN LA EJECUCIÓN DE LAS ACTIVIDADES OPERATIVAS Y ADMINISTRATIVAS RELACIONADAS CON EL TRAMITE PERTINENTE A LAS COMUNICACIONES INTERNAS Y EXTERNAS,CON EL FIN DE CONTROLAR DE FORMA ÁGIL Y OPORTUNA LOS DOCUMENTOS ENVIADOS Y RECIBIDOS POR LAS DEPENDENCIAS, DE ACUERDO CON LOS APLICATIVOS EN GENERAL Y LO ESTABLECIDO POR LA SECRETARIA DISTRITAL DE GOBIERNO. ","Inversión","Un nuevo contrato social y ambiental para la Bogotá del Siglo XXI",57,{"$f":"IF(ISERROR(VLOOKUP(K323,#REF!,2,FALSE)),\" \",VLOOKUP(K323,#REF!,2,FALSE))","v":" "},{"$f":"IF(ISERROR(VLOOKUP(K323,#REF!,3,FALSE)),\" \",VLOOKUP(K323,#REF!,3,FALSE))","v":" "},1873,0,52729476,"LILIANA PAOLA PEREA CRISTANCHO","Persona Natural",null,"N/A","N/A",null,29664000,-618000,0,0,{"$f":"+W323+X323+Z323","v":29046000},29046000,"2022-01-21","2022-01-24","2022-09-19",240,0,0,null,null,null,null,"Terminado",{"$f":"IF(ISERROR(AB323/AA323),\"-\",(AB323/AA323))","v":1}]
["FDLSC-CPS-063-2022",2022,"FDLSC-CD-041-2022","https://community.secop.gov.co/Public/Tendering/OpportunityDetail/Index?noticeUID=CO1.NTC.2618793&isFromPublicArea=True&isModal=true&asPopupView=true","Contratos de prestación de servicios profesionales y de apoyo a la gestión","Contratación directa","Prestación de servicios profesionales y de apoyo a la gestión, o para la ejecución de trabajos artísticos que sólo puedan encomendarse a determinadas personas naturales","PRESTAR SUS SERVICIOS DE APOYO TÉCNICO EN LA GESTIÓN LOCAL Y ACOMPAÑAMIENTO EN TERRITORIO EN CADA UNA DE LAS ACCIONES ADELANTADAS POR EL DESPACHO LOCAL, EN EL MARCO DEL PLAN DE DESARROLLO LOCAL DE SAN CRISTÓBAL 2021-2024.","Inversión","Un nuevo contrato social y ambiental para la Bogotá del Siglo XXI",57,{"$f":"IF(ISERROR(VLOOKUP(K324,#REF!,2,FALSE)),\" \",VLOOKUP(K324,#REF!,2,FALSE))","v":" "},{"$f":"IF(ISERROR(VLOOKUP(K324,#REF!,3,FALSE)),\" \",VLOOKUP(K324,#REF!,3,FALSE))","v":" "},1873,0,80112504,"ARIEL AGUSTIN AHUMADA SACRISTAN","Persona Natural",null,"N/A","N/A",null,35844000,-6870100,0,0,{"$f":"+W324+X324+Z324","v":28973900},28973900,"2022-01-20","2022-01-24","2022-08-08",240,0,0,null,null,null,null,"Liquidado",{"$f":"IF(ISERROR(AB324/AA324),\"-\",(AB324/AA324))","v":1}]
[102821,2022,177016,"https://colombiacompra.gov.co/tienda-virtual-del-estado-colombiano/ordenes-compra/102821","Otros","Selección abreviada","Acuerdo marco de precios ","CONTRATAR LA ADQUISICIÓN DE EQUIPOS TECNOLÓGICOS QUE INCIDAN EN EL FORTALECIMIENTO INSTITUCIONAL Y FOMENTO DE LA PARTICIPACIÓN CIUDADANA A TRAVÉS DE LA ESTRATEGIA GOBIERNO ABIERTO - LOTE IV: PANTALLA INTERACTIVA Y VIDEOPROYECTOR (LOTE 13 ACUERDO MARCO DE PRECIOS)","Inversión","Un nuevo contrato social y ambiental para la Bogotá del Siglo XXI",57,{"$f":"IF(ISERROR(VLOOKUP(K325,#REF!,2,FALSE)),\" \",VLOOKUP(K325,#REF!,2,FALSE))","v":" "},{"$f":"IF(ISERROR(VLOOKUP(K325,#REF!,3,FALSE)),\" \",VLOOKUP(K325,#REF!,3,FALSE))","v":" "},1873,10,830073623,"KEY MARKET SAS - EN REORGANIZACION","Persona Jurídica",null,"N/A","N/A",null,28948382,0,0,0,{"$f":"+W325+X325+Z325","v":28948382},0,"2022-12-21","2022-12-21","2023-06-20",180,0,0,null,null,null,null,"En ejecución",{"$f":"IF(ISERROR(AB325/AA325),\"-\",(AB325/AA325))","v":0}]
["FDLSC-CPS-141-2022",2022,"FDLSC-CD-071-2022","https://community.secop.gov.co/Public/Tendering/OpportunityDetail/Index?noticeUID=CO1.NTC.2675277&isFromPublicArea=True&isModal=true&asPopupView=true","Contratos de prestación de servicios profesionales y de apoyo a la gestión","Contratación directa","Prestación de servicios profesionales y de apoyo a la gestión, o para la ejecución de trabajos artísticos que sólo puedan encomendarse a determinadas personas naturales","PRESTAR SUS SERVICIOS TÉCNICOS DE APOYO Y ASISTENCIA ADMINISTRATIVA AL ÁREA DE GESTIÓN DEL DESARROLLO LOCAL PARA TEMAS Y TRÁMITES DE DESPACHO, ACOMPAÑANDO EL DESARROLLO DE LOS PROCESOS REQUERIDOS EN LAS DIFERENTES ÁREAS PARA EL CUMPLIMIENTO DE LOS PROYECTOS DE INVERSIÓN.","Inversión","Un nuevo contrato social y ambiental para la Bogotá del Siglo XXI",57,{"$f":"IF(ISERROR(VLOOKUP(K326,#REF!,2,FALSE)),\" \",VLOOKUP(K326,#REF!,2,FALSE))","v":" "},{"$f":"IF(ISERROR(VLOOKUP(K326,#REF!,3,FALSE)),\" \",VLOOKUP(K326,#REF!,3,FALSE))","v":" "},1873,0,18490889,"LUIS ALBERTO VARGAS BALLÉN","Persona Natural",null,"N/A","N/A",null,28800000,0,0,0,{"$f":"+W326+X326+Z326","v":28800000},24960000,"2022-01-25","2022-01-28","2022-08-25",240,0,0,null,null,null,null,"Liquidado",{"$f":"IF(ISERROR(AB326/AA326),\"-\",(AB326/AA326))","v":0.8666666666666667}]
["FDLSC-CPS-276-2022",2022,"FDLSC-CD-145-2022","https://community.secop.gov.co/Public/Tendering/OpportunityDetail/Index?noticeUID=CO1.NTC.2743914&isFromPublicArea=True&isModal=true&asPopupView=true","Contratos de prestación de servicios profesionales y de apoyo a la gestión","Contratación directa","Prestación de servicios profesionales y de apoyo a la gestión, o para la ejecución de trabajos artísticos que sólo puedan encomendarse a determinadas personas naturales","PRESTAR SUS SERVICIOS DE APOYO TÉCNICO AL FDLSC PARA APOYAR LA FORMULACIÓN, SEGUIMIENTO, Y APOYO EN TEMAS ADMINISTRATIVOS DE LOS PROYECTOS RELACIONADOS CON LA ATENCIÓN A POBLACIÓN AFECTADA POR VIOLENCIA INTRAFAMILIAR Y/O SEXUAL EN SITUACIÓN DE VULNERABILIDAD","Inversión","Un nuevo contrato social y ambiental para la Bogotá del Siglo XXI",6,{"$f":"IF(ISERROR(VLOOKUP(K327,#REF!,2,FALSE)),\" \",VLOOKUP(K327,#REF!,2,FALSE))","v":" "},{"$f":"IF(ISERROR(VLOOKUP(K327,#REF!,3,FALSE)),\" \",VLOOKUP(K327,#REF!,3,FALSE))","v":" "},1811,0,1023897794,"CINDY ZORANYI CARDENAS GUEVARA","Persona Natural",null,"N/A","N/A",null,28800000,0,0,0,{"$f":"+W327+X327+Z327","v":28800000},28800000,"2022-01-28","2022-02-05","2022-10-04",240,0,0,null,null,null,null,"Terminado",{"$f":"IF(ISERROR(AB327/AA327),\"-\",(AB327/AA327))","v":1}]
["FDLSC-CPS-163-2022",2022,"FDLSC-CD-079-2022","https://community.secop.gov.co/Public/Tendering/OpportunityDetail/Index?noticeUID=CO1.NTC.2678743&isFromPublicArea=True&isModal=true&asPopupView=true","Contratos de prestación de servicios profesionales y de apoyo a la gestión","Contratación directa","Prestación de servicios profesionales y de apoyo a la gestión, o para la ejecución de trabajos artísticos que sólo puedan encomendarse a determinadas personas naturales","PRESTAR SUS SERVICIOS PROFESIONALES EN LA DEPURACION DE OBLIGACIONES POR PAGAR, TRAMITE DE PAGOS Y LIQUIDACIÓN DE CONTRATOS, DE CONFORMIDAD CON LAS CONDICIONES Y OBLIGACIONES ESTABLECIDAS POR EL FONDO DE DESARROLLO LOCAL.","Inversión","Un nuevo contrato social y ambiental para la Bogotá del Siglo XXI",57,{"$f":"IF(ISERROR(VLOOKUP(K328,#REF!,2,FALSE)),\" \",VLOOKUP(K328,#REF!,2,FALSE))","v":" "},{"$f":"IF(ISERROR(VLOOKUP(K328,#REF!,3,FALSE)),\" \",VLOOKUP(K328,#REF!,3,FALSE))","v":" "},1873,0,79054685,"JUAN CARLOS GARCIA GAITAN ","Persona Natural",null,"N/A","N/A",null,37200000,-8473334,0,0,{"$f":"+W328+X328+Z328","v":28726666},28726666,"2022-01-25","2022-02-02","2022-08-01",180,0,0,1077083214,"DARWIN JOHAN CRISTANCHO MICAN","2022-04-12",31206667,"Terminado",{"$f":"IF(ISERROR(AB328/AA328),\"-\",(AB328/AA328))","v":1}]
["FDLSC-CPS-107-2022",2022,"FDLSC-CD-062-2022","https://community.secop.gov.co/Public/Tendering/OpportunityDetail/Index?noticeUID=CO1.NTC.2759216&isFromPublicArea=True&isModal=true&asPopupView=true","Contratos de prestación de servicios profesionales y de apoyo a la gestión","Contratación directa","Prestación de servicios profesionales y de apoyo a la gestión, o para la ejecución de trabajos artísticos que sólo puedan encomendarse a determinadas personas naturales","PRESTAR LOS SERVICIOS DE APOYO A LA GESTIÓN DE LA ALCALDÍA LOCAL DE SAN CRISTÓBAL EN EL DESARROLLO DE ACTIVIDADES DE REACTIVACIÓN ECONÓMICA, ACOMPAÑAMIENTO EN CAMPO Y PARTICIPACIÓN EN LOS PROCESOS NECESARIOS PARA LA CORRECTA EJECUCIÓN DE LOS EVENTOS RELACIONADOS Y DE LAS NECESIDADES DE LA ALCALDIA LOCAL. ","Inversión","Un nuevo contrato social y ambiental para la Bogotá del Siglo XXI",6,{"$f":"IF(ISERROR(VLOOKUP(K329,#REF!,2,FALSE)),\" \",VLOOKUP(K329,#REF!,2,FALSE))","v":" "},{"$f":"IF(ISERROR(VLOOKUP(K329,#REF!,3,FALSE)),\" \",VLOOKUP(K329,#REF!,3,FALSE))","v":" "},1865,0,35375831,"MARICELY HERLEY RESTREPO TORRES","Persona Natural",null,"N/A","N/A",null,20800000,0,1,7540000,{"$f":"+W329+X329+Z329","v":28340000},25740000,"2022-01-28","2022-02-04","2022-12-30",240,1,87,null,null,null,null,"Terminado",{"$f":"IF(ISERROR(AB329/AA329),\"-\",(AB329/AA329))","v":0.90825688073394495}]
["FDLSC-CPS-443-2022",2022,"FDLSC-CD-220-2022","https://community.secop.gov.co/Public/Tendering/OpportunityDetail/Index?noticeUID=CO1.NTC.3134832&isFromPublicArea=True&isModal=true&asPopupView=true","Contratos de prestación de servicios profesionales y de apoyo a la gestión","Contratación directa","Prestación de servicios profesionales y de apoyo a la gestión, o para la ejecución de trabajos artísticos que sólo puedan encomendarse a determinadas personas naturales","LOS SERVICIOS PROFESIONALES ESPECIALIZADOS A LA ALCALDÍA LOCAL DE SAN CRISTÓBAL, PARA EL DESARROLLO DEL PROYECTO DE FORTALECIMIENTO DEL PATRIMONIO Y APROPIACIÓN DE LA CULTURA PATRIMONIAL EN LA LOCALIDAD QUE SE ENMARQUEN EN EL ARTICULO 21 DEL PLAN DE DESARROLLO LOCAL: PROGRAMA CREACIÓN Y VIDA COTIDIANA: APROPIACIÓN CIUDADANA DEL ARTE, LA CULTURA Y EL PATRIMONIO, PARA LA DEMOCRACIA CULTURAL","Inversión","Un nuevo contrato social y ambiental para la Bogotá del Siglo XXI",21,{"$f":"IF(ISERROR(VLOOKUP(K330,#REF!,2,FALSE)),\" \",VLOOKUP(K330,#REF!,2,FALSE))","v":" "},{"$f":"IF(ISERROR(VLOOKUP(K330,#REF!,3,FALSE)),\" \",VLOOKUP(K330,#REF!,3,FALSE))","v":" "},1803,0,79369271,"RUBEN  HERNANDEZ MOLINA","Persona Natural",null,"N/A","N/A",null,28212000,0,0,0,{"$f":"+W330+X330+Z330","v":28212000},22569600,"2022-08-11","2022-08-25","2022-12-24",120,0,0,null,null,null,null,"Terminado",{"$f":"IF(ISERROR(AB330/AA330),\"-\",(AB330/AA330))","v":0.8}]
["FDLSC-CPS-235-2022",2022,"FDLSC-CD-121-2022","https://community.secop.gov.co/Public/Tendering/OpportunityDetail/Index?noticeUID=CO1.NTC.2736873&isFromPublicArea=True&isModal=true&asPopupView=true","Contratos de prestación de servicios profesionales y de apoyo a la gestión","Contratación directa","Prestación de servicios profesionales y de apoyo a la gestión, o para la ejecución de trabajos artísticos que sólo puedan encomendarse a determinadas personas naturales","PRESTAR LOS SERVICIOS ASISTENCIALES PARA APOYAR LA JUNTA ADMINISTRADORA LOCAL DE SAN CRISTOBAL EN TAREAS ASISTENCIALES Y DE TRANSCRIPCION DE ACTAS DE SESIONES ORDINARIAS, EXTRAORDINARIAS Y DE COMISIONES PERMANENTES, DE ACUERDO A LA NECESIDAD DE LA CORPORACION.","Inversión","Un nuevo contrato social y ambiental para la Bogotá del Siglo XXI",57,{"$f":"IF(ISERROR(VLOOKUP(K331,#REF!,2,FALSE)),\" \",VLOOKUP(K331,#REF!,2,FALSE))","v":" "},{"$f":"IF(ISERROR(VLOOKUP(K331,#REF!,3,FALSE)),\" \",VLOOKUP(K331,#REF!,3,FALSE))","v":" "},1873,0,21016300,"ANA EDITH RICARDO DOMINGUEZ","Persona Natural",null,"N/A","N/A",null,19200000,0,2,8800000,{"$f":"+W331+X331+Z331","v":28000000},24000000,"2022-01-28","2022-02-01","2023-01-20",240,2,110,null,null,null,null,"En ejecución",{"$f":"IF(ISERROR(AB331/AA331),\"-\",(AB331/AA331))","v":0.8571428571428571}]
["FDLSC-CPS-291-2022",2022,"FDLSC-CD-121-2022","https://community.secop.gov.co/Public/Tendering/OpportunityDetail/Index?noticeUID=CO1.NTC.2752373&isFromPublicArea=True&isModal=true&asPopupView=true","Contratos de prestación de servicios profesionales y de apoyo a la gestión","Contratación directa","Prestación de servicios profesionales y de apoyo a la gestión, o para la ejecución de trabajos artísticos que sólo puedan encomendarse a determinadas personas naturales","PRESTAR LOS SERVICIOS ASISTENCIALES PARA APOYAR LA JUNTA ADMINISTRADORA LOCAL DE SAN CRISTOBAL EN TAREAS ASISTENCIALES Y DE TRANSCRIPCION DE ACTAS DE SESIONES ORDINARIAS, EXTRAORDINARIAS Y DE COMISIONES PERMANENTES, DE ACUERDO A LA NECESIDAD DE LA CORPORACION.","Inversión","Un nuevo contrato social y ambiental para la Bogotá del Siglo XXI",57,{"$f":"IF(ISERROR(VLOOKUP(K332,#REF!,2,FALSE)),\" \",VLOOKUP(K332,#REF!,2,FALSE))","v":" "},{"$f":"IF(ISERROR(VLOOKUP(K332,#REF!,3,FALSE)),\" \",VLOOKUP(K332,#REF!,3,FALSE))","v":" "},1873,0,1024562155,"JOSE MIGUEL MOLINA VEGA","Persona Natural",null,"N/A","N/A",null,19200000,0,2,8800000,{"$f":"+W332+X332+Z332","v":28000000},24000000,"2022-01-28","2022-02-01","2023-01-20",240,1,90,1001280936,"NATALIA JULIETH TORRES CAPERA","2022-07-22",14320000,"En ejecución",{"$f":"IF(ISERROR(AB332/AA332),\"-\",(AB332/AA332))","v":0.8571428571428571}]
["FDLSC-CPS-357-2022",2022,"FDLSC-CD-142-2022","https://community.secop.gov.co/Public/Tendering/OpportunityDetail/Index?noticeUID=CO1.NTC.2742940&isFromPublicArea=True&isModal=true&asPopupView=true","Contratos de prestación de servicios profesionales y de apoyo a la gestión","Contratación directa","Prestación de servicios profesionales y de apoyo a la gestión, o para la ejecución de trabajos artísticos que sólo puedan encomendarse a determinadas personas naturales","PRESTAR LOS SERVICIOS PROFESIONALES PARA LA OPERACIÓN, PRESTACIÓN, SEGUIMIENTO Y CUMPLIMIENTO DE LOS PROCEDIMIENTOS ADMINISTRATIVOS, OPERATIVOS Y  PROGRAMÁTICOS DEL SERVICIO APOYO ECONÓMICO TIPO C, QUE CONTRIBUYAN A  LA GARANTÍA DE LOS DERECHOS DE LA POBLACIÓN MAYOR EN EL MARCO DE LA POLÍTICA PÚBLICA SOCIAL PARA EL ENVEJECIMIENTO Y LA VEJEZ EN EL DISTRITO CAPITAL A CARGO DE LA ALCALDÍA LOCAL","Inversión","Un nuevo contrato social y ambiental para la Bogotá del Siglo XXI",1,{"$f":"IF(ISERROR(VLOOKUP(K333,#REF!,2,FALSE)),\" \",VLOOKUP(K333,#REF!,2,FALSE))","v":" "},{"$f":"IF(ISERROR(VLOOKUP(K333,#REF!,3,FALSE)),\" \",VLOOKUP(K333,#REF!,3,FALSE))","v":" "},1852,0,1024590623,"LUISA FERNANDA ROBLES CHABUR ","Persona Natural",null,"N/A","N/A",null,27948000,0,0,0,{"$f":"+W333+X333+Z333","v":27948000},27948000,"2022-01-28","2022-02-08","2022-08-07",180,0,0,null,null,null,null,"Terminado",{"$f":"IF(ISERROR(AB333/AA333),\"-\",(AB333/AA333))","v":1}]
["FDLSC-CPS-184-2022",2022,"FDLSC-CD-086-2022","https://community.secop.gov.co/Public/Tendering/OpportunityDetail/Index?noticeUID=CO1.NTC.2712781&isFromPublicArea=True&isModal=true&asPopupView=true","Contratos de prestación de servicios profesionales y de apoyo a la gestión","Contratación directa","Prestación de servicios profesionales y de apoyo a la gestión, o para la ejecución de trabajos artísticos que sólo puedan encomendarse a determinadas personas naturales","PRESTAR SUS SERVICIOS PROFESIONALES PARA APOYAR LOS PROCESOS DE ATENCION A POBLACIÓN MUJERES EN EL MARCO DE LOS PROYECTOS DE INVERSIÓN 1870 Y 1811 DE LA ALSC EN EL PDL 2021-2024.","Inversión","Un nuevo contrato social y ambiental para la Bogotá del Siglo XXI",57,{"$f":"IF(ISERROR(VLOOKUP(K334,#REF!,2,FALSE)),\" \",VLOOKUP(K334,#REF!,2,FALSE))","v":" "},{"$f":"IF(ISERROR(VLOOKUP(K334,#REF!,3,FALSE)),\" \",VLOOKUP(K334,#REF!,3,FALSE))","v":" "},1873,0,1032377458,"DIANA CAROLINA HERNANDEZ ARIAS","Persona Natural",null,"N/A","N/A",null,27810000,0,0,0,{"$f":"+W334+X334+Z334","v":27810000},27810000,"2022-01-27","2022-02-03","2022-08-02",180,0,0,null,null,null,null,"Terminado",{"$f":"IF(ISERROR(AB334/AA334),\"-\",(AB334/AA334))","v":1}]
["FDLSC-CPS-194-2022",2022,"FDLSC-CD-086-2022","https://community.secop.gov.co/Public/Tendering/OpportunityDetail/Index?noticeUID=CO1.NTC.2712781&isFromPublicArea=True&isModal=true&asPopupView=true","Contratos de prestación de servicios profesionales y de apoyo a la gestión","Contratación directa","Prestación de servicios profesionales y de apoyo a la gestión, o para la ejecución de trabajos artísticos que sólo puedan encomendarse a determinadas personas naturales","PRESTAR SUS SERVICIOS PROFESIONALES PARA APOYAR LOS PROCESOS DE ATENCION A POBLACIÓN MUJERES EN EL MARCO DE LOS PROYECTOS DE INVERSIÓN 1870 Y 1811 DE LA ALSC EN EL PDL 2021-2024.","Inversión","Un nuevo contrato social y ambiental para la Bogotá del Siglo XXI",57,{"$f":"IF(ISERROR(VLOOKUP(K335,#REF!,2,FALSE)),\" \",VLOOKUP(K335,#REF!,2,FALSE))","v":" "},{"$f":"IF(ISERROR(VLOOKUP(K335,#REF!,3,FALSE)),\" \",VLOOKUP(K335,#REF!,3,FALSE))","v":" "},1873,0,1023889457,"GINA CAROLAY CORREALES JIMENEZ","Persona Natural",null,"N/A","N/A",null,27810000,0,0,0,{"$f":"+W335+X335+Z335","v":27810000},27810000,"2022-01-28","2022-02-03","2022-08-02",180,0,0,null,null,null,null,"Terminado",{"$f":"IF(ISERROR(AB335/AA335),\"-\",(AB335/AA335))","v":1}]
["FDLSC-CPS-426-2022",2022,"FDLSC-CD-206-2022","https://community.secop.gov.co/Public/Tendering/OpportunityDetail/Index?noticeUID=CO1.NTC.3126242&isFromPublicArea=True&isModal=true&asPopupView=true","Contratos de prestación de servicios profesionales y de apoyo a la gestión","Contratación directa","Prestación de servicios profesionales y de apoyo a la gestión, o para la ejecución de trabajos artísticos que sólo puedan encomendarse a determinadas personas naturales","EL CONTRATO QUE SE PRETENDE CELEBRAR, TENDRÁ POR OBJETO PRESTAR SUS SERVICIOS PROFESIONALESPARA APOYAR  LA  ADMINISTRACION  DE  LOS  ACTIVOS  FIJOS  QUE  SE ENCUENTRAN  ALSERVICIO  DEL  FONDO  LOCAL  DE  SAN  CRISTOBAL. ","Inversión","Un nuevo contrato social y ambiental para la Bogotá del Siglo XXI",57,{"$f":"IF(ISERROR(VLOOKUP(K336,#REF!,2,FALSE)),\" \",VLOOKUP(K336,#REF!,2,FALSE))","v":" "},{"$f":"IF(ISERROR(VLOOKUP(K336,#REF!,3,FALSE)),\" \",VLOOKUP(K336,#REF!,3,FALSE))","v":" "},1873,0,1026587134,"LINA MARCELA CASADIEGO MERCHAN","Persona Natural",null,"N/A","N/A",null,23000000,0,1,4600000,{"$f":"+W336+X336+Z336","v":27600000},17020000,"2022-08-08","2022-08-10","2023-02-09",150,0,0,null,null,null,null,"En ejecución",{"$f":"IF(ISERROR(AB336/AA336),\"-\",(AB336/AA336))","v":0.6166666666666667}]
["FDLSC-CPS-282-2022",2022,"FDLSC-CD-148-2022","https://community.secop.gov.co/Public/Tendering/OpportunityDetail/Index?noticeUID=CO1.NTC.2686112&isFromPublicArea=True&isModal=true&asPopupView=true","Contratos de prestación de servicios profesionales y de apoyo a la gestión","Contratación directa","Prestación de servicios profesionales y de apoyo a la gestión, o para la ejecución de trabajos artísticos que sólo puedan encomendarse a determinadas personas naturales","PRESTAR SUS SERVICIOS PROFESIONALES PARA APOYAR LA ADMINISTRACION DE LOS ACTIVOS FIJOS QUE SE ENCUENTRAN AL SERVICIO DEL FONDO LOCAL DE SAN CRISTOBAL.","Inversión","Un nuevo contrato social y ambiental para la Bogotá del Siglo XXI",57,{"$f":"IF(ISERROR(VLOOKUP(K337,#REF!,2,FALSE)),\" \",VLOOKUP(K337,#REF!,2,FALSE))","v":" "},{"$f":"IF(ISERROR(VLOOKUP(K337,#REF!,3,FALSE)),\" \",VLOOKUP(K337,#REF!,3,FALSE))","v":" "},1873,0,1026587134,"LINA MARCELA CASADIEGO MERCHAN","Persona Natural",null,"N/A","N/A",null,27600000,0,0,0,{"$f":"+W337+X337+Z337","v":27600000},27600000,"2022-01-27","2022-02-01","2022-07-31",180,0,0,null,null,null,null,"Terminado",{"$f":"IF(ISERROR(AB337/AA337),\"-\",(AB337/AA337))","v":1}]
["FDLSC-CPS-501-2022",2022,"FDLSC-CD-254-2022","https://community.secop.gov.co/Public/Tendering/OpportunityDetail/Index?noticeUID=CO1.NTC.3260076&isFromPublicArea=True&isModal=true&asPopupView=true","Contratos de prestación de servicios profesionales y de apoyo a la gestión","Contratación directa","Prestación de servicios profesionales y de apoyo a la gestión, o para la ejecución de trabajos artísticos que sólo puedan encomendarse a determinadas personas naturales","APOYAR TÉCNICAMENTE LAS DISTINTAS ETAPAS DE LOS PROCESOS DE COMPETENCIA DE LA ALCALDÍA LOCAL PARA LA DEPURACIÓN DE ACTUACIONES ADMINISTRATIVAS.","Inversión","Un nuevo contrato social y ambiental para la Bogotá del Siglo XXI",57,{"$f":"IF(ISERROR(VLOOKUP(K338,#REF!,2,FALSE)),\" \",VLOOKUP(K338,#REF!,2,FALSE))","v":" "},{"$f":"IF(ISERROR(VLOOKUP(K338,#REF!,3,FALSE)),\" \",VLOOKUP(K338,#REF!,3,FALSE))","v":" "},1873,0,79611743,"GIOVANNI TORRES NEIRA","Persona Natural",null,"N/A","N/A",null,22000000,0,1,5500000,{"$f":"+W338+X338+Z338","v":27500000},14300000,"2022-09-09","2022-09-13","2023-02-12",120,1,30,null,null,null,null,"En ejecución",{"$f":"IF(ISERROR(AB338/AA338),\"-\",(AB338/AA338))","v":0.52}]
["FDLSC-CPS-490-2022",2022,"FDLSC-CD-245-2022","https://community.secop.gov.co/Public/Tendering/OpportunityDetail/Index?noticeUID=CO1.NTC.3183166&isFromPublicArea=True&isModal=true&asPopupView=true","Contratos de prestación de servicios profesionales y de apoyo a la gestión","Contratación directa","Prestación de servicios profesionales y de apoyo a la gestión, o para la ejecución de trabajos artísticos que sólo puedan encomendarse a determinadas personas naturales","PRESTAR SUS SERVICIOS PROFESIONALES EN EL ÁREA DE GESTIÓN DE DESARROLLO LOCAL PARA LA FORMULACIÓN, EVALUACIÓN, PRESENTACIÓN Y SEGUIMIENTO A PROYECTOS DE INVERSIÓN EN SALUD.","Inversión","Un nuevo contrato social y ambiental para la Bogotá del Siglo XXI",6,{"$f":"IF(ISERROR(VLOOKUP(K339,#REF!,2,FALSE)),\" \",VLOOKUP(K339,#REF!,2,FALSE))","v":" "},{"$f":"IF(ISERROR(VLOOKUP(K339,#REF!,3,FALSE)),\" \",VLOOKUP(K339,#REF!,3,FALSE))","v":" "},1843,0,1094891193,"LINA MARCELA PINEDA FLOREZ","Persona Natural",null,"N/A","N/A",null,22000000,0,1,5500000,{"$f":"+W339+X339+Z339","v":27500000},17416666,"2022-08-25","2022-08-26","2023-01-25",120,1,30,null,null,null,null,"En ejecución",{"$f":"IF(ISERROR(AB339/AA339),\"-\",(AB339/AA339))","v":0.63333330909090912}]
["FDLSC-CPS-474-2022",2022,"FDLSC-CD-236-2022","https://community.secop.gov.co/Public/Tendering/OpportunityDetail/Index?noticeUID=CO1.NTC.3160718&isFromPublicArea=True&isModal=true&asPopupView=true","Contratos de prestación de servicios profesionales y de apoyo a la gestión","Contratación directa","Prestación de servicios profesionales y de apoyo a la gestión, o para la ejecución de trabajos artísticos que sólo puedan encomendarse a determinadas personas naturales","PRESTAR SUS SERVICIOS PROFESIONALES PARA APOYAR LOS TEMAS RELACIONADOS AL SISTEMA INTEGRADO DE GESTIÓN DE CALIDAD (SIG) DE ACUERDO A LAS SOLCITUDES DE LA ADMINISTRACIÓN LOCAL","Inversión","Un nuevo contrato social y ambiental para la Bogotá del Siglo XXI",57,{"$f":"IF(ISERROR(VLOOKUP(K340,#REF!,2,FALSE)),\" \",VLOOKUP(K340,#REF!,2,FALSE))","v":" "},{"$f":"IF(ISERROR(VLOOKUP(K340,#REF!,3,FALSE)),\" \",VLOOKUP(K340,#REF!,3,FALSE))","v":" "},1873,0,1077083214,"DARWIN JOHAN CRISTANCHO MICAN","Persona Natural",null,"N/A","N/A",null,22000000,0,1,5500000,{"$f":"+W340+X340+Z340","v":27500000},17966667,"2022-08-17","2022-08-23","2023-01-22",120,1,30,null,null,null,null,"En ejecución",{"$f":"IF(ISERROR(AB340/AA340),\"-\",(AB340/AA340))","v":0.65333334545454547}]
["FDLSC-CPS-437-2022",2022,"FDLSC-CD-214-2022","https://community.secop.gov.co/Public/Tendering/OpportunityDetail/Index?noticeUID=CO1.NTC.3132314&isFromPublicArea=True&isModal=true&asPopupView=true","Contratos de prestación de servicios profesionales y de apoyo a la gestión","Contratación directa","Prestación de servicios profesionales y de apoyo a la gestión, o para la ejecución de trabajos artísticos que sólo puedan encomendarse a determinadas personas naturales","APOYAR LA IMPLEMENTACIÓN DEL PROYECTO DE INVERSIÓN VINCULADO AL PROGRAMA JÓVENES A LA U, EN EL MARCO DEL PLAN DE DESARROLLO LOCAL: UN NUEVO CONTRATO SOCIAL Y AMBIENTAL PARA SAN CRISTÓBAL, 2021 -2024./","Inversión","Un nuevo contrato social y ambiental para la Bogotá del Siglo XXI",17,{"$f":"IF(ISERROR(VLOOKUP(K341,#REF!,2,FALSE)),\" \",VLOOKUP(K341,#REF!,2,FALSE))","v":" "},{"$f":"IF(ISERROR(VLOOKUP(K341,#REF!,3,FALSE)),\" \",VLOOKUP(K341,#REF!,3,FALSE))","v":" "},1792,0,1099204694,"JULIAN DARIO GONZALEZ PARDO","Persona Natural",null,"N/A","N/A",null,20000000,0,1,7500000,{"$f":"+W341+X341+Z341","v":27500000},18166667,"2022-08-10","2022-08-12","2023-01-26",120,1,45,null,null,null,null,"En ejecución",{"$f":"IF(ISERROR(AB341/AA341),\"-\",(AB341/AA341))","v":0.66060607272727268}]
["FDLSC-CPS-048-2022",2022,"FDLSC-CD-029-2022","https://community.secop.gov.co/Public/Tendering/OpportunityDetail/Index?noticeUID=CO1.NTC.2604610&isFromPublicArea=True&isModal=true&asPopupView=true","Contratos de prestación de servicios profesionales y de apoyo a la gestión","Contratación directa","Prestación de servicios profesionales y de apoyo a la gestión, o para la ejecución de trabajos artísticos que sólo puedan encomendarse a determinadas personas naturales","PRESTAR SUS SERVICIOS TÉCNICOS EN EL ÁREA DE GESTIÓN POLICIVA PARA APOYAR EN LOS DISTINTOS PROCESOS A CARGO INCLUYENDO EL TRÁMITE ADMINISTRATIVO Y LA REALIZACIÓN DE LOS DESPACHOS COMISORIOS.","Inversión","Un nuevo contrato social y ambiental para la Bogotá del Siglo XXI",57,{"$f":"IF(ISERROR(VLOOKUP(K342,#REF!,2,FALSE)),\" \",VLOOKUP(K342,#REF!,2,FALSE))","v":" "},{"$f":"IF(ISERROR(VLOOKUP(K342,#REF!,3,FALSE)),\" \",VLOOKUP(K342,#REF!,3,FALSE))","v":" "},1873,0,1023885354,"JENNY PAOLA MARTINEZ CELY","Persona Natural",null,"N/A","N/A",null,39853000,-12438967,0,0,{"$f":"+W342+X342+Z342","v":27414033},27414033,"2022-01-19","2022-01-21","2022-09-07",330,0,0,null,null,null,null,"Terminado",{"$f":"IF(ISERROR(AB342/AA342),\"-\",(AB342/AA342))","v":1}]
["FDLSC-CPS-419-2022",2022,"FDLSC-CD-202-2022","https://community.secop.gov.co/Public/Tendering/OpportunityDetail/Index?noticeUID=CO1.NTC.3113678&isFromPublicArea=True&isModal=true&asPopupView=true","Contratos de prestación de servicios profesionales y de apoyo a la gestión","Contratación directa","Prestación de servicios profesionales y de apoyo a la gestión, o para la ejecución de trabajos artísticos que sólo puedan encomendarse a determinadas personas naturales","PRESTAR SUS SERVICIOS PROFESIONALES AL FDLSC PARA REALIZAR LA FORMULACIÓN, PRESENTACIÓN, EVALUACIÓN, SEGUIMIENTO Y APOYAR LA SUPERVISIÓN DE LOS PROCESOS CONTRACTUALES DERIVADOS DE TEMAS DE RECREACIÓN, CULTURA Y DEPORTE, Y LOS DEMÁS QUE LE SEAN ASIGNADOS PARA LAPLANEACIÓN.","Inversión","Un nuevo contrato social y ambiental para la Bogotá del Siglo XXI",57,{"$f":"IF(ISERROR(VLOOKUP(K343,#REF!,2,FALSE)),\" \",VLOOKUP(K343,#REF!,2,FALSE))","v":" "},{"$f":"IF(ISERROR(VLOOKUP(K343,#REF!,3,FALSE)),\" \",VLOOKUP(K343,#REF!,3,FALSE))","v":" "},1873,0,52820634,"CAROL DEMELZA LOZANO MORA","Persona Natural",null,"N/A","N/A",null,20517600,0,1,6839200,{"$f":"+W343+X343+Z343","v":27356800},19149760,"2022-08-05","2022-08-09","2023-01-18",120,1,40,null,null,null,null,"En ejecución",{"$f":"IF(ISERROR(AB343/AA343),\"-\",(AB343/AA343))","v":0.7}]
["FDLSC-CPS-314-2022",2022,"FDLSC-CD-034-2022","https://community.secop.gov.co/Public/Tendering/OpportunityDetail/Index?noticeUID=CO1.NTC.2589705&isFromPublicArea=True&isModal=true&asPopupView=true","Contratos de prestación de servicios profesionales y de apoyo a la gestión","Contratación directa","Prestación de servicios profesionales y de apoyo a la gestión, o para la ejecución de trabajos artísticos que sólo puedan encomendarse a determinadas personas naturales","PRESTAR SUS SERVICIOS DE APOYO ASISTENCIAL EN EL ÁREA DE GESTIÓN PARA EL DESARROLLO LOCAL, CON EL FIN DE ORIENTAR, ATENDER Y APOYAR LA ATENCIÓN DE LA CIUDADANÍA EN TODOS LOS TEMAS DE INFORMACION REQUERIDA.","Inversión","Un nuevo contrato social y ambiental para la Bogotá del Siglo XXI",57,{"$f":"IF(ISERROR(VLOOKUP(K344,#REF!,2,FALSE)),\" \",VLOOKUP(K344,#REF!,2,FALSE))","v":" "},{"$f":"IF(ISERROR(VLOOKUP(K344,#REF!,3,FALSE)),\" \",VLOOKUP(K344,#REF!,3,FALSE))","v":" "},1873,0,63437837,"YERLY PAOLA RIVERA MATEUS","Persona Natural",null,"N/A","N/A",null,27192000,0,0,0,{"$f":"+W344+X344+Z344","v":27192000},24637600,"2022-01-28","2022-02-02","2023-01-01",330,0,0,null,null,null,null,"En ejecución",{"$f":"IF(ISERROR(AB344/AA344),\"-\",(AB344/AA344))","v":0.90606060606060601}]
["FDLSC-CPS-030-2022",2022,"FDLSC-CD-018-2022","https://community.secop.gov.co/Public/Tendering/OpportunityDetail/Index?noticeUID=CO1.NTC.2604610&isFromPublicArea=True&isModal=true&asPopupView=true","Contratos de prestación de servicios profesionales y de apoyo a la gestión","Contratación directa","Prestación de servicios profesionales y de apoyo a la gestión, o para la ejecución de trabajos artísticos que sólo puedan encomendarse a determinadas personas naturales","PRESTAR LOS SERVICIOS PROFESIONALES PARA LA OPERACIÓN, SEGUIMIENTO Y CUMPLIMIENTO DE LOS PROCESOS Y PROCEDIMIENTOS DEL SERVICIO APOYO ECONÓMICO TIPO C, REQUERIDOS PARA EL OPORTUNO Y ADECUADO REGISTRO, CRUCE Y REPORTE DE LOS DATOS EN EL SISTEMA MISIONAL SIRBE, QUE CONTRIBUYAN A LA GARANTÍA DE LOS DERECHOS DE LA POBLACIÓN MAYOR EN EL MARCO DE LA POLÍTICA PÚBLICA SOCIAL PARA EL ENVEJECIMIENTO Y LA VEJEZ EN EL DISTRITO CAPITAL A CARGO DE LA ALCALDÍA LOCAL","Inversión","Un nuevo contrato social y ambiental para la Bogotá del Siglo XXI",1,{"$f":"IF(ISERROR(VLOOKUP(K345,#REF!,2,FALSE)),\" \",VLOOKUP(K345,#REF!,2,FALSE))","v":" "},{"$f":"IF(ISERROR(VLOOKUP(K345,#REF!,3,FALSE)),\" \",VLOOKUP(K345,#REF!,3,FALSE))","v":" "},1852,0,52282714,"DEYCY ERLENDY BELTRAN LOPEZ","Persona Natural",null,"N/A","N/A",null,27120000,0,0,0,{"$f":"+W345+X345+Z345","v":27120000},27119999,"2022-01-27","2022-02-05","2022-08-04",180,0,0,null,null,null,null,"Terminado",{"$f":"IF(ISERROR(AB345/AA345),\"-\",(AB345/AA345))","v":0.99999996312684369}]
["FDLSC-CPS-195-2022",2022,"FDLSC-CD-094-2022","https://community.secop.gov.co/Public/Tendering/OpportunityDetail/Index?noticeUID=CO1.NTC.2759414&isFromPublicArea=True&isModal=true&asPopupView=true","Contratos de prestación de servicios profesionales y de apoyo a la gestión","Contratación directa","Prestación de servicios profesionales y de apoyo a la gestión, o para la ejecución de trabajos artísticos que sólo puedan encomendarse a determinadas personas naturales","PRESTAR SUS SERVICIOS PROFESIONALES EN LO CONCERNIENTE A LA VERIFICACIÓN EN CAMPO DE LAS ACTIVIDADES DE CONTROL DE ESPECIES INVASORAS, Y A LAS ACTIVIDADES DE CAMPO DE RESTAURACIÓN Y MANTENIMIENTO, ASI COMO ELAPOYO AL PROCESO DE ESTANDARIZACIÓN DEL TRATAMIENTO Y MANEJO DE LAS ESPECIES DE RETAMO LISO Y ESPINOSO ESTABLECIDAS EN EL PROTOCOLO DEL JARDIN BOTÁNICO DE BOGOTÁ, SECRETARIA DISTRITAL DE AMBIENTE Y LA ALSC, EN EL CENTRO DE RESTAURACIÓN AMBIENTAL CERESA.","Inversión","Un nuevo contrato social y ambiental para la Bogotá del Siglo XXI",28,{"$f":"IF(ISERROR(VLOOKUP(K346,#REF!,2,FALSE)),\" \",VLOOKUP(K346,#REF!,2,FALSE))","v":" "},{"$f":"IF(ISERROR(VLOOKUP(K346,#REF!,3,FALSE)),\" \",VLOOKUP(K346,#REF!,3,FALSE))","v":" "},1819,0,79985077,"JUAN PABLO CARDONA OLAYA ","Persona Natural",null,"N/A","N/A",null,27084000,0,0,0,{"$f":"+W346+X346+Z346","v":27084000},21968133,"2022-01-28","2022-02-05","2022-08-04",180,0,0,null,null,null,null,"Terminado",{"$f":"IF(ISERROR(AB346/AA346),\"-\",(AB346/AA346))","v":0.81111109880372179}]
["FDLSC-CPS-304-2022",2022,"FDLSC-CD-156-2022","https://community.secop.gov.co/Public/Tendering/OpportunityDetail/Index?noticeUID=CO1.NTC.2807000&isFromPublicArea=True&isModal=true&asPopupView=true","Contratos de prestación de servicios profesionales y de apoyo a la gestión","Contratación directa","Prestación de servicios profesionales y de apoyo a la gestión, o para la ejecución de trabajos artísticos que sólo puedan encomendarse a determinadas personas naturales","PRESTAR SUS SERVICIOS PROFESIONALES PARA APOYAR LA GESTIÓN JURÍDICA DE LAS CASA DEL CONSUMIDOR EN EL MARCO DEL CONVENIO 1258 DE 2016","Inversión","Un nuevo contrato social y ambiental para la Bogotá del Siglo XXI",57,{"$f":"IF(ISERROR(VLOOKUP(K347,#REF!,2,FALSE)),\" \",VLOOKUP(K347,#REF!,2,FALSE))","v":" "},{"$f":"IF(ISERROR(VLOOKUP(K347,#REF!,3,FALSE)),\" \",VLOOKUP(K347,#REF!,3,FALSE))","v":" "},1873,0,1010165244,"MANUEL ARTURO RODRIGUEZ VASQUEZ","Persona Natural",null,"N/A","N/A",null,27084000,0,0,0,{"$f":"+W347+X347+Z347","v":27084000},26632599,"2022-01-28","2022-02-02","2022-08-01",180,0,0,79581317,"VICTOR MANUEL MEDRANO CACERES","2022-06-17",7071934,"Terminado",{"$f":"IF(ISERROR(AB347/AA347),\"-\",(AB347/AA347))","v":0.98333329641116529}]
["FDLSC-CPS-001-2022",2022,"FDLSC-CD-001-2022","https://community.secop.gov.co/Public/Tendering/OpportunityDetail/Index?noticeUID=CO1.NTC.2589369&isFromPublicArea=True&isModal=true&asPopupView=true","Contratos de prestación de servicios profesionales y de apoyo a la gestión","Contratación directa","Prestación de servicios profesionales y de apoyo a la gestión, o para la ejecución de trabajos artísticos que sólo puedan encomendarse a determinadas personas naturales","PRESTAR SUS SERVICIOS PROFESIONALES EN LO CONCERNIENTE A LA GESTIÓN ADMINISTRATIVA COMPLEMENTARIA Y TÉCNICA, COMO APOYO A LA GESTIÓN AMBIENTAL EXTERNA DE LA ALCALDÍA LOCAL DE SAN CRISTÓBAL DE LOS PROYECTOS AMBIENTALES DEL PLAN DE DESARROLLO UN NUEVO CONTRATO SOCIAL Y AMBIENTAL PARA SAN CRISTÓBAL.","Inversión","Un nuevo contrato social y ambiental para la Bogotá del Siglo XXI",28,{"$f":"IF(ISERROR(VLOOKUP(K348,#REF!,2,FALSE)),\" \",VLOOKUP(K348,#REF!,2,FALSE))","v":" "},{"$f":"IF(ISERROR(VLOOKUP(K348,#REF!,3,FALSE)),\" \",VLOOKUP(K348,#REF!,3,FALSE))","v":" "},1819,0,1010170661,"DIANA MARCELA RUBIO BERIGUES","Persona Natural",null,"N/A","N/A",null,27084000,0,0,0,{"$f":"+W348+X348+Z348","v":27084000},27084000,"2022-01-17","2022-01-24","2022-07-23",180,0,0,null,null,null,null,"Terminado",{"$f":"IF(ISERROR(AB348/AA348),\"-\",(AB348/AA348))","v":1}]
["FDLSC-CPS-122-2022",2022,"FDLSC-CD-091-2022","https://community.secop.gov.co/Public/Tendering/OpportunityDetail/Index?noticeUID=CO1.NTC.2758562&isFromPublicArea=True&isModal=true&asPopupView=true","Contratos de prestación de servicios profesionales y de apoyo a la gestión","Contratación directa","Prestación de servicios profesionales y de apoyo a la gestión, o para la ejecución de trabajos artísticos que sólo puedan encomendarse a determinadas personas naturales","PRESTAR SUS SERVICIOS PROFESIONALES PARA LA GESTIÓN EN EL ÁREA DE DESARROLLO LOCAL DE SAN CRISTÓBAL, EN EL APOYO DE LA FORMULACIÓN, PLANEACIÓN, PRESENTACIÓN Y SEGUIMIENTO DE LOS PROYECTOS DE INFRAESTRUCTURA, OBRAS CIVILES Y DE ESPACIO PÚBLICO QUE DESARROLLE LA ENTIDAD, EL SEGUIMIENTO DE PÓLIZAS Y EN LOS REQUERIMIENTOS DE INFRAESTRUCTURA CIVIL QUE TENGA LA ALCALDÍA LOCAL DE SAN CRISTÓBAL","Inversión","Un nuevo contrato social y ambiental para la Bogotá del Siglo XXI",33,{"$f":"IF(ISERROR(VLOOKUP(K349,#REF!,2,FALSE)),\" \",VLOOKUP(K349,#REF!,2,FALSE))","v":" "},{"$f":"IF(ISERROR(VLOOKUP(K349,#REF!,3,FALSE)),\" \",VLOOKUP(K349,#REF!,3,FALSE))","v":" "},1863,0,79803207,"JULIO HERNAN PEÑA CASTAÑEDA","Persona Natural",null,"N/A","N/A",null,27084000,0,0,0,{"$f":"+W349+X349+Z349","v":27084000},27084000,"2022-01-28","2022-02-02","2022-08-01",180,0,0,null,null,null,null,"Terminado",{"$f":"IF(ISERROR(AB349/AA349),\"-\",(AB349/AA349))","v":1}]
["FDLSC-CPS-230-2022",2022,"FDLSC-CD-116-2022","https://community.secop.gov.co/Public/Tendering/OpportunityDetail/Index?noticeUID=CO1.NTC.2706407&isFromPublicArea=True&isModal=true&asPopupView=true","Contratos de prestación de servicios profesionales y de apoyo a la gestión","Contratación directa","Prestación de servicios profesionales y de apoyo a la gestión, o para la ejecución de trabajos artísticos que sólo puedan encomendarse a determinadas personas naturales","PRESTAR SUS SERVICIOS PROFESIONALES PARA LA GESTIÓN EN EL ÁREA DE DESARROLLO LOCAL DE SAN CRISTÓBAL, EN EL APOYO DE LA PRESENTACIÓN Y SEGUIMIENTO DE LOS PROYECTOS DE INFRAESTRUCTURA Y OBRAS CIVILES QUE DESARROLLE LA ENTIDAD, Y EN LOS REQUERMIENTOS DE INFRAESTRUCTURA CIVIL QUE TENGA LA ALCALDIA LOCAL DE SAN CRISTÓBAL","Inversión","Un nuevo contrato social y ambiental para la Bogotá del Siglo XXI",33,{"$f":"IF(ISERROR(VLOOKUP(K350,#REF!,2,FALSE)),\" \",VLOOKUP(K350,#REF!,2,FALSE))","v":" "},{"$f":"IF(ISERROR(VLOOKUP(K350,#REF!,3,FALSE)),\" \",VLOOKUP(K350,#REF!,3,FALSE))","v":" "},1863,0,1026596208,"NICOLAS CUEVAS RAMIREZ ","Persona Natural",null,"N/A","N/A",null,27084000,0,0,0,{"$f":"+W350+X350+Z350","v":27084000},27084000,"2022-01-27","2022-02-02","2022-08-01",180,0,0,null,null,null,null,"Terminado",{"$f":"IF(ISERROR(AB350/AA350),\"-\",(AB350/AA350))","v":1}]
["FDLSC-CPS-290-2022",2022,"FDLSC-CD-124-2022","https://community.secop.gov.co/Public/Tendering/OpportunityDetail/Index?noticeUID=CO1.NTC.2736873&isFromPublicArea=True&isModal=true&asPopupView=true","Contratos de prestación de servicios profesionales y de apoyo a la gestión","Contratación directa","Prestación de servicios profesionales y de apoyo a la gestión, o para la ejecución de trabajos artísticos que sólo puedan encomendarse a determinadas personas naturales","PRESTAR SUS SERVICIOS PROFESIONALES PARA APOYAR EN LA FORMULACIÓN Y ACOMPAÑAMIENTO DE LOS ACUERDOS QUE PROMUEVAN LA FORMALIDAD, EL ACCESO PARA EL APROVECHAMIENTO DEL ESPACIO PÚBLICO.","Inversión","Un nuevo contrato social y ambiental para la Bogotá del Siglo XXI",45,{"$f":"IF(ISERROR(VLOOKUP(K351,#REF!,2,FALSE)),\" \",VLOOKUP(K351,#REF!,2,FALSE))","v":" "},{"$f":"IF(ISERROR(VLOOKUP(K351,#REF!,3,FALSE)),\" \",VLOOKUP(K351,#REF!,3,FALSE))","v":" "},1835,0,1023881891,"ELIANA YURIED BENITO LADINO","Persona Natural",null,"N/A","N/A",null,27084000,0,0,0,{"$f":"+W351+X351+Z351","v":27084000},27084000,"2022-01-28","2022-02-05","2022-08-04",180,0,0,null,null,null,null,"Terminado",{"$f":"IF(ISERROR(AB351/AA351),\"-\",(AB351/AA351))","v":1}]
["FDLSC-CPS-305-2022",2022,"FDLSC-CD-157-2022","https://community.secop.gov.co/Public/Tendering/OpportunityDetail/Index?noticeUID=CO1.NTC.2760389&isFromPublicArea=True&isModal=true&asPopupView=true","Contratos de prestación de servicios profesionales y de apoyo a la gestión","Contratación directa","Prestación de servicios profesionales y de apoyo a la gestión, o para la ejecución de trabajos artísticos que sólo puedan encomendarse a determinadas personas naturales","PRESTAR SUS SERVICIOS PROFESIONALES EN EL ÁREA DE GESTIÓN DEL DESARROLLOLOCAL PARA QUE APOYE LAS ACTIVIDADES DE PLANEACIÓN EN TEMAS ADMINISTRATIVOS Y EN PROYECTOS DE INVERSIÓN LOCAL COMO LOS DE DEPORTE DE LA ALCALDÍA LOCAL DE SAN CRISTÓBAL.","Inversión","Un nuevo contrato social y ambiental para la Bogotá del Siglo XXI",20,{"$f":"IF(ISERROR(VLOOKUP(K352,#REF!,2,FALSE)),\" \",VLOOKUP(K352,#REF!,2,FALSE))","v":" "},{"$f":"IF(ISERROR(VLOOKUP(K352,#REF!,3,FALSE)),\" \",VLOOKUP(K352,#REF!,3,FALSE))","v":" "},1801,0,1043874817,"NADIA PATRICIA ACOSTA CHARRIS","Persona Natural",null,"N/A","N/A",null,27081342,0,0,0,{"$f":"+W352+X352+Z352","v":27081342},27081342,"2022-01-28","2022-02-05","2022-08-04",180,0,0,null,null,null,null,"Liquidado",{"$f":"IF(ISERROR(AB352/AA352),\"-\",(AB352/AA352))","v":1}]
["FDLSC-CPS-226-2022",2022,"FDLSC-CD-112-2022","https://community.secop.gov.co/Public/Tendering/OpportunityDetail/Index?noticeUID=CO1.NTC.2736027&isFromPublicArea=True&isModal=true&asPopupView=true","Contratos de prestación de servicios profesionales y de apoyo a la gestión","Contratación directa","Prestación de servicios profesionales y de apoyo a la gestión, o para la ejecución de trabajos artísticos que sólo puedan encomendarse a determinadas personas naturales","PRESTAR SUS SERVICIOS DE APOYO TÉCNICO PARA APOYAR AL EQUIPO DE PRENSA Y COMUNICACIONES DE LA ALCALDÍA LOCAL EN LA ELABORACIÓN DE PIEZAS GRÁFICAS DIGITALES PARA DIFUNDIRLAS POR LOS DIFERENTES MEDIOS DE LA ENTIDAD.","Inversión","Un nuevo contrato social y ambiental para la Bogotá del Siglo XXI",57,{"$f":"IF(ISERROR(VLOOKUP(K353,#REF!,2,FALSE)),\" \",VLOOKUP(K353,#REF!,2,FALSE))","v":" "},{"$f":"IF(ISERROR(VLOOKUP(K353,#REF!,3,FALSE)),\" \",VLOOKUP(K353,#REF!,3,FALSE))","v":" "},1873,0,80113962,"EDWIN HERNANDO CRUZ DELGADO","Persona Natural",null,"N/A","N/A",null,27024000,0,0,0,{"$f":"+W353+X353+Z353","v":27024000},27024000,"2022-01-27","2022-02-04","2022-08-03",180,0,0,null,null,null,null,"Terminado",{"$f":"IF(ISERROR(AB353/AA353),\"-\",(AB353/AA353))","v":1}]
["FDLSC-CPS-359-2022",2022,"FDLSC-CD-075-2022","https://community.secop.gov.co/Public/Tendering/OpportunityDetail/Index?noticeUID=CO1.NTC.2667543&isFromPublicArea=True&isModal=true&asPopupView=true","Contratos de prestación de servicios profesionales y de apoyo a la gestión","Contratación directa","Prestación de servicios profesionales y de apoyo a la gestión, o para la ejecución de trabajos artísticos que sólo puedan encomendarse a determinadas personas naturales","PRESTAR SUS SERVICIOS DE APOYO ASISTENCIAL PARA APOYAR LA GESTIÓN DOCUMENTAL DE LA ALCALDÍA LOCAL EN LA IMPLEMENTACION DE LOS PROCESOS DE CLASIFICACIÓN, ORDENACIÓN, SELECCIÓN NATURAL, FOLIACIÓN, IDENTIFICACIÓN, LEVANTAMIENTO DE INVENTARIOS, ALMACENAMIENTO Y APLICACIÓN DE PROTOCOLOS DE ELIMINACIÓN Y TRANSFERENCIAS DOCUMENTALES.","Inversión","Un nuevo contrato social y ambiental para la Bogotá del Siglo XXI",57,{"$f":"IF(ISERROR(VLOOKUP(K354,#REF!,2,FALSE)),\" \",VLOOKUP(K354,#REF!,2,FALSE))","v":" "},{"$f":"IF(ISERROR(VLOOKUP(K354,#REF!,3,FALSE)),\" \",VLOOKUP(K354,#REF!,3,FALSE))","v":" "},1873,0,52861778,"DOLY CAROLINA QUINTERO VELOZA","Persona Natural",null,"N/A","N/A",null,20000000,0,1,7000000,{"$f":"+W354+X354+Z354","v":27000000},24500000,"2022-01-28","2022-02-07","2022-12-30",240,1,84,null,null,null,null,"Terminado",{"$f":"IF(ISERROR(AB354/AA354),\"-\",(AB354/AA354))","v":0.90740740740740744}]
["FDLSC-CPS-091-2022",2022,"FDLSC-CD-052-2022","https://community.secop.gov.co/Public/Tendering/OpportunityDetail/Index?noticeUID=CO1.NTC.2660196&isFromPublicArea=True&isModal=true&asPopupView=true","Contratos de prestación de servicios profesionales y de apoyo a la gestión","Contratación directa","Prestación de servicios profesionales y de apoyo a la gestión, o para la ejecución de trabajos artísticos que sólo puedan encomendarse a determinadas personas naturales","PRESTAR SUS SERVICIOS PROFESIONALES PARA REALIZAR EL ACOMPAÑAMIENTO OPERATIVO Y  COMUNITARIO DE LAS JUNTAS DE ACCIÓN COMUNAL, INSTANCIAS DE PARTICIPACION, SECTORES POBLACIONALES Y  SU INTERLOCUCIÓN CON LA JUNTA ADMINISTRADORA LOCAL DE SAN CRISTÓBAL","Inversión","Un nuevo contrato social y ambiental para la Bogotá del Siglo XXI",57,{"$f":"IF(ISERROR(VLOOKUP(K355,#REF!,2,FALSE)),\" \",VLOOKUP(K355,#REF!,2,FALSE))","v":" "},{"$f":"IF(ISERROR(VLOOKUP(K355,#REF!,3,FALSE)),\" \",VLOOKUP(K355,#REF!,3,FALSE))","v":" "},1873,0,11636868,"IDELFONSO IBARGUEN ARCOS","Persona Natural",null,"N/A","N/A",null,40000000,-13000001,0,0,{"$f":"+W355+X355+Z355","v":26999999},26999999,"2022-01-24","2022-01-26","2022-07-07",240,0,0,null,null,null,null,"Liquidado",{"$f":"IF(ISERROR(AB355/AA355),\"-\",(AB355/AA355))","v":1}]
["FDLSC-CPS-088-2022",2022,"FDLSC-CD-050-2022","https://community.secop.gov.co/Public/Tendering/OpportunityDetail/Index?noticeUID=CO1.NTC.2630439&isFromPublicArea=True&isModal=true&asPopupView=true","Contratos de prestación de servicios profesionales y de apoyo a la gestión","Contratación directa","Prestación de servicios profesionales y de apoyo a la gestión, o para la ejecución de trabajos artísticos que sólo puedan encomendarse a determinadas personas naturales","PRESTAR SUS SERVICIOS PROFESIONALES PARA APOYAR EL AREA DE DESARROLLO LOCAL EN LOS PROCESOS CONTABLES Y FINANCIEROS, ASÍ COMO EN LOS PROCESOS DE ANALISIS, REVISIÓN Y CAUSACIÓN CONTABLE DEL PAGO DE LOS CONTRATOS DELFONDO DE DESARROLLO LOCAL, APLICANDO LA NORMATIVIDAD VIGENTE.","Inversión","Un nuevo contrato social y ambiental para la Bogotá del Siglo XXI",57,{"$f":"IF(ISERROR(VLOOKUP(K356,#REF!,2,FALSE)),\" \",VLOOKUP(K356,#REF!,2,FALSE))","v":" "},{"$f":"IF(ISERROR(VLOOKUP(K356,#REF!,3,FALSE)),\" \",VLOOKUP(K356,#REF!,3,FALSE))","v":" "},1873,0,74244411,"YEFFER CENEN MATEUS LEON","Persona Natural",null,"N/A","N/A",null,30978000,-4130700,0,0,{"$f":"+W356+X356+Z356","v":26847300},26847300,"2022-01-21","2022-01-24","2022-07-23",180,0,0,52534496,"JOHANNA ELVIRA PIÑEROS BENAVIDES","2022-04-20",20307800,"Terminado",{"$f":"IF(ISERROR(AB356/AA356),\"-\",(AB356/AA356))","v":1}]
["FDLSC-CPS-234-2022",2022,"FDLSC-CD-120-2022","https://community.secop.gov.co/Public/Tendering/OpportunityDetail/Index?noticeUID=CO1.NTC.2735809&isFromPublicArea=True&isModal=true&asPopupView=true","Contratos de prestación de servicios profesionales y de apoyo a la gestión","Contratación directa","Prestación de servicios profesionales y de apoyo a la gestión, o para la ejecución de trabajos artísticos que sólo puedan encomendarse a determinadas personas naturales","PRESTAR SUS SERVICIOS TÉCNICOS EN EL ÁREA DE GESTIÓN DEL DESARROLLO LOCAL PARA QUE REALICE LAS ACTIVIDADES RELACIONADAS CON LÓGISTICA, ORGANIZACIÓN Y APOYO EN EVENTOS DE CULTURA DE LA ALCALDÍA LOCAL DE SAN CRISTÓBAL.","Inversión","Un nuevo contrato social y ambiental para la Bogotá del Siglo XXI",21,{"$f":"IF(ISERROR(VLOOKUP(K357,#REF!,2,FALSE)),\" \",VLOOKUP(K357,#REF!,2,FALSE))","v":" "},{"$f":"IF(ISERROR(VLOOKUP(K357,#REF!,3,FALSE)),\" \",VLOOKUP(K357,#REF!,3,FALSE))","v":" "},1803,0,52427355,"ANGELICA  TALERO TRIANA","Persona Natural",null,"N/A","N/A",null,35852240,-9112444,0,0,{"$f":"+W357+X357+Z357","v":26739796},26739796,"2022-01-27","2022-02-02","2022-08-02",240,0,0,null,null,null,null,"Liquidado",{"$f":"IF(ISERROR(AB357/AA357),\"-\",(AB357/AA357))","v":1}]
["FDLSC-CPS-215-2022",2022,"FDLSC-CD-106-2022","https://community.secop.gov.co/Public/Tendering/OpportunityDetail/Index?noticeUID=CO1.NTC.2709524&isFromPublicArea=True&isModal=true&asPopupView=true","Contratos de prestación de servicios profesionales y de apoyo a la gestión","Contratación directa","Prestación de servicios profesionales y de apoyo a la gestión, o para la ejecución de trabajos artísticos que sólo puedan encomendarse a determinadas personas naturales","APOYAR ADMINISTRATIVA Y ASISTENCIALMENTE A LAS INSPECCIONES DE POLICÍA DE LA LOCALIDAD","Inversión","Un nuevo contrato social y ambiental para la Bogotá del Siglo XXI",57,{"$f":"IF(ISERROR(VLOOKUP(K358,#REF!,2,FALSE)),\" \",VLOOKUP(K358,#REF!,2,FALSE))","v":" "},{"$f":"IF(ISERROR(VLOOKUP(K358,#REF!,3,FALSE)),\" \",VLOOKUP(K358,#REF!,3,FALSE))","v":" "},1873,0,1000575536,"JUAN CAMILO HERRERA FRANCO","Persona Natural",null,"N/A","N/A",null,19200000,0,1,6960000,{"$f":"+W358+X358+Z358","v":26160000},18880000,"2022-01-28","2022-02-05","2022-12-30",240,1,86,null,null,null,null,"Terminado",{"$f":"IF(ISERROR(AB358/AA358),\"-\",(AB358/AA358))","v":0.72171253822629966}]
["FDLSC-CPS-253-2022",2022,"FDLSC-CD-135-2022","https://community.secop.gov.co/Public/Tendering/OpportunityDetail/Index?noticeUID=CO1.NTC.2767388&isFromPublicArea=True&isModal=true&asPopupView=true","Contratos de prestación de servicios profesionales y de apoyo a la gestión","Contratación directa","Prestación de servicios profesionales y de apoyo a la gestión, o para la ejecución de trabajos artísticos que sólo puedan encomendarse a determinadas personas naturales","PRESTAR LOS SERVICIOS TÉCNICOS PARA APOYAR AL ADMINISTRADOR DE RED EN LO RELACIONADO CON LA PLATAFORMA INFORMÁTICA Y MEDIOS TECNOLÓGICOS DE LA ALCALDÍA LOCAL DE SAN CRISTÓBAL.","Inversión","Un nuevo contrato social y ambiental para la Bogotá del Siglo XXI",57,{"$f":"IF(ISERROR(VLOOKUP(K359,#REF!,2,FALSE)),\" \",VLOOKUP(K359,#REF!,2,FALSE))","v":" "},{"$f":"IF(ISERROR(VLOOKUP(K359,#REF!,3,FALSE)),\" \",VLOOKUP(K359,#REF!,3,FALSE))","v":" "},1873,0,80731158,"HECTOR YESID CAMARGO CASALLAS","Persona Natural",null,"N/A","N/A",null,26100000,0,0,0,{"$f":"+W359+X359+Z359","v":26100000},26100000,"2022-01-28","2022-02-03","2022-08-02",180,0,0,null,null,null,null,"Terminado",{"$f":"IF(ISERROR(AB359/AA359),\"-\",(AB359/AA359))","v":1}]
["FDLSC-CPS-377-2022",2022,"FDLSC-CD-178-2022","https://community.secop.gov.co/Public/Tendering/OpportunityDetail/Index?noticeUID=CO1.NTC.3059384&isFromPublicArea=True&isModal=False","Contratos de prestación de servicios profesionales y de apoyo a la gestión","Contratación directa","Prestación de servicios profesionales y de apoyo a la gestión, o para la ejecución de trabajos artísticos que sólo puedan encomendarse a determinadas personas naturales","PRESTAR SUS SERVICIOS PROFESIONALES DE CONTROL DE ACTIVIDADES DE CAMPO EN EL CENTRO DE RESTAURACIÓN AMBIENTAL CERESA, PARA EL DEBIDO CUMPLIMIENTO DEL PROTOCOLO DEL PROCESAMIENTO DE LOS RESIDUOS VEGETALES DEL RETAMO, ASÍ COMO EL CONTROL DE LA MAQUINARIA INSTITUCIONAL Y DE SUS INSUMOS REQUERIDOS EN CAMPO","Inversión","Un nuevo contrato social y ambiental para la Bogotá del Siglo XXI",24,{"$f":"IF(ISERROR(VLOOKUP(K360,#REF!,2,FALSE)),\" \",VLOOKUP(K360,#REF!,2,FALSE))","v":" "},{"$f":"IF(ISERROR(VLOOKUP(K360,#REF!,3,FALSE)),\" \",VLOOKUP(K360,#REF!,3,FALSE))","v":" "},1813,0,80809271,"MARCO ANTONIO BALLESTEROS AGUIRRE","Persona Natural",null,"N/A","N/A",null,25875000,0,0,0,{"$f":"+W360+X360+Z360","v":25875000},21562500,"2022-07-22","2022-07-26","2022-12-25",150,0,0,null,null,null,null,"Terminado",{"$f":"IF(ISERROR(AB360/AA360),\"-\",(AB360/AA360))","v":0.83333333333333337}]
["FDLSC-CPS-454-2022",2022,"FDLSC-CD-228-2022","https://community.secop.gov.co/Public/Tendering/OpportunityDetail/Index?noticeUID=CO1.NTC.3141183&isFromPublicArea=True&isModal=true&asPopupView=true","Contratos de prestación de servicios profesionales y de apoyo a la gestión","Contratación directa","Prestación de servicios profesionales y de apoyo a la gestión, o para la ejecución de trabajos artísticos que sólo puedan encomendarse a determinadas personas naturales","PRESTAR LOS SERVICIOS PROFESIONALES PARA LA OPERACIÓN, SEGUIMIENTO Y CUMPLIMIENTO DE LOS PROCESOS Y PROCEDIMIENTOS DEL SERVICIO APOYO ECONÓMICO TIPO C, REQUERIDOS PARA EL OPORTUNO Y ADECUADO REGISTRO, CRUCE Y REPORTE DE LOS DATOS EN EL SISTEMA MISIONAL SIRBE, QUE CONTRIBUYAN A LA GARANTÍA DE LOS DERECHOS DE LA POBLACIÓN MAYOR EN EL MARCO DE LA POLÍTICA PÚBLICA SOCIAL PARA EL ENVEJECIMIENTO Y LA VEJEZ  EN EL DISTRITO CAPITAL A CARGO DE LA ALCALDÍA LOCAL.","Inversión","Un nuevo contrato social y ambiental para la Bogotá del Siglo XXI",1,{"$f":"IF(ISERROR(VLOOKUP(K361,#REF!,2,FALSE)),\" \",VLOOKUP(K361,#REF!,2,FALSE))","v":" "},{"$f":"IF(ISERROR(VLOOKUP(K361,#REF!,3,FALSE)),\" \",VLOOKUP(K361,#REF!,3,FALSE))","v":" "},1852,0,1022412491,"OLGHER ALBERTO VILLACRES  PUENTES","Persona Natural",null,"N/A","N/A",null,18080000,0,1,7533333,{"$f":"+W361+X361+Z361","v":25613333},15518667,"2022-08-11","2022-08-18","2023-02-07",120,1,50,null,null,null,null,"En ejecución",{"$f":"IF(ISERROR(AB361/AA361),\"-\",(AB361/AA361))","v":0.60588237384021826}]
["FDLSC-CPS-250-2022",2022,"FDLSC-CD-132-2022","https://community.secop.gov.co/Public/Tendering/OpportunityDetail/Index?noticeUID=CO1.NTC.2761053&isFromPublicArea=True&isModal=true&asPopupView=true","Contratos de prestación de servicios profesionales y de apoyo a la gestión","Contratación directa","Prestación de servicios profesionales y de apoyo a la gestión, o para la ejecución de trabajos artísticos que sólo puedan encomendarse a determinadas personas naturales","PRESTAR LOS SERVICIOS TECNICOS PARA APOYAR LA ORGANIZACIÓN Y ACOMPAÑAMIENTO DE LAS ACTIVIDADES Y EVENTOS QUE SE REALICEN DESDE LA ALCALDIA LOCAL DE SAN CRISTOBAL EN EL TERRITORIO LOCAL.","Inversión","Un nuevo contrato social y ambiental para la Bogotá del Siglo XXI",57,{"$f":"IF(ISERROR(VLOOKUP(K362,#REF!,2,FALSE)),\" \",VLOOKUP(K362,#REF!,2,FALSE))","v":" "},{"$f":"IF(ISERROR(VLOOKUP(K362,#REF!,3,FALSE)),\" \",VLOOKUP(K362,#REF!,3,FALSE))","v":" "},1873,0,79562180,"JOSE OSWALDO ACEVEDO GONZALEZ","Persona Natural",null,"N/A","N/A",null,25448000,0,0,0,{"$f":"+W362+X362+Z362","v":25448000},0,"2022-01-28","2022-02-05","2022-10-04",240,0,0,null,null,null,null,"Terminado",{"$f":"IF(ISERROR(AB362/AA362),\"-\",(AB362/AA362))","v":0}]
["FDLSC-CPS-119-2022",2022,"FDLSC-CD-090-2022","https://community.secop.gov.co/Public/Tendering/OpportunityDetail/Index?noticeUID=CO1.NTC.2718133&isFromPublicArea=True&isModal=true&asPopupView=true","Contratos de prestación de servicios profesionales y de apoyo a la gestión","Contratación directa","Prestación de servicios profesionales y de apoyo a la gestión, o para la ejecución de trabajos artísticos que sólo puedan encomendarse a determinadas personas naturales","PRESTAR LOS SERVICIOS DE APOYO TÉCNICO EN EL ÁREA DE GESTION DE DESARROLLO LOCAL PARA APOYAR ADMINISTRATIVAMENTE EN TODO LO QUE SE REQUIERA EN EL MARCO DE LOS PROYECTOS DE INVERSIÓN LOCAL DIRIGIDOS A TEMAS DE EDUCACIÓN, PRIMERA INFANCIA Y DOTACIONES EN CUMPLIMIENTO DEL PLAN DE DESARROLLO 2021 -2024.","Inversión","Un nuevo contrato social y ambiental para la Bogotá del Siglo XXI",57,{"$f":"IF(ISERROR(VLOOKUP(K363,#REF!,2,FALSE)),\" \",VLOOKUP(K363,#REF!,2,FALSE))","v":" "},{"$f":"IF(ISERROR(VLOOKUP(K363,#REF!,3,FALSE)),\" \",VLOOKUP(K363,#REF!,3,FALSE))","v":" "},1873,0,1032491655,"INGRID TATIANA ROA NEVA","Persona Natural",null,"N/A","N/A",null,25448000,0,0,0,{"$f":"+W363+X363+Z363","v":25448000},25448000,"2022-01-27","2022-02-02","2022-10-01",240,0,0,null,null,null,null,"Terminado",{"$f":"IF(ISERROR(AB363/AA363),\"-\",(AB363/AA363))","v":1}]
["FDLSC-CPS-429-2022",2022,"FDLSC-CD-209-2022","https://community.secop.gov.co/Public/Tendering/OpportunityDetail/Index?noticeUID=CO1.NTC.3124948&isFromPublicArea=True&isModal=true&asPopupView=true","Contratos de prestación de servicios profesionales y de apoyo a la gestión","Contratación directa","Prestación de servicios profesionales y de apoyo a la gestión, o para la ejecución de trabajos artísticos que sólo puedan encomendarse a determinadas personas naturales","PRESTAR SUS SERVICIOS DE APOYO TECNICO EN PRENSA Y COMUNICACIONES DE LA ALCALDÍA LOCAL PARA APOYAR TECNICAMENTE TODAS ALAS ACTIVIDADES DESARROLLADAS EN EL MARCO DE LAS SOLICITUDES DE LA ADMINSITRACIÓN LOCAL.","Inversión","Un nuevo contrato social y ambiental para la Bogotá del Siglo XXI",57,{"$f":"IF(ISERROR(VLOOKUP(K364,#REF!,2,FALSE)),\" \",VLOOKUP(K364,#REF!,2,FALSE))","v":" "},{"$f":"IF(ISERROR(VLOOKUP(K364,#REF!,3,FALSE)),\" \",VLOOKUP(K364,#REF!,3,FALSE))","v":" "},1873,0,1015996444,"DANIEL FRANCISCO SANCHEZ VARGAS ","Persona Natural",null,"N/A","N/A",null,17929576,0,1,7470657,{"$f":"+W364+X364+Z364","v":25400233},16584858,"2022-08-09","2022-08-10","2023-01-29",120,1,50,null,null,null,null,"En ejecución",{"$f":"IF(ISERROR(AB364/AA364),\"-\",(AB364/AA364))","v":0.65294117577582855}]
["FDLSC-CPS-496-2022",2022,"FDLSC-CD-251-2022","https://community.secop.gov.co/Public/Tendering/OpportunityDetail/Index?noticeUID=CO1.NTC.3256537&isFromPublicArea=True&isModal=true&asPopupView=true","Contratos de prestación de servicios profesionales y de apoyo a la gestión","Contratación directa","Prestación de servicios profesionales y de apoyo a la gestión, o para la ejecución de trabajos artísticos que sólo puedan encomendarse a determinadas personas naturales","PRESTAR SUS SERVICIOS PROFESIONALES EN EL ÁREA GESTIÓN DEL DESARROLLO LOCAL EN LOS PROYECTOS DE INFRAESTRUCTURA Y OBRAS CIVILES EN MARCO DEL PLAN DE DESARROLLO LOCAL 2021-2024.","Inversión","Un nuevo contrato social y ambiental para la Bogotá del Siglo XXI",57,{"$f":"IF(ISERROR(VLOOKUP(K365,#REF!,2,FALSE)),\" \",VLOOKUP(K365,#REF!,2,FALSE))","v":" "},{"$f":"IF(ISERROR(VLOOKUP(K365,#REF!,3,FALSE)),\" \",VLOOKUP(K365,#REF!,3,FALSE))","v":" "},1873,0,52201579,"LILIANA FLOR YAMILE LAMPREA ZONA","Persona Natural",null,"N/A","N/A",null,20000000,0,1,5000000,{"$f":"+W365+X365+Z365","v":25000000},13166667,"2022-09-08","2022-09-12","2023-02-11",120,1,30,null,null,null,null,"En ejecución",{"$f":"IF(ISERROR(AB365/AA365),\"-\",(AB365/AA365))","v":0.52666668000000005}]
["FDLSC-CPS-453-2022",2022,"FDLSC-CD-227-2022","https://community.secop.gov.co/Public/Tendering/OpportunityDetail/Index?noticeUID=CO1.NTC.3139873&isFromPublicArea=True&isModal=true&asPopupView=true","Contratos de prestación de servicios profesionales y de apoyo a la gestión","Contratación directa","Prestación de servicios profesionales y de apoyo a la gestión, o para la ejecución de trabajos artísticos que sólo puedan encomendarse a determinadas personas naturales","PRESTAR SUS SERVICIOS PROFESIONALES EN LO CONCERNIENTE A LAS ACTIVIDADES ADMINISTRATIVAS Y DE CAMPO EN LOS PROCESOS DE AGRICULTURA URBANA, ARBORIZACIÓN (PLANTACIÓN Y MANTENIMIENTO), Y MANEJO DE SITUACIONES AMBIENTALES CONFLICTIVAS EN EL ESPACIO PÚBLICO LOCAL.","Inversión","Un nuevo contrato social y ambiental para la Bogotá del Siglo XXI",24,{"$f":"IF(ISERROR(VLOOKUP(K366,#REF!,2,FALSE)),\" \",VLOOKUP(K366,#REF!,2,FALSE))","v":" "},{"$f":"IF(ISERROR(VLOOKUP(K366,#REF!,3,FALSE)),\" \",VLOOKUP(K366,#REF!,3,FALSE))","v":" "},1813,0,1010230917,"HAROLD STIVEN GARZON CARDENAS","Persona Natural",null,"N/A","N/A",null,25000000,0,0,0,{"$f":"+W366+X366+Z366","v":25000000},15833333,"2022-08-11","2022-08-18","2023-01-25",150,0,0,null,null,null,null,"En ejecución",{"$f":"IF(ISERROR(AB366/AA366),\"-\",(AB366/AA366))","v":0.63333331999999998}]
["FDLSC-CPS-486-2022",2022,"FDLSC-CD-242-2022","https://community.secop.gov.co/Public/Tendering/OpportunityDetail/Index?noticeUID=CO1.NTC.3197562&isFromPublicArea=True&isModal=true&asPopupView=true","Contratos de prestación de servicios profesionales y de apoyo a la gestión","Contratación directa","Prestación de servicios profesionales y de apoyo a la gestión, o para la ejecución de trabajos artísticos que sólo puedan encomendarse a determinadas personas naturales","PRESTAR SUS SERVICIOS PROFESIONALES EN LA DEPURACION DE OBLIGACIONES POR PAGAR, TRAMITE DE PAGOS Y LIQUIDACIÓN DE CONTRATOS, DE CONFORMIDAD CON LAS CONDICIONES Y OBLIGACIONES ESTABLECIDAS POR EL FONDO DE DESARROLLO LOCAL.","Inversión","Un nuevo contrato social y ambiental para la Bogotá del Siglo XXI",57,{"$f":"IF(ISERROR(VLOOKUP(K367,#REF!,2,FALSE)),\" \",VLOOKUP(K367,#REF!,2,FALSE))","v":" "},{"$f":"IF(ISERROR(VLOOKUP(K367,#REF!,3,FALSE)),\" \",VLOOKUP(K367,#REF!,3,FALSE))","v":" "},1873,0,1022973218,"YESSICA MILENA GARZON ORTEGA","Persona Natural",null,"N/A","N/A",null,24800000,0,0,0,{"$f":"+W367+X367+Z367","v":24800000},17153333,"2022-08-26","2022-09-08","2023-01-07",120,0,0,null,null,null,null,"En ejecución",{"$f":"IF(ISERROR(AB367/AA367),\"-\",(AB367/AA367))","v":0.69166665322580645}]
["FDLSC-CPS-054-2022",2022,"FDLSC-CD-033-2022","https://community.secop.gov.co/Public/Tendering/OpportunityDetail/Index?noticeUID=CO1.NTC.2621366&isFromPublicArea=True&isModal=False\nhttps://community.secop.gov.co/Public/Tendering/OpportunityDetail/Index?noticeUID=CO1.NTC.2789450&isFromPublicArea=True&isModal=true&asPopupView=true\"","Contratos de prestación de servicios profesionales y de apoyo a la gestión","Contratación directa","Prestación de servicios profesionales y de apoyo a la gestión, o para la ejecución de trabajos artísticos que sólo puedan encomendarse a determinadas personas naturales","PRESTAR SUS SERVICIOS TÉCNICOS EN EL ÁREA DE GESTIÓN DEL DESARROLLO LOCAL PARA TEMAS LOGISITICOS, CON EL FIN DE APOYAR EN LA GESTIÓN Y EJECUCIÓN DE LOS PROCESOS, AYUDAR EN LAS OPERACIONES DE COMPRAS Y ABASTECIMIENTOS DE INVENTARIOS, ALMACENAMIENTO, DISTRIBUCIÓN Y TRANSPORTES.","Inversión","Un nuevo contrato social y ambiental para la Bogotá del Siglo XXI",57,{"$f":"IF(ISERROR(VLOOKUP(K368,#REF!,2,FALSE)),\" \",VLOOKUP(K368,#REF!,2,FALSE))","v":" "},{"$f":"IF(ISERROR(VLOOKUP(K368,#REF!,3,FALSE)),\" \",VLOOKUP(K368,#REF!,3,FALSE))","v":" "},1873,0,52201579,"LILIANA FLOR YAMILE LAMPREA ZONA","Persona Natural",null,"N/A","N/A",null,24784000,0,0,0,{"$f":"+W368+X368+Z368","v":24784000},21995801,"2022-01-20","2022-01-24","2022-09-23",240,0,0,52158486,"LINA MARIA RUSSI DIAZ","2022-04-11",14457334,"Terminado",{"$f":"IF(ISERROR(AB368/AA368),\"-\",(AB368/AA368))","v":0.88750004034861196}]
["FDLSC-CPS-053-2022",2022,"FDLSC-CD-033-2022","https://community.secop.gov.co/Public/Tendering/OpportunityDetail/Index?noticeUID=CO1.NTC.2621366&isFromPublicArea=True&isModal=False","Contratos de prestación de servicios profesionales y de apoyo a la gestión","Contratación directa","Prestación de servicios profesionales y de apoyo a la gestión, o para la ejecución de trabajos artísticos que sólo puedan encomendarse a determinadas personas naturales","PRESTAR SUS SERVICIOS TÉCNICOS EN EL ÁREA DE GESTIÓN DEL DESARROLLO LOCAL PARA TEMAS LOGISITICOS, CON EL FIN DE APOYAR EN LA GESTIÓN Y EJECUCIÓN DE LOS PROCESOS, AYUDAR EN LAS OPERACIONES DE COMPRAS Y ABASTECIMIENTOS DE INVENTARIOS, ALMACENAMIENTO, DISTRIBUCIÓN Y TRANSPORTES.","Inversión","Un nuevo contrato social y ambiental para la Bogotá del Siglo XXI",57,{"$f":"IF(ISERROR(VLOOKUP(K369,#REF!,2,FALSE)),\" \",VLOOKUP(K369,#REF!,2,FALSE))","v":" "},{"$f":"IF(ISERROR(VLOOKUP(K369,#REF!,3,FALSE)),\" \",VLOOKUP(K369,#REF!,3,FALSE))","v":" "},1873,0,80724704,"BRIAN ANDRES CAICEDO FARFAN","Persona Natural",null,"N/A","N/A",null,24784000,0,0,0,{"$f":"+W369+X369+Z369","v":24784000},24784000,"2022-01-20","2022-01-22","2022-09-21",240,0,0,null,null,null,null,"Terminado",{"$f":"IF(ISERROR(AB369/AA369),\"-\",(AB369/AA369))","v":1}]
["FDLSC-CPS-523-2022",2022,"FDLSC-CD-271-2022","https://community.secop.gov.co/Public/Tendering/OpportunityDetail/Index?noticeUID=CO1.NTC.3329309&isFromPublicArea=True&isModal=true&asPopupView=true","Contratos de prestación de servicios profesionales y de apoyo a la gestión","Contratación directa","Prestación de servicios profesionales y de apoyo a la gestión, o para la ejecución de trabajos artísticos que sólo puedan encomendarse a determinadas personas naturales","APOYAR JURÍDICAMENTE LA EJECUCIÓN DE LAS ACCIONES REQUERIDAS PARA LA DEPURACIÓN DE LAS ACTUACIONES ADMINISTRATIVAS QUE CURSAN EN LA ALCALDÍA LOCAL.”","Inversión","Un nuevo contrato social y ambiental para la Bogotá del Siglo XXI",57,{"$f":"IF(ISERROR(VLOOKUP(K370,#REF!,2,FALSE)),\" \",VLOOKUP(K370,#REF!,2,FALSE))","v":" "},{"$f":"IF(ISERROR(VLOOKUP(K370,#REF!,3,FALSE)),\" \",VLOOKUP(K370,#REF!,3,FALSE))","v":" "},1873,0,1023026071,"DANIELA YULIZA ANTONIO SIERRA","Persona Natural",null,"N/A","N/A",null,19250000,0,1,5500000,{"$f":"+W370+X370+Z370","v":24750000},10166667,"2022-09-29","2022-09-30","2023-02-14",105,1,30,null,null,null,null,"En ejecución",{"$f":"IF(ISERROR(AB370/AA370),\"-\",(AB370/AA370))","v":0.41077442424242422}]
["FDLSC-CPS-307-2022",2022,"FDLSC-CD-158-2022","https://community.secop.gov.co/Public/Tendering/OpportunityDetail/Index?noticeUID=CO1.NTC.2763327&isFromPublicArea=True&isModal=true&asPopupView=true","Contratos de prestación de servicios profesionales y de apoyo a la gestión","Contratación directa","Prestación de servicios profesionales y de apoyo a la gestión, o para la ejecución de trabajos artísticos que sólo puedan encomendarse a determinadas personas naturales","PRESTAR LOS SERVICIOS TÉCNICOS PARA APOYAR GESTIÓN ADMINSITRATIVA DE LOS PROYECTOS DE ACUERDOS QUE PROMUEVAN LA FORMALIDAD Y EL ACCESO PARA EL APROVECHAMIENTO DEL ESPACIO PÚBLICO.","Inversión","Un nuevo contrato social y ambiental para la Bogotá del Siglo XXI",45,{"$f":"IF(ISERROR(VLOOKUP(K371,#REF!,2,FALSE)),\" \",VLOOKUP(K371,#REF!,2,FALSE))","v":" "},{"$f":"IF(ISERROR(VLOOKUP(K371,#REF!,3,FALSE)),\" \",VLOOKUP(K371,#REF!,3,FALSE))","v":" "},1835,0,1010187402,"JESUS DAVID LEON GALINDO ","Persona Natural",null,"N/A","N/A",null,24640000,0,0,0,{"$f":"+W371+X371+Z371","v":24640000},24640000,"2022-01-28","2022-02-01","2022-09-30",240,0,0,null,null,null,null,"Terminado",{"$f":"IF(ISERROR(AB371/AA371),\"-\",(AB371/AA371))","v":1}]
["FDLSC-CPS-446-2022",2022,"FDLSC-CD-221-2022","https://community.secop.gov.co/Public/Tendering/OpportunityDetail/Index?noticeUID=CO1.NTC.3140257&isFromPublicArea=True&isModal=true&asPopupView=true","Contratos de prestación de servicios profesionales y de apoyo a la gestión","Contratación directa","Prestación de servicios profesionales y de apoyo a la gestión, o para la ejecución de trabajos artísticos que sólo puedan encomendarse a determinadas personas naturales","PRESTAR SUS SERVICIOS PROFESIONALES PARA APOYAR EN LA FORMULACIÓN Y ACOMPAÑAMIENTO DE LOS ACUERDOS QUE PROMUEVAN LA FORMALIDAD, EL ACCESO PARA EL APROVECHAMIENTO DEL ESPACIO PÚBLICO","Inversión","Un nuevo contrato social y ambiental para la Bogotá del Siglo XXI",45,{"$f":"IF(ISERROR(VLOOKUP(K372,#REF!,2,FALSE)),\" \",VLOOKUP(K372,#REF!,2,FALSE))","v":" "},{"$f":"IF(ISERROR(VLOOKUP(K372,#REF!,3,FALSE)),\" \",VLOOKUP(K372,#REF!,3,FALSE))","v":" "},1835,0,1023881891,"ELIANA YURIED BENITO LADINO","Persona Natural",null,"N/A","N/A",null,18056000,0,1,6470067,{"$f":"+W372+X372+Z372","v":24526067},15347600,"2022-08-11","2022-08-19","2023-01-31",120,1,43,null,null,null,null,"En ejecución",{"$f":"IF(ISERROR(AB372/AA372),\"-\",(AB372/AA372))","v":0.6257668626608579}]
["FDLSC-CPS-221-2022",2022,"FDLSC-CD-108-2022","https://community.secop.gov.co/Public/Tendering/OpportunityDetail/Index?noticeUID=CO1.NTC.2743211&isFromPublicArea=True&isModal=true&asPopupView=true","Contratos de prestación de servicios profesionales y de apoyo a la gestión","Contratación directa","Prestación de servicios profesionales y de apoyo a la gestión, o para la ejecución de trabajos artísticos que sólo puedan encomendarse a determinadas personas naturales","PRESTAR SUS SERVICIOS TÉCNICOS PARA EL APOYO Y MANEJO DE CRONOGRAMAS Y MANTENIMIENTO DE LOS VEHÍCULOS QUE SE ENCUENTRAN AL SERVICIO DEL FONDO LOCAL DE SAN CRISTOBAL.","Inversión","Un nuevo contrato social y ambiental para la Bogotá del Siglo XXI",57,{"$f":"IF(ISERROR(VLOOKUP(K373,#REF!,2,FALSE)),\" \",VLOOKUP(K373,#REF!,2,FALSE))","v":" "},{"$f":"IF(ISERROR(VLOOKUP(K373,#REF!,3,FALSE)),\" \",VLOOKUP(K373,#REF!,3,FALSE))","v":" "},1873,0,1013688683,"CRISTHIAN CAMILO MUNEVAR CRISTIANO","Persona Natural",null,"N/A","N/A",null,24102000,0,0,0,{"$f":"+W373+X373+Z373","v":24102000},24102000,"2022-01-27","2022-02-01","2022-07-31",180,0,0,null,null,null,null,"Terminado",{"$f":"IF(ISERROR(AB373/AA373),\"-\",(AB373/AA373))","v":1}]
["508",2021,"FDLSC-LP-003-2021","https://community.secop.gov.co/Public/Tendering/OpportunityDetail/Index?noticeUID=CO1.NTC.2397727&isFromPublicArea=True&isModal=true&asPopupView=true","Obra pública","Licitación pública","No aplica","CONTRATAR POR EL SISTEMA DE PRECIOS FIJOS SIN FORMULA DE REAJUSTE, LA ACTUALIZACIÓN Y AJUSTE DE ESTUDIOS Y DISEÑOS, Y LA CONSTRUCCIÓN DE OBRAS DE MITIGACIÓN DE RIESGOS POR PROCESOS DE REMOCIÓN EN MASA, PARA EL SECTEOR DE GUACAMAYAS, DE ACUERDO CON LOS POLÍGONOS SNALIZADOS EN LOS ESTUDIIOS Y DISEÑOS DERIVADOS DEL CONTRATO FDLSC -275-218, OBRAS A DESARROLLAR EN LA LOCALIDAD DE SAN CRISTOBAL BOGOTÁ D.C.","Inversión","Un nuevo contrato social y ambiental para la Bogotá del Siglo XXI",30,{"$f":"IF(ISERROR(VLOOKUP(K374,#REF!,2,FALSE)),\" \",VLOOKUP(K374,#REF!,2,FALSE))","v":" "},{"$f":"IF(ISERROR(VLOOKUP(K374,#REF!,3,FALSE)),\" \",VLOOKUP(K374,#REF!,3,FALSE))","v":" "},1866,0,"830136984","CONSTRUCTORA VMJ LTDA","Persona Jurídica","N/A","N/A","N/A",null,0,0,1,23997724,{"$f":"+W374+X374+Z374","v":23997724},0,"2022-05-15","2022-02-01","2023-01-20",120,1,20,null,null,null,null,"En ejecución",{"$f":"IF(ISERROR(AB374/AA374),\"-\",(AB374/AA374))","v":0}]
["FDLSC-CSU-662-2022",2022,"FDLSC-MIC-016-2022","https://community.secop.gov.co/Public/Tendering/OpportunityDetail/Index?noticeUID=CO1.NTC.3659166&isFromPublicArea=True&isModal=true&asPopupView=true","Suministro","Contratación mínima cuantia","No aplica","CONTRATAR A MONTO AGOTABLE LA ADQUISICIÓN DE IMPRESOS PARA EL FORTALECIMIENTO DE LAS CAPACIDADES COMUNITARIAS EN LA LOCALIDAD DE SAN CRISTÓBAL”","Inversión","Un nuevo contrato social y ambiental para la Bogotá del Siglo XXI",30,{"$f":"IF(ISERROR(VLOOKUP(K375,#REF!,2,FALSE)),\" \",VLOOKUP(K375,#REF!,2,FALSE))","v":" "},{"$f":"IF(ISERROR(VLOOKUP(K375,#REF!,3,FALSE)),\" \",VLOOKUP(K375,#REF!,3,FALSE))","v":" "},1866,9,830081460,"FENIX MEDIA GROUP SAS","Persona Jurídica",null,"N/A","N/A",null,23944228,0,0,0,{"$f":"+W375+X375+Z375","v":23944228},0,"2022-12-28","2023-01-05","2023-04-04",120,0,0,null,null,null,null,"En ejecución",{"$f":"IF(ISERROR(AB375/AA375),\"-\",(AB375/AA375))","v":0}]
["FDLSC-CPS-087-2022",2022,"FDLSC-CD-049-2022","https://community.secop.gov.co/Public/Tendering/OpportunityDetail/Index?noticeUID=CO1.NTC.2631302&isFromPublicArea=True&isModal=true&asPopupView=true","Contratos de prestación de servicios profesionales y de apoyo a la gestión","Contratación directa","Prestación de servicios profesionales y de apoyo a la gestión, o para la ejecución de trabajos artísticos que sólo puedan encomendarse a determinadas personas naturales","PRESTAR SUS SERVICIOS TECNICOS DE APOYO CONTABLE EN LOS PROCESOS DE CAUSACIÓN, SISTEMATIZACION, REGISTROS DE INFORMACIÓN Y PRESENTACION DE INFORMES, DANDO CUMPLIMIENTO A LAS POLITICAS CONTABLES APLICABLES A LA SECRETARIA DE GOBIERNO Y LOS FONDOS DE DESARROLLO LOCAL.","Inversión","Un nuevo contrato social y ambiental para la Bogotá del Siglo XXI",57,{"$f":"IF(ISERROR(VLOOKUP(K376,#REF!,2,FALSE)),\" \",VLOOKUP(K376,#REF!,2,FALSE))","v":" "},{"$f":"IF(ISERROR(VLOOKUP(K376,#REF!,3,FALSE)),\" \",VLOOKUP(K376,#REF!,3,FALSE))","v":" "},1873,0,80799640,"JORGE ALEJANDRO DELGADO GONGORA","Persona Natural",null,"N/A","N/A",null,23484000,0,0,0,{"$f":"+W376+X376+Z376","v":23484000},23484000,"2022-01-24","2022-01-27","2022-07-26",180,0,0,null,null,null,null,"Terminado",{"$f":"IF(ISERROR(AB376/AA376),\"-\",(AB376/AA376))","v":1}]
["FDLSC-CPS-658-2022",2022,"FDLSC-CD-350-2022","https://community.secop.gov.co/Public/Tendering/OpportunityDetail/Index?noticeUID=CO1.NTC.3680891&isFromPublicArea=True&isModal=true&asPopupView=true","Contratos de prestación de servicios profesionales y de apoyo a la gestión","Contratación directa","Prestación de servicios profesionales y de apoyo a la gestión, o para la ejecución de trabajos artísticos que sólo puedan encomendarse a determinadas personas naturales","PRESTAR LOS SERVICIOS TÉCNICOS PARA APOYAR GESTIÓN ADMINISTRATIVA DE LOS PROYECTOS DE ACUERDOS QUE PROMUEVAN LA FORMALIDAD Y EL ACCESO PARA EL APROVECHAMIENTO DEL ESPACIO PÚBLICO","Inversión","Un nuevo contrato social y ambiental para la Bogotá del Siglo XXI",45,{"$f":"IF(ISERROR(VLOOKUP(K377,#REF!,2,FALSE)),\" \",VLOOKUP(K377,#REF!,2,FALSE))","v":" "},{"$f":"IF(ISERROR(VLOOKUP(K377,#REF!,3,FALSE)),\" \",VLOOKUP(K377,#REF!,3,FALSE))","v":" "},1835,0,80724704,"BRIAN ANDRÉS CAICEDO FARFÁN ","Persona Natural",null,"N/A","N/A",null,23400000,0,0,0,{"$f":"+W377+X377+Z377","v":23400000},0,"2022-12-28","2022-12-30","2023-06-29",180,0,0,null,null,null,null,"En ejecución",{"$f":"IF(ISERROR(AB377/AA377),\"-\",(AB377/AA377))","v":0}]
["FDLSC-CPS-219-2022",2022,"FDLSC-CD-107-2022","https://community.secop.gov.co/Public/Tendering/OpportunityDetail/Index?noticeUID=CO1.NTC.2719871&isFromPublicArea=True&isModal=true&asPopupView=true","Contratos de prestación de servicios profesionales y de apoyo a la gestión","Contratación directa","Prestación de servicios profesionales y de apoyo a la gestión, o para la ejecución de trabajos artísticos que sólo puedan encomendarse a determinadas personas naturales","PRESTAR SUS SERVICIOS TÉCNICOS PARA APOYAR LA EJECUCIÓN, SEGUIMIENTO Y  VERIFICACIÓN DE LAS ACTIVIDADES DE GESTIÓN AMBIENTAL DE CAMPO EN LA LOCALIDAD DE SAN CRISTÓBAL.","Inversión","Un nuevo contrato social y ambiental para la Bogotá del Siglo XXI",33,{"$f":"IF(ISERROR(VLOOKUP(K378,#REF!,2,FALSE)),\" \",VLOOKUP(K378,#REF!,2,FALSE))","v":" "},{"$f":"IF(ISERROR(VLOOKUP(K378,#REF!,3,FALSE)),\" \",VLOOKUP(K378,#REF!,3,FALSE))","v":" "},1867,0,1023960371,"BRYAN DAVID PINEDA SILVA","Persona Natural",null,"N/A","N/A",null,23400000,0,0,0,{"$f":"+W378+X378+Z378","v":23400000},20930000,"2022-01-27","2022-04-20","2022-10-19",180,0,0,null,null,null,null,"Terminado",{"$f":"IF(ISERROR(AB378/AA378),\"-\",(AB378/AA378))","v":0.89444444444444449}]
["FDLSC-CPS-341-2022",2022,"FDLSC-CD-170-2022","https://community.secop.gov.co/Public/Tendering/OpportunityDetail/Index?noticeUID=CO1.NTC.2789450&isFromPublicArea=True&isModal=true&asPopupView=true","Contratos de prestación de servicios profesionales y de apoyo a la gestión","Contratación directa","Prestación de servicios profesionales y de apoyo a la gestión, o para la ejecución de trabajos artísticos que sólo puedan encomendarse a determinadas personas naturales","PRESTAR SUS SERVICIOS TÉCNICOS EN EL ÁREA GESTIÓN DEL DESARROLLO LOCAL EN LOS PROYECTOS DE INFRAESTRUCTURA Y  OBRAS CIVILES EN MARCO DEL PLAN DE DESARROLLO LOCAL 2021-2024","Inversión","Un nuevo contrato social y ambiental para la Bogotá del Siglo XXI",49,{"$f":"IF(ISERROR(VLOOKUP(K379,#REF!,2,FALSE)),\" \",VLOOKUP(K379,#REF!,2,FALSE))","v":" "},{"$f":"IF(ISERROR(VLOOKUP(K379,#REF!,3,FALSE)),\" \",VLOOKUP(K379,#REF!,3,FALSE))","v":" "},1871,0,52735984,"DIANA MARIA TORRES GARCES ","Persona Natural",null,"N/A","N/A",null,23400000,0,0,0,{"$f":"+W379+X379+Z379","v":23400000},22880000,"2022-01-28","2022-02-05","2022-08-04",180,0,0,null,null,null,null,"Terminado",{"$f":"IF(ISERROR(AB379/AA379),\"-\",(AB379/AA379))","v":0.97777777777777775}]
["FDLSC-CPS-165-2022",2022,"FDLSC-CD-080-2022","https://community.secop.gov.co/Public/Tendering/OpportunityDetail/Index?noticeUID=CO1.NTC.2679655&isFromPublicArea=True&isModal=true&asPopupView=true","Contratos de prestación de servicios profesionales y de apoyo a la gestión","Contratación directa","Prestación de servicios profesionales y de apoyo a la gestión, o para la ejecución de trabajos artísticos que sólo puedan encomendarse a determinadas personas naturales","PRESTAR SUS SERVICIOS TÉCNICOS PARA LA GESTIÓN DEL RIESGO, A LA LUZ DEL PLAN DE DESARROLLO 2021-2024 \"UN NUEVO CONTRATO AMBIENTAL Y SOCIAL PARA SAN CRISTÓBAL\".","Inversión","Un nuevo contrato social y ambiental para la Bogotá del Siglo XXI",30,{"$f":"IF(ISERROR(VLOOKUP(K380,#REF!,2,FALSE)),\" \",VLOOKUP(K380,#REF!,2,FALSE))","v":" "},{"$f":"IF(ISERROR(VLOOKUP(K380,#REF!,3,FALSE)),\" \",VLOOKUP(K380,#REF!,3,FALSE))","v":" "},1866,0,1023034507,"MAICOL STIVEN BABATIVA PATIÑO","Persona Natural",null,"N/A","N/A",null,23400000,0,0,0,{"$f":"+W380+X380+Z380","v":23400000},23010000,"2022-01-24","2022-02-04","2022-08-03",180,0,0,null,null,null,null,"Terminado",{"$f":"IF(ISERROR(AB380/AA380),\"-\",(AB380/AA380))","v":0.98333333333333328}]
["FDLSC-CPS-164-2022",2022,"FDLSC-CD-080-2022","https://community.secop.gov.co/Public/Tendering/OpportunityDetail/Index?noticeUID=CO1.NTC.2679655&isFromPublicArea=True&isModal=true&asPopupView=true","Contratos de prestación de servicios profesionales y de apoyo a la gestión","Contratación directa","Prestación de servicios profesionales y de apoyo a la gestión, o para la ejecución de trabajos artísticos que sólo puedan encomendarse a determinadas personas naturales","PRESTAR SUS SERVICIOS TÉCNICOS PARA LA GESTIÓN DEL RIESGO, A LA LUZ DEL PLAN DE DESARROLLO 2021-2024 \"UN NUEVO CONTRATO AMBIENTAL Y SOCIAL PARA SAN CRISTÓBAL\".","Inversión","Un nuevo contrato social y ambiental para la Bogotá del Siglo XXI",30,{"$f":"IF(ISERROR(VLOOKUP(K381,#REF!,2,FALSE)),\" \",VLOOKUP(K381,#REF!,2,FALSE))","v":" "},{"$f":"IF(ISERROR(VLOOKUP(K381,#REF!,3,FALSE)),\" \",VLOOKUP(K381,#REF!,3,FALSE))","v":" "},1866,0,51988791,"BILSAM LÓPEZ CARDENAS","Persona Natural",null,"N/A","N/A",null,23400000,0,0,0,{"$f":"+W381+X381+Z381","v":23400000},23400000,"2022-01-25","2022-02-04","2022-08-03",180,0,0,null,null,null,null,"Terminado",{"$f":"IF(ISERROR(AB381/AA381),\"-\",(AB381/AA381))","v":1}]
["FDLSC-CPS-166-2022",2022,"FDLSC-CD-080-2022","https://community.secop.gov.co/Public/Tendering/OpportunityDetail/Index?noticeUID=CO1.NTC.2679655&isFromPublicArea=True&isModal=true&asPopupView=true","Contratos de prestación de servicios profesionales y de apoyo a la gestión","Contratación directa","Prestación de servicios profesionales y de apoyo a la gestión, o para la ejecución de trabajos artísticos que sólo puedan encomendarse a determinadas personas naturales","PRESTAR SUS SERVICIOS TÉCNICOS PARA LA GESTIÓN DEL RIESGO, A LA LUZ DEL PLAN DE DESARROLLO 2021-2024 \"UN NUEVO CONTRATO AMBIENTAL Y SOCIAL PARA SAN CRISTÓBAL\".","Inversión","Un nuevo contrato social y ambiental para la Bogotá del Siglo XXI",30,{"$f":"IF(ISERROR(VLOOKUP(K382,#REF!,2,FALSE)),\" \",VLOOKUP(K382,#REF!,2,FALSE))","v":" "},{"$f":"IF(ISERROR(VLOOKUP(K382,#REF!,3,FALSE)),\" \",VLOOKUP(K382,#REF!,3,FALSE))","v":" "},1866,0,52445767,"MARTHA LUCIA UMAÑA DUITAMA","Persona Natural",null,"N/A","N/A",null,23400000,0,0,0,{"$f":"+W382+X382+Z382","v":23400000},23400000,"2022-01-24","2022-02-04","2022-08-03",180,0,0,null,null,null,null,"Terminado",{"$f":"IF(ISERROR(AB382/AA382),\"-\",(AB382/AA382))","v":1}]
["FDLSC-CPS-277-2022",2022,"FDLSC-CD-147-2022","https://community.secop.gov.co/Public/Tendering/OpportunityDetail/Index?noticeUID=CO1.NTC.2780559&isFromPublicArea=True&isModal=true&asPopupView=true","Contratos de prestación de servicios profesionales y de apoyo a la gestión","Contratación directa","Prestación de servicios profesionales y de apoyo a la gestión, o para la ejecución de trabajos artísticos que sólo puedan encomendarse a determinadas personas naturales","PRESTAR SUS SERVICIOS TÉCNICOS DE APOYO A LA GESTIÓN EN LOS TEMAS REFERENTES A PARTICIPACIÓN CIUDADANA Y ORGANIZACIÓN COMUNITARIA, CONTRIBUYENDO AL DESARROLLO Y CUMPLIMIENTO DEL PDL","Inversión","Un nuevo contrato social y ambiental para la Bogotá del Siglo XXI",57,{"$f":"IF(ISERROR(VLOOKUP(K383,#REF!,2,FALSE)),\" \",VLOOKUP(K383,#REF!,2,FALSE))","v":" "},{"$f":"IF(ISERROR(VLOOKUP(K383,#REF!,3,FALSE)),\" \",VLOOKUP(K383,#REF!,3,FALSE))","v":" "},1873,0,80932677,"ALVARO ANDRES FONSECA CEPEDA","Persona Natural",null,"N/A","N/A",null,23400000,0,0,0,{"$f":"+W383+X383+Z383","v":23400000},23400000,"2022-01-28","2022-02-04","2022-08-03",180,0,0,null,null,null,null,"Terminado",{"$f":"IF(ISERROR(AB383/AA383),\"-\",(AB383/AA383))","v":1}]
["FDLSC-CPS-320-2022",2022,"FDLSC-CD-107-2022","https://community.secop.gov.co/Public/Tendering/OpportunityDetail/Index?noticeUID=CO1.NTC.2719871&isFromPublicArea=True&isModal=False","Contratos de prestación de servicios profesionales y de apoyo a la gestión","Contratación directa","Prestación de servicios profesionales y de apoyo a la gestión, o para la ejecución de trabajos artísticos que sólo puedan encomendarse a determinadas personas naturales","PRESTAR SUS SERVICIOS TÉCNICOS PARA APOYAR LA EJECUCIÓN, SEGUIMIENTO Y VERIFICACIÓN DE LAS ACTIVIDADES DE GESTIÓN AMBIENTAL DE CAMPO EN LA LOCALIDAD DE SAN CRISTÓBAL","Inversión","Un nuevo contrato social y ambiental para la Bogotá del Siglo XXI",33,{"$f":"IF(ISERROR(VLOOKUP(K384,#REF!,2,FALSE)),\" \",VLOOKUP(K384,#REF!,2,FALSE))","v":" "},{"$f":"IF(ISERROR(VLOOKUP(K384,#REF!,3,FALSE)),\" \",VLOOKUP(K384,#REF!,3,FALSE))","v":" "},1867,0,79701073,"JUAN CARLOS MORENO","Persona Natural",null,"N/A","N/A",null,23400000,0,0,0,{"$f":"+W384+X384+Z384","v":23400000},23400000,"2022-01-28","2022-05-17","2022-11-16",180,0,0,null,null,null,null,"Terminado",{"$f":"IF(ISERROR(AB384/AA384),\"-\",(AB384/AA384))","v":1}]
["FDLSC-CPS-360-2022",2022,"FDLSC-CD-170-2022","https://community.secop.gov.co/Public/Tendering/OpportunityDetail/Index?noticeUID=CO1.NTC.2789450&isFromPublicArea=True&isModal=true&asPopupView=true","Contratos de prestación de servicios profesionales y de apoyo a la gestión","Contratación directa","Prestación de servicios profesionales y de apoyo a la gestión, o para la ejecución de trabajos artísticos que sólo puedan encomendarse a determinadas personas naturales","PRESTAR SUS SERVICIOS TÉCNICOS EN EL ÁREA GESTIÓN DEL DESARROLLO LOCAL EN LOS PROYECTOS DE INFRAESTRUCTURA Y  OBRAS CIVILES EN MARCO DEL PLAN DE DESARROLLO LOCAL 2021-2024","Inversión","Un nuevo contrato social y ambiental para la Bogotá del Siglo XXI",49,{"$f":"IF(ISERROR(VLOOKUP(K385,#REF!,2,FALSE)),\" \",VLOOKUP(K385,#REF!,2,FALSE))","v":" "},{"$f":"IF(ISERROR(VLOOKUP(K385,#REF!,3,FALSE)),\" \",VLOOKUP(K385,#REF!,3,FALSE))","v":" "},1871,0,22808650,"LUZ STELLA AMAYA NAVARRO","Persona Natural",null,"N/A","N/A",null,23400000,0,0,0,{"$f":"+W385+X385+Z385","v":23400000},23400000,"2022-01-28","2022-03-03","2022-09-02",180,0,0,52201579,"LILIANA FLOR YAMILE LAMPREA ZONA","2022-04-08",18850000,"Terminado",{"$f":"IF(ISERROR(AB385/AA385),\"-\",(AB385/AA385))","v":1}]
["FDLSC-CPS-273-2022",2022,"FDLSC-CD-144-2022","https://community.secop.gov.co/Public/Tendering/OpportunityDetail/Index?noticeUID=CO1.NTC.2729624&isFromPublicArea=True&isModal=true&asPopupView=true","Contratos de prestación de servicios profesionales y de apoyo a la gestión","Contratación directa","Prestación de servicios profesionales y de apoyo a la gestión, o para la ejecución de trabajos artísticos que sólo puedan encomendarse a determinadas personas naturales","PRESTAR SUS SERVICIOS TECNOLÓGICOS EN EL DESPACHO DEL ALCALDE LOCAL, EN LAS ACTIVIDADES ADMINISTRATIVAS DEL DESPACHO Y EN EL MANEJO DE CORRESPONDENCIA EN GENERAL DE LAS COMUNICACIONES OFICIALES GENERALES, EN FÍSICO Y MEDIANTE EL APLICATIVO DE ORFEO, APLICANDO LA NORMATIVIDAD VIGENTE, LOS PROCESOS Y PROCEDIMIENTOS ESTABLECIDOSEN EL SIG.","Inversión","Un nuevo contrato social y ambiental para la Bogotá del Siglo XXI",57,{"$f":"IF(ISERROR(VLOOKUP(K386,#REF!,2,FALSE)),\" \",VLOOKUP(K386,#REF!,2,FALSE))","v":" "},{"$f":"IF(ISERROR(VLOOKUP(K386,#REF!,3,FALSE)),\" \",VLOOKUP(K386,#REF!,3,FALSE))","v":" "},1873,0,1000810098,"ZAIRA SOFIA ZAMBRANO GOMEZ","Persona Natural",null,"N/A","N/A",null,23072000,0,0,0,{"$f":"+W386+X386+Z386","v":23072000},20764599,"2022-01-27","2022-02-02","2022-09-07",240,0,0,null,null,null,null,"Terminado",{"$f":"IF(ISERROR(AB386/AA386),\"-\",(AB386/AA386))","v":0.89999128814147022}]
["FDLSC-CPS-403-2022",2022,"FDLSC-CD-189-2022","https://community.secop.gov.co/Public/Tendering/OpportunityDetail/Index?noticeUID=CO1.NTC.3101802&isFromPublicArea=True&isModal=true&asPopupView=true","Contratos de prestación de servicios profesionales y de apoyo a la gestión","Contratación directa","Prestación de servicios profesionales y de apoyo a la gestión, o para la ejecución de trabajos artísticos que sólo puedan encomendarse a determinadas personas naturales","PRESTAR SUS SERVICIOS PROFESIONALES EN LO CONCERNIENTE A LA GESTIÓN  ADMINISTRATIVA COMPLEMENTARIA Y TÉCNICA, COMO APOYO A LA GESTIÓN  AMBIENTAL EXTERNA DE LA ALCALDÍA LOCAL DE SAN CRISTÓBAL DE LOS PROYECTOS  AMBIENTALES DEL PLAN DE DESARROLLO UN NUEVO CONTRATO SOCIAL Y AMBIENTAL  PARA SAN CRISTÓBAL.","Inversión","Un nuevo contrato social y ambiental para la Bogotá del Siglo XXI",28,{"$f":"IF(ISERROR(VLOOKUP(K387,#REF!,2,FALSE)),\" \",VLOOKUP(K387,#REF!,2,FALSE))","v":" "},{"$f":"IF(ISERROR(VLOOKUP(K387,#REF!,3,FALSE)),\" \",VLOOKUP(K387,#REF!,3,FALSE))","v":" "},1819,0,1010170661,"DIANA MARCELA RUBIO BERIGUES","Persona Natural",null,"N/A","N/A",null,22570000,0,0,0,{"$f":"+W387+X387+Z387","v":22570000},17454133,"2022-08-03","2022-08-05","2023-01-04",150,0,0,null,null,null,null,"En ejecución",{"$f":"IF(ISERROR(AB387/AA387),\"-\",(AB387/AA387))","v":0.77333331856446608}]
["346",2021,"FDLSC-CPS-346-2021","https://community.secop.gov.co/Public/Tendering/OpportunityDetail/Index?noticeUID=CO1.NTC.2146629&isFromPublicArea=True&isModal=False","Contratos de prestación de servicios profesionales y de apoyo a la gestión","Contratación directa","Prestación de servicios profesionales y de apoyo a la gestión, o para la ejecución de trabajos artísticos que sólo puedan encomendarse a determinadas personas naturales","PRESTAR LOS SERVICIOS PROFESIONALES PARA LA OPERACIÓN, SEGUIMIENTO Y CUMPLIMIENTO DE LOS PROCEDIMIENTOS ADMINISTRATIVOS, OPERATIVOS Y TÉCNICOS DEL PROYECTO ¿RETO LOCAL? Y LOS ASOCIADOS A LA INCLUSIÓN SOCIAL Y SEGURIDAD ECONÓMICA EN LA LOCALIDAD DE SAN CRISTÓBAL.","Inversión","Un nuevo contrato social y ambiental para la Bogotá del Siglo XXI",1,{"$f":"IF(ISERROR(VLOOKUP(K388,#REF!,2,FALSE)),\" \",VLOOKUP(K388,#REF!,2,FALSE))","v":" "},{"$f":"IF(ISERROR(VLOOKUP(K388,#REF!,3,FALSE)),\" \",VLOOKUP(K388,#REF!,3,FALSE))","v":" "},1852,0,"1023947690","ANGIE LORENA PARRA GALINDO","Persona Natural","N/A","N/A","N/A",null,0,0,1,22500000,{"$f":"+W388+X388+Z388","v":22500000},21900000,"2022-03-31","2021-08-05","2022-11-04",450,1,153,null,null,null,null,"Terminado",{"$f":"IF(ISERROR(AB388/AA388),\"-\",(AB388/AA388))","v":0.97333333333333338}]
["FDLSC-CPS-155-2022",2022,"FDLSC-CD-077-2022","https://community.secop.gov.co/Public/Tendering/OpportunityDetail/Index?noticeUID=CO1.NTC.2773392&isFromPublicArea=True&isModal=true&asPopupView=true","Contratos de prestación de servicios profesionales y de apoyo a la gestión","Contratación directa","Prestación de servicios profesionales y de apoyo a la gestión, o para la ejecución de trabajos artísticos que sólo puedan encomendarse a determinadas personas naturales","PRESTAR SUS SERVICIOS TÉCNICOS DE APOYO Y ASISTENCIA ADMINISTRATIVA AL ÁREA DE GESTIÓN DEL DESARROLLO LOCAL EN TEMAS DE PLANEACIÓN","Inversión","Un nuevo contrato social y ambiental para la Bogotá del Siglo XXI",57,{"$f":"IF(ISERROR(VLOOKUP(K389,#REF!,2,FALSE)),\" \",VLOOKUP(K389,#REF!,2,FALSE))","v":" "},{"$f":"IF(ISERROR(VLOOKUP(K389,#REF!,3,FALSE)),\" \",VLOOKUP(K389,#REF!,3,FALSE))","v":" "},1873,0,1030559747,"ANGELICA MARIA TORRES QUIROGA","Persona Natural",null,"N/A","N/A",null,22356000,0,0,0,{"$f":"+W389+X389+Z389","v":22356000},22356000,"2022-01-28","2022-02-03","2022-08-02",180,0,0,null,null,null,null,"Terminado",{"$f":"IF(ISERROR(AB389/AA389),\"-\",(AB389/AA389))","v":1}]
["FDLSC-CPS-491-2022",2022,"FDLSC-CD-245-2022","https://community.secop.gov.co/Public/Tendering/OpportunityDetail/Index?noticeUID=CO1.NTC.3183166&isFromPublicArea=True&isModal=true&asPopupView=true","Contratos de prestación de servicios profesionales y de apoyo a la gestión","Contratación directa","Prestación de servicios profesionales y de apoyo a la gestión, o para la ejecución de trabajos artísticos que sólo puedan encomendarse a determinadas personas naturales","PRESTAR SUS SERVICIOS PROFESIONALES EN EL ÁREA DE GESTIÓN DE DESARROLLO LOCAL PARA LA FORMULACIÓN, EVALUACIÓN, PRESENTACIÓN Y SEGUIMIENTO A PROYECTOS DE INVERSIÓN EN SALUD.","Inversión","Un nuevo contrato social y ambiental para la Bogotá del Siglo XXI",6,{"$f":"IF(ISERROR(VLOOKUP(K390,#REF!,2,FALSE)),\" \",VLOOKUP(K390,#REF!,2,FALSE))","v":" "},{"$f":"IF(ISERROR(VLOOKUP(K390,#REF!,3,FALSE)),\" \",VLOOKUP(K390,#REF!,3,FALSE))","v":" "},1843,0,79967309,"VICTOR JOVANI MORENO YEPES","Persona Natural",null,"N/A","N/A",null,22000000,0,0,0,{"$f":"+W390+X390+Z390","v":22000000},11916667,"2022-08-25","2022-08-26","2022-12-25",120,0,0,null,null,null,null,"Terminado",{"$f":"IF(ISERROR(AB390/AA390),\"-\",(AB390/AA390))","v":0.54166668181818178}]
["FDLSC-CPS-508-2022",2022,"FDLSC-CD-260-2022","https://community.secop.gov.co/Public/Tendering/OpportunityDetail/Index?noticeUID=CO1.NTC.3292421&isFromPublicArea=True&isModal=true&asPopupView=true","Contratos de prestación de servicios profesionales y de apoyo a la gestión","Contratación directa","Prestación de servicios profesionales y de apoyo a la gestión, o para la ejecución de trabajos artísticos que sólo puedan encomendarse a determinadas personas naturales","PRESTAR SUS SERVICIOS PROFESIONALESEN EL ÁREA DE GESTIÓN DE DESARROLLO LOCAL, REALIZANDO ACTIVIDADES ESTADÍSTICASDE  LOS  PROYECTOS  DE  INVERSIÓN,  DATOS  ABIERTOS,  ASÍ  COMO  DE  IDENTIFICACIÓN,ESPACIALIZACIÒN  Y  ADQUISICIÓN  DE  INFORMACIÓN  PREDIAL  PARA  LOS  DIFERENTESPROYECTOS  DE  LA  ALCALDÍA  LOCAL  DE  SAN  CRISTÓBAL.","Inversión","Un nuevo contrato social y ambiental para la Bogotá del Siglo XXI",57,{"$f":"IF(ISERROR(VLOOKUP(K391,#REF!,2,FALSE)),\" \",VLOOKUP(K391,#REF!,2,FALSE))","v":" "},{"$f":"IF(ISERROR(VLOOKUP(K391,#REF!,3,FALSE)),\" \",VLOOKUP(K391,#REF!,3,FALSE))","v":" "},1873,0,1023869002,"CRISTIAN CAMILO ALVARADO PRIETO ","Persona Natural",null,"N/A","N/A",null,22000000,0,0,0,{"$f":"+W391+X391+Z391","v":22000000},12833333,"2022-09-19","2022-09-21","2023-01-20",120,0,0,null,null,null,null,"En ejecución",{"$f":"IF(ISERROR(AB391/AA391),\"-\",(AB391/AA391))","v":0.58333331818181822}]
["FDLSC-CPS-380-2022",2022,"FDLSC-CD-179-2022","https://community.secop.gov.co/Public/Tendering/OpportunityDetail/Index?noticeUID=CO1.NTC.3059852&isFromPublicArea=True&isModal=False","Contratos de prestación de servicios profesionales y de apoyo a la gestión","Contratación directa","Prestación de servicios profesionales y de apoyo a la gestión, o para la ejecución de trabajos artísticos que sólo puedan encomendarse a determinadas personas naturales","PRESTAR SUS SERVICIOS TÉCNICOS PARA REALIZAR EL ACOMPAÑAMIENTO OPERATIVO Y COMUNITARIO DE LAS JUNTAS DE ACCIÓN COMUNAL, INSTANCIAS DE PARTICIPACION, SECTORES POBLACIONALES Y SU INTERLOCUCIÓN CON LA JUNTA ADMINISTRADORA LOCAL DE SAN CRISTÓBAL.","Inversión","Un nuevo contrato social y ambiental para la Bogotá del Siglo XXI",57,{"$f":"IF(ISERROR(VLOOKUP(K392,#REF!,2,FALSE)),\" \",VLOOKUP(K392,#REF!,2,FALSE))","v":" "},{"$f":"IF(ISERROR(VLOOKUP(K392,#REF!,3,FALSE)),\" \",VLOOKUP(K392,#REF!,3,FALSE))","v":" "},1873,0,1024562155,"JOSE MIGUEL MOLINA VEGA","Persona Natural",null,"N/A","N/A",null,22000000,0,0,0,{"$f":"+W392+X392+Z392","v":22000000},16666667,"2022-07-22","2022-07-26","2022-12-30",165,0,0,null,null,null,null,"Terminado",{"$f":"IF(ISERROR(AB392/AA392),\"-\",(AB392/AA392))","v":0.75757577272727272}]
["FDLSC-CPS-457-2022",2022,"FDLSC-CD-203-2022","https://community.secop.gov.co/Public/Tendering/OpportunityDetail/Index?noticeUID=CO1.NTC.3141889&isFromPublicArea=True&isModal=true&asPopupView=true","Contratos de prestación de servicios profesionales y de apoyo a la gestión","Contratación directa","Prestación de servicios profesionales y de apoyo a la gestión, o para la ejecución de trabajos artísticos que sólo puedan encomendarse a determinadas personas naturales","APOYAR TÉCNICAMENTE LAS DISTINTAS ETAPAS DE LOS PROCESOS DE COMPETENCIA DE LA ALCALDÍA LOCAL PARA LA DEPURACIÓN DE ACTUACIONES ADMINISTRATIVAS. DE ACUERDO CON LO CONTEMPLADO EN EL(LOS) PROYECTO(S) 1873 --- SAN CRISTÓBAL AL SERVICIO DE LA CIUDADANÍA","Inversión","Un nuevo contrato social y ambiental para la Bogotá del Siglo XXI",57,{"$f":"IF(ISERROR(VLOOKUP(K393,#REF!,2,FALSE)),\" \",VLOOKUP(K393,#REF!,2,FALSE))","v":" "},{"$f":"IF(ISERROR(VLOOKUP(K393,#REF!,3,FALSE)),\" \",VLOOKUP(K393,#REF!,3,FALSE))","v":" "},1873,0,1105685105,"RAFAEL PALMA MORENO","Persona Natural",null,"N/A","N/A",null,22000000,0,0,0,{"$f":"+W393+X393+Z393","v":22000000},17966667,"2022-08-11","2022-08-23","2022-12-22",120,0,0,null,null,null,null,"Terminado",{"$f":"IF(ISERROR(AB393/AA393),\"-\",(AB393/AA393))","v":0.81666668181818181}]
["FDLSC-CPS-420-2022",2022,"FDLSC-CD-203-2022","https://community.secop.gov.co/Public/Tendering/OpportunityDetail/Index?noticeUID=CO1.NTC.3126128&isFromPublicArea=True&isModal=true&asPopupView=true","Contratos de prestación de servicios profesionales y de apoyo a la gestión","Contratación directa","Prestación de servicios profesionales y de apoyo a la gestión, o para la ejecución de trabajos artísticos que sólo puedan encomendarse a determinadas personas naturales","EL CONTRATO QUE SE PRETENDE CELEBRAR, TENDRÁ POR OBJETO APOYAR TÉCNICAMENTE LAS DISTINTASETAPAS DE LOS PROCESOS DE COMPETENCIA DE LA ALCALDÍA LOCAL PARA LA DEPURACIÓNDE ACTUACIONES ADMINISTRATIVAS.","Inversión","Un nuevo contrato social y ambiental para la Bogotá del Siglo XXI",57,{"$f":"IF(ISERROR(VLOOKUP(K394,#REF!,2,FALSE)),\" \",VLOOKUP(K394,#REF!,2,FALSE))","v":" "},{"$f":"IF(ISERROR(VLOOKUP(K394,#REF!,3,FALSE)),\" \",VLOOKUP(K394,#REF!,3,FALSE))","v":" "},1873,0,79719940,"CESAR ALEXANDER URIZA","Persona Natural",null,"N/A","N/A",null,22000000,0,0,0,{"$f":"+W394+X394+Z394","v":22000000},20350000,"2022-08-09","2022-08-10","2022-12-09",120,0,0,null,null,null,null,"Terminado",{"$f":"IF(ISERROR(AB394/AA394),\"-\",(AB394/AA394))","v":0.92500000000000004}]
["FDLSC-CPS-421-2022",2022,"FDLSC-CD-203-2022","https://community.secop.gov.co/Public/Tendering/OpportunityDetail/Index?noticeUID=CO1.NTC.3126128&isFromPublicArea=True&isModal=true&asPopupView=true","Contratos de prestación de servicios profesionales y de apoyo a la gestión","Contratación directa","Prestación de servicios profesionales y de apoyo a la gestión, o para la ejecución de trabajos artísticos que sólo puedan encomendarse a determinadas personas naturales","EL CONTRATO QUE SE PRETENDE CELEBRAR, TENDRÁ POR OBJETO APOYAR TÉCNICAMENTE LAS DISTINTASETAPAS DE LOS PROCESOS DE COMPETENCIA DE LA ALCALDÍA LOCAL PARA LA DEPURACIÓNDE ACTUACIONES ADMINISTRATIVAS.","Inversión","Un nuevo contrato social y ambiental para la Bogotá del Siglo XXI",57,{"$f":"IF(ISERROR(VLOOKUP(K395,#REF!,2,FALSE)),\" \",VLOOKUP(K395,#REF!,2,FALSE))","v":" "},{"$f":"IF(ISERROR(VLOOKUP(K395,#REF!,3,FALSE)),\" \",VLOOKUP(K395,#REF!,3,FALSE))","v":" "},1873,0,52527997,"PAOLA ANDREA ARGUELLO RODRIGUEZ","Persona Natural",null,"N/A","N/A",null,22000000,0,0,0,{"$f":"+W395+X395+Z395","v":22000000},20350000,"2022-08-08","2022-08-10","2022-12-09",120,0,0,null,null,null,null,"Terminado",{"$f":"IF(ISERROR(AB395/AA395),\"-\",(AB395/AA395))","v":0.92500000000000004}]
["FDLSC-CPS-422-2022",2022,"FDLSC-CD-203-2022","https://community.secop.gov.co/Public/Tendering/OpportunityDetail/Index?noticeUID=CO1.NTC.3126128&isFromPublicArea=True&isModal=true&asPopupView=true","Contratos de prestación de servicios profesionales y de apoyo a la gestión","Contratación directa","Prestación de servicios profesionales y de apoyo a la gestión, o para la ejecución de trabajos artísticos que sólo puedan encomendarse a determinadas personas naturales","EL CONTRATO QUE SE PRETENDE CELEBRAR, TENDRÁ POR OBJETO APOYAR TÉCNICAMENTE LAS DISTINTASETAPAS DE LOS PROCESOS DE COMPETENCIA DE LA ALCALDÍA LOCAL PARA LA DEPURACIÓNDE ACTUACIONES ADMINISTRATIVAS.","Inversión","Un nuevo contrato social y ambiental para la Bogotá del Siglo XXI",57,{"$f":"IF(ISERROR(VLOOKUP(K396,#REF!,2,FALSE)),\" \",VLOOKUP(K396,#REF!,2,FALSE))","v":" "},{"$f":"IF(ISERROR(VLOOKUP(K396,#REF!,3,FALSE)),\" \",VLOOKUP(K396,#REF!,3,FALSE))","v":" "},1873,0,79378456,"MIGUEL ANTONIO PEREZ CORDOBA","Persona Natural",null,"N/A","N/A",null,22000000,0,0,0,{"$f":"+W396+X396+Z396","v":22000000},20350000,"2022-08-08","2022-08-10","2022-12-09",120,0,0,null,null,null,null,"Terminado",{"$f":"IF(ISERROR(AB396/AA396),\"-\",(AB396/AA396))","v":0.92500000000000004}]
["FDLSC-CPS-423-2022",2022,"FDLSC-CD-203-2022","https://community.secop.gov.co/Public/Tendering/OpportunityDetail/Index?noticeUID=CO1.NTC.3126128&isFromPublicArea=True&isModal=true&asPopupView=true","Contratos de prestación de servicios profesionales y de apoyo a la gestión","Contratación directa","Prestación de servicios profesionales y de apoyo a la gestión, o para la ejecución de trabajos artísticos que sólo puedan encomendarse a determinadas personas naturales","EL CONTRATO QUE SE PRETENDE CELEBRAR, TENDRÁ POR OBJETO APOYAR TÉCNICAMENTE LAS DISTINTASETAPAS DE LOS PROCESOS DE COMPETENCIA DE LA ALCALDÍA LOCAL PARA LA DEPURACIÓNDE ACTUACIONES ADMINISTRATIVAS.","Inversión","Un nuevo contrato social y ambiental para la Bogotá del Siglo XXI",57,{"$f":"IF(ISERROR(VLOOKUP(K397,#REF!,2,FALSE)),\" \",VLOOKUP(K397,#REF!,2,FALSE))","v":" "},{"$f":"IF(ISERROR(VLOOKUP(K397,#REF!,3,FALSE)),\" \",VLOOKUP(K397,#REF!,3,FALSE))","v":" "},1873,0,52738496,"YENNY ARDILA SOLER","Persona Natural",null,"N/A","N/A",null,22000000,0,0,0,{"$f":"+W397+X397+Z397","v":22000000},20350000,"2022-08-08","2022-08-10","2022-12-09",120,0,0,null,null,null,null,"Terminado",{"$f":"IF(ISERROR(AB397/AA397),\"-\",(AB397/AA397))","v":0.92500000000000004}]
["FDLSC-CPS-449-2022",2022,"FDLSC-CD-223-2022","https://community.secop.gov.co/Public/Tendering/OpportunityDetail/Index?noticeUID=CO1.NTC.3142754&isFromPublicArea=True&isModal=true&asPopupView=true","Contratos de prestación de servicios profesionales y de apoyo a la gestión","Contratación directa","Prestación de servicios profesionales y de apoyo a la gestión, o para la ejecución de trabajos artísticos que sólo puedan encomendarse a determinadas personas naturales","PRESTAR LOS SERVICIOS TÉCNICOS PARA APOYAR AL ADMINISTRADOR DE RED EN LO RELACIONADO CON LA PLATAFORMA INFORMÁTICA Y MEDIOS TECNOLOGICOS DE LA ALCALDÍA LOCAL DE SAN CRISTÓBAL","Inversión","Un nuevo contrato social y ambiental para la Bogotá del Siglo XXI",57,{"$f":"IF(ISERROR(VLOOKUP(K398,#REF!,2,FALSE)),\" \",VLOOKUP(K398,#REF!,2,FALSE))","v":" "},{"$f":"IF(ISERROR(VLOOKUP(K398,#REF!,3,FALSE)),\" \",VLOOKUP(K398,#REF!,3,FALSE))","v":" "},1873,0,80731158,"HECTOR YESID CAMARGO CASALLAS","Persona Natural",null,"N/A","N/A",null,21750000,0,0,0,{"$f":"+W398+X398+Z398","v":21750000},14935000,"2022-08-12","2022-08-18","2023-01-17",150,0,0,null,null,null,null,"En ejecución",{"$f":"IF(ISERROR(AB398/AA398),\"-\",(AB398/AA398))","v":0.68666666666666665}]
["FDLSC-CPS-085-2022",2022,"FDLSC-CD-047-2022","https://community.secop.gov.co/Public/Tendering/OpportunityDetail/Index?noticeUID=CO1.NTC.2655616&isFromPublicArea=True&isModal=true&asPopupView=true","Contratos de prestación de servicios profesionales y de apoyo a la gestión","Contratación directa","Prestación de servicios profesionales y de apoyo a la gestión, o para la ejecución de trabajos artísticos que sólo puedan encomendarse a determinadas personas naturales","PRESTACIÓN DE SERVICIOS DE APOYO A LA GESTIÓN, PARA EL LEVANTAMIENTO DE INFORMACIÓN, ACOMPAÑAMIENTO Y ORIENTACIÓN, DERIVADOS DE LA ATENCIÓN A LA MUJER Y A LA COMUNIDAD EN EL MARCO DEL PROYECTO DE INVERSIÓN Y EL PLAN DE DESARROLLO LOCAL 2021-2024.","Inversión","Un nuevo contrato social y ambiental para la Bogotá del Siglo XXI",40,{"$f":"IF(ISERROR(VLOOKUP(K399,#REF!,2,FALSE)),\" \",VLOOKUP(K399,#REF!,2,FALSE))","v":" "},{"$f":"IF(ISERROR(VLOOKUP(K399,#REF!,3,FALSE)),\" \",VLOOKUP(K399,#REF!,3,FALSE))","v":" "},1870,0,1031168743,"CAMILA ANDREA MENDIETA MONSALVE","Persona Natural",null,"N/A","N/A",null,21600000,0,0,0,{"$f":"+W399+X399+Z399","v":21600000},21510000,"2022-01-25","2022-02-02","2022-10-01",240,0,0,null,null,null,null,"Terminado",{"$f":"IF(ISERROR(AB399/AA399),\"-\",(AB399/AA399))","v":0.99583333333333335}]
["FDLSC-CPS-065-2022",2022,"FDLSC-CD-031-2022","https://community.secop.gov.co/Public/Tendering/OpportunityDetail/Index?noticeUID=CO1.NTC.2605191&isFromPublicArea=True&isModal=true&asPopupView=true","Contratos de prestación de servicios profesionales y de apoyo a la gestión","Contratación directa","Prestación de servicios profesionales y de apoyo a la gestión, o para la ejecución de trabajos artísticos que sólo puedan encomendarse a determinadas personas naturales","PRESTAR SERVICIOS DE APOYO TÉCNICO EN EL ÁREA DE GESTIÓN POLICIVA CON LOS DIFERENTES PROCESOS Y ACTUACIONES ADMINISTRATIVAS EXISTENTES, INCLUIDA LA IMPLEMENTACIÓN DE TRAMITES DE VERIFICACIÓN, SOPORTE Y ACOMPAÑAMIENTO.","Inversión","Un nuevo contrato social y ambiental para la Bogotá del Siglo XXI",57,{"$f":"IF(ISERROR(VLOOKUP(K400,#REF!,2,FALSE)),\" \",VLOOKUP(K400,#REF!,2,FALSE))","v":" "},{"$f":"IF(ISERROR(VLOOKUP(K400,#REF!,3,FALSE)),\" \",VLOOKUP(K400,#REF!,3,FALSE))","v":" "},1873,0,1023972012,"ANGIE LICETH TORRES CAPERA","Persona Natural",null,"N/A","N/A",null,22200000,-616667,0,0,{"$f":"+W400+X400+Z400","v":21583333},21583333,"2022-01-20","2022-01-21","2022-07-20",180,0,0,1001280936,"NATALIA JULIETH TORRES CAPERA","2022-06-29",3330000,"Terminado",{"$f":"IF(ISERROR(AB400/AA400),\"-\",(AB400/AA400))","v":1}]
["FDLSC-CPS-361-2022",2022,"FDLSC-MIC-001-2022","https://community.secop.gov.co/Public/Tendering/OpportunityDetail/Index?noticeUID=CO1.NTC.2873530&isFromPublicArea=True&isModal=False","Contratos de prestación de servicios profesionales y de apoyo a la gestión","Contratación mínima cuantia","No aplica","CONTRATAR EL DESARROLLO DE ACTIVIDADES DE LOGÍSTICA Y PUBLICIDAD Y DEMÁS ACTIVIDADES NECESARIAS EN EL MARCO DE LA CONMEMORACIÓN DEL \"DÍA INTERNACIONAL DE LA MUJER TRABAJADORA EN LA LOCALIDAD DE SAN CRISTÓBAL, EL DÍA 26 DE MARZO DE 2022","Inversión","Un nuevo contrato social y ambiental para la Bogotá del Siglo XXI",40,{"$f":"IF(ISERROR(VLOOKUP(K401,#REF!,2,FALSE)),\" \",VLOOKUP(K401,#REF!,2,FALSE))","v":" "},{"$f":"IF(ISERROR(VLOOKUP(K401,#REF!,3,FALSE)),\" \",VLOOKUP(K401,#REF!,3,FALSE))","v":" "},1870,6,1122136094,"DIANA MARCELA RUIZ MARTIN","Persona Natural",null,"N/A","N/A",null,21375000,0,0,0,{"$f":"+W401+X401+Z401","v":21375000},21375000,"2022-03-25","2022-03-25","2022-03-31",8,0,0,null,null,null,null,"Terminado",{"$f":"IF(ISERROR(AB401/AA401),\"-\",(AB401/AA401))","v":1}]
["FDLSC-CPS-571-2022",2022,"FDLSC-CD-291-2022","https://community.secop.gov.co/Public/Tendering/OpportunityDetail/Index?noticeUID=CO1.NTC.3504437&isFromPublicArea=True&isModal=true&asPopupView=true","Contratos de prestación de servicios profesionales y de apoyo a la gestión","Contratación directa","Prestación de servicios profesionales y de apoyo a la gestión, o para la ejecución de trabajos artísticos que sólo puedan encomendarse a determinadas personas naturales","PRESTAR SUS SERVICIOS PROFESIONALES ESPECIALIZADOS PARA APOYAR AL ALCALDE LOCAL EN LA PROMOCIÓN, ACOMPAÑAMIENTO Y ATENCIÓN DE LAS INSTANCIAS DE COORDINACIÓN INTERINSTITUCIONALES Y LAS INSTANCIAS DE PARTICIPACIÓN LOCALES, ASÍ COMO LOS PROCESOS COMUNITARIOS EN LA LOCALIDAD.","Inversión","Un nuevo contrato social y ambiental para la Bogotá del Siglo XXI",57,{"$f":"IF(ISERROR(VLOOKUP(K402,#REF!,2,FALSE)),\" \",VLOOKUP(K402,#REF!,2,FALSE))","v":" "},{"$f":"IF(ISERROR(VLOOKUP(K402,#REF!,3,FALSE)),\" \",VLOOKUP(K402,#REF!,3,FALSE))","v":" "},1873,0,1023947690,"ANGIE LORENA PARRA GALINDO","Persona Natural",null,"N/A","N/A",null,14106000,0,1,7053000,{"$f":"+W402+X402+Z402","v":21159000},3761600,"2022-11-09","2022-11-15","2023-02-14",60,0,0,null,null,null,null,"En ejecución",{"$f":"IF(ISERROR(AB402/AA402),\"-\",(AB402/AA402))","v":0.17777777777777778}]
["FDLSC-CPS-452-2022",2022,"FDLSC-CD-226-2022","https://community.secop.gov.co/Public/Tendering/OpportunityDetail/Index?noticeUID=CO1.NTC.3139922&isFromPublicArea=True&isModal=true&asPopupView=true","Contratos de prestación de servicios profesionales y de apoyo a la gestión","Contratación directa","Prestación de servicios profesionales y de apoyo a la gestión, o para la ejecución de trabajos artísticos que sólo puedan encomendarse a determinadas personas naturales","PRESTAR SUS SERVICIOS TÉCNICOS EN ELÁREA GESTIÓN DEL DESARROLLO LOCAL EN LOS PROYECTOS DE INFRAESTRUCTURA YOBRAS CIVILES EN MARCO DEL PLAN DE DESARROLLO LOCAL 2021-2024.","Inversión","Un nuevo contrato social y ambiental para la Bogotá del Siglo XXI",49,{"$f":"IF(ISERROR(VLOOKUP(K403,#REF!,2,FALSE)),\" \",VLOOKUP(K403,#REF!,2,FALSE))","v":" "},{"$f":"IF(ISERROR(VLOOKUP(K403,#REF!,3,FALSE)),\" \",VLOOKUP(K403,#REF!,3,FALSE))","v":" "},1871,0,1022392285,"LAURA LILIANA MUÑOZ PEDRAZA","Persona Natural",null,"N/A","N/A",null,15600000,0,1,5460000,{"$f":"+W403+X403+Z403","v":21060000},13260000,"2022-08-12","2022-08-19","2023-01-30",120,1,42,null,null,null,null,"En ejecución",{"$f":"IF(ISERROR(AB403/AA403),\"-\",(AB403/AA403))","v":0.62962962962962965}]
["FDLSC-CPS-532-2022",2022,"FDLSC-CD-278-2022","https://community.secop.gov.co/Public/Tendering/OpportunityDetail/Index?noticeUID=CO1.NTC.3352411&isFromPublicArea=True&isModal=true&asPopupView=true","Contratos de prestación de servicios profesionales y de apoyo a la gestión","Contratación directa","Prestación de servicios profesionales y de apoyo a la gestión, o para la ejecución de trabajos artísticos que sólo puedan encomendarse a determinadas personas naturales","PRESTAR SUS SERVICIOS PROFESIONALES AL FDLSC PARA REALIZAR LA FORMULACIÓN, PRESENTACIÓN, EVALUACIÓN, SEGUIMIENTO Y APOYAR LA SUPERVISIÓN DE LOS PROCESOS CONTRACTUALES DERIVADOS DE TEMAS DE RECREACIÓN, CULTURA Y DEPORTE, Y LOS DEMÁS QUE LE SEAN ASIGNADOS PARA LA PLANEACIÓN.","Inversión","Un nuevo contrato social y ambiental para la Bogotá del Siglo XXI",57,{"$f":"IF(ISERROR(VLOOKUP(K404,#REF!,2,FALSE)),\" \",VLOOKUP(K404,#REF!,2,FALSE))","v":" "},{"$f":"IF(ISERROR(VLOOKUP(K404,#REF!,3,FALSE)),\" \",VLOOKUP(K404,#REF!,3,FALSE))","v":" "},1873,0,1014184818,"LAURA FERNANDA GARCÍA RODRIGUEZ","Persona Natural",null,"N/A","N/A",null,21000000,0,0,0,{"$f":"+W404+X404+Z404","v":21000000},11000000,"2022-10-03","2022-10-03","2023-01-20",105,0,0,null,null,null,null,"En ejecución",{"$f":"IF(ISERROR(AB404/AA404),\"-\",(AB404/AA404))","v":0.52380952380952384}]
["FDLSC-CPS-531-2022",2022,"FDLSC-CD-277-2022","https://community.secop.gov.co/Public/Tendering/OpportunityDetail/Index?noticeUID=CO1.NTC.3350944&isFromPublicArea=True&isModal=true&asPopupView=true","Contratos de prestación de servicios profesionales y de apoyo a la gestión","Contratación directa","Prestación de servicios profesionales y de apoyo a la gestión, o para la ejecución de trabajos artísticos que sólo puedan encomendarse a determinadas personas naturales","PRESTAR SUS SERVICIOS PROFESIONALES AL FONDO DE DESARROLLO LOCAL DE SAN CRISTOBAL EN EL MARCO DEL PLAN DE DESARROLLO 2021- 2024 APOYANDO LA GESTIÓN ADMINISTRATIVA TENDIENTE A INCREMENTAR LAS HABILIDADES DEL PERSONAL YEL BIENESTAR INSTITUCIONAL Y LAS DEMAS ACTIVIDADES QUE SE GENEREN. ","Inversión","Un nuevo contrato social y ambiental para la Bogotá del Siglo XXI",57,{"$f":"IF(ISERROR(VLOOKUP(K405,#REF!,2,FALSE)),\" \",VLOOKUP(K405,#REF!,2,FALSE))","v":" "},{"$f":"IF(ISERROR(VLOOKUP(K405,#REF!,3,FALSE)),\" \",VLOOKUP(K405,#REF!,3,FALSE))","v":" "},1873,0,1032401910,"ESTEPHANIA VALLENTINA CUAICUAN CHICAIZA","Persona Natural",null,"N/A","N/A",null,21000000,0,0,0,{"$f":"+W405+X405+Z405","v":21000000},11200000,"2022-10-03","2022-10-05","2023-01-19",105,0,0,null,null,null,null,"En ejecución",{"$f":"IF(ISERROR(AB405/AA405),\"-\",(AB405/AA405))","v":0.53333333333333333}]
["FDLSC-CPS-388-2022",2022,"FDLSC-CD-185-2022","https://community.secop.gov.co/Public/Tendering/OpportunityDetail/Index?noticeUID=CO1.NTC.3066926&isFromPublicArea=True&isModal=true&asPopupView=true","Contratos de prestación de servicios profesionales y de apoyo a la gestión","Contratación directa","Prestación de servicios profesionales y de apoyo a la gestión, o para la ejecución de trabajos artísticos que sólo puedan encomendarse a determinadas personas naturales","PRESTAR LOS SERVICIOS TÉCNICOS PARA LA OPERACIÓN, SEGUIMIENTO Y CUMPLIMIENTO DE LOS PROCESOS Y PROCEDIMIENTOS DEL SERVICIO APOYOS ECONÓMICOS TIPO C, REQUERIDOS PARA EL OPORTUNO Y ADECUADO REGISTRO, CRUCE Y REPORTE DE LOS DATOS EN EL SISTEMA MISIONAL SIRBE, QUE CONTRIBUYAN A LA GARANTÍA DE LOS DERECHOS DE LA POBLACIÓN MAYOR EN EL MARCO DE LA POLÍTICA PÚBLICA SOCIAL PARA EL ENVEJECIMIENTO Y LA VEJEZ EN EL DISTRITO CAPITAL A CARGO DE LA ALCALDÍA LOCAL.","Inversión","Un nuevo contrato social y ambiental para la Bogotá del Siglo XXI",1,{"$f":"IF(ISERROR(VLOOKUP(K406,#REF!,2,FALSE)),\" \",VLOOKUP(K406,#REF!,2,FALSE))","v":" "},{"$f":"IF(ISERROR(VLOOKUP(K406,#REF!,3,FALSE)),\" \",VLOOKUP(K406,#REF!,3,FALSE))","v":" "},1852,0,1016046094,"KAREN YUFFENI QUINTERO MAHECHA","Persona Natural",null,"N/A","N/A",null,17500000,0,1,3500000,{"$f":"+W406+X406+Z406","v":21000000},14350000,"2022-07-26","2022-07-28","2023-01-27",150,0,0,null,null,null,null,"En ejecución",{"$f":"IF(ISERROR(AB406/AA406),\"-\",(AB406/AA406))","v":0.68333333333333335}]
["FDLSC-CPS-045-2022",2022,"FDLSC-CD-061-2022","https://community.secop.gov.co/Public/Tendering/OpportunityDetail/Index?noticeUID=CO1.NTC.2642625&isFromPublicArea=True&isModal=true&asPopupView=true","Contratos de prestación de servicios profesionales y de apoyo a la gestión","Contratación directa","Prestación de servicios profesionales y de apoyo a la gestión, o para la ejecución de trabajos artísticos que sólo puedan encomendarse a determinadas personas naturales","PRESTAR LOS SERVICIOS TÉCNICOS PARA LA OPERACIÓN, SEGUIMIENTO Y CUMPLIMIENTO DE LOS PROCESOS Y PROCEDIMIENTOS DEL SERVICIO APOYOS ECONÓMICOS TIPO C, REQUERIDOS PARA EL OPORTUNO Y ADECUADO REGISTRO, CRUCE Y REPORTE DE LOS DATOS EN EL SISTEMA MISIONAL SIRBE, QUE CONTRIBUYAN A LA GARANTÍA DE LOS DERECHOS DE LA POBLACIÓN MAYOR EN EL MARCO DE LA POLÍTICA PÚBLICA SOCIAL PARA EL ENVEJECIMIENTO Y LA VEJEZ EN EL DISTRITO CAPITAL A CARGO DE LA ALCALDÍA LOCAL","Inversión","Un nuevo contrato social y ambiental para la Bogotá del Siglo XXI",1,{"$f":"IF(ISERROR(VLOOKUP(K407,#REF!,2,FALSE)),\" \",VLOOKUP(K407,#REF!,2,FALSE))","v":" "},{"$f":"IF(ISERROR(VLOOKUP(K407,#REF!,3,FALSE)),\" \",VLOOKUP(K407,#REF!,3,FALSE))","v":" "},1852,0,52725824,"RUTH MARCELA GONZALEZ GARCIA","Persona Natural",null,"N/A","N/A",null,21000000,0,0,0,{"$f":"+W407+X407+Z407","v":21000000},21000000,"2022-01-28","2022-02-04","2022-08-03",180,0,0,null,null,null,null,"Terminado",{"$f":"IF(ISERROR(AB407/AA407),\"-\",(AB407/AA407))","v":1}]
["FDLSC-CPS-101-2022",2022,"FDLSC-CD-061-2022","https://community.secop.gov.co/Public/Tendering/OpportunityDetail/Index?noticeUID=CO1.NTC.2642625&isFromPublicArea=True&isModal=true&asPopupView=true","Contratos de prestación de servicios profesionales y de apoyo a la gestión","Contratación directa","Prestación de servicios profesionales y de apoyo a la gestión, o para la ejecución de trabajos artísticos que sólo puedan encomendarse a determinadas personas naturales","PRESTAR LOS SERVICIOS TÉCNICOS PARA LA OPERACIÓN, SEGUIMIENTO Y CUMPLIMIENTO DE LOS PROCESOS Y PROCEDIMIENTOS DEL SERVICIO APOYOS ECONÓMICOS TIPO C, REQUERIDOS PARA EL OPORTUNO Y ADECUADO REGISTRO, CRUCE Y REPORTE DE LOS DATOS EN EL SISTEMA MISIONAL SIRBE, QUE CONTRIBUYAN A LA GARANTÍA DE LOS DERECHOS DE LA POBLACIÓN MAYOR EN EL MARCO DE LA POLÍTICA PÚBLICA SOCIAL PARA EL ENVEJECIMIENTO Y LA VEJEZ EN EL DISTRITO CAPITAL A CARGO DE LA ALCALDÍA LOCAL","Inversión","Un nuevo contrato social y ambiental para la Bogotá del Siglo XXI",1,{"$f":"IF(ISERROR(VLOOKUP(K408,#REF!,2,FALSE)),\" \",VLOOKUP(K408,#REF!,2,FALSE))","v":" "},{"$f":"IF(ISERROR(VLOOKUP(K408,#REF!,3,FALSE)),\" \",VLOOKUP(K408,#REF!,3,FALSE))","v":" "},1852,0,1023892890,"GINA PAOLA BEJARANO CALDERON","Persona Natural",null,"N/A","N/A",null,21000000,0,0,0,{"$f":"+W408+X408+Z408","v":21000000},21000000,"2022-01-24","2022-01-28","2022-07-27",180,0,0,null,null,null,null,"Terminado",{"$f":"IF(ISERROR(AB408/AA408),\"-\",(AB408/AA408))","v":1}]
["FDLSC-CPS-102-2022",2022,"FDLSC-CD-061-2022","https://community.secop.gov.co/Public/Tendering/OpportunityDetail/Index?noticeUID=CO1.NTC.2642625&isFromPublicArea=True&isModal=true&asPopupView=true","Contratos de prestación de servicios profesionales y de apoyo a la gestión","Contratación directa","Prestación de servicios profesionales y de apoyo a la gestión, o para la ejecución de trabajos artísticos que sólo puedan encomendarse a determinadas personas naturales","PRESTAR LOS SERVICIOS TÉCNICOS PARA LA OPERACIÓN, SEGUIMIENTO Y CUMPLIMIENTO DE LOS PROCESOS Y PROCEDIMIENTOS DEL SERVICIO APOYOS ECONÓMICOS TIPO C, REQUERIDOS PARA EL OPORTUNO Y ADECUADO REGISTRO, CRUCE Y REPORTE DE LOS DATOS EN EL SISTEMA MISIONAL SIRBE, QUE CONTRIBUYAN A LA GARANTÍA DE LOS DERECHOS DE LA POBLACIÓN MAYOR EN EL MARCO DE LA POLÍTICA PÚBLICA SOCIAL PARA EL ENVEJECIMIENTO Y LA VEJEZ EN EL DISTRITO CAPITAL A CARGO DE LA ALCALDÍA LOCAL","Inversión","Un nuevo contrato social y ambiental para la Bogotá del Siglo XXI",1,{"$f":"IF(ISERROR(VLOOKUP(K409,#REF!,2,FALSE)),\" \",VLOOKUP(K409,#REF!,2,FALSE))","v":" "},{"$f":"IF(ISERROR(VLOOKUP(K409,#REF!,3,FALSE)),\" \",VLOOKUP(K409,#REF!,3,FALSE))","v":" "},1852,0,1016046094,"KAREN YUFFENI QUINTERO MAHECHA","Persona Natural",null,"N/A","N/A",null,21000000,0,0,0,{"$f":"+W409+X409+Z409","v":21000000},21000000,"2022-01-24","2022-01-25","2022-07-24",180,0,0,null,null,null,null,"Terminado",{"$f":"IF(ISERROR(AB409/AA409),\"-\",(AB409/AA409))","v":1}]
["FDLSC-CPS-105-2022",2022,"FDLSC-CD-062-2022","https://community.secop.gov.co/Public/Tendering/OpportunityDetail/Index?noticeUID=CO1.NTC.2759216&isFromPublicArea=True&isModal=true&asPopupView=true","Contratos de prestación de servicios profesionales y de apoyo a la gestión","Contratación directa","Prestación de servicios profesionales y de apoyo a la gestión, o para la ejecución de trabajos artísticos que sólo puedan encomendarse a determinadas personas naturales","PRESTAR LOS SERVICIOS DE APOYO A LA GESTIÓN DE LA ALCALDÍA LOCAL DE SAN CRISTÓBAL EN EL DESARROLLO DE ACTIVIDADES DE REACTIVACIÓN ECONÓMICA, ACOMPAÑAMIENTO EN CAMPO Y PARTICIPACIÓN EN LOS PROCESOS NECESARIOS PARA LA CORRECTA EJECUCIÓN DE LOS EVENTOS RELACIONADOS Y DE LAS NECESIDADES DE LA ALCALDIA LOCAL. ","Inversión","Un nuevo contrato social y ambiental para la Bogotá del Siglo XXI",6,{"$f":"IF(ISERROR(VLOOKUP(K410,#REF!,2,FALSE)),\" \",VLOOKUP(K410,#REF!,2,FALSE))","v":" "},{"$f":"IF(ISERROR(VLOOKUP(K410,#REF!,3,FALSE)),\" \",VLOOKUP(K410,#REF!,3,FALSE))","v":" "},1865,0,79462654,"DEIVER JIMENEZ ANTURY","Persona Natural",null,"N/A","N/A",null,20800000,0,0,0,{"$f":"+W410+X410+Z410","v":20800000},20800000,"2022-01-28","2022-02-04","2022-10-03",240,0,0,null,null,null,null,"Terminado",{"$f":"IF(ISERROR(AB410/AA410),\"-\",(AB410/AA410))","v":1}]
["FDLSC-CPS-106-2022",2022,"FDLSC-CD-062-2022","https://community.secop.gov.co/Public/Tendering/OpportunityDetail/Index?noticeUID=CO1.NTC.2759216&isFromPublicArea=True&isModal=true&asPopupView=true","Contratos de prestación de servicios profesionales y de apoyo a la gestión","Contratación directa","Prestación de servicios profesionales y de apoyo a la gestión, o para la ejecución de trabajos artísticos que sólo puedan encomendarse a determinadas personas naturales","PRESTAR LOS SERVICIOS DE APOYO A LA GESTIÓN DE LA ALCALDÍA LOCAL DE SAN CRISTÓBAL EN EL DESARROLLO DE ACTIVIDADES DE REACTIVACIÓN ECONÓMICA, ACOMPAÑAMIENTO EN CAMPO Y PARTICIPACIÓN EN LOS PROCESOS NECESARIOS PARA LA CORRECTA EJECUCIÓN DE LOS EVENTOS RELACIONADOS Y DE LAS NECESIDADES DE LA ALCALDIA LOCAL. ","Inversión","Un nuevo contrato social y ambiental para la Bogotá del Siglo XXI",6,{"$f":"IF(ISERROR(VLOOKUP(K411,#REF!,2,FALSE)),\" \",VLOOKUP(K411,#REF!,2,FALSE))","v":" "},{"$f":"IF(ISERROR(VLOOKUP(K411,#REF!,3,FALSE)),\" \",VLOOKUP(K411,#REF!,3,FALSE))","v":" "},1865,0,79492933,"JAIRO VARGAS","Persona Natural",null,"N/A","N/A",null,20800000,0,0,0,{"$f":"+W411+X411+Z411","v":20800000},20800000,"2022-01-28","2022-02-04","2022-10-03",240,0,0,null,null,null,null,"Terminado",{"$f":"IF(ISERROR(AB411/AA411),\"-\",(AB411/AA411))","v":1}]
["FDLSC-CPS-118-2022",2022,"FDLSC-CD-062-2022","https://community.secop.gov.co/Public/Tendering/OpportunityDetail/Index?noticeUID=CO1.NTC.2759216&isFromPublicArea=True&isModal=true&asPopupView=true","Contratos de prestación de servicios profesionales y de apoyo a la gestión","Contratación directa","Prestación de servicios profesionales y de apoyo a la gestión, o para la ejecución de trabajos artísticos que sólo puedan encomendarse a determinadas personas naturales","PRESTAR LOS SERVICIOS DE APOYO A LA GESTIÓN DE LA ALCALDÍA LOCAL DE SAN CRISTÓBAL EN EL DESARROLLO DE ACTIVIDADES DE REACTIVACIÓN ECONÓMICA, ACOMPAÑAMIENTO EN CAMPO Y PARTICIPACIÓN EN LOS PROCESOS NECESARIOS PARA LA CORRECTA EJECUCIÓN DE LOS EVENTOS RELACIONADOS Y DE LAS NECESIDADES DE LA ALCALDIA LOCAL. ","Inversión","Un nuevo contrato social y ambiental para la Bogotá del Siglo XXI",6,{"$f":"IF(ISERROR(VLOOKUP(K412,#REF!,2,FALSE)),\" \",VLOOKUP(K412,#REF!,2,FALSE))","v":" "},{"$f":"IF(ISERROR(VLOOKUP(K412,#REF!,3,FALSE)),\" \",VLOOKUP(K412,#REF!,3,FALSE))","v":" "},1865,0,1136889669,"SABRINA ALEXANDRA PAEZ POSSE","Persona Natural",null,"N/A","N/A",null,20800000,0,0,0,{"$f":"+W412+X412+Z412","v":20800000},20800000,"2022-01-28","2022-02-04","2022-10-23",240,0,0,null,null,null,null,"Terminado",{"$f":"IF(ISERROR(AB412/AA412),\"-\",(AB412/AA412))","v":1}]
["FDLSC-CPS-500-2022",2022,"FDLSC-CD-253-2022","https://community.secop.gov.co/Public/Tendering/OpportunityDetail/Index?noticeUID=CO1.NTC.3251552&isFromPublicArea=True&isModal=true&asPopupView=true","Contratos de prestación de servicios profesionales y de apoyo a la gestión","Contratación directa","Prestación de servicios profesionales y de apoyo a la gestión, o para la ejecución de trabajos artísticos que sólo puedan encomendarse a determinadas personas naturales","PRESTAR SUS SERVICIOS TECNICOS EN EL DESPACHO DEL ALCALDE LOCAL PARA APOYAR EN LOS DISTINTOS PROCESOS A CARGO INCLUYENDO EL TRÁMITE ADMINISTRATIVO,  OPERATIVO  Y  LA  REALIZACIÓN  DE  LOSDESPACHOS  COMISORIOS","Inversión","Un nuevo contrato social y ambiental para la Bogotá del Siglo XXI",57,{"$f":"IF(ISERROR(VLOOKUP(K413,#REF!,2,FALSE)),\" \",VLOOKUP(K413,#REF!,2,FALSE))","v":" "},{"$f":"IF(ISERROR(VLOOKUP(K413,#REF!,3,FALSE)),\" \",VLOOKUP(K413,#REF!,3,FALSE))","v":" "},1873,0,1023885354,"JENNY PAOLA MARTINEZ CELY","Persona Natural",null,"N/A","N/A",null,16516000,0,1,4129000,{"$f":"+W413+X413+Z413","v":20645000},11285933,"2022-09-07","2022-09-09","2023-01-30",120,1,22,null,null,null,null,"En ejecución",{"$f":"IF(ISERROR(AB413/AA413),\"-\",(AB413/AA413))","v":0.54666665052070718}]
["FDLSC-CPS-526-2022",2022,"FDLSC-CD-273-2022","https://community.secop.gov.co/Public/Tendering/OpportunityDetail/Index?noticeUID=CO1.NTC.3336536&isFromPublicArea=True&isModal=true&asPopupView=true","Contratos de prestación de servicios profesionales y de apoyo a la gestión","Contratación directa","Prestación de servicios profesionales y de apoyo a la gestión, o para la ejecución de trabajos artísticos que sólo puedan encomendarse a determinadas personas naturales","PRESTAR SUS SERVICIOS PROFESIONALES AL FDLSC PARA REALIZAR LA FORMULACIÓN, PRESENTACIÓN, EVALUACIÓN, SEGUIMIENTO Y APOYAR LA SUPERVISIÓN DE LOS PROCESOS CONTRACTUALES DERIVADOS DE TEMAS DE RECREACIÓN, CULTURA Y DEPORTE, Y LOS DEMÁS QUE LE SEAN ASIGNADOS PARA LA PLANEACIÓN","Inversión","Un nuevo contrato social y ambiental para la Bogotá del Siglo XXI",57,{"$f":"IF(ISERROR(VLOOKUP(K414,#REF!,2,FALSE)),\" \",VLOOKUP(K414,#REF!,2,FALSE))","v":" "},{"$f":"IF(ISERROR(VLOOKUP(K414,#REF!,3,FALSE)),\" \",VLOOKUP(K414,#REF!,3,FALSE))","v":" "},1873,0,1023894240,"GIOVANNY ALBERTO ALFONSO MARIN","Persona Natural",null,"N/A","N/A",null,20640000,0,0,0,{"$f":"+W414+X414+Z414","v":20640000},9976000,"2022-09-29","2022-10-03","2023-02-02",120,0,0,null,null,null,null,"En ejecución",{"$f":"IF(ISERROR(AB414/AA414),\"-\",(AB414/AA414))","v":0.48333333333333334}]
["FDLSC-CPS-190-2022",2022,"FDLSC-CD-089-2022","https://community.secop.gov.co/Public/Tendering/OpportunityDetail/Index?noticeUID=CO1.NTC.2706066&isFromPublicArea=True&isModal=true&asPopupView=true","Contratos de prestación de servicios profesionales y de apoyo a la gestión","Contratación directa","Prestación de servicios profesionales y de apoyo a la gestión, o para la ejecución de trabajos artísticos que sólo puedan encomendarse a determinadas personas naturales","PRESTACIÓN DE SERVICIOS DE APOYO EN LA EJECUCIÓN DE ACTIVIDADES DE OBRA CIVIL, QUE CONLLEVEN AL MEJORAMIENTO Y ADECUACIÓN DEL ESPACIO PÚBLICO Y LA MALLA VIAL DE LA LOCALIDAD DE SAN CRISTÓBAL.","Inversión","Un nuevo contrato social y ambiental para la Bogotá del Siglo XXI",49,{"$f":"IF(ISERROR(VLOOKUP(K415,#REF!,2,FALSE)),\" \",VLOOKUP(K415,#REF!,2,FALSE))","v":" "},{"$f":"IF(ISERROR(VLOOKUP(K415,#REF!,3,FALSE)),\" \",VLOOKUP(K415,#REF!,3,FALSE))","v":" "},1871,0,79604362,"JUAN CARLOS GRIMALDOS ","Persona Natural",null,"N/A","N/A",null,14976000,0,1,5179200,{"$f":"+W415+X415+Z415","v":20155200},18283200,"2022-01-28","2022-02-02","2022-12-30",240,1,83,null,null,null,null,"Terminado",{"$f":"IF(ISERROR(AB415/AA415),\"-\",(AB415/AA415))","v":0.90712074303405577}]
["FDLSC-CPS-488-2022",2022,"FDLSC-CD-290-2022","https://community.secop.gov.co/Public/Tendering/OpportunityDetail/Index?noticeUID=CO1.NTC.3425657&isFromPublicArea=True&isModal=true&asPopupView=true\n","Contratos de prestación de servicios profesionales y de apoyo a la gestión","Contratación directa","Prestación de servicios profesionales y de apoyo a la gestión, o para la ejecución de trabajos artísticos que sólo puedan encomendarse a determinadas personas naturales","PRESTAR SUS SERVICIOS PROFESIONALES PARA LA GESTIÓN EN EL ÁREA DE DESARROLLO LOCAL DE SAN CRISTÓBAL, EN EL APOYO DE LA FORMULACIÓN, PLANEACIÓN, PRESENTACIÓN Y SEGUIMIENTO DE LOS PROYECTOS DE INFRAESTRUCTURA Y OBRAS CIVILES QUE DESARROLLE LA ENTIDAD, Y EN LOS REQUERIMIENTOS DE INFRAESTRUCTURA CIVIL QUE TENGA LA ALCALDÍA LOCAL DE SAN CRISTÓBAL","Inversión","Un nuevo contrato social y ambiental para la Bogotá del Siglo XXI",49,{"$f":"IF(ISERROR(VLOOKUP(K416,#REF!,2,FALSE)),\" \",VLOOKUP(K416,#REF!,2,FALSE))","v":" "},{"$f":"IF(ISERROR(VLOOKUP(K416,#REF!,3,FALSE)),\" \",VLOOKUP(K416,#REF!,3,FALSE))","v":" "},1871,0,1121924645,"ERWIN JOHAN TORRES CARRION","Persona Natural",null,"N/A","N/A",null,20100000,0,0,0,{"$f":"+W416+X416+Z416","v":20100000},8263333,"2022-10-20","2022-10-24","2023-01-23",90,0,0,null,null,null,null,"En ejecución",{"$f":"IF(ISERROR(AB416/AA416),\"-\",(AB416/AA416))","v":0.41111109452736316}]
["FDLSC-CV-376-2022",2022,"FDLSC-MIC-005-2022","https://community.secop.gov.co/Public/Tendering/OpportunityDetail/Index?noticeUID=CO1.NTC.3011123&isFromPublicArea=True&isModal=False","Compraventa de bienes muebles","Contratación mínima cuantia","No aplica","ADQUISICIÓN DE UNIDADES DE CONSERVACIÓN PARA EL ACERVO DOCUMENTAL (CAJAS Y CARPETAS) PARA EL ARCHIVO DE LA ALCALDÍA LOCAL DE SAN CRISTÓBAL","Funcionamiento","Un nuevo contrato social y ambiental para la Bogotá del Siglo XXI","No aplica",{"$f":"IF(ISERROR(VLOOKUP(K417,#REF!,2,FALSE)),\" \",VLOOKUP(K417,#REF!,2,FALSE))","v":" "},{"$f":"IF(ISERROR(VLOOKUP(K417,#REF!,3,FALSE)),\" \",VLOOKUP(K417,#REF!,3,FALSE))","v":" "},5304,15,830085106,"COMERCIALIZADORA VIMEL LTDA","Persona Jurídica",null,"N/A","N/A",null,13373756,0,1,6686878,{"$f":"+W417+X417+Z417","v":20060634},0,"2022-07-21","2022-07-29","2022-12-28",60,1,60,null,null,null,null,"Terminado",{"$f":"IF(ISERROR(AB417/AA417),\"-\",(AB417/AA417))","v":0}]
["FDLSC-CPS-434-2022",2022,"FDLSC-CD-214-2022","https://community.secop.gov.co/Public/Tendering/OpportunityDetail/Index?noticeUID=CO1.NTC.3132314&isFromPublicArea=True&isModal=true&asPopupView=true","Contratos de prestación de servicios profesionales y de apoyo a la gestión","Contratación directa","Prestación de servicios profesionales y de apoyo a la gestión, o para la ejecución de trabajos artísticos que sólo puedan encomendarse a determinadas personas naturales","APOYAR LA IMPLEMENTACIÓN DEL PROYECTO DE INVERSIÓN VINCULADO AL PROGRAMA JÓVENES A LA U, EN EL MARCO DEL PLAN DE DESARROLLO LOCAL: UN NUEVO CONTRATO SOCIAL Y AMBIENTAL PARA SAN CRISTÓBAL, 2021 -2024./","Inversión","Un nuevo contrato social y ambiental para la Bogotá del Siglo XXI",17,{"$f":"IF(ISERROR(VLOOKUP(K418,#REF!,2,FALSE)),\" \",VLOOKUP(K418,#REF!,2,FALSE))","v":" "},{"$f":"IF(ISERROR(VLOOKUP(K418,#REF!,3,FALSE)),\" \",VLOOKUP(K418,#REF!,3,FALSE))","v":" "},1792,0,80060049,"EDWIN ANDRES MORA VIRGUEZ","Persona Natural",null,"N/A","N/A",null,20000000,0,0,0,{"$f":"+W418+X418+Z418","v":20000000},17000000,"2022-08-10","2022-08-19","2022-12-18",120,0,0,null,null,null,null,"Terminado",{"$f":"IF(ISERROR(AB418/AA418),\"-\",(AB418/AA418))","v":0.85}]
["FDLSC-CPS-438-2022",2022,"FDLSC-CD-217-2022","https://community.secop.gov.co/Public/Tendering/OpportunityDetail/Index?noticeUID=CO1.NTC.3132144&isFromPublicArea=True&isModal=true&asPopupView=true","Contratos de prestación de servicios profesionales y de apoyo a la gestión","Contratación directa","Prestación de servicios profesionales y de apoyo a la gestión, o para la ejecución de trabajos artísticos que sólo puedan encomendarse a determinadas personas naturales","PRESTAR SUS SERVICIOS PROFESIONALES PARA LA GESTIÓN TÉCNICA Y DE REFERENCIACIÓN DEL RIESGO, A LA LUZ DEL PLAN DE DESARROLLO 2021 - 2024: UN NUEVO CONTRATO AMBIENTAL Y SOCIAL PARA SAN CRISTÓBAL","Inversión","Un nuevo contrato social y ambiental para la Bogotá del Siglo XXI",30,{"$f":"IF(ISERROR(VLOOKUP(K419,#REF!,2,FALSE)),\" \",VLOOKUP(K419,#REF!,2,FALSE))","v":" "},{"$f":"IF(ISERROR(VLOOKUP(K419,#REF!,3,FALSE)),\" \",VLOOKUP(K419,#REF!,3,FALSE))","v":" "},1866,0,1022943157,"ANDERSSON FABIAN RINCON ALMARIO","Persona Natural",null,"N/A","N/A",null,20000000,0,0,0,{"$f":"+W419+X419+Z419","v":20000000},18166666,"2022-08-10","2022-08-12","2022-12-11",120,0,0,null,null,null,null,"Terminado",{"$f":"IF(ISERROR(AB419/AA419),\"-\",(AB419/AA419))","v":0.90833330000000001}]
["FDLSC-CPS-435-2022",2022,"FDLSC-CD-215-2022","https://community.secop.gov.co/Public/Tendering/OpportunityDetail/Index?noticeUID=CO1.NTC.3128238&isFromPublicArea=True&isModal=true&asPopupView=true","Contratos de prestación de servicios profesionales y de apoyo a la gestión","Contratación directa","Prestación de servicios profesionales y de apoyo a la gestión, o para la ejecución de trabajos artísticos que sólo puedan encomendarse a determinadas personas naturales","PRESTAR SUS PRESTAR SUS SERVICIOS PROFESIONALES EN EL ÁREA DE GESTIÓN DEL DESARROLLO LOCAL, APOYANDO A LA ADMINISTRACIÓN LOCAL EN EL DESARROLLO DE LOS PROCESOS ADMINISTRATIVOS REQUERIDOS PARA EL CUMPLIMIENTO DEL PDL 2021-2024”","Inversión","Un nuevo contrato social y ambiental para la Bogotá del Siglo XXI",57,{"$f":"IF(ISERROR(VLOOKUP(K420,#REF!,2,FALSE)),\" \",VLOOKUP(K420,#REF!,2,FALSE))","v":" "},{"$f":"IF(ISERROR(VLOOKUP(K420,#REF!,3,FALSE)),\" \",VLOOKUP(K420,#REF!,3,FALSE))","v":" "},1873,0,1088236804,"RUBEN DAVID ESPINAL PARRA","Persona Natural",null,"N/A","N/A",null,20000000,0,0,0,{"$f":"+W420+X420+Z420","v":20000000},18333333,"2022-08-09","2022-08-11","2022-12-10",120,0,0,null,null,null,null,"Terminado",{"$f":"IF(ISERROR(AB420/AA420),\"-\",(AB420/AA420))","v":0.91666665000000003}]
["FDLSC-CPS-140-2022",2022,"FDLSC-CD-070-2022","https://community.secop.gov.co/Public/Tendering/OpportunityDetail/Index?noticeUID=CO1.NTC.2677956&isFromPublicArea=True&isModal=true&asPopupView=true","Contratos de prestación de servicios profesionales y de apoyo a la gestión","Contratación directa","Prestación de servicios profesionales y de apoyo a la gestión, o para la ejecución de trabajos artísticos que sólo puedan encomendarse a determinadas personas naturales","PRESTAR SUS SERVICIOS PROFESIONALES EN EL ÁREA DE GESTIÓN DEL DESARROLLO LOCAL, APOYANDO A  LA ADMINISTRACIÓN LOCAL EN EL DESARROLLO DE LOS PROCESOS ADMINISTRATIVOS REQUERIDOS PARA EL CUMPLIMIENTO DEL PDL 2021-2024","Inversión","Un nuevo contrato social y ambiental para la Bogotá del Siglo XXI",57,{"$f":"IF(ISERROR(VLOOKUP(K421,#REF!,2,FALSE)),\" \",VLOOKUP(K421,#REF!,2,FALSE))","v":" "},{"$f":"IF(ISERROR(VLOOKUP(K421,#REF!,3,FALSE)),\" \",VLOOKUP(K421,#REF!,3,FALSE))","v":" "},1873,0,79901601,"DANIEL EDUARDO RODRIGUEZ TORO","Persona Natural",null,"N/A","N/A",null,20000000,0,0,0,{"$f":"+W421+X421+Z421","v":20000000},20000000,"2022-01-25","2022-02-04","2022-06-03",120,0,0,null,null,null,null,"Terminado",{"$f":"IF(ISERROR(AB421/AA421),\"-\",(AB421/AA421))","v":1}]
["FDLSC-CPS-351-2022",2022,"FDLSC-CD-173-2022","https://community.secop.gov.co/Public/Tendering/OpportunityDetail/Index?noticeUID=CO1.NTC.2816023&isFromPublicArea=True&isModal=true&asPopupView=true","Contratos de prestación de servicios profesionales y de apoyo a la gestión","Contratación directa","Prestación de servicios profesionales y de apoyo a la gestión, o para la ejecución de trabajos artísticos que sólo puedan encomendarse a determinadas personas naturales","PRESTAR LOS SERVICIOS TÉCNICOS EN EL ÁREA DE GESTIÓN DE DESARROLLO LOCAL, EN LA EJECUCIÓN DE LAS ACTIVIDADES OPERATIVAS Y ADMINISTRATIVAS RELACIONADAS CON EL TRAMITE PERTINENTE A LAS COMUNICACIONES INTERNAS Y EXTERNAS CON EL FIN DE CONTROLAR DE FORMA ÁGIL Y  OPORTUNA LOS DOCUMENTOS ENVIADOS Y  RECIBIDOS POR LAS DEPENDENCIAS, DE ACUERDO A  LOS APLICATIVOS EN GENERAL Y LO ESTABLECIDO POR LA SECRETARIA DISTRITAL DE GOBIERNO.","Inversión","Un nuevo contrato social y ambiental para la Bogotá del Siglo XXI",57,{"$f":"IF(ISERROR(VLOOKUP(K422,#REF!,2,FALSE)),\" \",VLOOKUP(K422,#REF!,2,FALSE))","v":" "},{"$f":"IF(ISERROR(VLOOKUP(K422,#REF!,3,FALSE)),\" \",VLOOKUP(K422,#REF!,3,FALSE))","v":" "},1873,0,1069728200,"LUIS ENRIQUE VARGAS MENDOZA","Persona Natural",null,"N/A","N/A",null,19800000,0,0,0,{"$f":"+W422+X422+Z422","v":19800000},19800000,"2022-01-28","2022-02-04","2022-08-03",180,0,0,null,null,null,null,"Terminado",{"$f":"IF(ISERROR(AB422/AA422),\"-\",(AB422/AA422))","v":1}]
["FDLSC-CPS-178-2022",2022,"FDLSC-CD-074-2022","https://community.secop.gov.co/Public/Tendering/OpportunityDetail/Index?noticeUID=CO1.NTC.2682338&isFromPublicArea=True&isModal=true&asPopupView=true","Contratos de prestación de servicios profesionales y de apoyo a la gestión","Contratación directa","Prestación de servicios profesionales y de apoyo a la gestión, o para la ejecución de trabajos artísticos que sólo puedan encomendarse a determinadas personas naturales","APOYAR ADMINISTRATIVA Y ASISTENCIALMENTE A LAS INSPECCIONES DE POLICÍA DE LA LOCALIDAD.","Inversión","Un nuevo contrato social y ambiental para la Bogotá del Siglo XXI",57,{"$f":"IF(ISERROR(VLOOKUP(K423,#REF!,2,FALSE)),\" \",VLOOKUP(K423,#REF!,2,FALSE))","v":" "},{"$f":"IF(ISERROR(VLOOKUP(K423,#REF!,3,FALSE)),\" \",VLOOKUP(K423,#REF!,3,FALSE))","v":" "},1873,0,1023905963,"DIANA KATERYN RONCANCIO ANGULO","Persona Natural",null,"N/A","N/A",null,19776000,0,0,0,{"$f":"+W423+X423+Z423","v":19776000},19611200,"2022-01-25","2022-02-03","2022-10-02",240,0,0,null,null,null,null,"Terminado",{"$f":"IF(ISERROR(AB423/AA423),\"-\",(AB423/AA423))","v":0.9916666666666667}]
["FDLSC-CPS-180-2022",2022,"FDLSC-CD-074-2022","https://community.secop.gov.co/Public/Tendering/OpportunityDetail/Index?noticeUID=CO1.NTC.2682338&isFromPublicArea=True&isModal=true&asPopupView=true","Contratos de prestación de servicios profesionales y de apoyo a la gestión","Contratación directa","Prestación de servicios profesionales y de apoyo a la gestión, o para la ejecución de trabajos artísticos que sólo puedan encomendarse a determinadas personas naturales","APOYAR ADMINISTRATIVA Y ASISTENCIALMENTE A LAS INSPECCIONES DE POLICÍA DE LA LOCALIDAD.","Inversión","Un nuevo contrato social y ambiental para la Bogotá del Siglo XXI",57,{"$f":"IF(ISERROR(VLOOKUP(K424,#REF!,2,FALSE)),\" \",VLOOKUP(K424,#REF!,2,FALSE))","v":" "},{"$f":"IF(ISERROR(VLOOKUP(K424,#REF!,3,FALSE)),\" \",VLOOKUP(K424,#REF!,3,FALSE))","v":" "},1873,0,52160756,"DAYSSI ROCIO MARTINEZ RODRIGUEZ","Persona Natural",null,"N/A","N/A",null,19776000,0,0,0,{"$f":"+W424+X424+Z424","v":19776000},19611200,"2022-01-25","2022-02-03","2022-10-02",240,0,0,null,null,null,null,"Terminado",{"$f":"IF(ISERROR(AB424/AA424),\"-\",(AB424/AA424))","v":0.9916666666666667}]
["FDLSC-CPS-055-2022",2022,"FDLSC-CD-034-2022","https://community.secop.gov.co/Public/Tendering/OpportunityDetail/Index?noticeUID=CO1.NTC.2645583&isFromPublicArea=True&isModal=true&asPopupView=true","Contratos de prestación de servicios profesionales y de apoyo a la gestión","Contratación directa","Prestación de servicios profesionales y de apoyo a la gestión, o para la ejecución de trabajos artísticos que sólo puedan encomendarse a determinadas personas naturales","PRESTAR SUS SERVICIOS DE APOYO ASISTENCIAL EN EL ÁREA DE GESTIÓN PARA EL DESARROLLO LOCAL, CON EL FIN DE ORIENTAR, ATENDER Y APOYAR LA ATENCIÓN DE LA CIUDADANÍA EN TODOS LOS TEMAS DE INFORMACION REQUERIDA.","Inversión","Un nuevo contrato social y ambiental para la Bogotá del Siglo XXI",57,{"$f":"IF(ISERROR(VLOOKUP(K425,#REF!,2,FALSE)),\" \",VLOOKUP(K425,#REF!,2,FALSE))","v":" "},{"$f":"IF(ISERROR(VLOOKUP(K425,#REF!,3,FALSE)),\" \",VLOOKUP(K425,#REF!,3,FALSE))","v":" "},1873,0,52432042,"SONIA MARCELA FANDIÑO VARGAS","Persona Natural",null,"N/A","N/A",null,19776000,0,0,0,{"$f":"+W425+X425+Z425","v":19776000},19693600,"2022-01-25","2022-02-02","2022-10-01",240,0,0,null,null,null,null,"Terminado",{"$f":"IF(ISERROR(AB425/AA425),\"-\",(AB425/AA425))","v":0.99583333333333335}]
["FDLSC-CPS-387-2022",2022,"FDLSC-CD-184-2022","https://community.secop.gov.co/Public/Tendering/OpportunityDetail/Index?noticeUID=CO1.NTC.3139392&isFromPublicArea=True&isModal=true&asPopupView=true","Contratos de prestación de servicios profesionales y de apoyo a la gestión","Contratación directa","Prestación de servicios profesionales y de apoyo a la gestión, o para la ejecución de trabajos artísticos que sólo puedan encomendarse a determinadas personas naturales","PRESTAR SUS SERVICIOS TECNICOS DE APOYO CONTABLE EN LOS PROCESOS DE CAUSACIÓN, SISTEMATIZACION, REGISTROS DE INFORMACIÓN Y PRESENTACION DE INFORMES, DANDO CUMPLIMIENTO A LAS POLITICAS CONTABLES APLICABLES A LA SECRETARIA DE GOBIERNO Y LOS FONDOS DE DESARROLLO LOCAL.","Inversión","Un nuevo contrato social y ambiental para la Bogotá del Siglo XXI",57,{"$f":"IF(ISERROR(VLOOKUP(K426,#REF!,2,FALSE)),\" \",VLOOKUP(K426,#REF!,2,FALSE))","v":" "},{"$f":"IF(ISERROR(VLOOKUP(K426,#REF!,3,FALSE)),\" \",VLOOKUP(K426,#REF!,3,FALSE))","v":" "},1873,0,1032434207,"LIZETH PAOLA GAMBA CASALLAS","Persona Natural",null,"N/A","N/A",null,19570000,0,0,0,{"$f":"+W426+X426+Z426","v":19570000},12655267,"2022-08-12","2022-08-23","2023-02-22",150,0,0,null,null,null,null,"En ejecución",{"$f":"IF(ISERROR(AB426/AA426),\"-\",(AB426/AA426))","v":0.64666668369954006}]
["FDLSC-CPS-248-2022",2022,"FDLSC-CD-130-2022","https://community.secop.gov.co/Public/Tendering/OpportunityDetail/Index?noticeUID=CO1.NTC.2742627&isFromPublicArea=True&isModal=true&asPopupView=true","Contratos de prestación de servicios profesionales y de apoyo a la gestión","Contratación directa","Prestación de servicios profesionales y de apoyo a la gestión, o para la ejecución de trabajos artísticos que sólo puedan encomendarse a determinadas personas naturales","PRESTAR SUS SERVICIOS TÉCNICOS DE APOYO PARA REVISAR, DIGITAR Y  PROCESAR LA INFORMACION SOLICITADA POR EL ALMACENISTA OPORTUNAMENTE SIGUIENDO LOS PROCESOS ESTABLECIDOS POR EL AREA","Inversión","Un nuevo contrato social y ambiental para la Bogotá del Siglo XXI",57,{"$f":"IF(ISERROR(VLOOKUP(K427,#REF!,2,FALSE)),\" \",VLOOKUP(K427,#REF!,2,FALSE))","v":" "},{"$f":"IF(ISERROR(VLOOKUP(K427,#REF!,3,FALSE)),\" \",VLOOKUP(K427,#REF!,3,FALSE))","v":" "},1873,0,1233890200,"SERGIO ENRIQUE DIAZ GONZALEZ","Persona Natural",null,"N/A","N/A",null,19260000,0,0,0,{"$f":"+W427+X427+Z427","v":19260000},19260000,"2022-01-28","2022-02-04","2022-08-03",180,0,0,null,null,null,null,"Terminado",{"$f":"IF(ISERROR(AB427/AA427),\"-\",(AB427/AA427))","v":1}]
["FDLSC-CPS-287-2022",2022,"FDLSC-CD-130-2022","https://community.secop.gov.co/Public/Tendering/OpportunityDetail/Index?noticeUID=CO1.NTC.2708583&isFromPublicArea=True&isModal=true&asPopupView=true","Contratos de prestación de servicios profesionales y de apoyo a la gestión","Contratación directa","Prestación de servicios profesionales y de apoyo a la gestión, o para la ejecución de trabajos artísticos que sólo puedan encomendarse a determinadas personas naturales","PRESTAR SUS SERVICIOS TÉCNICOS DE APOYO PARA REVISAR, DIGITAR Y  PROCESAR LA INFORMACION SOLICITADA POR EL ALMACENISTA OPORTUNAMENTE SIGUIENDO LOS PROCESOS ESTABLECIDOS POR EL AREA","Inversión","Un nuevo contrato social y ambiental para la Bogotá del Siglo XXI",57,{"$f":"IF(ISERROR(VLOOKUP(K428,#REF!,2,FALSE)),\" \",VLOOKUP(K428,#REF!,2,FALSE))","v":" "},{"$f":"IF(ISERROR(VLOOKUP(K428,#REF!,3,FALSE)),\" \",VLOOKUP(K428,#REF!,3,FALSE))","v":" "},1873,0,80114740,"WILLIAM ANTONIO BETANCOURT APONTE","Persona Natural",null,"N/A","N/A",null,19260000,0,0,0,{"$f":"+W428+X428+Z428","v":19260000},19260000,"2022-01-28","2022-02-05","2022-08-04",180,0,0,null,null,null,null,"Terminado",{"$f":"IF(ISERROR(AB428/AA428),\"-\",(AB428/AA428))","v":1}]
["FDLSC-CPS-257-2022",2022,"FDLSC-CD-138-2022","https://community.secop.gov.co/Public/Tendering/OpportunityDetail/Index?noticeUID=CO1.NTC.2708583&isFromPublicArea=True&isModal=true&asPopupView=true","Contratos de prestación de servicios profesionales y de apoyo a la gestión","Contratación directa","Prestación de servicios profesionales y de apoyo a la gestión, o para la ejecución de trabajos artísticos que sólo puedan encomendarse a determinadas personas naturales","PRESTAR SU SERVICIOS ASISTENCIALES PARA EL APOYO A LOS PROCESO DE PROTECCIÓN Y BIENESTAR ANIMAL DEL FONDO DE DESARROLLO LOCAL DE SAN CRÍSTOBAL EN MATERIA ADMINISTRATIVA, ASÍ COMO LABORES DE CAMPO.","Inversión","Un nuevo contrato social y ambiental para la Bogotá del Siglo XXI",34,{"$f":"IF(ISERROR(VLOOKUP(K429,#REF!,2,FALSE)),\" \",VLOOKUP(K429,#REF!,2,FALSE))","v":" "},{"$f":"IF(ISERROR(VLOOKUP(K429,#REF!,3,FALSE)),\" \",VLOOKUP(K429,#REF!,3,FALSE))","v":" "},1826,0,1023867435,"NELSON FABIAN RODRIGUEZ HERNANDEZ","Persona Natural",null,"N/A","N/A",null,19200000,0,0,0,{"$f":"+W429+X429+Z429","v":19200000},18960000,"2022-01-27","2022-02-04","2022-10-03",240,0,0,null,null,null,null,"Terminado",{"$f":"IF(ISERROR(AB429/AA429),\"-\",(AB429/AA429))","v":0.98750000000000004}]
["FDLSC-CPS-288-2022",2022,"FDLSC-CD-138-2022","https://community.secop.gov.co/Public/Tendering/OpportunityDetail/Index?noticeUID=CO1.NTC.2590234&isFromPublicArea=True&isModal=true&asPopupView=true","Contratos de prestación de servicios profesionales y de apoyo a la gestión","Contratación directa","Prestación de servicios profesionales y de apoyo a la gestión, o para la ejecución de trabajos artísticos que sólo puedan encomendarse a determinadas personas naturales","PRESTAR SU SERVICIOS ASISTENCIALES PARA EL APOYO A LOS PROCESO DE PROTECCIÓN Y BIENESTAR ANIMAL DEL FONDO DE DESARROLLO LOCAL DE SAN CRÍSTOBAL EN MATERIA ADMINISTRATIVA, ASÍ COMO LABORES DE CAMPO.","Inversión","Un nuevo contrato social y ambiental para la Bogotá del Siglo XXI",34,{"$f":"IF(ISERROR(VLOOKUP(K430,#REF!,2,FALSE)),\" \",VLOOKUP(K430,#REF!,2,FALSE))","v":" "},{"$f":"IF(ISERROR(VLOOKUP(K430,#REF!,3,FALSE)),\" \",VLOOKUP(K430,#REF!,3,FALSE))","v":" "},1826,0,1013623002,"JOHN ALEJANDRO GOMEZ ORTIZ","Persona Natural",null,"N/A","N/A",null,19200000,0,0,0,{"$f":"+W430+X430+Z430","v":19200000},18960000,"2022-01-28","2022-02-04","2022-10-03",240,0,0,null,null,null,null,"Terminado",{"$f":"IF(ISERROR(AB430/AA430),\"-\",(AB430/AA430))","v":0.98750000000000004}]
["FDLSC-CPS-018-2022",2022,"FDLSC-CD-011-2022","https://community.secop.gov.co/Public/Tendering/OpportunityDetail/Index?noticeUID=CO1.NTC.2589705&isFromPublicArea=True&isModal=true&asPopupView=true","Contratos de prestación de servicios profesionales y de apoyo a la gestión","Contratación directa","Prestación de servicios profesionales y de apoyo a la gestión, o para la ejecución de trabajos artísticos que sólo puedan encomendarse a determinadas personas naturales","PRESTAR SUS SERVICIOS ASISTENCIALES PARA APOYAR LA GESTIÓN LOCAL Y  TERRITORIAL DE LOS TEMAS DE SEGURIDAD Y  CONVIVENCIA CIUDADANA, EN EL MARCO DEL PLAN DE DESARROLLO LOCAL 2021-2024.","Inversión","Un nuevo contrato social y ambiental para la Bogotá del Siglo XXI",43,{"$f":"IF(ISERROR(VLOOKUP(K431,#REF!,2,FALSE)),\" \",VLOOKUP(K431,#REF!,2,FALSE))","v":" "},{"$f":"IF(ISERROR(VLOOKUP(K431,#REF!,3,FALSE)),\" \",VLOOKUP(K431,#REF!,3,FALSE))","v":" "},1824,0,1023898424,"RUTH TERESA MEDINA ALBARRACIN","Persona Natural",null,"N/A","N/A",null,19200000,0,0,0,{"$f":"+W431+X431+Z431","v":19200000},19200000,"2022-01-18","2022-01-24","2022-09-23",240,0,0,null,null,null,null,"Terminado",{"$f":"IF(ISERROR(AB431/AA431),\"-\",(AB431/AA431))","v":1}]
["FDLSC-CPS-258-2022",2022,"FDLSC-CD-138-2022","https://community.secop.gov.co/Public/Tendering/OpportunityDetail/Index?noticeUID=CO1.NTC.2708583&isFromPublicArea=True&isModal=true&asPopupView=true","Contratos de prestación de servicios profesionales y de apoyo a la gestión","Contratación directa","Prestación de servicios profesionales y de apoyo a la gestión, o para la ejecución de trabajos artísticos que sólo puedan encomendarse a determinadas personas naturales","PRESTAR SU SERVICIOS ASISTENCIALES PARA EL APOYO A LOS PROCESO DE PROTECCIÓN Y BIENESTAR ANIMAL DEL FONDO DE DESARROLLO LOCAL DE SAN CRÍSTOBAL EN MATERIA ADMINISTRATIVA, ASÍ COMO LABORES DE CAMPO.","Inversión","Un nuevo contrato social y ambiental para la Bogotá del Siglo XXI",34,{"$f":"IF(ISERROR(VLOOKUP(K432,#REF!,2,FALSE)),\" \",VLOOKUP(K432,#REF!,2,FALSE))","v":" "},{"$f":"IF(ISERROR(VLOOKUP(K432,#REF!,3,FALSE)),\" \",VLOOKUP(K432,#REF!,3,FALSE))","v":" "},1826,0,1000048556,"KAREN LIZETH MORENO MARTINEZ","Persona Natural",null,"N/A","N/A",null,19200000,0,0,0,{"$f":"+W432+X432+Z432","v":19200000},19200000,"2022-01-27","2022-02-04","2022-10-03",240,0,0,null,null,null,null,"Terminado",{"$f":"IF(ISERROR(AB432/AA432),\"-\",(AB432/AA432))","v":1}]
["FDLSC-CPS-564-2022",2022,"FDLSC-CD-302-2022","https://community.secop.gov.co/Public/Tendering/OpportunityDetail/Index?noticeUID=CO1.NTC.3475326&isFromPublicArea=True&isModal=true&asPopupView=true","Contratos de prestación de servicios profesionales y de apoyo a la gestión","Contratación directa","Prestación de servicios profesionales y de apoyo a la gestión, o para la ejecución de trabajos artísticos que sólo puedan encomendarse a determinadas personas naturales","PRESTAR SERVICIOS PROFESIONALES ESPECIALIZADOS EN EL DESPACHO DEL ALCALDE LOCAL DE SAN CRISTÓBAL PARA APOYAR LA REVISIÓN, VERIFICACIÓN Y ACOMPAÑAMIENTO DE LOS ASPECTOS ADMINISTRATIVOS, DE LOS ASUNTOS RELACIONADOS CON PROCESOS DE MALLA VIAL, ESPACIO PÚBLICO, INFRAESTRUCTURA DE OBRAS DE INGENIERÍA O ARQUITECTURA DEL FDLSC, DE CONFORMIDAD CON EL MARCO NORMATIVO APLICABLE EN LA MATERIA ","Inversión","Un nuevo contrato social y ambiental para la Bogotá del Siglo XXI",57,{"$f":"IF(ISERROR(VLOOKUP(K433,#REF!,2,FALSE)),\" \",VLOOKUP(K433,#REF!,2,FALSE))","v":" "},{"$f":"IF(ISERROR(VLOOKUP(K433,#REF!,3,FALSE)),\" \",VLOOKUP(K433,#REF!,3,FALSE))","v":" "},1873,0,79803207,"JULIO HERNAN PEÑA CASTAÑEDA","Persona Natural",null,"N/A","N/A",null,18750000,0,0,0,{"$f":"+W433+X433+Z433","v":18750000},5250000,"2022-11-10","2022-11-10","2023-01-24",45,0,0,null,null,null,null,"En ejecución",{"$f":"IF(ISERROR(AB433/AA433),\"-\",(AB433/AA433))","v":0.28000000000000003}]
["FDLSC-CPS-555-2022",2022,"FDLSC-CD-295-2022","https://community.secop.gov.co/Public/Tendering/OpportunityDetail/Index?noticeUID=CO1.NTC.3446376&isFromPublicArea=True&isModal=true&asPopupView=true","Contratos de prestación de servicios profesionales y de apoyo a la gestión","Contratación directa","Prestación de servicios profesionales y de apoyo a la gestión, o para la ejecución de trabajos artísticos que sólo puedan encomendarse a determinadas personas naturales","PRESTAR SUS SERVICIOS PROFESIONALES AL FDLSC PARA REALIZAR LA FORMULACIÓN, PRESENTACIÓN, EVALUACIÓN, SEGUIMIENTO Y APOYO A LA SUPERVISIÓN DE LOS PROCESOS CONTRACTUALES DERIVADOS DEL PROYECTO DE INVERSIÓN 1801 SAN CRISTÓBAL ES DEPORTE Y LOS DEMÁS QUE LE SEAN ASIGNADOS POR PLANEACIÓN","Inversión","Un nuevo contrato social y ambiental para la Bogotá del Siglo XXI",57,{"$f":"IF(ISERROR(VLOOKUP(K434,#REF!,2,FALSE)),\" \",VLOOKUP(K434,#REF!,2,FALSE))","v":" "},{"$f":"IF(ISERROR(VLOOKUP(K434,#REF!,3,FALSE)),\" \",VLOOKUP(K434,#REF!,3,FALSE))","v":" "},1873,0,79646805,"FREDDY ALBERTO HERNANDEZ PAEZ","Persona Natural",null,"N/A","N/A",null,18540000,0,0,0,{"$f":"+W434+X434+Z434","v":18540000},6386000,"2022-10-26","2022-10-26","2023-01-30",90,0,0,null,null,null,null,"En ejecución",{"$f":"IF(ISERROR(AB434/AA434),\"-\",(AB434/AA434))","v":0.34444444444444444}]
["FDLSC-CPS-466-2022",2022,"FDLSC-CD-234-2022","https://community.secop.gov.co/Public/Tendering/OpportunityDetail/Index?noticeUID=CO1.NTC.3147621&isFromPublicArea=True&isModal=true&asPopupView=true","Contratos de prestación de servicios profesionales y de apoyo a la gestión","Contratación directa","Prestación de servicios profesionales y de apoyo a la gestión, o para la ejecución de trabajos artísticos que sólo puedan encomendarse a determinadas personas naturales","PRESTAR SUS SERVICIOS PROFESIONALESPARA APOYAR LOS PROCESOS DE ATENCION A POBLACIÓN MUJERES EN EL MARCO DE LOSPROYECTOS DE INVERSIÓN 1870 Y 1811 DE LA ALSC EN EL PDL 2021-2024.","Inversión","Un nuevo contrato social y ambiental para la Bogotá del Siglo XXI",57,{"$f":"IF(ISERROR(VLOOKUP(K435,#REF!,2,FALSE)),\" \",VLOOKUP(K435,#REF!,2,FALSE))","v":" "},{"$f":"IF(ISERROR(VLOOKUP(K435,#REF!,3,FALSE)),\" \",VLOOKUP(K435,#REF!,3,FALSE))","v":" "},1873,0,1023889457,"GINA CAROLAY CORREALES JIMENEZ","Persona Natural",null,"N/A","N/A",null,18540000,0,0,0,{"$f":"+W435+X435+Z435","v":18540000},15759000,"2022-08-12","2022-08-19","2022-12-18",120,0,0,null,null,null,null,"Terminado",{"$f":"IF(ISERROR(AB435/AA435),\"-\",(AB435/AA435))","v":0.85}]
["FDLSC-CPS-036-2022",2022,"FDLSC-CD-021-2022","https://community.secop.gov.co/Public/Tendering/OpportunityDetail/Index?noticeUID=CO1.NTC.2618171&isFromPublicArea=True&isModal=true&asPopupView=true","Contratos de prestación de servicios profesionales y de apoyo a la gestión","Contratación directa","Prestación de servicios profesionales y de apoyo a la gestión, o para la ejecución de trabajos artísticos que sólo puedan encomendarse a determinadas personas naturales","PRESTAR SUS SERVICIOS TÉCNICOS DE APOYO A LA GESTIÓN ADMINISTRATIVA, AL ÁREA DE GESTIÓN DEL DESARROLLO LOCAL EN TEMAS DE CONTRATACIÓN, PARA FORTALECER LAS ETAPAS PRECONTRACTUALES Y CONTRACTUALES DE ACUERDO AL PLAN ANUAL DE ADQUISICIONES DE LA ALCALDÍA LOCAL DE SAN CRISTÓBAL.","Inversión","Un nuevo contrato social y ambiental para la Bogotá del Siglo XXI",57,{"$f":"IF(ISERROR(VLOOKUP(K436,#REF!,2,FALSE)),\" \",VLOOKUP(K436,#REF!,2,FALSE))","v":" "},{"$f":"IF(ISERROR(VLOOKUP(K436,#REF!,3,FALSE)),\" \",VLOOKUP(K436,#REF!,3,FALSE))","v":" "},1873,0,1015421107,"MARIA ALEJANDRA MEJIA REYES","Persona Natural",null,"N/A","N/A",null,18528000,0,0,0,{"$f":"+W436+X436+Z436","v":18528000},16160533,"2022-01-21","2022-01-24","2022-07-23",180,0,0,null,null,null,null,"Terminado",{"$f":"IF(ISERROR(AB436/AA436),\"-\",(AB436/AA436))","v":0.87222220423143348}]
["FDLSC-CPS-430-2022",2022,"FDLSC-CD-210-2022","https://community.secop.gov.co/Public/Tendering/OpportunityDetail/Index?noticeUID=CO1.NTC.3126405&isFromPublicArea=True&isModal=true&asPopupView=true","Contratos de prestación de servicios profesionales y de apoyo a la gestión","Contratación directa","Prestación de servicios profesionales y de apoyo a la gestión, o para la ejecución de trabajos artísticos que sólo puedan encomendarse a determinadas personas naturales","PRESTAR SUS SERVICIOS TÉCNICOS DE APOYO A LA GESTIÓN ADMINISTRATIVA, AL ÁREA DE GESTIÓN DEL DESARROLLO LOCAL EN TEMAS DE CONTRATACIÓN, PARA FORTALECER LAS ETAPAS PRECONTRACTUALES Y CONTRACTUALES DE ACUERDO AL PLAN ANUAL DE ADQUISICIONES DE LA ALCALDÍA LOCAL DE SAN CRISTÓBAL.","Inversión","Un nuevo contrato social y ambiental para la Bogotá del Siglo XXI",57,{"$f":"IF(ISERROR(VLOOKUP(K437,#REF!,2,FALSE)),\" \",VLOOKUP(K437,#REF!,2,FALSE))","v":" "},{"$f":"IF(ISERROR(VLOOKUP(K437,#REF!,3,FALSE)),\" \",VLOOKUP(K437,#REF!,3,FALSE))","v":" "},1873,0,1053323903,"BRAYANN ESTIWEN VARGAS VALBUENA","Persona Natural",null,"N/A","N/A",null,18500000,0,0,0,{"$f":"+W437+X437+Z437","v":18500000},1480000,"2022-08-11","2022-08-19","2023-01-18",150,0,0,null,null,null,null,"En ejecución",{"$f":"IF(ISERROR(AB437/AA437),\"-\",(AB437/AA437))","v":0.08}]
["FDLSC-CPS-509-2022",2022,"FDLSC-CD-261-2022","https://community.secop.gov.co/Public/Tendering/OpportunityDetail/Index?noticeUID=CO1.NTC.3295935&isFromPublicArea=True&isModal=true&asPopupView=true","Contratos de prestación de servicios profesionales y de apoyo a la gestión","Contratación directa","Prestación de servicios profesionales y de apoyo a la gestión, o para la ejecución de trabajos artísticos que sólo puedan encomendarse a determinadas personas naturales","PRESTAR SUS SERVICIOS ASISTENCIALES PARA APOYAR LA GESTIÓN LOCAL Y TERRITORIAL DE LOS TEMAS DE SEGURIDAD Y CONVIVENCIA CIUDADANA, EN EL MARCO DEL PLAN DE DESARROLLO LOCAL 2021-2024.","Inversión","Un nuevo contrato social y ambiental para la Bogotá del Siglo XXI",43,{"$f":"IF(ISERROR(VLOOKUP(K438,#REF!,2,FALSE)),\" \",VLOOKUP(K438,#REF!,2,FALSE))","v":" "},{"$f":"IF(ISERROR(VLOOKUP(K438,#REF!,3,FALSE)),\" \",VLOOKUP(K438,#REF!,3,FALSE))","v":" "},1824,0,1010171571,"IVAN EDUARDO GOMEZ GUERRERO","Persona Natural",null,"N/A","N/A",null,18056000,0,0,0,{"$f":"+W438+X438+Z438","v":18056000},10833600,"2022-09-19","2022-09-19","2023-01-18",120,0,0,null,null,null,null,"En ejecución",{"$f":"IF(ISERROR(AB438/AA438),\"-\",(AB438/AA438))","v":0.6}]
["FDLSC-CPS-485-2022",2022,"FDLSC-CD-241-2022","https://community.secop.gov.co/Public/Tendering/OpportunityDetail/Index?noticeUID=CO1.NTC.3249330&isFromPublicArea=True&isModal=true&asPopupView=true","Contratos de prestación de servicios profesionales y de apoyo a la gestión","Contratación directa","Prestación de servicios profesionales y de apoyo a la gestión, o para la ejecución de trabajos artísticos que sólo puedan encomendarse a determinadas personas naturales","PRESTAR SUS SERVICIOS PROFESIONALES EN EL ÁREA DE GESTIÓN DEL DESARROLLO LOCAL PARA QUE APOYE LAS ACTIVIDADES DE PLANEACIÓN EN TEMAS ADMINISTRATIVOS Y EN PROYECTOS DE INVERSIÓN LOCAL COMO LOS DE DEPORTE DE LA ALCALDÍA LOCAL DE SAN CRISTÓBAL.","Inversión","Un nuevo contrato social y ambiental para la Bogotá del Siglo XXI",20,{"$f":"IF(ISERROR(VLOOKUP(K439,#REF!,2,FALSE)),\" \",VLOOKUP(K439,#REF!,2,FALSE))","v":" "},{"$f":"IF(ISERROR(VLOOKUP(K439,#REF!,3,FALSE)),\" \",VLOOKUP(K439,#REF!,3,FALSE))","v":" "},1801,0,1023942037,"JHOAN SEBASTIAN SOLER ORTIZ ","Persona Natural",null,"N/A","N/A",null,18056000,0,0,0,{"$f":"+W439+X439+Z439","v":18056000},11585933,"2022-09-13","2022-09-13","2023-01-13",120,0,0,null,null,null,null,"En ejecución",{"$f":"IF(ISERROR(AB439/AA439),\"-\",(AB439/AA439))","v":0.64166664820558261}]
["FDLSC-CPS-499-2022",2022,"FDLSC-CD-252-2022","https://community.secop.gov.co/Public/Tendering/OpportunityDetail/Index?noticeUID=CO1.NTC.3253706&isFromPublicArea=True&isModal=true&asPopupView=true","Contratos de prestación de servicios profesionales y de apoyo a la gestión","Contratación directa","Prestación de servicios profesionales y de apoyo a la gestión, o para la ejecución de trabajos artísticos que sólo puedan encomendarse a determinadas personas naturales","PRESTAR SUS SERVICIOS PROFESIONALES EN EL ÁREA DE GESTIÓN DE DESARROLLO LOCAL PARA LA FORMULACIÓN, EVALUACIÓN, PRESENTACIÓN Y SEGUIMIENTO A PROYECTOS DE INVERSIÓN EN SALUD","Inversión","Un nuevo contrato social y ambiental para la Bogotá del Siglo XXI",6,{"$f":"IF(ISERROR(VLOOKUP(K440,#REF!,2,FALSE)),\" \",VLOOKUP(K440,#REF!,2,FALSE))","v":" "},{"$f":"IF(ISERROR(VLOOKUP(K440,#REF!,3,FALSE)),\" \",VLOOKUP(K440,#REF!,3,FALSE))","v":" "},1843,0,1023929671,"KATHERINE JOHANA ESPITIA HERNANDEZ","Persona Natural",null,"N/A","N/A",null,18056000,0,0,0,{"$f":"+W440+X440+Z440","v":18056000},11736400,"2022-09-08","2022-09-13","2023-01-12",120,0,0,null,null,null,null,"En ejecución",{"$f":"IF(ISERROR(AB440/AA440),\"-\",(AB440/AA440))","v":0.65}]
["FDLSC-CPS-478-2022",2022,"FDLSC-CD-237-2022","https://community.secop.gov.co/Public/Tendering/OpportunityDetail/Index?noticeUID=CO1.NTC.3165272&isFromPublicArea=True&isModal=true&asPopupView=true","Contratos de prestación de servicios profesionales y de apoyo a la gestión","Contratación directa","Prestación de servicios profesionales y de apoyo a la gestión, o para la ejecución de trabajos artísticos que sólo puedan encomendarse a determinadas personas naturales","PRESTAR SUS SERVICIOS PROFESIONALES PARA APOYAR LOS TEMAS RELACIONADOS AL SISTEMA INTEGRADO DE GESTIÓN DE CALIDAD (SIG) DE ACUERDO A LAS SOLCITUDES DE LA ADMINISTRACIÓN LOCAL","Inversión","Un nuevo contrato social y ambiental para la Bogotá del Siglo XXI",57,{"$f":"IF(ISERROR(VLOOKUP(K441,#REF!,2,FALSE)),\" \",VLOOKUP(K441,#REF!,2,FALSE))","v":" "},{"$f":"IF(ISERROR(VLOOKUP(K441,#REF!,3,FALSE)),\" \",VLOOKUP(K441,#REF!,3,FALSE))","v":" "},1873,0,1022357843,"DEISY VIVIANA SANDOVAL RIVERA","Persona Natural",null,"N/A","N/A",null,18056000,0,0,0,{"$f":"+W441+X441+Z441","v":18056000},14444800,"2022-08-19","2022-08-25","2022-12-24",120,0,0,null,null,null,null,"Terminado",{"$f":"IF(ISERROR(AB441/AA441),\"-\",(AB441/AA441))","v":0.8}]
["FDLSC-CPS-440-2022",2022,"FDLSC-CD-218-2022","https://community.secop.gov.co/Public/Tendering/OpportunityDetail/Index?noticeUID=CO1.NTC.3178001&isFromPublicArea=True&isModal=true&asPopupView=true","Contratos de prestación de servicios profesionales y de apoyo a la gestión","Contratación directa","Prestación de servicios profesionales y de apoyo a la gestión, o para la ejecución de trabajos artísticos que sólo puedan encomendarse a determinadas personas naturales","PRESTAR SUS SERVICIOS PROFESIONALES EN LO CONCERNIENTE A LA VERIFICACIÓN EN CAMPO DE LAS ACTIVIDADES DE CONTROL DE ESPECIES INVASORAS, Y A LAS ACTIVIDADES DE CAMPO DE RESTAURACIÓN Y MANTENIMIENTO, ASÍ COMO AL APOYO AL PROCESO DE ESTANDARIZACIÓN DEL TRATAMIENTO Y MANEJO DE LAS ESPECIES DE RETAMO LISO Y ESPINOSO  ESTABLECIDAS EN EL PROTOCOLO DEL JARDÍN BOTÁNICO DE BOGOTÁ, SECRETARIA DISTRITAL DE AMBIENTE Y LA ALSC, EN EL CENTRO DE RESTAURACIÓN AMBIENTAL CERESA","Inversión","Un nuevo contrato social y ambiental para la Bogotá del Siglo XXI",28,{"$f":"IF(ISERROR(VLOOKUP(K442,#REF!,2,FALSE)),\" \",VLOOKUP(K442,#REF!,2,FALSE))","v":" "},{"$f":"IF(ISERROR(VLOOKUP(K442,#REF!,3,FALSE)),\" \",VLOOKUP(K442,#REF!,3,FALSE))","v":" "},1819,0,79985077,"JUAN PABLO CARDONA OLAYA","Persona Natural",null,"N/A","N/A",null,18056000,0,0,0,{"$f":"+W442+X442+Z442","v":18056000},14595266,"2022-08-22","2022-08-24","2022-12-23",120,0,0,null,null,null,null,"Terminado",{"$f":"IF(ISERROR(AB442/AA442),\"-\",(AB442/AA442))","v":0.80833329641116525}]
["FDLSC-CPS-533-2022",2022,"FDLSC-CD-279-2022","https://community.secop.gov.co/Public/Tendering/OpportunityDetail/Index?noticeUID=CO1.NTC.3350877&isFromPublicArea=True&isModal=true&asPopupView=true","Contratos de prestación de servicios profesionales y de apoyo a la gestión","Contratación directa","Prestación de servicios profesionales y de apoyo a la gestión, o para la ejecución de trabajos artísticos que sólo puedan encomendarse a determinadas personas naturales","PRESTAR SUS SERVICIOS DE APOYO TÉCNICO EN EL DESPACHO DEL ALCALDE LOCAL, ACOMPAÑANDO LAS ACTIVIDADES ADMINISTRATIVAS Y OPERATIVAS GENERALES DEL DESPACHO, APLICANDO LA NORMATIVIDAD VIGENTE PARA TODOS LOS PROCESOS Y PROCEDIMIENTOS ESTABLECIDOS. ","Inversión","Un nuevo contrato social y ambiental para la Bogotá del Siglo XXI",57,{"$f":"IF(ISERROR(VLOOKUP(K443,#REF!,2,FALSE)),\" \",VLOOKUP(K443,#REF!,2,FALSE))","v":" "},{"$f":"IF(ISERROR(VLOOKUP(K443,#REF!,3,FALSE)),\" \",VLOOKUP(K443,#REF!,3,FALSE))","v":" "},1873,0,1023875840,"DERLY NATALI GOMEZ AVILA","Persona Natural",null,"N/A","N/A",null,13512000,0,1,4504000,{"$f":"+W443+X443+Z443","v":18016000},8407467,"2022-10-04","2022-10-05","2023-02-04",90,0,0,null,null,null,null,"En ejecución",{"$f":"IF(ISERROR(AB443/AA443),\"-\",(AB443/AA443))","v":0.46666668516873888}]
["FDLSC-CPS-482-2022",2022,"FDLSC-CD-239-2022","https://community.secop.gov.co/Public/Tendering/OpportunityDetail/Index?noticeUID=CO1.NTC.3198686&isFromPublicArea=True&isModal=true&asPopupView=true","Contratos de prestación de servicios profesionales y de apoyo a la gestión","Contratación directa","Prestación de servicios profesionales y de apoyo a la gestión, o para la ejecución de trabajos artísticos que sólo puedan encomendarse a determinadas personas naturales","PRESTAR SUS SERVICIOS DE APOYO TÉCNICO PARA APOYAR AL EQUIPO DE PRENSA Y COMUNICACIONES DE LA ALCALDÍA LOCAL EN LA ELABORACIÓN DE PIEZAS GRÁFICAS DIGITALES PARA DIFUNDIRLAS POR LOS DIFERENTES MEDIOS DE LA ENTIDAD","Inversión","Un nuevo contrato social y ambiental para la Bogotá del Siglo XXI",57,{"$f":"IF(ISERROR(VLOOKUP(K444,#REF!,2,FALSE)),\" \",VLOOKUP(K444,#REF!,2,FALSE))","v":" "},{"$f":"IF(ISERROR(VLOOKUP(K444,#REF!,3,FALSE)),\" \",VLOOKUP(K444,#REF!,3,FALSE))","v":" "},1873,0,80852902,"OSCAR LEONARDO CUAO GOMEZ","Persona Natural",null,"N/A","N/A",null,18016000,0,0,0,{"$f":"+W444+X444+Z444","v":18016000},12611200,"2022-08-26","2022-09-07","2022-12-31",120,0,0,null,null,null,null,"En ejecución",{"$f":"IF(ISERROR(AB444/AA444),\"-\",(AB444/AA444))","v":0.7}]
["FDLSC-CPS-207-2022",2022,"FDLSC-CD-102-2022","https://community.secop.gov.co/Public/Tendering/OpportunityDetail/Index?noticeUID=CO1.NTC.2706373&isFromPublicArea=True&isModal=true&asPopupView=true","Contratos de prestación de servicios profesionales y de apoyo a la gestión","Contratación directa","Prestación de servicios profesionales y de apoyo a la gestión, o para la ejecución de trabajos artísticos que sólo puedan encomendarse a determinadas personas naturales","PRESTAR SU SERVICIOS TÉCNICOS PARA EL APOYO A LOS PROCESOS DE SALUD DEL FONDO DE DESARROLLO LOCAL DE SAN CRÍSTOBAL EN MATERIA ADMINISTRATIVA, ASÍ COMO LABORES DE CAMPO EN EL MARCO DEL PROYECTO 1843 SAN CRISTOBAL SALUDABLE.","Inversión","Un nuevo contrato social y ambiental para la Bogotá del Siglo XXI",6,{"$f":"IF(ISERROR(VLOOKUP(K445,#REF!,2,FALSE)),\" \",VLOOKUP(K445,#REF!,2,FALSE))","v":" "},{"$f":"IF(ISERROR(VLOOKUP(K445,#REF!,3,FALSE)),\" \",VLOOKUP(K445,#REF!,3,FALSE))","v":" "},1843,0,1013639819,"ROSALBA DAZA PARRA","Persona Natural",null,"N/A","N/A",null,18000000,0,0,0,{"$f":"+W445+X445+Z445","v":18000000},18000000,"2022-01-27","2022-02-04","2022-08-03",180,0,0,null,null,null,null,"Terminado",{"$f":"IF(ISERROR(AB445/AA445),\"-\",(AB445/AA445))","v":1}]
["FDLSC-CPS-335-2022",2022,"FDLSC-CD-146-2022","https://community.secop.gov.co/Public/Tendering/OpportunityDetail/Index?noticeUID=CO1.NTC.2742226&isFromPublicArea=True&isModal=true&asPopupView=true","Contratos de prestación de servicios profesionales y de apoyo a la gestión","Contratación directa","Prestación de servicios profesionales y de apoyo a la gestión, o para la ejecución de trabajos artísticos que sólo puedan encomendarse a determinadas personas naturales","PRESTAR SUS SERVICIOS DE APOYO TECNICO PARA LA GESTION DE SEGUIMIENTO Y REPORTES RELACIONADOS CON EL SISTEMA INTEGRADO DE GESTION DE CALIDAD (SIG) ORIENTADO AL DESARROLLO EFICIENTE DE PROCESOS Y PROCEDIMIENTOS EN CUMPLIMIENTO A LAS METAS ESTABLECIDAS EN EL PLAN DE DESARROLLO LOCAL 2021- 2024 de acuerdo con lo contemplado en los proyectos 1873 SAN CRISTOBAL AL SERVICIO DE LA CIUDADANIA","Inversión","Un nuevo contrato social y ambiental para la Bogotá del Siglo XXI",57,{"$f":"IF(ISERROR(VLOOKUP(K446,#REF!,2,FALSE)),\" \",VLOOKUP(K446,#REF!,2,FALSE))","v":" "},{"$f":"IF(ISERROR(VLOOKUP(K446,#REF!,3,FALSE)),\" \",VLOOKUP(K446,#REF!,3,FALSE))","v":" "},1873,0,1010218544,"JAROL FELIPE ARIAS MUÑOZ","Persona Natural",null,"N/A","N/A",null,18000000,0,0,0,{"$f":"+W446+X446+Z446","v":18000000},18000000,"2022-01-28","2022-02-02","2022-08-01",180,0,0,null,null,null,null,"Terminado",{"$f":"IF(ISERROR(AB446/AA446),\"-\",(AB446/AA446))","v":1}]
["FDLSC-CPS-372-2022",2022,"FDLSC-MIC-006-2022","https://community.secop.gov.co/Public/Tendering/OpportunityDetail/Index?noticeUID=CO1.NTC.2979119&isFromPublicArea=True&isModal=False","Contratos de prestación de servicios profesionales y de apoyo a la gestión","Contratación mínima cuantia","No aplica","CONTRATAR LOS SERVICIOS NECESARIOS PARA EL DESARROLLO DE ACTIVIDADES DE COORDINACIÓN PEDAGÓGICA, LOGÍSTICA, ARTÍSTICA Y PUBLICIDAD EN EL MARCO DE LA CONMEMORACIÓN DE LA CIUDADANÍA PLENA DE MUJERES LESBIANAS, BISEXUALES Y TRANS EN SAN CRISTÓBAL.","Inversión","Un nuevo contrato social y ambiental para la Bogotá del Siglo XXI",40,{"$f":"IF(ISERROR(VLOOKUP(K447,#REF!,2,FALSE)),\" \",VLOOKUP(K447,#REF!,2,FALSE))","v":" "},{"$f":"IF(ISERROR(VLOOKUP(K447,#REF!,3,FALSE)),\" \",VLOOKUP(K447,#REF!,3,FALSE))","v":" "},1870,7,901229309,"SALAMYM LTDA","Persona Natural",null,"N/A","N/A",null,17943099,0,0,0,{"$f":"+W447+X447+Z447","v":17943099},null,"2022-06-24","2022-07-01","2022-06-28",4,0,0,null,null,null,null,"Terminado",{"$f":"IF(ISERROR(AB447/AA447),\"-\",(AB447/AA447))","v":0}]
["FDLSC-CPS-487-2022",2022,"FDLSC-CD-243-2022","https://community.secop.gov.co/Public/Tendering/OpportunityDetail/Index?noticeUID=CO1.NTC.3196468&isFromPublicArea=True&isModal=true&asPopupView=true","Contratos de prestación de servicios profesionales y de apoyo a la gestión","Contratación directa","Prestación de servicios profesionales y de apoyo a la gestión, o para la ejecución de trabajos artísticos que sólo puedan encomendarse a determinadas personas naturales","PRESTAR SUS SERVICIOS TÉCNICOS COMO APOYO AL DESPACHO PARA LA GESTIÓN DE LOS ASUNTOS RELACIONADOS CON EL FORTALECIMIENTO A  LOS PROCESOS CIUDADANOS GESTIÓN DE HABITAT EN LA LOCALIDAD DE SAN CRISTÓBAL, DE CONFORMIDAD CON EL MARCO NORMATIVO APLICABLE EN LA MATERIA.","Inversión","Un nuevo contrato social y ambiental para la Bogotá del Siglo XXI",57,{"$f":"IF(ISERROR(VLOOKUP(K448,#REF!,2,FALSE)),\" \",VLOOKUP(K448,#REF!,2,FALSE))","v":" "},{"$f":"IF(ISERROR(VLOOKUP(K448,#REF!,3,FALSE)),\" \",VLOOKUP(K448,#REF!,3,FALSE))","v":" "},1873,0,18490889,"LUIS ALBERTO VARGAS BALLÉN","Persona Natural",null,"N/A","N/A",null,17920000,0,0,0,{"$f":"+W448+X448+Z448","v":17920000},14186667,"2022-08-26","2022-08-26","2022-12-25",120,0,0,null,null,null,null,"Terminado",{"$f":"IF(ISERROR(AB448/AA448),\"-\",(AB448/AA448))","v":0.79166668526785711}]
["FDLSC-CPS-539-2022",2022,"FDLSC-CD-271-2022","https://community.secop.gov.co/Public/Tendering/OpportunityDetail/Index?noticeUID=CO1.NTC.3329309&isFromPublicArea=True&isModal=true&asPopupView=true","Contratos de prestación de servicios profesionales y de apoyo a la gestión","Contratación directa","Prestación de servicios profesionales y de apoyo a la gestión, o para la ejecución de trabajos artísticos que sólo puedan encomendarse a determinadas personas naturales","APOYAR JURÍDICAMENTE LA EJECUCIÓN DE LAS ACCIONES REQUERIDAS PARA LA DEPURACIÓN DE LAS ACTUACIONES ADMINISTRATIVAS QUE CURSAN EN LA ALCALDÍA LOCAL. ","Inversión","Un nuevo contrato social y ambiental para la Bogotá del Siglo XXI",57,{"$f":"IF(ISERROR(VLOOKUP(K449,#REF!,2,FALSE)),\" \",VLOOKUP(K449,#REF!,2,FALSE))","v":" "},{"$f":"IF(ISERROR(VLOOKUP(K449,#REF!,3,FALSE)),\" \",VLOOKUP(K449,#REF!,3,FALSE))","v":" "},1873,0,1101175034,"JESICA DAYANA PEÑA QUINTERO","Persona Natural",null,"N/A","N/A",null,17500000,0,0,0,{"$f":"+W449+X449+Z449","v":17500000},7166600,"2022-10-12","2022-10-18","2023-02-03",105,0,0,null,null,null,null,"En ejecución",{"$f":"IF(ISERROR(AB449/AA449),\"-\",(AB449/AA449))","v":0.40952}]
["FDLSC-CPS-538-2022",2022,"FDLSC-CD-271-2022","https://community.secop.gov.co/Public/Tendering/OpportunityDetail/Index?noticeUID=CO1.NTC.3329309&isFromPublicArea=True&isModal=true&asPopupView=true","Contratos de prestación de servicios profesionales y de apoyo a la gestión","Contratación directa","Prestación de servicios profesionales y de apoyo a la gestión, o para la ejecución de trabajos artísticos que sólo puedan encomendarse a determinadas personas naturales","APOYAR JURÍDICAMENTE LA EJECUCIÓN DE LAS ACCIONES REQUERIDAS PARA LA DEPURACIÓN DE LAS ACTUACIONES ADMINISTRATIVAS QUE CURSAN EN LA ALCALDÍA LOCAL. ","Inversión","Un nuevo contrato social y ambiental para la Bogotá del Siglo XXI",57,{"$f":"IF(ISERROR(VLOOKUP(K450,#REF!,2,FALSE)),\" \",VLOOKUP(K450,#REF!,2,FALSE))","v":" "},{"$f":"IF(ISERROR(VLOOKUP(K450,#REF!,3,FALSE)),\" \",VLOOKUP(K450,#REF!,3,FALSE))","v":" "},1873,0,52111223,"LUZ MARINA SEPULVEDA SEPULVEDA","Persona Natural",null,"N/A","N/A",null,17500000,0,0,0,{"$f":"+W450+X450+Z450","v":17500000},7833322,"2022-10-12","2022-10-14","2023-01-28",105,0,0,null,null,null,null,"En ejecución",{"$f":"IF(ISERROR(AB450/AA450),\"-\",(AB450/AA450))","v":0.44761840000000003}]
["FDLSC-CPS-541-2022",2022,"FDLSC-CD-271-2022","https://community.secop.gov.co/Public/Tendering/OpportunityDetail/Index?noticeUID=CO1.NTC.3329309&isFromPublicArea=True&isModal=true&asPopupView=true","Contratos de prestación de servicios profesionales y de apoyo a la gestión","Contratación directa","Prestación de servicios profesionales y de apoyo a la gestión, o para la ejecución de trabajos artísticos que sólo puedan encomendarse a determinadas personas naturales","APOYAR JURÍDICAMENTE LA EJECUCIÓN DE LAS ACCIONES REQUERIDAS PARA LA DEPURACIÓN DE LAS ACTUACIONES ADMINISTRATIVAS QUE CURSAN EN LA ALCALDÍA LOCAL. ","Inversión","Un nuevo contrato social y ambiental para la Bogotá del Siglo XXI",57,{"$f":"IF(ISERROR(VLOOKUP(K451,#REF!,2,FALSE)),\" \",VLOOKUP(K451,#REF!,2,FALSE))","v":" "},{"$f":"IF(ISERROR(VLOOKUP(K451,#REF!,3,FALSE)),\" \",VLOOKUP(K451,#REF!,3,FALSE))","v":" "},1873,0,51607762,"HERMINDA GUZMAN ORTIZ","Persona Natural",null,"N/A","N/A",null,17500000,0,0,0,{"$f":"+W451+X451+Z451","v":17500000},7833333,"2022-10-12","2022-10-14","2023-01-28",105,0,0,null,null,null,null,"En ejecución",{"$f":"IF(ISERROR(AB451/AA451),\"-\",(AB451/AA451))","v":0.44761902857142855}]
["FDLSC-CTOI-369-2022",2022,"FDLSC-CD-174-2022","https://community.secop.gov.co/Public/Tendering/OpportunityDetail/Index?noticeUID=CO1.NTC.2987709&isFromPublicArea=True&isModal=False","Convenios/Contratos interadministrativos","Contratación directa","Contratos interadministrativos","PRESTAR EL SERVICIO DE UN (1) CANAL DEDICADO DE INTERNET DE 80 MBPS AL FONDO DE DESARROLLO LOCAL DE SAN CRISTOBAL PARA LA INTERCONEXIÓN CON SECRETARIA DE GOBIERNO","Funcionamiento","Un nuevo contrato social y ambiental para la Bogotá del Siglo XXI","No aplica",{"$f":"IF(ISERROR(VLOOKUP(K452,#REF!,2,FALSE)),\" \",VLOOKUP(K452,#REF!,2,FALSE))","v":" "},{"$f":"IF(ISERROR(VLOOKUP(K452,#REF!,3,FALSE)),\" \",VLOOKUP(K452,#REF!,3,FALSE))","v":" "},4222,0,899999115,"EMPRESA DE TELECOMUNICACIONES DE BOGOTÁ.   S.A.E.S.P.","Persona Jurídica",null,"N/A",0,null,17293080,0,0,0,{"$f":"+W452+X452+Z452","v":17293080},5752661,"2022-06-21","2022-06-23","2023-06-21",360,0,0,null,null,null,null,"En ejecución",{"$f":"IF(ISERROR(AB452/AA452),\"-\",(AB452/AA452))","v":0.3326568199534149}]
[546,2021,"FDLSC-SAMC-013-2021\t","https://community.secop.gov.co/Public/Tendering/OpportunityDetail/Index?noticeUID=CO1.NTC.2460007&isFromPublicArea=True&isModal=False","Contratos de prestación de servicios","Selección abreviada","Selección abreviada por menor cuantía ","PRESTACIÓN DE SERVICIOS Y DE APOYO A LA GESTIÓN PARA LA REALIZACIÓN DE EVENTOS DEPORTIVOS ESPECIALES EN LA LOCALIDAD DE SAN CRISTÓBAL","Inversión","Un nuevo contrato social y ambiental para la Bogotá del Siglo XXI",20,{"$f":"IF(ISERROR(VLOOKUP(K453,#REF!,2,FALSE)),\" \",VLOOKUP(K453,#REF!,2,FALSE))","v":" "},{"$f":"IF(ISERROR(VLOOKUP(K453,#REF!,3,FALSE)),\" \",VLOOKUP(K453,#REF!,3,FALSE))","v":" "},1801,0,"900216251","ASOCIACION PARA EL DESARROLLO INTEGRAL D E LA FAMILIA COLOMBIANA","Persona Jurídica","N/A","N/A","N/A",null,0,0,2,16659416,{"$f":"+W453+X453+Z453","v":16659416},0,"2022-10-19","2022-06-30","2022-10-29",120,0,0,null,null,null,null,"Terminado",{"$f":"IF(ISERROR(AB453/AA453),\"-\",(AB453/AA453))","v":0}]
["FDLSC-CPS-549-2022",2022,"FDLSC-CD-287-2022","https://community.secop.gov.co/Public/Tendering/OpportunityDetail/Index?noticeUID=CO1.NTC.3414191&isFromPublicArea=True&isModal=true&asPopupView=true","Contratos de prestación de servicios profesionales y de apoyo a la gestión","Contratación directa","Prestación de servicios profesionales y de apoyo a la gestión, o para la ejecución de trabajos artísticos que sólo puedan encomendarse a determinadas personas naturales","APOYAR TÉCNICAMENTE LAS DISTINTAS ETAPAS DE LOS PROCESOS DE COMPETENCIA DE LA ALCALDÍA LOCAL PARA LA DEPURACIÓN DE ACTUACIONES ADMINISTRATIVAS","Inversión","Un nuevo contrato social y ambiental para la Bogotá del Siglo XXI",57,{"$f":"IF(ISERROR(VLOOKUP(K454,#REF!,2,FALSE)),\" \",VLOOKUP(K454,#REF!,2,FALSE))","v":" "},{"$f":"IF(ISERROR(VLOOKUP(K454,#REF!,3,FALSE)),\" \",VLOOKUP(K454,#REF!,3,FALSE))","v":" "},1873,0,79596986,"GUILLERMO GONZALEZ PARRA","Persona Natural",null,"N/A","N/A",null,16500000,0,0,0,{"$f":"+W454+X454+Z454","v":16500000},6416667,"2022-10-19","2022-10-26","2023-01-25",90,0,0,null,null,null,null,"En ejecución",{"$f":"IF(ISERROR(AB454/AA454),\"-\",(AB454/AA454))","v":0.38888890909090912}]
["FDLSC-CPS-548-2022",2022,"FDLSC-CD-287-2022","https://community.secop.gov.co/Public/Tendering/OpportunityDetail/Index?noticeUID=CO1.NTC.3414191&isFromPublicArea=True&isModal=true&asPopupView=true","Contratos de prestación de servicios profesionales y de apoyo a la gestión","Contratación directa","Prestación de servicios profesionales y de apoyo a la gestión, o para la ejecución de trabajos artísticos que sólo puedan encomendarse a determinadas personas naturales","APOYAR TÉCNICAMENTE LAS DISTINTAS ETAPAS DE LOS PROCESOS DE COMPETENCIA DE LA ALCALDÍA LOCAL PARA LA DEPURACIÓNDE ACTUACIONES ADMINISTRATIVAS.","Inversión","Un nuevo contrato social y ambiental para la Bogotá del Siglo XXI",57,{"$f":"IF(ISERROR(VLOOKUP(K455,#REF!,2,FALSE)),\" \",VLOOKUP(K455,#REF!,2,FALSE))","v":" "},{"$f":"IF(ISERROR(VLOOKUP(K455,#REF!,3,FALSE)),\" \",VLOOKUP(K455,#REF!,3,FALSE))","v":" "},1873,0,7219846,"EDUARDO GONZALEZ LAMPREA","Persona Natural",null,"N/A","N/A",null,16500000,0,0,0,{"$f":"+W455+X455+Z455","v":16500000},6600000,"2022-10-18","2022-10-25","2023-01-24",90,0,0,null,null,null,null,"En ejecución",{"$f":"IF(ISERROR(AB455/AA455),\"-\",(AB455/AA455))","v":0.4}]
["FDLSC-CPS-543-2022",2022,"FDLSC-CD-285-2022","https://community.secop.gov.co/Public/Tendering/OpportunityDetail/Index?noticeUID=CO1.NTC.3395676&isFromPublicArea=True&isModal=true&asPopupView=true","Contratos de prestación de servicios profesionales y de apoyo a la gestión","Contratación directa","Prestación de servicios profesionales y de apoyo a la gestión, o para la ejecución de trabajos artísticos que sólo puedan encomendarse a determinadas personas naturales","PRESTAR SUS SERVICIOS PROFESIONALES MEDICO VETERINARIOS CON EL FONDO DE DESARROLLO LOCAL DE SAN CRISTÓBAL, PARA REALIZAR LAS DIFERENTES ACTIVIDADES DE ACUERDO CON LAS DIRECTRICES DE LOS PROYECTOS DE PROTECCIÓN Y BIENESTAR ANIMAL EN MATERIA DE ATENCIÓN A EMERGENCIAS, JORNADAS DE VACUNACIÓN, VISITAS DOMICILIARIAS, ENTRE OTROS. ","Inversión","Un nuevo contrato social y ambiental para la Bogotá del Siglo XXI",34,{"$f":"IF(ISERROR(VLOOKUP(K456,#REF!,2,FALSE)),\" \",VLOOKUP(K456,#REF!,2,FALSE))","v":" "},{"$f":"IF(ISERROR(VLOOKUP(K456,#REF!,3,FALSE)),\" \",VLOOKUP(K456,#REF!,3,FALSE))","v":" "},1826,0,80791750,"JULIO CESAR PULIDO NIETO","Persona Natural",null,"N/A","N/A",null,16500000,0,0,0,{"$f":"+W456+X456+Z456","v":16500000},7333333,"2022-10-14","2022-10-21","2023-01-20",90,0,0,null,null,null,null,"En ejecución",{"$f":"IF(ISERROR(AB456/AA456),\"-\",(AB456/AA456))","v":0.44444442424242425}]
["FDLSC-CPS-411-2022",2022,"FDLSC-CD-196-2022","https://community.secop.gov.co/Public/Tendering/OpportunityDetail/Index?noticeUID=CO1.NTC.3109726&isFromPublicArea=True&isModal=true&asPopupView=true","Contratos de prestación de servicios profesionales y de apoyo a la gestión","Contratación directa","Prestación de servicios profesionales y de apoyo a la gestión, o para la ejecución de trabajos artísticos que sólo puedan encomendarse a determinadas personas naturales","PPRESTAR LOS SERVICIOS TÉCNICOS PARA APOYAR AL ADMINISTRADOR DE RED EN LO RELACIONADO CON LA PLATAFORMA INFORMÁTICA Y MEDIOS TECNOLÓGICOS DE LA ALCALDÍA LOCAL DE SAN CRISTÓBAL.","Inversión","Un nuevo contrato social y ambiental para la Bogotá del Siglo XXI",57,{"$f":"IF(ISERROR(VLOOKUP(K457,#REF!,2,FALSE)),\" \",VLOOKUP(K457,#REF!,2,FALSE))","v":" "},{"$f":"IF(ISERROR(VLOOKUP(K457,#REF!,3,FALSE)),\" \",VLOOKUP(K457,#REF!,3,FALSE))","v":" "},1873,0,1069728200,"LUIS ENRIQUE VARGAS MENDOZA","Persona Natural",null,"N/A","N/A",null,16500000,0,0,0,{"$f":"+W457+X457+Z457","v":16500000},12430000,"2022-08-04","2022-08-08","2023-01-07",150,0,0,null,null,null,null,"En ejecución",{"$f":"IF(ISERROR(AB457/AA457),\"-\",(AB457/AA457))","v":0.7533333333333333}]
["FDLSC-CPS-347-2022",2022,"FDLSC-CD-168-2022","https://community.secop.gov.co/Public/Tendering/OpportunityDetail/Index?noticeUID=CO1.NTC.2784164&isFromPublicArea=True&isModal=true&asPopupView=true","Contratos de prestación de servicios profesionales y de apoyo a la gestión","Contratación directa","Prestación de servicios profesionales y de apoyo a la gestión, o para la ejecución de trabajos artísticos que sólo puedan encomendarse a determinadas personas naturales","PRESTAR SUS SERVICIOS PARA APOYAR LA CONDUCCIÓN, REALIZAR EL RESPECTIVO MANTENIMIENTO Y CORROBORAR SU FUNCIONAMIENTO A LOS VEHÍCULOS LIVIANOS Y/O MAQUINARIA PESADA QUE SE ENCUENTRAN AL SERVICIO DEL FONDO LOCAL DE SAN CRISTOBAL.","Inversión","Un nuevo contrato social y ambiental para la Bogotá del Siglo XXI",49,{"$f":"IF(ISERROR(VLOOKUP(K458,#REF!,2,FALSE)),\" \",VLOOKUP(K458,#REF!,2,FALSE))","v":" "},{"$f":"IF(ISERROR(VLOOKUP(K458,#REF!,3,FALSE)),\" \",VLOOKUP(K458,#REF!,3,FALSE))","v":" "},1871,0,79355788,"CARLOS HECTOR PINZON BALLESTEROS","Persona Natural",null,"N/A","N/A",null,16320000,0,0,0,{"$f":"+W458+X458+Z458","v":16320000},16320000,"2022-01-28","2022-02-08","2022-08-07",180,0,0,null,null,null,null,"Terminado",{"$f":"IF(ISERROR(AB458/AA458),\"-\",(AB458/AA458))","v":1}]
["FDLSC-CPS-213-2022",2022,"FDLSC-CD-105-2022","https://community.secop.gov.co/Public/Tendering/OpportunityDetail/Index?noticeUID=CO1.NTC.2698917&isFromPublicArea=True&isModal=true&asPopupView=true","Contratos de prestación de servicios profesionales y de apoyo a la gestión","Contratación directa","Prestación de servicios profesionales y de apoyo a la gestión, o para la ejecución de trabajos artísticos que sólo puedan encomendarse a determinadas personas naturales","PRESTAR SERVICIOS ASISTENCIALES EN EL ÁREA DE GESTIÓN DEL DESARROLLO LOCAL,PARA TEMAS DE PLANEACIÓN PROYECTOS CULTURALES, PARA LOGRAR EL CUMPLIMIENTO DE LAS METAS DEL PLAN DE DESARROLLO LOCAL 2021 - 2024.","Inversión","Un nuevo contrato social y ambiental para la Bogotá del Siglo XXI",21,{"$f":"IF(ISERROR(VLOOKUP(K459,#REF!,2,FALSE)),\" \",VLOOKUP(K459,#REF!,2,FALSE))","v":" "},{"$f":"IF(ISERROR(VLOOKUP(K459,#REF!,3,FALSE)),\" \",VLOOKUP(K459,#REF!,3,FALSE))","v":" "},1803,0,80113110,"HAMID  MARTINEZ RODRIGUEZ","Persona Natural",null,"N/A","N/A",null,16278120,0,0,0,{"$f":"+W459+X459+Z459","v":16278120},16278120,"2022-01-28","2022-02-02","2022-08-01",180,0,0,null,null,null,null,"Terminado",{"$f":"IF(ISERROR(AB459/AA459),\"-\",(AB459/AA459))","v":1}]
["FDLSC-CTOI-112-2022",2022,"FDLSC-CD-175-2022","https://community.secop.gov.co/Public/Tendering/OpportunityDetail/Index?noticeUID=CO1.NTC.3004185&isFromPublicArea=True&isModal=False","Convenios/Contratos interadministrativos","Contratación directa","Contratos interadministrativos","CONTRATAR LA RENOVACIÓN DEL SERVICIO DE COMUNICACIONES UNIFICADAS Y SOPORTE TÉCNICO PARA EL ADECUADO FUNCIONAMIENTO DEL SERVICIO DE TELEFONIA VOZ IP PARA LA ALCALDIA LOCAL DE SAN CRISTÓBAL Y SUS SEDES","Funcionamiento","Un nuevo contrato social y ambiental para la Bogotá del Siglo XXI","No aplica",{"$f":"IF(ISERROR(VLOOKUP(K460,#REF!,2,FALSE)),\" \",VLOOKUP(K460,#REF!,2,FALSE))","v":" "},{"$f":"IF(ISERROR(VLOOKUP(K460,#REF!,3,FALSE)),\" \",VLOOKUP(K460,#REF!,3,FALSE))","v":" "},4190,0,899999115,"EMPRESA DE TELECOMUNICACIONES DE BOGOTÁ.   S.A.E.S.P.","Persona Jurídica",null,"N/A",0,null,16251192,0,0,0,{"$f":"+W460+X460+Z460","v":16251192},5281633,"2022-07-01","2022-07-04","2023-07-03",360,0,0,null,null,null,null,"En ejecución",{"$f":"IF(ISERROR(AB460/AA460),\"-\",(AB460/AA460))","v":0.32499972925062975}]
["FDLSC-CPS-517-2022",2022,"FDLSC-CD-267-2022","https://community.secop.gov.co/Public/Tendering/OpportunityDetail/Index?noticeUID=CO1.NTC.3319064&isFromPublicArea=True&isModal=true&asPopupView=true","Contratos de prestación de servicios profesionales y de apoyo a la gestión","Contratación directa","Prestación de servicios profesionales y de apoyo a la gestión, o para la ejecución de trabajos artísticos que sólo puedan encomendarse a determinadas personas naturales","PRESTAR SUS SERVICIOS PROFESIONALES PARA APOYAR LOS PROCESOS DE ATENCION A POBLACIÓN MUJERES EN EL MARCO DE LOS PROYECTOS DE INVERSIÓN 1870 Y 1811 DE LA ALSC EN EL PDL 2021-2024..","Inversión","Un nuevo contrato social y ambiental para la Bogotá del Siglo XXI",57,{"$f":"IF(ISERROR(VLOOKUP(K461,#REF!,2,FALSE)),\" \",VLOOKUP(K461,#REF!,2,FALSE))","v":" "},{"$f":"IF(ISERROR(VLOOKUP(K461,#REF!,3,FALSE)),\" \",VLOOKUP(K461,#REF!,3,FALSE))","v":" "},1873,0,52330045,"ANDREA DEL PILAR ESPINOSA MONTAÑO","Persona Natural",null,"N/A","N/A",null,16222500,0,0,0,{"$f":"+W461+X461+Z461","v":16222500},8961000,"2022-09-28","2022-10-03","2023-01-17",105,0,0,null,null,null,null,"En ejecución",{"$f":"IF(ISERROR(AB461/AA461),\"-\",(AB461/AA461))","v":0.55238095238095242}]
["FDLSC-CPS-312-2022",2022,"FDLSC-CD-040-2022","https://community.secop.gov.co/Public/Tendering/OpportunityDetail/Index?noticeUID=CO1.NTC.2770308&isFromPublicArea=True&isModal=true&asPopupView=true","Contratos de prestación de servicios profesionales y de apoyo a la gestión","Contratación directa","Prestación de servicios profesionales y de apoyo a la gestión, o para la ejecución de trabajos artísticos que sólo puedan encomendarse a determinadas personas naturales","PRESTAR LOS SERVICIOS DE MENSAJERÍA EN MOTO CON EL FIN DE APOYAR LAS LABORES DE ENTREGA Y RECIBO DE LAS COMUNICACIONES EMITIDAS O RECIBIDAS POR LA ALCALDÍA LOCAL DE SAN CRISTÓBAL.","Inversión","Un nuevo contrato social y ambiental para la Bogotá del Siglo XXI",57,{"$f":"IF(ISERROR(VLOOKUP(K462,#REF!,2,FALSE)),\" \",VLOOKUP(K462,#REF!,2,FALSE))","v":" "},{"$f":"IF(ISERROR(VLOOKUP(K462,#REF!,3,FALSE)),\" \",VLOOKUP(K462,#REF!,3,FALSE))","v":" "},1873,0,1013593733,"WIDER FERNEY RUIZ ROMERO ","Persona Natural",null,"N/A","N/A",null,16200000,0,0,0,{"$f":"+W462+X462+Z462","v":16200000},16110000,"2022-01-28","2022-02-02","2022-08-01",180,0,0,null,null,null,null,"Terminado",{"$f":"IF(ISERROR(AB462/AA462),\"-\",(AB462/AA462))","v":0.99444444444444446}]
["FDLSC-CPS-062-2022",2022,"FDLSC-CD-040-2022","https://community.secop.gov.co/Public/Tendering/OpportunityDetail/Index?noticeUID=CO1.NTC.2590234&isFromPublicArea=True&isModal=true&asPopupView=true","Contratos de prestación de servicios profesionales y de apoyo a la gestión","Contratación directa","Prestación de servicios profesionales y de apoyo a la gestión, o para la ejecución de trabajos artísticos que sólo puedan encomendarse a determinadas personas naturales","PRESTAR LOS SERVICIOS DE MENSAJERÍA EN MOTO CON EL FIN DE APOYAR LAS LABORES DE ENTREGA Y RECIBO DE LAS COMUNICACIONES EMITIDAS O RECIBIDAS POR LA ALCALDÍA LOCAL DE SAN CRISTÓBAL.","Inversión","Un nuevo contrato social y ambiental para la Bogotá del Siglo XXI",57,{"$f":"IF(ISERROR(VLOOKUP(K463,#REF!,2,FALSE)),\" \",VLOOKUP(K463,#REF!,2,FALSE))","v":" "},{"$f":"IF(ISERROR(VLOOKUP(K463,#REF!,3,FALSE)),\" \",VLOOKUP(K463,#REF!,3,FALSE))","v":" "},1873,0,1023980775,"IOSIF DAVID ORTIZ RODRIGUEZ","Persona Natural",null,"N/A","N/A",null,16200000,0,0,0,{"$f":"+W463+X463+Z463","v":16200000},16200000,"2022-01-20","2022-01-24","2022-07-23",180,0,0,null,null,null,null,"Terminado",{"$f":"IF(ISERROR(AB463/AA463),\"-\",(AB463/AA463))","v":1}]
["FDLSC-CPS-090-2022",2022,"FDLSC-CD-040-2022","https://community.secop.gov.co/Public/Tendering/OpportunityDetail/Index?noticeUID=CO1.NTC.2619173&isFromPublicArea=True&isModal=true&asPopupView=true","Contratos de prestación de servicios profesionales y de apoyo a la gestión","Contratación directa","Prestación de servicios profesionales y de apoyo a la gestión, o para la ejecución de trabajos artísticos que sólo puedan encomendarse a determinadas personas naturales","PRESTAR LOS SERVICIOS DE MENSAJERÍA EN MOTO CON EL FIN DE APOYAR LAS LABORES DE ENTREGA Y RECIBO DE LAS COMUNICACIONES EMITIDAS O RECIBIDAS POR LA ALCALDÍA LOCAL DE SAN CRISTÓBAL.","Inversión","Un nuevo contrato social y ambiental para la Bogotá del Siglo XXI",57,{"$f":"IF(ISERROR(VLOOKUP(K464,#REF!,2,FALSE)),\" \",VLOOKUP(K464,#REF!,2,FALSE))","v":" "},{"$f":"IF(ISERROR(VLOOKUP(K464,#REF!,3,FALSE)),\" \",VLOOKUP(K464,#REF!,3,FALSE))","v":" "},1873,0,1000617208,"JEFERSSON GONZALO GOMEZ CASTIBLANCO","Persona Natural",null,"N/A","N/A",null,16200000,0,0,0,{"$f":"+W464+X464+Z464","v":16200000},16200000,"2022-01-24","2022-01-27","2022-07-26",180,0,0,null,null,null,null,"Terminado",{"$f":"IF(ISERROR(AB464/AA464),\"-\",(AB464/AA464))","v":1}]
["FDLSC-CPS-413-2022",2022,"FDLSC-CD-198-2022","https://community.secop.gov.co/Public/Tendering/OpportunityDetail/Index?noticeUID=CO1.NTC.3111906&isFromPublicArea=True&isModal=true&asPopupView=true","Contratos de prestación de servicios profesionales y de apoyo a la gestión","Contratación directa","Prestación de servicios profesionales y de apoyo a la gestión, o para la ejecución de trabajos artísticos que sólo puedan encomendarse a determinadas personas naturales","PRESTAR  SUS  SERVICIOS  DE  APOYOTÉCNICO    PARA    LA  GESTIÓN  DE  SEGUIMIENTO    Y  REPORTES  RELACIONADOS  CON  ELSISTEMA INTEGRADO DE GESTIÓN DE CALIDAD (SIG), ORIENTADO AL DESARROLLO EFICIENTEDE PROCESOS Y PROCEDIMIENTOS EN CUMPLIMIENTO A LAS METAS ESTABLECIDAS EN EL'PLAN DE DESARROLLO LOCAL 2021-2024","Inversión","Un nuevo contrato social y ambiental para la Bogotá del Siglo XXI",57,{"$f":"IF(ISERROR(VLOOKUP(K465,#REF!,2,FALSE)),\" \",VLOOKUP(K465,#REF!,2,FALSE))","v":" "},{"$f":"IF(ISERROR(VLOOKUP(K465,#REF!,3,FALSE)),\" \",VLOOKUP(K465,#REF!,3,FALSE))","v":" "},1873,0,1010218544,"JAROL FELIPE ARIAS MUÑOZ","Persona Natural",null,"N/A","N/A",null,12000000,0,1,4000000,{"$f":"+W465+X465+Z465","v":16000000},11600000,"2022-08-04","2022-08-05","2023-01-14",120,1,40,null,null,null,null,"En ejecución",{"$f":"IF(ISERROR(AB465/AA465),\"-\",(AB465/AA465))","v":0.72499999999999998}]
["FDLSC-CPS-414-2022",2022,"FDLSC-CD-198-2022","https://community.secop.gov.co/Public/Tendering/OpportunityDetail/Index?noticeUID=CO1.NTC.3111906&isFromPublicArea=True&isModal=true&asPopupView=true","Contratos de prestación de servicios profesionales y de apoyo a la gestión","Contratación directa","Prestación de servicios profesionales y de apoyo a la gestión, o para la ejecución de trabajos artísticos que sólo puedan encomendarse a determinadas personas naturales","PRESTAR  SUS  SERVICIOS  DE  APOYOTÉCNICO    PARA    LA  GESTIÓN  DE  SEGUIMIENTO    Y  REPORTES  RELACIONADOS  CON  ELSISTEMA INTEGRADO DE GESTIÓN DE CALIDAD (SIG), ORIENTADO AL DESARROLLO EFICIENTEDE PROCESOS Y PROCEDIMIENTOS EN CUMPLIMIENTO A LAS METAS ESTABLECIDAS EN EL'PLAN DE DESARROLLO LOCAL 2021-2024","Inversión","Un nuevo contrato social y ambiental para la Bogotá del Siglo XXI",57,{"$f":"IF(ISERROR(VLOOKUP(K466,#REF!,2,FALSE)),\" \",VLOOKUP(K466,#REF!,2,FALSE))","v":" "},{"$f":"IF(ISERROR(VLOOKUP(K466,#REF!,3,FALSE)),\" \",VLOOKUP(K466,#REF!,3,FALSE))","v":" "},1873,0,1023954145,"FRANCY MARCELA POVEDA GUTIERREZ","Persona Natural",null,"N/A","N/A",null,12000000,0,1,4000000,{"$f":"+W466+X466+Z466","v":16000000},11600000,"2022-08-04","2022-08-05","2023-01-14",120,1,40,null,null,null,null,"En ejecución",{"$f":"IF(ISERROR(AB466/AA466),\"-\",(AB466/AA466))","v":0.72499999999999998}]
["FDLSC-CPS-467-2022",2022,"FDLSC-CD-247-2022","https://community.secop.gov.co/Public/Tendering/OpportunityDetail/Index?noticeUID=CO1.NTC.3195656&isFromPublicArea=True&isModal=true&asPopupView=true","Contratos de prestación de servicios profesionales y de apoyo a la gestión","Contratación directa","Prestación de servicios profesionales y de apoyo a la gestión, o para la ejecución de trabajos artísticos que sólo puedan encomendarse a determinadas personas naturales","PRESTAR SERVICIOS DE APOYO TÉCNICO PARA APOYAR EN LA EJECUCIÓN DE LA ESTRATEGIA TERRITORIAL CON LOS PROYECTOS LOCALES EN MATERIA DE SEGURIDAD, CONVIVENCIA Y MOVILIZACIONES SOCIALES, DE ACUERDO A LO REQUERIDO","Inversión","Un nuevo contrato social y ambiental para la Bogotá del Siglo XXI",43,{"$f":"IF(ISERROR(VLOOKUP(K467,#REF!,2,FALSE)),\" \",VLOOKUP(K467,#REF!,2,FALSE))","v":" "},{"$f":"IF(ISERROR(VLOOKUP(K467,#REF!,3,FALSE)),\" \",VLOOKUP(K467,#REF!,3,FALSE))","v":" "},1824,0,1024469909,"SNEIDER ANDRES ALZATE CAMACHO","Persona Natural",null,"N/A","N/A",null,12760000,0,1,3190000,{"$f":"+W467+X467+Z467","v":15950000},10101667,"2022-08-25","2022-08-26","2023-01-29",120,1,30,null,null,null,null,"En ejecución",{"$f":"IF(ISERROR(AB467/AA467),\"-\",(AB467/AA467))","v":0.6333333542319749}]
["FDLSC-CPS-525-2022",2022,"FDLSC-CD-272-2022","https://community.secop.gov.co/Public/Tendering/OpportunityDetail/Index?noticeUID=CO1.NTC.3332930&isFromPublicArea=True&isModal=true&asPopupView=true","Contratos de prestación de servicios profesionales y de apoyo a la gestión","Contratación directa","Prestación de servicios profesionales y de apoyo a la gestión, o para la ejecución de trabajos artísticos que sólo puedan encomendarse a determinadas personas naturales","PRESTAR SUS SERVICIOS PROFESIONALES EN EL ÁREA DE GESTIÓN DEL DESARROLLO LOCAL PARA QUE APOYE LAS ACTIVIDADES DE PLANEACIÓN EN TEMAS ADMINISTRATIVOS Y EN PROYECTOS DE INVERSIÓN LOCAL COMO LOS DE DEPORTE DE LA ALCALDÍA LOCAL DE SAN CRISTÓBAL","Inversión","Un nuevo contrato social y ambiental para la Bogotá del Siglo XXI",20,{"$f":"IF(ISERROR(VLOOKUP(K468,#REF!,2,FALSE)),\" \",VLOOKUP(K468,#REF!,2,FALSE))","v":" "},{"$f":"IF(ISERROR(VLOOKUP(K468,#REF!,3,FALSE)),\" \",VLOOKUP(K468,#REF!,3,FALSE))","v":" "},1801,0,1023929048,"ANNGIE ALEJANDRA SOTO LEON ","Persona Natural",null,"N/A","N/A",null,15799000,0,0,0,{"$f":"+W468+X468+Z468","v":15799000},8727067,"2022-09-28","2022-10-03","2023-01-17",105,0,0,null,null,null,null,"En ejecución",{"$f":"IF(ISERROR(AB468/AA468),\"-\",(AB468/AA468))","v":0.55238097347933413}]
["FDLSC-CPS-521-2022",2022,"FDLSC-CD-269-2022","https://community.secop.gov.co/Public/Tendering/OpportunityDetail/Index?noticeUID=CO1.NTC.3324168&isFromPublicArea=True&isModal=true&asPopupView=true","Contratos de prestación de servicios profesionales y de apoyo a la gestión","Contratación directa","Prestación de servicios profesionales y de apoyo a la gestión, o para la ejecución de trabajos artísticos que sólo puedan encomendarse a determinadas personas naturales","PRESTAR SUS SERVICIOS PROFESIONALES PARA APOYAR EN LA FORMULACIÓN Y ACOMPAÑAMIENTO DE LOS ACUERDOS QUE PROMUEVAN LA FORMALIDAD, EL ACCESO PARA EL APROVECHAMIENTO DEL ESPACIO PÚBLICO.","Inversión","Un nuevo contrato social y ambiental para la Bogotá del Siglo XXI",45,{"$f":"IF(ISERROR(VLOOKUP(K469,#REF!,2,FALSE)),\" \",VLOOKUP(K469,#REF!,2,FALSE))","v":" "},{"$f":"IF(ISERROR(VLOOKUP(K469,#REF!,3,FALSE)),\" \",VLOOKUP(K469,#REF!,3,FALSE))","v":" "},1835,0,1023904236,"ALEXANDER MOYA GONZALEZ ","Persona Natural",null,"N/A","N/A",null,15799000,0,0,0,{"$f":"+W469+X469+Z469","v":15799000},9328933,"2022-09-27","2022-09-29","2023-01-14",105,0,0,null,null,null,null,"En ejecución",{"$f":"IF(ISERROR(AB469/AA469),\"-\",(AB469/AA469))","v":0.59047616937780867}]
["FDLSC-CPS-468-2022",2022,"FDLSC-CD-232-2022","https://community.secop.gov.co/Public/Tendering/OpportunityDetail/Index?noticeUID=CO1.NTC.3167478&isFromPublicArea=True&isModal=true&asPopupView=true","Contratos de prestación de servicios profesionales y de apoyo a la gestión","Contratación directa","Prestación de servicios profesionales y de apoyo a la gestión, o para la ejecución de trabajos artísticos que sólo puedan encomendarse a determinadas personas naturales","EL CONTRATO QUE SE PRETENDE CELEBRAR, TENDRÁ POR OBJETO PRESTAR SUS SERVICIOS TÉCNICOS DE APOYO A LA GESTIÓN EN LOS TEMAS REFERENTES A PARTICIPACIÓN CIUDADANA Y ORGANIZACIÓN COMUNITARIA, CONTRIBUYENDO AL DESARROLLO Y CUMPLIMIENTO DEL PDL","Inversión","Un nuevo contrato social y ambiental para la Bogotá del Siglo XXI",57,{"$f":"IF(ISERROR(VLOOKUP(K470,#REF!,2,FALSE)),\" \",VLOOKUP(K470,#REF!,2,FALSE))","v":" "},{"$f":"IF(ISERROR(VLOOKUP(K470,#REF!,3,FALSE)),\" \",VLOOKUP(K470,#REF!,3,FALSE))","v":" "},1873,0,80932677,"ALVARO ANDRES FONSECA CEPEDA","Persona Natural",null,"N/A","N/A",null,15600000,0,0,0,{"$f":"+W470+X470+Z470","v":15600000},12610000,"2022-08-19","2022-08-24","2022-12-23",120,0,0,null,null,null,null,"Terminado",{"$f":"IF(ISERROR(AB470/AA470),\"-\",(AB470/AA470))","v":0.80833333333333335}]
["FDLSC-CPS-432-2022",2022,"FDLSC-CD-212-2022","https://community.secop.gov.co/Public/Tendering/OpportunityDetail/Index?noticeUID=CO1.NTC.3129673&isFromPublicArea=True&isModal=true&asPopupView=true","Contratos de prestación de servicios profesionales y de apoyo a la gestión","Contratación directa","Prestación de servicios profesionales y de apoyo a la gestión, o para la ejecución de trabajos artísticos que sólo puedan encomendarse a determinadas personas naturales","PRESTAR SUS SERVICIOS TÉCNICOS PARA LA GESTIÓN DEL RIESGO, A LA LUZ DEL PLAN DE DESARROLLO 2021-2024 \"UN NUEVO CONTRATO AMBIENTAL Y SOCIAL PARA SAN CRISTÓBAL","Inversión","Un nuevo contrato social y ambiental para la Bogotá del Siglo XXI",30,{"$f":"IF(ISERROR(VLOOKUP(K471,#REF!,2,FALSE)),\" \",VLOOKUP(K471,#REF!,2,FALSE))","v":" "},{"$f":"IF(ISERROR(VLOOKUP(K471,#REF!,3,FALSE)),\" \",VLOOKUP(K471,#REF!,3,FALSE))","v":" "},1866,0,51988791,"BILSAM LÓPEZ CARDENAS","Persona Natural",null,"N/A","N/A",null,15600000,0,0,0,{"$f":"+W471+X471+Z471","v":15600000},14300000,"2022-08-11","2022-08-11","2022-12-10",120,0,0,null,null,null,null,"Terminado",{"$f":"IF(ISERROR(AB471/AA471),\"-\",(AB471/AA471))","v":0.91666666666666663}]
["FDLSC-CPS-339-2022",2022,"FDLSC-CD-169-2022","https://community.secop.gov.co/Public/Tendering/OpportunityDetail/Index?noticeUID=CO1.NTC.2812630&isFromPublicArea=True&isModal=true&asPopupView=true","Contratos de prestación de servicios profesionales y de apoyo a la gestión","Contratación directa","Prestación de servicios profesionales y de apoyo a la gestión, o para la ejecución de trabajos artísticos que sólo puedan encomendarse a determinadas personas naturales","PRESTACIÓN DE SERVICIOS DE APOYO EN LA EJECUCIÓN DE ACTIVIDADES COMO RASTRILLERO DE OBRA CIVIL, QUE CONLLEVEN AL MEJORAMIENTO Y ADECUACIÓN DEL ESPACIO PÚBLICO Y MALLA VIAL DE LA LOCALIDAD DE SAN CRISTOBAL","Inversión","Un nuevo contrato social y ambiental para la Bogotá del Siglo XXI",49,{"$f":"IF(ISERROR(VLOOKUP(K472,#REF!,2,FALSE)),\" \",VLOOKUP(K472,#REF!,2,FALSE))","v":" "},{"$f":"IF(ISERROR(VLOOKUP(K472,#REF!,3,FALSE)),\" \",VLOOKUP(K472,#REF!,3,FALSE))","v":" "},1871,0,14274149,"RICARDO RETAVISCA FAJARDO","Persona Natural",null,"N/A","N/A",null,15600000,0,0,0,{"$f":"+W472+X472+Z472","v":15600000},15600000,"2022-01-28","2022-02-05","2022-08-04",180,0,0,null,null,null,null,"Terminado",{"$f":"IF(ISERROR(AB472/AA472),\"-\",(AB472/AA472))","v":1}]
["FDLSC-CPS-342-2022",2022,"FDLSC-CD-040-2022","https://community.secop.gov.co/Public/Tendering/OpportunityDetail/Index?noticeUID=CO1.NTC.2619173&isFromPublicArea=True&isModal=true&asPopupView=true","Contratos de prestación de servicios profesionales y de apoyo a la gestión","Contratación directa","Prestación de servicios profesionales y de apoyo a la gestión, o para la ejecución de trabajos artísticos que sólo puedan encomendarse a determinadas personas naturales","PRESTAR LOS SERVICIOS DE MENSAJERÍA EN MOTO CON EL FIN DE APOYAR LAS LABORES DE ENTREGA Y RECIBO DE LAS COMUNICACIONES EMITIDAS O RECIBIDAS POR LA ALCALDÍA LOCAL DE SAN CRISTÓBAL.","Inversión","Un nuevo contrato social y ambiental para la Bogotá del Siglo XXI",57,{"$f":"IF(ISERROR(VLOOKUP(K473,#REF!,2,FALSE)),\" \",VLOOKUP(K473,#REF!,2,FALSE))","v":" "},{"$f":"IF(ISERROR(VLOOKUP(K473,#REF!,3,FALSE)),\" \",VLOOKUP(K473,#REF!,3,FALSE))","v":" "},1873,0,79700471,"EDWIN FARLEY GUERRERO VARGAS ","Persona Natural",null,"N/A","N/A",null,14400000,0,1,1200000,{"$f":"+W473+X473+Z473","v":15600000},15600000,"2022-01-28","2022-02-04","2022-08-20",180,1,15,null,null,null,null,"Terminado",{"$f":"IF(ISERROR(AB473/AA473),\"-\",(AB473/AA473))","v":1}]
["FDLSC-CPS-401-2022",2022,"FDLSC-CD-186-2022","https://community.secop.gov.co/Public/Tendering/OpportunityDetail/Index?noticeUID=CO1.NTC.3078890&isFromPublicArea=True&isModal=true&asPopupView=true","Contratos de prestación de servicios profesionales y de apoyo a la gestión","Contratación directa","Prestación de servicios profesionales y de apoyo a la gestión, o para la ejecución de trabajos artísticos que sólo puedan encomendarse a determinadas personas naturales","PRESTAR SUS SERVICIOS DE APOYO PARA REALIZAR LA CONDUCCIÓN DE LOS VEHÍCULOS LIVIANOS, PESADOS Y/O MAQUINARIA PESADA QUE SE ENCUENTRE AL SERVICIO DE LAS ACTIVIDADES DESARROLLADAS EN EL FDL.","Inversión","Un nuevo contrato social y ambiental para la Bogotá del Siglo XXI",57,{"$f":"IF(ISERROR(VLOOKUP(K474,#REF!,2,FALSE)),\" \",VLOOKUP(K474,#REF!,2,FALSE))","v":" "},{"$f":"IF(ISERROR(VLOOKUP(K474,#REF!,3,FALSE)),\" \",VLOOKUP(K474,#REF!,3,FALSE))","v":" "},1873,0,1030599985,"PABLO LEONARDO RICO RODRIGUEZ","Persona Natural",null,"N/A","N/A",null,12772000,0,1,2554400,{"$f":"+W474+X474+Z474","v":15326400},10047306,"2022-08-02","2022-08-03","2023-02-02",150,0,0,null,null,null,null,"En ejecución",{"$f":"IF(ISERROR(AB474/AA474),\"-\",(AB474/AA474))","v":0.65555551205762608}]
["FDLSC-CPS-076-2022",2022,"FDLSC-CD-045-2022","https://community.secop.gov.co/Public/Tendering/OpportunityDetail/Index?noticeUID=CO1.NTC.2635361&isFromPublicArea=True&isModal=true&asPopupView=true","Contratos de prestación de servicios profesionales y de apoyo a la gestión","Contratación directa","Prestación de servicios profesionales y de apoyo a la gestión, o para la ejecución de trabajos artísticos que sólo puedan encomendarse a determinadas personas naturales","PRESTAR SUS SERVICIOS DE APOYO PARA REALIZAR LA CONDUCCIÓN DE LOS VEHÍCULOS LIVIANOS, PESADOS Y/O MAQUINARIA PESADA QUE SE ENCUENTRE AL SERVICIO DE LAS ACTIVIDADES DESARROLLADAS EN EL FDL.","Inversión","Un nuevo contrato social y ambiental para la Bogotá del Siglo XXI",57,{"$f":"IF(ISERROR(VLOOKUP(K475,#REF!,2,FALSE)),\" \",VLOOKUP(K475,#REF!,2,FALSE))","v":" "},{"$f":"IF(ISERROR(VLOOKUP(K475,#REF!,3,FALSE)),\" \",VLOOKUP(K475,#REF!,3,FALSE))","v":" "},1873,0,79811160,"CARLOS ALBERTO BECERRA UBAQUE","Persona Natural",null,"N/A","N/A",null,15326400,0,0,0,{"$f":"+W475+X475+Z475","v":15326400},15326400,"2022-01-21","2022-01-26","2022-07-25",180,0,0,null,null,null,null,"Terminado",{"$f":"IF(ISERROR(AB475/AA475),\"-\",(AB475/AA475))","v":1}]
["FDLSC-CPS-077-2022",2022,"FDLSC-CD-045-2022","https://community.secop.gov.co/Public/Tendering/OpportunityDetail/Index?noticeUID=CO1.NTC.2635361&isFromPublicArea=True&isModal=true&asPopupView=true","Contratos de prestación de servicios profesionales y de apoyo a la gestión","Contratación directa","Prestación de servicios profesionales y de apoyo a la gestión, o para la ejecución de trabajos artísticos que sólo puedan encomendarse a determinadas personas naturales","PRESTAR SUS SERVICIOS DE APOYO PARA REALIZAR LA CONDUCCIÓN DE LOS VEHÍCULOS LIVIANOS, PESADOS Y/O MAQUINARIA PESADA QUE SE ENCUENTRE AL SERVICIO DE LAS ACTIVIDADES DESARROLLADAS EN EL FDL.","Inversión","Un nuevo contrato social y ambiental para la Bogotá del Siglo XXI",57,{"$f":"IF(ISERROR(VLOOKUP(K476,#REF!,2,FALSE)),\" \",VLOOKUP(K476,#REF!,2,FALSE))","v":" "},{"$f":"IF(ISERROR(VLOOKUP(K476,#REF!,3,FALSE)),\" \",VLOOKUP(K476,#REF!,3,FALSE))","v":" "},1873,0,79370373,"BAUDILIO DURAN MENDIVELSO","Persona Natural",null,"N/A","N/A",null,15326400,0,0,0,{"$f":"+W476+X476+Z476","v":15326400},15326400,"2022-01-21","2022-01-24","2022-07-23",180,0,0,null,null,null,null,"Terminado",{"$f":"IF(ISERROR(AB476/AA476),\"-\",(AB476/AA476))","v":1}]
["FDLSC-CPS-078-2022",2022,"FDLSC-CD-045-2022","https://community.secop.gov.co/Public/Tendering/OpportunityDetail/Index?noticeUID=CO1.NTC.2635361&isFromPublicArea=True&isModal=true&asPopupView=true","Contratos de prestación de servicios profesionales y de apoyo a la gestión","Contratación directa","Prestación de servicios profesionales y de apoyo a la gestión, o para la ejecución de trabajos artísticos que sólo puedan encomendarse a determinadas personas naturales","PRESTAR SUS SERVICIOS DE APOYO PARA REALIZAR LA CONDUCCIÓN DE LOS VEHÍCULOS LIVIANOS, PESADOS Y/O MAQUINARIA PESADA QUE SE ENCUENTRE AL SERVICIO DE LAS ACTIVIDADES DESARROLLADAS EN EL FDL.","Inversión","Un nuevo contrato social y ambiental para la Bogotá del Siglo XXI",57,{"$f":"IF(ISERROR(VLOOKUP(K477,#REF!,2,FALSE)),\" \",VLOOKUP(K477,#REF!,2,FALSE))","v":" "},{"$f":"IF(ISERROR(VLOOKUP(K477,#REF!,3,FALSE)),\" \",VLOOKUP(K477,#REF!,3,FALSE))","v":" "},1873,0,79705890,"ERNEY SACHICA RAVELO","Persona Natural",null,"N/A","N/A",null,15326400,0,0,0,{"$f":"+W477+X477+Z477","v":15326400},15326400,"2022-01-24","2022-01-28","2022-07-27",180,0,0,null,null,null,null,"Terminado",{"$f":"IF(ISERROR(AB477/AA477),\"-\",(AB477/AA477))","v":1}]
["FDLSC-CPS-079-2022",2022,"FDLSC-CD-045-2022","https://community.secop.gov.co/Public/Tendering/OpportunityDetail/Index?noticeUID=CO1.NTC.2635361&isFromPublicArea=True&isModal=true&asPopupView=true","Contratos de prestación de servicios profesionales y de apoyo a la gestión","Contratación directa","Prestación de servicios profesionales y de apoyo a la gestión, o para la ejecución de trabajos artísticos que sólo puedan encomendarse a determinadas personas naturales","PRESTAR SUS SERVICIOS DE APOYO PARA REALIZAR LA CONDUCCIÓN DE LOS VEHÍCULOS LIVIANOS, PESADOS Y/O MAQUINARIA PESADA QUE SE ENCUENTRE AL SERVICIO DE LAS ACTIVIDADES DESARROLLADAS EN EL FDL.","Inversión","Un nuevo contrato social y ambiental para la Bogotá del Siglo XXI",57,{"$f":"IF(ISERROR(VLOOKUP(K478,#REF!,2,FALSE)),\" \",VLOOKUP(K478,#REF!,2,FALSE))","v":" "},{"$f":"IF(ISERROR(VLOOKUP(K478,#REF!,3,FALSE)),\" \",VLOOKUP(K478,#REF!,3,FALSE))","v":" "},1873,0,79757778,"JUAN CARLOS PINZON BERMUDEZ","Persona Natural",null,"N/A","N/A",null,15326400,0,0,0,{"$f":"+W478+X478+Z478","v":15326400},15326400,"2022-01-25","2022-02-01","2022-07-31",180,0,0,null,null,null,null,"Terminado",{"$f":"IF(ISERROR(AB478/AA478),\"-\",(AB478/AA478))","v":1}]
["FDLSC-CPS-080-2022",2022,"FDLSC-CD-045-2022","https://community.secop.gov.co/Public/Tendering/OpportunityDetail/Index?noticeUID=CO1.NTC.2635361&isFromPublicArea=True&isModal=true&asPopupView=true","Contratos de prestación de servicios profesionales y de apoyo a la gestión","Contratación directa","Prestación de servicios profesionales y de apoyo a la gestión, o para la ejecución de trabajos artísticos que sólo puedan encomendarse a determinadas personas naturales","PRESTAR SUS SERVICIOS DE APOYO PARA REALIZAR LA CONDUCCIÓN DE LOS VEHÍCULOS LIVIANOS, PESADOS Y/O MAQUINARIA PESADA QUE SE ENCUENTRE AL SERVICIO DE LAS ACTIVIDADES DESARROLLADAS EN EL FDL.","Inversión","Un nuevo contrato social y ambiental para la Bogotá del Siglo XXI",57,{"$f":"IF(ISERROR(VLOOKUP(K479,#REF!,2,FALSE)),\" \",VLOOKUP(K479,#REF!,2,FALSE))","v":" "},{"$f":"IF(ISERROR(VLOOKUP(K479,#REF!,3,FALSE)),\" \",VLOOKUP(K479,#REF!,3,FALSE))","v":" "},1873,0,1030599985,"PABLO LEONARDO RICO RODRIGUEZ","Persona Natural",null,"N/A","N/A",null,15326400,0,0,0,{"$f":"+W479+X479+Z479","v":15326400},15326400,"2022-01-26","2022-02-01","2022-07-30",180,0,0,null,null,null,null,"Terminado",{"$f":"IF(ISERROR(AB479/AA479),\"-\",(AB479/AA479))","v":1}]
["FDLSC-CPS-081-2022",2022,"FDLSC-CD-045-2022","https://community.secop.gov.co/Public/Tendering/OpportunityDetail/Index?noticeUID=CO1.NTC.2635361&isFromPublicArea=True&isModal=true&asPopupView=true","Contratos de prestación de servicios profesionales y de apoyo a la gestión","Contratación directa","Prestación de servicios profesionales y de apoyo a la gestión, o para la ejecución de trabajos artísticos que sólo puedan encomendarse a determinadas personas naturales","PRESTAR SUS SERVICIOS DE APOYO PARA REALIZAR LA CONDUCCIÓN DE LOS VEHÍCULOS LIVIANOS, PESADOS Y/O MAQUINARIA PESADA QUE SE ENCUENTRE AL SERVICIO DE LAS ACTIVIDADES DESARROLLADAS EN EL FDL.","Inversión","Un nuevo contrato social y ambiental para la Bogotá del Siglo XXI",57,{"$f":"IF(ISERROR(VLOOKUP(K480,#REF!,2,FALSE)),\" \",VLOOKUP(K480,#REF!,2,FALSE))","v":" "},{"$f":"IF(ISERROR(VLOOKUP(K480,#REF!,3,FALSE)),\" \",VLOOKUP(K480,#REF!,3,FALSE))","v":" "},1873,0,79285938,"LUIS ERNESTO VARGAS AROCA","Persona Natural",null,"N/A","N/A",null,15326400,0,0,0,{"$f":"+W480+X480+Z480","v":15326400},15326400,"2022-01-24","2022-01-27","2022-07-26",180,0,0,null,null,null,null,"Terminado",{"$f":"IF(ISERROR(AB480/AA480),\"-\",(AB480/AA480))","v":1}]
["FDLSC-CPS-082-2022",2022,"FDLSC-CD-045-2022","https://community.secop.gov.co/Public/Tendering/OpportunityDetail/Index?noticeUID=CO1.NTC.2635361&isFromPublicArea=True&isModal=true&asPopupView=true","Contratos de prestación de servicios profesionales y de apoyo a la gestión","Contratación directa","Prestación de servicios profesionales y de apoyo a la gestión, o para la ejecución de trabajos artísticos que sólo puedan encomendarse a determinadas personas naturales","PRESTAR SUS SERVICIOS DE APOYO PARA REALIZAR LA CONDUCCIÓN DE LOS VEHÍCULOS LIVIANOS, PESADOS Y/O MAQUINARIA PESADA QUE SE ENCUENTRE AL SERVICIO DE LAS ACTIVIDADES DESARROLLADAS EN EL FDL.","Inversión","Un nuevo contrato social y ambiental para la Bogotá del Siglo XXI",57,{"$f":"IF(ISERROR(VLOOKUP(K481,#REF!,2,FALSE)),\" \",VLOOKUP(K481,#REF!,2,FALSE))","v":" "},{"$f":"IF(ISERROR(VLOOKUP(K481,#REF!,3,FALSE)),\" \",VLOOKUP(K481,#REF!,3,FALSE))","v":" "},1873,0,79806023,"WILLIAM ARMANDO RUIZ MUÑOZ","Persona Natural",null,"N/A","N/A",null,15326400,0,0,0,{"$f":"+W481+X481+Z481","v":15326400},15326400,"2022-01-21","2022-01-25","2022-07-24",180,0,0,null,null,null,null,"Terminado",{"$f":"IF(ISERROR(AB481/AA481),\"-\",(AB481/AA481))","v":1}]
["FDLSC-CPS-083-2022",2022,"FDLSC-CD-045-2022","https://community.secop.gov.co/Public/Tendering/OpportunityDetail/Index?noticeUID=CO1.NTC.2635361&isFromPublicArea=True&isModal=true&asPopupView=true","Contratos de prestación de servicios profesionales y de apoyo a la gestión","Contratación directa","Prestación de servicios profesionales y de apoyo a la gestión, o para la ejecución de trabajos artísticos que sólo puedan encomendarse a determinadas personas naturales","PRESTAR SUS SERVICIOS DE APOYO PARA REALIZAR LA CONDUCCIÓN DE LOS VEHÍCULOS LIVIANOS, PESADOS Y/O MAQUINARIA PESADA QUE SE ENCUENTRE AL SERVICIO DE LAS ACTIVIDADES DESARROLLADAS EN EL FDL.","Inversión","Un nuevo contrato social y ambiental para la Bogotá del Siglo XXI",57,{"$f":"IF(ISERROR(VLOOKUP(K482,#REF!,2,FALSE)),\" \",VLOOKUP(K482,#REF!,2,FALSE))","v":" "},{"$f":"IF(ISERROR(VLOOKUP(K482,#REF!,3,FALSE)),\" \",VLOOKUP(K482,#REF!,3,FALSE))","v":" "},1873,0,1016072674,"BRAYAN STICK BARBOSA CENDALES","Persona Natural",null,"N/A","N/A",null,15326400,0,0,0,{"$f":"+W482+X482+Z482","v":15326400},15326400,"2022-01-26","2022-02-04","2022-08-03",180,0,0,null,null,null,null,"Terminado",{"$f":"IF(ISERROR(AB482/AA482),\"-\",(AB482/AA482))","v":1}]
["FDLSC-CPS-089-2022",2022,"FDLSC-CD-051-2022","https://community.secop.gov.co/Public/Tendering/OpportunityDetail/Index?noticeUID=CO1.NTC.2642532&isFromPublicArea=True&isModal=true&asPopupView=true","Contratos de prestación de servicios profesionales y de apoyo a la gestión","Contratación directa","Prestación de servicios profesionales y de apoyo a la gestión, o para la ejecución de trabajos artísticos que sólo puedan encomendarse a determinadas personas naturales","PRESTAR SUS SERVICIOS ASISTENCIALES PARA EL FONDO DE DESARROLLO LOCAL EN EL PUNTO DE INFORMACION, ATENDIENDO LOS LINEAMIENTOS DE LA SECRETARIA DISTRITAL DE GOBIERNO.","Inversión","Un nuevo contrato social y ambiental para la Bogotá del Siglo XXI",57,{"$f":"IF(ISERROR(VLOOKUP(K483,#REF!,2,FALSE)),\" \",VLOOKUP(K483,#REF!,2,FALSE))","v":" "},{"$f":"IF(ISERROR(VLOOKUP(K483,#REF!,3,FALSE)),\" \",VLOOKUP(K483,#REF!,3,FALSE))","v":" "},1873,0,80120984,"FERNANDO ALFREDO CIFUENTES GARCIA","Persona Natural",null,"N/A","N/A",null,15326400,0,0,0,{"$f":"+W483+X483+Z483","v":15326400},15326400,"2022-01-21","2022-01-26","2022-07-25",180,0,0,null,null,null,null,"Terminado",{"$f":"IF(ISERROR(AB483/AA483),\"-\",(AB483/AA483))","v":1}]
["FDLSC-CPS-280-2022",2022,"FDLSC-CD-051-2022","https://community.secop.gov.co/Public/Tendering/OpportunityDetail/Index?noticeUID=CO1.NTC.2589705&isFromPublicArea=True&isModal=true&asPopupView=true","Contratos de prestación de servicios profesionales y de apoyo a la gestión","Contratación directa","Prestación de servicios profesionales y de apoyo a la gestión, o para la ejecución de trabajos artísticos que sólo puedan encomendarse a determinadas personas naturales","PRESTAR SUS SERVICIOS ASISTENCIALES PARA EL FONDO DE DESARROLLO LOCAL EN EL PUNTO DE INFORMACION, ATENDIENDO LOS LINEAMIENTOS DE LA SECRETARIA DISTRITAL DE GOBIERNO.","Inversión","Un nuevo contrato social y ambiental para la Bogotá del Siglo XXI",57,{"$f":"IF(ISERROR(VLOOKUP(K484,#REF!,2,FALSE)),\" \",VLOOKUP(K484,#REF!,2,FALSE))","v":" "},{"$f":"IF(ISERROR(VLOOKUP(K484,#REF!,3,FALSE)),\" \",VLOOKUP(K484,#REF!,3,FALSE))","v":" "},1873,0,1022984888,"YESID FERNANDO SANCHEZ COLORADO","Persona Natural",null,"N/A","N/A",null,15326400,0,0,0,{"$f":"+W484+X484+Z484","v":15326400},15326400,"2022-01-28","2022-02-02","2022-08-01",180,0,0,null,null,null,null,"Terminado",{"$f":"IF(ISERROR(AB484/AA484),\"-\",(AB484/AA484))","v":1}]
["FDLSC-CPS-510-2022",2022,"FDLSC-CD-262-2022","https://community.secop.gov.co/Public/Tendering/OpportunityDetail/Index?noticeUID=CO1.NTC.3299312&isFromPublicArea=True&isModal=true&asPopupView=true","Contratos de prestación de servicios profesionales y de apoyo a la gestión","Contratación directa","Prestación de servicios profesionales y de apoyo a la gestión, o para la ejecución de trabajos artísticos que sólo puedan encomendarse a determinadas personas naturales","PRESTAR LOS SERVICIOS TÉCNICOS PARA LA OPERACIÓN, SEGUIMIENTO Y CUMPLIMIENTO DE LOS PROCESOS Y PROCEDIMIENTOS DEL SERVICIO APOYOS ECONÓMICOS TIPO C, REQUERIDOS PARA EL OPORTUNO Y ADECUADO REGISTRO, CRUCE Y REPORTE DE LOS DATOS EN EL SISTEMA MISIONAL SIRBE, QUE CONTRIBUYAN A LA GARANTÍA DE LOS DERECHOS DE LA POBLACIÓN MAYOR EN EL MARCO DE LA POLÍTICA PÚBLICA SOCIAL PARA EL ENVEJECIMIENTO Y LA VEJEZ EN EL DISTRITO CAPITAL A CARGO DE LA ALCALDÍA LOCAL","Inversión","Un nuevo contrato social y ambiental para la Bogotá del Siglo XXI",1,{"$f":"IF(ISERROR(VLOOKUP(K485,#REF!,2,FALSE)),\" \",VLOOKUP(K485,#REF!,2,FALSE))","v":" "},{"$f":"IF(ISERROR(VLOOKUP(K485,#REF!,3,FALSE)),\" \",VLOOKUP(K485,#REF!,3,FALSE))","v":" "},1852,0,1013679352,"LINA MARIA SALOM CHACON","Persona Natural",null,"N/A","N/A",null,12250000,0,1,3033333,{"$f":"+W485+X485+Z485","v":15283333},8283333,"2022-09-19","2022-09-20","2023-01-30",105,1,26,null,null,null,null,"En ejecución",{"$f":"IF(ISERROR(AB485/AA485),\"-\",(AB485/AA485))","v":0.54198472283499943}]
["FDLSC-CPS-389-2022",2022,"FDLSC-CD-186-2022","https://community.secop.gov.co/Public/Tendering/OpportunityDetail/Index?noticeUID=CO1.NTC.3078890&isFromPublicArea=True&isModal=true&asPopupView=true","Contratos de prestación de servicios profesionales y de apoyo a la gestión","Contratación directa","Prestación de servicios profesionales y de apoyo a la gestión, o para la ejecución de trabajos artísticos que sólo puedan encomendarse a determinadas personas naturales","PRESTAR SUS SERVICIOS DE APOYO PARA REALIZAR LA CONDUCCIÓN DE LOS VEHÍCULOS LIVIANOS, PESADOS Y/O MAQUINARIA PESADA QUE SE ENCUENTRE AL SERVICIO DE LAS ACTIVIDADES DESARROLLADAS EN EL FDL.","Inversión","Un nuevo contrato social y ambiental para la Bogotá del Siglo XXI",57,{"$f":"IF(ISERROR(VLOOKUP(K486,#REF!,2,FALSE)),\" \",VLOOKUP(K486,#REF!,2,FALSE))","v":" "},{"$f":"IF(ISERROR(VLOOKUP(K486,#REF!,3,FALSE)),\" \",VLOOKUP(K486,#REF!,3,FALSE))","v":" "},1873,0,79806023,"WILLIAM ARMANDO RUIZ MUÑOZ","Persona Natural",null,"N/A","N/A",null,12772000,0,1,2469253,{"$f":"+W486+X486+Z486","v":15241253},10132453,"2022-07-29","2022-08-02","2023-01-30",150,0,0,null,null,null,null,"En ejecución",{"$f":"IF(ISERROR(AB486/AA486),\"-\",(AB486/AA486))","v":0.66480446194285991}]
["FDLSC-CPS-550-2022",2022,"FDLSC-CPS-550-2022","https://community.secop.gov.co/Public/Tendering/OpportunityDetail/Index?noticeUID=CO1.NTC.3436185&isFromPublicArea=True&isModal=true&asPopupView=true","Contratos de prestación de servicios profesionales y de apoyo a la gestión","Contratación directa","Prestación de servicios profesionales y de apoyo a la gestión, o para la ejecución de trabajos artísticos que sólo puedan encomendarse a determinadas personas naturales","PRESTAR LOS SERVICIOS PROFESIONALES PARA APOYAR LA ORGANIZACIÓN Y ACOMPAÑAMIENTO DE LAS ACTIVIDADES Y EVENTOS QUE SE REALICEN DESDE LA ALCALDIA LOCAL DE SAN CRISTOBAL EN EL TERRITORIO LOCAL","Inversión","Un nuevo contrato social y ambiental para la Bogotá del Siglo XXI",57,{"$f":"IF(ISERROR(VLOOKUP(K487,#REF!,2,FALSE)),\" \",VLOOKUP(K487,#REF!,2,FALSE))","v":" "},{"$f":"IF(ISERROR(VLOOKUP(K487,#REF!,3,FALSE)),\" \",VLOOKUP(K487,#REF!,3,FALSE))","v":" "},1873,0,1083891484,"EDUARD MAURICIO RINCON ZAPATA","Persona Natural",null,"N/A","N/A",null,15000000,0,0,0,{"$f":"+W487+X487+Z487","v":15000000},7000000,"2022-10-25","2022-10-26","2023-01-11",75,0,0,null,null,null,null,"En ejecución",{"$f":"IF(ISERROR(AB487/AA487),\"-\",(AB487/AA487))","v":0.46666666666666667}]
["FDLSC-CPS-158-2022",2022,"FDLSC-CD-078-2022","https://community.secop.gov.co/Public/Tendering/OpportunityDetail/Index?noticeUID=CO1.NTC.2687936&isFromPublicArea=True&isModal=true&asPopupView=true","Contratos de prestación de servicios profesionales y de apoyo a la gestión","Contratación directa","Prestación de servicios profesionales y de apoyo a la gestión, o para la ejecución de trabajos artísticos que sólo puedan encomendarse a determinadas personas naturales","PRESTAR SUS SERVICIOS DE APOYO ASISTENCIAL PARA LA GESTIÓN DEL RIESGO, EN EL MARCO DE LOS VÍGIAS DEL RIESGO DE LA LOCALIDAD DE SAN CRISTÓBAL, A LA LUZ DEL PLAN DE DESARROLLO 2021-2024.","Inversión","Un nuevo contrato social y ambiental para la Bogotá del Siglo XXI",30,{"$f":"IF(ISERROR(VLOOKUP(K488,#REF!,2,FALSE)),\" \",VLOOKUP(K488,#REF!,2,FALSE))","v":" "},{"$f":"IF(ISERROR(VLOOKUP(K488,#REF!,3,FALSE)),\" \",VLOOKUP(K488,#REF!,3,FALSE))","v":" "},1866,0,79259682,"CARLOS ARTURO LEYES ORTIZ","Persona Natural",null,"N/A","N/A",null,15000000,0,0,0,{"$f":"+W488+X488+Z488","v":15000000},14750000,"2022-01-28","2022-02-04","2022-08-03",180,0,0,null,null,null,null,"Terminado",{"$f":"IF(ISERROR(AB488/AA488),\"-\",(AB488/AA488))","v":0.98333333333333328}]
["FDLSC-CPS-160-2022",2022,"FDLSC-CD-078-2022","https://community.secop.gov.co/Public/Tendering/OpportunityDetail/Index?noticeUID=CO1.NTC.2687936&isFromPublicArea=True&isModal=true&asPopupView=true","Contratos de prestación de servicios profesionales y de apoyo a la gestión","Contratación directa","Prestación de servicios profesionales y de apoyo a la gestión, o para la ejecución de trabajos artísticos que sólo puedan encomendarse a determinadas personas naturales","PRESTAR SUS SERVICIOS DE APOYO ASISTENCIAL PARA LA GESTIÓN DEL RIESGO, EN EL MARCO DE LOS VÍGIAS DEL RIESGO DE LA LOCALIDAD DE SAN CRISTÓBAL, A LA LUZ DEL PLAN DE DESARROLLO 2021-2024.","Inversión","Un nuevo contrato social y ambiental para la Bogotá del Siglo XXI",30,{"$f":"IF(ISERROR(VLOOKUP(K489,#REF!,2,FALSE)),\" \",VLOOKUP(K489,#REF!,2,FALSE))","v":" "},{"$f":"IF(ISERROR(VLOOKUP(K489,#REF!,3,FALSE)),\" \",VLOOKUP(K489,#REF!,3,FALSE))","v":" "},1866,0,1110508238,"JHON ALEXSANDER VARON RAMIREZ","Persona Natural",null,"N/A","N/A",null,15000000,0,0,0,{"$f":"+W489+X489+Z489","v":15000000},14750000,"2022-01-25","2022-02-04","2022-08-03",180,0,0,null,null,null,null,"Terminado",{"$f":"IF(ISERROR(AB489/AA489),\"-\",(AB489/AA489))","v":0.98333333333333328}]
["FDLSC-CPS-167-2022",2022,"FDLSC-CD-078-2022","https://community.secop.gov.co/Public/Tendering/OpportunityDetail/Index?noticeUID=CO1.NTC.2687936&isFromPublicArea=True&isModal=true&asPopupView=true","Contratos de prestación de servicios profesionales y de apoyo a la gestión","Contratación directa","Prestación de servicios profesionales y de apoyo a la gestión, o para la ejecución de trabajos artísticos que sólo puedan encomendarse a determinadas personas naturales","PRESTAR SUS SERVICIOS DE APOYO ASISTENCIAL PARA LA GESTIÓN DEL RIESGO, EN EL MARCO DE LOS VÍGIAS DEL RIESGO DE LA LOCALIDAD DE SAN CRISTÓBAL, A LA LUZ DEL PLAN DE DESARROLLO 2021-2024.","Inversión","Un nuevo contrato social y ambiental para la Bogotá del Siglo XXI",30,{"$f":"IF(ISERROR(VLOOKUP(K490,#REF!,2,FALSE)),\" \",VLOOKUP(K490,#REF!,2,FALSE))","v":" "},{"$f":"IF(ISERROR(VLOOKUP(K490,#REF!,3,FALSE)),\" \",VLOOKUP(K490,#REF!,3,FALSE))","v":" "},1866,0,79979040,"OSCAR URIEL MATAMOROS GONZALEZ","Persona Natural",null,"N/A","N/A",null,15000000,0,0,0,{"$f":"+W490+X490+Z490","v":15000000},14750000,"2022-01-25","2022-02-04","2022-08-03",180,0,0,null,null,null,null,"Terminado",{"$f":"IF(ISERROR(AB490/AA490),\"-\",(AB490/AA490))","v":0.98333333333333328}]
["FDLSC-CPS-298-2022",2022,"FDLSC-CD-078-2022","https://community.secop.gov.co/Public/Tendering/OpportunityDetail/Index?noticeUID=CO1.NTC.2784785&isFromPublicArea=True&isModal=true&asPopupView=true","Contratos de prestación de servicios profesionales y de apoyo a la gestión","Contratación directa","Prestación de servicios profesionales y de apoyo a la gestión, o para la ejecución de trabajos artísticos que sólo puedan encomendarse a determinadas personas naturales","PRESTAR SUS SERVICIOS DE APOYO ASISTENCIAL PARA LA GESTIÓN DEL RIESGO, EN EL MARCO DE LOS VÍGIAS DEL RIESGO DE LA LOCALIDAD DE SAN CRISTÓBAL, A LA LUZ DEL PLAN DE DESARROLLO 2021-2024.","Inversión","Un nuevo contrato social y ambiental para la Bogotá del Siglo XXI",30,{"$f":"IF(ISERROR(VLOOKUP(K491,#REF!,2,FALSE)),\" \",VLOOKUP(K491,#REF!,2,FALSE))","v":" "},{"$f":"IF(ISERROR(VLOOKUP(K491,#REF!,3,FALSE)),\" \",VLOOKUP(K491,#REF!,3,FALSE))","v":" "},1866,0,79604580,"GERBEY GARCIA AVILA","Persona Natural",null,"N/A","N/A",null,15000000,0,0,0,{"$f":"+W491+X491+Z491","v":15000000},14750000,"2022-01-28","2022-02-04","2022-08-03",180,0,0,null,null,null,null,"Terminado",{"$f":"IF(ISERROR(AB491/AA491),\"-\",(AB491/AA491))","v":0.98333333333333328}]
["FDLSC-CPS-327-2022",2022,"FDLSC-CD-078-2022","https://community.secop.gov.co/Public/Tendering/OpportunityDetail/Index?noticeUID=CO1.NTC.2687936&isFromPublicArea=True&isModal=true&asPopupView=true","Contratos de prestación de servicios profesionales y de apoyo a la gestión","Contratación directa","Prestación de servicios profesionales y de apoyo a la gestión, o para la ejecución de trabajos artísticos que sólo puedan encomendarse a determinadas personas naturales","PRESTAR SUS SERVICIOS DE APOYO ASISTENCIAL PARA LA GESTIÓN DEL RIESGO, EN EL MARCO DE LOS VÍGIAS DEL RIESGO DE LA LOCALIDAD DE SAN CRISTÓBAL, A LA LUZ DEL PLAN DE DESARROLLO 2021-2024.","Inversión","Un nuevo contrato social y ambiental para la Bogotá del Siglo XXI",30,{"$f":"IF(ISERROR(VLOOKUP(K492,#REF!,2,FALSE)),\" \",VLOOKUP(K492,#REF!,2,FALSE))","v":" "},{"$f":"IF(ISERROR(VLOOKUP(K492,#REF!,3,FALSE)),\" \",VLOOKUP(K492,#REF!,3,FALSE))","v":" "},1866,0,1023884422,"ANDREY CORREDOR MOYANO","Persona Natural",null,"N/A","N/A",null,15000000,0,0,0,{"$f":"+W492+X492+Z492","v":15000000},14750000,"2022-01-28","2022-02-04","2022-08-03",180,0,0,null,null,null,null,"Terminado",{"$f":"IF(ISERROR(AB492/AA492),\"-\",(AB492/AA492))","v":0.98333333333333328}]
["FDLSC-CSU-481-2022",2022,"FDLSC-MIC-007-2022","https://community.secop.gov.co/Public/Tendering/OpportunityDetail/Index?noticeUID=CO1.NTC.3080002&isFromPublicArea=True&isModal=true&asPopupView=true","Suministro","Contratación mínima cuantia","No aplica","SUMINISTRO DE CONSUMIBLES DE IMPRESIÓN PARA LAS IMPRESORAS DE LA ALCALDÍA LOCAL DE SAN CRISTOBAL Y JUNTA ADMINISTRADORA LOCAL","Funcionamiento","Un nuevo contrato social y ambiental para la Bogotá del Siglo XXI","No aplica",{"$f":"IF(ISERROR(VLOOKUP(K493,#REF!,2,FALSE)),\" \",VLOOKUP(K493,#REF!,2,FALSE))","v":" "},{"$f":"IF(ISERROR(VLOOKUP(K493,#REF!,3,FALSE)),\" \",VLOOKUP(K493,#REF!,3,FALSE))","v":" "},9060,7,860053274,"GRUPO LAGOS S.A.S","Persona Jurídica",null,"N/A","N/A",null,15000000,0,0,0,{"$f":"+W493+X493+Z493","v":15000000},14942294,"2022-09-06","2022-09-07","2023-02-06",150,0,0,null,null,null,null,"En ejecución",{"$f":"IF(ISERROR(AB493/AA493),\"-\",(AB493/AA493))","v":0.99615293333333332}]
["FDLSC-CPS-134-2022",2022,"FDLSC-CD-075-2022","https://community.secop.gov.co/Public/Tendering/OpportunityDetail/Index?noticeUID=CO1.NTC.2667543&isFromPublicArea=True&isModal=true&asPopupView=true","Contratos de prestación de servicios profesionales y de apoyo a la gestión","Contratación directa","Prestación de servicios profesionales y de apoyo a la gestión, o para la ejecución de trabajos artísticos que sólo puedan encomendarse a determinadas personas naturales","PRESTAR SUS SERVICIOS DE APOYO ASISTENCIAL PARA APOYAR LA GESTIÓN DOCUMENTAL DE LA ALCALDÍA LOCAL EN LA IMPLEMENTACION DE LOS PROCESOS DE CLASIFICACIÓN, ORDENACIÓN, SELECCIÓN NATURAL, FOLIACIÓN, IDENTIFICACIÓN, LEVANTAMIENTO DE INVENTARIOS, ALMACENAMIENTO Y APLICACIÓN DE PROTOCOLOS DE ELIMINACIÓN Y TRANSFERENCIAS DOCUMENTALES.","Inversión","Un nuevo contrato social y ambiental para la Bogotá del Siglo XXI",57,{"$f":"IF(ISERROR(VLOOKUP(K494,#REF!,2,FALSE)),\" \",VLOOKUP(K494,#REF!,2,FALSE))","v":" "},{"$f":"IF(ISERROR(VLOOKUP(K494,#REF!,3,FALSE)),\" \",VLOOKUP(K494,#REF!,3,FALSE))","v":" "},1873,0,51600104,"NELLY QUIJANO QUIJANO","Persona Natural",null,"N/A","N/A",null,15000000,0,0,0,{"$f":"+W494+X494+Z494","v":15000000},15000000,"2022-01-24","2022-01-27","2022-07-26",180,0,0,null,null,null,null,"Terminado",{"$f":"IF(ISERROR(AB494/AA494),\"-\",(AB494/AA494))","v":1}]
["FDLSC-CPS-135-2022",2022,"FDLSC-CD-075-2022","https://community.secop.gov.co/Public/Tendering/OpportunityDetail/Index?noticeUID=CO1.NTC.2667543&isFromPublicArea=True&isModal=true&asPopupView=true","Contratos de prestación de servicios profesionales y de apoyo a la gestión","Contratación directa","Prestación de servicios profesionales y de apoyo a la gestión, o para la ejecución de trabajos artísticos que sólo puedan encomendarse a determinadas personas naturales","PRESTAR SUS SERVICIOS DE APOYO ASISTENCIAL PARA APOYAR LA GESTIÓN DOCUMENTAL DE LA ALCALDÍA LOCAL EN LA IMPLEMENTACION DE LOS PROCESOS DE CLASIFICACIÓN, ORDENACIÓN, SELECCIÓN NATURAL, FOLIACIÓN, IDENTIFICACIÓN, LEVANTAMIENTO DE INVENTARIOS, ALMACENAMIENTO Y APLICACIÓN DE PROTOCOLOS DE ELIMINACIÓN Y TRANSFERENCIAS DOCUMENTALES.","Inversión","Un nuevo contrato social y ambiental para la Bogotá del Siglo XXI",57,{"$f":"IF(ISERROR(VLOOKUP(K495,#REF!,2,FALSE)),\" \",VLOOKUP(K495,#REF!,2,FALSE))","v":" "},{"$f":"IF(ISERROR(VLOOKUP(K495,#REF!,3,FALSE)),\" \",VLOOKUP(K495,#REF!,3,FALSE))","v":" "},1873,0,1006070198,"YESSICA PAOLA OYOLA HUERFANO ","Persona Natural",null,"N/A","N/A",null,15000000,0,0,0,{"$f":"+W495+X495+Z495","v":15000000},15000000,"2022-01-24","2022-02-02","2022-08-01",180,0,0,null,null,null,null,"Terminado",{"$f":"IF(ISERROR(AB495/AA495),\"-\",(AB495/AA495))","v":1}]
["FDLSC-CPS-159-2022",2022,"FDLSC-CD-078-2022","https://community.secop.gov.co/Public/Tendering/OpportunityDetail/Index?noticeUID=CO1.NTC.2687936&isFromPublicArea=True&isModal=true&asPopupView=true","Contratos de prestación de servicios profesionales y de apoyo a la gestión","Contratación directa","Prestación de servicios profesionales y de apoyo a la gestión, o para la ejecución de trabajos artísticos que sólo puedan encomendarse a determinadas personas naturales","PRESTAR SUS SERVICIOS DE APOYO ASISTENCIAL PARA LA GESTIÓN DEL RIESGO, EN EL MARCO DE LOS VÍGIAS DEL RIESGO DE LA LOCALIDAD DE SAN CRISTÓBAL, A LA LUZ DEL PLAN DE DESARROLLO 2021-2024.","Inversión","Un nuevo contrato social y ambiental para la Bogotá del Siglo XXI",30,{"$f":"IF(ISERROR(VLOOKUP(K496,#REF!,2,FALSE)),\" \",VLOOKUP(K496,#REF!,2,FALSE))","v":" "},{"$f":"IF(ISERROR(VLOOKUP(K496,#REF!,3,FALSE)),\" \",VLOOKUP(K496,#REF!,3,FALSE))","v":" "},1866,0,80812091,"YONI EDILSON CASTRO GALAN","Persona Natural",null,"N/A","N/A",null,15000000,0,0,0,{"$f":"+W496+X496+Z496","v":15000000},15000000,"2022-01-26","2022-02-04","2022-08-03",180,0,0,null,null,null,null,"Terminado",{"$f":"IF(ISERROR(AB496/AA496),\"-\",(AB496/AA496))","v":1}]
["FDLSC-CPS-161-2022",2022,"FDLSC-CD-078-2022","https://community.secop.gov.co/Public/Tendering/OpportunityDetail/Index?noticeUID=CO1.NTC.2687936&isFromPublicArea=True&isModal=true&asPopupView=true","Contratos de prestación de servicios profesionales y de apoyo a la gestión","Contratación directa","Prestación de servicios profesionales y de apoyo a la gestión, o para la ejecución de trabajos artísticos que sólo puedan encomendarse a determinadas personas naturales","PRESTAR SUS SERVICIOS DE APOYO ASISTENCIAL PARA LA GESTIÓN DEL RIESGO, EN EL MARCO DE LOS VÍGIAS DEL RIESGO DE LA LOCALIDAD DE SAN CRISTÓBAL, A LA LUZ DEL PLAN DE DESARROLLO 2021-2024.","Inversión","Un nuevo contrato social y ambiental para la Bogotá del Siglo XXI",30,{"$f":"IF(ISERROR(VLOOKUP(K497,#REF!,2,FALSE)),\" \",VLOOKUP(K497,#REF!,2,FALSE))","v":" "},{"$f":"IF(ISERROR(VLOOKUP(K497,#REF!,3,FALSE)),\" \",VLOOKUP(K497,#REF!,3,FALSE))","v":" "},1866,0,1023891262,"JUNIOR GIOVANNY CASTELBLANCO BEJARANO","Persona Natural",null,"N/A","N/A",null,15000000,0,0,0,{"$f":"+W497+X497+Z497","v":15000000},15000000,"2022-01-27","2022-02-04","2022-08-03",180,0,0,null,null,null,null,"Terminado",{"$f":"IF(ISERROR(AB497/AA497),\"-\",(AB497/AA497))","v":1}]
["FDLSC-CPS-162-2022",2022,"FDLSC-CD-078-2022","https://community.secop.gov.co/Public/Tendering/OpportunityDetail/Index?noticeUID=CO1.NTC.2687936&isFromPublicArea=True&isModal=true&asPopupView=true","Contratos de prestación de servicios profesionales y de apoyo a la gestión","Contratación directa","Prestación de servicios profesionales y de apoyo a la gestión, o para la ejecución de trabajos artísticos que sólo puedan encomendarse a determinadas personas naturales","PRESTAR SUS SERVICIOS DE APOYO ASISTENCIAL PARA LA GESTIÓN DEL RIESGO, EN EL MARCO DE LOS VÍGIAS DEL RIESGO DE LA LOCALIDAD DE SAN CRISTÓBAL, A LA LUZ DEL PLAN DE DESARROLLO 2021-2024.","Inversión","Un nuevo contrato social y ambiental para la Bogotá del Siglo XXI",30,{"$f":"IF(ISERROR(VLOOKUP(K498,#REF!,2,FALSE)),\" \",VLOOKUP(K498,#REF!,2,FALSE))","v":" "},{"$f":"IF(ISERROR(VLOOKUP(K498,#REF!,3,FALSE)),\" \",VLOOKUP(K498,#REF!,3,FALSE))","v":" "},1866,0,1013581512,"JHON ALBERTO RODRIGUEZ CASTRILLON","Persona Natural",null,"N/A","N/A",null,15000000,0,0,0,{"$f":"+W498+X498+Z498","v":15000000},15000000,"2022-01-27","2022-02-04","2022-08-03",180,0,0,null,null,null,null,"Terminado",{"$f":"IF(ISERROR(AB498/AA498),\"-\",(AB498/AA498))","v":1}]
["FDLSC-CPS-260-2022",2022,"FDLSC-CD-078-2022","https://community.secop.gov.co/Public/Tendering/OpportunityDetail/Index?noticeUID=CO1.NTC.2687936&isFromPublicArea=True&isModal=true&asPopupView=true","Contratos de prestación de servicios profesionales y de apoyo a la gestión","Contratación directa","Prestación de servicios profesionales y de apoyo a la gestión, o para la ejecución de trabajos artísticos que sólo puedan encomendarse a determinadas personas naturales","PRESTAR SUS SERVICIOS DE APOYO ASISTENCIAL PARA LA GESTIÓN DEL RIESGO, EN EL MARCO DE LOS VÍGIAS DEL RIESGO DE LA LOCALIDAD DE SAN CRISTÓBAL, A LA LUZ DEL PLAN DE DESARROLLO 2021-2024.","Inversión","Un nuevo contrato social y ambiental para la Bogotá del Siglo XXI",30,{"$f":"IF(ISERROR(VLOOKUP(K499,#REF!,2,FALSE)),\" \",VLOOKUP(K499,#REF!,2,FALSE))","v":" "},{"$f":"IF(ISERROR(VLOOKUP(K499,#REF!,3,FALSE)),\" \",VLOOKUP(K499,#REF!,3,FALSE))","v":" "},1866,0,1033807324,"NATALLY YULLIETH MORA BENAVIDES","Persona Natural",null,"N/A","N/A",null,15000000,0,0,0,{"$f":"+W499+X499+Z499","v":15000000},15000000,"2022-01-27","2022-02-05","2022-08-04",180,0,0,null,null,null,null,"Terminado",{"$f":"IF(ISERROR(AB499/AA499),\"-\",(AB499/AA499))","v":1}]
["FDLSC-CPS-292-2022",2022,"FDLSC-CD-149-2022","https://community.secop.gov.co/Public/Tendering/OpportunityDetail/Index?noticeUID=CO1.NTC.2589705&isFromPublicArea=True&isModal=true&asPopupView=true","Contratos de prestación de servicios profesionales y de apoyo a la gestión","Contratación directa","Prestación de servicios profesionales y de apoyo a la gestión, o para la ejecución de trabajos artísticos que sólo puedan encomendarse a determinadas personas naturales","PRESTAR LOS SERVICIOS DE APOYO A LA GESTIÓN PARA ACOMPAÑAR TODOS LOS TEMAS RELACIONADOS CON LOS PROYECTOS DE ACUERDOS EN EL MARCO PLAN DE DESARROLLO LOCAL","Inversión","Un nuevo contrato social y ambiental para la Bogotá del Siglo XXI",45,{"$f":"IF(ISERROR(VLOOKUP(K500,#REF!,2,FALSE)),\" \",VLOOKUP(K500,#REF!,2,FALSE))","v":" "},{"$f":"IF(ISERROR(VLOOKUP(K500,#REF!,3,FALSE)),\" \",VLOOKUP(K500,#REF!,3,FALSE))","v":" "},1835,0,52321203,"CLAUDIA ROCIO SANDOVAL VELOZA","Persona Natural",null,"N/A","N/A",null,15000000,0,0,0,{"$f":"+W500+X500+Z500","v":15000000},15000000,"2022-01-28","2022-02-01","2022-07-30",180,0,0,null,null,null,null,"Terminado",{"$f":"IF(ISERROR(AB500/AA500),\"-\",(AB500/AA500))","v":1}]
["FDLSC-CPS-321-2022",2022,"FDLSC-CD-075-2022","https://community.secop.gov.co/Public/Tendering/OpportunityDetail/Index?noticeUID=CO1.NTC.2667543&isFromPublicArea=True&isModal=true&asPopupView=true","Contratos de prestación de servicios profesionales y de apoyo a la gestión","Contratación directa","Prestación de servicios profesionales y de apoyo a la gestión, o para la ejecución de trabajos artísticos que sólo puedan encomendarse a determinadas personas naturales","PRESTAR SUS SERVICIOS DE APOYO ASISTENCIAL PARA APOYAR LA GESTIÓN DOCUMENTAL DE LA ALCALDÍA LOCAL EN LA IMPLEMENTACION DE LOS PROCESOS DE CLASIFICACIÓN, ORDENACIÓN, SELECCIÓN NATURAL, FOLIACIÓN, IDENTIFICACIÓN, LEVANTAMIENTO DE INVENTARIOS, ALMACENAMIENTO Y APLICACIÓN DE PROTOCOLOS DE ELIMINACIÓN Y TRANSFERENCIAS DOCUMENTALES.","Inversión","Un nuevo contrato social y ambiental para la Bogotá del Siglo XXI",57,{"$f":"IF(ISERROR(VLOOKUP(K501,#REF!,2,FALSE)),\" \",VLOOKUP(K501,#REF!,2,FALSE))","v":" "},{"$f":"IF(ISERROR(VLOOKUP(K501,#REF!,3,FALSE)),\" \",VLOOKUP(K501,#REF!,3,FALSE))","v":" "},1873,0,1023873323,"ZULMA ASTRID GASPAR MARTINEZ","Persona Natural",null,"N/A","N/A",null,15000000,0,0,0,{"$f":"+W501+X501+Z501","v":15000000},15000000,"2022-01-28","2022-02-07","2022-08-06",180,0,0,null,null,null,null,"Terminado",{"$f":"IF(ISERROR(AB501/AA501),\"-\",(AB501/AA501))","v":1}]
["FDLSC-CPS-322-2022",2022,"FDLSC-CD-075-2022","https://community.secop.gov.co/Public/Tendering/OpportunityDetail/Index?noticeUID=CO1.NTC.2667543&isFromPublicArea=True&isModal=true&asPopupView=true","Contratos de prestación de servicios profesionales y de apoyo a la gestión","Contratación directa","Prestación de servicios profesionales y de apoyo a la gestión, o para la ejecución de trabajos artísticos que sólo puedan encomendarse a determinadas personas naturales","PRESTAR SUS SERVICIOS DE APOYO ASISTENCIAL PARA APOYAR LA GESTIÓN DOCUMENTAL DE LA ALCALDÍA LOCAL EN LA IMPLEMENTACION DE LOS PROCESOS DE CLASIFICACIÓN, ORDENACIÓN, SELECCIÓN NATURAL, FOLIACIÓN, IDENTIFICACIÓN, LEVANTAMIENTO DE INVENTARIOS, ALMACENAMIENTO Y APLICACIÓN DE PROTOCOLOS DE ELIMINACIÓN Y TRANSFERENCIAS DOCUMENTALES.","Inversión","Un nuevo contrato social y ambiental para la Bogotá del Siglo XXI",57,{"$f":"IF(ISERROR(VLOOKUP(K502,#REF!,2,FALSE)),\" \",VLOOKUP(K502,#REF!,2,FALSE))","v":" "},{"$f":"IF(ISERROR(VLOOKUP(K502,#REF!,3,FALSE)),\" \",VLOOKUP(K502,#REF!,3,FALSE))","v":" "},1873,0,1024513573,"ESTEFANI OVALLE CRUZ ","Persona Natural",null,"N/A","N/A",null,15000000,0,0,0,{"$f":"+W502+X502+Z502","v":15000000},15000000,"2022-01-28","2022-02-02","2022-08-01",180,0,0,null,null,null,null,"Terminado",{"$f":"IF(ISERROR(AB502/AA502),\"-\",(AB502/AA502))","v":1}]
["FDLSC-CPS-329-2022",2022,"FDLSC-CD-078-2022","https://community.secop.gov.co/Public/Tendering/OpportunityDetail/Index?noticeUID=CO1.NTC.2687936&isFromPublicArea=True&isModal=true&asPopupView=true","Contratos de prestación de servicios profesionales y de apoyo a la gestión","Contratación directa","Prestación de servicios profesionales y de apoyo a la gestión, o para la ejecución de trabajos artísticos que sólo puedan encomendarse a determinadas personas naturales","PRESTAR SUS SERVICIOS DE APOYO ASISTENCIAL PARA LA GESTIÓN DEL RIESGO, EN EL MARCO DE LOS VÍGIAS DEL RIESGO DE LA LOCALIDAD DE SAN CRISTÓBAL, A LA LUZ DEL PLAN DE DESARROLLO 2021-2024.","Inversión","Un nuevo contrato social y ambiental para la Bogotá del Siglo XXI",30,{"$f":"IF(ISERROR(VLOOKUP(K503,#REF!,2,FALSE)),\" \",VLOOKUP(K503,#REF!,2,FALSE))","v":" "},{"$f":"IF(ISERROR(VLOOKUP(K503,#REF!,3,FALSE)),\" \",VLOOKUP(K503,#REF!,3,FALSE))","v":" "},1866,0,52750520,"DIANA CATERINE BUITRAGO GONZALEZ","Persona Natural",null,"N/A","N/A",null,15000000,0,0,0,{"$f":"+W503+X503+Z503","v":15000000},15000000,"2022-01-28","2022-02-04","2022-08-03",180,0,0,null,null,null,null,"Terminado",{"$f":"IF(ISERROR(AB503/AA503),\"-\",(AB503/AA503))","v":1}]
["FDLSC-CPS-352-2022",2022,"FDLSC-CD-075-2022","https://community.secop.gov.co/Public/Tendering/OpportunityDetail/Index?noticeUID=CO1.NTC.2667543&isFromPublicArea=True&isModal=true&asPopupView=true","Contratos de prestación de servicios profesionales y de apoyo a la gestión","Contratación directa","Prestación de servicios profesionales y de apoyo a la gestión, o para la ejecución de trabajos artísticos que sólo puedan encomendarse a determinadas personas naturales","PRESTAR SUS SERVICIOS DE APOYO ASISTENCIAL PARA APOYAR LA GESTIÓN DOCUMENTAL DE LA ALCALDÍA LOCAL EN LA IMPLEMENTACION DE LOS PROCESOS DE CLASIFICACIÓN, ORDENACIÓN, SELECCIÓN NATURAL, FOLIACIÓN, IDENTIFICACIÓN, LEVANTAMIENTO DE INVENTARIOS, ALMACENAMIENTO Y APLICACIÓN DE PROTOCOLOS DE ELIMINACIÓN Y TRANSFERENCIAS DOCUMENTALES.","Inversión","Un nuevo contrato social y ambiental para la Bogotá del Siglo XXI",57,{"$f":"IF(ISERROR(VLOOKUP(K504,#REF!,2,FALSE)),\" \",VLOOKUP(K504,#REF!,2,FALSE))","v":" "},{"$f":"IF(ISERROR(VLOOKUP(K504,#REF!,3,FALSE)),\" \",VLOOKUP(K504,#REF!,3,FALSE))","v":" "},1873,0,51979208,"ROSA MARIA RODRIGUEZ TORRES","Persona Natural",null,"N/A","N/A",null,15000000,0,0,0,{"$f":"+W504+X504+Z504","v":15000000},15000000,"2022-01-28","2022-02-07","2022-08-06",180,0,0,null,null,null,null,"Terminado",{"$f":"IF(ISERROR(AB504/AA504),\"-\",(AB504/AA504))","v":1}]
["FDLSC-CPS-639-2022",2022,"FDLSC-CMA-006-2022","https://community.secop.gov.co/Public/Tendering/OpportunityDetail/Index?noticeUID=CO1.NTC.3615841&isFromPublicArea=True&isModal=true&asPopupView=true","Contratos de prestación de servicios","Concurso de méritos","No aplica","REALIZAR LA REVISION Y VERIFICACION DE LA ESTABILIDAD Y CALIDAD DE LAS OBRAS DE INFRAESTRUCTURA EJECUTADAS CON RECURSOS DEL FONDO DE DESARROLLO LOCAL DE SAN CRISTÓBAL Y QUE CUENTEN CON PÓLIZA DE ESTABILIDAD VIGENTE, EN CUMPLIMIENTO DEL ARTÍCULO 4º, NUMERAL 4º DE LA LEY 80 DE 1993","Inversión","Un nuevo contrato social y ambiental para la Bogotá del Siglo XXI",57,{"$f":"IF(ISERROR(VLOOKUP(K505,#REF!,2,FALSE)),\" \",VLOOKUP(K505,#REF!,2,FALSE))","v":" "},{"$f":"IF(ISERROR(VLOOKUP(K505,#REF!,3,FALSE)),\" \",VLOOKUP(K505,#REF!,3,FALSE))","v":" "},1873,1,900984598,"SAVIMAC SAS","Persona Jurídica",null,"N/A","N/A",null,14952550,0,0,0,{"$f":"+W505+X505+Z505","v":14952550},0,"2022-12-21",null,null,180,null,null,null,null,null,null,"Celebrado o por iniciar",{"$f":"IF(ISERROR(AB505/AA505),\"-\",(AB505/AA505))","v":0}]
["FDLSC-CPS-394-2022",2022,"FDLSC-CD-188-2022","https://community.secop.gov.co/Public/Tendering/OpportunityDetail/Index?noticeUID=CO1.NTC.3089992&isFromPublicArea=True&isModal=true&asPopupView=true","Contratos de prestación de servicios profesionales y de apoyo a la gestión","Contratación directa","Prestación de servicios profesionales y de apoyo a la gestión, o para la ejecución de trabajos artísticos que sólo puedan encomendarse a determinadas personas naturales","PRESTAR SUS SERVICIOS DE APOYO ASISTENCIAL PARA EL ACOMPAÑAMIENTO Y ORGANIZACIÓN DE LAS ACTIVIDADES QUE SEA DESIGNADO Y QUE SE ENCUENTREN AL SERVICIO DEL FONDO LOCAL DE SAN CRISTOBAL.","Inversión","Un nuevo contrato social y ambiental para la Bogotá del Siglo XXI",57,{"$f":"IF(ISERROR(VLOOKUP(K506,#REF!,2,FALSE)),\" \",VLOOKUP(K506,#REF!,2,FALSE))","v":" "},{"$f":"IF(ISERROR(VLOOKUP(K506,#REF!,3,FALSE)),\" \",VLOOKUP(K506,#REF!,3,FALSE))","v":" "},1873,0,80204556,"JOHN JAIRO RUIZ GUEVARA","Persona Natural",null,"N/A","N/A",null,13565000,0,1,1356500,{"$f":"+W506+X506+Z506","v":14921500},10761566,"2022-08-01","2022-08-02","2023-01-16",150,0,0,null,null,null,null,"En ejecución",{"$f":"IF(ISERROR(AB506/AA506),\"-\",(AB506/AA506))","v":0.72121207653386055}]
["FDLSC-CPS-530-2022",2022,"FDLSC-CD-276-2022","https://community.secop.gov.co/Public/Tendering/OpportunityDetail/Index?noticeUID=CO1.NTC.3350940&isFromPublicArea=True&isModal=true&asPopupView=true","Contratos de prestación de servicios profesionales y de apoyo a la gestión","Contratación directa","Prestación de servicios profesionales y de apoyo a la gestión, o para la ejecución de trabajos artísticos que sólo puedan encomendarse a determinadas personas naturales","PRESTAR SUS SERVICIOS TÉCNICOS PARA EL SEGUIMIENTO Y APOYO EN LAS ACTIVIDADES RELACIONADAS CON SEPARACIÓN EN LA FUENTE, RECICLAJE Y MITIGACIÓN A LOS PUNTOS CRÍTICOS Y DE ACUMULACIÓN DE BASURA, A LA LUZ DEL PLAN DE DESARROLLO LOCAL DE SAN CRISTOBAL 2021-2024","Inversión","Un nuevo contrato social y ambiental para la Bogotá del Siglo XXI",57,{"$f":"IF(ISERROR(VLOOKUP(K507,#REF!,2,FALSE)),\" \",VLOOKUP(K507,#REF!,2,FALSE))","v":" "},{"$f":"IF(ISERROR(VLOOKUP(K507,#REF!,3,FALSE)),\" \",VLOOKUP(K507,#REF!,3,FALSE))","v":" "},1873,0,52761247,"MAYERLI JOHANNA SALAZAR PERILLA","Persona Natural",null,"N/A","N/A",null,11550000,0,1,3336666,{"$f":"+W507+X507+Z507","v":14886666},7186667,"2022-10-04","2022-10-05","2023-01-30",90,0,0,null,null,null,null,"En ejecución",{"$f":"IF(ISERROR(AB507/AA507),\"-\",(AB507/AA507))","v":0.48275866470034323}]
["FDLSC-CPS-058-2022",2022,"FDLSC-CD-034-2022","https://community.secop.gov.co/Public/Tendering/OpportunityDetail/Index?noticeUID=CO1.NTC.2645583&isFromPublicArea=True&isModal=true&asPopupView=true","Contratos de prestación de servicios profesionales y de apoyo a la gestión","Contratación directa","Prestación de servicios profesionales y de apoyo a la gestión, o para la ejecución de trabajos artísticos que sólo puedan encomendarse a determinadas personas naturales","PRESTAR SUS SERVICIOS DE APOYO ASISTENCIAL EN EL ÁREA DE GESTIÓN PARA EL DESARROLLO LOCAL, CON EL FIN DE ORIENTAR, ATENDER Y APOYAR LA ATENCIÓN DE LA CIUDADANÍA EN TODOS LOS TEMAS DE INFORMACION REQUERIDA.","Inversión","Un nuevo contrato social y ambiental para la Bogotá del Siglo XXI",57,{"$f":"IF(ISERROR(VLOOKUP(K508,#REF!,2,FALSE)),\" \",VLOOKUP(K508,#REF!,2,FALSE))","v":" "},{"$f":"IF(ISERROR(VLOOKUP(K508,#REF!,3,FALSE)),\" \",VLOOKUP(K508,#REF!,3,FALSE))","v":" "},1873,0,1013588889,"ANA MARIA JIMENEZ DIAZ","Persona Natural",null,"N/A","N/A",null,14832000,0,0,0,{"$f":"+W508+X508+Z508","v":14832000},14832000,"2022-01-28","2022-02-10","2022-08-09",180,0,0,null,null,null,null,"Terminado",{"$f":"IF(ISERROR(AB508/AA508),\"-\",(AB508/AA508))","v":1}]
["FDLSC-CPS-148-2022",2022,"FDLSC-CD-074-2022","https://community.secop.gov.co/Public/Tendering/OpportunityDetail/Index?noticeUID=CO1.NTC.2678868&isFromPublicArea=True&isModal=true&asPopupView=true","Contratos de prestación de servicios profesionales y de apoyo a la gestión","Contratación directa","Prestación de servicios profesionales y de apoyo a la gestión, o para la ejecución de trabajos artísticos que sólo puedan encomendarse a determinadas personas naturales","APOYAR ADMINISTRATIVA Y ASISTENCIALMENTE A LAS INSPECCIONES DE POLICÍA DE LA LOCALIDAD.","Inversión","Un nuevo contrato social y ambiental para la Bogotá del Siglo XXI",57,{"$f":"IF(ISERROR(VLOOKUP(K509,#REF!,2,FALSE)),\" \",VLOOKUP(K509,#REF!,2,FALSE))","v":" "},{"$f":"IF(ISERROR(VLOOKUP(K509,#REF!,3,FALSE)),\" \",VLOOKUP(K509,#REF!,3,FALSE))","v":" "},1873,0,1023909881,"YENIFER ALEJANDRA NIÑO VARGAS","Persona Natural",null,"N/A","N/A",null,14832000,0,0,0,{"$f":"+W509+X509+Z509","v":14832000},14832000,"2022-01-25","2022-02-02","2022-08-01",180,0,0,null,null,null,null,"Terminado",{"$f":"IF(ISERROR(AB509/AA509),\"-\",(AB509/AA509))","v":1}]
["FDLSC-CPS-179-2022",2022,"FDLSC-CD-074-2022","https://community.secop.gov.co/Public/Tendering/OpportunityDetail/Index?noticeUID=CO1.NTC.2682338&isFromPublicArea=True&isModal=true&asPopupView=true","Contratos de prestación de servicios profesionales y de apoyo a la gestión","Contratación directa","Prestación de servicios profesionales y de apoyo a la gestión, o para la ejecución de trabajos artísticos que sólo puedan encomendarse a determinadas personas naturales","APOYAR ADMINISTRATIVA Y ASISTENCIALMENTE A LAS INSPECCIONES DE POLICÍA DE LA LOCALIDAD.","Inversión","Un nuevo contrato social y ambiental para la Bogotá del Siglo XXI",57,{"$f":"IF(ISERROR(VLOOKUP(K510,#REF!,2,FALSE)),\" \",VLOOKUP(K510,#REF!,2,FALSE))","v":" "},{"$f":"IF(ISERROR(VLOOKUP(K510,#REF!,3,FALSE)),\" \",VLOOKUP(K510,#REF!,3,FALSE))","v":" "},1873,0,1023963505,"DIANA ANGELICA RODRIGUEZ ACOSTA","Persona Natural",null,"N/A","N/A",null,14832000,0,0,0,{"$f":"+W510+X510+Z510","v":14832000},14832000,"2022-01-28","2022-02-03","2022-08-02",180,0,0,null,null,null,null,"Terminado",{"$f":"IF(ISERROR(AB510/AA510),\"-\",(AB510/AA510))","v":1}]
["FDLSC-CPS-408-2022",2022,"FDLSC-CD-193-2022","https://community.secop.gov.co/Public/Tendering/OpportunityDetail/Index?noticeUID=CO1.NTC.3111606&isFromPublicArea=True&isModal=true&asPopupView=true","Contratos de prestación de servicios profesionales y de apoyo a la gestión","Contratación directa","Prestación de servicios profesionales y de apoyo a la gestión, o para la ejecución de trabajos artísticos que sólo puedan encomendarse a determinadas personas naturales","PRESTAR SUS SERVICIOS ASISTENCIALES PARA EL FONDO DE DESARROLLO LOCAL EN EL PUNTO DE INFORMACION, ATENDIENDO LOS LINEAMIENTOS DE LA SECRETARIA DISTRITAL DE GOBIERNO.","Inversión","Un nuevo contrato social y ambiental para la Bogotá del Siglo XXI",57,{"$f":"IF(ISERROR(VLOOKUP(K511,#REF!,2,FALSE)),\" \",VLOOKUP(K511,#REF!,2,FALSE))","v":" "},{"$f":"IF(ISERROR(VLOOKUP(K511,#REF!,3,FALSE)),\" \",VLOOKUP(K511,#REF!,3,FALSE))","v":" "},1873,0,1069748893,"ANGELA INES MORENO CARDONA","Persona Natural",null,"N/A","N/A",null,12772000,0,1,1958373,{"$f":"+W511+X511+Z511","v":14730373},9621573,"2022-08-04","2022-08-08","2023-01-30",150,0,0,null,null,null,null,"En ejecución",{"$f":"IF(ISERROR(AB511/AA511),\"-\",(AB511/AA511))","v":0.6531791829032435}]
["FDLSC-CPS-400-2022",2022,"FDLSC-CD-186-2022","https://community.secop.gov.co/Public/Tendering/OpportunityDetail/Index?noticeUID=CO1.NTC.3078890&isFromPublicArea=True&isModal=true&asPopupView=true","Contratos de prestación de servicios profesionales y de apoyo a la gestión","Contratación directa","Prestación de servicios profesionales y de apoyo a la gestión, o para la ejecución de trabajos artísticos que sólo puedan encomendarse a determinadas personas naturales","PRESTAR SUS SERVICIOS DE APOYO PARA REALIZAR LA CONDUCCIÓN DE LOS VEHÍCULOS LIVIANOS, PESADOS Y/O MAQUINARIA PESADA QUE SE ENCUENTRE AL SERVICIO DE LAS ACTIVIDADES DESARROLLADAS EN EL FDL.","Inversión","Un nuevo contrato social y ambiental para la Bogotá del Siglo XXI",57,{"$f":"IF(ISERROR(VLOOKUP(K512,#REF!,2,FALSE)),\" \",VLOOKUP(K512,#REF!,2,FALSE))","v":" "},{"$f":"IF(ISERROR(VLOOKUP(K512,#REF!,3,FALSE)),\" \",VLOOKUP(K512,#REF!,3,FALSE))","v":" "},1873,0,1023893770,"JONATHAN ALEXANDER CARMONA MORA","Persona Natural",null,"N/A","N/A",null,12772000,0,1,1702933,{"$f":"+W512+X512+Z512","v":14474933},9366133,"2022-08-10","2022-08-11","2023-01-30",150,0,0,null,null,null,null,"En ejecución",{"$f":"IF(ISERROR(AB512/AA512),\"-\",(AB512/AA512))","v":0.64705881540177079}]
["FDLSC-CPS-399-2022",2022,"FDLSC-CD-186-2022","https://community.secop.gov.co/Public/Tendering/OpportunityDetail/Index?noticeUID=CO1.NTC.3078890&isFromPublicArea=True&isModal=true&asPopupView=true","Contratos de prestación de servicios profesionales y de apoyo a la gestión","Contratación directa","Prestación de servicios profesionales y de apoyo a la gestión, o para la ejecución de trabajos artísticos que sólo puedan encomendarse a determinadas personas naturales","PRESTAR SUS SERVICIOS DE APOYO PARA REALIZAR LA CONDUCCIÓN DE LOS VEHÍCULOS LIVIANOS, PESADOS Y/O MAQUINARIA PESADA QUE SE ENCUENTRE AL SERVICIO DE LAS ACTIVIDADES DESARROLLADAS EN EL FDL.","Inversión","Un nuevo contrato social y ambiental para la Bogotá del Siglo XXI",57,{"$f":"IF(ISERROR(VLOOKUP(K513,#REF!,2,FALSE)),\" \",VLOOKUP(K513,#REF!,2,FALSE))","v":" "},{"$f":"IF(ISERROR(VLOOKUP(K513,#REF!,3,FALSE)),\" \",VLOOKUP(K513,#REF!,3,FALSE))","v":" "},1873,0,79370373,"BAUDILIO DURAN MENDIVELSO","Persona Natural",null,"N/A","N/A",null,12772000,0,1,1702933,{"$f":"+W513+X513+Z513","v":14474933},10047307,"2022-08-02","2022-08-03","2023-01-22",150,0,0,null,null,null,null,"En ejecución",{"$f":"IF(ISERROR(AB513/AA513),\"-\",(AB513/AA513))","v":0.69411768607150026}]
["FDLSC-CPS-672-2022",2022,"FDLSC-CD-355-2022","https://community.secop.gov.co/Public/Tendering/OpportunityDetail/Index?noticeUID=CO1.NTC.3691782&isFromPublicArea=True&isModal=true&asPopupView=true","Contratos de prestación de servicios profesionales y de apoyo a la gestión","Contratación directa","Prestación de servicios profesionales y de apoyo a la gestión, o para la ejecución de trabajos artísticos que sólo puedan encomendarse a determinadas personas naturales","PRESTAR SUS SERVICIOS DE APOYO ASISTENCIAL PARA VERIFICAR EL CUMPLIMIENTO DE LOS ACUERDOS CIUDADANOS SOBRE USO ADECUADO DEL ESPACIO PÚBLICO, LA PROMOCIÓN DE MEDIOS DE TRANSPORTE NO MOTORIZADOS Y LA PROMOCIÓN DE LA FORMALIDAD DE LOS VENDEDORES Y VENDEDORAS INFORMALES, CELEBRADOS EN EL MARCO DEL PROYECTO 1835 POR UN BUEN USO DEL ESPACIO PÚBLICO EN SAN CRISTÓBAL","Inversión","Un nuevo contrato social y ambiental para la Bogotá del Siglo XXI",45,{"$f":"IF(ISERROR(VLOOKUP(K514,#REF!,2,FALSE)),\" \",VLOOKUP(K514,#REF!,2,FALSE))","v":" "},{"$f":"IF(ISERROR(VLOOKUP(K514,#REF!,3,FALSE)),\" \",VLOOKUP(K514,#REF!,3,FALSE))","v":" "},1835,0,1023889457,"GINA CAROLAY CORREALES JIMENEZ","Persona Natural",null,"N/A","N/A",null,14400000,0,0,0,{"$f":"+W514+X514+Z514","v":14400000},0,"2022-12-30",null,null,180,null,null,null,null,null,null,"Celebrado o por iniciar",{"$f":"IF(ISERROR(AB514/AA514),\"-\",(AB514/AA514))","v":0}]
["FDLSC-CPS-673-2022",2022,"FDLSC-CD-355-2022","https://community.secop.gov.co/Public/Tendering/OpportunityDetail/Index?noticeUID=CO1.NTC.3691782&isFromPublicArea=True&isModal=true&asPopupView=true","Contratos de prestación de servicios profesionales y de apoyo a la gestión","Contratación directa","Prestación de servicios profesionales y de apoyo a la gestión, o para la ejecución de trabajos artísticos que sólo puedan encomendarse a determinadas personas naturales","PRESTAR SUS SERVICIOS DE APOYO ASISTENCIAL PARA VERIFICAR EL CUMPLIMIENTO DE LOS ACUERDOS CIUDADANOS SOBRE USO ADECUADO DEL ESPACIO PÚBLICO, LA PROMOCIÓN DE MEDIOS DE TRANSPORTE NO MOTORIZADOS Y LA PROMOCIÓN DE LA FORMALIDAD DE LOS VENDEDORES Y VENDEDORAS INFORMALES, CELEBRADOS EN EL MARCO DEL PROYECTO 1835 POR UN BUEN USO DEL ESPACIO PÚBLICO EN SAN CRISTÓBAL","Inversión","Un nuevo contrato social y ambiental para la Bogotá del Siglo XXI",45,{"$f":"IF(ISERROR(VLOOKUP(K515,#REF!,2,FALSE)),\" \",VLOOKUP(K515,#REF!,2,FALSE))","v":" "},{"$f":"IF(ISERROR(VLOOKUP(K515,#REF!,3,FALSE)),\" \",VLOOKUP(K515,#REF!,3,FALSE))","v":" "},1835,0,1031168743,"CAMILA ANDREA MENDIETA MONSALVE","Persona Natural",null,"N/A","N/A",null,14400000,0,0,0,{"$f":"+W515+X515+Z515","v":14400000},0,"2022-12-30","2023-01-06","2023-07-05",180,0,0,null,null,null,null,"En ejecución",{"$f":"IF(ISERROR(AB515/AA515),\"-\",(AB515/AA515))","v":0}]
["FDLSC-CPS-674-2022",2022,"FDLSC-CD-355-2022","https://community.secop.gov.co/Public/Tendering/OpportunityDetail/Index?noticeUID=CO1.NTC.3691782&isFromPublicArea=True&isModal=true&asPopupView=true","Contratos de prestación de servicios profesionales y de apoyo a la gestión","Contratación directa","Prestación de servicios profesionales y de apoyo a la gestión, o para la ejecución de trabajos artísticos que sólo puedan encomendarse a determinadas personas naturales","PRESTAR SUS SERVICIOS DE APOYO ASISTENCIAL PARA VERIFICAR EL CUMPLIMIENTO DE LOS ACUERDOS CIUDADANOS SOBRE USO ADECUADO DEL ESPACIO PÚBLICO, LA PROMOCIÓN DE MEDIOS DE TRANSPORTE NO MOTORIZADOS Y LA PROMOCIÓN DE LA FORMALIDAD DE LOS VENDEDORES Y VENDEDORAS INFORMALES, CELEBRADOS EN EL MARCO DEL PROYECTO 1835 POR UN BUEN USO DEL ESPACIO PÚBLICO EN SAN CRISTÓBAL","Inversión","Un nuevo contrato social y ambiental para la Bogotá del Siglo XXI",45,{"$f":"IF(ISERROR(VLOOKUP(K516,#REF!,2,FALSE)),\" \",VLOOKUP(K516,#REF!,2,FALSE))","v":" "},{"$f":"IF(ISERROR(VLOOKUP(K516,#REF!,3,FALSE)),\" \",VLOOKUP(K516,#REF!,3,FALSE))","v":" "},1835,0,80113110,"HAMID MARTINEZ RODRIGUEZ","Persona Natural",null,"N/A","N/A",null,14400000,0,0,0,{"$f":"+W516+X516+Z516","v":14400000},0,"2022-12-30",null,null,180,null,null,null,null,null,null,"Celebrado o por iniciar",{"$f":"IF(ISERROR(AB516/AA516),\"-\",(AB516/AA516))","v":0}]
["FDLSC-CPS-675-2022",2022,"FDLSC-CD-355-2022","https://community.secop.gov.co/Public/Tendering/OpportunityDetail/Index?noticeUID=CO1.NTC.3691782&isFromPublicArea=True&isModal=true&asPopupView=true","Contratos de prestación de servicios profesionales y de apoyo a la gestión","Contratación directa","Prestación de servicios profesionales y de apoyo a la gestión, o para la ejecución de trabajos artísticos que sólo puedan encomendarse a determinadas personas naturales","PRESTAR SUS SERVICIOS DE APOYO ASISTENCIAL PARA VERIFICAR EL CUMPLIMIENTO DE LOS ACUERDOS CIUDADANOS SOBRE USO ADECUADO DEL ESPACIO PÚBLICO, LA PROMOCIÓN DE MEDIOS DE TRANSPORTE NO MOTORIZADOS Y LA PROMOCIÓN DE LA FORMALIDAD DE LOS VENDEDORES Y VENDEDORAS INFORMALES, CELEBRADOS EN EL MARCO DEL PROYECTO 1835 POR UN BUEN USO DEL ESPACIO PÚBLICO EN SAN CRISTÓBAL","Inversión","Un nuevo contrato social y ambiental para la Bogotá del Siglo XXI",45,{"$f":"IF(ISERROR(VLOOKUP(K517,#REF!,2,FALSE)),\" \",VLOOKUP(K517,#REF!,2,FALSE))","v":" "},{"$f":"IF(ISERROR(VLOOKUP(K517,#REF!,3,FALSE)),\" \",VLOOKUP(K517,#REF!,3,FALSE))","v":" "},1835,0,52735473,"LEIDY JACQELINE DUARTE MORA","Persona Natural",null,"N/A","N/A",null,14400000,0,0,0,{"$f":"+W517+X517+Z517","v":14400000},0,"2022-12-30",null,null,180,null,null,null,null,null,null,"Celebrado o por iniciar",{"$f":"IF(ISERROR(AB517/AA517),\"-\",(AB517/AA517))","v":0}]
["FDLSC-CPS-676-2022",2022,"FDLSC-CD-355-2022","https://community.secop.gov.co/Public/Tendering/OpportunityDetail/Index?noticeUID=CO1.NTC.3691782&isFromPublicArea=True&isModal=true&asPopupView=true","Contratos de prestación de servicios profesionales y de apoyo a la gestión","Contratación directa","Prestación de servicios profesionales y de apoyo a la gestión, o para la ejecución de trabajos artísticos que sólo puedan encomendarse a determinadas personas naturales","PRESTAR SUS SERVICIOS DE APOYO ASISTENCIAL PARA VERIFICAR EL CUMPLIMIENTO DE LOS ACUERDOS CIUDADANOS SOBRE USO ADECUADO DEL ESPACIO PÚBLICO, LA PROMOCIÓN DE MEDIOS DE TRANSPORTE NO MOTORIZADOS Y LA PROMOCIÓN DE LA FORMALIDAD DE LOS VENDEDORES Y VENDEDORAS INFORMALES, CELEBRADOS EN EL MARCO DEL PROYECTO 1835 POR UN BUEN USO DEL ESPACIO PÚBLICO EN SAN CRISTÓBAL","Inversión","Un nuevo contrato social y ambiental para la Bogotá del Siglo XXI",45,{"$f":"IF(ISERROR(VLOOKUP(K518,#REF!,2,FALSE)),\" \",VLOOKUP(K518,#REF!,2,FALSE))","v":" "},{"$f":"IF(ISERROR(VLOOKUP(K518,#REF!,3,FALSE)),\" \",VLOOKUP(K518,#REF!,3,FALSE))","v":" "},1835,0,1023925635,"MICHAEL STEVEN  RODRIGUEZ CASTRILLON","Persona Natural",null,"N/A","N/A",null,14400000,0,0,0,{"$f":"+W518+X518+Z518","v":14400000},0,"2022-12-30","2023-01-06","2023-07-05",180,0,0,null,null,null,null,"En ejecución",{"$f":"IF(ISERROR(AB518/AA518),\"-\",(AB518/AA518))","v":0}]
["FDLSC-CPS-677-2022",2022,"FDLSC-CD-355-2022","https://community.secop.gov.co/Public/Tendering/OpportunityDetail/Index?noticeUID=CO1.NTC.3691782&isFromPublicArea=True&isModal=true&asPopupView=true","Contratos de prestación de servicios profesionales y de apoyo a la gestión","Contratación directa","Prestación de servicios profesionales y de apoyo a la gestión, o para la ejecución de trabajos artísticos que sólo puedan encomendarse a determinadas personas naturales","PRESTAR SUS SERVICIOS DE APOYO ASISTENCIAL PARA VERIFICAR EL CUMPLIMIENTO DE LOS ACUERDOS CIUDADANOS SOBRE USO ADECUADO DEL ESPACIO PÚBLICO, LA PROMOCIÓN DE MEDIOS DE TRANSPORTE NO MOTORIZADOS Y LA PROMOCIÓN DE LA FORMALIDAD DE LOS VENDEDORES Y VENDEDORAS INFORMALES, CELEBRADOS EN EL MARCO DEL PROYECTO 1835 POR UN BUEN USO DEL ESPACIO PÚBLICO EN SAN CRISTÓBAL","Inversión","Un nuevo contrato social y ambiental para la Bogotá del Siglo XXI",45,{"$f":"IF(ISERROR(VLOOKUP(K519,#REF!,2,FALSE)),\" \",VLOOKUP(K519,#REF!,2,FALSE))","v":" "},{"$f":"IF(ISERROR(VLOOKUP(K519,#REF!,3,FALSE)),\" \",VLOOKUP(K519,#REF!,3,FALSE))","v":" "},1835,0,1023961891,"GINA MIREYA TORRES BARON","Persona Natural",null,"N/A","N/A",null,14400000,0,0,0,{"$f":"+W519+X519+Z519","v":14400000},0,"2022-12-30","2023-01-06","2023-07-05",180,0,0,null,null,null,null,"En ejecución",{"$f":"IF(ISERROR(AB519/AA519),\"-\",(AB519/AA519))","v":0}]
["FDLSC-CPS-678-2022",2022,"FDLSC-CD-355-2022","https://community.secop.gov.co/Public/Tendering/OpportunityDetail/Index?noticeUID=CO1.NTC.3691782&isFromPublicArea=True&isModal=true&asPopupView=true","Contratos de prestación de servicios profesionales y de apoyo a la gestión","Contratación directa","Prestación de servicios profesionales y de apoyo a la gestión, o para la ejecución de trabajos artísticos que sólo puedan encomendarse a determinadas personas naturales","PRESTAR SUS SERVICIOS DE APOYO ASISTENCIAL PARA VERIFICAR EL CUMPLIMIENTO DE LOS ACUERDOS CIUDADANOS SOBRE USO ADECUADO DEL ESPACIO PÚBLICO, LA PROMOCIÓN DE MEDIOS DE TRANSPORTE NO MOTORIZADOS Y LA PROMOCIÓN DE LA FORMALIDAD DE LOS VENDEDORES Y VENDEDORAS INFORMALES, CELEBRADOS EN EL MARCO DEL PROYECTO 1835 POR UN BUEN USO DEL ESPACIO PÚBLICO EN SAN CRISTÓBAL","Inversión","Un nuevo contrato social y ambiental para la Bogotá del Siglo XXI",45,{"$f":"IF(ISERROR(VLOOKUP(K520,#REF!,2,FALSE)),\" \",VLOOKUP(K520,#REF!,2,FALSE))","v":" "},{"$f":"IF(ISERROR(VLOOKUP(K520,#REF!,3,FALSE)),\" \",VLOOKUP(K520,#REF!,3,FALSE))","v":" "},1835,0,80202627,"CESÁREO ESPINOZA MONTEALEGRE","Persona Natural",null,"N/A","N/A",null,14400000,0,0,0,{"$f":"+W520+X520+Z520","v":14400000},0,"2022-12-30","2023-01-05","2023-07-04",180,0,0,null,null,null,null,"En ejecución",{"$f":"IF(ISERROR(AB520/AA520),\"-\",(AB520/AA520))","v":0}]
["FDLSC-CPS-679-2022",2022,"FDLSC-CD-355-2022","https://community.secop.gov.co/Public/Tendering/OpportunityDetail/Index?noticeUID=CO1.NTC.3691782&isFromPublicArea=True&isModal=true&asPopupView=true","Contratos de prestación de servicios profesionales y de apoyo a la gestión","Contratación directa","Prestación de servicios profesionales y de apoyo a la gestión, o para la ejecución de trabajos artísticos que sólo puedan encomendarse a determinadas personas naturales","PRESTAR SUS SERVICIOS DE APOYO ASISTENCIAL PARA VERIFICAR EL CUMPLIMIENTO DE LOS ACUERDOS CIUDADANOS SOBRE USO ADECUADO DEL ESPACIO PÚBLICO, LA PROMOCIÓN DE MEDIOS DE TRANSPORTE NO MOTORIZADOS Y LA PROMOCIÓN DE LA FORMALIDAD DE LOS VENDEDORES Y VENDEDORAS INFORMALES, CELEBRADOS EN EL MARCO DEL PROYECTO 1835 POR UN BUEN USO DEL ESPACIO PÚBLICO EN SAN CRISTÓBAL","Inversión","Un nuevo contrato social y ambiental para la Bogotá del Siglo XXI",45,{"$f":"IF(ISERROR(VLOOKUP(K521,#REF!,2,FALSE)),\" \",VLOOKUP(K521,#REF!,2,FALSE))","v":" "},{"$f":"IF(ISERROR(VLOOKUP(K521,#REF!,3,FALSE)),\" \",VLOOKUP(K521,#REF!,3,FALSE))","v":" "},1835,0,51979208,"ROSA MARIA RODRIGUEZ TORRES","Persona Natural",null,"N/A","N/A",null,14400000,0,0,0,{"$f":"+W521+X521+Z521","v":14400000},0,"2022-12-30","2023-01-06","2023-07-05",180,0,0,null,null,null,null,"En ejecución",{"$f":"IF(ISERROR(AB521/AA521),\"-\",(AB521/AA521))","v":0}]
["FDLSC-CPS-680-2022",2022,"FDLSC-CD-355-2022","https://community.secop.gov.co/Public/Tendering/OpportunityDetail/Index?noticeUID=CO1.NTC.3691782&isFromPublicArea=True&isModal=true&asPopupView=true","Contratos de prestación de servicios profesionales y de apoyo a la gestión","Contratación directa","Prestación de servicios profesionales y de apoyo a la gestión, o para la ejecución de trabajos artísticos que sólo puedan encomendarse a determinadas personas naturales","PRESTAR SUS SERVICIOS DE APOYO ASISTENCIAL PARA VERIFICAR EL CUMPLIMIENTO DE LOS ACUERDOS CIUDADANOS SOBRE USO ADECUADO DEL ESPACIO PÚBLICO, LA PROMOCIÓN DE MEDIOS DE TRANSPORTE NO MOTORIZADOS Y LA PROMOCIÓN DE LA FORMALIDAD DE LOS VENDEDORES Y VENDEDORAS INFORMALES, CELEBRADOS EN EL MARCO DEL PROYECTO 1835 POR UN BUEN USO DEL ESPACIO PÚBLICO EN SAN CRISTÓBAL","Inversión","Un nuevo contrato social y ambiental para la Bogotá del Siglo XXI",45,{"$f":"IF(ISERROR(VLOOKUP(K522,#REF!,2,FALSE)),\" \",VLOOKUP(K522,#REF!,2,FALSE))","v":" "},{"$f":"IF(ISERROR(VLOOKUP(K522,#REF!,3,FALSE)),\" \",VLOOKUP(K522,#REF!,3,FALSE))","v":" "},1835,0,52361158,"MARIA ISABEL MATAMOROS GONZALEZ","Persona Natural",null,"N/A","N/A",null,14400000,0,0,0,{"$f":"+W522+X522+Z522","v":14400000},0,"2022-12-30",null,null,180,null,null,null,null,null,null,"Celebrado o por iniciar",{"$f":"IF(ISERROR(AB522/AA522),\"-\",(AB522/AA522))","v":0}]
["FDLSC-CPS-681-2022",2022,"FDLSC-CD-355-2022","https://community.secop.gov.co/Public/Tendering/OpportunityDetail/Index?noticeUID=CO1.NTC.3691782&isFromPublicArea=True&isModal=true&asPopupView=true","Contratos de prestación de servicios profesionales y de apoyo a la gestión","Contratación directa","Prestación de servicios profesionales y de apoyo a la gestión, o para la ejecución de trabajos artísticos que sólo puedan encomendarse a determinadas personas naturales","PRESTAR SUS SERVICIOS DE APOYO ASISTENCIAL PARA VERIFICAR EL CUMPLIMIENTO DE LOS ACUERDOS CIUDADANOS SOBRE USO ADECUADO DEL ESPACIO PÚBLICO, LA PROMOCIÓN DE MEDIOS DE TRANSPORTE NO MOTORIZADOS Y LA PROMOCIÓN DE LA FORMALIDAD DE LOS VENDEDORES Y VENDEDORAS INFORMALES, CELEBRADOS EN EL MARCO DEL PROYECTO 1835 POR UN BUEN USO DEL ESPACIO PÚBLICO EN SAN CRISTÓBAL","Inversión","Un nuevo contrato social y ambiental para la Bogotá del Siglo XXI",45,{"$f":"IF(ISERROR(VLOOKUP(K523,#REF!,2,FALSE)),\" \",VLOOKUP(K523,#REF!,2,FALSE))","v":" "},{"$f":"IF(ISERROR(VLOOKUP(K523,#REF!,3,FALSE)),\" \",VLOOKUP(K523,#REF!,3,FALSE))","v":" "},1835,0,53930436,"JULY ANDREA MARTINEZ BOGOTA","Persona Natural",null,"N/A","N/A",null,14400000,0,0,0,{"$f":"+W523+X523+Z523","v":14400000},0,"2022-12-30",null,null,180,null,null,null,null,null,null,"Celebrado o por iniciar",{"$f":"IF(ISERROR(AB523/AA523),\"-\",(AB523/AA523))","v":0}]
["FDLSC-CPS-682-2022",2022,"FDLSC-CD-355-2022","https://community.secop.gov.co/Public/Tendering/OpportunityDetail/Index?noticeUID=CO1.NTC.3691782&isFromPublicArea=True&isModal=true&asPopupView=true","Contratos de prestación de servicios profesionales y de apoyo a la gestión","Contratación directa","Prestación de servicios profesionales y de apoyo a la gestión, o para la ejecución de trabajos artísticos que sólo puedan encomendarse a determinadas personas naturales","PRESTAR SUS SERVICIOS DE APOYO ASISTENCIAL PARA VERIFICAR EL CUMPLIMIENTO DE LOS ACUERDOS CIUDADANOS SOBRE USO ADECUADO DEL ESPACIO PÚBLICO, LA PROMOCIÓN DE MEDIOS DE TRANSPORTE NO MOTORIZADOS Y LA PROMOCIÓN DE LA FORMALIDAD DE LOS VENDEDORES Y VENDEDORAS INFORMALES, CELEBRADOS EN EL MARCO DEL PROYECTO 1835 POR UN BUEN USO DEL ESPACIO PÚBLICO EN SAN CRISTÓBAL","Inversión","Un nuevo contrato social y ambiental para la Bogotá del Siglo XXI",45,{"$f":"IF(ISERROR(VLOOKUP(K524,#REF!,2,FALSE)),\" \",VLOOKUP(K524,#REF!,2,FALSE))","v":" "},{"$f":"IF(ISERROR(VLOOKUP(K524,#REF!,3,FALSE)),\" \",VLOOKUP(K524,#REF!,3,FALSE))","v":" "},1835,0,1016052447,"JOHANA ANDREA PINILLA NOVA","Persona Natural",null,"N/A","N/A",null,14400000,0,0,0,{"$f":"+W524+X524+Z524","v":14400000},0,"2022-12-30","2023-01-06","2023-07-05",180,0,0,null,null,null,null,"En ejecución",{"$f":"IF(ISERROR(AB524/AA524),\"-\",(AB524/AA524))","v":0}]
["FDLSC-CPS-684-2022",2022,"FDLSC-CD-355-2022","https://community.secop.gov.co/Public/Tendering/OpportunityDetail/Index?noticeUID=CO1.NTC.3691782&isFromPublicArea=True&isModal=true&asPopupView=true","Contratos de prestación de servicios profesionales y de apoyo a la gestión","Contratación directa","Prestación de servicios profesionales y de apoyo a la gestión, o para la ejecución de trabajos artísticos que sólo puedan encomendarse a determinadas personas naturales","PRESTAR SUS SERVICIOS DE APOYO ASISTENCIAL PARA VERIFICAR EL CUMPLIMIENTO DE LOS ACUERDOS CIUDADANOS SOBRE USO ADECUADO DEL ESPACIO PÚBLICO, LA PROMOCIÓN DE MEDIOS DE TRANSPORTE NO MOTORIZADOS Y LA PROMOCIÓN DE LA FORMALIDAD DE LOS VENDEDORES Y VENDEDORAS INFORMALES, CELEBRADOS EN EL MARCO DEL PROYECTO 1835 POR UN BUEN USO DEL ESPACIO PÚBLICO EN SAN CRISTÓBAL","Inversión","Un nuevo contrato social y ambiental para la Bogotá del Siglo XXI",45,{"$f":"IF(ISERROR(VLOOKUP(K525,#REF!,2,FALSE)),\" \",VLOOKUP(K525,#REF!,2,FALSE))","v":" "},{"$f":"IF(ISERROR(VLOOKUP(K525,#REF!,3,FALSE)),\" \",VLOOKUP(K525,#REF!,3,FALSE))","v":" "},1835,0,1023898876,"MILLER JOHANNY SALAS ACEVEDO","Persona Natural",null,"N/A","N/A",null,14400000,0,0,0,{"$f":"+W525+X525+Z525","v":14400000},0,"2022-12-30",null,null,180,null,null,null,null,null,null,"Celebrado o por iniciar",{"$f":"IF(ISERROR(AB525/AA525),\"-\",(AB525/AA525))","v":0}]
["FDLSC-CPS-685-2022",2022,"FDLSC-CD-355-2022","https://community.secop.gov.co/Public/Tendering/OpportunityDetail/Index?noticeUID=CO1.NTC.3691782&isFromPublicArea=True&isModal=true&asPopupView=true","Contratos de prestación de servicios profesionales y de apoyo a la gestión","Contratación directa","Prestación de servicios profesionales y de apoyo a la gestión, o para la ejecución de trabajos artísticos que sólo puedan encomendarse a determinadas personas naturales","PRESTAR SUS SERVICIOS DE APOYO ASISTENCIAL PARA VERIFICAR EL CUMPLIMIENTO DE LOS ACUERDOS CIUDADANOS SOBRE USO ADECUADO DEL ESPACIO PÚBLICO, LA PROMOCIÓN DE MEDIOS DE TRANSPORTE NO MOTORIZADOS Y LA PROMOCIÓN DE LA FORMALIDAD DE LOS VENDEDORES Y VENDEDORAS INFORMALES, CELEBRADOS EN EL MARCO DEL PROYECTO 1835 POR UN BUEN USO DEL ESPACIO PÚBLICO EN SAN CRISTÓBAL","Inversión","Un nuevo contrato social y ambiental para la Bogotá del Siglo XXI",45,{"$f":"IF(ISERROR(VLOOKUP(K526,#REF!,2,FALSE)),\" \",VLOOKUP(K526,#REF!,2,FALSE))","v":" "},{"$f":"IF(ISERROR(VLOOKUP(K526,#REF!,3,FALSE)),\" \",VLOOKUP(K526,#REF!,3,FALSE))","v":" "},1835,0,1011080494,"KEVIN DANIEL PULIDO ROMERO","Persona Natural",null,"N/A","N/A",null,14400000,0,0,0,{"$f":"+W526+X526+Z526","v":14400000},0,"2022-12-30",null,null,180,null,null,null,null,null,null,"Celebrado o por iniciar",{"$f":"IF(ISERROR(AB526/AA526),\"-\",(AB526/AA526))","v":0}]
["FDLSC-CPS-686-2022",2022,"FDLSC-CD-355-2022","https://community.secop.gov.co/Public/Tendering/OpportunityDetail/Index?noticeUID=CO1.NTC.3691782&isFromPublicArea=True&isModal=true&asPopupView=true","Contratos de prestación de servicios profesionales y de apoyo a la gestión","Contratación directa","Prestación de servicios profesionales y de apoyo a la gestión, o para la ejecución de trabajos artísticos que sólo puedan encomendarse a determinadas personas naturales","PRESTAR SUS SERVICIOS DE APOYO ASISTENCIAL PARA VERIFICAR EL CUMPLIMIENTO DE LOS ACUERDOS CIUDADANOS SOBRE USO ADECUADO DEL ESPACIO PÚBLICO, LA PROMOCIÓN DE MEDIOS DE TRANSPORTE NO MOTORIZADOS Y LA PROMOCIÓN DE LA FORMALIDAD DE LOS VENDEDORES Y VENDEDORAS INFORMALES, CELEBRADOS EN EL MARCO DEL PROYECTO 1835 POR UN BUEN USO DEL ESPACIO PÚBLICO EN SAN CRISTÓBAL","Inversión","Un nuevo contrato social y ambiental para la Bogotá del Siglo XXI",45,{"$f":"IF(ISERROR(VLOOKUP(K527,#REF!,2,FALSE)),\" \",VLOOKUP(K527,#REF!,2,FALSE))","v":" "},{"$f":"IF(ISERROR(VLOOKUP(K527,#REF!,3,FALSE)),\" \",VLOOKUP(K527,#REF!,3,FALSE))","v":" "},1835,0,1023871919,"MYRIAM MERCEDES CUBILLOS","Persona Natural",null,"N/A","N/A",null,14400000,0,0,0,{"$f":"+W527+X527+Z527","v":14400000},0,"2022-12-30","2023-01-05","2023-07-04",180,0,0,null,null,null,null,"En ejecución",{"$f":"IF(ISERROR(AB527/AA527),\"-\",(AB527/AA527))","v":0}]
["FDLSC-CPS-687-2022",2022,"FDLSC-CD-355-2022","https://community.secop.gov.co/Public/Tendering/OpportunityDetail/Index?noticeUID=CO1.NTC.3691782&isFromPublicArea=True&isModal=true&asPopupView=true","Contratos de prestación de servicios profesionales y de apoyo a la gestión","Contratación directa","Prestación de servicios profesionales y de apoyo a la gestión, o para la ejecución de trabajos artísticos que sólo puedan encomendarse a determinadas personas naturales","PRESTAR SUS SERVICIOS DE APOYO ASISTENCIAL PARA VERIFICAR EL CUMPLIMIENTO DE LOS ACUERDOS CIUDADANOS SOBRE USO ADECUADO DEL ESPACIO PÚBLICO, LA PROMOCIÓN DE MEDIOS DE TRANSPORTE NO MOTORIZADOS Y LA PROMOCIÓN DE LA FORMALIDAD DE LOS VENDEDORES Y VENDEDORAS INFORMALES, CELEBRADOS EN EL MARCO DEL PROYECTO 1835 POR UN BUEN USO DEL ESPACIO PÚBLICO EN SAN CRISTÓBAL","Inversión","Un nuevo contrato social y ambiental para la Bogotá del Siglo XXI",45,{"$f":"IF(ISERROR(VLOOKUP(K528,#REF!,2,FALSE)),\" \",VLOOKUP(K528,#REF!,2,FALSE))","v":" "},{"$f":"IF(ISERROR(VLOOKUP(K528,#REF!,3,FALSE)),\" \",VLOOKUP(K528,#REF!,3,FALSE))","v":" "},1835,0,1030670671,"SANDRA MILENA GUZMAN ROMERO","Persona Natural",null,"N/A","N/A",null,14400000,0,0,0,{"$f":"+W528+X528+Z528","v":14400000},0,"2022-12-30",null,null,180,null,null,null,null,null,null,"Celebrado o por iniciar",{"$f":"IF(ISERROR(AB528/AA528),\"-\",(AB528/AA528))","v":0}]
["FDLSC-CPS-068-2022",2022,"FDLSC-CD-019-2022","https://community.secop.gov.co/Public/Tendering/OpportunityDetail/Index?noticeUID=CO1.NTC.2625216&isFromPublicArea=True&isModal=true&asPopupView=true","Contratos de prestación de servicios profesionales y de apoyo a la gestión","Contratación directa","Prestación de servicios profesionales y de apoyo a la gestión, o para la ejecución de trabajos artísticos que sólo puedan encomendarse a determinadas personas naturales","PRESTAR SUS SERVICIOS DE APOYO A  LA GESTIÓN AMBIENTAL EXTERNA DE LA ALCALDÍA LOCAL DE SAN CRISTÓBAL EN ESPACIO PÚBLICO QUE PRESENTA SITUACIONES AMBIENTALES CONFLICTIVAS Y A LAS COMPLEMENTARIAS DE LOS PROYECTOS AMBIENTALES DEL PLAN DE DESARROLLO UN NUEVO CONTRATO SOCIAL Y AMBIENTAL PARA SAN CRISTÓBAL.","Inversión","Un nuevo contrato social y ambiental para la Bogotá del Siglo XXI",28,{"$f":"IF(ISERROR(VLOOKUP(K529,#REF!,2,FALSE)),\" \",VLOOKUP(K529,#REF!,2,FALSE))","v":" "},{"$f":"IF(ISERROR(VLOOKUP(K529,#REF!,3,FALSE)),\" \",VLOOKUP(K529,#REF!,3,FALSE))","v":" "},1819,0,32643042,"EMILIA ESMERALDA GUERRA PEREZ","Persona Natural",null,"N/A","N/A",null,14400000,0,0,0,{"$f":"+W529+X529+Z529","v":14400000},7120000,"2022-01-21","2022-02-02","2022-07-29",180,0,0,1010082825,"SERGIO ALEJANDRO GAONA CASAS","2022-05-31",7280000,"Terminado",{"$f":"IF(ISERROR(AB529/AA529),\"-\",(AB529/AA529))","v":0.49444444444444446}]
["FDLSC-CPS-218-2022",2022,"FDLSC-CD-106-2022","https://community.secop.gov.co/Public/Tendering/OpportunityDetail/Index?noticeUID=CO1.NTC.2709524&isFromPublicArea=True&isModal=true&asPopupView=true","Contratos de prestación de servicios profesionales y de apoyo a la gestión","Contratación directa","Prestación de servicios profesionales y de apoyo a la gestión, o para la ejecución de trabajos artísticos que sólo puedan encomendarse a determinadas personas naturales","APOYAR ADMINISTRATIVA Y ASISTENCIALMENTE A LAS INSPECCIONES DE POLICÍA DE LA LOCALIDAD","Inversión","Un nuevo contrato social y ambiental para la Bogotá del Siglo XXI",57,{"$f":"IF(ISERROR(VLOOKUP(K530,#REF!,2,FALSE)),\" \",VLOOKUP(K530,#REF!,2,FALSE))","v":" "},{"$f":"IF(ISERROR(VLOOKUP(K530,#REF!,3,FALSE)),\" \",VLOOKUP(K530,#REF!,3,FALSE))","v":" "},1873,0,80126954,"CARLOS ANDRES PEREZ MESA ","Persona Natural",null,"N/A","N/A",null,14400000,0,0,0,{"$f":"+W530+X530+Z530","v":14400000},9440000,"2022-01-27","2022-02-03","2022-08-02",180,0,0,null,null,null,null,"Terminado",{"$f":"IF(ISERROR(AB530/AA530),\"-\",(AB530/AA530))","v":0.65555555555555556}]
["FDLSC-CPS-395-2022",2022,"FDLSC-CD-183-2022","https://community.secop.gov.co/Public/Tendering/OpportunityDetail/Index?noticeUID=CO1.NTC.3065610&isFromPublicArea=True&isModal=true&asPopupView=true","Contratos de prestación de servicios profesionales y de apoyo a la gestión","Contratación directa","Prestación de servicios profesionales y de apoyo a la gestión, o para la ejecución de trabajos artísticos que sólo puedan encomendarse a determinadas personas naturales","PRESTAR SUS SERVICIOS ASISTENCIALES PARA APOYAR LA GESTIÓN LOCAL Y TERRITORIAL DE LOS TEMAS DE SEGURIDAD Y CONVIVENCIA CIUDADANA, EN EL MARCO DEL PLAN DE DESARROLLO LOCAL 2021-2024.","Inversión","Un nuevo contrato social y ambiental para la Bogotá del Siglo XXI",43,{"$f":"IF(ISERROR(VLOOKUP(K531,#REF!,2,FALSE)),\" \",VLOOKUP(K531,#REF!,2,FALSE))","v":" "},{"$f":"IF(ISERROR(VLOOKUP(K531,#REF!,3,FALSE)),\" \",VLOOKUP(K531,#REF!,3,FALSE))","v":" "},1824,0,1022391291,"JHON SEBASTIAN CASTAÑO COLORADO","Persona Natural",null,"N/A","N/A",null,12000000,0,1,2400000,{"$f":"+W531+X531+Z531","v":14400000},9440000,"2022-07-29","2022-08-03","2023-02-02",150,0,0,null,null,null,null,"En ejecución",{"$f":"IF(ISERROR(AB531/AA531),\"-\",(AB531/AA531))","v":0.65555555555555556}]
["FDLSC-CPS-033-2022",2022,"FDLSC-CD-019-2022","https://community.secop.gov.co/Public/Tendering/OpportunityDetail/Index?noticeUID=CO1.NTC.2625216&isFromPublicArea=True&isModal=true&asPopupView=true","Contratos de prestación de servicios profesionales y de apoyo a la gestión","Contratación directa","Prestación de servicios profesionales y de apoyo a la gestión, o para la ejecución de trabajos artísticos que sólo puedan encomendarse a determinadas personas naturales","PRESTAR SUS SERVICIOS DE APOYO A  LA GESTIÓN AMBIENTAL EXTERNA DE LA ALCALDÍA LOCAL DE SAN CRISTÓBAL EN ESPACIO PÚBLICO QUE PRESENTA SITUACIONES AMBIENTALES CONFLICTIVAS Y A LAS COMPLEMENTARIAS DE LOS PROYECTOS AMBIENTALES DEL PLAN DE DESARROLLO UN NUEVO CONTRATO SOCIAL Y AMBIENTAL PARA SAN CRISTÓBAL.","Inversión","Un nuevo contrato social y ambiental para la Bogotá del Siglo XXI",28,{"$f":"IF(ISERROR(VLOOKUP(K532,#REF!,2,FALSE)),\" \",VLOOKUP(K532,#REF!,2,FALSE))","v":" "},{"$f":"IF(ISERROR(VLOOKUP(K532,#REF!,3,FALSE)),\" \",VLOOKUP(K532,#REF!,3,FALSE))","v":" "},1819,0,80857515,"JOSE ANDRES SALINAS WILCHES","Persona Natural",null,"N/A","N/A",null,14400000,0,0,0,{"$f":"+W532+X532+Z532","v":14400000},9600000,"2022-01-21","2022-02-15","2022-08-14",180,0,0,79788611,"ANDREI GERARDO ROA SABOYA","2022-04-28",8320000,"Terminado",{"$f":"IF(ISERROR(AB532/AA532),\"-\",(AB532/AA532))","v":0.66666666666666663}]
["FDLSC-CPS-390-2022",2022,"FDLSC-CD-183-2022","https://community.secop.gov.co/Public/Tendering/OpportunityDetail/Index?noticeUID=CO1.NTC.3065610&isFromPublicArea=True&isModal=true&asPopupView=true","Contratos de prestación de servicios profesionales y de apoyo a la gestión","Contratación directa","Prestación de servicios profesionales y de apoyo a la gestión, o para la ejecución de trabajos artísticos que sólo puedan encomendarse a determinadas personas naturales","PRESTAR SUS SERVICIOS ASISTENCIALES PARA APOYAR LA GESTIÓN LOCAL Y TERRITORIAL DE LOS TEMAS DE SEGURIDAD Y CONVIVENCIA CIUDADANA, EN EL MARCO DEL PLAN DE DESARROLLO LOCAL 2021-2024.","Inversión","Un nuevo contrato social y ambiental para la Bogotá del Siglo XXI",43,{"$f":"IF(ISERROR(VLOOKUP(K533,#REF!,2,FALSE)),\" \",VLOOKUP(K533,#REF!,2,FALSE))","v":" "},{"$f":"IF(ISERROR(VLOOKUP(K533,#REF!,3,FALSE)),\" \",VLOOKUP(K533,#REF!,3,FALSE))","v":" "},1824,0,1026259960,"LAURA XIMENA CASTELLANOS VELÁSQUEZ","Persona Natural",null,"N/A","N/A",null,12000000,0,1,2400000,{"$f":"+W533+X533+Z533","v":14400000},9760000,"2022-07-28","2022-07-29","2023-01-28",150,0,0,null,null,null,null,"En ejecución",{"$f":"IF(ISERROR(AB533/AA533),\"-\",(AB533/AA533))","v":0.67777777777777781}]
["FDLSC-CPS-244-2022",2022,"FDLSC-CD-019-2022","https://community.secop.gov.co/Public/Tendering/OpportunityDetail/Index?noticeUID=CO1.NTC.2625216&isFromPublicArea=True&isModal=true&asPopupView=true","Contratos de prestación de servicios profesionales y de apoyo a la gestión","Contratación directa","Prestación de servicios profesionales y de apoyo a la gestión, o para la ejecución de trabajos artísticos que sólo puedan encomendarse a determinadas personas naturales","PRESTAR SUS SERVICIOS DE APOYO A  LA GESTIÓN AMBIENTAL EXTERNA DE LA ALCALDÍA LOCAL DE SAN CRISTÓBAL EN ESPACIO PÚBLICO QUE PRESENTA SITUACIONES AMBIENTALES CONFLICTIVAS Y A LAS COMPLEMENTARIAS DE LOS PROYECTOS AMBIENTALES DEL PLAN DE DESARROLLO UN NUEVO CONTRATO SOCIAL Y AMBIENTAL PARA SAN CRISTÓBAL.","Inversión","Un nuevo contrato social y ambiental para la Bogotá del Siglo XXI",28,{"$f":"IF(ISERROR(VLOOKUP(K534,#REF!,2,FALSE)),\" \",VLOOKUP(K534,#REF!,2,FALSE))","v":" "},{"$f":"IF(ISERROR(VLOOKUP(K534,#REF!,3,FALSE)),\" \",VLOOKUP(K534,#REF!,3,FALSE))","v":" "},1819,0,1014187285,"JUNIOR HUMBERTO CLAVIJO GUERRERO","Persona Natural",null,"N/A","N/A",null,14400000,0,0,0,{"$f":"+W534+X534+Z534","v":14400000},11520000,"2022-01-28","2022-02-07","2022-08-25",180,0,0,null,null,null,null,"Terminado",{"$f":"IF(ISERROR(AB534/AA534),\"-\",(AB534/AA534))","v":0.8}]
["FDLSC-CPS-150-2022",2022,"FDLSC-CD-048-2022","https://community.secop.gov.co/Public/Tendering/OpportunityDetail/Index?noticeUID=CO1.NTC.2678868&isFromPublicArea=True&isModal=true&asPopupView=true","Contratos de prestación de servicios profesionales y de apoyo a la gestión","Contratación directa","Prestación de servicios profesionales y de apoyo a la gestión, o para la ejecución de trabajos artísticos que sólo puedan encomendarse a determinadas personas naturales","PRESTAR SUS SERVICIOS DE APOYO ASISTENCIAL PARA LA PROMOCIÓN DE LA SEPARACIÓN EN LA FUENTE Y RECICLAJE, A LA LUZ DEL PLAN DE DESARROLLO 2021-2024 UN NUEVO CONTRATO AMBIENTAL Y SOCIAL PARA SAN CRISTÓBAL","Inversión","Un nuevo contrato social y ambiental para la Bogotá del Siglo XXI",38,{"$f":"IF(ISERROR(VLOOKUP(K535,#REF!,2,FALSE)),\" \",VLOOKUP(K535,#REF!,2,FALSE))","v":" "},{"$f":"IF(ISERROR(VLOOKUP(K535,#REF!,3,FALSE)),\" \",VLOOKUP(K535,#REF!,3,FALSE))","v":" "},1868,0,1023928443,"EDINZON DAVID SANCHEZ SUAREZ","Persona Natural",null,"N/A","N/A",null,14400000,0,0,0,{"$f":"+W535+X535+Z535","v":14400000},11760000,"2022-01-24","2022-02-04","2022-08-03",180,0,0,null,null,null,null,"Terminado",{"$f":"IF(ISERROR(AB535/AA535),\"-\",(AB535/AA535))","v":0.81666666666666665}]
["FDLSC-CPS-217-2022",2022,"FDLSC-CD-106-2022","https://community.secop.gov.co/Public/Tendering/OpportunityDetail/Index?noticeUID=CO1.NTC.2709524&isFromPublicArea=True&isModal=true&asPopupView=true","Contratos de prestación de servicios profesionales y de apoyo a la gestión","Contratación directa","Prestación de servicios profesionales y de apoyo a la gestión, o para la ejecución de trabajos artísticos que sólo puedan encomendarse a determinadas personas naturales","APOYAR ADMINISTRATIVA Y ASISTENCIALMENTE A LAS INSPECCIONES DE POLICÍA DE LA LOCALIDAD","Inversión","Un nuevo contrato social y ambiental para la Bogotá del Siglo XXI",57,{"$f":"IF(ISERROR(VLOOKUP(K536,#REF!,2,FALSE)),\" \",VLOOKUP(K536,#REF!,2,FALSE))","v":" "},{"$f":"IF(ISERROR(VLOOKUP(K536,#REF!,3,FALSE)),\" \",VLOOKUP(K536,#REF!,3,FALSE))","v":" "},1873,0,1010082825,"SERGIO ALEJANDRO GAONA CASAS","Persona Natural",null,"N/A","N/A",null,14400000,0,0,0,{"$f":"+W536+X536+Z536","v":14400000},13360000,"2022-01-27","2022-02-07","2022-08-06",180,0,0,32643042,"EMILIA ESMERALDA GUERRA PEREZ","2022-05-24",5840000,"Terminado",{"$f":"IF(ISERROR(AB536/AA536),\"-\",(AB536/AA536))","v":0.92777777777777781}]
["FDLSC-CPS-149-2022",2022,"FDLSC-CD-048-2022","https://community.secop.gov.co/Public/Tendering/OpportunityDetail/Index?noticeUID=CO1.NTC.2678868&isFromPublicArea=True&isModal=true&asPopupView=true","Contratos de prestación de servicios profesionales y de apoyo a la gestión","Contratación directa","Prestación de servicios profesionales y de apoyo a la gestión, o para la ejecución de trabajos artísticos que sólo puedan encomendarse a determinadas personas naturales","PRESTAR SUS SERVICIOS DE APOYO ASISTENCIAL PARA LA PROMOCIÓN DE LA SEPARACIÓN EN LA FUENTE Y RECICLAJE, A LA LUZ DEL PLAN DE DESARROLLO 2021-2024 UN NUEVO CONTRATO AMBIENTAL Y SOCIAL PARA SAN CRISTÓBAL","Inversión","Un nuevo contrato social y ambiental para la Bogotá del Siglo XXI",38,{"$f":"IF(ISERROR(VLOOKUP(K537,#REF!,2,FALSE)),\" \",VLOOKUP(K537,#REF!,2,FALSE))","v":" "},{"$f":"IF(ISERROR(VLOOKUP(K537,#REF!,3,FALSE)),\" \",VLOOKUP(K537,#REF!,3,FALSE))","v":" "},1868,0,1023896072,"HEICENBER SMITH SABOGAL GARZON ","Persona Natural",null,"N/A","N/A",null,14400000,0,0,0,{"$f":"+W537+X537+Z537","v":14400000},14160000,"2022-01-24","2022-02-04","2022-08-03",180,0,0,null,null,null,null,"Terminado",{"$f":"IF(ISERROR(AB537/AA537),\"-\",(AB537/AA537))","v":0.98333333333333328}]
["FDLSC-CPS-214-2022",2022,"FDLSC-CD-106-2022","https://community.secop.gov.co/Public/Tendering/OpportunityDetail/Index?noticeUID=CO1.NTC.2709524&isFromPublicArea=True&isModal=true&asPopupView=true","Contratos de prestación de servicios profesionales y de apoyo a la gestión","Contratación directa","Prestación de servicios profesionales y de apoyo a la gestión, o para la ejecución de trabajos artísticos que sólo puedan encomendarse a determinadas personas naturales","APOYAR ADMINISTRATIVA Y ASISTENCIALMENTE A LAS INSPECCIONES DE POLICÍA DE LA LOCALIDAD","Inversión","Un nuevo contrato social y ambiental para la Bogotá del Siglo XXI",57,{"$f":"IF(ISERROR(VLOOKUP(K538,#REF!,2,FALSE)),\" \",VLOOKUP(K538,#REF!,2,FALSE))","v":" "},{"$f":"IF(ISERROR(VLOOKUP(K538,#REF!,3,FALSE)),\" \",VLOOKUP(K538,#REF!,3,FALSE))","v":" "},1873,0,1023954151,"IVAN FELIPE ALVARADO GÓMEZ","Persona Natural",null,"N/A","N/A",null,9600000,0,1,4800000,{"$f":"+W538+X538+Z538","v":14400000},14240000,"2022-01-28","2022-02-03","2022-08-02",120,1,60,null,null,null,null,"Terminado",{"$f":"IF(ISERROR(AB538/AA538),\"-\",(AB538/AA538))","v":0.98888888888888893}]
["FDLSC-CPS-216-2022",2022,"FDLSC-CD-106-2022","https://community.secop.gov.co/Public/Tendering/OpportunityDetail/Index?noticeUID=CO1.NTC.2709524&isFromPublicArea=True&isModal=true&asPopupView=true","Contratos de prestación de servicios profesionales y de apoyo a la gestión","Contratación directa","Prestación de servicios profesionales y de apoyo a la gestión, o para la ejecución de trabajos artísticos que sólo puedan encomendarse a determinadas personas naturales","APOYAR ADMINISTRATIVA Y ASISTENCIALMENTE A LAS INSPECCIONES DE POLICÍA DE LA LOCALIDAD","Inversión","Un nuevo contrato social y ambiental para la Bogotá del Siglo XXI",57,{"$f":"IF(ISERROR(VLOOKUP(K539,#REF!,2,FALSE)),\" \",VLOOKUP(K539,#REF!,2,FALSE))","v":" "},{"$f":"IF(ISERROR(VLOOKUP(K539,#REF!,3,FALSE)),\" \",VLOOKUP(K539,#REF!,3,FALSE))","v":" "},1873,0,51723531,"MARIA MAGDALENA SANTANA QUIÑONES","Persona Natural",null,"N/A","N/A",null,14400000,0,0,0,{"$f":"+W539+X539+Z539","v":14400000},14240000,"2022-01-27","2022-02-03","2022-08-02",180,0,0,null,null,null,null,"Terminado",{"$f":"IF(ISERROR(AB539/AA539),\"-\",(AB539/AA539))","v":0.98888888888888893}]
["FDLSC-CPS-067-2022",2022,"FDLSC-CD-019-2022","https://community.secop.gov.co/Public/Tendering/OpportunityDetail/Index?noticeUID=CO1.NTC.2625216&isFromPublicArea=True&isModal=true&asPopupView=true","Contratos de prestación de servicios profesionales y de apoyo a la gestión","Contratación directa","Prestación de servicios profesionales y de apoyo a la gestión, o para la ejecución de trabajos artísticos que sólo puedan encomendarse a determinadas personas naturales","PRESTAR SUS SERVICIOS DE APOYO A  LA GESTIÓN AMBIENTAL EXTERNA DE LA ALCALDÍA LOCAL DE SAN CRISTÓBAL EN ESPACIO PÚBLICO QUE PRESENTA SITUACIONES AMBIENTALES CONFLICTIVAS Y A LAS COMPLEMENTARIAS DE LOS PROYECTOS AMBIENTALES DEL PLAN DE DESARROLLO UN NUEVO CONTRATO SOCIAL Y AMBIENTAL PARA SAN CRISTÓBAL.","Inversión","Un nuevo contrato social y ambiental para la Bogotá del Siglo XXI",28,{"$f":"IF(ISERROR(VLOOKUP(K540,#REF!,2,FALSE)),\" \",VLOOKUP(K540,#REF!,2,FALSE))","v":" "},{"$f":"IF(ISERROR(VLOOKUP(K540,#REF!,3,FALSE)),\" \",VLOOKUP(K540,#REF!,3,FALSE))","v":" "},1819,0,80240076,"ENDER ERNESTO BECERRA ROJANO","Persona Natural",null,"N/A","N/A",null,14400000,0,0,0,{"$f":"+W540+X540+Z540","v":14400000},14400000,"2022-01-21","2022-01-25","2022-07-24",180,0,0,null,null,null,null,"Terminado",{"$f":"IF(ISERROR(AB540/AA540),\"-\",(AB540/AA540))","v":1}]
["FDLSC-CPS-069-2022",2022,"FDLSC-CD-019-2022","https://community.secop.gov.co/Public/Tendering/OpportunityDetail/Index?noticeUID=CO1.NTC.2625216&isFromPublicArea=True&isModal=true&asPopupView=true","Contratos de prestación de servicios profesionales y de apoyo a la gestión","Contratación directa","Prestación de servicios profesionales y de apoyo a la gestión, o para la ejecución de trabajos artísticos que sólo puedan encomendarse a determinadas personas naturales","PRESTAR SUS SERVICIOS DE APOYO A  LA GESTIÓN AMBIENTAL EXTERNA DE LA ALCALDÍA LOCAL DE SAN CRISTÓBAL EN ESPACIO PÚBLICO QUE PRESENTA SITUACIONES AMBIENTALES CONFLICTIVAS Y A LAS COMPLEMENTARIAS DE LOS PROYECTOS AMBIENTALES DEL PLAN DE DESARROLLO UN NUEVO CONTRATO SOCIAL Y AMBIENTAL PARA SAN CRISTÓBAL.","Inversión","Un nuevo contrato social y ambiental para la Bogotá del Siglo XXI",28,{"$f":"IF(ISERROR(VLOOKUP(K541,#REF!,2,FALSE)),\" \",VLOOKUP(K541,#REF!,2,FALSE))","v":" "},{"$f":"IF(ISERROR(VLOOKUP(K541,#REF!,3,FALSE)),\" \",VLOOKUP(K541,#REF!,3,FALSE))","v":" "},1819,0,52156058,"GLORIA PATRICIA GOMEZ PEÑUELA","Persona Natural",null,"N/A","N/A",null,14400000,0,0,0,{"$f":"+W541+X541+Z541","v":14400000},14400000,"2022-01-28","2022-02-05","2022-08-04",180,0,0,null,null,null,null,"Terminado",{"$f":"IF(ISERROR(AB541/AA541),\"-\",(AB541/AA541))","v":1}]
["FDLSC-CPS-070-2022",2022,"FDLSC-CD-019-2022","https://community.secop.gov.co/Public/Tendering/OpportunityDetail/Index?noticeUID=CO1.NTC.2625216&isFromPublicArea=True&isModal=true&asPopupView=true","Contratos de prestación de servicios profesionales y de apoyo a la gestión","Contratación directa","Prestación de servicios profesionales y de apoyo a la gestión, o para la ejecución de trabajos artísticos que sólo puedan encomendarse a determinadas personas naturales","PRESTAR SUS SERVICIOS DE APOYO A  LA GESTIÓN AMBIENTAL EXTERNA DE LA ALCALDÍA LOCAL DE SAN CRISTÓBAL EN ESPACIO PÚBLICO QUE PRESENTA SITUACIONES AMBIENTALES CONFLICTIVAS Y A LAS COMPLEMENTARIAS DE LOS PROYECTOS AMBIENTALES DEL PLAN DE DESARROLLO UN NUEVO CONTRATO SOCIAL Y AMBIENTAL PARA SAN CRISTÓBAL.","Inversión","Un nuevo contrato social y ambiental para la Bogotá del Siglo XXI",28,{"$f":"IF(ISERROR(VLOOKUP(K542,#REF!,2,FALSE)),\" \",VLOOKUP(K542,#REF!,2,FALSE))","v":" "},{"$f":"IF(ISERROR(VLOOKUP(K542,#REF!,3,FALSE)),\" \",VLOOKUP(K542,#REF!,3,FALSE))","v":" "},1819,0,1023880225,"JAHIR ANDRES MORENO VIATELLA","Persona Natural",null,"N/A","N/A",null,14400000,0,0,0,{"$f":"+W542+X542+Z542","v":14400000},14400000,"2022-01-21","2022-01-25","2022-07-24",180,0,0,null,null,null,null,"Terminado",{"$f":"IF(ISERROR(AB542/AA542),\"-\",(AB542/AA542))","v":1}]
["FDLSC-CPS-086-2022",2022,"FDLSC-CD-048-2022","https://community.secop.gov.co/Public/Tendering/OpportunityDetail/Index?noticeUID=CO1.NTC.2783606&isFromPublicArea=True&isModal=true&asPopupView=true","Contratos de prestación de servicios profesionales y de apoyo a la gestión","Contratación directa","Prestación de servicios profesionales y de apoyo a la gestión, o para la ejecución de trabajos artísticos que sólo puedan encomendarse a determinadas personas naturales","PRESTAR SUS SERVICIOS DE APOYO ASISTENCIAL PARA LA PROMOCIÓN DE LA SEPARACIÓN EN LA FUENTE Y RECICLAJE, A LA LUZ DEL PLAN DE DESARROLLO 2021-2024 UN NUEVO CONTRATO AMBIENTAL Y SOCIAL PARA SAN CRISTÓBAL","Inversión","Un nuevo contrato social y ambiental para la Bogotá del Siglo XXI",38,{"$f":"IF(ISERROR(VLOOKUP(K543,#REF!,2,FALSE)),\" \",VLOOKUP(K543,#REF!,2,FALSE))","v":" "},{"$f":"IF(ISERROR(VLOOKUP(K543,#REF!,3,FALSE)),\" \",VLOOKUP(K543,#REF!,3,FALSE))","v":" "},1868,0,1010230309,"KEVIN HERNAN BUITRAGO TORRES","Persona Natural",null,"N/A","N/A",null,14400000,0,0,0,{"$f":"+W543+X543+Z543","v":14400000},14400000,"2022-01-28","2022-02-04","2022-08-03",180,0,0,null,null,null,null,"Terminado",{"$f":"IF(ISERROR(AB543/AA543),\"-\",(AB543/AA543))","v":1}]
["FDLSC-CPS-109-2022",2022,"FDLSC-CD-019-2022","https://community.secop.gov.co/Public/Tendering/OpportunityDetail/Index?noticeUID=CO1.NTC.2625216&isFromPublicArea=True&isModal=true&asPopupView=true","Contratos de prestación de servicios profesionales y de apoyo a la gestión","Contratación directa","Prestación de servicios profesionales y de apoyo a la gestión, o para la ejecución de trabajos artísticos que sólo puedan encomendarse a determinadas personas naturales","PRESTAR SUS SERVICIOS DE APOYO A  LA GESTIÓN AMBIENTAL EXTERNA DE LA ALCALDÍA LOCAL DE SAN CRISTÓBAL EN ESPACIO PÚBLICO QUE PRESENTA SITUACIONES AMBIENTALES CONFLICTIVAS Y A LAS COMPLEMENTARIAS DE LOS PROYECTOS AMBIENTALES DEL PLAN DE DESARROLLO UN NUEVO CONTRATO SOCIAL Y AMBIENTAL PARA SAN CRISTÓBAL.","Inversión","Un nuevo contrato social y ambiental para la Bogotá del Siglo XXI",28,{"$f":"IF(ISERROR(VLOOKUP(K544,#REF!,2,FALSE)),\" \",VLOOKUP(K544,#REF!,2,FALSE))","v":" "},{"$f":"IF(ISERROR(VLOOKUP(K544,#REF!,3,FALSE)),\" \",VLOOKUP(K544,#REF!,3,FALSE))","v":" "},1819,0,1023968090,"STEFANY ACOSTA RODRÍGUEZ","Persona Natural",null,"N/A","N/A",null,14400000,0,0,0,{"$f":"+W544+X544+Z544","v":14400000},14400000,"2022-01-28","2022-02-02","2022-08-01",180,0,0,null,null,null,null,"Terminado",{"$f":"IF(ISERROR(AB544/AA544),\"-\",(AB544/AA544))","v":1}]
["FDLSC-CPS-125-2022",2022,"FDLSC-CD-011-2022","https://community.secop.gov.co/Public/Tendering/OpportunityDetail/Index?noticeUID=CO1.NTC.2589705&isFromPublicArea=True&isModal=true&asPopupView=true","Contratos de prestación de servicios profesionales y de apoyo a la gestión","Contratación directa","Prestación de servicios profesionales y de apoyo a la gestión, o para la ejecución de trabajos artísticos que sólo puedan encomendarse a determinadas personas naturales","PRESTAR SUS SERVICIOS ASISTENCIALES PARA APOYAR LA GESTIÓN LOCAL Y  TERRITORIAL DE LOS TEMAS DE SEGURIDAD Y  CONVIVENCIA CIUDADANA, EN EL MARCO DEL PLAN DE DESARROLLO LOCAL 2021-2024.","Inversión","Un nuevo contrato social y ambiental para la Bogotá del Siglo XXI",43,{"$f":"IF(ISERROR(VLOOKUP(K545,#REF!,2,FALSE)),\" \",VLOOKUP(K545,#REF!,2,FALSE))","v":" "},{"$f":"IF(ISERROR(VLOOKUP(K545,#REF!,3,FALSE)),\" \",VLOOKUP(K545,#REF!,3,FALSE))","v":" "},1824,0,1022391291,"JHON SEBASTIAN CASTAÑO COLORADO","Persona Natural",null,"N/A","N/A",null,14400000,0,0,0,{"$f":"+W545+X545+Z545","v":14400000},14400000,"2022-01-24","2022-01-29","2022-07-28",180,0,0,null,null,null,null,"Terminado",{"$f":"IF(ISERROR(AB545/AA545),\"-\",(AB545/AA545))","v":1}]
["FDLSC-CPS-126-2022",2022,"FDLSC-CD-011-2022","https://community.secop.gov.co/Public/Tendering/OpportunityDetail/Index?noticeUID=CO1.NTC.2589705&isFromPublicArea=True&isModal=true&asPopupView=true","Contratos de prestación de servicios profesionales y de apoyo a la gestión","Contratación directa","Prestación de servicios profesionales y de apoyo a la gestión, o para la ejecución de trabajos artísticos que sólo puedan encomendarse a determinadas personas naturales","PRESTAR SUS SERVICIOS ASISTENCIALES PARA APOYAR LA GESTIÓN LOCAL Y  TERRITORIAL DE LOS TEMAS DE SEGURIDAD Y  CONVIVENCIA CIUDADANA, EN EL MARCO DEL PLAN DE DESARROLLO LOCAL 2021-2024.","Inversión","Un nuevo contrato social y ambiental para la Bogotá del Siglo XXI",43,{"$f":"IF(ISERROR(VLOOKUP(K546,#REF!,2,FALSE)),\" \",VLOOKUP(K546,#REF!,2,FALSE))","v":" "},{"$f":"IF(ISERROR(VLOOKUP(K546,#REF!,3,FALSE)),\" \",VLOOKUP(K546,#REF!,3,FALSE))","v":" "},1824,0,1026259960,"LAURA XIMENA CASTELLANOS VELÁSQUEZ","Persona Natural",null,"N/A","N/A",null,14400000,0,0,0,{"$f":"+W546+X546+Z546","v":14400000},14400000,"2022-01-24","2022-01-26","2022-07-25",180,0,0,null,null,null,null,"Terminado",{"$f":"IF(ISERROR(AB546/AA546),\"-\",(AB546/AA546))","v":1}]
["FDLSC-CPS-127-2022",2022,"FDLSC-CD-011-2022","https://community.secop.gov.co/Public/Tendering/OpportunityDetail/Index?noticeUID=CO1.NTC.2589705&isFromPublicArea=True&isModal=true&asPopupView=true","Contratos de prestación de servicios profesionales y de apoyo a la gestión","Contratación directa","Prestación de servicios profesionales y de apoyo a la gestión, o para la ejecución de trabajos artísticos que sólo puedan encomendarse a determinadas personas naturales","PRESTAR SUS SERVICIOS ASISTENCIALES PARA APOYAR LA GESTIÓN LOCAL Y  TERRITORIAL DE LOS TEMAS DE SEGURIDAD Y  CONVIVENCIA CIUDADANA, EN EL MARCO DEL PLAN DE DESARROLLO LOCAL 2021-2024.","Inversión","Un nuevo contrato social y ambiental para la Bogotá del Siglo XXI",43,{"$f":"IF(ISERROR(VLOOKUP(K547,#REF!,2,FALSE)),\" \",VLOOKUP(K547,#REF!,2,FALSE))","v":" "},{"$f":"IF(ISERROR(VLOOKUP(K547,#REF!,3,FALSE)),\" \",VLOOKUP(K547,#REF!,3,FALSE))","v":" "},1824,0,79558626,"RICARDO SORA PARRA","Persona Natural",null,"N/A","N/A",null,14400000,0,0,0,{"$f":"+W547+X547+Z547","v":14400000},14400000,"2022-01-24","2022-01-26","2022-07-25",180,0,0,null,null,null,null,"Terminado",{"$f":"IF(ISERROR(AB547/AA547),\"-\",(AB547/AA547))","v":1}]
["FDLSC-CPS-129-2022",2022,"FDLSC-CD-011-2022","https://community.secop.gov.co/Public/Tendering/OpportunityDetail/Index?noticeUID=CO1.NTC.2589705&isFromPublicArea=True&isModal=true&asPopupView=true","Contratos de prestación de servicios profesionales y de apoyo a la gestión","Contratación directa","Prestación de servicios profesionales y de apoyo a la gestión, o para la ejecución de trabajos artísticos que sólo puedan encomendarse a determinadas personas naturales","PRESTAR SUS SERVICIOS ASISTENCIALES PARA APOYAR LA GESTIÓN LOCAL Y  TERRITORIAL DE LOS TEMAS DE SEGURIDAD Y  CONVIVENCIA CIUDADANA, EN EL MARCO DEL PLAN DE DESARROLLO LOCAL 2021-2024.","Inversión","Un nuevo contrato social y ambiental para la Bogotá del Siglo XXI",43,{"$f":"IF(ISERROR(VLOOKUP(K548,#REF!,2,FALSE)),\" \",VLOOKUP(K548,#REF!,2,FALSE))","v":" "},{"$f":"IF(ISERROR(VLOOKUP(K548,#REF!,3,FALSE)),\" \",VLOOKUP(K548,#REF!,3,FALSE))","v":" "},1824,0,79810863,"LEONARDO FABIO ORDOÑEZ CHAVARRO","Persona Natural",null,"N/A","N/A",null,14400000,0,0,0,{"$f":"+W548+X548+Z548","v":14400000},14400000,"2022-01-24","2022-01-26","2022-07-25",180,0,0,null,null,null,null,"Terminado",{"$f":"IF(ISERROR(AB548/AA548),\"-\",(AB548/AA548))","v":1}]
["FDLSC-CPS-130-2022",2022,"FDLSC-CD-011-2022","https://community.secop.gov.co/Public/Tendering/OpportunityDetail/Index?noticeUID=CO1.NTC.2589705&isFromPublicArea=True&isModal=true&asPopupView=true","Contratos de prestación de servicios profesionales y de apoyo a la gestión","Contratación directa","Prestación de servicios profesionales y de apoyo a la gestión, o para la ejecución de trabajos artísticos que sólo puedan encomendarse a determinadas personas naturales","PRESTAR SUS SERVICIOS ASISTENCIALES PARA APOYAR LA GESTIÓN LOCAL Y  TERRITORIAL DE LOS TEMAS DE SEGURIDAD Y  CONVIVENCIA CIUDADANA, EN EL MARCO DEL PLAN DE DESARROLLO LOCAL 2021-2024.","Inversión","Un nuevo contrato social y ambiental para la Bogotá del Siglo XXI",43,{"$f":"IF(ISERROR(VLOOKUP(K549,#REF!,2,FALSE)),\" \",VLOOKUP(K549,#REF!,2,FALSE))","v":" "},{"$f":"IF(ISERROR(VLOOKUP(K549,#REF!,3,FALSE)),\" \",VLOOKUP(K549,#REF!,3,FALSE))","v":" "},1824,0,1000618560,"CRISTIAN DAVID MORENO GÓMEZ","Persona Natural",null,"N/A","N/A",null,14400000,0,0,0,{"$f":"+W549+X549+Z549","v":14400000},14400000,"2022-01-26","2022-01-29","2022-07-28",180,0,0,null,null,null,null,"Terminado",{"$f":"IF(ISERROR(AB549/AA549),\"-\",(AB549/AA549))","v":1}]
["FDLSC-CPS-131-2022",2022,"FDLSC-CD-011-2022","https://community.secop.gov.co/Public/Tendering/OpportunityDetail/Index?noticeUID=CO1.NTC.2589705&isFromPublicArea=True&isModal=true&asPopupView=true","Contratos de prestación de servicios profesionales y de apoyo a la gestión","Contratación directa","Prestación de servicios profesionales y de apoyo a la gestión, o para la ejecución de trabajos artísticos que sólo puedan encomendarse a determinadas personas naturales","PRESTAR SUS SERVICIOS ASISTENCIALES PARA APOYAR LA GESTIÓN LOCAL Y  TERRITORIAL DE LOS TEMAS DE SEGURIDAD Y  CONVIVENCIA CIUDADANA, EN EL MARCO DEL PLAN DE DESARROLLO LOCAL 2021-2024.","Inversión","Un nuevo contrato social y ambiental para la Bogotá del Siglo XXI",43,{"$f":"IF(ISERROR(VLOOKUP(K550,#REF!,2,FALSE)),\" \",VLOOKUP(K550,#REF!,2,FALSE))","v":" "},{"$f":"IF(ISERROR(VLOOKUP(K550,#REF!,3,FALSE)),\" \",VLOOKUP(K550,#REF!,3,FALSE))","v":" "},1824,0,79560317,"EDGAR JAVIER FERNANDEZ BARRERO ","Persona Natural",null,"N/A","N/A",null,14400000,0,0,0,{"$f":"+W550+X550+Z550","v":14400000},14400000,"2022-01-24","2022-01-26","2022-07-25",180,0,0,null,null,null,null,"Terminado",{"$f":"IF(ISERROR(AB550/AA550),\"-\",(AB550/AA550))","v":1}]
["FDLSC-CPS-132-2022",2022,"FDLSC-CD-011-2022","https://community.secop.gov.co/Public/Tendering/OpportunityDetail/Index?noticeUID=CO1.NTC.2589705&isFromPublicArea=True&isModal=true&asPopupView=true","Contratos de prestación de servicios profesionales y de apoyo a la gestión","Contratación directa","Prestación de servicios profesionales y de apoyo a la gestión, o para la ejecución de trabajos artísticos que sólo puedan encomendarse a determinadas personas naturales","PRESTAR SUS SERVICIOS ASISTENCIALES PARA APOYAR LA GESTIÓN LOCAL Y  TERRITORIAL DE LOS TEMAS DE SEGURIDAD Y  CONVIVENCIA CIUDADANA, EN EL MARCO DEL PLAN DE DESARROLLO LOCAL 2021-2024.","Inversión","Un nuevo contrato social y ambiental para la Bogotá del Siglo XXI",43,{"$f":"IF(ISERROR(VLOOKUP(K551,#REF!,2,FALSE)),\" \",VLOOKUP(K551,#REF!,2,FALSE))","v":" "},{"$f":"IF(ISERROR(VLOOKUP(K551,#REF!,3,FALSE)),\" \",VLOOKUP(K551,#REF!,3,FALSE))","v":" "},1824,0,79494348,"JAIME JIMENEZ ROJAS","Persona Natural",null,"N/A","N/A",null,14400000,0,0,0,{"$f":"+W551+X551+Z551","v":14400000},14400000,"2022-01-24","2022-01-26","2022-07-25",180,0,0,null,null,null,null,"Terminado",{"$f":"IF(ISERROR(AB551/AA551),\"-\",(AB551/AA551))","v":1}]
["FDLSC-CPS-133-2022",2022,"FDLSC-CD-011-2022","https://community.secop.gov.co/Public/Tendering/OpportunityDetail/Index?noticeUID=CO1.NTC.2589705&isFromPublicArea=True&isModal=true&asPopupView=true","Contratos de prestación de servicios profesionales y de apoyo a la gestión","Contratación directa","Prestación de servicios profesionales y de apoyo a la gestión, o para la ejecución de trabajos artísticos que sólo puedan encomendarse a determinadas personas naturales","PRESTAR SUS SERVICIOS ASISTENCIALES PARA APOYAR LA GESTIÓN LOCAL Y  TERRITORIAL DE LOS TEMAS DE SEGURIDAD Y  CONVIVENCIA CIUDADANA, EN EL MARCO DEL PLAN DE DESARROLLO LOCAL 2021-2024.","Inversión","Un nuevo contrato social y ambiental para la Bogotá del Siglo XXI",43,{"$f":"IF(ISERROR(VLOOKUP(K552,#REF!,2,FALSE)),\" \",VLOOKUP(K552,#REF!,2,FALSE))","v":" "},{"$f":"IF(ISERROR(VLOOKUP(K552,#REF!,3,FALSE)),\" \",VLOOKUP(K552,#REF!,3,FALSE))","v":" "},1824,0,79812509,"JULIO ALEXANDER HENAO ESCUDERO","Persona Natural",null,"N/A","N/A",null,14400000,0,0,0,{"$f":"+W552+X552+Z552","v":14400000},14400000,"2022-01-24","2022-01-29","2022-07-28",180,0,0,null,null,null,null,"Terminado",{"$f":"IF(ISERROR(AB552/AA552),\"-\",(AB552/AA552))","v":1}]
["FDLSC-CPS-147-2022",2022,"FDLSC-CD-048-2022","https://community.secop.gov.co/Public/Tendering/OpportunityDetail/Index?noticeUID=CO1.NTC.2678868&isFromPublicArea=True&isModal=true&asPopupView=true","Contratos de prestación de servicios profesionales y de apoyo a la gestión","Contratación directa","Prestación de servicios profesionales y de apoyo a la gestión, o para la ejecución de trabajos artísticos que sólo puedan encomendarse a determinadas personas naturales","PRESTAR SUS SERVICIOS DE APOYO ASISTENCIAL PARA LA PROMOCIÓN DE LA SEPARACIÓN EN LA FUENTE Y RECICLAJE, A LA LUZ DEL PLAN DE DESARROLLO 2021-2024 UN NUEVO CONTRATO AMBIENTAL Y SOCIAL PARA SAN CRISTÓBAL","Inversión","Un nuevo contrato social y ambiental para la Bogotá del Siglo XXI",38,{"$f":"IF(ISERROR(VLOOKUP(K553,#REF!,2,FALSE)),\" \",VLOOKUP(K553,#REF!,2,FALSE))","v":" "},{"$f":"IF(ISERROR(VLOOKUP(K553,#REF!,3,FALSE)),\" \",VLOOKUP(K553,#REF!,3,FALSE))","v":" "},1868,0,1023956268,"KERLEY MAURICIO ESPINOZA RODRIGUEZ","Persona Natural",null,"N/A","N/A",null,14400000,0,0,0,{"$f":"+W553+X553+Z553","v":14400000},14400000,"2022-01-26","2022-02-04","2022-08-03",180,0,0,null,null,null,null,"Terminado",{"$f":"IF(ISERROR(AB553/AA553),\"-\",(AB553/AA553))","v":1}]
["FDLSC-CPS-151-2022",2022,"FDLSC-CD-048-2022","https://community.secop.gov.co/Public/Tendering/OpportunityDetail/Index?noticeUID=CO1.NTC.2783606&isFromPublicArea=True&isModal=true&asPopupView=true","Contratos de prestación de servicios profesionales y de apoyo a la gestión","Contratación directa","Prestación de servicios profesionales y de apoyo a la gestión, o para la ejecución de trabajos artísticos que sólo puedan encomendarse a determinadas personas naturales","PRESTAR SUS SERVICIOS DE APOYO ASISTENCIAL PARA LA PROMOCIÓN DE LA SEPARACIÓN EN LA FUENTE Y RECICLAJE, A LA LUZ DEL PLAN DE DESARROLLO 2021-2024 UN NUEVO CONTRATO AMBIENTAL Y SOCIAL PARA SAN CRISTÓBAL","Inversión","Un nuevo contrato social y ambiental para la Bogotá del Siglo XXI",38,{"$f":"IF(ISERROR(VLOOKUP(K554,#REF!,2,FALSE)),\" \",VLOOKUP(K554,#REF!,2,FALSE))","v":" "},{"$f":"IF(ISERROR(VLOOKUP(K554,#REF!,3,FALSE)),\" \",VLOOKUP(K554,#REF!,3,FALSE))","v":" "},1868,0,1022940781,"JENNIFER YULIANA RODRIGUEZ PEREZ","Persona Natural",null,"N/A","N/A",null,14400000,0,0,0,{"$f":"+W554+X554+Z554","v":14400000},14400000,"2022-01-28","2022-02-04","2022-08-03",180,0,0,null,null,null,null,"Terminado",{"$f":"IF(ISERROR(AB554/AA554),\"-\",(AB554/AA554))","v":1}]
["FDLSC-CPS-152-2022",2022,"FDLSC-CD-048-2022","https://community.secop.gov.co/Public/Tendering/OpportunityDetail/Index?noticeUID=CO1.NTC.2678868&isFromPublicArea=True&isModal=true&asPopupView=true","Contratos de prestación de servicios profesionales y de apoyo a la gestión","Contratación directa","Prestación de servicios profesionales y de apoyo a la gestión, o para la ejecución de trabajos artísticos que sólo puedan encomendarse a determinadas personas naturales","PRESTAR SUS SERVICIOS DE APOYO ASISTENCIAL PARA LA PROMOCIÓN DE LA SEPARACIÓN EN LA FUENTE Y RECICLAJE, A LA LUZ DEL PLAN DE DESARROLLO 2021-2024 UN NUEVO CONTRATO AMBIENTAL Y SOCIAL PARA SAN CRISTÓBAL","Inversión","Un nuevo contrato social y ambiental para la Bogotá del Siglo XXI",38,{"$f":"IF(ISERROR(VLOOKUP(K555,#REF!,2,FALSE)),\" \",VLOOKUP(K555,#REF!,2,FALSE))","v":" "},{"$f":"IF(ISERROR(VLOOKUP(K555,#REF!,3,FALSE)),\" \",VLOOKUP(K555,#REF!,3,FALSE))","v":" "},1868,0,52063502,"CLAUDIA AMPARO GONZALEZ MORENO","Persona Natural",null,"N/A","N/A",null,14400000,0,0,0,{"$f":"+W555+X555+Z555","v":14400000},14400000,"2022-01-26","2022-02-04","2022-08-03",180,0,0,null,null,null,null,"Terminado",{"$f":"IF(ISERROR(AB555/AA555),\"-\",(AB555/AA555))","v":1}]
["FDLSC-CPS-154-2022",2022,"FDLSC-CD-048-2022","https://community.secop.gov.co/Public/Tendering/OpportunityDetail/Index?noticeUID=CO1.NTC.2678868&isFromPublicArea=True&isModal=true&asPopupView=true","Contratos de prestación de servicios profesionales y de apoyo a la gestión","Contratación directa","Prestación de servicios profesionales y de apoyo a la gestión, o para la ejecución de trabajos artísticos que sólo puedan encomendarse a determinadas personas naturales","PRESTAR SUS SERVICIOS DE APOYO ASISTENCIAL PARA LA PROMOCIÓN DE LA SEPARACIÓN EN LA FUENTE Y RECICLAJE, A LA LUZ DEL PLAN DE DESARROLLO 2021-2024 UN NUEVO CONTRATO AMBIENTAL Y SOCIAL PARA SAN CRISTÓBAL","Inversión","Un nuevo contrato social y ambiental para la Bogotá del Siglo XXI",38,{"$f":"IF(ISERROR(VLOOKUP(K556,#REF!,2,FALSE)),\" \",VLOOKUP(K556,#REF!,2,FALSE))","v":" "},{"$f":"IF(ISERROR(VLOOKUP(K556,#REF!,3,FALSE)),\" \",VLOOKUP(K556,#REF!,3,FALSE))","v":" "},1868,0,1013629725,"CARLOS HUMBERTO GUZMAN OTALVAREZ","Persona Natural",null,"N/A","N/A",null,14400000,0,0,0,{"$f":"+W556+X556+Z556","v":14400000},14400000,"2022-01-26","2022-02-04","2022-08-03",180,0,0,null,null,null,null,"Terminado",{"$f":"IF(ISERROR(AB556/AA556),\"-\",(AB556/AA556))","v":1}]
["FDLSC-CPS-156-2022",2022,"FDLSC-CD-048-2022","https://community.secop.gov.co/Public/Tendering/OpportunityDetail/Index?noticeUID=CO1.NTC.2678868&isFromPublicArea=True&isModal=true&asPopupView=true","Contratos de prestación de servicios profesionales y de apoyo a la gestión","Contratación directa","Prestación de servicios profesionales y de apoyo a la gestión, o para la ejecución de trabajos artísticos que sólo puedan encomendarse a determinadas personas naturales","PRESTAR SUS SERVICIOS DE APOYO ASISTENCIAL PARA LA PROMOCIÓN DE LA SEPARACIÓN EN LA FUENTE Y RECICLAJE, A LA LUZ DEL PLAN DE DESARROLLO 2021-2024 UN NUEVO CONTRATO AMBIENTAL Y SOCIAL PARA SAN CRISTÓBAL","Inversión","Un nuevo contrato social y ambiental para la Bogotá del Siglo XXI",38,{"$f":"IF(ISERROR(VLOOKUP(K557,#REF!,2,FALSE)),\" \",VLOOKUP(K557,#REF!,2,FALSE))","v":" "},{"$f":"IF(ISERROR(VLOOKUP(K557,#REF!,3,FALSE)),\" \",VLOOKUP(K557,#REF!,3,FALSE))","v":" "},1868,0,79634482,"JHON ALEXANDER PAEZ FAJARDO","Persona Natural",null,"N/A","N/A",null,14400000,0,0,0,{"$f":"+W557+X557+Z557","v":14400000},14400000,"2022-01-26","2022-02-04","2022-08-03",180,0,0,null,null,null,null,"Terminado",{"$f":"IF(ISERROR(AB557/AA557),\"-\",(AB557/AA557))","v":1}]
["FDLSC-CPS-157-2022",2022,"FDLSC-CD-048-2022","https://community.secop.gov.co/Public/Tendering/OpportunityDetail/Index?noticeUID=CO1.NTC.2678868&isFromPublicArea=True&isModal=true&asPopupView=true","Contratos de prestación de servicios profesionales y de apoyo a la gestión","Contratación directa","Prestación de servicios profesionales y de apoyo a la gestión, o para la ejecución de trabajos artísticos que sólo puedan encomendarse a determinadas personas naturales","PRESTAR SUS SERVICIOS DE APOYO ASISTENCIAL PARA LA PROMOCIÓN DE LA SEPARACIÓN EN LA FUENTE Y RECICLAJE, A LA LUZ DEL PLAN DE DESARROLLO 2021-2024 UN NUEVO CONTRATO AMBIENTAL Y SOCIAL PARA SAN CRISTÓBAL","Inversión","Un nuevo contrato social y ambiental para la Bogotá del Siglo XXI",38,{"$f":"IF(ISERROR(VLOOKUP(K558,#REF!,2,FALSE)),\" \",VLOOKUP(K558,#REF!,2,FALSE))","v":" "},{"$f":"IF(ISERROR(VLOOKUP(K558,#REF!,3,FALSE)),\" \",VLOOKUP(K558,#REF!,3,FALSE))","v":" "},1868,0,79974131,"JORGE ALEXANDER MORENO CAICEDO","Persona Natural",null,"N/A","N/A",null,14400000,0,0,0,{"$f":"+W558+X558+Z558","v":14400000},14400000,"2022-01-25","2022-02-04","2022-08-03",180,0,0,null,null,null,null,"Terminado",{"$f":"IF(ISERROR(AB558/AA558),\"-\",(AB558/AA558))","v":1}]
["FDLSC-CPS-181-2022",2022,"FDLSC-CD-048-2022","https://community.secop.gov.co/Public/Tendering/OpportunityDetail/Index?noticeUID=CO1.NTC.2678868&isFromPublicArea=True&isModal=true&asPopupView=true","Contratos de prestación de servicios profesionales y de apoyo a la gestión","Contratación directa","Prestación de servicios profesionales y de apoyo a la gestión, o para la ejecución de trabajos artísticos que sólo puedan encomendarse a determinadas personas naturales","PRESTAR SUS SERVICIOS DE APOYO ASISTENCIAL PARA LA PROMOCIÓN DE LA SEPARACIÓN EN LA FUENTE Y RECICLAJE, A LA LUZ DEL PLAN DE DESARROLLO 2021-2024 UN NUEVO CONTRATO AMBIENTAL Y SOCIAL PARA SAN CRISTÓBAL","Inversión","Un nuevo contrato social y ambiental para la Bogotá del Siglo XXI",38,{"$f":"IF(ISERROR(VLOOKUP(K559,#REF!,2,FALSE)),\" \",VLOOKUP(K559,#REF!,2,FALSE))","v":" "},{"$f":"IF(ISERROR(VLOOKUP(K559,#REF!,3,FALSE)),\" \",VLOOKUP(K559,#REF!,3,FALSE))","v":" "},1868,0,1010185813,"CRISTIAN CAMILO MORALES CARRILLO","Persona Natural",null,"N/A","N/A",null,14400000,0,0,0,{"$f":"+W559+X559+Z559","v":14400000},14400000,"2022-01-26","2022-02-04","2022-08-03",180,0,0,null,null,null,null,"Terminado",{"$f":"IF(ISERROR(AB559/AA559),\"-\",(AB559/AA559))","v":1}]
["FDLSC-CPS-259-2022",2022,"FDLSC-CD-139-2022","https://community.secop.gov.co/Public/Tendering/OpportunityDetail/Index?noticeUID=CO1.NTC.2772867&isFromPublicArea=True&isModal=true&asPopupView=true","Contratos de prestación de servicios profesionales y de apoyo a la gestión","Contratación directa","Prestación de servicios profesionales y de apoyo a la gestión, o para la ejecución de trabajos artísticos que sólo puedan encomendarse a determinadas personas naturales","APOYAR LAS LABORES DE ENTREGA Y RECIBO DE LAS COMUNICACIONES EMITIDAS O RECIBIDAS POR LAS INSPECCIONES DE POLICÍA DE LA LOCALIDAD.","Inversión","Un nuevo contrato social y ambiental para la Bogotá del Siglo XXI",57,{"$f":"IF(ISERROR(VLOOKUP(K560,#REF!,2,FALSE)),\" \",VLOOKUP(K560,#REF!,2,FALSE))","v":" "},{"$f":"IF(ISERROR(VLOOKUP(K560,#REF!,3,FALSE)),\" \",VLOOKUP(K560,#REF!,3,FALSE))","v":" "},1873,0,79559730,"WILSON PINTO BARON","Persona Natural",null,"N/A","N/A",null,14400000,0,0,0,{"$f":"+W560+X560+Z560","v":14400000},14400000,"2022-01-28","2022-02-03","2022-08-02",180,0,0,null,null,null,null,"Terminado",{"$f":"IF(ISERROR(AB560/AA560),\"-\",(AB560/AA560))","v":1}]
["FDLSC-CPS-278-2022",2022,"FDLSC-CD-011-2022","https://community.secop.gov.co/Public/Tendering/OpportunityDetail/Index?noticeUID=CO1.NTC.2589705&isFromPublicArea=True&isModal=true&asPopupView=true","Contratos de prestación de servicios profesionales y de apoyo a la gestión","Contratación directa","Prestación de servicios profesionales y de apoyo a la gestión, o para la ejecución de trabajos artísticos que sólo puedan encomendarse a determinadas personas naturales","PRESTAR SUS SERVICIOS ASISTENCIALES PARA APOYAR LA GESTIÓN LOCAL Y  TERRITORIAL DE LOS TEMAS DE SEGURIDAD Y  CONVIVENCIA CIUDADANA, EN EL MARCO DEL PLAN DE DESARROLLO LOCAL 2021-2024.","Inversión","Un nuevo contrato social y ambiental para la Bogotá del Siglo XXI",43,{"$f":"IF(ISERROR(VLOOKUP(K561,#REF!,2,FALSE)),\" \",VLOOKUP(K561,#REF!,2,FALSE))","v":" "},{"$f":"IF(ISERROR(VLOOKUP(K561,#REF!,3,FALSE)),\" \",VLOOKUP(K561,#REF!,3,FALSE))","v":" "},1824,0,1023871919,"MYRIAM MERCEDES CUBILLOS","Persona Natural",null,"N/A","N/A",null,14400000,0,0,0,{"$f":"+W561+X561+Z561","v":14400000},14400000,"2022-01-28","2022-02-04","2022-08-03",180,0,0,null,null,null,null,"Terminado",{"$f":"IF(ISERROR(AB561/AA561),\"-\",(AB561/AA561))","v":1}]
["FDLSC-CPS-279 -2022",2022,"FDLSC-CD-011-2022","https://community.secop.gov.co/Public/Tendering/OpportunityDetail/Index?noticeUID=CO1.NTC.2642532&isFromPublicArea=True&isModal=true&asPopupView=true","Contratos de prestación de servicios profesionales y de apoyo a la gestión","Contratación directa","Prestación de servicios profesionales y de apoyo a la gestión, o para la ejecución de trabajos artísticos que sólo puedan encomendarse a determinadas personas naturales","PRESTAR SUS SERVICIOS ASISTENCIALES PARA APOYAR LA GESTIÓN LOCAL Y  TERRITORIAL DE LOS TEMAS DE SEGURIDAD Y  CONVIVENCIA CIUDADANA, EN EL MARCO DEL PLAN DE DESARROLLO LOCAL 2021-2024.","Inversión","Un nuevo contrato social y ambiental para la Bogotá del Siglo XXI",43,{"$f":"IF(ISERROR(VLOOKUP(K562,#REF!,2,FALSE)),\" \",VLOOKUP(K562,#REF!,2,FALSE))","v":" "},{"$f":"IF(ISERROR(VLOOKUP(K562,#REF!,3,FALSE)),\" \",VLOOKUP(K562,#REF!,3,FALSE))","v":" "},1824,0,52882580,"LUZ FRANCY BARRERO GALLEGO","Persona Natural",null,"N/A","N/A",null,14400000,0,0,0,{"$f":"+W562+X562+Z562","v":14400000},14400000,"2022-01-28","2022-01-29","2022-07-28",180,0,0,null,null,null,null,"Terminado",{"$f":"IF(ISERROR(AB562/AA562),\"-\",(AB562/AA562))","v":1}]
["FDLSC-CPS-281-2022",2022,"FDLSC-CD-011-2022","https://community.secop.gov.co/Public/Tendering/OpportunityDetail/Index?noticeUID=CO1.NTC.2742450&isFromPublicArea=True&isModal=true&asPopupView=true","Contratos de prestación de servicios profesionales y de apoyo a la gestión","Contratación directa","Prestación de servicios profesionales y de apoyo a la gestión, o para la ejecución de trabajos artísticos que sólo puedan encomendarse a determinadas personas naturales","PRESTAR SUS SERVICIOS ASISTENCIALES PARA APOYAR LA GESTIÓN LOCAL Y  TERRITORIAL DE LOS TEMAS DE SEGURIDAD Y  CONVIVENCIA CIUDADANA, EN EL MARCO DEL PLAN DE DESARROLLO LOCAL 2021-2024.","Inversión","Un nuevo contrato social y ambiental para la Bogotá del Siglo XXI",43,{"$f":"IF(ISERROR(VLOOKUP(K563,#REF!,2,FALSE)),\" \",VLOOKUP(K563,#REF!,2,FALSE))","v":" "},{"$f":"IF(ISERROR(VLOOKUP(K563,#REF!,3,FALSE)),\" \",VLOOKUP(K563,#REF!,3,FALSE))","v":" "},1824,0,1024469909,"SNEIDER ANDRES ALZATE CAMACHO","Persona Natural",null,"N/A","N/A",null,14400000,0,0,0,{"$f":"+W563+X563+Z563","v":14400000},14400000,"2022-01-28","2022-01-29","2022-07-28",180,0,0,null,null,null,null,"Terminado",{"$f":"IF(ISERROR(AB563/AA563),\"-\",(AB563/AA563))","v":1}]
["FDLSC-CPS-293-2022",2022,"FDLSC-CD-011-2022","https://community.secop.gov.co/Public/Tendering/OpportunityDetail/Index?noticeUID=CO1.NTC.2589705&isFromPublicArea=True&isModal=False","Contratos de prestación de servicios profesionales y de apoyo a la gestión","Contratación directa","Prestación de servicios profesionales y de apoyo a la gestión, o para la ejecución de trabajos artísticos que sólo puedan encomendarse a determinadas personas naturales","PRESTAR SUS SERVICIOS ASISTENCIALES PARA APOYAR LA GESTIÓN LOCAL Y  TERRITORIAL DE LOS TEMAS DE SEGURIDAD Y  CONVIVENCIA CIUDADANA, EN EL MARCO DEL PLAN DE DESARROLLO LOCAL 2021-2024.","Inversión","Un nuevo contrato social y ambiental para la Bogotá del Siglo XXI",43,{"$f":"IF(ISERROR(VLOOKUP(K564,#REF!,2,FALSE)),\" \",VLOOKUP(K564,#REF!,2,FALSE))","v":" "},{"$f":"IF(ISERROR(VLOOKUP(K564,#REF!,3,FALSE)),\" \",VLOOKUP(K564,#REF!,3,FALSE))","v":" "},1824,0,52849165,"MARIA CRISTINA JIMENEZ CASTILLO","Persona Natural",null,"N/A","N/A",null,14400000,0,0,0,{"$f":"+W564+X564+Z564","v":14400000},14400000,"2022-01-28","2022-02-08","2022-08-07",180,0,0,null,null,null,null,"Terminado",{"$f":"IF(ISERROR(AB564/AA564),\"-\",(AB564/AA564))","v":1}]
["FDLSC-CPS-295-2022",2022,"FDLSC-CD-011-2022","https://community.secop.gov.co/Public/Tendering/OpportunityDetail/Index?noticeUID=CO1.NTC.2745165&isFromPublicArea=True&isModal=true&asPopupView=true","Contratos de prestación de servicios profesionales y de apoyo a la gestión","Contratación directa","Prestación de servicios profesionales y de apoyo a la gestión, o para la ejecución de trabajos artísticos que sólo puedan encomendarse a determinadas personas naturales","PRESTAR SUS SERVICIOS ASISTENCIALES PARA APOYAR LA GESTIÓN LOCAL Y  TERRITORIAL DE LOS TEMAS DE SEGURIDAD Y  CONVIVENCIA CIUDADANA, EN EL MARCO DEL PLAN DE DESARROLLO LOCAL 2021-2024.","Inversión","Un nuevo contrato social y ambiental para la Bogotá del Siglo XXI",43,{"$f":"IF(ISERROR(VLOOKUP(K565,#REF!,2,FALSE)),\" \",VLOOKUP(K565,#REF!,2,FALSE))","v":" "},{"$f":"IF(ISERROR(VLOOKUP(K565,#REF!,3,FALSE)),\" \",VLOOKUP(K565,#REF!,3,FALSE))","v":" "},1824,0,1026280255,"LEIDY YINETH RODRIGUEZ MARTINEZ","Persona Natural",null,"N/A","N/A",null,14400000,0,0,0,{"$f":"+W565+X565+Z565","v":14400000},14400000,"2022-01-27","2022-01-30","2022-07-29",180,0,0,null,null,null,null,"Terminado",{"$f":"IF(ISERROR(AB565/AA565),\"-\",(AB565/AA565))","v":1}]
["FDLSC-CPS-315-2022",2022,"FDLSC-CD-011-2022","https://community.secop.gov.co/Public/Tendering/OpportunityDetail/Index?noticeUID=CO1.NTC.2742774&isFromPublicArea=True&isModal=true&asPopupView=true","Contratos de prestación de servicios profesionales y de apoyo a la gestión","Contratación directa","Prestación de servicios profesionales y de apoyo a la gestión, o para la ejecución de trabajos artísticos que sólo puedan encomendarse a determinadas personas naturales","PRESTAR SUS SERVICIOS ASISTENCIALES PARA APOYAR LA GESTIÓN LOCAL Y  TERRITORIAL DE LOS TEMAS DE SEGURIDAD Y  CONVIVENCIA CIUDADANA, EN EL MARCO DEL PLAN DE DESARROLLO LOCAL 2021-2024.","Inversión","Un nuevo contrato social y ambiental para la Bogotá del Siglo XXI",43,{"$f":"IF(ISERROR(VLOOKUP(K566,#REF!,2,FALSE)),\" \",VLOOKUP(K566,#REF!,2,FALSE))","v":" "},{"$f":"IF(ISERROR(VLOOKUP(K566,#REF!,3,FALSE)),\" \",VLOOKUP(K566,#REF!,3,FALSE))","v":" "},1824,0,79332571,"ROGER RAUL VELASCO SEGURA","Persona Natural",null,"N/A","N/A",null,14400000,0,0,0,{"$f":"+W566+X566+Z566","v":14400000},14400000,"2022-01-28","2022-02-04","2022-08-03",180,0,0,null,null,null,null,"Terminado",{"$f":"IF(ISERROR(AB566/AA566),\"-\",(AB566/AA566))","v":1}]
["FDLSC-CPS-326-2022",2022,"FDLSC-CD-019-2022","https://community.secop.gov.co/Public/Tendering/OpportunityDetail/Index?noticeUID=CO1.NTC.2625216&isFromPublicArea=True&isModal=true&asPopupView=true","Contratos de prestación de servicios profesionales y de apoyo a la gestión","Contratación directa","Prestación de servicios profesionales y de apoyo a la gestión, o para la ejecución de trabajos artísticos que sólo puedan encomendarse a determinadas personas naturales","PRESTAR SUS SERVICIOS DE APOYO A  LA GESTIÓN AMBIENTAL EXTERNA DE LA ALCALDÍA LOCAL DE SAN CRISTÓBAL EN ESPACIO PÚBLICO QUE PRESENTA SITUACIONES AMBIENTALES CONFLICTIVAS Y A LAS COMPLEMENTARIAS DE LOS PROYECTOS AMBIENTALES DEL PLAN DE DESARROLLO UN NUEVO CONTRATO SOCIAL Y AMBIENTAL PARA SAN CRISTÓBAL.","Inversión","Un nuevo contrato social y ambiental para la Bogotá del Siglo XXI",28,{"$f":"IF(ISERROR(VLOOKUP(K567,#REF!,2,FALSE)),\" \",VLOOKUP(K567,#REF!,2,FALSE))","v":" "},{"$f":"IF(ISERROR(VLOOKUP(K567,#REF!,3,FALSE)),\" \",VLOOKUP(K567,#REF!,3,FALSE))","v":" "},1819,0,1010011295,"SEBASTIAN CAMILO PEREZ ORJUELA","Persona Natural",null,"N/A","N/A",null,14400000,0,0,0,{"$f":"+W567+X567+Z567","v":14400000},14400000,"2022-01-28","2022-03-11","2022-09-10",180,0,0,null,null,null,null,"Terminado",{"$f":"IF(ISERROR(AB567/AA567),\"-\",(AB567/AA567))","v":1}]
["FDLSC-CPS-330-2022",2022,"FDLSC-CD-164-2022","https://community.secop.gov.co/Public/Tendering/OpportunityDetail/Index?noticeUID=CO1.NTC.2779770&isFromPublicArea=True&isModal=true&asPopupView=true","Contratos de prestación de servicios profesionales y de apoyo a la gestión","Contratación directa","Prestación de servicios profesionales y de apoyo a la gestión, o para la ejecución de trabajos artísticos que sólo puedan encomendarse a determinadas personas naturales","PRESTAR SUS SERVICIOS DE APOYO ASISTENCIAL AL FONDO DE DESARROLLO LOCAL DE SAN CRISTOBAL EN EL MARCO DEL PLAN DE DESARROLLO 2021- 2024 APOYANDO LA GESTIÓN ADMINISTRATIVA Y LOGISTICA DE ACUERDO A LAS NECESIDADES DEL FONDO.","Inversión","Un nuevo contrato social y ambiental para la Bogotá del Siglo XXI",57,{"$f":"IF(ISERROR(VLOOKUP(K568,#REF!,2,FALSE)),\" \",VLOOKUP(K568,#REF!,2,FALSE))","v":" "},{"$f":"IF(ISERROR(VLOOKUP(K568,#REF!,3,FALSE)),\" \",VLOOKUP(K568,#REF!,3,FALSE))","v":" "},1873,0,1033733086,"LEIDY LORENA GOMEZ MEJIA","Persona Natural",null,"N/A","N/A",null,14400000,0,0,0,{"$f":"+W568+X568+Z568","v":14400000},14400000,"2022-01-28","2022-02-05","2022-08-04",180,0,0,null,null,null,null,"Terminado",{"$f":"IF(ISERROR(AB568/AA568),\"-\",(AB568/AA568))","v":1}]
["FDLSC-CPS-336-2022",2022,"FDLSC-CD-048-2022","https://community.secop.gov.co/Public/Tendering/OpportunityDetail/Index?noticeUID=CO1.NTC.2783606&isFromPublicArea=True&isModal=true&asPopupView=true","Contratos de prestación de servicios profesionales y de apoyo a la gestión","Contratación directa","Prestación de servicios profesionales y de apoyo a la gestión, o para la ejecución de trabajos artísticos que sólo puedan encomendarse a determinadas personas naturales","PRESTAR SUS SERVICIOS DE APOYO ASISTENCIAL PARA LA PROMOCIÓN DE LA SEPARACIÓN EN LA FUENTE Y RECICLAJE, A LA LUZ DEL PLAN DE DESARROLLO 2021-2024 UN NUEVO CONTRATO AMBIENTAL Y SOCIAL PARA SAN CRISTÓBAL","Inversión","Un nuevo contrato social y ambiental para la Bogotá del Siglo XXI",38,{"$f":"IF(ISERROR(VLOOKUP(K569,#REF!,2,FALSE)),\" \",VLOOKUP(K569,#REF!,2,FALSE))","v":" "},{"$f":"IF(ISERROR(VLOOKUP(K569,#REF!,3,FALSE)),\" \",VLOOKUP(K569,#REF!,3,FALSE))","v":" "},1868,0,52519743,"NANCY MILENA LOPEZ MOJICA","Persona Natural",null,"N/A","N/A",null,14400000,0,0,0,{"$f":"+W569+X569+Z569","v":14400000},14400000,"2022-01-28","2022-02-05","2022-08-04",180,0,0,null,null,null,null,"Terminado",{"$f":"IF(ISERROR(AB569/AA569),\"-\",(AB569/AA569))","v":1}]
["FDLSC-CPS-344-2022",2022,"FDLSC-CD-019-2022","https://community.secop.gov.co/Public/Tendering/OpportunityDetail/Index?noticeUID=CO1.NTC.2625216&isFromPublicArea=True&isModal=true&asPopupView=true","Contratos de prestación de servicios profesionales y de apoyo a la gestión","Contratación directa","Prestación de servicios profesionales y de apoyo a la gestión, o para la ejecución de trabajos artísticos que sólo puedan encomendarse a determinadas personas naturales","PRESTAR SUS SERVICIOS DE APOYO A  LA GESTIÓN AMBIENTAL EXTERNA DE LA ALCALDÍA LOCAL DE SAN CRISTÓBAL EN ESPACIO PÚBLICO QUE PRESENTA SITUACIONES AMBIENTALES CONFLICTIVAS Y A LAS COMPLEMENTARIAS DE LOS PROYECTOS AMBIENTALES DEL PLAN DE DESARROLLO UN NUEVO CONTRATO SOCIAL Y AMBIENTAL PARA SAN CRISTÓBAL.","Inversión","Un nuevo contrato social y ambiental para la Bogotá del Siglo XXI",28,{"$f":"IF(ISERROR(VLOOKUP(K570,#REF!,2,FALSE)),\" \",VLOOKUP(K570,#REF!,2,FALSE))","v":" "},{"$f":"IF(ISERROR(VLOOKUP(K570,#REF!,3,FALSE)),\" \",VLOOKUP(K570,#REF!,3,FALSE))","v":" "},1819,0,1000940765,"JHON ESTEBAN DIAZ COLORADO","Persona Natural",null,"N/A","N/A",null,14400000,0,0,0,{"$f":"+W570+X570+Z570","v":14400000},14400000,"2022-01-28","2022-03-25","2022-09-24",180,0,0,null,null,null,null,"Terminado",{"$f":"IF(ISERROR(AB570/AA570),\"-\",(AB570/AA570))","v":1}]
["FDLSC-CPS-349-2022",2022,"FDLSC-CD-164-2022","https://community.secop.gov.co/Public/Tendering/OpportunityDetail/Index?noticeUID=CO1.NTC.2779770&isFromPublicArea=True&isModal=true&asPopupView=true","Contratos de prestación de servicios profesionales y de apoyo a la gestión","Contratación directa","Prestación de servicios profesionales y de apoyo a la gestión, o para la ejecución de trabajos artísticos que sólo puedan encomendarse a determinadas personas naturales","PRESTAR SUS SERVICIOS DE APOYO ASISTENCIAL AL FONDO DE DESARROLLO LOCAL DE SAN CRISTOBAL EN EL MARCO DEL PLAN DE DESARROLLO 2021- 2024 APOYANDO LA GESTIÓN ADMINISTRATIVA Y LOGISTICA DE ACUERDO A LAS NECESIDADES DEL FONDO.","Inversión","Un nuevo contrato social y ambiental para la Bogotá del Siglo XXI",57,{"$f":"IF(ISERROR(VLOOKUP(K571,#REF!,2,FALSE)),\" \",VLOOKUP(K571,#REF!,2,FALSE))","v":" "},{"$f":"IF(ISERROR(VLOOKUP(K571,#REF!,3,FALSE)),\" \",VLOOKUP(K571,#REF!,3,FALSE))","v":" "},1873,0,1023950729,"DANIEL FELIPE TORRES CRUZ","Persona Natural",null,"N/A","N/A",null,14400000,0,0,0,{"$f":"+W571+X571+Z571","v":14400000},14400000,"2022-01-28","2022-02-05","2022-08-04",180,0,0,null,null,null,null,"Terminado",{"$f":"IF(ISERROR(AB571/AA571),\"-\",(AB571/AA571))","v":1}]
["FDLSC-CPS-358-2022",2022,"FDLSC-CD-048-2022","https://community.secop.gov.co/Public/Tendering/OpportunityDetail/Index?noticeUID=CO1.NTC.2678868&isFromPublicArea=True&isModal=true&asPopupView=true","Contratos de prestación de servicios profesionales y de apoyo a la gestión","Contratación directa","Prestación de servicios profesionales y de apoyo a la gestión, o para la ejecución de trabajos artísticos que sólo puedan encomendarse a determinadas personas naturales","PRESTAR SUS SERVICIOS DE APOYO ASISTENCIAL PARA LA PROMOCIÓN DE LA SEPARACIÓN EN LA FUENTE Y RECICLAJE, A LA LUZ DEL PLAN DE DESARROLLO 2021-2024 UN NUEVO CONTRATO AMBIENTAL Y SOCIAL PARA SAN CRISTÓBAL","Inversión","Un nuevo contrato social y ambiental para la Bogotá del Siglo XXI",38,{"$f":"IF(ISERROR(VLOOKUP(K572,#REF!,2,FALSE)),\" \",VLOOKUP(K572,#REF!,2,FALSE))","v":" "},{"$f":"IF(ISERROR(VLOOKUP(K572,#REF!,3,FALSE)),\" \",VLOOKUP(K572,#REF!,3,FALSE))","v":" "},1868,0,1023867015,"JENNIFER GUILLEN HERNANDEZ","Persona Natural",null,"N/A","N/A",null,14400000,-240000,0,0,{"$f":"+W572+X572+Z572","v":14160000},14160000,"2022-01-28","2022-02-08","2022-08-09",180,0,0,80069129,"RAFAEL ANTONIO PERDOMO MORENO","2022-04-04",9920000,"Liquidado",{"$f":"IF(ISERROR(AB572/AA572),\"-\",(AB572/AA572))","v":1}]
["FDLSC-CS-362-2022",2022,"FDLSC-MIC-002-2022","https://community.secop.gov.co/Public/Tendering/OpportunityDetail/Index?noticeUID=CO1.NTC.2879685&isFromPublicArea=True&isModal=true&asPopupView=true","Seguro","Contratación mínima cuantia","No aplica","ADQUIRIR LOS SEGUROS OBLIGATORIOS DE ACCIDENTE DE TRÁNSITO (SOAT) PARA EL PARQUE AUTOMOTOR DE PROPIEDAD Y/O COMODATO DEL FONDO DE DESARROLLO LOCAL DE SAN CRISTÓBAL","Funcionamiento","Un nuevo contrato social y ambiental para la Bogotá del Siglo XXI","No aplica",{"$f":"IF(ISERROR(VLOOKUP(K573,#REF!,2,FALSE)),\" \",VLOOKUP(K573,#REF!,2,FALSE))","v":" "},{"$f":"IF(ISERROR(VLOOKUP(K573,#REF!,3,FALSE)),\" \",VLOOKUP(K573,#REF!,3,FALSE))","v":" "},1347,1,860524654,"ASEGURADORA SOLIDARIA DE COLOMBIA ENTIDAD COOPERATIVA","Persona Jurídica",null,"N/A","N/A",null,13925090,0,0,0,{"$f":"+W573+X573+Z573","v":13925090},13805350,"2022-04-01","2022-04-06","2023-10-20",360,0,0,null,null,null,null,"En ejecución",{"$f":"IF(ISERROR(AB573/AA573),\"-\",(AB573/AA573))","v":0.99140113277544351}]
["FDLSC-CPS-542-2022",2022,"FDLSC-CD-281-2022","https://community.secop.gov.co/Public/Tendering/OpportunityDetail/Index?noticeUID=CO1.NTC.3394518&isFromPublicArea=True&isModal=true&asPopupView=true","Contratos de prestación de servicios profesionales y de apoyo a la gestión","Contratación directa","Prestación de servicios profesionales y de apoyo a la gestión, o para la ejecución de trabajos artísticos que sólo puedan encomendarse a determinadas personas naturales","EL CONTRATISTA PRESTARÁ SUS SERVICIOS PROFESIONALES PARA EL APOYO EN LA FORMULACIÓN, REVISIÓN, PRESENTACIÓN, EVALUACIÓN Y SEGUIMIENTO DE LOS DIFERENTES PROCESOS DE PROTECCIÓN Y BIENESTAR ANIMAL DEL FONDO DE DESARROLLO LOCAL DE SAN CRISTÓBAL Y LAS ACTIVIDADES EN MATERIA ADMINISTRATIVA, ASÍ COMO LABORES DE CAMPO.","Inversión","Un nuevo contrato social y ambiental para la Bogotá del Siglo XXI",57,{"$f":"IF(ISERROR(VLOOKUP(K574,#REF!,2,FALSE)),\" \",VLOOKUP(K574,#REF!,2,FALSE))","v":" "},{"$f":"IF(ISERROR(VLOOKUP(K574,#REF!,3,FALSE)),\" \",VLOOKUP(K574,#REF!,3,FALSE))","v":" "},1873,0,79873132,"ALIRIO MARIN ","Persona Natural",null,"N/A","N/A",null,13905000,0,0,0,{"$f":"+W574+X574+Z574","v":13905000},6334500,"2022-10-13","2022-10-20","2023-01-19",90,0,0,null,null,null,null,"En ejecución",{"$f":"IF(ISERROR(AB574/AA574),\"-\",(AB574/AA574))","v":0.45555555555555555}]
["FDLSC-CPS-536-2022",2022,"FDLSC-CD-283-2022","https://community.secop.gov.co/Public/Tendering/OpportunityDetail/Index?noticeUID=CO1.NTC.3371301&isFromPublicArea=True&isModal=true&asPopupView=true","Contratos de prestación de servicios profesionales y de apoyo a la gestión","Contratación directa","Prestación de servicios profesionales y de apoyo a la gestión, o para la ejecución de trabajos artísticos que sólo puedan encomendarse a determinadas personas naturales","PRESTAR LOS SERVICIOS PROFESIONALES EN EL ÁREA DE GESTIÓN DE DESARROLLO LOCAL PARA REALIZAR LA FORMULACIÓN, EVALUACIÓN, PRESENTACIÓN Y SEGUIMIENTO DE LOS PROYECTOS DE INVERSIÓN LOCAL NO 1724, 1790 Y 1811 EN CUMPLIMIENTO DEL PLAN DE DESARROLLO 2021 -2024. ","Inversión","Un nuevo contrato social y ambiental para la Bogotá del Siglo XXI",57,{"$f":"IF(ISERROR(VLOOKUP(K575,#REF!,2,FALSE)),\" \",VLOOKUP(K575,#REF!,2,FALSE))","v":" "},{"$f":"IF(ISERROR(VLOOKUP(K575,#REF!,3,FALSE)),\" \",VLOOKUP(K575,#REF!,3,FALSE))","v":" "},1873,0,1032491655,"INGRID TATIANA ROA NEVA","Persona Natural",null,"N/A","N/A",null,13800000,0,0,0,{"$f":"+W575+X575+Z575","v":13800000},5366667,"2022-10-06","2022-10-26","2023-01-25",90,0,0,null,null,null,null,"En ejecución",{"$f":"IF(ISERROR(AB575/AA575),\"-\",(AB575/AA575))","v":0.38888891304347828}]
["FDLSC-CPS-534-2022",2022,"FDLSC-CD-280-2022","https://community.secop.gov.co/Public/Tendering/OpportunityDetail/Index?noticeUID=CO1.NTC.3352421&isFromPublicArea=True&isModal=true&asPopupView=true","Contratos de prestación de servicios profesionales y de apoyo a la gestión","Contratación directa","Prestación de servicios profesionales y de apoyo a la gestión, o para la ejecución de trabajos artísticos que sólo puedan encomendarse a determinadas personas naturales","PRESTAR SU SERVICIOS TÉCNICOS PARA EL APOYO A LOS PROCESOS DE SALUD DEL FONDO DE DESARROLLO LOCAL DE SAN CRÍSTOBAL EN MATERIA ADMINISTRATIVA, ASÍ COMO LABORES DE CAMPO","Inversión","Un nuevo contrato social y ambiental para la Bogotá del Siglo XXI",6,{"$f":"IF(ISERROR(VLOOKUP(K576,#REF!,2,FALSE)),\" \",VLOOKUP(K576,#REF!,2,FALSE))","v":" "},{"$f":"IF(ISERROR(VLOOKUP(K576,#REF!,3,FALSE)),\" \",VLOOKUP(K576,#REF!,3,FALSE))","v":" "},1843,0,1032476724,"JULIETH PAOLA BUITRAGO MEDINA","Persona Natural",null,"N/A","N/A",null,13650000,0,0,0,{"$f":"+W576+X576+Z576","v":13650000},7020000,"2022-10-04","2022-10-07","2023-01-22",105,0,0,null,null,null,null,"En ejecución",{"$f":"IF(ISERROR(AB576/AA576),\"-\",(AB576/AA576))","v":0.51428571428571423}]
["FDLSC-CPS-381-2022",2022,"FDLSC-CD-180-2022","https://community.secop.gov.co/Public/Tendering/OpportunityDetail/Index?noticeUID=CO1.NTC.3059825&isFromPublicArea=True&isModal=true&asPopupView=true","Contratos de prestación de servicios profesionales y de apoyo a la gestión","Contratación directa","Prestación de servicios profesionales y de apoyo a la gestión, o para la ejecución de trabajos artísticos que sólo puedan encomendarse a determinadas personas naturales","PRESTAR SERVICIOS ASISTENCIALES EN EL ÁREA DE GESTIÓN DEL DESARROLLO LOCAL,PARA TEMAS DE PLANEACIÓN PROYECTOS CULTURALES, PARA LOGRAR EL CUMPLIMIENTO DE LAS METAS DEL PLAN DE DESARROLLO LOCAL 2021 - 2024","Inversión","Un nuevo contrato social y ambiental para la Bogotá del Siglo XXI",21,{"$f":"IF(ISERROR(VLOOKUP(K577,#REF!,2,FALSE)),\" \",VLOOKUP(K577,#REF!,2,FALSE))","v":" "},{"$f":"IF(ISERROR(VLOOKUP(K577,#REF!,3,FALSE)),\" \",VLOOKUP(K577,#REF!,3,FALSE))","v":" "},1803,0,80113110,"HAMID MARTINEZ RODRIGUEZ","Persona Natural",null,"N/A","N/A",null,13565100,0,0,0,{"$f":"+W577+X577+Z577","v":13565100},10671212,"2022-08-01","2022-08-03","2022-12-29",150,0,0,null,null,null,null,"Terminado",{"$f":"IF(ISERROR(AB577/AA577),\"-\",(AB577/AA577))","v":0.78666666666666663}]
["FDLSC-CPS-489-2022",2022,"FDLSC-CD-244-2022","https://community.secop.gov.co/Public/Tendering/OpportunityDetail/Index?noticeUID=CO1.NTC.3177048&isFromPublicArea=True&isModal=true&asPopupView=true","Contratos de prestación de servicios profesionales y de apoyo a la gestión","Contratación directa","Prestación de servicios profesionales y de apoyo a la gestión, o para la ejecución de trabajos artísticos que sólo puedan encomendarse a determinadas personas naturales","PRESTAR SUS SERVICIOS DE APOYO ASISTENCIAL EN EL ÁREA DE GESTIÓN DEL DESARROLLO LOCAL PARA QUE REALICE LAS ACTIVIDADES RELACIONADAS CON LÓGISTICA, ORGANIZACIÓN Y APOYO EN EVENTOS DE CULTURA DE LA ALCALDÍA LOCAL DE SAN CRISTÓBAL","Inversión","Un nuevo contrato social y ambiental para la Bogotá del Siglo XXI",21,{"$f":"IF(ISERROR(VLOOKUP(K578,#REF!,2,FALSE)),\" \",VLOOKUP(K578,#REF!,2,FALSE))","v":" "},{"$f":"IF(ISERROR(VLOOKUP(K578,#REF!,3,FALSE)),\" \",VLOOKUP(K578,#REF!,3,FALSE))","v":" "},1803,0,79788611,"ANDREI GERARDO ROA SABOYA","Persona Natural",null,"N/A","N/A",null,10852000,0,1,2713000,{"$f":"+W578+X578+Z578","v":13565000},8681600,"2022-08-22","2022-08-25","2023-01-29",120,1,30,null,null,null,null,"En ejecución",{"$f":"IF(ISERROR(AB578/AA578),\"-\",(AB578/AA578))","v":0.64}]
["FDLSC-CPS-275-2022",2022,"FDLSC-CD-146-2022","https://community.secop.gov.co/Public/Tendering/OpportunityDetail/Index?noticeUID=CO1.NTC.2742226&isFromPublicArea=True&isModal=true&asPopupView=true","Contratos de prestación de servicios profesionales y de apoyo a la gestión","Contratación directa","Prestación de servicios profesionales y de apoyo a la gestión, o para la ejecución de trabajos artísticos que sólo puedan encomendarse a determinadas personas naturales","PRESTAR SUS SERVICIOS DE APOYO TECNICO PARA LA GESTION DE SEGUIMIENTO Y REPORTES RELACIONADOS CON EL SISTEMA INTEGRADO DE GESTION DE CALIDAD (SIG) ORIENTADO AL DESARROLLO EFICIENTE DE PROCESOS Y PROCEDIMIENTOS EN CUMPLIMIENTO A LAS METAS ESTABLECIDAS EN EL PLAN DE DESARROLLO LOCAL 2021- 2024 de acuerdo con lo contemplado en los proyectos 1873 SAN CRISTOBAL AL SERVICIO DE LA CIUDADANIA","Inversión","Un nuevo contrato social y ambiental para la Bogotá del Siglo XXI",57,{"$f":"IF(ISERROR(VLOOKUP(K579,#REF!,2,FALSE)),\" \",VLOOKUP(K579,#REF!,2,FALSE))","v":" "},{"$f":"IF(ISERROR(VLOOKUP(K579,#REF!,3,FALSE)),\" \",VLOOKUP(K579,#REF!,3,FALSE))","v":" "},1873,0,41929795,"NANCY RAMIREZ VASQUEZ","Persona Natural",null,"N/A","N/A",null,18000000,-4500000,0,0,{"$f":"+W579+X579+Z579","v":13500000},13400000,"2022-01-28","2022-02-02","2022-08-01",180,0,0,1023954145,"FRANCY MARCELA POVEDA GUTIERREZ","2022-06-16",4600000,"Liquidado",{"$f":"IF(ISERROR(AB579/AA579),\"-\",(AB579/AA579))","v":0.99259259259259258}]
["FDLSC-CPS-472-2022",2022,"FDLSC-CD-289-2022","https://community.secop.gov.co/Public/Tendering/OpportunityDetail/Index?noticeUID=CO1.NTC.3423378&isFromPublicArea=True&isModal=true&asPopupView=true\n","Contratos de prestación de servicios profesionales y de apoyo a la gestión","Contratación directa","Prestación de servicios profesionales y de apoyo a la gestión, o para la ejecución de trabajos artísticos que sólo puedan encomendarse a determinadas personas naturales","PRESTAR SERVICIOS TÉCNICOS BRINDANDOAPOYO EN LAS ACCIONES NECESARIAS PARA EL FORTALECIMIENTO DE LA GESTIÓN SOCIAL PEDAGÓGICA Y ACCIONES  TENDIENTES  A  ORIENTAR,  SOCIALIZAR  Y  FORTALECER  LOSESPACIOS DE INTERRELACIÓN  CON LA COMUNIDAD, RELACIONADOS CON LAS ESTRATEGIASY PROYECTOS DISTRITALES Y LOCALES.","Inversión","Un nuevo contrato social y ambiental para la Bogotá del Siglo XXI",57,{"$f":"IF(ISERROR(VLOOKUP(K580,#REF!,2,FALSE)),\" \",VLOOKUP(K580,#REF!,2,FALSE))","v":" "},{"$f":"IF(ISERROR(VLOOKUP(K580,#REF!,3,FALSE)),\" \",VLOOKUP(K580,#REF!,3,FALSE))","v":" "},1873,0,4287577,"JAIRO HUMBERTO GALVIS MALAVER","Persona Natural",null,"N/A","N/A",null,13446000,0,0,0,{"$f":"+W580+X580+Z580","v":13446000},5527800,"2022-10-20","2022-10-24","2023-01-23",90,0,0,null,null,null,null,"En ejecución",{"$f":"IF(ISERROR(AB580/AA580),\"-\",(AB580/AA580))","v":0.41111111111111109}]
[347,2021,"FDLSC-CPS-347-2021","https://community.secop.gov.co/Public/Tendering/OpportunityDetail/Index?noticeUID=CO1.NTC.2146647&isFromPublicArea=True&isModal=False","Contratos de prestación de servicios profesionales y de apoyo a la gestión","Contratación directa","Prestación de servicios profesionales y de apoyo a la gestión, o para la ejecución de trabajos artísticos que sólo puedan encomendarse a determinadas personas naturales","PRESTAR SERVICIOS DE APOYO A LA GESTIÓN PARA EL SEGUIMIENTO DEL CUMPLIMIENTO DE LOS PROCEDIMIENTOS ADMINISTRATIVOS, OPERATIVOS Y TÉCNICOS DEL PROYECTO RETO LOCAL Y LOS ASOCIADOS A LA INCLUSIÓN SOCIAL Y SEGURIDAD ECONÓMICA EN LA LOCALIDAD DE SAN CRISTÓBAL","Inversión","Un nuevo contrato social y ambiental para la Bogotá del Siglo XXI",1,{"$f":"IF(ISERROR(VLOOKUP(K581,#REF!,2,FALSE)),\" \",VLOOKUP(K581,#REF!,2,FALSE))","v":" "},{"$f":"IF(ISERROR(VLOOKUP(K581,#REF!,3,FALSE)),\" \",VLOOKUP(K581,#REF!,3,FALSE))","v":" "},1852,0,"79975882","GILDARDO HUMBERTO CLAVIJO RUIZ","Persona Natural","N/A","N/A","N/A",null,0,0,1,13219055,{"$f":"+W581+X581+Z581","v":13219055},12161530,"2022-06-08","2021-08-10","2022-11-09",450,1,150,"1010228763","ASLEY YURANY ROBAYO BELTRAN","2022-09-30",3260700,"Terminado",{"$f":"IF(ISERROR(AB581/AA581),\"-\",(AB581/AA581))","v":0.91999995461097639}]
["349",2021,"FDLSC-CPS-349-2021","https://community.secop.gov.co/Public/Tendering/OpportunityDetail/Index?noticeUID=CO1.NTC.2149587&isFromPublicArea=True&isModal=False","Contratos de prestación de servicios profesionales y de apoyo a la gestión","Contratación directa","Prestación de servicios profesionales y de apoyo a la gestión, o para la ejecución de trabajos artísticos que sólo puedan encomendarse a determinadas personas naturales","PRESTAR SERVICIOS DE APOYO A LA GESTIÓN PARA EL SEGUIMIENTO DEL CUMPLIMIENTO DE LOS PROCEDIMIENTOS ADMINISTRATIVOS, OPERATIVOS Y TÉCNICOS DEL PROYECTO ¿RETO LOCAL? Y LOS ASOCIADOS A LA INCLUSIÓN SOCIAL Y SEGURIDAD ECONÓMICA EN LA LOCALIDAD DE SAN CRISTÓBAL\n","Inversión","Un nuevo contrato social y ambiental para la Bogotá del Siglo XXI",1,{"$f":"IF(ISERROR(VLOOKUP(K582,#REF!,2,FALSE)),\" \",VLOOKUP(K582,#REF!,2,FALSE))","v":" "},{"$f":"IF(ISERROR(VLOOKUP(K582,#REF!,3,FALSE)),\" \",VLOOKUP(K582,#REF!,3,FALSE))","v":" "},1852,0,"80741952","EDWIN FERNANDO PEREZ CASTILLO","Persona Natural","N/A","N/A","N/A",null,0,0,1,13219055,{"$f":"+W582+X582+Z582","v":13219055},13219054,"2022-06-14","2021-08-17","2022-11-16",450,1,153,null,null,null,null,"Terminado",{"$f":"IF(ISERROR(AB582/AA582),\"-\",(AB582/AA582))","v":0.99999992435162721}]
["FDLSC-CPS-503-2022",2022,"FDLSC-CD-257-2022","https://community.secop.gov.co/Public/Tendering/OpportunityDetail/Index?noticeUID=CO1.NTC.3283522&isFromPublicArea=True&isModal=true&asPopupView=true","Contratos de prestación de servicios profesionales y de apoyo a la gestión","Contratación directa","Prestación de servicios profesionales y de apoyo a la gestión, o para la ejecución de trabajos artísticos que sólo puedan encomendarse a determinadas personas naturales","PRESTAR SUS SERVICIOS TÉCNICOS DE APOYO Y ASISTENCIA ADMINISTRATIVA AL ÁREA DE GESTIÓN DEL DESARROLLO LOCAL EN TEMAS DE PLANEACIÓN","Inversión","Un nuevo contrato social y ambiental para la Bogotá del Siglo XXI",57,{"$f":"IF(ISERROR(VLOOKUP(K583,#REF!,2,FALSE)),\" \",VLOOKUP(K583,#REF!,2,FALSE))","v":" "},{"$f":"IF(ISERROR(VLOOKUP(K583,#REF!,3,FALSE)),\" \",VLOOKUP(K583,#REF!,3,FALSE))","v":" "},1873,0,1030559747,"ANGELICA MARIA TORRES QUIROGA","Persona Natural",null,"N/A","N/A",null,13041000,0,0,0,{"$f":"+W583+X583+Z583","v":13041000},8818200,"2022-09-15","2022-09-20","2023-01-05",105,0,0,null,null,null,null,"En ejecución",{"$f":"IF(ISERROR(AB583/AA583),\"-\",(AB583/AA583))","v":0.67619047619047623}]
["FDLSC-CPS-528-2022",2022,"FDLSC-CD-274-2022","https://community.secop.gov.co/Public/Tendering/OpportunityDetail/Index?noticeUID=CO1.NTC.3337631&isFromPublicArea=True&isModal=true&asPopupView=true","Contratos de prestación de servicios profesionales y de apoyo a la gestión","Contratación directa","Prestación de servicios profesionales y de apoyo a la gestión, o para la ejecución de trabajos artísticos que sólo puedan encomendarse a determinadas personas naturales","PRESTAR SERVICIOS DE APOYO TÉCNICO EN EL ÁREA DE GESTIÓN POLICIVA CON LOS DIFERENTES PROCESOS Y ACTUACIONES ADMINISTRATIVAS EXISTENTES, INCLUIDA LA IMPLEMENTACIÓN DE TRAMITES DE VERIFICACIÓN, SOPORTE Y ACOMPAÑAMIENTO","Inversión","Un nuevo contrato social y ambiental para la Bogotá del Siglo XXI",57,{"$f":"IF(ISERROR(VLOOKUP(K584,#REF!,2,FALSE)),\" \",VLOOKUP(K584,#REF!,2,FALSE))","v":" "},{"$f":"IF(ISERROR(VLOOKUP(K584,#REF!,3,FALSE)),\" \",VLOOKUP(K584,#REF!,3,FALSE))","v":" "},1873,0,1030670671,"SANDRA MILENA GUZMAN ROMERO","Persona Natural",null,"N/A","N/A",null,12950000,0,0,0,{"$f":"+W584+X584+Z584","v":12950000},6906667,"2022-09-29","2022-10-05","2022-12-29",105,0,0,null,null,null,null,"Terminado",{"$f":"IF(ISERROR(AB584/AA584),\"-\",(AB584/AA584))","v":0.5333333590733591}]
["FDLSC-CPS-073-2022",2022,"FDLSC-CD-019-2022","https://community.secop.gov.co/Public/Tendering/OpportunityDetail/Index?noticeUID=CO1.NTC.2625216&isFromPublicArea=True&isModal=true&asPopupView=true","Contratos de prestación de servicios profesionales y de apoyo a la gestión","Contratación directa","Prestación de servicios profesionales y de apoyo a la gestión, o para la ejecución de trabajos artísticos que sólo puedan encomendarse a determinadas personas naturales","PRESTAR SUS SERVICIOS DE APOYO A  LA GESTIÓN AMBIENTAL EXTERNA DE LA ALCALDÍA LOCAL DE SAN CRISTÓBAL EN ESPACIO PÚBLICO QUE PRESENTA SITUACIONES AMBIENTALES CONFLICTIVAS Y A LAS COMPLEMENTARIAS DE LOS PROYECTOS AMBIENTALES DEL PLAN DE DESARROLLO UN NUEVO CONTRATO SOCIAL Y AMBIENTAL PARA SAN CRISTÓBAL.","Inversión","Un nuevo contrato social y ambiental para la Bogotá del Siglo XXI",28,{"$f":"IF(ISERROR(VLOOKUP(K585,#REF!,2,FALSE)),\" \",VLOOKUP(K585,#REF!,2,FALSE))","v":" "},{"$f":"IF(ISERROR(VLOOKUP(K585,#REF!,3,FALSE)),\" \",VLOOKUP(K585,#REF!,3,FALSE))","v":" "},1819,0,1023877293,"CRISTIAN CAMILO MORENO GARRIDO","Persona Natural",null,"N/A","N/A",null,14400000,-1600000,0,0,{"$f":"+W585+X585+Z585","v":12800000},12800000,"2022-01-28","2022-01-29","2022-07-19",180,0,0,null,null,null,null,"Terminado",{"$f":"IF(ISERROR(AB585/AA585),\"-\",(AB585/AA585))","v":1}]
["FDLSC-CPS-507-2022",2022,"FDLSC-CD-259-2022","https://community.secop.gov.co/Public/Tendering/OpportunityDetail/Index?noticeUID=CO1.NTC.3309249&isFromPublicArea=True&isModal=true&asPopupView=true","Contratos de prestación de servicios profesionales y de apoyo a la gestión","Contratación directa","Prestación de servicios profesionales y de apoyo a la gestión, o para la ejecución de trabajos artísticos que sólo puedan encomendarse a determinadas personas naturales","PRESTAR SUS SERVICIOS TÉCNICOS PARAAPOYAR LA PRESENTACIÓN Y SEGUIMIENTO DE LOS PROYECTOS DE GESTIÓN DEPORTIVA, ACTIVIDAD FÍSICA Y RECREATIVA  Y  APOYO  EN  TODOS  LOS  PROCESOS  DEPORTIVOSDESARROLLADOS EN LA LOCALIDAD EN EL MARCO DEL PLAN DE DESARROLLO 2021-20242.2. ","Inversión","Un nuevo contrato social y ambiental para la Bogotá del Siglo XXI",20,{"$f":"IF(ISERROR(VLOOKUP(K586,#REF!,2,FALSE)),\" \",VLOOKUP(K586,#REF!,2,FALSE))","v":" "},{"$f":"IF(ISERROR(VLOOKUP(K586,#REF!,3,FALSE)),\" \",VLOOKUP(K586,#REF!,3,FALSE))","v":" "},1801,0,1032405028,"HARRISON SEBASTIAN POVEDA PATIÑO ","Persona Natural",null,"N/A","N/A",null,12788000,0,0,0,{"$f":"+W586+X586+Z586","v":12788000},6607133,"2022-09-23","2022-09-29","2023-01-28",120,0,0,null,null,null,null,"En ejecución",{"$f":"IF(ISERROR(AB586/AA586),\"-\",(AB586/AA586))","v":0.516666640600563}]
["FDLSC-CPS-439-2022",2022,"FDLSC-CD-193-2022","https://community.secop.gov.co/Public/Tendering/OpportunityDetail/Index?noticeUID=CO1.NTC.3111606&isFromPublicArea=True&isModal=true&asPopupView=true","Contratos de prestación de servicios profesionales y de apoyo a la gestión","Contratación directa","Prestación de servicios profesionales y de apoyo a la gestión, o para la ejecución de trabajos artísticos que sólo puedan encomendarse a determinadas personas naturales","PRESTAR SUS SERVICIOS ASISTENCIALES PARA EL FONDO DE DESARROLLO LOCAL EN EL PUNTO DE INFORMACION, ATENDIENDO LOS LINEAMIENTOS DE LA SECRETARIA DISTRITAL DE GOBIERNO","Inversión","Un nuevo contrato social y ambiental para la Bogotá del Siglo XXI",57,{"$f":"IF(ISERROR(VLOOKUP(K587,#REF!,2,FALSE)),\" \",VLOOKUP(K587,#REF!,2,FALSE))","v":" "},{"$f":"IF(ISERROR(VLOOKUP(K587,#REF!,3,FALSE)),\" \",VLOOKUP(K587,#REF!,3,FALSE))","v":" "},1873,0,80921002,"LEONARDO GARZON","Persona Natural",null,"N/A","N/A",null,12772000,0,0,0,{"$f":"+W587+X587+Z587","v":12772000},8429520,"2022-08-10","2022-08-19","2023-01-18",150,0,0,null,null,null,null,"En ejecución",{"$f":"IF(ISERROR(AB587/AA587),\"-\",(AB587/AA587))","v":0.66}]
["FDLSC-CPS-402-2022",2022,"FDLSC-CD-186-2022","https://community.secop.gov.co/Public/Tendering/OpportunityDetail/Index?noticeUID=CO1.NTC.3078890&isFromPublicArea=True&isModal=true&asPopupView=true","Contratos de prestación de servicios profesionales y de apoyo a la gestión","Contratación directa","Prestación de servicios profesionales y de apoyo a la gestión, o para la ejecución de trabajos artísticos que sólo puedan encomendarse a determinadas personas naturales","PRESTAR SUS SERVICIOS DE APOYO PARA REALIZAR LA CONDUCCIÓN DE LOS VEHÍCULOS LIVIANOS, PESADOS Y/O MAQUINARIA PESADA QUE SE ENCUENTRE AL SERVICIO DE LAS ACTIVIDADES DESARROLLADAS EN EL FDL.","Inversión","Un nuevo contrato social y ambiental para la Bogotá del Siglo XXI",57,{"$f":"IF(ISERROR(VLOOKUP(K588,#REF!,2,FALSE)),\" \",VLOOKUP(K588,#REF!,2,FALSE))","v":" "},{"$f":"IF(ISERROR(VLOOKUP(K588,#REF!,3,FALSE)),\" \",VLOOKUP(K588,#REF!,3,FALSE))","v":" "},1873,0,79757778,"JUAN CARLOS PINZON BERMUDEZ","Persona Natural",null,"N/A","N/A",null,12772000,0,0,0,{"$f":"+W588+X588+Z588","v":12772000},9451280,"2022-08-08","2022-08-10","2022-12-31",150,0,0,null,null,null,null,"En ejecución",{"$f":"IF(ISERROR(AB588/AA588),\"-\",(AB588/AA588))","v":0.74}]
["FDLSC-CPS-398-2022",2022,"FDLSC-CD-186-2022","https://community.secop.gov.co/Public/Tendering/OpportunityDetail/Index?noticeUID=CO1.NTC.3078890&isFromPublicArea=True&isModal=true&asPopupView=true","Contratos de prestación de servicios profesionales y de apoyo a la gestión","Contratación directa","Prestación de servicios profesionales y de apoyo a la gestión, o para la ejecución de trabajos artísticos que sólo puedan encomendarse a determinadas personas naturales","PRESTAR SUS SERVICIOS DE APOYO PARA REALIZAR LA CONDUCCIÓN DE LOS VEHÍCULOS LIVIANOS, PESADOS Y/O MAQUINARIA PESADA QUE SE ENCUENTRE AL SERVICIO DE LAS ACTIVIDADES DESARROLLADAS EN EL FDL.","Inversión","Un nuevo contrato social y ambiental para la Bogotá del Siglo XXI",57,{"$f":"IF(ISERROR(VLOOKUP(K589,#REF!,2,FALSE)),\" \",VLOOKUP(K589,#REF!,2,FALSE))","v":" "},{"$f":"IF(ISERROR(VLOOKUP(K589,#REF!,3,FALSE)),\" \",VLOOKUP(K589,#REF!,3,FALSE))","v":" "},1873,0,1018426424,"JUAN CAMILO VARGAS PINZÓN","Persona Natural",null,"N/A","N/A",null,12772000,0,0,0,{"$f":"+W589+X589+Z589","v":12772000},10047307,"2022-08-02","2022-08-03","2023-01-02",150,0,0,null,null,null,null,"En ejecución",{"$f":"IF(ISERROR(AB589/AA589),\"-\",(AB589/AA589))","v":0.78666669276542434}]
["FDLSC-CPS-535-2022",2022,"FDLSC-CD-282-2022","https://community.secop.gov.co/Public/Tendering/OpportunityDetail/Index?noticeUID=CO1.NTC.3369541&isFromPublicArea=True&isModal=true&asPopupView=true","Contratos de prestación de servicios profesionales y de apoyo a la gestión","Contratación directa","Prestación de servicios profesionales y de apoyo a la gestión, o para la ejecución de trabajos artísticos que sólo puedan encomendarse a determinadas personas naturales","PRESTAR SUS SERVICIOS TÉCNICOS DE APOYO Y ASISTENCIA ADMINISTRATIVA AL ÁREA DE GESTIÓN DEL DESARROLLO LOCAL PARA TEMAS Y TRÁMITES DE DESPACHO, ACOMPAÑANDO EL DESARROLLO DE LOS PROCESOS REQUERIDOS PARA EL CUMPLIMIENTO DE LOS PROYECTOS DE INVERSIÓN.","Inversión","Un nuevo contrato social y ambiental para la Bogotá del Siglo XXI",57,{"$f":"IF(ISERROR(VLOOKUP(K590,#REF!,2,FALSE)),\" \",VLOOKUP(K590,#REF!,2,FALSE))","v":" "},{"$f":"IF(ISERROR(VLOOKUP(K590,#REF!,3,FALSE)),\" \",VLOOKUP(K590,#REF!,3,FALSE))","v":" "},1873,0,1023964322,"MAIRA VALENTINA RODRIGUEZ BUCHELLY","Persona Natural",null,"N/A","N/A",null,12600000,0,0,0,{"$f":"+W590+X590+Z590","v":12600000},6120000,"2022-10-06","2022-10-10","2023-01-24",105,0,0,null,null,null,null,"En ejecución",{"$f":"IF(ISERROR(AB590/AA590),\"-\",(AB590/AA590))","v":0.48571428571428571}]
["FDLSC-CPS-477-2022",2022,"FDLSC-CD-216-2022","https://community.secop.gov.co/Public/Tendering/OpportunityDetail/Index?noticeUID=CO1.NTC.3131876&isFromPublicArea=True&isModal=true&asPopupView=true","Contratos de prestación de servicios profesionales y de apoyo a la gestión","Contratación directa","Prestación de servicios profesionales y de apoyo a la gestión, o para la ejecución de trabajos artísticos que sólo puedan encomendarse a determinadas personas naturales","PRESTAR SUS SERVICIOS DE APOYO ASISTENCIAL PARA LA GESTIÓN DEL RIESGO, EN EL MARCO DE LOS VÍGIAS DEL RIESGO DE LA LOCALIDAD DE SAN CRISTÓBAL, A LA LUZ DEL PLAN DE DESARROLLO 2021-2024","Inversión","Un nuevo contrato social y ambiental para la Bogotá del Siglo XXI",30,{"$f":"IF(ISERROR(VLOOKUP(K591,#REF!,2,FALSE)),\" \",VLOOKUP(K591,#REF!,2,FALSE))","v":" "},{"$f":"IF(ISERROR(VLOOKUP(K591,#REF!,3,FALSE)),\" \",VLOOKUP(K591,#REF!,3,FALSE))","v":" "},1866,0,1023955885,"ANGIE PAOLA GUERRRERO LIS","Persona Natural",null,"N/A","N/A",null,10000000,0,1,2500000,{"$f":"+W591+X591+Z591","v":12500000},8083333,"2022-08-19","2022-08-24","2023-01-23",120,1,30,null,null,null,null,"En ejecución",{"$f":"IF(ISERROR(AB591/AA591),\"-\",(AB591/AA591))","v":0.64666663999999996}]
["FDLSC-CPS-444-2022",2022,"FDLSC-CD-216-2022","https://community.secop.gov.co/Public/Tendering/OpportunityDetail/Index?noticeUID=CO1.NTC.3131876&isFromPublicArea=True&isModal=true&asPopupView=true","Contratos de prestación de servicios profesionales y de apoyo a la gestión","Contratación directa","Prestación de servicios profesionales y de apoyo a la gestión, o para la ejecución de trabajos artísticos que sólo puedan encomendarse a determinadas personas naturales","PRESTAR SUS SERVICIOS DE APOYO ASISTENCIAL PARA LA GESTIÓN DEL RIESGO, EN EL MARCO DE LOS VÍGIAS DEL RIESGO DE LA LOCALIDAD DE SAN CRISTÓBAL, A LA LUZ DEL PLAN DE DESARROLLO 2021-2024.”","Inversión","Un nuevo contrato social y ambiental para la Bogotá del Siglo XXI",30,{"$f":"IF(ISERROR(VLOOKUP(K592,#REF!,2,FALSE)),\" \",VLOOKUP(K592,#REF!,2,FALSE))","v":" "},{"$f":"IF(ISERROR(VLOOKUP(K592,#REF!,3,FALSE)),\" \",VLOOKUP(K592,#REF!,3,FALSE))","v":" "},1866,0,1013581512,"JHON ALBERTO RODRIGUEZ CASTRILLON","Persona Natural",null,"N/A","N/A",null,10000000,0,1,2500000,{"$f":"+W592+X592+Z592","v":12500000},8500000,"2022-08-10","2022-08-19","2023-01-18",120,1,30,null,null,null,null,"En ejecución",{"$f":"IF(ISERROR(AB592/AA592),\"-\",(AB592/AA592))","v":0.68}]
["FDLSC-CPS-458-2022",2022,"FDLSC-CD-216-2022","https://community.secop.gov.co/Public/Tendering/OpportunityDetail/Index?noticeUID=CO1.NTC.3131876&isFromPublicArea=True&isModal=true&asPopupView=true","Contratos de prestación de servicios profesionales y de apoyo a la gestión","Contratación directa","Prestación de servicios profesionales y de apoyo a la gestión, o para la ejecución de trabajos artísticos que sólo puedan encomendarse a determinadas personas naturales","PRESTAR SUS SERVICIOS DE APOYO ASISTENCIAL PARA LA GESTIÓN DEL RIESGO, EN EL MARCO DE LOS VÍGIAS DEL RIESGO DE LA LOCALIDAD DE SAN CRISTÓBAL, A LA LUZ DEL PLAN DE DESARROLLO 2021-2024.","Inversión","Un nuevo contrato social y ambiental para la Bogotá del Siglo XXI",30,{"$f":"IF(ISERROR(VLOOKUP(K593,#REF!,2,FALSE)),\" \",VLOOKUP(K593,#REF!,2,FALSE))","v":" "},{"$f":"IF(ISERROR(VLOOKUP(K593,#REF!,3,FALSE)),\" \",VLOOKUP(K593,#REF!,3,FALSE))","v":" "},1866,0,1033807324,"NATALLY YULLIETH MORA BENAVIDES","Persona Natural",null,"N/A","N/A",null,10000000,0,1,2500000,{"$f":"+W593+X593+Z593","v":12500000},8500000,"2022-08-11","2022-08-19","2023-01-18",120,1,30,null,null,null,null,"En ejecución",{"$f":"IF(ISERROR(AB593/AA593),\"-\",(AB593/AA593))","v":0.68}]
["FDLSC-CPS-455-2022",2022,"FDLSC-CD-229-2022","https://community.secop.gov.co/Public/Tendering/OpportunityDetail/Index?noticeUID=CO1.NTC.3141858&isFromPublicArea=True&isModal=true&asPopupView=true","Contratos de prestación de servicios profesionales y de apoyo a la gestión","Contratación directa","Prestación de servicios profesionales y de apoyo a la gestión, o para la ejecución de trabajos artísticos que sólo puedan encomendarse a determinadas personas naturales","PRESTAR SUS  SERVICIOS  DE  APOYOASISTENCIAL  PARA  APOYAR  LA  GESTIÓN  DOCUMENTAL  DE  LA  ALCALDÍA  LOCAL  EN  LAIMPLEMENTACIÓN  DE  LOS  PROCESOS  DE  CLASIFICACIÓN,  ORDENACIÓN,  SELECCIÓNNATURAL, FOLIACIÓN, IDENTIFICACIÓN, LEVANTAMIENTO DE INVENTARIOS, ALMACENAMIENTOY APLICACIÓN DE PROTOCOLOS DE ELIMINACIÓN Y TRANSFERENCIAS DOCUMENTALES.","Inversión","Un nuevo contrato social y ambiental para la Bogotá del Siglo XXI",57,{"$f":"IF(ISERROR(VLOOKUP(K594,#REF!,2,FALSE)),\" \",VLOOKUP(K594,#REF!,2,FALSE))","v":" "},{"$f":"IF(ISERROR(VLOOKUP(K594,#REF!,3,FALSE)),\" \",VLOOKUP(K594,#REF!,3,FALSE))","v":" "},1873,0,51600104,"NELLY QUIJANO QUIJANO","Persona Natural",null,"N/A","N/A",null,12500000,0,0,0,{"$f":"+W594+X594+Z594","v":12500000},8583333,"2022-08-11","2022-08-18","2023-01-17",150,0,0,null,null,null,null,"En ejecución",{"$f":"IF(ISERROR(AB594/AA594),\"-\",(AB594/AA594))","v":0.68666663999999999}]
["FDLSC-CPS-562-2022",2022,"FDLSC-CD-301-2022","https://community.secop.gov.co/Public/Tendering/OpportunityDetail/Index?noticeUID=CO1.NTC.3468390&isFromPublicArea=True&isModal=true&asPopupView=true","Contratos de prestación de servicios profesionales y de apoyo a la gestión","Contratación directa","Prestación de servicios profesionales y de apoyo a la gestión, o para la ejecución de trabajos artísticos que sólo puedan encomendarse a determinadas personas naturales","PRESTAR SUS SERVICIOS PROFESIONALES PARA EL APOYO TÉCNICO DEL PROYECTO DE SEPARACIÓN EN LA FUENTE, A LA LUZ DEL PLAN DE DESARROLLO","Inversión","Un nuevo contrato social y ambiental para la Bogotá del Siglo XXI",38,{"$f":"IF(ISERROR(VLOOKUP(K595,#REF!,2,FALSE)),\" \",VLOOKUP(K595,#REF!,2,FALSE))","v":" "},{"$f":"IF(ISERROR(VLOOKUP(K595,#REF!,3,FALSE)),\" \",VLOOKUP(K595,#REF!,3,FALSE))","v":" "},1868,0,1092356634,"LIZETH MARGARITA ESTUPIÑAN CARMONA","Persona Natural",null,"N/A","N/A",null,9028000,0,0,3310267,{"$f":"+W595+X595+Z595","v":12338267},3310267,"2022-11-01","2022-11-09","2023-01-30",60,0,0,null,null,null,null,"En ejecución",{"$f":"IF(ISERROR(AB595/AA595),\"-\",(AB595/AA595))","v":0.26829270269479499}]
["FDLSC-CPS-306-2022",2022,"FDLSC-CD-158-2022","https://community.secop.gov.co/Public/Tendering/OpportunityDetail/Index?noticeUID=CO1.NTC.2760389&isFromPublicArea=True&isModal=true&asPopupView=true","Contratos de prestación de servicios profesionales y de apoyo a la gestión","Contratación directa","Prestación de servicios profesionales y de apoyo a la gestión, o para la ejecución de trabajos artísticos que sólo puedan encomendarse a determinadas personas naturales","PRESTAR LOS SERVICIOS TÉCNICOS PARA APOYAR GESTIÓN ADMINSITRATIVA DE LOS PROYECTOS DE ACUERDOS QUE PROMUEVAN LA FORMALIDAD Y EL ACCESO PARA EL APROVECHAMIENTO DEL ESPACIO PÚBLICO.","Inversión","Un nuevo contrato social y ambiental para la Bogotá del Siglo XXI",45,{"$f":"IF(ISERROR(VLOOKUP(K596,#REF!,2,FALSE)),\" \",VLOOKUP(K596,#REF!,2,FALSE))","v":" "},{"$f":"IF(ISERROR(VLOOKUP(K596,#REF!,3,FALSE)),\" \",VLOOKUP(K596,#REF!,3,FALSE))","v":" "},1835,0,84078105,"RAFAEL DARIO VELANDIA GONZALEZ","Persona Natural",null,"N/A","N/A",null,12320000,0,0,0,{"$f":"+W596+X596+Z596","v":12320000},12320000,"2022-01-28","2022-02-03","2022-06-02",120,0,0,null,null,null,null,"Terminado",{"$f":"IF(ISERROR(AB596/AA596),\"-\",(AB596/AA596))","v":1}]
[102779,2022,176886,"https://colombiacompra.gov.co/tienda-virtual-del-estado-colombiano/ordenes-compra/102779","Otros","Selección abreviada","Acuerdo marco de precios ","CONTRATAR LA ADQUISICIÓN DE EQUIPOS TECNOLÓGICOS QUE INCIDAN EN EL FORTALECIMIENTO INSTITUCIONAL Y FOMENTO DE LA PARTICIPACIÓN CIUDADANA A TRAVÉS DE LA ESTRATEGIA GOBIERNO ABIERTO - LOTE II: TABLETAS DIGITALES - (LOTE 5 ACUERDO MARCO DE PRECIOS)","Inversión","Un nuevo contrato social y ambiental para la Bogotá del Siglo XXI",57,{"$f":"IF(ISERROR(VLOOKUP(K597,#REF!,2,FALSE)),\" \",VLOOKUP(K597,#REF!,2,FALSE))","v":" "},{"$f":"IF(ISERROR(VLOOKUP(K597,#REF!,3,FALSE)),\" \",VLOOKUP(K597,#REF!,3,FALSE))","v":" "},1873,9,830026811,"XOREX DE COLOMBIA S A S","Persona Jurídica",null,"N/A","N/A",null,12296337,0,0,0,{"$f":"+W597+X597+Z597","v":12296337},0,"2022-12-21","2022-12-21","2023-06-20",180,0,0,null,null,null,null,"En ejecución",{"$f":"IF(ISERROR(AB597/AA597),\"-\",(AB597/AA597))","v":0}]
["FDLSC-CPS-522-2022",2022,"FDLSC-CD-270-2022","https://community.secop.gov.co/Public/Tendering/OpportunityDetail/Index?noticeUID=CO1.NTC.3342290&isFromPublicArea=True&isModal=true&asPopupView=true","Contratos de prestación de servicios profesionales y de apoyo a la gestión","Contratación directa","Prestación de servicios profesionales y de apoyo a la gestión, o para la ejecución de trabajos artísticos que sólo puedan encomendarse a determinadas personas naturales","PRESTAR LOS SERVICIOS TÉCNICOS PARALA OPERACIÓN, SEGUIMIENTO Y CUMPLIMIENTO DE LOS PROCESOS Y PROCEDIMIENTOS DELSERVICIO APOYOS ECONÓMICOS TIPO C, REQUERIDOS PARA EL OPORTUNO Y ADECUADO REGISTRO, CRUCE  Y  REPORTE  DE  LOS  DATOS  EN  EL  SISTEMA  MISIONAL  SIRBE,  QUECONTRIBUYAN A LA GARANTÍA DE LOS DERECHOS DE LA POBLACIÓN MAYOR EN EL MARCODE LA POLÍTICA PÚBLICA SOCIAL PARA EL ENVEJECIMIENTO Y LA VEJEZ EN EL DISTRITOCAPITAL A CARGO DE LA ALCALDÍA LOCAL","Inversión","Un nuevo contrato social y ambiental para la Bogotá del Siglo XXI",1,{"$f":"IF(ISERROR(VLOOKUP(K598,#REF!,2,FALSE)),\" \",VLOOKUP(K598,#REF!,2,FALSE))","v":" "},{"$f":"IF(ISERROR(VLOOKUP(K598,#REF!,3,FALSE)),\" \",VLOOKUP(K598,#REF!,3,FALSE))","v":" "},1852,0,1015451688,"MARIA JOSE OYOLA MORENO","Persona Natural",null,"N/A","N/A",null,12250000,0,0,0,{"$f":"+W598+X598+Z598","v":12250000},6416667,"2022-09-30","2022-10-06","2023-01-20",105,0,0,null,null,null,null,"En ejecución",{"$f":"IF(ISERROR(AB598/AA598),\"-\",(AB598/AA598))","v":0.52380955102040816}]
["FDLSC-CPS-405-2022",2022,"FDLSC-CD-191-2022","https://community.secop.gov.co/Public/Tendering/OpportunityDetail/Index?noticeUID=CO1.NTC.3099678&isFromPublicArea=True&isModal=true&asPopupView=true","Contratos de prestación de servicios profesionales y de apoyo a la gestión","Contratación directa","Prestación de servicios profesionales y de apoyo a la gestión, o para la ejecución de trabajos artísticos que sólo puedan encomendarse a determinadas personas naturales","APOYAR ADMINISTRATIVA Y ASISTENCIALMENTE A LAS INSPECCIONES DE POLICÍA DE LA LOCALIDAD","Inversión","Un nuevo contrato social y ambiental para la Bogotá del Siglo XXI",57,{"$f":"IF(ISERROR(VLOOKUP(K599,#REF!,2,FALSE)),\" \",VLOOKUP(K599,#REF!,2,FALSE))","v":" "},{"$f":"IF(ISERROR(VLOOKUP(K599,#REF!,3,FALSE)),\" \",VLOOKUP(K599,#REF!,3,FALSE))","v":" "},1873,0,1023909881,"YENIFER ALEJANDRA NIÑO VARGAS","Persona Natural",null,"N/A","N/A",null,9888000,0,1,2142400,{"$f":"+W599+X599+Z599","v":12030400},9640800,"2022-08-03","2022-08-04","2022-12-30",120,1,26,null,null,null,null,"Terminado",{"$f":"IF(ISERROR(AB599/AA599),\"-\",(AB599/AA599))","v":0.80136986301369861}]
["FDLSC-CPS-476-2022",2022,"FDLSC-CD-225-2022","https://community.secop.gov.co/Public/Tendering/OpportunityDetail/Index?noticeUID=CO1.NTC.3139767&isFromPublicArea=True&isModal=true&asPopupView=true","Contratos de prestación de servicios profesionales y de apoyo a la gestión","Contratación directa","Prestación de servicios profesionales y de apoyo a la gestión, o para la ejecución de trabajos artísticos que sólo puedan encomendarse a determinadas personas naturales","PRESTAR SUS SERVICIOS DE APOYO A LA GESTIÓN AMBIENTAL EXTERNA DE LA ALCALDÍA LOCAL DE SAN CRISTÓBAL EN ESPACIO PÚBLICO QUE PRESENTA SITUACIONES AMBIENTALES CONFLICTIVAS Y A LAS COMPLEMENTARIAS DE LOS PROYECTOS AMBIENTALES DEL PLAN DE DESARROLLO UN NUEVO CONTRATO SOCIAL Y AMBIENTAL PARA SAN CRISTÓBAL","Inversión","Un nuevo contrato social y ambiental para la Bogotá del Siglo XXI",28,{"$f":"IF(ISERROR(VLOOKUP(K600,#REF!,2,FALSE)),\" \",VLOOKUP(K600,#REF!,2,FALSE))","v":" "},{"$f":"IF(ISERROR(VLOOKUP(K600,#REF!,3,FALSE)),\" \",VLOOKUP(K600,#REF!,3,FALSE))","v":" "},1819,0,80416067,"MARCO ALONSO RUIZ GUIZA","Persona Natural",null,"N/A","N/A",null,12000000,0,0,0,{"$f":"+W600+X600+Z600","v":12000000},2960000,"2022-08-19","2022-08-24","2022-11-03",150,0,0,null,null,null,null,"Terminado",{"$f":"IF(ISERROR(AB600/AA600),\"-\",(AB600/AA600))","v":0.24666666666666667}]
["FDLSC-CPS-470-2022",2022,"FDLSC-CD-225-2022","https://community.secop.gov.co/Public/Tendering/OpportunityDetail/Index?noticeUID=CO1.NTC.3139767&isFromPublicArea=True&isModal=true&asPopupView=true","Contratos de prestación de servicios profesionales y de apoyo a la gestión","Contratación directa","Prestación de servicios profesionales y de apoyo a la gestión, o para la ejecución de trabajos artísticos que sólo puedan encomendarse a determinadas personas naturales","PRESTAR SUS SERVICIOS DE APOYO A LA GESTIÓN AMBIENTAL EXTERNA DE LA ALCALDÍA LOCAL DE SAN CRISTÓBAL EN ESPACIO PÚBLICO QUE PRESENTA SITUACIONES AMBIENTALES CONFLICTIVAS Y A LAS COMPLEMENTARIAS DE LOS PROYECTOS AMBIENTALES DEL PLAN DE DESARROLLO UN NUEVO CONTRATO SOCIAL Y AMBIENTAL PARA SAN CRISTÓBAL","Inversión","Un nuevo contrato social y ambiental para la Bogotá del Siglo XXI",28,{"$f":"IF(ISERROR(VLOOKUP(K601,#REF!,2,FALSE)),\" \",VLOOKUP(K601,#REF!,2,FALSE))","v":" "},{"$f":"IF(ISERROR(VLOOKUP(K601,#REF!,3,FALSE)),\" \",VLOOKUP(K601,#REF!,3,FALSE))","v":" "},1819,0,80240076,"ENDER ERNESTO BECERRA ROJANO","Persona Natural",null,"N/A","N/A",null,12000000,0,0,0,{"$f":"+W601+X601+Z601","v":12000000},7840000,"2022-08-12","2022-08-23","2023-01-22",150,0,0,null,null,null,null,"En ejecución",{"$f":"IF(ISERROR(AB601/AA601),\"-\",(AB601/AA601))","v":0.65333333333333332}]
["FDLSC-CPS-459-2022",2022,"FDLSC-CD-222-2022","https://community.secop.gov.co/Public/Tendering/OpportunityDetail/Index?noticeUID=CO1.NTC.3135427&isFromPublicArea=True&isModal=true&asPopupView=true","Contratos de prestación de servicios profesionales y de apoyo a la gestión","Contratación directa","Prestación de servicios profesionales y de apoyo a la gestión, o para la ejecución de trabajos artísticos que sólo puedan encomendarse a determinadas personas naturales","PRESTAR SUS SERVICIOS DE APOYO ASISTENCIAL PARA LA PROMOCIÓN DE LA SEPARACIÓN EN LA FUENTE Y RECICLAJE, A LA LUZ DEL PLAN DE DESARROLLO 2021-2024 UN NUEVO CONTRATO AMBIENTAL Y SOCIAL PARA SAN CRISTÓBAL","Inversión","Un nuevo contrato social y ambiental para la Bogotá del Siglo XXI",38,{"$f":"IF(ISERROR(VLOOKUP(K602,#REF!,2,FALSE)),\" \",VLOOKUP(K602,#REF!,2,FALSE))","v":" "},{"$f":"IF(ISERROR(VLOOKUP(K602,#REF!,3,FALSE)),\" \",VLOOKUP(K602,#REF!,3,FALSE))","v":" "},1868,0,52519743,"NANCY MILENA LOPEZ MOJICA","Persona Natural",null,"N/A","N/A",null,9600000,0,1,2400000,{"$f":"+W602+X602+Z602","v":12000000},7920000,"2022-08-22","2022-08-22","2023-01-21",120,1,30,null,null,null,null,"En ejecución",{"$f":"IF(ISERROR(AB602/AA602),\"-\",(AB602/AA602))","v":0.66}]
["FDLSC-CPS-447-2022",2022,"FDLSC-CD-222-2022","https://community.secop.gov.co/Public/Tendering/OpportunityDetail/Index?noticeUID=CO1.NTC.3135427&isFromPublicArea=True&isModal=true&asPopupView=true","Contratos de prestación de servicios profesionales y de apoyo a la gestión","Contratación directa","Prestación de servicios profesionales y de apoyo a la gestión, o para la ejecución de trabajos artísticos que sólo puedan encomendarse a determinadas personas naturales","PRESTAR SUS SERVICIOS DE APOYO ASISTENCIAL PARA LA PROMOCIÓN DE LA SEPARACIÓN EN LA FUENTE Y RECICLAJE, A LA LUZ DEL PLAN DE DESARROLLO 2021-2024 UN NUEVO CONTRATO AMBIENTAL Y SOCIAL PARA SAN CRISTÓBAL","Inversión","Un nuevo contrato social y ambiental para la Bogotá del Siglo XXI",38,{"$f":"IF(ISERROR(VLOOKUP(K603,#REF!,2,FALSE)),\" \",VLOOKUP(K603,#REF!,2,FALSE))","v":" "},{"$f":"IF(ISERROR(VLOOKUP(K603,#REF!,3,FALSE)),\" \",VLOOKUP(K603,#REF!,3,FALSE))","v":" "},1868,0,80069129,"RAFAEL ANTONIO PERDOMO MORENO","Persona Natural",null,"N/A","N/A",null,9600000,0,1,2400000,{"$f":"+W603+X603+Z603","v":12000000},8160000,"2022-08-11","2022-08-19","2023-01-18",120,1,30,null,null,null,null,"En ejecución",{"$f":"IF(ISERROR(AB603/AA603),\"-\",(AB603/AA603))","v":0.68}]
["FDLSC-CPS-451-2022",2022,"FDLSC-CD-225-2022","https://community.secop.gov.co/Public/Tendering/OpportunityDetail/Index?noticeUID=CO1.NTC.3139767&isFromPublicArea=True&isModal=true&asPopupView=true","Contratos de prestación de servicios profesionales y de apoyo a la gestión","Contratación directa","Prestación de servicios profesionales y de apoyo a la gestión, o para la ejecución de trabajos artísticos que sólo puedan encomendarse a determinadas personas naturales","PRESTAR SUS SERVICIOS DE APOYO A LA GESTIÓN AMBIENTAL EXTERNA DE LA ALCALDÍA LOCAL DE SAN CRISTÓBAL EN ESPACIO PÚBLICO QUE PRESENTA SITUACIONES AMBIENTALES CONFLICTIVAS Y A LAS COMPLEMENTARIAS DE LOS PROYECTOS AMBIENTALES DEL PLAN DE DESARROLLO UN NUEVO CONTRATO SOCIAL Y AMBIENTAL PARA SAN CRISTÓBAL","Inversión","Un nuevo contrato social y ambiental para la Bogotá del Siglo XXI",28,{"$f":"IF(ISERROR(VLOOKUP(K604,#REF!,2,FALSE)),\" \",VLOOKUP(K604,#REF!,2,FALSE))","v":" "},{"$f":"IF(ISERROR(VLOOKUP(K604,#REF!,3,FALSE)),\" \",VLOOKUP(K604,#REF!,3,FALSE))","v":" "},1819,0,1023880225,"JAHIR ANDRES MORENO VIATELLA","Persona Natural",null,"N/A","N/A",null,12000000,0,0,0,{"$f":"+W604+X604+Z604","v":12000000},8160000,"2022-08-11","2022-08-19","2023-01-18",150,0,0,null,null,null,null,"En ejecución",{"$f":"IF(ISERROR(AB604/AA604),\"-\",(AB604/AA604))","v":0.68}]
["FDLSC-CPS-463-2022",2022,"FDLSC-CD-222-2022","https://community.secop.gov.co/Public/Tendering/OpportunityDetail/Index?noticeUID=CO1.NTC.3135427&isFromPublicArea=True&isModal=true&asPopupView=true","Contratos de prestación de servicios profesionales y de apoyo a la gestión","Contratación directa","Prestación de servicios profesionales y de apoyo a la gestión, o para la ejecución de trabajos artísticos que sólo puedan encomendarse a determinadas personas naturales","PRESTAR SUS SERVICIOS DE APOYO ASISTENCIAL PARA LA PROMOCIÓN DE LA SEPARACIÓN EN LA FUENTE Y RECICLAJE, A LA LUZ DEL PLAN DE DESARROLLO 2021-2024 UN NUEVO CONTRATO AMBIENTAL Y SOCIAL PARA SAN CRISTÓBAL","Inversión","Un nuevo contrato social y ambiental para la Bogotá del Siglo XXI",38,{"$f":"IF(ISERROR(VLOOKUP(K605,#REF!,2,FALSE)),\" \",VLOOKUP(K605,#REF!,2,FALSE))","v":" "},{"$f":"IF(ISERROR(VLOOKUP(K605,#REF!,3,FALSE)),\" \",VLOOKUP(K605,#REF!,3,FALSE))","v":" "},1868,0,1022940781,"JENNIFER YULIANA RODRIGUEZ PEREZ","Persona Natural",null,"N/A","N/A",null,9600000,0,1,2400000,{"$f":"+W605+X605+Z605","v":12000000},8160000,"2022-08-11","2022-08-19","2023-01-18",120,1,30,null,null,null,null,"En ejecución",{"$f":"IF(ISERROR(AB605/AA605),\"-\",(AB605/AA605))","v":0.68}]
["FDLSC-CPS-392-2022",2022,"FDLSC-CD-183-2022","https://community.secop.gov.co/Public/Tendering/OpportunityDetail/Index?noticeUID=CO1.NTC.3065610&isFromPublicArea=True&isModal=true&asPopupView=true","Contratos de prestación de servicios profesionales y de apoyo a la gestión","Contratación directa","Prestación de servicios profesionales y de apoyo a la gestión, o para la ejecución de trabajos artísticos que sólo puedan encomendarse a determinadas personas naturales","PRESTAR SUS SERVICIOS ASISTENCIALES PARA APOYAR LA GESTIÓN LOCAL Y TERRITORIAL DE LOS TEMAS DE SEGURIDAD Y CONVIVENCIA CIUDADANA, EN EL MARCO DEL PLAN DE DESARROLLO LOCAL 2021-2024.","Inversión","Un nuevo contrato social y ambiental para la Bogotá del Siglo XXI",43,{"$f":"IF(ISERROR(VLOOKUP(K606,#REF!,2,FALSE)),\" \",VLOOKUP(K606,#REF!,2,FALSE))","v":" "},{"$f":"IF(ISERROR(VLOOKUP(K606,#REF!,3,FALSE)),\" \",VLOOKUP(K606,#REF!,3,FALSE))","v":" "},1824,0,79494348,"JAIME JIMENEZ ROJAS","Persona Natural",null,"N/A","N/A",null,12000000,0,0,0,{"$f":"+W606+X606+Z606","v":12000000},9280000,"2022-07-29","2022-08-05","2023-01-04",150,0,0,null,null,null,null,"En ejecución",{"$f":"IF(ISERROR(AB606/AA606),\"-\",(AB606/AA606))","v":0.77333333333333332}]
["FDLSC-CPS-397-2022",2022,"FDLSC-CD-183-2022","https://community.secop.gov.co/Public/Tendering/OpportunityDetail/Index?noticeUID=CO1.NTC.3065610&isFromPublicArea=True&isModal=true&asPopupView=true","Contratos de prestación de servicios profesionales y de apoyo a la gestión","Contratación directa","Prestación de servicios profesionales y de apoyo a la gestión, o para la ejecución de trabajos artísticos que sólo puedan encomendarse a determinadas personas naturales","PRESTAR SUS SERVICIOS ASISTENCIALES PARA APOYAR LA GESTIÓN LOCAL Y TERRITORIAL DE LOS TEMAS DE SEGURIDAD Y CONVIVENCIA CIUDADANA, EN EL MARCO DEL PLAN DE DESARROLLO LOCAL 2021-2024.","Inversión","Un nuevo contrato social y ambiental para la Bogotá del Siglo XXI",43,{"$f":"IF(ISERROR(VLOOKUP(K607,#REF!,2,FALSE)),\" \",VLOOKUP(K607,#REF!,2,FALSE))","v":" "},{"$f":"IF(ISERROR(VLOOKUP(K607,#REF!,3,FALSE)),\" \",VLOOKUP(K607,#REF!,3,FALSE))","v":" "},1824,0,1026280255,"LEIDY YINETH RODRIGUEZ MARTINEZ","Persona Natural",null,"N/A","N/A",null,12000000,0,0,0,{"$f":"+W607+X607+Z607","v":12000000},9440000,"2022-08-01","2022-08-03","2023-01-02",150,0,0,null,null,null,null,"En ejecución",{"$f":"IF(ISERROR(AB607/AA607),\"-\",(AB607/AA607))","v":0.78666666666666663}]
["FDLSC-CPS-385-2022",2022,"FDLSC-CD-183-2022","https://community.secop.gov.co/Public/Tendering/OpportunityDetail/Index?noticeUID=CO1.NTC.3065610&isFromPublicArea=True&isModal=true&asPopupView=true","Contratos de prestación de servicios profesionales y de apoyo a la gestión","Contratación directa","Prestación de servicios profesionales y de apoyo a la gestión, o para la ejecución de trabajos artísticos que sólo puedan encomendarse a determinadas personas naturales","PRESTAR SUS SERVICIOS ASISTENCIALES PARA APOYAR LA GESTIÓN LOCAL Y TERRITORIAL DE LOS TEMAS DE SEGURIDAD Y CONVIVENCIA CIUDADANA, EN EL MARCO DEL PLAN DE DESARROLLO LOCAL 2021-2024.","Inversión","Un nuevo contrato social y ambiental para la Bogotá del Siglo XXI",43,{"$f":"IF(ISERROR(VLOOKUP(K608,#REF!,2,FALSE)),\" \",VLOOKUP(K608,#REF!,2,FALSE))","v":" "},{"$f":"IF(ISERROR(VLOOKUP(K608,#REF!,3,FALSE)),\" \",VLOOKUP(K608,#REF!,3,FALSE))","v":" "},1824,0,1000618560,"CRISTIAN DAVID MORENO GÓMEZ","Persona Natural",null,"N/A","N/A",null,12000000,0,0,0,{"$f":"+W608+X608+Z608","v":12000000},9520000,"2022-07-29","2022-08-02","2023-01-01",150,0,0,null,null,null,null,"En ejecución",{"$f":"IF(ISERROR(AB608/AA608),\"-\",(AB608/AA608))","v":0.79333333333333333}]
["FDLSC-CPS-386-2022",2022,"FDLSC-CD-183-2022","https://community.secop.gov.co/Public/Tendering/OpportunityDetail/Index?noticeUID=CO1.NTC.3065610&isFromPublicArea=True&isModal=true&asPopupView=true","Contratos de prestación de servicios profesionales y de apoyo a la gestión","Contratación directa","Prestación de servicios profesionales y de apoyo a la gestión, o para la ejecución de trabajos artísticos que sólo puedan encomendarse a determinadas personas naturales","PRESTAR SUS SERVICIOS ASISTENCIALES PARA APOYAR LA GESTIÓN LOCAL Y TERRITORIAL DE LOS TEMAS DE SEGURIDAD Y CONVIVENCIA CIUDADANA, EN EL MARCO DEL PLAN DE DESARROLLO LOCAL 2021-2024.","Inversión","Un nuevo contrato social y ambiental para la Bogotá del Siglo XXI",43,{"$f":"IF(ISERROR(VLOOKUP(K609,#REF!,2,FALSE)),\" \",VLOOKUP(K609,#REF!,2,FALSE))","v":" "},{"$f":"IF(ISERROR(VLOOKUP(K609,#REF!,3,FALSE)),\" \",VLOOKUP(K609,#REF!,3,FALSE))","v":" "},1824,0,79812509,"JULIO ALEXANDER HENAO ESCUDERO","Persona Natural",null,"N/A","N/A",null,12000000,0,0,0,{"$f":"+W609+X609+Z609","v":12000000},9520000,"2022-07-29","2022-08-02","2023-01-01",150,0,0,null,null,null,null,"En ejecución",{"$f":"IF(ISERROR(AB609/AA609),\"-\",(AB609/AA609))","v":0.79333333333333333}]
["FDLSC-CPS-396-2022",2022,"FDLSC-CD-183-2022","https://community.secop.gov.co/Public/Tendering/OpportunityDetail/Index?noticeUID=CO1.NTC.3065610&isFromPublicArea=True&isModal=true&asPopupView=true","Contratos de prestación de servicios profesionales y de apoyo a la gestión","Contratación directa","Prestación de servicios profesionales y de apoyo a la gestión, o para la ejecución de trabajos artísticos que sólo puedan encomendarse a determinadas personas naturales","PRESTAR SUS SERVICIOS ASISTENCIALES PARA APOYAR LA GESTIÓN LOCAL Y TERRITORIAL DE LOS TEMAS DE SEGURIDAD Y CONVIVENCIA CIUDADANA, EN EL MARCO DEL PLAN DE DESARROLLO LOCAL 2021-2024.","Inversión","Un nuevo contrato social y ambiental para la Bogotá del Siglo XXI",43,{"$f":"IF(ISERROR(VLOOKUP(K610,#REF!,2,FALSE)),\" \",VLOOKUP(K610,#REF!,2,FALSE))","v":" "},{"$f":"IF(ISERROR(VLOOKUP(K610,#REF!,3,FALSE)),\" \",VLOOKUP(K610,#REF!,3,FALSE))","v":" "},1824,0,52882580,"LUZ FRANCY BARRERO GALLEGO","Persona Natural",null,"N/A","N/A",null,12000000,0,0,0,{"$f":"+W610+X610+Z610","v":12000000},9520000,"2022-07-29","2022-08-02","2023-01-01",150,0,0,null,null,null,null,"En ejecución",{"$f":"IF(ISERROR(AB610/AA610),\"-\",(AB610/AA610))","v":0.79333333333333333}]
["FDLSC-CPS-384-2022",2022,"FDLSC-CD-183-2022","https://community.secop.gov.co/Public/Tendering/OpportunityDetail/Index?noticeUID=CO1.NTC.3065610&isFromPublicArea=True&isModal=true&asPopupView=true","Contratos de prestación de servicios profesionales y de apoyo a la gestión","Contratación directa","Prestación de servicios profesionales y de apoyo a la gestión, o para la ejecución de trabajos artísticos que sólo puedan encomendarse a determinadas personas naturales","PRESTAR SUS SERVICIOS ASISTENCIALES PARA APOYAR LA GESTIÓN LOCAL Y TERRITORIAL DE LOS TEMAS DE SEGURIDAD Y CONVIVENCIA CIUDADANA, EN EL MARCO DEL PLAN DE DESARROLLO LOCAL 2021-2024.","Inversión","Un nuevo contrato social y ambiental para la Bogotá del Siglo XXI",43,{"$f":"IF(ISERROR(VLOOKUP(K611,#REF!,2,FALSE)),\" \",VLOOKUP(K611,#REF!,2,FALSE))","v":" "},{"$f":"IF(ISERROR(VLOOKUP(K611,#REF!,3,FALSE)),\" \",VLOOKUP(K611,#REF!,3,FALSE))","v":" "},1824,0,79810863,"LEONARDO FABIO ORDOÑEZ CHAVARRO","Persona Natural",null,"N/A","N/A",null,12000000,0,0,0,{"$f":"+W611+X611+Z611","v":12000000},9760000,"2022-07-26","2022-07-29","2022-12-28",150,0,0,null,null,null,null,"Terminado",{"$f":"IF(ISERROR(AB611/AA611),\"-\",(AB611/AA611))","v":0.81333333333333335}]
["FDLSC-CPS-391-2022",2022,"FDLSC-CD-183-2022","https://community.secop.gov.co/Public/Tendering/OpportunityDetail/Index?noticeUID=CO1.NTC.3065610&isFromPublicArea=True&isModal=true&asPopupView=true","Contratos de prestación de servicios profesionales y de apoyo a la gestión","Contratación directa","Prestación de servicios profesionales y de apoyo a la gestión, o para la ejecución de trabajos artísticos que sólo puedan encomendarse a determinadas personas naturales","PRESTAR SUS SERVICIOS ASISTENCIALES PARA APOYAR LA GESTIÓN LOCAL Y TERRITORIAL DE LOS TEMAS DE SEGURIDAD Y CONVIVENCIA CIUDADANA, EN EL MARCO DEL PLAN DE DESARROLLO LOCAL 2021-2024.","Inversión","Un nuevo contrato social y ambiental para la Bogotá del Siglo XXI",43,{"$f":"IF(ISERROR(VLOOKUP(K612,#REF!,2,FALSE)),\" \",VLOOKUP(K612,#REF!,2,FALSE))","v":" "},{"$f":"IF(ISERROR(VLOOKUP(K612,#REF!,3,FALSE)),\" \",VLOOKUP(K612,#REF!,3,FALSE))","v":" "},1824,0,79558626,"RICARDO SORA PARRA","Persona Natural",null,"N/A","N/A",null,12000000,0,0,0,{"$f":"+W612+X612+Z612","v":12000000},9760000,"2022-07-28","2022-07-29","2022-12-28",150,0,0,null,null,null,null,"Terminado",{"$f":"IF(ISERROR(AB612/AA612),\"-\",(AB612/AA612))","v":0.81333333333333335}]
["FDLSC-CPS-313-2022",2022,"FDLSC-CD-161-2022","https://community.secop.gov.co/Public/Tendering/OpportunityDetail/Index?noticeUID=CO1.NTC.2645583&isFromPublicArea=True&isModal=true&asPopupView=true","Contratos de prestación de servicios profesionales y de apoyo a la gestión","Contratación directa","Prestación de servicios profesionales y de apoyo a la gestión, o para la ejecución de trabajos artísticos que sólo puedan encomendarse a determinadas personas naturales","PRESTAR SUS SERVICIOS DE APOYO ASISTENCIAL EN LA ADMINISTRACIÓN LOCAL, PARA APOYAR LA EJECUCIÓN DEL PLAN INSTITUCIONAL DE GESTIÓN AMBIENTAL Y TODAS LAS ACTIVIDADES QUE SE DESARROLLEN EN EL MARCO DEL SEGUIMIENTO Y MEJORA CONTINUA DE LAS HERRAMIENTAS QUE CONFORMAN LA GESTION AMBIENTAL INSTITUCIONAL. ","Inversión","Un nuevo contrato social y ambiental para la Bogotá del Siglo XXI",57,{"$f":"IF(ISERROR(VLOOKUP(K613,#REF!,2,FALSE)),\" \",VLOOKUP(K613,#REF!,2,FALSE))","v":" "},{"$f":"IF(ISERROR(VLOOKUP(K613,#REF!,3,FALSE)),\" \",VLOOKUP(K613,#REF!,3,FALSE))","v":" "},1873,0,1106889643,"JOHANA CAROLINA GARCIA MONTENEGRO","Persona Natural",null,"N/A","N/A",null,12000000,0,0,0,{"$f":"+W613+X613+Z613","v":12000000},12000000,"2022-01-28","2022-02-05","2022-08-04",180,0,0,null,null,null,null,"Terminado",{"$f":"IF(ISERROR(AB613/AA613),\"-\",(AB613/AA613))","v":1}]
["FDLSC-CPS-557-2022",2022,"FDLSC-CD-297-2022","https://community.secop.gov.co/Public/Tendering/OpportunityDetail/Index?noticeUID=CO1.NTC.3450211&isFromPublicArea=True&isModal=False\n","Contratos de prestación de servicios profesionales y de apoyo a la gestión","Contratación directa","Prestación de servicios profesionales y de apoyo a la gestión, o para la ejecución de trabajos artísticos que sólo puedan encomendarse a determinadas personas naturales","PRESTAR SUS SERVICIOS TÉCNICOS PARA APOYAR LA EJECUCIÓN, SEGUIMIENTO Y VERIFICACIÓN DE LAS ACTIVIDADES DE GESTIÓN AMBIENTAL DE CAMPO EN LA LOCALIDAD DE SAN CRISTÓBAL.","Inversión","Un nuevo contrato social y ambiental para la Bogotá del Siglo XXI",57,{"$f":"IF(ISERROR(VLOOKUP(K614,#REF!,2,FALSE)),\" \",VLOOKUP(K614,#REF!,2,FALSE))","v":" "},{"$f":"IF(ISERROR(VLOOKUP(K614,#REF!,3,FALSE)),\" \",VLOOKUP(K614,#REF!,3,FALSE))","v":" "},1873,0,79848202,"JOHN JAIRO TACHA ESCOBAR","Persona Natural",null,"N/A","N/A",null,11700000,0,0,0,{"$f":"+W614+X614+Z614","v":11700000},3510000,"2022-10-27","2022-11-04","2023-02-03",90,0,0,null,null,null,null,"En ejecución",{"$f":"IF(ISERROR(AB614/AA614),\"-\",(AB614/AA614))","v":0.3}]
["FDLSC-CPS-516-2022",2022,"FDLSC-CD-265-2022","https://community.secop.gov.co/Public/Tendering/OpportunityDetail/Index?noticeUID=CO1.NTC.3318914&isFromPublicArea=True&isModal=true&asPopupView=true","Contratos de prestación de servicios profesionales y de apoyo a la gestión","Contratación directa","Prestación de servicios profesionales y de apoyo a la gestión, o para la ejecución de trabajos artísticos que sólo puedan encomendarse a determinadas personas naturales","PRESTAR SUS SERVICIOS TÉCNICOS PARA LA GESTIÓN DEL RIESGO, A LA LUZ DEL PLAN DE DESARROLLO 2021-2024 \"UN NUEVO CONTRATO AMBIENTAL Y SOCIAL PARA SAN CRISTÓBAL\".","Inversión","Un nuevo contrato social y ambiental para la Bogotá del Siglo XXI",30,{"$f":"IF(ISERROR(VLOOKUP(K615,#REF!,2,FALSE)),\" \",VLOOKUP(K615,#REF!,2,FALSE))","v":" "},{"$f":"IF(ISERROR(VLOOKUP(K615,#REF!,3,FALSE)),\" \",VLOOKUP(K615,#REF!,3,FALSE))","v":" "},1866,0,52750520,"DIANA CATERINE BUITRAGO GONZALEZ","Persona Natural",null,"N/A","N/A",null,11550000,0,0,0,{"$f":"+W615+X615+Z615","v":11550000},6270000,"2022-09-23","2022-10-04","2023-01-18",105,0,0,null,null,null,null,"En ejecución",{"$f":"IF(ISERROR(AB615/AA615),\"-\",(AB615/AA615))","v":0.54285714285714282}]
["FDLSC-CPS-515-2022",2022,"FDLSC-CD-265-2022","https://community.secop.gov.co/Public/Tendering/OpportunityDetail/Index?noticeUID=CO1.NTC.3318914&isFromPublicArea=True&isModal=true&asPopupView=true","Contratos de prestación de servicios profesionales y de apoyo a la gestión","Contratación directa","Prestación de servicios profesionales y de apoyo a la gestión, o para la ejecución de trabajos artísticos que sólo puedan encomendarse a determinadas personas naturales","PRESTAR SUS SERVICIOS TÉCNICOS PARA LA GESTIÓN DEL RIESGO, A LA LUZ DEL PLAN DE DESARROLLO 2021-2024 \"UN NUEVO CONTRATO AMBIENTAL Y SOCIAL PARA SAN CRISTÓBAL\".","Inversión","Un nuevo contrato social y ambiental para la Bogotá del Siglo XXI",30,{"$f":"IF(ISERROR(VLOOKUP(K616,#REF!,2,FALSE)),\" \",VLOOKUP(K616,#REF!,2,FALSE))","v":" "},{"$f":"IF(ISERROR(VLOOKUP(K616,#REF!,3,FALSE)),\" \",VLOOKUP(K616,#REF!,3,FALSE))","v":" "},1866,0,1012378140,"ANGIE PAOLA RODRIGUEZ HERNANDEZ","Persona Natural",null,"N/A","N/A",null,11550000,0,0,0,{"$f":"+W616+X616+Z616","v":11550000},6930000,"2022-09-26","2022-09-28","2023-01-12",120,0,0,null,null,null,null,"En ejecución",{"$f":"IF(ISERROR(AB616/AA616),\"-\",(AB616/AA616))","v":0.6}]
["FDLSC-CPS-556-2022",2022,"FDLSC-CD-296-2022","https://community.secop.gov.co/Public/Tendering/OpportunityDetail/Index?noticeUID=CO1.NTC.3446665&isFromPublicArea=True&isModal=true&asPopupView=true","Contratos de prestación de servicios profesionales y de apoyo a la gestión","Contratación directa","Prestación de servicios profesionales y de apoyo a la gestión, o para la ejecución de trabajos artísticos que sólo puedan encomendarse a determinadas personas naturales","PRESTAR SUS SERVICIOS DE PROFESIONAL EN PRENSA Y COMUNICACIONES DE LA ALCALDÍA LOCAL PARA APOYAR TECNICAMENTE TODAS A LAS ACTIVIDADES DESARROLLADAS EN EL MARCO DE LAS SOLICITUDES DE LA ADMINSITRACIÓN LOCAL.","Inversión","Un nuevo contrato social y ambiental para la Bogotá del Siglo XXI",57,{"$f":"IF(ISERROR(VLOOKUP(K617,#REF!,2,FALSE)),\" \",VLOOKUP(K617,#REF!,2,FALSE))","v":" "},{"$f":"IF(ISERROR(VLOOKUP(K617,#REF!,3,FALSE)),\" \",VLOOKUP(K617,#REF!,3,FALSE))","v":" "},1873,0,1032505505,"MATEO ALEXANDER REINA SUAREZ","Persona Natural",null,"N/A","N/A",null,11285000,0,0,0,{"$f":"+W617+X617+Z617","v":11285000},4062600,"2022-10-26","2022-11-04","2023-01-19",75,0,0,null,null,null,null,"En ejecución",{"$f":"IF(ISERROR(AB617/AA617),\"-\",(AB617/AA617))","v":0.36}]
["FDLSC-CPS-558-2022",2022,"FDLSC-CD-298-2022","https://community.secop.gov.co/Public/Tendering/OpportunityDetail/Index?noticeUID=CO1.NTC.3450291&isFromPublicArea=True&isModal=False","Contratos de prestación de servicios profesionales y de apoyo a la gestión","Contratación directa","Prestación de servicios profesionales y de apoyo a la gestión, o para la ejecución de trabajos artísticos que sólo puedan encomendarse a determinadas personas naturales","PRESTAR SUS SERVICIOS PROFESIONALES PARA LA GESTIÓN DEL RIESGO, A LA LUZ DEL PLAN DE DESARROLLO 2021-2024, UN NUEVO CONTRATO AMBIENTAL Y SOCIAL PARA SAN CRISTÓBAL","Inversión","Un nuevo contrato social y ambiental para la Bogotá del Siglo XXI",30,{"$f":"IF(ISERROR(VLOOKUP(K618,#REF!,2,FALSE)),\" \",VLOOKUP(K618,#REF!,2,FALSE))","v":" "},{"$f":"IF(ISERROR(VLOOKUP(K618,#REF!,3,FALSE)),\" \",VLOOKUP(K618,#REF!,3,FALSE))","v":" "},1866,0,1026302010,"JUSTINE MICHELL PEÑA RODRIGUEZ","Persona Natural",null,"N/A","N/A",null,11285000,0,0,0,{"$f":"+W618+X618+Z618","v":11285000},4514000,"2022-10-27","2022-11-01","2023-01-14",75,0,0,null,null,null,null,"En ejecución",{"$f":"IF(ISERROR(AB618/AA618),\"-\",(AB618/AA618))","v":0.4}]
["FDLSC-CPS-340-2022",2022,"FDLSC-CD-089-2022","https://community.secop.gov.co/Public/Tendering/OpportunityDetail/Index?noticeUID=CO1.NTC.2706066&isFromPublicArea=True&isModal=true&asPopupView=true","Contratos de prestación de servicios profesionales y de apoyo a la gestión","Contratación directa","Prestación de servicios profesionales y de apoyo a la gestión, o para la ejecución de trabajos artísticos que sólo puedan encomendarse a determinadas personas naturales","PRESTACIÓN DE SERVICIOS DE APOYO EN LA EJECUCIÓN DE ACTIVIDADES DE OBRA CIVIL, QUE CONLLEVEN AL MEJORAMIENTO Y ADECUACIÓN DEL ESPACIO PÚBLICO Y LA MALLA VIAL DE LA LOCALIDAD DE SAN CRISTÓBAL.","Inversión","Un nuevo contrato social y ambiental para la Bogotá del Siglo XXI",49,{"$f":"IF(ISERROR(VLOOKUP(K619,#REF!,2,FALSE)),\" \",VLOOKUP(K619,#REF!,2,FALSE))","v":" "},{"$f":"IF(ISERROR(VLOOKUP(K619,#REF!,3,FALSE)),\" \",VLOOKUP(K619,#REF!,3,FALSE))","v":" "},1871,0,80900945,"DIEGO ARMANDO PINZON BERMUDEZ","Persona Natural",null,"N/A","N/A",null,11280000,0,0,0,{"$f":"+W619+X619+Z619","v":11280000},11029333,"2022-01-28","2022-02-05","2022-08-04",180,0,0,null,null,null,null,"Terminado",{"$f":"IF(ISERROR(AB619/AA619),\"-\",(AB619/AA619))","v":0.97777774822695041}]
["FDLSC-CPS-189-2022",2022,"FDLSC-CD-089-2022","https://community.secop.gov.co/Public/Tendering/OpportunityDetail/Index?noticeUID=CO1.NTC.2706066&isFromPublicArea=True&isModal=true&asPopupView=true","Contratos de prestación de servicios profesionales y de apoyo a la gestión","Contratación directa","Prestación de servicios profesionales y de apoyo a la gestión, o para la ejecución de trabajos artísticos que sólo puedan encomendarse a determinadas personas naturales","PRESTACIÓN DE SERVICIOS DE APOYO EN LA EJECUCIÓN DE ACTIVIDADES DE OBRA CIVIL, QUE CONLLEVEN AL MEJORAMIENTO Y ADECUACIÓN DEL ESPACIO PÚBLICO Y LA MALLA VIAL DE LA LOCALIDAD DE SAN CRISTÓBAL.","Inversión","Un nuevo contrato social y ambiental para la Bogotá del Siglo XXI",49,{"$f":"IF(ISERROR(VLOOKUP(K620,#REF!,2,FALSE)),\" \",VLOOKUP(K620,#REF!,2,FALSE))","v":" "},{"$f":"IF(ISERROR(VLOOKUP(K620,#REF!,3,FALSE)),\" \",VLOOKUP(K620,#REF!,3,FALSE))","v":" "},1871,0,1023899819,"BRIAN HUMBERTO HERRERA PINO","Persona Natural",null,"N/A","N/A",null,11280000,0,0,0,{"$f":"+W620+X620+Z620","v":11280000},11280000,"2022-01-28","2022-04-18","2022-10-17",180,0,0,null,null,null,null,"Terminado",{"$f":"IF(ISERROR(AB620/AA620),\"-\",(AB620/AA620))","v":1}]
["FDLSC-CPS-514-2022",2022,"FDLSC-CD-266-2022","https://community.secop.gov.co/Public/Tendering/OpportunityDetail/Index?noticeUID=CO1.NTC.3333541&isFromPublicArea=True&isModal=true&asPopupView=true","Contratos de prestación de servicios profesionales y de apoyo a la gestión","Contratación directa","Prestación de servicios profesionales y de apoyo a la gestión, o para la ejecución de trabajos artísticos que sólo puedan encomendarse a determinadas personas naturales","PRESTAR SUS SERVICIOS TÉCNICOS DE APOYO PARA REVISAR, DIGITAR Y PROCESARLA INFORMACION SOLICITADA POR EL ALMACENISTA OPORTUNAMENTE SIGUIENDO LOS PROCESOS ESTABLECIDOS POR EL AREA","Inversión","Un nuevo contrato social y ambiental para la Bogotá del Siglo XXI",57,{"$f":"IF(ISERROR(VLOOKUP(K621,#REF!,2,FALSE)),\" \",VLOOKUP(K621,#REF!,2,FALSE))","v":" "},{"$f":"IF(ISERROR(VLOOKUP(K621,#REF!,3,FALSE)),\" \",VLOOKUP(K621,#REF!,3,FALSE))","v":" "},1873,0,1233890200,"SERGIO ENRIQUE DIAZ GONZALEZ","Persona Natural",null,"N/A","N/A",null,11235000,0,0,0,{"$f":"+W621+X621+Z621","v":11235000},6206000,"2022-09-28","2022-10-03","2023-01-17",105,0,0,null,null,null,null,"En ejecución",{"$f":"IF(ISERROR(AB621/AA621),\"-\",(AB621/AA621))","v":0.55238095238095242}]
["FDLSC-CPS-191-2022",2022,"FDLSC-CD-089-2022","https://community.secop.gov.co/Public/Tendering/OpportunityDetail/Index?noticeUID=CO1.NTC.2706066&isFromPublicArea=True&isModal=true&asPopupView=true","Contratos de prestación de servicios profesionales y de apoyo a la gestión","Contratación directa","Prestación de servicios profesionales y de apoyo a la gestión, o para la ejecución de trabajos artísticos que sólo puedan encomendarse a determinadas personas naturales","PRESTACIÓN DE SERVICIOS DE APOYO EN LA EJECUCIÓN DE ACTIVIDADES DE OBRA CIVIL, QUE CONLLEVEN AL MEJORAMIENTO Y ADECUACIÓN DEL ESPACIO PÚBLICO Y LA MALLA VIAL DE LA LOCALIDAD DE SAN CRISTÓBAL.","Inversión","Un nuevo contrato social y ambiental para la Bogotá del Siglo XXI",49,{"$f":"IF(ISERROR(VLOOKUP(K622,#REF!,2,FALSE)),\" \",VLOOKUP(K622,#REF!,2,FALSE))","v":" "},{"$f":"IF(ISERROR(VLOOKUP(K622,#REF!,3,FALSE)),\" \",VLOOKUP(K622,#REF!,3,FALSE))","v":" "},1871,0,79382793,"ELMER PINO PEREZ ","Persona Natural",null,"N/A","N/A",null,11232000,0,0,0,{"$f":"+W622+X622+Z622","v":11232000},11169600,"2022-01-28","2022-02-02","2022-08-01",180,0,0,null,null,null,null,"Terminado",{"$f":"IF(ISERROR(AB622/AA622),\"-\",(AB622/AA622))","v":0.99444444444444446}]
["FDLSC-CPS-574-2022",2022,"FDLSC-CD-288-2022","https://community.secop.gov.co/Public/Tendering/OpportunityDetail/Index?noticeUID=CO1.NTC.3489086&isFromPublicArea=True&isModal=true&asPopupView=true","Contratos de prestación de servicios profesionales y de apoyo a la gestión","Contratación directa","Prestación de servicios profesionales y de apoyo a la gestión, o para la ejecución de trabajos artísticos que sólo puedan encomendarse a determinadas personas naturales","PRESTAR SU SERVICIOS TÉCNICOS PARA EL APOYO A LOS PROCESOS DE PROTECCIÓN Y BIENESTAR ANIMAL DEL FONDO DE DESARROLLO LOCAL DE SAN CRÍSTOBAL EN MATERIA ADMINISTRATIVA, ASÍ COMO LABORES DE CAMPO","Inversión","Un nuevo contrato social y ambiental para la Bogotá del Siglo XXI",57,{"$f":"IF(ISERROR(VLOOKUP(K623,#REF!,2,FALSE)),\" \",VLOOKUP(K623,#REF!,2,FALSE))","v":" "},{"$f":"IF(ISERROR(VLOOKUP(K623,#REF!,3,FALSE)),\" \",VLOOKUP(K623,#REF!,3,FALSE))","v":" "},1873,0,1023894029,"KAROL ANDREA GONZALEZ CHAVARRO","Persona Natural",null,"N/A","N/A",null,11124000,0,0,0,{"$f":"+W623+X623+Z623","v":11124000},2472000,"2022-11-04","2022-11-11","2023-02-10",90,0,0,null,null,null,null,"En ejecución",{"$f":"IF(ISERROR(AB623/AA623),\"-\",(AB623/AA623))","v":0.22222222222222221}]
["FDLSC-CPS-492-2022",2022,"FDLSC-CD-248-2022","https://community.secop.gov.co/Public/Tendering/OpportunityDetail/Index?noticeUID=CO1.NTC.3199030&isFromPublicArea=True&isModal=true&asPopupView=true","Contratos de prestación de servicios profesionales y de apoyo a la gestión","Contratación directa","Prestación de servicios profesionales y de apoyo a la gestión, o para la ejecución de trabajos artísticos que sólo puedan encomendarse a determinadas personas naturales","PRESTAR SUS SERVICIOS PARA APOYAR LA CONDUCCIÓN, REALIZAR EL RESPECTIVO MANTENIMIENTO Y CORROBORAR SU FUNCIONAMIENTO A LOS VEHÍCULOS LIVIANOS Y/O MAQUINARIA PESADA QUE SE ENCUENTRAN AL SERVICIO DEL FONDO LOCAL DE SAN CRISTOBAL","Inversión","Un nuevo contrato social y ambiental para la Bogotá del Siglo XXI",49,{"$f":"IF(ISERROR(VLOOKUP(K624,#REF!,2,FALSE)),\" \",VLOOKUP(K624,#REF!,2,FALSE))","v":" "},{"$f":"IF(ISERROR(VLOOKUP(K624,#REF!,3,FALSE)),\" \",VLOOKUP(K624,#REF!,3,FALSE))","v":" "},1871,0,79355788,"CARLOS HECTOR PINZON BALLESTEROS","Persona Natural",null,"N/A","N/A",null,10880000,0,0,0,{"$f":"+W624+X624+Z624","v":10880000},7797333,"2022-08-26","2022-09-05","2022-12-28",120,0,0,null,null,null,null,"Terminado",{"$f":"IF(ISERROR(AB624/AA624),\"-\",(AB624/AA624))","v":0.71666663602941172}]
["FDLSC-CPS-602-2022",2022,"FDLSC-CD-331-2022","https://community.secop.gov.co/Public/Tendering/OpportunityDetail/Index?noticeUID=CO1.NTC.3606421&isFromPublicArea=True&isModal=true&asPopupView=true","Contratos de prestación de servicios profesionales y de apoyo a la gestión","Contratación directa","Prestación de servicios profesionales y de apoyo a la gestión, o para la ejecución de trabajos artísticos que sólo puedan encomendarse a determinadas personas naturales","PRESTAR SERVICIOS PROFESIONALES EN EL ÁREA DE GESTIÓN DE DESARROLLO LOCAL PARA LA FORMULACIÓN, EVALUACIÓN, PRESENTACIÓN Y SEGUIMIENTO A PROYECTOS DE INVERSIÓN LOCAL Y APOYAR LAS ACTIVIDADES DE PLANEACIÓN EN TEMAS ADMINISTRATIVOS Y EN LOS PROYECTOS DE INVERSIÓN LOCAL","Inversión","Un nuevo contrato social y ambiental para la Bogotá del Siglo XXI",57,{"$f":"IF(ISERROR(VLOOKUP(K625,#REF!,2,FALSE)),\" \",VLOOKUP(K625,#REF!,2,FALSE))","v":" "},{"$f":"IF(ISERROR(VLOOKUP(K625,#REF!,3,FALSE)),\" \",VLOOKUP(K625,#REF!,3,FALSE))","v":" "},1873,0,1073381365,"MARIAM ALEJANDRA ALARCON CANTOR ","Persona Natural",null,"N/A","N/A",null,10800000,0,0,0,{"$f":"+W625+X625+Z625","v":10800000},0,"2022-12-02","2022-12-15","2023-02-14",60,0,0,null,null,null,null,"En ejecución",{"$f":"IF(ISERROR(AB625/AA625),\"-\",(AB625/AA625))","v":0}]
["FDLSC-CPS-506-2022",2022,"FDLSC-CD-258-2022","https://community.secop.gov.co/Public/Tendering/OpportunityDetail/Index?noticeUID=CO1.NTC.3291175&isFromPublicArea=True&isModal=true&asPopupView=true","Contratos de prestación de servicios profesionales y de apoyo a la gestión","Contratación directa","Prestación de servicios profesionales y de apoyo a la gestión, o para la ejecución de trabajos artísticos que sólo puedan encomendarse a determinadas personas naturales","PRESTACIÓN DE SERVICIOS DE APOYO EN LA EJECUCIÓN DE ACTIVIDADES COMO RASTRILLERO DE OBRA CIVIL, QUE CONLLEVEN AL MEJORAMIENTO Y ADECUACIÓN DEL ESPACIO PÚBLICO Y MALLA VIAL DE LA LOCALIDAD DE SAN CRISTOBAL.","Inversión","Un nuevo contrato social y ambiental para la Bogotá del Siglo XXI",49,{"$f":"IF(ISERROR(VLOOKUP(K626,#REF!,2,FALSE)),\" \",VLOOKUP(K626,#REF!,2,FALSE))","v":" "},{"$f":"IF(ISERROR(VLOOKUP(K626,#REF!,3,FALSE)),\" \",VLOOKUP(K626,#REF!,3,FALSE))","v":" "},1871,0,14274149,"RICARDO RETAVISCA FAJARDO","Persona Natural",null,"N/A","N/A",null,10400000,0,0,0,{"$f":"+W626+X626+Z626","v":10400000},0,"2022-09-19",null,null,120,null,null,null,null,null,null,"Celebrado o por iniciar",{"$f":"IF(ISERROR(AB626/AA626),\"-\",(AB626/AA626))","v":0}]
["FDLSC-CPS-382-2022",2022,"FDLSC-CD-181-2022","https://community.secop.gov.co/Public/Tendering/OpportunityDetail/Index?noticeUID=CO1.NTC.3103253&isFromPublicArea=True&isModal=true&asPopupView=true","Contratos de prestación de servicios profesionales y de apoyo a la gestión","Contratación directa","Prestación de servicios profesionales y de apoyo a la gestión, o para la ejecución de trabajos artísticos que sólo puedan encomendarse a determinadas personas naturales","PRESTAR SUS SERVICIOS DE APOYO PARA REALIZAR LA CONDUCCIÓN DE LOS VEHÍCULOS LIVIANOS, PESADOS Y/O MAQUINARIA PESADA QUE SE ENCUENTRE AL SERVICIO DE LAS ACTIVIDADES DESARROLLADAS EN EL FDL.","Inversión","Un nuevo contrato social y ambiental para la Bogotá del Siglo XXI",57,{"$f":"IF(ISERROR(VLOOKUP(K627,#REF!,2,FALSE)),\" \",VLOOKUP(K627,#REF!,2,FALSE))","v":" "},{"$f":"IF(ISERROR(VLOOKUP(K627,#REF!,3,FALSE)),\" \",VLOOKUP(K627,#REF!,3,FALSE))","v":" "},1873,0,1016072674,"BRAYAN STICK BARBOSA CENDALES","Persona Natural",null,"N/A","N/A",null,10217600,0,0,0,{"$f":"+W627+X627+Z627","v":10217600},9451280,"2022-08-04","2022-08-10","2022-12-09",120,0,0,null,null,null,null,"Terminado",{"$f":"IF(ISERROR(AB627/AA627),\"-\",(AB627/AA627))","v":0.92500000000000004}]
["FDLSC-CPS-448-2022",2022,"FDLSC-CD-216-2022","https://community.secop.gov.co/Public/Tendering/OpportunityDetail/Index?noticeUID=CO1.NTC.3131876&isFromPublicArea=True&isModal=true&asPopupView=true","Contratos de prestación de servicios profesionales y de apoyo a la gestión","Contratación directa","Prestación de servicios profesionales y de apoyo a la gestión, o para la ejecución de trabajos artísticos que sólo puedan encomendarse a determinadas personas naturales","PRESTAR SUS SERVICIOS DE APOYO ASISTENCIAL PARA LA GESTIÓN DEL RIESGO, EN EL MARCO DE LOS VÍGIAS DEL RIESGO DE LA LOCALIDAD DE SAN CRISTÓBAL, A LA LUZ DEL PLAN DE DESARROLLO 2021-2024.","Inversión","Un nuevo contrato social y ambiental para la Bogotá del Siglo XXI",30,{"$f":"IF(ISERROR(VLOOKUP(K628,#REF!,2,FALSE)),\" \",VLOOKUP(K628,#REF!,2,FALSE))","v":" "},{"$f":"IF(ISERROR(VLOOKUP(K628,#REF!,3,FALSE)),\" \",VLOOKUP(K628,#REF!,3,FALSE))","v":" "},1866,0,79389118,"LEVIS HENRY PÁEZ HERNÁNDEZ","Persona Natural",null,"N/A","N/A",null,10000000,0,0,0,{"$f":"+W628+X628+Z628","v":10000000},7083333,"2022-08-26","2022-09-06","2023-01-05",120,0,0,null,null,null,null,"En ejecución",{"$f":"IF(ISERROR(AB628/AA628),\"-\",(AB628/AA628))","v":0.70833330000000005}]
["FDLSC-CPS-494-2022",2022,"FDLSC-CD-216-2022","https://community.secop.gov.co/Public/Tendering/OpportunityDetail/Index?noticeUID=CO1.NTC.3131876&isFromPublicArea=True&isModal=true&asPopupView=true","Contratos de prestación de servicios profesionales y de apoyo a la gestión","Contratación directa","Prestación de servicios profesionales y de apoyo a la gestión, o para la ejecución de trabajos artísticos que sólo puedan encomendarse a determinadas personas naturales","PRESTAR SUS SERVICIOS DE APOYO ASISTENCIAL PARA LA GESTIÓN DEL RIESGO, EN EL MARCO DE LOS VÍGIAS DEL RIESGO DE LA LOCALIDAD DE SAN CRISTÓBAL, A LA LUZ DEL PLAN DE DESARROLLO 2021-2024.\"","Inversión","Un nuevo contrato social y ambiental para la Bogotá del Siglo XXI",30,{"$f":"IF(ISERROR(VLOOKUP(K629,#REF!,2,FALSE)),\" \",VLOOKUP(K629,#REF!,2,FALSE))","v":" "},{"$f":"IF(ISERROR(VLOOKUP(K629,#REF!,3,FALSE)),\" \",VLOOKUP(K629,#REF!,3,FALSE))","v":" "},1866,0,1023905963,"DIANA KATERYN RONCANCIO ANGULO","Persona Natural",null,"N/A","N/A",null,10000000,0,0,0,{"$f":"+W629+X629+Z629","v":10000000},7083333,"2022-08-26","2022-09-06","2023-01-05",120,0,0,null,null,null,null,"En ejecución",{"$f":"IF(ISERROR(AB629/AA629),\"-\",(AB629/AA629))","v":0.70833330000000005}]
["FDLSC-CPS-475-2022",2022,"FDLSC-CD-216-2022","https://community.secop.gov.co/Public/Tendering/OpportunityDetail/Index?noticeUID=CO1.NTC.3131876&isFromPublicArea=True&isModal=true&asPopupView=true","Contratos de prestación de servicios profesionales y de apoyo a la gestión","Contratación directa","Prestación de servicios profesionales y de apoyo a la gestión, o para la ejecución de trabajos artísticos que sólo puedan encomendarse a determinadas personas naturales","PRESTAR SUS SERVICIOS DE APOYO ASISTENCIAL PARA LA GESTIÓN DEL RIESGO, EN EL MARCO DE LOS VÍGIAS DEL RIESGO DE LA LOCALIDAD DE SAN CRISTÓBAL, A LA LUZ DEL PLAN DE DESARROLLO 2021-2024.","Inversión","Un nuevo contrato social y ambiental para la Bogotá del Siglo XXI",30,{"$f":"IF(ISERROR(VLOOKUP(K630,#REF!,2,FALSE)),\" \",VLOOKUP(K630,#REF!,2,FALSE))","v":" "},{"$f":"IF(ISERROR(VLOOKUP(K630,#REF!,3,FALSE)),\" \",VLOOKUP(K630,#REF!,3,FALSE))","v":" "},1866,0,80812091,"YONI EDILSON CASTRO GALAN","Persona Natural",null,"N/A","N/A",null,10000000,0,0,0,{"$f":"+W630+X630+Z630","v":10000000},8083333,"2022-08-19","2022-08-24","2022-12-23",120,0,0,null,null,null,null,"Terminado",{"$f":"IF(ISERROR(AB630/AA630),\"-\",(AB630/AA630))","v":0.80833330000000003}]
["FDLSC-CPS-479-2022",2022,"FDLSC-CD-216-2022","https://community.secop.gov.co/Public/Tendering/OpportunityDetail/Index?noticeUID=CO1.NTC.3131876&isFromPublicArea=True&isModal=true&asPopupView=true","Contratos de prestación de servicios profesionales y de apoyo a la gestión","Contratación directa","Prestación de servicios profesionales y de apoyo a la gestión, o para la ejecución de trabajos artísticos que sólo puedan encomendarse a determinadas personas naturales","PRESTAR SUS SERVICIOS DE APOYO ASISTENCIAL PARA LA GESTIÓN DEL RIESGO, EN EL MARCO DE LOS VÍGIAS DEL RIESGO DE LA LOCALIDAD DE SAN CRISTÓBAL, A LA LUZ DEL PLAN DE DESARROLLO 2021-2024.","Inversión","Un nuevo contrato social y ambiental para la Bogotá del Siglo XXI",30,{"$f":"IF(ISERROR(VLOOKUP(K631,#REF!,2,FALSE)),\" \",VLOOKUP(K631,#REF!,2,FALSE))","v":" "},{"$f":"IF(ISERROR(VLOOKUP(K631,#REF!,3,FALSE)),\" \",VLOOKUP(K631,#REF!,3,FALSE))","v":" "},1866,0,79559730,"WILSON PINTO BARON","Persona Natural",null,"N/A","N/A",null,10000000,0,0,0,{"$f":"+W631+X631+Z631","v":10000000},8083333,"2022-08-19","2022-08-24","2022-12-23",120,0,0,null,null,null,null,"Terminado",{"$f":"IF(ISERROR(AB631/AA631),\"-\",(AB631/AA631))","v":0.80833330000000003}]
["FDLSC-CPS-436-2022",2022,"FDLSC-CD-216-2022","https://community.secop.gov.co/Public/Tendering/OpportunityDetail/Index?noticeUID=CO1.NTC.3131876&isFromPublicArea=True&isModal=true&asPopupView=true","Contratos de prestación de servicios profesionales y de apoyo a la gestión","Contratación directa","Prestación de servicios profesionales y de apoyo a la gestión, o para la ejecución de trabajos artísticos que sólo puedan encomendarse a determinadas personas naturales","PRESTAR SUS SERVICIOS DE APOYO ASISTENCIAL PARA LA GESTIÓN DEL RIESGO, EN EL MARCO DE LOS VÍGIAS DEL RIESGO DE LA LOCALIDAD DE SAN CRISTÓBAL, A LA LUZ DEL PLAN DE DESARROLLO 2021-2024.”","Inversión","Un nuevo contrato social y ambiental para la Bogotá del Siglo XXI",30,{"$f":"IF(ISERROR(VLOOKUP(K632,#REF!,2,FALSE)),\" \",VLOOKUP(K632,#REF!,2,FALSE))","v":" "},{"$f":"IF(ISERROR(VLOOKUP(K632,#REF!,3,FALSE)),\" \",VLOOKUP(K632,#REF!,3,FALSE))","v":" "},1866,0,1023891262,"JUNIOR GIOVANNY CASTELBLANCO BEJARANO","Persona Natural",null,"N/A","N/A",null,10000000,0,0,0,{"$f":"+W632+X632+Z632","v":10000000},8500000,"2022-08-10","2022-08-19","2022-12-18",120,0,0,null,null,null,null,"Terminado",{"$f":"IF(ISERROR(AB632/AA632),\"-\",(AB632/AA632))","v":0.85}]
["FDLSC-CPS-416-2022",2022,"FDLSC-CD-199-2022","https://community.secop.gov.co/Public/Tendering/OpportunityDetail/Index?noticeUID=CO1.NTC.3127949&isFromPublicArea=True&isModal=true&asPopupView=true","Contratos de prestación de servicios profesionales y de apoyo a la gestión","Contratación directa","Prestación de servicios profesionales y de apoyo a la gestión, o para la ejecución de trabajos artísticos que sólo puedan encomendarse a determinadas personas naturales","PRESTAR SUS SERVICIOS DE APOYO ASISTENCIAL PARA APOYAR LA GESTIÓN DOCUMENTAL DE LA ALCALDÍA LOCAL EN LA IMPLEMENTACIÓN DE LOS PROCESOS DE CLASIFICACIÓN, ORDENACIÓN, SELECCIÓN NATURAL, FOLIACIÓN, IDENTIFICACIÓN,LEVANTAMIENTO DE INVENTARIOS,  ALMACENAMIENTO Y APLICACIÓN DE PROTOCOLOS DE ELIMINACIÓN Y TRANSFERENCIAS DOCUMENTALES","Inversión","Un nuevo contrato social y ambiental para la Bogotá del Siglo XXI",57,{"$f":"IF(ISERROR(VLOOKUP(K633,#REF!,2,FALSE)),\" \",VLOOKUP(K633,#REF!,2,FALSE))","v":" "},{"$f":"IF(ISERROR(VLOOKUP(K633,#REF!,3,FALSE)),\" \",VLOOKUP(K633,#REF!,3,FALSE))","v":" "},1873,0,1023873323,"ZULMA ASTRID GASPAR MARTINEZ","Persona Natural",null,"N/A","N/A",null,10000000,0,0,0,{"$f":"+W633+X633+Z633","v":10000000},9166667,"2022-08-09","2022-08-11","2022-12-10",120,0,0,null,null,null,null,"Terminado",{"$f":"IF(ISERROR(AB633/AA633),\"-\",(AB633/AA633))","v":0.91666669999999995}]
["FDLSC-CPS-415-2022",2022,"FDLSC-CD-255-2022","https://community.secop.gov.co/Public/Tendering/OpportunityDetail/Index?noticeUID=CO1.NTC.3260512&isFromPublicArea=True&isModal=true&asPopupView=true","Contratos de prestación de servicios profesionales y de apoyo a la gestión","Contratación directa","Prestación de servicios profesionales y de apoyo a la gestión, o para la ejecución de trabajos artísticos que sólo puedan encomendarse a determinadas personas naturales","PRESTAR SUS SERVICIOS ASISTENCIALES PARA APOYAR LA GESTIÓN LOCAL Y TERRITORIAL DE LOS TEMAS DE SEGURIDAD Y CONVIVENCIA CIUDADANA, EN EL MARCO DEL PLAN DE DESARROLLO LOCAL 2021-2024.","Inversión","Un nuevo contrato social y ambiental para la Bogotá del Siglo XXI",43,{"$f":"IF(ISERROR(VLOOKUP(K634,#REF!,2,FALSE)),\" \",VLOOKUP(K634,#REF!,2,FALSE))","v":" "},{"$f":"IF(ISERROR(VLOOKUP(K634,#REF!,3,FALSE)),\" \",VLOOKUP(K634,#REF!,3,FALSE))","v":" "},1824,0,79416276,"JORGE OSWALDO PUENTES","Persona Natural",null,"N/A","N/A",null,9600000,0,0,0,{"$f":"+W634+X634+Z634","v":9600000},1280000,"2022-09-19","2022-11-15","2023-03-14",120,0,0,80127521,"ALEXANDER ARIZA","2022-11-11",8480000,"En ejecución",{"$f":"IF(ISERROR(AB634/AA634),\"-\",(AB634/AA634))","v":0.13333333333333333}]
["FDLSC-CPS-433-2022",2022,"FDLSC-CD-213-2022","https://community.secop.gov.co/Public/Tendering/OpportunityDetail/Index?noticeUID=CO1.NTC.3128587&isFromPublicArea=True&isModal=true&asPopupView=true","Contratos de prestación de servicios profesionales y de apoyo a la gestión","Contratación directa","Prestación de servicios profesionales y de apoyo a la gestión, o para la ejecución de trabajos artísticos que sólo puedan encomendarse a determinadas personas naturales","PRESTAR SUS SERVICIOS DE APOYO A LA GESTIÓN AMBIENTAL EXTERNA DE LA ALCALDÍA LOCAL DE SAN CRISTÓBAL EN ESPACIO PÚBLICO QUE PRESENTA SITUACIONES AMBIENTALES CONFLICTIVAS Y A LAS COMPLEMENTARIAS DE LOS PROYECTOS AMBIENTALES DEL PLAN DE DESARROLLO UN NUEVO CONTRATO SOCIAL Y AMBIENTAL PARA SAN CRISTÓBAL ","Inversión","Un nuevo contrato social y ambiental para la Bogotá del Siglo XXI",28,{"$f":"IF(ISERROR(VLOOKUP(K635,#REF!,2,FALSE)),\" \",VLOOKUP(K635,#REF!,2,FALSE))","v":" "},{"$f":"IF(ISERROR(VLOOKUP(K635,#REF!,3,FALSE)),\" \",VLOOKUP(K635,#REF!,3,FALSE))","v":" "},1819,0,1023946292,"DURLEY RUBIANO VARGAS","Persona Natural",null,"N/A","N/A",null,9600000,0,0,0,{"$f":"+W635+X635+Z635","v":9600000},3120000,"2022-08-10","2022-08-22","2022-12-21",120,0,0,null,null,null,null,"Terminado",{"$f":"IF(ISERROR(AB635/AA635),\"-\",(AB635/AA635))","v":0.32500000000000001}]
["FDLSC-CPS-505-2022",2022,"FDLSC-CD-255-2022","https://community.secop.gov.co/Public/Tendering/OpportunityDetail/Index?noticeUID=CO1.NTC.3260512&isFromPublicArea=True&isModal=true&asPopupView=true","Contratos de prestación de servicios profesionales y de apoyo a la gestión","Contratación directa","Prestación de servicios profesionales y de apoyo a la gestión, o para la ejecución de trabajos artísticos que sólo puedan encomendarse a determinadas personas naturales","PRESTAR SUS SERVICIOS ASISTENCIALES PARA APOYAR LA GESTIÓN LOCAL Y TERRITORIAL DE LOS TEMAS DE SEGURIDAD Y CONVIVENCIA CIUDADANA, EN EL MARCO DEL PLAN DE DESARROLLO LOCAL 2021-2024.","Inversión","Un nuevo contrato social y ambiental para la Bogotá del Siglo XXI",43,{"$f":"IF(ISERROR(VLOOKUP(K636,#REF!,2,FALSE)),\" \",VLOOKUP(K636,#REF!,2,FALSE))","v":" "},{"$f":"IF(ISERROR(VLOOKUP(K636,#REF!,3,FALSE)),\" \",VLOOKUP(K636,#REF!,3,FALSE))","v":" "},1824,0,1010187402,"JESUS DAVID LEON GALINDO","Persona Natural",null,"N/A","N/A",null,9600000,0,0,0,{"$f":"+W636+X636+Z636","v":9600000},4480000,"2022-09-30","2022-10-05","2023-02-04",120,0,0,null,null,null,null,"En ejecución",{"$f":"IF(ISERROR(AB636/AA636),\"-\",(AB636/AA636))","v":0.46666666666666667}]
["FDLSC-CPS-527-2022",2022,"FDLSC-CD-255-2022","https://community.secop.gov.co/Public/Tendering/OpportunityDetail/Index?noticeUID=CO1.NTC.3260512&isFromPublicArea=True&isModal=true&asPopupView=true","Contratos de prestación de servicios profesionales y de apoyo a la gestión","Contratación directa","Prestación de servicios profesionales y de apoyo a la gestión, o para la ejecución de trabajos artísticos que sólo puedan encomendarse a determinadas personas naturales","PRESTAR SUS SERVICIOS ASISTENCIALES PARA APOYAR LA GESTIÓN LOCAL Y TERRITORIAL DE LOS TEMAS DE SEGURIDAD Y CONVIVENCIA CIUDADANA, EN EL MARCO DEL PLAN DE DESARROLLO LOCAL 2021-2024.","Inversión","Un nuevo contrato social y ambiental para la Bogotá del Siglo XXI",43,{"$f":"IF(ISERROR(VLOOKUP(K637,#REF!,2,FALSE)),\" \",VLOOKUP(K637,#REF!,2,FALSE))","v":" "},{"$f":"IF(ISERROR(VLOOKUP(K637,#REF!,3,FALSE)),\" \",VLOOKUP(K637,#REF!,3,FALSE))","v":" "},1824,0,1014187285,"JUNIOR HUMBERTO CLAVIJO GUERRERO","Persona Natural",null,"N/A","N/A",null,9600000,0,0,0,{"$f":"+W637+X637+Z637","v":9600000},4480000,"2022-09-30","2022-10-05","2023-02-04",120,0,0,null,null,null,null,"En ejecución",{"$f":"IF(ISERROR(AB637/AA637),\"-\",(AB637/AA637))","v":0.46666666666666667}]
["FDLSC-CPS-504-2022",2022,"FDLSC-CD-255-2022","https://community.secop.gov.co/Public/Tendering/OpportunityDetail/Index?noticeUID=CO1.NTC.3260512&isFromPublicArea=True&isModal=true&asPopupView=true","Contratos de prestación de servicios profesionales y de apoyo a la gestión","Contratación directa","Prestación de servicios profesionales y de apoyo a la gestión, o para la ejecución de trabajos artísticos que sólo puedan encomendarse a determinadas personas naturales","PRESTAR SUS SERVICIOS ASISTENCIALES PARA APOYAR LA GESTIÓN LOCAL Y TERRITORIAL DE LOS TEMAS DE SEGURIDAD Y CONVIVENCIA CIUDADANA, EN EL MARCO DEL PLAN DE DESARROLLO LOCAL 2021-2024.","Inversión","Un nuevo contrato social y ambiental para la Bogotá del Siglo XXI",43,{"$f":"IF(ISERROR(VLOOKUP(K638,#REF!,2,FALSE)),\" \",VLOOKUP(K638,#REF!,2,FALSE))","v":" "},{"$f":"IF(ISERROR(VLOOKUP(K638,#REF!,3,FALSE)),\" \",VLOOKUP(K638,#REF!,3,FALSE))","v":" "},1824,0,79700471,"EDWIN FARLEY GUERRERO VARGAS","Persona Natural",null,"N/A","N/A",null,9600000,0,0,0,{"$f":"+W638+X638+Z638","v":9600000},5680000,"2022-09-15","2022-09-20","2023-01-19",120,0,0,null,null,null,null,"En ejecución",{"$f":"IF(ISERROR(AB638/AA638),\"-\",(AB638/AA638))","v":0.59166666666666667}]
["FDLSC-CPS-464-2022",2022,"FDLSC-CD-255-2022","https://community.secop.gov.co/Public/Tendering/OpportunityDetail/Index?noticeUID=CO1.NTC.3260512&isFromPublicArea=True&isModal=true&asPopupView=true","Contratos de prestación de servicios profesionales y de apoyo a la gestión","Contratación directa","Prestación de servicios profesionales y de apoyo a la gestión, o para la ejecución de trabajos artísticos que sólo puedan encomendarse a determinadas personas naturales","PRESTAR SUS SERVICIOS ASISTENCIALES PARA APOYAR LA GESTIÓN LOCAL Y TERRITORIAL DE LOS TEMAS DE SEGURIDAD Y CONVIVENCIA CIUDADANA, EN EL MARCO DEL PLAN DE DESARROLLO LOCAL 2021-2024.","Inversión","Un nuevo contrato social y ambiental para la Bogotá del Siglo XXI",43,{"$f":"IF(ISERROR(VLOOKUP(K639,#REF!,2,FALSE)),\" \",VLOOKUP(K639,#REF!,2,FALSE))","v":" "},{"$f":"IF(ISERROR(VLOOKUP(K639,#REF!,3,FALSE)),\" \",VLOOKUP(K639,#REF!,3,FALSE))","v":" "},1824,0,79560317,"EDGAR JAVIER FERNANDEZ BARRERO","Persona Natural",null,"N/A","N/A",null,9600000,0,0,0,{"$f":"+W639+X639+Z639","v":9600000},6240000,"2022-09-09","2022-09-13","2023-01-12",120,0,0,null,null,null,null,"En ejecución",{"$f":"IF(ISERROR(AB639/AA639),\"-\",(AB639/AA639))","v":0.65}]
["FDLSC-CPS-465-2022",2022,"FDLSC-CD-255-2022","https://community.secop.gov.co/Public/Tendering/OpportunityDetail/Index?noticeUID=CO1.NTC.3260512&isFromPublicArea=True&isModal=true&asPopupView=true","Contratos de prestación de servicios profesionales y de apoyo a la gestión","Contratación directa","Prestación de servicios profesionales y de apoyo a la gestión, o para la ejecución de trabajos artísticos que sólo puedan encomendarse a determinadas personas naturales","PRESTAR SUS SERVICIOS ASISTENCIALES PARA APOYAR LA GESTIÓN LOCAL Y TERRITORIAL DE LOS TEMAS DE SEGURIDAD Y CONVIVENCIA CIUDADANA, EN EL MARCO DEL PLAN DE DESARROLLO LOCAL 2021-2024.","Inversión","Un nuevo contrato social y ambiental para la Bogotá del Siglo XXI",43,{"$f":"IF(ISERROR(VLOOKUP(K640,#REF!,2,FALSE)),\" \",VLOOKUP(K640,#REF!,2,FALSE))","v":" "},{"$f":"IF(ISERROR(VLOOKUP(K640,#REF!,3,FALSE)),\" \",VLOOKUP(K640,#REF!,3,FALSE))","v":" "},1824,0,79706207,"MAURICIO COCUNUBO SERRATO","Persona Natural",null,"N/A","N/A",null,9600000,0,0,0,{"$f":"+W640+X640+Z640","v":9600000},6240000,"2022-09-09","2022-09-13","2023-01-12",120,0,0,null,null,null,null,"En ejecución",{"$f":"IF(ISERROR(AB640/AA640),\"-\",(AB640/AA640))","v":0.65}]
["FDLSC-CPS-480-2022",2022,"FDLSC-CD-238-2022","https://community.secop.gov.co/Public/Tendering/OpportunityDetail/Index?noticeUID=CO1.NTC.3184453&isFromPublicArea=True&isModal=true&asPopupView=true","Contratos de prestación de servicios profesionales y de apoyo a la gestión","Contratación directa","Prestación de servicios profesionales y de apoyo a la gestión, o para la ejecución de trabajos artísticos que sólo puedan encomendarse a determinadas personas naturales","APOYAR ADMINISTRATIVA Y ASISTENCIALMENTE EL AREA DE GESTION POLICIVA DE LA ALCALDIA LOCAL","Inversión","Un nuevo contrato social y ambiental para la Bogotá del Siglo XXI",57,{"$f":"IF(ISERROR(VLOOKUP(K641,#REF!,2,FALSE)),\" \",VLOOKUP(K641,#REF!,2,FALSE))","v":" "},{"$f":"IF(ISERROR(VLOOKUP(K641,#REF!,3,FALSE)),\" \",VLOOKUP(K641,#REF!,3,FALSE))","v":" "},1873,0,1026255402,"MARTHA PATRICIA ORTEGA OROZCO","Persona Natural",null,"N/A","N/A",null,9600000,0,0,0,{"$f":"+W641+X641+Z641","v":9600000},6720000,"2022-08-23","2022-09-07","2023-01-06",120,0,0,null,null,null,null,"En ejecución",{"$f":"IF(ISERROR(AB641/AA641),\"-\",(AB641/AA641))","v":0.7}]
["FDLSC-CPS-483-2022",2022,"FDLSC-CD-238-2022","https://community.secop.gov.co/Public/Tendering/OpportunityDetail/Index?noticeUID=CO1.NTC.3184453&isFromPublicArea=True&isModal=true&asPopupView=true","Contratos de prestación de servicios profesionales y de apoyo a la gestión","Contratación directa","Prestación de servicios profesionales y de apoyo a la gestión, o para la ejecución de trabajos artísticos que sólo puedan encomendarse a determinadas personas naturales","APOYAR ADMINISTRATIVA Y ASISTENCIALMENTE EL AREA DE GESTION POLICIVA DE LA ALCALDIA LOCAL","Inversión","Un nuevo contrato social y ambiental para la Bogotá del Siglo XXI",57,{"$f":"IF(ISERROR(VLOOKUP(K642,#REF!,2,FALSE)),\" \",VLOOKUP(K642,#REF!,2,FALSE))","v":" "},{"$f":"IF(ISERROR(VLOOKUP(K642,#REF!,3,FALSE)),\" \",VLOOKUP(K642,#REF!,3,FALSE))","v":" "},1873,0,1023954151,"IVAN FELIPE ALVARADO GÓMEZ","Persona Natural",null,"N/A","N/A",null,9600000,0,0,0,{"$f":"+W642+X642+Z642","v":9600000},6720000,"2022-08-26","2022-09-07","2023-01-06",120,0,0,null,null,null,null,"En ejecución",{"$f":"IF(ISERROR(AB642/AA642),\"-\",(AB642/AA642))","v":0.7}]
["FDLSC-CPS-493-2022",2022,"FDLSC-CD-200-2022","https://community.secop.gov.co/Public/Tendering/OpportunityDetail/Index?noticeUID=CO1.NTC.3126805&isFromPublicArea=True&isModal=true&asPopupView=true","Contratos de prestación de servicios profesionales y de apoyo a la gestión","Contratación directa","Prestación de servicios profesionales y de apoyo a la gestión, o para la ejecución de trabajos artísticos que sólo puedan encomendarse a determinadas personas naturales","PRESTAR SUS SERVICIOS ASISTENCIALES PARA APOYAR LA GESTIÓN LOCAL Y TERRITORIAL DE LOS TEMAS DE SEGURIDAD Y CONVIVENCIA CIUDADANA, EN EL MARCO DEL PLAN DE DESARROLLO LOCAL 2021-2024.","Inversión","Un nuevo contrato social y ambiental para la Bogotá del Siglo XXI",43,{"$f":"IF(ISERROR(VLOOKUP(K643,#REF!,2,FALSE)),\" \",VLOOKUP(K643,#REF!,2,FALSE))","v":" "},{"$f":"IF(ISERROR(VLOOKUP(K643,#REF!,3,FALSE)),\" \",VLOOKUP(K643,#REF!,3,FALSE))","v":" "},1824,0,1016097086,"DANIEL FEDERICO MORENO QUINTERO","Persona Natural",null,"N/A","N/A",null,9600000,0,0,0,{"$f":"+W643+X643+Z643","v":9600000},6720000,"2022-08-26","2022-09-07","2023-01-06",120,0,0,null,null,null,null,"En ejecución",{"$f":"IF(ISERROR(AB643/AA643),\"-\",(AB643/AA643))","v":0.7}]
["FDLSC-CPS-417-2022",2022,"FDLSC-CD-200-2022","https://community.secop.gov.co/Public/Tendering/OpportunityDetail/Index?noticeUID=CO1.NTC.3126805&isFromPublicArea=True&isModal=true&asPopupView=true","Contratos de prestación de servicios profesionales y de apoyo a la gestión","Contratación directa","Prestación de servicios profesionales y de apoyo a la gestión, o para la ejecución de trabajos artísticos que sólo puedan encomendarse a determinadas personas naturales","PRESTAR SUS SERVICIOS ASISTENCIALES PARA APOYAR LA GESTIÓN LOCAL Y TERRITORIAL DE LOS TEMAS DE SEGURIDAD Y CONVIVENCIA CIUDADANA, EN EL MARCO DEL PLAN DE DESARROLLO LOCAL 2021-2024","Inversión","Un nuevo contrato social y ambiental para la Bogotá del Siglo XXI",43,{"$f":"IF(ISERROR(VLOOKUP(K644,#REF!,2,FALSE)),\" \",VLOOKUP(K644,#REF!,2,FALSE))","v":" "},{"$f":"IF(ISERROR(VLOOKUP(K644,#REF!,3,FALSE)),\" \",VLOOKUP(K644,#REF!,3,FALSE))","v":" "},1824,0,1023871919,"MYRIAM MERCEDES CUBILLOS","Persona Natural",null,"N/A","N/A",null,9600000,0,0,0,{"$f":"+W644+X644+Z644","v":9600000},7920000,"2022-08-09","2022-08-22","2022-12-28",120,1,30,null,null,null,null,"Terminado",{"$f":"IF(ISERROR(AB644/AA644),\"-\",(AB644/AA644))","v":0.82499999999999996}]
["FDLSC-CPS-442-2022",2022,"FDLSC-CD-213-2022","https://community.secop.gov.co/Public/Tendering/OpportunityDetail/Index?noticeUID=CO1.NTC.3128587&isFromPublicArea=True&isModal=true&asPopupView=true","Contratos de prestación de servicios profesionales y de apoyo a la gestión","Contratación directa","Prestación de servicios profesionales y de apoyo a la gestión, o para la ejecución de trabajos artísticos que sólo puedan encomendarse a determinadas personas naturales","PRESTAR SUS SERVICIOS DE APOYO A LA GESTIÓN AMBIENTAL EXTERNA DE LA ALCALDÍA LOCAL DE SAN CRISTÓBAL EN ESPACIO PÚBLICO QUE PRESENTA SITUACIONES AMBIENTALES CONFLICTIVAS Y A LAS COMPLEMENTARIAS DE LOS PROYECTOS AMBIENTALES DEL PLAN DE DESARROLLO UN NUEVO CONTRATO SOCIAL Y AMBIENTAL PARA SAN CRISTÓBAL ","Inversión","Un nuevo contrato social y ambiental para la Bogotá del Siglo XXI",28,{"$f":"IF(ISERROR(VLOOKUP(K645,#REF!,2,FALSE)),\" \",VLOOKUP(K645,#REF!,2,FALSE))","v":" "},{"$f":"IF(ISERROR(VLOOKUP(K645,#REF!,3,FALSE)),\" \",VLOOKUP(K645,#REF!,3,FALSE))","v":" "},1819,0,1023925635,"MICHAEL STEVEN  RODRIGUEZ CASTRILLON","Persona Natural",null,"N/A","N/A",null,9600000,0,0,0,{"$f":"+W645+X645+Z645","v":9600000},8160000,"2022-08-10","2022-08-19","2022-12-18",120,0,0,null,null,null,null,"Terminado",{"$f":"IF(ISERROR(AB645/AA645),\"-\",(AB645/AA645))","v":0.85}]
["FDLSC-CPS-445-2022",2022,"FDLSC-CD-200-2022","https://community.secop.gov.co/Public/Tendering/OpportunityDetail/Index?noticeUID=CO1.NTC.3126805&isFromPublicArea=True&isModal=true&asPopupView=true","Contratos de prestación de servicios profesionales y de apoyo a la gestión","Contratación directa","Prestación de servicios profesionales y de apoyo a la gestión, o para la ejecución de trabajos artísticos que sólo puedan encomendarse a determinadas personas naturales","PRESTAR SUS SERVICIOS ASISTENCIALES PARA APOYAR LA GESTIÓN LOCAL Y TERRITORIAL DE LOS TEMAS DE SEGURIDAD Y CONVIVENCIA CIUDADANA, EN EL MARCO DEL PLAN DE DESARROLLO LOCAL 2021-2024","Inversión","Un nuevo contrato social y ambiental para la Bogotá del Siglo XXI",43,{"$f":"IF(ISERROR(VLOOKUP(K646,#REF!,2,FALSE)),\" \",VLOOKUP(K646,#REF!,2,FALSE))","v":" "},{"$f":"IF(ISERROR(VLOOKUP(K646,#REF!,3,FALSE)),\" \",VLOOKUP(K646,#REF!,3,FALSE))","v":" "},1824,0,79332571,"ROGER RAUL VELASCO SEGURA ","Persona Natural",null,"N/A","N/A",null,9600000,0,0,0,{"$f":"+W646+X646+Z646","v":9600000},8160000,"2022-08-10","2022-08-19","2022-12-18",120,0,0,null,null,null,null,"Terminado",{"$f":"IF(ISERROR(AB646/AA646),\"-\",(AB646/AA646))","v":0.85}]
["FDLSC-CPS-427-2022",2022,"FDLSC-CD-207-2022","https://community.secop.gov.co/Public/Tendering/OpportunityDetail/Index?noticeUID=CO1.NTC.3129479&isFromPublicArea=True&isModal=true&asPopupView=true","Contratos de prestación de servicios profesionales y de apoyo a la gestión","Contratación directa","Prestación de servicios profesionales y de apoyo a la gestión, o para la ejecución de trabajos artísticos que sólo puedan encomendarse a determinadas personas naturales","PRESTAR SUS SERVICIOS DE APOYO ASISTENCIAL AL FONDO DE DESARROLLO LOCAL DE SAN CRISTOBAL EN EL MARCO DEL PLAN DE DESARROLLO 2021- 2024 APOYANDO LA GESTIÓN ADMINISTRATIVA Y LOGISTICA DE ACUERDO A LAS NECESIDADES DEL FONDO","Inversión","Un nuevo contrato social y ambiental para la Bogotá del Siglo XXI",57,{"$f":"IF(ISERROR(VLOOKUP(K647,#REF!,2,FALSE)),\" \",VLOOKUP(K647,#REF!,2,FALSE))","v":" "},{"$f":"IF(ISERROR(VLOOKUP(K647,#REF!,3,FALSE)),\" \",VLOOKUP(K647,#REF!,3,FALSE))","v":" "},1873,0,1033733086,"LEIDY LORENA GOMEZ MEJIA","Persona Natural",null,"N/A","N/A",null,9600000,0,0,0,{"$f":"+W647+X647+Z647","v":9600000},8720000,"2022-08-09","2022-08-12","2022-12-11",120,0,0,null,null,null,null,"Terminado",{"$f":"IF(ISERROR(AB647/AA647),\"-\",(AB647/AA647))","v":0.90833333333333333}]
["FDLSC-CPS-547-2022",2022,"FDLSC-CD-286-2022","https://community.secop.gov.co/Public/Tendering/OpportunityDetail/Index?noticeUID=CO1.NTC.3407485&isFromPublicArea=True&isModal=true&asPopupView=true","Contratos de prestación de servicios profesionales y de apoyo a la gestión","Contratación directa","Prestación de servicios profesionales y de apoyo a la gestión, o para la ejecución de trabajos artísticos que sólo puedan encomendarse a determinadas personas naturales","PRESTACIÓN DE SERVICIOS TECNICOS, PARA EL LEVANTAMIENTO DE INFORMACIÓN, TRAMITES ADMINISTRATIVOS, ACOMPAÑAMIENTO Y ORIENTACIÓN, DERIVADOS DE LA ATENCIÓN A LA MUJER Y A LA COMUNIDAD, EN EL MARCO DEL PROYECTO 1811 Y EL PLAN DE DESARROLLO ","Inversión","Un nuevo contrato social y ambiental para la Bogotá del Siglo XXI",57,{"$f":"IF(ISERROR(VLOOKUP(K648,#REF!,2,FALSE)),\" \",VLOOKUP(K648,#REF!,2,FALSE))","v":" "},{"$f":"IF(ISERROR(VLOOKUP(K648,#REF!,3,FALSE)),\" \",VLOOKUP(K648,#REF!,3,FALSE))","v":" "},1873,0,53043900,"JENNY HERCILIA ANDRADE JIMENEZ","Persona Natural",null,"N/A","N/A",null,9591000,0,0,0,{"$f":"+W648+X648+Z648","v":9591000},3836400,"2022-10-25","2022-10-25","2023-01-24",90,0,0,null,null,null,null,"En ejecución",{"$f":"IF(ISERROR(AB648/AA648),\"-\",(AB648/AA648))","v":0.4}]
["FDLSC-CV-663-2022",2022,"FDLSC-MIC-013-2022","https://community.secop.gov.co/Public/Tendering/OpportunityDetail/Index?noticeUID=CO1.NTC.3652410&isFromPublicArea=True&isModal=true&asPopupView=true","Compraventa de bienes muebles","Contratación mínima cuantia","No aplica","CONTRATAR LA RENOVACIÓN DE LAS LICENCIAS DE LA SUITE ADOBE CREATIVE CLOUD Y AUTOCAD LT PARA EL FONDO DE DESARROLLO LOCAL DE SAN CRISTOBAL CRISTOBAL”","Inversión","Un nuevo contrato social y ambiental para la Bogotá del Siglo XXI",57,{"$f":"IF(ISERROR(VLOOKUP(K649,#REF!,2,FALSE)),\" \",VLOOKUP(K649,#REF!,2,FALSE))","v":" "},{"$f":"IF(ISERROR(VLOOKUP(K649,#REF!,3,FALSE)),\" \",VLOOKUP(K649,#REF!,3,FALSE))","v":" "},1873,3,830038304,"GOLD SYS LTDA","Persona Jurídica",null,"N/A","N/A",null,9542739,0,0,0,{"$f":"+W649+X649+Z649","v":9542739},0,"2022-12-27","2023-01-04","2023-03-31",90,0,0,null,null,null,null,"En ejecución",{"$f":"IF(ISERROR(AB649/AA649),\"-\",(AB649/AA649))","v":0}]
["FDLSC-CPS-577-2022",2022,"FDLSC-CD-309-2022","https://community.secop.gov.co/Public/Tendering/OpportunityDetail/Index?noticeUID=CO1.NTC.3514815&isFromPublicArea=True&isModal=true&asPopupView=true","Contratos de prestación de servicios profesionales y de apoyo a la gestión","Contratación directa","Prestación de servicios profesionales y de apoyo a la gestión, o para la ejecución de trabajos artísticos que sólo puedan encomendarse a determinadas personas naturales","PRESTAR SUS SERVICIOS TECNICOS PARA APOYAR LOS TEMAS ADMINISTRATIVOS EN EL MARCO DEL PLAN DE DESARROLLO 2021-2024","Inversión","Un nuevo contrato social y ambiental para la Bogotá del Siglo XXI",57,{"$f":"IF(ISERROR(VLOOKUP(K650,#REF!,2,FALSE)),\" \",VLOOKUP(K650,#REF!,2,FALSE))","v":" "},{"$f":"IF(ISERROR(VLOOKUP(K650,#REF!,3,FALSE)),\" \",VLOOKUP(K650,#REF!,3,FALSE))","v":" "},1873,0,52729476,"LILIANA PAOLA PEREA CRISTANCHO","Persona Natural",null,"N/A","N/A",null,7416000,0,1,1854000,{"$f":"+W650+X650+Z650","v":9270000},1854000,"2022-11-11","2022-11-16","2023-01-30",60,0,0,null,null,null,null,"En ejecución",{"$f":"IF(ISERROR(AB650/AA650),\"-\",(AB650/AA650))","v":0.2}]
["FDLSC-CPS-581-2022",2022,"FDLSC-CD-313-2022","https://community.secop.gov.co/Public/Tendering/OpportunityDetail/Index?noticeUID=CO1.NTC.3538593&isFromPublicArea=True&isModal=true&asPopupView=true","Contratos de prestación de servicios profesionales y de apoyo a la gestión","Contratación directa","Prestación de servicios profesionales y de apoyo a la gestión, o para la ejecución de trabajos artísticos que sólo puedan encomendarse a determinadas personas naturales","PRESTAR SUS SERVICIOS PROFESIONALES PARA APOYAR EN LA FORMULACIÓN Y ACOMPAÑAMIENTO DE LOS ACUERDOS QUE PROMUEVAN LA FORMALIDAD, EL ACCESO PARA EL APROVECHAMIENTO DEL ESPACIO PÚBLICO","Inversión","Un nuevo contrato social y ambiental para la Bogotá del Siglo XXI",45,{"$f":"IF(ISERROR(VLOOKUP(K651,#REF!,2,FALSE)),\" \",VLOOKUP(K651,#REF!,2,FALSE))","v":" "},{"$f":"IF(ISERROR(VLOOKUP(K651,#REF!,3,FALSE)),\" \",VLOOKUP(K651,#REF!,3,FALSE))","v":" "},1835,0,1024478969,"ANDERSON ALBERTO GONZALEZ RODRIGUEZ","Persona Natural",null,"N/A","N/A",null,9028000,0,0,0,{"$f":"+W651+X651+Z651","v":9028000},1504666,"2022-11-18","2022-11-21","2023-01-20",60,0,0,null,null,null,null,"En ejecución",{"$f":"IF(ISERROR(AB651/AA651),\"-\",(AB651/AA651))","v":0.16666659282233054}]
["FDLSC-CPS-570-2022",2022,"FDLSC-CD-307-2022","https://community.secop.gov.co/Public/Tendering/OpportunityDetail/Index?noticeUID=CO1.NTC.3504222&isFromPublicArea=True&isModal=true&asPopupView=true","Contratos de prestación de servicios profesionales y de apoyo a la gestión","Contratación directa","Prestación de servicios profesionales y de apoyo a la gestión, o para la ejecución de trabajos artísticos que sólo puedan encomendarse a determinadas personas naturales","PRESTAR LOS SERVICIOS PROFESIONALES EN LA ALCALDIA LOCAL DE SAN CRISTÓBAL EN EL DESARROLLO DE ACTIVIDADES DE REACTIVACIÓN ECONÓMICA, ACOMPAÑAMIENTO EN CAMPO Y PARTICIPACIÓN EN LOS.PROCESOS NECESARIOS PARA LA CORRECTA EJECUCIÓN DE LOS EVENTOS RELACIONADOS Y DE LAS NECESIDADES DE LA ALCALDÍA LOCAL","Inversión","Un nuevo contrato social y ambiental para la Bogotá del Siglo XXI",6,{"$f":"IF(ISERROR(VLOOKUP(K652,#REF!,2,FALSE)),\" \",VLOOKUP(K652,#REF!,2,FALSE))","v":" "},{"$f":"IF(ISERROR(VLOOKUP(K652,#REF!,3,FALSE)),\" \",VLOOKUP(K652,#REF!,3,FALSE))","v":" "},1865,0,1136889669,"SABRINA ALEXANDRA PAEZ POSSE","Persona Natural",null,"N/A","N/A",null,9028000,0,0,0,{"$f":"+W652+X652+Z652","v":9028000},2407466,"2022-11-09","2022-11-15","2023-01-14",60,0,0,null,null,null,null,"En ejecución",{"$f":"IF(ISERROR(AB652/AA652),\"-\",(AB652/AA652))","v":0.26666659282233052}]
[96030,2022,166653,"https://colombiacompra.gov.co/tienda-virtual-del-estado-colombiano/ordenes-compra/96030","Otros","Selección abreviada","Acuerdo marco de precios ","ADQUIRIR LA ACTUALIZACIÓN Y SOPORTE PARA LAS LICENCIAS DE PROPIEDAD DEL FONDO DE DESARROLLO LOCAL DE SAN CRISTÓBAL,\nARCGIS BASIC SINGLE Y ARCGIS STANDARD CONCURRENT","Funcionamiento","Un nuevo contrato social y ambiental para la Bogotá del Siglo XXI","No aplica",{"$f":"IF(ISERROR(VLOOKUP(K653,#REF!,2,FALSE)),\" \",VLOOKUP(K653,#REF!,2,FALSE))","v":" "},{"$f":"IF(ISERROR(VLOOKUP(K653,#REF!,3,FALSE)),\" \",VLOOKUP(K653,#REF!,3,FALSE))","v":" "},3143,1,830122983,"ESRI COLOMBIA SAS","Persona Jurídica",null,"N/A","N/A",null,8845653,0,0,0,{"$f":"+W653+X653+Z653","v":8845653},8845653,"2022-09-14","2022-09-14","2023-03-21",180,0,0,null,null,null,null,"En ejecución",{"$f":"IF(ISERROR(AB653/AA653),\"-\",(AB653/AA653))","v":1}]
["FDLSC-CPS-544-2022",2022,"FDLSC-CD-268-2022","https://community.secop.gov.co/Public/Tendering/OpportunityDetail/Index?noticeUID=CO1.NTC.3331640&isFromPublicArea=True&isModal=true&asPopupView=true","Contratos de prestación de servicios profesionales y de apoyo a la gestión","Contratación directa","Prestación de servicios profesionales y de apoyo a la gestión, o para la ejecución de trabajos artísticos que sólo puedan encomendarse a determinadas personas naturales","PRESTAR SUS SERVICIOS DE APOYO ASISTENCIAL PARA LA PROMOCIÓN DE LA SEPARACIÓN EN LA FUENTE Y RECICLAJE, A LA LUZ DEL PLAN DE DESARROLLO 2021-2024 UN NUEVO CONTRATO AMBIENTAL Y SOCIAL PARA SAN CRISTÓBAL","Inversión","Un nuevo contrato social y ambiental para la Bogotá del Siglo XXI",38,{"$f":"IF(ISERROR(VLOOKUP(K654,#REF!,2,FALSE)),\" \",VLOOKUP(K654,#REF!,2,FALSE))","v":" "},{"$f":"IF(ISERROR(VLOOKUP(K654,#REF!,3,FALSE)),\" \",VLOOKUP(K654,#REF!,3,FALSE))","v":" "},1868,0,1023896072,"HEICENBER SMITH SABOGAL GARZON","Persona Natural",null,"N/A","N/A",null,8400000,0,0,0,{"$f":"+W654+X654+Z654","v":8400000},0,"2022-10-14","2022-10-20","2023-02-05",105,0,0,null,null,null,null,"En ejecución",{"$f":"IF(ISERROR(AB654/AA654),\"-\",(AB654/AA654))","v":0}]
["FDLSC-CPS-537-2022",2022,"FDLSC-CD-284-2022","https://community.secop.gov.co/Public/Tendering/OpportunityDetail/Index?noticeUID=CO1.NTC.3370224&isFromPublicArea=True&isModal=true&asPopupView=true","Contratos de prestación de servicios profesionales y de apoyo a la gestión","Contratación directa","Prestación de servicios profesionales y de apoyo a la gestión, o para la ejecución de trabajos artísticos que sólo puedan encomendarse a determinadas personas naturales","PRESTAR SUS SERVICIOS DE APOYO ASISTENCIAL PARA LA PROMOCIÓN DE LA SEPARACIÓN EN LA FUENTE Y RECICLAJE, A LA LUZ DEL PLAN DE DESARROLLO 2021-2024 UN NUEVO CONTRATO AMBIENTAL Y SOCIAL PARA SAN CRISTÓBAL","Inversión","Un nuevo contrato social y ambiental para la Bogotá del Siglo XXI",38,{"$f":"IF(ISERROR(VLOOKUP(K655,#REF!,2,FALSE)),\" \",VLOOKUP(K655,#REF!,2,FALSE))","v":" "},{"$f":"IF(ISERROR(VLOOKUP(K655,#REF!,3,FALSE)),\" \",VLOOKUP(K655,#REF!,3,FALSE))","v":" "},1868,0,30394841,"SANDRA JIMENA GUTIERREZ","Persona Natural",null,"N/A","N/A",null,8400000,0,0,0,{"$f":"+W655+X655+Z655","v":8400000},2400000,"2022-10-07","2022-10-20","2023-02-15",105,0,0,null,null,null,null,"En ejecución",{"$f":"IF(ISERROR(AB655/AA655),\"-\",(AB655/AA655))","v":0.2857142857142857}]
["FDLSC-CPS-545-2022",2022,"FDLSC-CD-284-2022","https://community.secop.gov.co/Public/Tendering/OpportunityDetail/Index?noticeUID=CO1.NTC.3370224&isFromPublicArea=True&isModal=true&asPopupView=true","Contratos de prestación de servicios profesionales y de apoyo a la gestión","Contratación directa","Prestación de servicios profesionales y de apoyo a la gestión, o para la ejecución de trabajos artísticos que sólo puedan encomendarse a determinadas personas naturales","PRESTAR SUS SERVICIOS DE APOYO ASISTENCIAL PARA LA PROMOCIÓN DE LA SEPARACIÓN EN LA FUENTE Y RECICLAJE, A LA LUZ DEL PLAN DE DESARROLLO 2021-2024 UN NUEVO CONTRATO AMBIENTAL Y SOCIAL PARA SAN CRISTÓBAL","Inversión","Un nuevo contrato social y ambiental para la Bogotá del Siglo XXI",38,{"$f":"IF(ISERROR(VLOOKUP(K656,#REF!,2,FALSE)),\" \",VLOOKUP(K656,#REF!,2,FALSE))","v":" "},{"$f":"IF(ISERROR(VLOOKUP(K656,#REF!,3,FALSE)),\" \",VLOOKUP(K656,#REF!,3,FALSE))","v":" "},1868,0,1000018579,"PAULA VALENTINA CHALA HERNANDEZ","Persona Natural",null,"N/A","N/A",null,8400000,0,0,0,{"$f":"+W656+X656+Z656","v":8400000},2960000,"2022-10-14","2022-10-24","2023-02-09",105,0,0,null,null,null,null,"En ejecución",{"$f":"IF(ISERROR(AB656/AA656),\"-\",(AB656/AA656))","v":0.35238095238095241}]
["FDLSC-CPS-546-2022",2022,"FDLSC-CD-284-2022","https://community.secop.gov.co/Public/Tendering/OpportunityDetail/Index?noticeUID=CO1.NTC.3370224&isFromPublicArea=True&isModal=true&asPopupView=true","Contratos de prestación de servicios profesionales y de apoyo a la gestión","Contratación directa","Prestación de servicios profesionales y de apoyo a la gestión, o para la ejecución de trabajos artísticos que sólo puedan encomendarse a determinadas personas naturales","PRESTAR SUS SERVICIOS DE APOYO ASISTENCIAL PARA LA PROMOCIÓN DE LA SEPARACIÓN EN LA FUENTE Y RECICLAJE, A LA LUZ DEL PLAN DE DESARROLLO 2021-2024 UN NUEVO CONTRATO AMBIENTAL Y SOCIAL PARA SAN CRISTÓBAL. ","Inversión","Un nuevo contrato social y ambiental para la Bogotá del Siglo XXI",38,{"$f":"IF(ISERROR(VLOOKUP(K657,#REF!,2,FALSE)),\" \",VLOOKUP(K657,#REF!,2,FALSE))","v":" "},{"$f":"IF(ISERROR(VLOOKUP(K657,#REF!,3,FALSE)),\" \",VLOOKUP(K657,#REF!,3,FALSE))","v":" "},1868,0,1007718327,"YULIANNY NATHZUMY HERNANDEZ GOMEZ ","Persona Natural",null,"N/A","N/A",null,8400000,0,0,0,{"$f":"+W657+X657+Z657","v":8400000},2960000,"2022-10-14","2022-10-24","2023-02-09",105,0,0,null,null,null,null,"En ejecución",{"$f":"IF(ISERROR(AB657/AA657),\"-\",(AB657/AA657))","v":0.35238095238095241}]
["FDLSC-CPS-540-2022",2022,"FDLSC-CD-284-2022","https://community.secop.gov.co/Public/Tendering/OpportunityDetail/Index?noticeUID=CO1.NTC.3370224&isFromPublicArea=True&isModal=true&asPopupView=true","Contratos de prestación de servicios profesionales y de apoyo a la gestión","Contratación directa","Prestación de servicios profesionales y de apoyo a la gestión, o para la ejecución de trabajos artísticos que sólo puedan encomendarse a determinadas personas naturales","PRESTAR SUS SERVICIOS DE APOYO ASISTENCIAL PARA LA PROMOCIÓN DE LA SEPARACIÓN EN LA FUENTE Y RECICLAJE, A LA LUZ DEL PLAN DE DESARROLLO 2021-2024 UN NUEVO CONTRATO AMBIENTAL Y SOCIAL PARA SAN CRISTÓBAL. ","Inversión","Un nuevo contrato social y ambiental para la Bogotá del Siglo XXI",38,{"$f":"IF(ISERROR(VLOOKUP(K658,#REF!,2,FALSE)),\" \",VLOOKUP(K658,#REF!,2,FALSE))","v":" "},{"$f":"IF(ISERROR(VLOOKUP(K658,#REF!,3,FALSE)),\" \",VLOOKUP(K658,#REF!,3,FALSE))","v":" "},1868,0,1023898424,"RUTH TERESA MEDINA ALBARRACIN","Persona Natural",null,"N/A","N/A",null,8400000,0,0,0,{"$f":"+W658+X658+Z658","v":8400000},3760000,"2022-10-11","2022-10-14","2023-01-29",105,0,0,null,null,null,null,"En ejecución",{"$f":"IF(ISERROR(AB658/AA658),\"-\",(AB658/AA658))","v":0.44761904761904764}]
["FDLSC-CPS-518-2022",2022,"FDLSC-CD-268-2022","https://community.secop.gov.co/Public/Tendering/OpportunityDetail/Index?noticeUID=CO1.NTC.3331640&isFromPublicArea=True&isModal=true&asPopupView=true","Contratos de prestación de servicios profesionales y de apoyo a la gestión","Contratación directa","Prestación de servicios profesionales y de apoyo a la gestión, o para la ejecución de trabajos artísticos que sólo puedan encomendarse a determinadas personas naturales","PRESTAR SUS SERVICIOS DE APOYO ASISTENCIAL PARA LA PROMOCIÓN DE LA SEPARACIÓN EN LA FUENTE Y RECICLAJE, A LA LUZ DEL PLAN DE DESARROLLO 2021-2024 UN NUEVO CONTRATO AMBIENTAL Y SOCIAL PARA SAN CRISTÓBAL","Inversión","Un nuevo contrato social y ambiental para la Bogotá del Siglo XXI",38,{"$f":"IF(ISERROR(VLOOKUP(K659,#REF!,2,FALSE)),\" \",VLOOKUP(K659,#REF!,2,FALSE))","v":" "},{"$f":"IF(ISERROR(VLOOKUP(K659,#REF!,3,FALSE)),\" \",VLOOKUP(K659,#REF!,3,FALSE))","v":" "},1868,0,79715430,"JOHN JAIRO DAZA REINOSO","Persona Natural",null,"N/A","N/A",null,8400000,0,0,0,{"$f":"+W659+X659+Z659","v":8400000},4560000,"2022-09-29","2022-10-04","2023-01-18",92,0,0,null,null,null,null,"En ejecución",{"$f":"IF(ISERROR(AB659/AA659),\"-\",(AB659/AA659))","v":0.54285714285714282}]
["FDLSC-CPS-519-2022",2022,"FDLSC-CD-268-2022","https://community.secop.gov.co/Public/Tendering/OpportunityDetail/Index?noticeUID=CO1.NTC.3331640&isFromPublicArea=True&isModal=true&asPopupView=true","Contratos de prestación de servicios profesionales y de apoyo a la gestión","Contratación directa","Prestación de servicios profesionales y de apoyo a la gestión, o para la ejecución de trabajos artísticos que sólo puedan encomendarse a determinadas personas naturales","PRESTAR SUS SERVICIOS DE APOYO ASISTENCIAL PARA LA PROMOCIÓN DE LA SEPARACIÓN EN LA FUENTE Y RECICLAJE, A LA LUZ DEL PLAN DE DESARROLLO 2021-2024 UN NUEVO CONTRATO AMBIENTAL Y SOCIAL PARA SAN CRISTÓBAL","Inversión","Un nuevo contrato social y ambiental para la Bogotá del Siglo XXI",38,{"$f":"IF(ISERROR(VLOOKUP(K660,#REF!,2,FALSE)),\" \",VLOOKUP(K660,#REF!,2,FALSE))","v":" "},{"$f":"IF(ISERROR(VLOOKUP(K660,#REF!,3,FALSE)),\" \",VLOOKUP(K660,#REF!,3,FALSE))","v":" "},1868,0,1023891897,"ROBINSON RUBIANO BARRIOS\t","Persona Natural",null,"N/A","N/A",null,8400000,0,0,0,{"$f":"+W660+X660+Z660","v":8400000},4560000,"2022-09-29","2022-10-04","2023-01-18",92,0,0,null,null,null,null,"En ejecución",{"$f":"IF(ISERROR(AB660/AA660),\"-\",(AB660/AA660))","v":0.54285714285714282}]
["FDLSC-CPS-520-2022",2022,"FDLSC-CD-268-2022","https://community.secop.gov.co/Public/Tendering/OpportunityDetail/Index?noticeUID=CO1.NTC.3331640&isFromPublicArea=True&isModal=true&asPopupView=true","Contratos de prestación de servicios profesionales y de apoyo a la gestión","Contratación directa","Prestación de servicios profesionales y de apoyo a la gestión, o para la ejecución de trabajos artísticos que sólo puedan encomendarse a determinadas personas naturales","PRESTAR SUS SERVICIOS DE APOYO ASISTENCIAL PARA LA PROMOCIÓN DE LA SEPARACIÓN EN LA FUENTE Y RECICLAJE, A LA LUZ DEL PLAN DE DESARROLLO 2021-2024 UN NUEVO CONTRATO AMBIENTAL Y SOCIAL PARA SAN CRISTÓBAL","Inversión","Un nuevo contrato social y ambiental para la Bogotá del Siglo XXI",38,{"$f":"IF(ISERROR(VLOOKUP(K661,#REF!,2,FALSE)),\" \",VLOOKUP(K661,#REF!,2,FALSE))","v":" "},{"$f":"IF(ISERROR(VLOOKUP(K661,#REF!,3,FALSE)),\" \",VLOOKUP(K661,#REF!,3,FALSE))","v":" "},1868,0,1000372330,"GERALDINE MENDEZ MESA","Persona Natural",null,"N/A","N/A",null,8400000,0,0,0,{"$f":"+W661+X661+Z661","v":8400000},4560000,"2022-09-29","2022-10-04","2023-01-18",92,0,0,null,null,null,null,"En ejecución",{"$f":"IF(ISERROR(AB661/AA661),\"-\",(AB661/AA661))","v":0.54285714285714282}]
["FDLSC-CPS-576-2022",2022,"FDLSC-CD-308-2022","https://community.secop.gov.co/Public/Tendering/OpportunityDetail/Index?noticeUID=CO1.NTC.3510810&isFromPublicArea=True&isModal=true&asPopupView=true","Contratos de prestación de servicios profesionales y de apoyo a la gestión","Contratación directa","Prestación de servicios profesionales y de apoyo a la gestión, o para la ejecución de trabajos artísticos que sólo puedan encomendarse a determinadas personas naturales","PRESTAR SUS SERVICIOS COMO APOYO TÉCNICO Y ADMINISTRATIVO A LOS TEMAS DE GESTIÓN DE RIESGOS INSTITUCIONAL DE LA ALCALDÍA LOCAL, EN EL MARCO DEL PROYECTO 1866 SAN CRISTÓBAL PREPARADA ANTE EMERGENCIAS","Inversión","Un nuevo contrato social y ambiental para la Bogotá del Siglo XXI",30,{"$f":"IF(ISERROR(VLOOKUP(K662,#REF!,2,FALSE)),\" \",VLOOKUP(K662,#REF!,2,FALSE))","v":" "},{"$f":"IF(ISERROR(VLOOKUP(K662,#REF!,3,FALSE)),\" \",VLOOKUP(K662,#REF!,3,FALSE))","v":" "},1866,0,79971734,"OSCAR JAVIER FAJARDO RODRIGUEZ","Persona Natural",null,"N/A","N/A",null,8000000,0,0,0,{"$f":"+W662+X662+Z662","v":8000000},1200000,"2022-11-15","2022-11-22","2023-01-21",60,0,0,null,null,null,null,"En ejecución",{"$f":"IF(ISERROR(AB662/AA662),\"-\",(AB662/AA662))","v":0.15}]
["FDLSC-CPS-469-2022",2022,"FDLSC-CD-233-2022","https://community.secop.gov.co/Public/Tendering/OpportunityDetail/Index?noticeUID=CO1.NTC.3162231&isFromPublicArea=True&isModal=true&asPopupView=true","Contratos de prestación de servicios profesionales y de apoyo a la gestión","Contratación directa","Prestación de servicios profesionales y de apoyo a la gestión, o para la ejecución de trabajos artísticos que sólo puedan encomendarse a determinadas personas naturales","PRESTAR  SUS  SERVICIOS  DE  APOYOASISTENCIAL  EN  LA  ADMINISTRACIÓN  LOCAL,  PARA  APOYAR    LA  EJECUCIÓN  DEL  PLANINSTITUCIONAL DE GESTIÓN AMBIENTAL Y TODAS LAS ACTIVIDADES QUE SE DESARROLLENEN  EL  MARCO  DEL  SEGUIMIENTO  Y  MEJORA  CONTINUA  DE  LAS  HERRAMIENTAS  QUECONFORMAN  LA  GESTION  AMBIENTAL  INSTITUCIONAL.","Inversión","Un nuevo contrato social y ambiental para la Bogotá del Siglo XXI",57,{"$f":"IF(ISERROR(VLOOKUP(K663,#REF!,2,FALSE)),\" \",VLOOKUP(K663,#REF!,2,FALSE))","v":" "},{"$f":"IF(ISERROR(VLOOKUP(K663,#REF!,3,FALSE)),\" \",VLOOKUP(K663,#REF!,3,FALSE))","v":" "},1873,0,1106889643,"JOHANA CAROLINA GARCIA MONTENEGRO","Persona Natural",null,"N/A","N/A",null,8000000,0,0,0,{"$f":"+W663+X663+Z663","v":8000000},6466667,"2022-08-18","2022-08-24","2022-12-23",120,0,0,null,null,null,null,"Terminado",{"$f":"IF(ISERROR(AB663/AA663),\"-\",(AB663/AA663))","v":0.80833337500000002}]
["FDLSC-CPS-580-2022",2022,"FDLSC-CD-311-2022","https://community.secop.gov.co/Public/Tendering/OpportunityDetail/Index?noticeUID=CO1.NTC.3542329&isFromPublicArea=True&isModal=true&asPopupView=true","Contratos de prestación de servicios profesionales y de apoyo a la gestión","Contratación directa","Prestación de servicios profesionales y de apoyo a la gestión, o para la ejecución de trabajos artísticos que sólo puedan encomendarse a determinadas personas naturales","PRESTAR SUS SERVICIOS TÉCNICOS PARA APOYAR LA EJECUCIÓN, SEGUIMIENTO Y VERIFICACIÓN DE LAS ACTIVIDADES DE GESTIÓN AMBIENTAL DE CAMPO EN LA LOCALIDAD DE SAN CRISTÓBAL.","Inversión","Un nuevo contrato social y ambiental para la Bogotá del Siglo XXI",33,{"$f":"IF(ISERROR(VLOOKUP(K664,#REF!,2,FALSE)),\" \",VLOOKUP(K664,#REF!,2,FALSE))","v":" "},{"$f":"IF(ISERROR(VLOOKUP(K664,#REF!,3,FALSE)),\" \",VLOOKUP(K664,#REF!,3,FALSE))","v":" "},1867,0,1023960371,"BRYAN DAVID PINEDA SILVA","Persona Natural",null,"N/A","N/A",null,7800000,0,0,0,{"$f":"+W664+X664+Z664","v":7800000},0,"2022-11-30","2022-11-30","2023-01-30",60,0,0,null,null,null,null,"En ejecución",{"$f":"IF(ISERROR(AB664/AA664),\"-\",(AB664/AA664))","v":0}]
["FDLSC-CPS-553-2022",2022,"FDLSC-CD-293-2022","https://community.secop.gov.co/Public/Tendering/OpportunityDetail/Index?noticeUID=CO1.NTC.3445355&isFromPublicArea=True&isModal=true&asPopupView=true","Contratos de prestación de servicios profesionales y de apoyo a la gestión","Contratación directa","Prestación de servicios profesionales y de apoyo a la gestión, o para la ejecución de trabajos artísticos que sólo puedan encomendarse a determinadas personas naturales","PRESTACIÓN DE SERVICIOS DE APOYO EN LAEJECUCIÓN DE ACTIVIDADES COMO RASTRILLERO DE OBRA CIVIL, QUE CONLLEVEN AL MEJORAMIENTO YADECUACIÓN DEL ESPACIO PÚBLICO Y MALLA VIAL DE LA LOCALIDAD DE SAN CRISTOBAL","Inversión","Un nuevo contrato social y ambiental para la Bogotá del Siglo XXI",33,{"$f":"IF(ISERROR(VLOOKUP(K665,#REF!,2,FALSE)),\" \",VLOOKUP(K665,#REF!,2,FALSE))","v":" "},{"$f":"IF(ISERROR(VLOOKUP(K665,#REF!,3,FALSE)),\" \",VLOOKUP(K665,#REF!,3,FALSE))","v":" "},1863,0,80101514,"JHON JAIRO SOLANO HUERTAS","Persona Natural",null,"N/A","N/A",null,5200000,0,1,2600000,{"$f":"+W665+X665+Z665","v":7800000},2686667,"2022-10-26","2022-10-31","2023-01-30",60,0,0,null,null,null,null,"En ejecución",{"$f":"IF(ISERROR(AB665/AA665),\"-\",(AB665/AA665))","v":0.34444448717948717}]
["FDLSC-CPS-554-2022",2022,"FDLSC-CD-294-2022","https://community.secop.gov.co/Public/Tendering/OpportunityDetail/Index?noticeUID=CO1.NTC.3446334&isFromPublicArea=True&isModal=true&asPopupView=true","Contratos de prestación de servicios profesionales y de apoyo a la gestión","Contratación directa","Prestación de servicios profesionales y de apoyo a la gestión, o para la ejecución de trabajos artísticos que sólo puedan encomendarse a determinadas personas naturales","PRESTACIÓN DE SERVICIOS DE APOYO EN LAEJECUCIÓN DE ACTIVIDADES COMO RASTRILLERO DE OBRA CIVIL, QUE CONLLEVEN AL MEJORAMIENTO Y ADECUACIÓN DEL ESPACIO PÚBLICO Y MALLA VIAL DE LA LOCALIDAD DE SAN CRISTOBAL","Inversión","Un nuevo contrato social y ambiental para la Bogotá del Siglo XXI",49,{"$f":"IF(ISERROR(VLOOKUP(K666,#REF!,2,FALSE)),\" \",VLOOKUP(K666,#REF!,2,FALSE))","v":" "},{"$f":"IF(ISERROR(VLOOKUP(K666,#REF!,3,FALSE)),\" \",VLOOKUP(K666,#REF!,3,FALSE))","v":" "},1871,0,79700296,"NESTOR RAUL NIETO","Persona Natural",null,"N/A","N/A",null,5200000,0,1,2600000,{"$f":"+W666+X666+Z666","v":7800000},2686667,"2022-10-26","2022-10-31","2023-01-30",60,0,0,null,null,null,null,"En ejecución",{"$f":"IF(ISERROR(AB666/AA666),\"-\",(AB666/AA666))","v":0.34444448717948717}]
["FDLSC-CPS-512-2022",2022,"FDLSC-CD-264-2022","https://community.secop.gov.co/Public/Tendering/OpportunityDetail/Index?noticeUID=CO1.NTC.3302264&isFromPublicArea=True&isModal=true&asPopupView=true","Contratos de prestación de servicios profesionales y de apoyo a la gestión","Contratación directa","Prestación de servicios profesionales y de apoyo a la gestión, o para la ejecución de trabajos artísticos que sólo puedan encomendarse a determinadas personas naturales","PRESTACIÓN DE SERVICIOS DE APOYO EN LA EJECUCIÓN DE ACTIVIDADES DE OBRA CIVIL, QUE CONLLEVEN AL MEJORAMIENTO Y ADECUACIÓN DEL ESPACIO PÚBLICO Y LA MALLA VIAL DE LA LOCALIDAD DE SAN CRISTÓBAL","Inversión","Un nuevo contrato social y ambiental para la Bogotá del Siglo XXI",49,{"$f":"IF(ISERROR(VLOOKUP(K667,#REF!,2,FALSE)),\" \",VLOOKUP(K667,#REF!,2,FALSE))","v":" "},{"$f":"IF(ISERROR(VLOOKUP(K667,#REF!,3,FALSE)),\" \",VLOOKUP(K667,#REF!,3,FALSE))","v":" "},1871,0,80117135,"JAIRO GELBER CASTRO GARCIA","Persona Natural",null,"N/A","N/A",null,7520000,0,0,0,{"$f":"+W667+X667+Z667","v":7520000},2506666,"2022-09-22","2022-09-21","2023-01-25",120,0,0,1023899819,"BRIAN HUMBERTO HERRERA PINO","2022-10-18",5953333,"En ejecución",{"$f":"IF(ISERROR(AB667/AA667),\"-\",(AB667/AA667))","v":0.33333324468085107}]
["FDLSC-CPS-513-2022",2022,"FDLSC-CD-264-2022","https://community.secop.gov.co/Public/Tendering/OpportunityDetail/Index?noticeUID=CO1.NTC.3302264&isFromPublicArea=True&isModal=true&asPopupView=true","Contratos de prestación de servicios profesionales y de apoyo a la gestión","Contratación directa","Prestación de servicios profesionales y de apoyo a la gestión, o para la ejecución de trabajos artísticos que sólo puedan encomendarse a determinadas personas naturales","PRESTACIÓN DE SERVICIOS DE APOYO EN LA EJECUCIÓN DE ACTIVIDADES DE OBRA CIVIL, QUE CONLLEVEN AL MEJORAMIENTO Y ADECUACIÓN DEL ESPACIO PÚBLICO Y LA MALLA VIAL DE LA LOCALIDAD DE SAN CRISTÓBAL","Inversión","Un nuevo contrato social y ambiental para la Bogotá del Siglo XXI",49,{"$f":"IF(ISERROR(VLOOKUP(K668,#REF!,2,FALSE)),\" \",VLOOKUP(K668,#REF!,2,FALSE))","v":" "},{"$f":"IF(ISERROR(VLOOKUP(K668,#REF!,3,FALSE)),\" \",VLOOKUP(K668,#REF!,3,FALSE))","v":" "},1871,0,79456370,"SANTIAGO CRUZ RUEDA","Persona Natural",null,"N/A","N/A",null,7520000,0,0,0,{"$f":"+W668+X668+Z668","v":7520000},4261333,"2022-09-22","2022-09-23","2023-01-22",120,0,0,null,null,null,null,"En ejecución",{"$f":"IF(ISERROR(AB668/AA668),\"-\",(AB668/AA668))","v":0.56666662234042553}]
["FDLSC-CPS-589-2022",2022,"FDLSC-CD-317-2022","https://community.secop.gov.co/Public/Tendering/OpportunityDetail/Index?noticeUID=CO1.NTC.3586998&isFromPublicArea=True&isModal=true&asPopupView=true","Contratos de prestación de servicios profesionales y de apoyo a la gestión","Contratación directa","Prestación de servicios profesionales y de apoyo a la gestión, o para la ejecución de trabajos artísticos que sólo puedan encomendarse a determinadas personas naturales","EL CONTRATO QUE SE PRETENDE CELEBRAR, TENDRÁ POR OBJETO APOYAR AL ALCALDE LOCAL EN EL FORTALECIMIENTO E INCLUSIÓN DE LAS COMUNIDADES NEGRAS, AFROCOLOMBIANAS Y PALENQUERAS EN EL MARCO DE LA POLÍTICA PÚBLICA DISTRITAL AFRODESCENDIENTES Y LOS ESPACIOS DE PARTICIPACIÓN.” ","Inversión","Un nuevo contrato social y ambiental para la Bogotá del Siglo XXI",39,{"$f":"IF(ISERROR(VLOOKUP(K669,#REF!,2,FALSE)),\" \",VLOOKUP(K669,#REF!,2,FALSE))","v":" "},{"$f":"IF(ISERROR(VLOOKUP(K669,#REF!,3,FALSE)),\" \",VLOOKUP(K669,#REF!,3,FALSE))","v":" "},1869,0,1023907191,"ERWIN CASTILLO TENORIO","Persona Natural",null,"N/A","N/A",null,7500000,0,0,0,{"$f":"+W669+X669+Z669","v":7500000},0,"2022-11-29","2022-12-05","2023-01-19",45,0,0,null,null,null,null,"En ejecución",{"$f":"IF(ISERROR(AB669/AA669),\"-\",(AB669/AA669))","v":0}]
["FDLSC-CPS-611-2022",2022,"FDLSC-CD-335-2022","https://community.secop.gov.co/Public/Tendering/OpportunityDetail/Index?noticeUID=CO1.NTC.3627199&isFromPublicArea=True&isModal=true&asPopupView=true","Contratos de prestación de servicios profesionales y de apoyo a la gestión","Contratación directa","Prestación de servicios profesionales y de apoyo a la gestión, o para la ejecución de trabajos artísticos que sólo puedan encomendarse a determinadas personas naturales","PRESTAR SUS SERVICIOS PROFESIONALES EN LO CONCERNIENTE A LAS ACTIVIDADES ADMINISTRATIVAS Y DE CAMPO EN LOS PROCESOS DE RESTAURACIÓN ECOLÓGICA, AGRICULTURA URBANA Y PROYECTOS CIUDADANOS DE EDUCACIÓN AMBIENTAL-PROCEDAS Y ARBOLADO DE LA ALCALDÍA LOCAL DE SAN CRISTÓBAL","Inversión","Un nuevo contrato social y ambiental para la Bogotá del Siglo XXI",33,{"$f":"IF(ISERROR(VLOOKUP(K670,#REF!,2,FALSE)),\" \",VLOOKUP(K670,#REF!,2,FALSE))","v":" "},{"$f":"IF(ISERROR(VLOOKUP(K670,#REF!,3,FALSE)),\" \",VLOOKUP(K670,#REF!,3,FALSE))","v":" "},1867,0,52348149,"MARY LUZ TORRE CANO","Persona Natural",null,"N/A","N/A",null,7500000,0,0,0,{"$f":"+W670+X670+Z670","v":7500000},0,"2022-12-09","2022-12-15","2023-01-29",45,0,0,null,null,null,null,"En ejecución",{"$f":"IF(ISERROR(AB670/AA670),\"-\",(AB670/AA670))","v":0}]
["FDLSC-CPS-612-2022",2022,"FDLSC-CD-335-2022","https://community.secop.gov.co/Public/Tendering/OpportunityDetail/Index?noticeUID=CO1.NTC.3627199&isFromPublicArea=True&isModal=true&asPopupView=true","Contratos de prestación de servicios profesionales y de apoyo a la gestión","Contratación directa","Prestación de servicios profesionales y de apoyo a la gestión, o para la ejecución de trabajos artísticos que sólo puedan encomendarse a determinadas personas naturales","PRESTAR SUS SERVICIOS PROFESIONALES EN LO CONCERNIENTE A LAS ACTIVIDADES ADMINISTRATIVAS Y DE CAMPO EN LOS PROCESOS DE RESTAURACIÓN ECOLÓGICA, AGRICULTURA URBANA Y PROYECTOS CIUDADANOS DE EDUCACIÓN AMBIENTAL-PROCEDAS Y ARBOLADO DE LA ALCALDÍA LOCAL DE SAN CRISTÓBAL","Inversión","Un nuevo contrato social y ambiental para la Bogotá del Siglo XXI",33,{"$f":"IF(ISERROR(VLOOKUP(K671,#REF!,2,FALSE)),\" \",VLOOKUP(K671,#REF!,2,FALSE))","v":" "},{"$f":"IF(ISERROR(VLOOKUP(K671,#REF!,3,FALSE)),\" \",VLOOKUP(K671,#REF!,3,FALSE))","v":" "},1867,0,52903759,"SANDRA ARACELY  CASALLAS TORRES","Persona Natural",null,"N/A","N/A",null,7500000,0,0,0,{"$f":"+W671+X671+Z671","v":7500000},0,"2022-12-09","2022-12-14","2023-01-28",45,0,0,null,null,null,null,"En ejecución",{"$f":"IF(ISERROR(AB671/AA671),\"-\",(AB671/AA671))","v":0}]
["FDLSC-CPS-627-2022",2022,"FDLSC-CD-342-2022","https://community.secop.gov.co/Public/Tendering/OpportunityDetail/Index?noticeUID=CO1.NTC.3651282&isFromPublicArea=True&isModal=true&asPopupView=true","Contratos de prestación de servicios profesionales y de apoyo a la gestión","Contratación directa","Prestación de servicios profesionales y de apoyo a la gestión, o para la ejecución de trabajos artísticos que sólo puedan encomendarse a determinadas personas naturales","PRESTAR SUS SERVICIOS PROFESIONALES PARA ACOMPAÑAR TODOS LOS PROCESOS DE ATENCION A POBLACION DIFERENCIAL Y MUJERES ","Inversión","Un nuevo contrato social y ambiental para la Bogotá del Siglo XXI",6,{"$f":"IF(ISERROR(VLOOKUP(K672,#REF!,2,FALSE)),\" \",VLOOKUP(K672,#REF!,2,FALSE))","v":" "},{"$f":"IF(ISERROR(VLOOKUP(K672,#REF!,3,FALSE)),\" \",VLOOKUP(K672,#REF!,3,FALSE))","v":" "},1811,0,1018462251,"ANGIE ESTEFANN PEREZ BARBOSA","Persona Natural",null,"N/A","N/A",null,7500000,0,0,0,{"$f":"+W672+X672+Z672","v":7500000},0,"2022-12-16","2022-12-23","2023-02-08",45,0,0,null,null,null,null,"En ejecución",{"$f":"IF(ISERROR(AB672/AA672),\"-\",(AB672/AA672))","v":0}]
["FDLSC-CPS-529-2022",2022,"FDLSC-CD-275-2022","https://community.secop.gov.co/Public/Tendering/OpportunityDetail/Index?noticeUID=CO1.NTC.3364896&isFromPublicArea=True&isModal=true&asPopupView=true","Contratos de prestación de servicios profesionales y de apoyo a la gestión","Contratación directa","Prestación de servicios profesionales y de apoyo a la gestión, o para la ejecución de trabajos artísticos que sólo puedan encomendarse a determinadas personas naturales","PRESTAR SUS SERVICIOS DE APOYO A LA GESTIÓN AMBIENTAL EXTERNA DE LA ALCALDÍA LOCAL DE SAN CRISTÓBAL EN ESPACIO PÚBLICO QUE PRESENTA SITUACIONES AMBIENTALES CONFLICTIVAS Y A LAS COMPLEMENTARIAS DE LOS PROYECTOS AMBIENTALES DEL PLAN DE DESARROLLO UN NUEVO CONTRATO SOCIAL Y AMBIENTAL PARA SAN CRISTÓBAL.","Inversión","Un nuevo contrato social y ambiental para la Bogotá del Siglo XXI",24,{"$f":"IF(ISERROR(VLOOKUP(K673,#REF!,2,FALSE)),\" \",VLOOKUP(K673,#REF!,2,FALSE))","v":" "},{"$f":"IF(ISERROR(VLOOKUP(K673,#REF!,3,FALSE)),\" \",VLOOKUP(K673,#REF!,3,FALSE))","v":" "},1813,0,1010011295,"SEBASTIAN CAMILO PEREZ ORJUELA","Persona Natural",null,"N/A","N/A",null,7200000,0,0,0,{"$f":"+W673+X673+Z673","v":7200000},4080000,"2022-10-06","2022-10-10","2022-12-30",90,0,0,null,null,null,null,"Terminado",{"$f":"IF(ISERROR(AB673/AA673),\"-\",(AB673/AA673))","v":0.56666666666666665}]
["FDLSC-CPS-628-2022",2022,"FDLSC-CD-343-2022","https://community.secop.gov.co/Public/Tendering/OpportunityDetail/Index?noticeUID=CO1.NTC.3652280&isFromPublicArea=True&isModal=true&asPopupView=true","Contratos de prestación de servicios profesionales y de apoyo a la gestión","Contratación directa","Prestación de servicios profesionales y de apoyo a la gestión, o para la ejecución de trabajos artísticos que sólo puedan encomendarse a determinadas personas naturales","PRESTAR LOS SERVICIOS PROFESIONALES PARA LA OPERACIÓN, PRESTACIÓN, SEGUIMIENTO Y CUMPLIMIENTO DE LOS PROCEDIMIENTOS ADMINISTRATIVOS, OPERATIVOS Y PROGRAMÁTICOS DEL SERVICIO APOYO ECONÓMICO TIPO C, QUE CONTRIBUYAN A LA GARANTÍA DE LOS DERECHOS DE LA POBLACIÓN MAYOR EN EL MARCO DE LA POLÍTICA PÚBLICA SOCIAL PARA EL ENVEJECIMIENTO Y LA VEJEZ EN EL DISTRITO CAPITAL A CARGO DE LA ALCALDÍA LOCAL ","Inversión","Un nuevo contrato social y ambiental para la Bogotá del Siglo XXI",1,{"$f":"IF(ISERROR(VLOOKUP(K674,#REF!,2,FALSE)),\" \",VLOOKUP(K674,#REF!,2,FALSE))","v":" "},{"$f":"IF(ISERROR(VLOOKUP(K674,#REF!,3,FALSE)),\" \",VLOOKUP(K674,#REF!,3,FALSE))","v":" "},1852,0,52445630,"YADY ANDREA BAREÑO RUIZ","Persona Natural",null,"N/A","N/A",null,6987000,0,0,0,{"$f":"+W674+X674+Z674","v":6987000},0,"2022-12-16","2022-12-21","2023-01-30",45,0,0,null,null,null,null,"En ejecución",{"$f":"IF(ISERROR(AB674/AA674),\"-\",(AB674/AA674))","v":0}]
["FDLSC-CPS-629-2022",2022,"FDLSC-CD-343-2022","https://community.secop.gov.co/Public/Tendering/OpportunityDetail/Index?noticeUID=CO1.NTC.3652280&isFromPublicArea=True&isModal=true&asPopupView=true","Contratos de prestación de servicios profesionales y de apoyo a la gestión","Contratación directa","Prestación de servicios profesionales y de apoyo a la gestión, o para la ejecución de trabajos artísticos que sólo puedan encomendarse a determinadas personas naturales","PRESTAR LOS SERVICIOS PROFESIONALES PARA LA OPERACIÓN, PRESTACIÓN, SEGUIMIENTO Y UMPLIMIENTO DE LOS PROCEDIMIENTOS ADMINISTRATIVOS, OPERATIVOS Y PROGRAMÁTICOS DEL SERVICIO APOYO ECONÓMICO TIPO C, QUE CONTRIBUYAN A LA GARANTÍA DE LOS DERECHOS DE LA POBLACIÓN MAYOR EN EL MARCO DE LA POLÍTICA PÚBLICA SOCIAL PARA EL ENVEJECIMIENTO Y LA VEJEZ EN EL DISTRITO CAPITAL A CARGO DE LA ALCALDÍA LOCAL DE ACUERDO CON LO CONTEMPLADO EN EL(LOS) PROYECTO(S) 1852 --- INGRESO VITAL PARA SAN CRISTÓBAL","Inversión","Un nuevo contrato social y ambiental para la Bogotá del Siglo XXI",1,{"$f":"IF(ISERROR(VLOOKUP(K675,#REF!,2,FALSE)),\" \",VLOOKUP(K675,#REF!,2,FALSE))","v":" "},{"$f":"IF(ISERROR(VLOOKUP(K675,#REF!,3,FALSE)),\" \",VLOOKUP(K675,#REF!,3,FALSE))","v":" "},1852,0,1024590623,"LUISA FERNANDA ROBLES CHABUR","Persona Natural",null,"N/A","N/A",null,6987000,0,0,0,{"$f":"+W675+X675+Z675","v":6987000},0,"2022-12-16","2022-12-21","2023-02-06",45,0,0,null,null,null,null,"En ejecución",{"$f":"IF(ISERROR(AB675/AA675),\"-\",(AB675/AA675))","v":0}]
["FDLSC-CPS-630-2022",2022,"FDLSC-CD-343-2022","https://community.secop.gov.co/Public/Tendering/OpportunityDetail/Index?noticeUID=CO1.NTC.3652280&isFromPublicArea=True&isModal=true&asPopupView=true","Contratos de prestación de servicios profesionales y de apoyo a la gestión","Contratación directa","Prestación de servicios profesionales y de apoyo a la gestión, o para la ejecución de trabajos artísticos que sólo puedan encomendarse a determinadas personas naturales","PRESTAR LOS SERVICIOS PROFESIONALES PARA LA OPERACIÓN, PRESTACIÓN, SEGUIMIENTO Y UMPLIMIENTO DE LOS PROCEDIMIENTOS ADMINISTRATIVOS, OPERATIVOS Y PROGRAMÁTICOS DEL SERVICIO APOYO ECONÓMICO TIPO C, QUE CONTRIBUYAN A LA GARANTÍA DE LOS DERECHOS DE LA POBLACIÓN MAYOR EN EL MARCO DE LA POLÍTICA PÚBLICA SOCIAL PARA EL ENVEJECIMIENTO Y LA VEJEZ EN EL DISTRITO CAPITAL A CARGO DE LA ALCALDÍA LOCAL DE ACUERDO CON LO CONTEMPLADO EN EL(LOS) PROYECTO(S) 1852 --- INGRESO VITAL PARA SAN CRISTÓBAL","Inversión","Un nuevo contrato social y ambiental para la Bogotá del Siglo XXI",1,{"$f":"IF(ISERROR(VLOOKUP(K676,#REF!,2,FALSE)),\" \",VLOOKUP(K676,#REF!,2,FALSE))","v":" "},{"$f":"IF(ISERROR(VLOOKUP(K676,#REF!,3,FALSE)),\" \",VLOOKUP(K676,#REF!,3,FALSE))","v":" "},1852,0,1012446351,"ANGY KARINA HERNANDEZ RUIZ","Persona Natural",null,"N/A","N/A",null,6987000,0,0,0,{"$f":"+W676+X676+Z676","v":6987000},0,"2022-12-16","2022-12-21","2023-02-06",45,0,0,null,null,null,null,"En ejecución",{"$f":"IF(ISERROR(AB676/AA676),\"-\",(AB676/AA676))","v":0}]
["FDLSC-CPS-631-2022",2022,"FDLSC-CD-343-2022","https://community.secop.gov.co/Public/Tendering/OpportunityDetail/Index?noticeUID=CO1.NTC.3652280&isFromPublicArea=True&isModal=true&asPopupView=true","Contratos de prestación de servicios profesionales y de apoyo a la gestión","Contratación directa","Prestación de servicios profesionales y de apoyo a la gestión, o para la ejecución de trabajos artísticos que sólo puedan encomendarse a determinadas personas naturales","PRESTAR LOS SERVICIOS PROFESIONALES PARA LA OPERACIÓN, PRESTACIÓN, SEGUIMIENTO Y UMPLIMIENTO DE LOS PROCEDIMIENTOS ADMINISTRATIVOS, OPERATIVOS Y PROGRAMÁTICOS DEL SERVICIO APOYO ECONÓMICO TIPO C, QUE CONTRIBUYAN A LA GARANTÍA DE LOS DERECHOS DE LA POBLACIÓN MAYOR EN EL MARCO DE LA POLÍTICA PÚBLICA SOCIAL PARA EL ENVEJECIMIENTO Y LA VEJEZ EN EL DISTRITO CAPITAL A CARGO DE LA ALCALDÍA LOCAL DE ACUERDO CON LO CONTEMPLADO EN EL(LOS) PROYECTO(S) 1852 --- INGRESO VITAL PARA SAN CRISTÓBAL","Inversión","Un nuevo contrato social y ambiental para la Bogotá del Siglo XXI",1,{"$f":"IF(ISERROR(VLOOKUP(K677,#REF!,2,FALSE)),\" \",VLOOKUP(K677,#REF!,2,FALSE))","v":" "},{"$f":"IF(ISERROR(VLOOKUP(K677,#REF!,3,FALSE)),\" \",VLOOKUP(K677,#REF!,3,FALSE))","v":" "},1852,0,52907528,"ORIANA MILENA HERNANDEZ VILLEGAS","Persona Natural",null,"N/A","N/A",null,6987000,0,0,0,{"$f":"+W677+X677+Z677","v":6987000},0,"2022-12-16","2022-12-21","2023-02-06",45,0,0,null,null,null,null,"En ejecución",{"$f":"IF(ISERROR(AB677/AA677),\"-\",(AB677/AA677))","v":0}]
["FDLSC-CPS-632-2022",2022,"FDLSC-CD-343-2022","https://community.secop.gov.co/Public/Tendering/OpportunityDetail/Index?noticeUID=CO1.NTC.3652280&isFromPublicArea=True&isModal=true&asPopupView=true","Contratos de prestación de servicios profesionales y de apoyo a la gestión","Contratación directa","Prestación de servicios profesionales y de apoyo a la gestión, o para la ejecución de trabajos artísticos que sólo puedan encomendarse a determinadas personas naturales","PRESTAR LOS SERVICIOS PROFESIONALES PARA LA OPERACIÓN, PRESTACIÓN, SEGUIMIENTO Y UMPLIMIENTO DE LOS PROCEDIMIENTOS ADMINISTRATIVOS, OPERATIVOS Y PROGRAMÁTICOS DEL SERVICIO APOYO ECONÓMICO TIPO C, QUE CONTRIBUYAN A LA GARANTÍA DE LOS DERECHOS DE LA POBLACIÓN MAYOR EN EL MARCO DE LA POLÍTICA PÚBLICA SOCIAL PARA EL ENVEJECIMIENTO Y LA VEJEZ EN EL DISTRITO CAPITAL A CARGO DE LA ALCALDÍA LOCAL DE ACUERDO CON LO CONTEMPLADO EN EL(LOS) PROYECTO(S) 1852 --- INGRESO VITAL PARA SAN CRISTÓBAL","Inversión","Un nuevo contrato social y ambiental para la Bogotá del Siglo XXI",1,{"$f":"IF(ISERROR(VLOOKUP(K678,#REF!,2,FALSE)),\" \",VLOOKUP(K678,#REF!,2,FALSE))","v":" "},{"$f":"IF(ISERROR(VLOOKUP(K678,#REF!,3,FALSE)),\" \",VLOOKUP(K678,#REF!,3,FALSE))","v":" "},1852,0,79739912,"LUIS ALEJANDRO BAREÑO PALACIO","Persona Natural",null,"N/A","N/A",null,6987000,0,0,0,{"$f":"+W678+X678+Z678","v":6987000},0,"2022-12-16","2022-12-21","2023-02-06",45,0,0,null,null,null,null,"En ejecución",{"$f":"IF(ISERROR(AB678/AA678),\"-\",(AB678/AA678))","v":0}]
["FDLSC-CPS-585-2022",2022,"FDLSC-CD-315-2022","https://community.secop.gov.co/Public/Tendering/OpportunityDetail/Index?noticeUID=CO1.NTC.3562226&isFromPublicArea=True&isModal=true&asPopupView=true","Contratos de prestación de servicios profesionales y de apoyo a la gestión","Contratación directa","Prestación de servicios profesionales y de apoyo a la gestión, o para la ejecución de trabajos artísticos que sólo puedan encomendarse a determinadas personas naturales","PRESTAR SUS SERVICIOS PROFESIONALES AL FDLSC PARA APOYAR LA FORMULACIÓN, SEGUIMIENTO Y SUPERVISIÓN DE LOS PROCESOS CONTRACTUALES DERIVADOS DEL PROYECTO DE INVERSIÓN 1811 SAN CRISTÓBAL TE CUIDA, PARA LA ATENCIÓN A POBLACIÓN AFECTADA POR VIOLENCIA INTRAFAMILIAR Y/O SEXUAL EN SITUACIÓN DE VULNERABILIDAD","Inversión","Un nuevo contrato social y ambiental para la Bogotá del Siglo XXI",6,{"$f":"IF(ISERROR(VLOOKUP(K679,#REF!,2,FALSE)),\" \",VLOOKUP(K679,#REF!,2,FALSE))","v":" "},{"$f":"IF(ISERROR(VLOOKUP(K679,#REF!,3,FALSE)),\" \",VLOOKUP(K679,#REF!,3,FALSE))","v":" "},1811,0,1023953608,"LAURA VANESSA VASQUEZ MUÑOZ","Persona Natural",null,"N/A","N/A",null,6771000,0,0,0,{"$f":"+W679+X679+Z679","v":6771000},0,"2022-11-23","2022-11-29","2023-01-14",45,0,0,null,null,null,null,"En ejecución",{"$f":"IF(ISERROR(AB679/AA679),\"-\",(AB679/AA679))","v":0}]
["FDLSC-CPS-604-2022",2022,"FDLSC-CD-315-2022","https://community.secop.gov.co/Public/Tendering/OpportunityDetail/Index?noticeUID=CO1.NTC.3562226&isFromPublicArea=True&isModal=true&asPopupView=true","Contratos de prestación de servicios profesionales y de apoyo a la gestión","Contratación directa","Prestación de servicios profesionales y de apoyo a la gestión, o para la ejecución de trabajos artísticos que sólo puedan encomendarse a determinadas personas naturales","PRESTAR SUS SERVICIOS PROFESIONALES AL FDLSC PARA APOYAR LA FORMULACIÓN, SEGUIMIENTO Y SUPERVISIÓN DE LOS PROCESOS CONTRACTUALES DERIVADOS DEL PROYECTO DE INVERSIÓN 1811 SAN CRISTÓBAL TE CUIDA, PARA LA ATENCIÓN A POBLACIÓN AFECTADA POR VIOLENCIA INTRAFAMILIAR Y/O SEXUAL EN SITUACIÓN DE VULNERABILIDAD","Inversión","Un nuevo contrato social y ambiental para la Bogotá del Siglo XXI",6,{"$f":"IF(ISERROR(VLOOKUP(K680,#REF!,2,FALSE)),\" \",VLOOKUP(K680,#REF!,2,FALSE))","v":" "},{"$f":"IF(ISERROR(VLOOKUP(K680,#REF!,3,FALSE)),\" \",VLOOKUP(K680,#REF!,3,FALSE))","v":" "},1811,0,52734434,"ANLLYLY VIANEY VELEZ HERNANDEZ","Persona Natural",null,"N/A","N/A",null,6771000,0,0,0,{"$f":"+W680+X680+Z680","v":6771000},0,"2022-12-07","2022-12-16","2023-01-30",45,0,0,null,null,null,null,"En ejecución",{"$f":"IF(ISERROR(AB680/AA680),\"-\",(AB680/AA680))","v":0}]
["FDLSC-CPS-610-2022",2022,"FDLSC-CD-315-2022","https://community.secop.gov.co/Public/Tendering/OpportunityDetail/Index?noticeUID=CO1.NTC.3562226&isFromPublicArea=True&isModal=true&asPopupView=true","Contratos de prestación de servicios profesionales y de apoyo a la gestión","Contratación directa","Prestación de servicios profesionales y de apoyo a la gestión, o para la ejecución de trabajos artísticos que sólo puedan encomendarse a determinadas personas naturales","PRESTAR SUS SERVICIOS PROFESIONALES AL FDLSC PARA APOYAR LA FORMULACIÓN, SEGUIMIENTO Y SUPERVISIÓN DE LOS PROCESOS CONTRACTUALES DERIVADOS DEL PROYECTO DE INVERSIÓN 1811 SAN CRISTÓBAL TE CUIDA, PARA LA ATENCIÓN A POBLACIÓN AFECTADA POR VIOLENCIA INTRAFAMILIAR Y/O SEXUAL EN SITUACIÓN DE VULNERABILIDAD","Inversión","Un nuevo contrato social y ambiental para la Bogotá del Siglo XXI",6,{"$f":"IF(ISERROR(VLOOKUP(K681,#REF!,2,FALSE)),\" \",VLOOKUP(K681,#REF!,2,FALSE))","v":" "},{"$f":"IF(ISERROR(VLOOKUP(K681,#REF!,3,FALSE)),\" \",VLOOKUP(K681,#REF!,3,FALSE))","v":" "},1811,0,1032377458,"DIANA CAROLINA HERNANDEZ ARIAS","Persona Natural",null,"N/A","N/A",null,6771000,0,0,0,{"$f":"+W681+X681+Z681","v":6771000},0,"2022-12-09","2022-12-14","2023-01-28",45,0,0,null,null,null,null,"En ejecución",{"$f":"IF(ISERROR(AB681/AA681),\"-\",(AB681/AA681))","v":0}]
["FDLSC-CPS-615-2022",2022,"FDLSC-CD-336-2022","https://community.secop.gov.co/Public/Tendering/OpportunityDetail/Index?noticeUID=CO1.NTC.3630154&isFromPublicArea=True&isModal=true&asPopupView=true","Contratos de prestación de servicios profesionales y de apoyo a la gestión","Contratación directa","Prestación de servicios profesionales y de apoyo a la gestión, o para la ejecución de trabajos artísticos que sólo puedan encomendarse a determinadas personas naturales","PRESTAR SUS SERVICIOS PROFESIONALES AL FDLSC PARA APOYAR LA FORMULACIÓN, SEGUIMIENTO Y SUPERVISIÓN DE LOS PROCESOS CONTRACTUALES DERIVADOS DEL PROYECTO DE INVERSIÓN 1811 SAN CRISTÓBAL TE CUIDA, PARA LA ATENCIÓN A POBLACIÓN AFECTADA POR VIOLENCIA INTRAFAMILIAR Y/O SEXUAL EN SITUACIÓN DE VULNERABILIDAD","Inversión","Un nuevo contrato social y ambiental para la Bogotá del Siglo XXI",6,{"$f":"IF(ISERROR(VLOOKUP(K682,#REF!,2,FALSE)),\" \",VLOOKUP(K682,#REF!,2,FALSE))","v":" "},{"$f":"IF(ISERROR(VLOOKUP(K682,#REF!,3,FALSE)),\" \",VLOOKUP(K682,#REF!,3,FALSE))","v":" "},1811,0,1031152390,"DANIEL CAMILO MARTINEZ CORREA","Persona Natural",null,"N/A","N/A",null,6771000,0,0,0,{"$f":"+W682+X682+Z682","v":6771000},0,"2022-12-09","2022-12-16","2023-01-30",45,0,0,null,null,null,null,"En ejecución",{"$f":"IF(ISERROR(AB682/AA682),\"-\",(AB682/AA682))","v":0}]
["FDLSC-CPS-616-2022",2022,"FDLSC-CD-336-2022","https://community.secop.gov.co/Public/Tendering/OpportunityDetail/Index?noticeUID=CO1.NTC.3630154&isFromPublicArea=True&isModal=true&asPopupView=true","Contratos de prestación de servicios profesionales y de apoyo a la gestión","Contratación directa","Prestación de servicios profesionales y de apoyo a la gestión, o para la ejecución de trabajos artísticos que sólo puedan encomendarse a determinadas personas naturales","PRESTAR SUS SERVICIOS PROFESIONALES AL FDLSC PARA APOYAR LA FORMULACIÓN, SEGUIMIENTO Y SUPERVISIÓN DE LOS PROCESOS CONTRACTUALES DERIVADOS DEL PROYECTO DE INVERSIÓN 1811 SAN CRISTÓBAL TE CUIDA, PARA LA ATENCIÓN A POBLACIÓN AFECTADA POR VIOLENCIA INTRAFAMILIAR Y/O SEXUAL EN SITUACIÓN DE VULNERABILIDAD","Inversión","Un nuevo contrato social y ambiental para la Bogotá del Siglo XXI",6,{"$f":"IF(ISERROR(VLOOKUP(K683,#REF!,2,FALSE)),\" \",VLOOKUP(K683,#REF!,2,FALSE))","v":" "},{"$f":"IF(ISERROR(VLOOKUP(K683,#REF!,3,FALSE)),\" \",VLOOKUP(K683,#REF!,3,FALSE))","v":" "},1811,0,52276434,"CLAUDIA YANETH ROMERO BOCANEGRA","Persona Natural",null,"N/A","N/A",null,6771000,0,0,0,{"$f":"+W683+X683+Z683","v":6771000},0,"2022-12-09","2022-12-16","2023-01-30",45,0,0,null,null,null,null,"En ejecución",{"$f":"IF(ISERROR(AB683/AA683),\"-\",(AB683/AA683))","v":0}]
["FDLSC-CPS-619-2022",2022,"FDLSC-CD-338-2022","https://community.secop.gov.co/Public/Tendering/OpportunityDetail/Index?noticeUID=CO1.NTC.3638522&isFromPublicArea=True&isModal=true&asPopupView=true","Contratos de prestación de servicios profesionales y de apoyo a la gestión","Contratación directa","Prestación de servicios profesionales y de apoyo a la gestión, o para la ejecución de trabajos artísticos que sólo puedan encomendarse a determinadas personas naturales","PRESTAR SERVICIOS PROFESIONALES PARA APOYAR JURIDICAMENTE LA EJECUCION DE LAS ACCIONES REQUERIDAS PARA LA DEPURACION DE LAS ACTUACIONES ADMINISTRATIVAS QUE CURSAN EN LA ALCALDIA LOCAL","Inversión","Un nuevo contrato social y ambiental para la Bogotá del Siglo XXI",57,{"$f":"IF(ISERROR(VLOOKUP(K684,#REF!,2,FALSE)),\" \",VLOOKUP(K684,#REF!,2,FALSE))","v":" "},{"$f":"IF(ISERROR(VLOOKUP(K684,#REF!,3,FALSE)),\" \",VLOOKUP(K684,#REF!,3,FALSE))","v":" "},1873,0,1152693746,"LIGIA MARGARITA DE JESUS MOGOLLON BEHAINE","Persona Natural",null,"N/A","N/A",null,6000000,0,0,0,{"$f":"+W684+X684+Z684","v":6000000},0,"2022-12-13","2022-12-15","2023-01-12",30,0,0,null,null,null,null,"En ejecución",{"$f":"IF(ISERROR(AB684/AA684),\"-\",(AB684/AA684))","v":0}]
["FDLSC-CPS-635-2022",2022,"FDLSC-CD-346-2022","https://community.secop.gov.co/Public/Tendering/OpportunityDetail/Index?noticeUID=CO1.NTC.3661857&isFromPublicArea=True&isModal=true&asPopupView=true","Contratos de prestación de servicios profesionales y de apoyo a la gestión","Contratación directa","Prestación de servicios profesionales y de apoyo a la gestión, o para la ejecución de trabajos artísticos que sólo puedan encomendarse a determinadas personas naturales","PRESTAR SUS SERVICIOS PROFESIONALES COMO APOYO EN LA REVISIÓN JURÍDICA, NORMATIVA Y POLICIVA DE LOS PROCESOS Y ACTUACIONES ADMINISTRATIVAS DERIVADOS DEL ÁREA DE GESTIÓN POLICIVA Y JURIDICA DE LA ALCALDÍA LOCAL DE SAN CRISTÓBAL","Inversión","Un nuevo contrato social y ambiental para la Bogotá del Siglo XXI",57,{"$f":"IF(ISERROR(VLOOKUP(K685,#REF!,2,FALSE)),\" \",VLOOKUP(K685,#REF!,2,FALSE))","v":" "},{"$f":"IF(ISERROR(VLOOKUP(K685,#REF!,3,FALSE)),\" \",VLOOKUP(K685,#REF!,3,FALSE))","v":" "},1873,0,79235519,"GUSTAVO HERNANDO JIMENEZ SANDOVAL ","Persona Natural",null,"N/A","N/A",null,6000000,0,0,0,{"$f":"+W685+X685+Z685","v":6000000},0,"2022-12-22","2022-12-23","2023-01-20",30,0,0,null,null,null,null,"En ejecución",{"$f":"IF(ISERROR(AB685/AA685),\"-\",(AB685/AA685))","v":0}]
["034",2021,"FDLSC-CPS-034-2021","https://community.secop.gov.co/Public/Tendering/OpportunityDetail/Index?noticeUID=CO1.NTC.1722819&isFromPublicArea=True&isModal=False","Contratos de prestación de servicios profesionales y de apoyo a la gestión","Contratación directa","Prestación de servicios profesionales y de apoyo a la gestión, o para la ejecución de trabajos artísticos que sólo puedan encomendarse a determinadas personas naturales","PRESTAR SUS SERVICIOS TÉCNICOS EN EL ÁREA DE GESTIÓN POLICIVA PARA APOYAR LOS PROCESOS DE LAS DIFERENTES ACTUACIONES ADMINISTRATIVAS EXISTENTES Y LA IMPLEMENTACIÓN DE LOS RESPECTIVOS TRÁMITES DE VERIFICACIÓN, SOPORTE Y ACOMPAÑAMIENTO.","Inversión","Un nuevo contrato social y ambiental para la Bogotá del Siglo XXI",57,{"$f":"IF(ISERROR(VLOOKUP(K686,#REF!,2,FALSE)),\" \",VLOOKUP(K686,#REF!,2,FALSE))","v":" "},{"$f":"IF(ISERROR(VLOOKUP(K686,#REF!,3,FALSE)),\" \",VLOOKUP(K686,#REF!,3,FALSE))","v":" "},1873,0,"1016040341","LEIDY STEFANNIA CALDERON SALAMANCA","Persona Natural","N/A","N/A","N/A",null,0,0,1,5950000,{"$f":"+W686+X686+Z686","v":5950000},5950000,"2022-01-07","2021-02-08","2022-02-28",11,1,52,null,null,null,null,"Terminado",{"$f":"IF(ISERROR(AB686/AA686),\"-\",(AB686/AA686))","v":1}]
["FDLSC-CPS-622-2022",2022,"FDLSC-CD-339-2022","https://community.secop.gov.co/Public/Tendering/OpportunityDetail/Index?noticeUID=CO1.NTC.3647108&isFromPublicArea=True&isModal=true&asPopupView=true","Contratos de prestación de servicios profesionales y de apoyo a la gestión","Contratación directa","Prestación de servicios profesionales y de apoyo a la gestión, o para la ejecución de trabajos artísticos que sólo puedan encomendarse a determinadas personas naturales","PRESTAR LOS SERVICIOS DE APOYO TECNICO A LA GESTIÓN DE LA ALCALDÍA LOCAL DE SAN CRISTOBAL EN EL DESARROLLO DE ACTIVIDADES DE REACTIVACIÓN ECONÓMICA,  ACOMPAÑAMIENTO EN CAMPO Y PARTICIPACIÓN EN LOS PROCESOS NECESARIOS PARA LA CORRECTA EJECUCIÓN DE LOS EVENTOS RELACIONADOS Y DE LAS NECESIDADES DE LA ALCALDÍA LOCAL.","Inversión","Un nuevo contrato social y ambiental para la Bogotá del Siglo XXI",6,{"$f":"IF(ISERROR(VLOOKUP(K687,#REF!,2,FALSE)),\" \",VLOOKUP(K687,#REF!,2,FALSE))","v":" "},{"$f":"IF(ISERROR(VLOOKUP(K687,#REF!,3,FALSE)),\" \",VLOOKUP(K687,#REF!,3,FALSE))","v":" "},1865,0,52523902,"SANDRA JANNETH MORENO CRISTANCHO","Persona Natural",null,"N/A","N/A",null,5850000,0,0,0,{"$f":"+W687+X687+Z687","v":5850000},0,"2022-12-15","2022-12-26","2023-02-11",45,0,0,null,null,null,null,"En ejecución",{"$f":"IF(ISERROR(AB687/AA687),\"-\",(AB687/AA687))","v":0}]
["529",2021,"FDLSC-CMA-003-2021\t","https://community.secop.gov.co/Public/Tendering/OpportunityDetail/Index?noticeUID=CO1.NTC.2443744&isFromPublicArea=True&isModal=true&asPopupView=true","Interventoría","Concurso de méritos","No aplica","REALIZAR LA INTERVENTORÍA, TÉCNICA, ADMINISTRATIVA, JURÍDICA, FINANCIERA, SOCIAL, AMBIENTAL Y DE SEGURIDAD Y SALUD EN EL TRABAJO AL CONTRATO cuyo objeto es: ACTUALIZACIÓN Y AJUSTE DE ESTUDIOS Y DISEÑOS, Y LA CONSTRUCCIÓN DE OBRAS DE MITIGACIÓN DE RIESGOS POR PROCESOS DE REMOCIÓN EN MASA, PARA EL SECTOR GUACAMAYAS, DE ACUERDO CON LOS POLÍGONOS ANALIZADOS EN LOS ESTUDIOS Y DISEÑOS DERIVADOS DEL CONTRATO FDLSC-275-2018, OBRAS A DESARROLLAR EN LA LOCALIDAD DE SAN CRISTÓBAL, BOGOTÁ D.C.","Inversión","Un nuevo contrato social y ambiental para la Bogotá del Siglo XXI",30,{"$f":"IF(ISERROR(VLOOKUP(K688,#REF!,2,FALSE)),\" \",VLOOKUP(K688,#REF!,2,FALSE))","v":" "},{"$f":"IF(ISERROR(VLOOKUP(K688,#REF!,3,FALSE)),\" \",VLOOKUP(K688,#REF!,3,FALSE))","v":" "},1866,0,"830133073","HR INGENIERIA SAS","Persona Jurídica","N/A","N/A","N/A",null,0,0,1,5723674,{"$f":"+W688+X688+Z688","v":5723674},450041,"2022-05-13","2022-02-01","2022-05-30",105,1,45,null,null,null,null,"Terminado",{"$f":"IF(ISERROR(AB688/AA688),\"-\",(AB688/AA688))","v":7.8627993138672816E-2}]
["FDLSC-CPS-559-2022",2022,"FDLSC-CD-300-2022","https://community.secop.gov.co/Public/Tendering/OpportunityDetail/Index?noticeUID=CO1.NTC.3449159&isFromPublicArea=True&isModal=true&asPopupView=true","Contratos de prestación de servicios profesionales y de apoyo a la gestión","Contratación directa","Prestación de servicios profesionales y de apoyo a la gestión, o para la ejecución de trabajos artísticos que sólo puedan encomendarse a determinadas personas naturales","PRESTACIÓN DE SERVICIOS DE APOYO EN LA EJECUCIÓN DE ACTIVIDADES DE OBRA CIVIL, QUE CONLLEVEN AL MEJORAMIENTO Y ADECUACIÓN DEL ESPACIO PÚBLICO Y LA MALLA VIAL DE LA LOCALIDAD DE SAN CRISTÓBAL.","Inversión","Un nuevo contrato social y ambiental para la Bogotá del Siglo XXI",49,{"$f":"IF(ISERROR(VLOOKUP(K689,#REF!,2,FALSE)),\" \",VLOOKUP(K689,#REF!,2,FALSE))","v":" "},{"$f":"IF(ISERROR(VLOOKUP(K689,#REF!,3,FALSE)),\" \",VLOOKUP(K689,#REF!,3,FALSE))","v":" "},1871,0,79447368,"HERNANDO APARICIO SALAZAR","Persona Natural",null,"N/A","N/A",null,5640000,0,0,0,{"$f":"+W689+X689+Z689","v":5640000},0,"2022-10-26","2022-11-16","2023-02-15",90,0,0,null,null,null,null,"En ejecución",{"$f":"IF(ISERROR(AB689/AA689),\"-\",(AB689/AA689))","v":0}]
["FDLSC-CPS-560-2022",2022,"FDLSC-CD-300-2022","https://community.secop.gov.co/Public/Tendering/OpportunityDetail/Index?noticeUID=CO1.NTC.3449159&isFromPublicArea=True&isModal=true&asPopupView=true\n","Contratos de prestación de servicios profesionales y de apoyo a la gestión","Contratación directa","Prestación de servicios profesionales y de apoyo a la gestión, o para la ejecución de trabajos artísticos que sólo puedan encomendarse a determinadas personas naturales","PRESTACIÓN DE SERVICIOS DE APOYO EN LA EJECUCIÓN DE ACTIVIDADES DE OBRA CIVIL, QUE CONLLEVEN AL MEJORAMIENTO Y ADECUACIÓN DEL ESPACIO PÚBLICO Y LA MALLA VIAL DE LA LOCALIDAD DE SAN CRISTÓBAL.","Inversión","Un nuevo contrato social y ambiental para la Bogotá del Siglo XXI",49,{"$f":"IF(ISERROR(VLOOKUP(K690,#REF!,2,FALSE)),\" \",VLOOKUP(K690,#REF!,2,FALSE))","v":" "},{"$f":"IF(ISERROR(VLOOKUP(K690,#REF!,3,FALSE)),\" \",VLOOKUP(K690,#REF!,3,FALSE))","v":" "},1871,0,79702559,"PABLO CESAR CASTELLANOS PERILLA","Persona Natural",null,"N/A","N/A",null,5640000,0,0,0,{"$f":"+W690+X690+Z690","v":5640000},0,"2022-10-26",null,null,90,null,null,null,null,null,null,"Celebrado o por iniciar",{"$f":"IF(ISERROR(AB690/AA690),\"-\",(AB690/AA690))","v":0}]
["FDLSC-CPS-561-2022",2022,"FDLSC-CD-299-2022","https://community.secop.gov.co/Public/Tendering/OpportunityDetail/Index?noticeUID=CO1.NTC.3449150&isFromPublicArea=True&isModal=true&asPopupView=true","Contratos de prestación de servicios profesionales y de apoyo a la gestión","Contratación directa","Prestación de servicios profesionales y de apoyo a la gestión, o para la ejecución de trabajos artísticos que sólo puedan encomendarse a determinadas personas naturales","PRESTACIÓN DE SERVICIOS DE APOYO EN LA EJECUCIÓN DE ACTIVIDADES DE OBRA CIVIL, QUE CONLLEVEN AL MEJORAMIENTO Y ADECUACIÓN DEL ESPACIO PÚBLICO Y LA MALLA VIAL DE LA LOCALIDAD DE SAN CRISTÓBAL”","Inversión","Un nuevo contrato social y ambiental para la Bogotá del Siglo XXI",33,{"$f":"IF(ISERROR(VLOOKUP(K691,#REF!,2,FALSE)),\" \",VLOOKUP(K691,#REF!,2,FALSE))","v":" "},{"$f":"IF(ISERROR(VLOOKUP(K691,#REF!,3,FALSE)),\" \",VLOOKUP(K691,#REF!,3,FALSE))","v":" "},1863,0,52898790,"SANDRA PATRICIA MORALES ARIAS","Persona Natural",null,"N/A","N/A",null,5640000,0,0,0,{"$f":"+W691+X691+Z691","v":5640000},1378667,"2022-10-26","2022-11-04","2023-02-03",90,0,0,1032420961,"LEIDY PAOLA AGUDELO ALDANA","2022-11-16",4888000,"En ejecución",{"$f":"IF(ISERROR(AB691/AA691),\"-\",(AB691/AA691))","v":0.24444450354609928}]
["FDLSC-CPS-552-2022",2022,"FDLSC-CD-292-2022","https://community.secop.gov.co/Public/Tendering/OpportunityDetail/Index?noticeUID=CO1.NTC.3441193&isFromPublicArea=True&isModal=true&asPopupView=true","Contratos de prestación de servicios profesionales y de apoyo a la gestión","Contratación directa","Prestación de servicios profesionales y de apoyo a la gestión, o para la ejecución de trabajos artísticos que sólo puedan encomendarse a determinadas personas naturales","PRESTACIÓN DE SERVICIOS DE APOYO EN LA EJECUCIÓN DE ACTIVIDADES DE OBRA CIVIL, QUE CONLLEVEN AL MEJORAMIENTO Y ADECUACIÓN DEL ESPACIO PÚBLICO Y LA MALLA VIAL DE LA LOCALIDAD DE SAN CRISTÓBAL","Inversión","Un nuevo contrato social y ambiental para la Bogotá del Siglo XXI",33,{"$f":"IF(ISERROR(VLOOKUP(K692,#REF!,2,FALSE)),\" \",VLOOKUP(K692,#REF!,2,FALSE))","v":" "},{"$f":"IF(ISERROR(VLOOKUP(K692,#REF!,3,FALSE)),\" \",VLOOKUP(K692,#REF!,3,FALSE))","v":" "},1863,0,80765794,"SANDRO RIAÑO BARRERA ","Persona Natural",null,"N/A","N/A",null,5640000,0,0,0,{"$f":"+W692+X692+Z692","v":5640000},1817333,"2022-10-26","2022-11-02","2023-02-01",90,0,0,null,null,null,null,"En ejecución",{"$f":"IF(ISERROR(AB692/AA692),\"-\",(AB692/AA692))","v":0.3222221631205674}]
["FDLSC-CPS-636-2022",2022,"FDLSC-CD-344-2022","https://community.secop.gov.co/Public/Tendering/OpportunityDetail/Index?noticeUID=CO1.NTC.3652969&isFromPublicArea=True&isModal=true&asPopupView=true","Contratos de prestación de servicios profesionales y de apoyo a la gestión","Contratación directa","Prestación de servicios profesionales y de apoyo a la gestión, o para la ejecución de trabajos artísticos que sólo puedan encomendarse a determinadas personas naturales","PRESTAR SUS SERVICIOS DE APOYO TÉCNICO AL FDLSC PARA APOYAR LA FORMULACIÓN, SEGUIMIENTO, Y APOYO EN TEMAS ADMINISTRATIVOS DE LOS PROYECTOS RELACIONADOS CON LA ATENCIÓN A POBLACIÓN AFECTADA POR VIOLENCIA INTRAFAMILIAR Y/O SEXUAL EN SITUACIÓN DE VULNERABILIDAD","Inversión","Un nuevo contrato social y ambiental para la Bogotá del Siglo XXI",6,{"$f":"IF(ISERROR(VLOOKUP(K693,#REF!,2,FALSE)),\" \",VLOOKUP(K693,#REF!,2,FALSE))","v":" "},{"$f":"IF(ISERROR(VLOOKUP(K693,#REF!,3,FALSE)),\" \",VLOOKUP(K693,#REF!,3,FALSE))","v":" "},1811,0,80067519,"DUMAR IVAN GARCIA CHALA","Persona Natural",null,"N/A","N/A",null,5400000,0,0,0,{"$f":"+W693+X693+Z693","v":5400000},0,"2022-12-16","2022-12-30","2023-02-14",45,0,0,null,null,null,null,"En ejecución",{"$f":"IF(ISERROR(AB693/AA693),\"-\",(AB693/AA693))","v":0}]
["298",2021,"FDLSC-CI-298-2021","https://community.secop.gov.co/Public/Tendering/OpportunityDetail/Index?noticeUID=CO1.NTC.1948854&isFromPublicArea=True&isModal=False","Convenios/Contratos interadministrativos","Contratación directa","Contratos interadministrativos","CONTRATAR LA RENOVACIÓN DEL SERVICIO DE COMUNICACIONES UNIFICADAS Y SOPORTE TÉCNICO PARA EL ADECUADO FUNCIONAMIENTO DEL SERVICIO DE TELEFONIA VOZ IP PARA LA ALCALDIA LOCAL DE SAN CRISTÓBAL Y SUS SEDES","Funcionamiento","Un nuevo contrato social y ambiental para la Bogotá del Siglo XXI","No aplica",{"$f":"IF(ISERROR(VLOOKUP(K694,#REF!,2,FALSE)),\" \",VLOOKUP(K694,#REF!,2,FALSE))","v":" "},{"$f":"IF(ISERROR(VLOOKUP(K694,#REF!,3,FALSE)),\" \",VLOOKUP(K694,#REF!,3,FALSE))","v":" "},4190,0,"899999115","EMPRESA DE TELECOMUNICACIONES DE BOGOTÁ S.A. E.S.P. - ETB S.A. ESP","Persona Jurídica","N/A","N/A","N/A",null,0,0,1,5237666,{"$f":"+W694+X694+Z694","v":5237666},5237660,"2022-04-25","2021-05-04","2020-07-03",420,1,61,null,null,null,null,"Terminado",{"$f":"IF(ISERROR(AB694/AA694),\"-\",(AB694/AA694))","v":0.9999988544515821}]
["FDLSC-CPS-588-2022",2022,"FDLSC-CD-316-2022","https://community.secop.gov.co/Public/Tendering/OpportunityDetail/Index?noticeUID=CO1.NTC.3587374&isFromPublicArea=True&isModal=true&asPopupView=true","Contratos de prestación de servicios profesionales y de apoyo a la gestión","Contratación directa","Prestación de servicios profesionales y de apoyo a la gestión, o para la ejecución de trabajos artísticos que sólo puedan encomendarse a determinadas personas naturales","PRESTAR LOS SERVICIOS TÉCNICOS A LA ALCALDÍA LOCAL DE SAN CRISTÓBAL PARA LA EJECUCIÓN DE ACTIVIDADES Y PROCESOS RELACIONADOS CON LA ATENCIÓN DE POBLACIÓN VÍCTIMA DEL CONFLICTO ARMADO, POBLACIÓN NARP E INDÍGENA DEL PROYECTO 1869 -SAN CRISTÓBAL TERRITORIO DE PAZ Y RECONCILIACIÓN","Inversión","Un nuevo contrato social y ambiental para la Bogotá del Siglo XXI",39,{"$f":"IF(ISERROR(VLOOKUP(K695,#REF!,2,FALSE)),\" \",VLOOKUP(K695,#REF!,2,FALSE))","v":" "},{"$f":"IF(ISERROR(VLOOKUP(K695,#REF!,3,FALSE)),\" \",VLOOKUP(K695,#REF!,3,FALSE))","v":" "},1869,0,1023862594,"DIANA CAROLINA FORERO JIMENEZ","Persona Natural",null,"N/A","N/A",null,5100000,0,0,0,{"$f":"+W695+X695+Z695","v":5100000},0,"2022-12-06","2022-12-06","2023-01-21",45,0,0,null,null,null,null,"En ejecución",{"$f":"IF(ISERROR(AB695/AA695),\"-\",(AB695/AA695))","v":0}]
["FDLSC-CPS-587-2022",2022,"FDLSC-CD-310-2022","https://community.secop.gov.co/Public/Tendering/OpportunityDetail/Index?noticeUID=CO1.NTC.3524253&isFromPublicArea=True&isModal=true&asPopupView=true","Contratos de prestación de servicios profesionales y de apoyo a la gestión","Contratación directa","Prestación de servicios profesionales y de apoyo a la gestión, o para la ejecución de trabajos artísticos que sólo puedan encomendarse a determinadas personas naturales","PRESTAR SUS SERVICIOS DE APOYO ASISTENCIAL PARA LA GESTIÓN DEL RIESGO, EN EL MARCO DE LOS VÍGIAS DEL RIESGO DE LA LOCALIDAD DE SAN CRISTÓBAL, A LA LUZ DEL PLAN DE DESARROLLO 2021-2024","Inversión","Un nuevo contrato social y ambiental para la Bogotá del Siglo XXI",30,{"$f":"IF(ISERROR(VLOOKUP(K696,#REF!,2,FALSE)),\" \",VLOOKUP(K696,#REF!,2,FALSE))","v":" "},{"$f":"IF(ISERROR(VLOOKUP(K696,#REF!,3,FALSE)),\" \",VLOOKUP(K696,#REF!,3,FALSE))","v":" "},1866,0,1014232082,"DIANA CAROLINA GAONA QUIROGA","Persona Natural",null,"N/A","N/A",null,5000000,0,0,0,{"$f":"+W696+X696+Z696","v":5000000},0,"2022-11-24","2022-12-01","2023-02-01",60,0,0,null,null,null,null,"En ejecución",{"$f":"IF(ISERROR(AB696/AA696),\"-\",(AB696/AA696))","v":0}]
["FDLSC-CPS-578-2022",2022,"FDLSC-CD-310-2022","https://community.secop.gov.co/Public/Tendering/OpportunityDetail/Index?noticeUID=CO1.NTC.3524253&isFromPublicArea=True&isModal=true&asPopupView=true","Contratos de prestación de servicios profesionales y de apoyo a la gestión","Contratación directa","Prestación de servicios profesionales y de apoyo a la gestión, o para la ejecución de trabajos artísticos que sólo puedan encomendarse a determinadas personas naturales","PRESTAR SUS SERVICIOS DE APOYO ASISTENCIAL PARA LA GESTIÓN DEL RIESGO, EN EL MARCO DE LOS VÍGIAS DEL RIESGO DE LA LOCALIDAD DE SAN CRISTÓBAL, A LA LUZ DEL PLAN DE DESARROLLO 2021-2024","Inversión","Un nuevo contrato social y ambiental para la Bogotá del Siglo XXI",30,{"$f":"IF(ISERROR(VLOOKUP(K697,#REF!,2,FALSE)),\" \",VLOOKUP(K697,#REF!,2,FALSE))","v":" "},{"$f":"IF(ISERROR(VLOOKUP(K697,#REF!,3,FALSE)),\" \",VLOOKUP(K697,#REF!,3,FALSE))","v":" "},1866,0,79128655,"FABIO OMAR BULLA SALAMANCA","Persona Natural",null,"N/A","N/A",null,5000000,0,0,0,{"$f":"+W697+X697+Z697","v":5000000},750000,"2022-11-15","2022-11-22","2023-01-21",60,0,0,null,null,null,null,"En ejecución",{"$f":"IF(ISERROR(AB697/AA697),\"-\",(AB697/AA697))","v":0.15}]
["FDLSC-CPS-584-2022",2022,"FDLSC-CD-314-2022","https://community.secop.gov.co/Public/Tendering/OpportunityDetail/Index?noticeUID=CO1.NTC.3562506&isFromPublicArea=True&isModal=true&asPopupView=true","Contratos de prestación de servicios profesionales y de apoyo a la gestión","Contratación directa","Prestación de servicios profesionales y de apoyo a la gestión, o para la ejecución de trabajos artísticos que sólo puedan encomendarse a determinadas personas naturales","PRESTAR SUS SERVICIOS PROFESIONALES A LA GESTIÓN ADMINISTRATIVA, AL ÁREA DE GESTIÓN DEL DESARROLLO LOCAL EN ACTIVIDADES DE CONTRATACIÓN, PARA FORTALECER LAS ETAPAS PRECONTRACTUALES Y CONTRACTUALES DE ACUERDO AL PLAN ANUAL DE  ADQUISICIONES DE LA ALCALDÍA LOCAL DE SAN CRISTÓBAL.","Inversión","Un nuevo contrato social y ambiental para la Bogotá del Siglo XXI",57,{"$f":"IF(ISERROR(VLOOKUP(K698,#REF!,2,FALSE)),\" \",VLOOKUP(K698,#REF!,2,FALSE))","v":" "},{"$f":"IF(ISERROR(VLOOKUP(K698,#REF!,3,FALSE)),\" \",VLOOKUP(K698,#REF!,3,FALSE))","v":" "},1873,0,39455765,"LEIDY JULIE GUZMAN VALENCIA","Persona Natural",null,"N/A","N/A",null,5000000,0,0,0,{"$f":"+W698+X698+Z698","v":5000000},1166667,"2022-11-23","2022-11-24","2022-12-23",30,0,0,null,null,null,null,"Terminado",{"$f":"IF(ISERROR(AB698/AA698),\"-\",(AB698/AA698))","v":0.2333334}]
["FDLSC-CPS-583-2022",2022,"FDLSC-CD-306-2022","https://community.secop.gov.co/Public/Tendering/OpportunityDetail/Index?noticeUID=CO1.NTC.3497102&isFromPublicArea=True&isModal=true&asPopupView=true","Contratos de prestación de servicios profesionales y de apoyo a la gestión","Contratación directa","Prestación de servicios profesionales y de apoyo a la gestión, o para la ejecución de trabajos artísticos que sólo puedan encomendarse a determinadas personas naturales","APOYAR ADMINISTRATIVA Y ASISTENCIALMENTE A LAS INSPECCIONES DE POLICÍA DE LA LOCALIDAD","Inversión","Un nuevo contrato social y ambiental para la Bogotá del Siglo XXI",57,{"$f":"IF(ISERROR(VLOOKUP(K699,#REF!,2,FALSE)),\" \",VLOOKUP(K699,#REF!,2,FALSE))","v":" "},{"$f":"IF(ISERROR(VLOOKUP(K699,#REF!,3,FALSE)),\" \",VLOOKUP(K699,#REF!,3,FALSE))","v":" "},1873,0,1013684533,"LAURA ALEJANDRA VANEGAS HERNANDEZ","Persona Natural",null,"N/A","N/A",null,4944000,0,0,0,{"$f":"+W699+X699+Z699","v":4944000},0,"2022-11-23","2022-12-01","2023-01-31",60,0,0,null,null,null,null,"En ejecución",{"$f":"IF(ISERROR(AB699/AA699),\"-\",(AB699/AA699))","v":0}]
["FDLSC-CPS-582-2022",2022,"FDLSC-CD-306-2022","https://community.secop.gov.co/Public/Tendering/OpportunityDetail/Index?noticeUID=CO1.NTC.3497102&isFromPublicArea=True&isModal=true&asPopupView=true","Contratos de prestación de servicios profesionales y de apoyo a la gestión","Contratación directa","Prestación de servicios profesionales y de apoyo a la gestión, o para la ejecución de trabajos artísticos que sólo puedan encomendarse a determinadas personas naturales","APOYAR ADMINISTRATIVA Y ASISTENCIALMENTE A LAS INSPECCIONES DE POLICÍA DE LA LOCALIDAD","Inversión","Un nuevo contrato social y ambiental para la Bogotá del Siglo XXI",57,{"$f":"IF(ISERROR(VLOOKUP(K700,#REF!,2,FALSE)),\" \",VLOOKUP(K700,#REF!,2,FALSE))","v":" "},{"$f":"IF(ISERROR(VLOOKUP(K700,#REF!,3,FALSE)),\" \",VLOOKUP(K700,#REF!,3,FALSE))","v":" "},1873,0,52898790,"SANDRA PATRICIA MORALES ARIAS","Persona Natural",null,"N/A","N/A",null,4944000,0,0,0,{"$f":"+W700+X700+Z700","v":4944000},824000,"2022-11-17","2022-11-21","2023-01-20",60,0,0,null,null,null,null,"En ejecución",{"$f":"IF(ISERROR(AB700/AA700),\"-\",(AB700/AA700))","v":0.16666666666666666}]
["FDLSC-CPS-575-2022",2022,"FDLSC-CD-306-2022","https://community.secop.gov.co/Public/Tendering/OpportunityDetail/Index?noticeUID=CO1.NTC.3489086&isFromPublicArea=True&isModal=true&asPopupView=true","Contratos de prestación de servicios profesionales y de apoyo a la gestión","Contratación directa","Prestación de servicios profesionales y de apoyo a la gestión, o para la ejecución de trabajos artísticos que sólo puedan encomendarse a determinadas personas naturales","APOYAR ADMINISTRATIVA Y ASISTENCIALMENTE A LAS INSPECCIONES DE POLICÍA DE LA LOCALIDAD","Inversión","Un nuevo contrato social y ambiental para la Bogotá del Siglo XXI",57,{"$f":"IF(ISERROR(VLOOKUP(K701,#REF!,2,FALSE)),\" \",VLOOKUP(K701,#REF!,2,FALSE))","v":" "},{"$f":"IF(ISERROR(VLOOKUP(K701,#REF!,3,FALSE)),\" \",VLOOKUP(K701,#REF!,3,FALSE))","v":" "},1873,0,1023963505,"DIANA ANGELICA RODRIGUEZ ACOSTA","Persona Natural",null,"N/A","N/A",null,4944000,0,0,0,{"$f":"+W701+X701+Z701","v":4944000},1648000,"2022-11-08","2022-11-11","2023-01-10",60,0,0,null,null,null,null,"En ejecución",{"$f":"IF(ISERROR(AB701/AA701),\"-\",(AB701/AA701))","v":0.33333333333333331}]
["FDLSC-CPS-579-2022",2022,"FDLSC-CD-303-2022","https://community.secop.gov.co/Public/Tendering/OpportunityDetail/Index?noticeUID=CO1.NTC.3490226&isFromPublicArea=True&isModal=true&asPopupView=true","Contratos de prestación de servicios profesionales y de apoyo a la gestión","Contratación directa","Prestación de servicios profesionales y de apoyo a la gestión, o para la ejecución de trabajos artísticos que sólo puedan encomendarse a determinadas personas naturales","PRESTAR SUS SERVICIOS DE APOYO ASISTENCIAL PARA FORTALECER LA CAPACIDAD INSTITUCIONAL A TRAVÉS DE LA PROMOCIÓN DE LA SEPARACIÓN EN LA FUENTE Y RECICLAJE, A LA LUZ DEL PLAN DE DESARROLLO 2021-2024 UN NUEVO CONTRATO AMBIENTAL Y SOCIAL PARA SAN CRISTÓBAL","Inversión","Un nuevo contrato social y ambiental para la Bogotá del Siglo XXI",57,{"$f":"IF(ISERROR(VLOOKUP(K702,#REF!,2,FALSE)),\" \",VLOOKUP(K702,#REF!,2,FALSE))","v":" "},{"$f":"IF(ISERROR(VLOOKUP(K702,#REF!,3,FALSE)),\" \",VLOOKUP(K702,#REF!,3,FALSE))","v":" "},1873,0,1000490765,"JHON ESTEBAN DIAZ COLORADO ","Persona Natural",null,"N/A","N/A",null,4800000,0,0,0,{"$f":"+W702+X702+Z702","v":4800000},0,"2022-11-15","2022-11-21","2023-01-20",60,0,0,null,null,null,null,"En ejecución",{"$f":"IF(ISERROR(AB702/AA702),\"-\",(AB702/AA702))","v":0}]
["FDLSC-CPS-586-2022",2022,"FDLSC-CD-303-2022","https://community.secop.gov.co/Public/Tendering/OpportunityDetail/Index?noticeUID=CO1.NTC.3566603&isFromPublicArea=True&isModal=true&asPopupView=true","Contratos de prestación de servicios profesionales y de apoyo a la gestión","Contratación directa","Prestación de servicios profesionales y de apoyo a la gestión, o para la ejecución de trabajos artísticos que sólo puedan encomendarse a determinadas personas naturales","PRESTAR SUS SERVICIOS DE APOYO ASISTENCIAL PARA FORTALECER LA CAPACIDAD INSTITUCIONAL A TRAVÉS DE LA PROMOCIÓN DE LA SEPARACIÓN EN LA FUENTE Y RECICLAJE, A LA LUZ DEL PLAN DE DESARROLLO 2021-2024 UN NUEVO CONTRATO AMBIENTAL Y SOCIAL PARA SAN CRISTÓBAL","Inversión","Un nuevo contrato social y ambiental para la Bogotá del Siglo XXI",57,{"$f":"IF(ISERROR(VLOOKUP(K703,#REF!,2,FALSE)),\" \",VLOOKUP(K703,#REF!,2,FALSE))","v":" "},{"$f":"IF(ISERROR(VLOOKUP(K703,#REF!,3,FALSE)),\" \",VLOOKUP(K703,#REF!,3,FALSE))","v":" "},1873,0,1023956268,"KERLEY MAURICIO ESPINOSA RODRIGUEZ","Persona Natural",null,"N/A","N/A",null,4800000,0,0,0,{"$f":"+W703+X703+Z703","v":4800000},0,"2022-11-24","2022-12-05","2022-12-31",60,0,0,null,null,null,null,"En ejecución",{"$f":"IF(ISERROR(AB703/AA703),\"-\",(AB703/AA703))","v":0}]
["FDLSC-CPS-565-2022",2022,"FDLSC-CD-303-2022","https://community.secop.gov.co/Public/Tendering/OpportunityDetail/Index?noticeUID=CO1.NTC.3490226&isFromPublicArea=True&isModal=true&asPopupView=true","Contratos de prestación de servicios profesionales y de apoyo a la gestión","Contratación directa","Prestación de servicios profesionales y de apoyo a la gestión, o para la ejecución de trabajos artísticos que sólo puedan encomendarse a determinadas personas naturales","PRESTAR SUS SERVICIOS DE APOYO ASISTENCIAL PARA FORTALECER LA CAPACIDAD INSTITUCIONAL A TRAVÉS DE LA PROMOCIÓN DE LA SEPARACIÓN EN LA FUENTE Y RECICLAJE, A LA LUZ DEL PLAN DE DESARROLLO 2021-2024 UN NUEVO CONTRATO AMBIENTAL Y SOCIAL PARA SAN CRISTÓBAL","Inversión","Un nuevo contrato social y ambiental para la Bogotá del Siglo XXI",57,{"$f":"IF(ISERROR(VLOOKUP(K704,#REF!,2,FALSE)),\" \",VLOOKUP(K704,#REF!,2,FALSE))","v":" "},{"$f":"IF(ISERROR(VLOOKUP(K704,#REF!,3,FALSE)),\" \",VLOOKUP(K704,#REF!,3,FALSE))","v":" "},1873,0,1000619540,"MANUEL DARIO RODRÍGUEZ CASTRO","Persona Natural",null,"N/A","N/A",null,4800000,0,0,0,{"$f":"+W704+X704+Z704","v":4800000},1600000,"2022-11-08","2022-11-11","2023-01-10",60,0,0,null,null,null,null,"En ejecución",{"$f":"IF(ISERROR(AB704/AA704),\"-\",(AB704/AA704))","v":0.33333333333333331}]
["FDLSC-CPS-566-2022",2022,"FDLSC-CD-304-2022","https://community.secop.gov.co/Public/Tendering/OpportunityDetail/Index?noticeUID=CO1.NTC.3486833&isFromPublicArea=True&isModal=true&asPopupView=true","Contratos de prestación de servicios profesionales y de apoyo a la gestión","Contratación directa","Prestación de servicios profesionales y de apoyo a la gestión, o para la ejecución de trabajos artísticos que sólo puedan encomendarse a determinadas personas naturales","PRESTAR SUS SERVICIOS DE APOYO ASISTENCIAL PARA LA PROMOCIÓN DE LA SEPARACIÓN EN LA FUENTE Y RECICLAJE, A LA LUZ DEL PLAN DE DESARROLLO 2021-2024 UN NUEVO CONTRATO AMBIENTAL Y SOCIAL PARA SAN CRISTÓBAL","Inversión","Un nuevo contrato social y ambiental para la Bogotá del Siglo XXI",38,{"$f":"IF(ISERROR(VLOOKUP(K705,#REF!,2,FALSE)),\" \",VLOOKUP(K705,#REF!,2,FALSE))","v":" "},{"$f":"IF(ISERROR(VLOOKUP(K705,#REF!,3,FALSE)),\" \",VLOOKUP(K705,#REF!,3,FALSE))","v":" "},1868,0,1023943687,"JULIEHT CATHERIN ULLOA","Persona Natural",null,"N/A","N/A",null,4800000,0,0,0,{"$f":"+W705+X705+Z705","v":4800000},1600000,"2022-11-04","2022-11-11","2023-01-10",60,0,0,null,null,null,null,"En ejecución",{"$f":"IF(ISERROR(AB705/AA705),\"-\",(AB705/AA705))","v":0.33333333333333331}]
["FDLSC-CPS-567-2022",2022,"FDLSC-CD-305-2022","https://community.secop.gov.co/Public/Tendering/OpportunityDetail/Index?noticeUID=CO1.NTC.3490392&isFromPublicArea=True&isModal=true&asPopupView=true","Contratos de prestación de servicios profesionales y de apoyo a la gestión","Contratación directa","Prestación de servicios profesionales y de apoyo a la gestión, o para la ejecución de trabajos artísticos que sólo puedan encomendarse a determinadas personas naturales","PRESTAR SUS SERVICIOS ASISTENCIALES PARA APOYAR LA GESTIÓN LOCAL Y TERRITORIAL DE LOS TEMAS DE SEGURIDAD Y CONVIVENCIA CIUDADANA, EN EL MARCO DEL PLAN DE DESARROLLO LOCAL 2021-2024.","Inversión","Un nuevo contrato social y ambiental para la Bogotá del Siglo XXI",43,{"$f":"IF(ISERROR(VLOOKUP(K706,#REF!,2,FALSE)),\" \",VLOOKUP(K706,#REF!,2,FALSE))","v":" "},{"$f":"IF(ISERROR(VLOOKUP(K706,#REF!,3,FALSE)),\" \",VLOOKUP(K706,#REF!,3,FALSE))","v":" "},1824,0,79462654,"DEIVER JIMENEZ ANTURY","Persona Natural",null,"N/A","N/A",null,4800000,0,0,0,{"$f":"+W706+X706+Z706","v":4800000},1600000,"2022-11-04","2022-11-11","2023-01-10",60,0,0,null,null,null,null,"En ejecución",{"$f":"IF(ISERROR(AB706/AA706),\"-\",(AB706/AA706))","v":0.33333333333333331}]
["FDLSC-CPS-626-2022",2022,"FDLSC-CD-341-2022","https://community.secop.gov.co/Public/Tendering/OpportunityDetail/Index?noticeUID=CO1.NTC.3651310&isFromPublicArea=True&isModal=true&asPopupView=true","Contratos de prestación de servicios profesionales y de apoyo a la gestión","Contratación directa","Prestación de servicios profesionales y de apoyo a la gestión, o para la ejecución de trabajos artísticos que sólo puedan encomendarse a determinadas personas naturales","PRESTAR LOS SERVICIOS TÉCNICOS PARA APOYAR GESTIÓN ADMINISTRATIVA DE LOS PROYECTOS DE ACUERDOS QUE PROMUEVAN LA FORMALIDAD Y EL ACCESO PARA EL APROVECHAMIENTO DEL ESPACIO PÚBLICO","Inversión","Un nuevo contrato social y ambiental para la Bogotá del Siglo XXI",45,{"$f":"IF(ISERROR(VLOOKUP(K707,#REF!,2,FALSE)),\" \",VLOOKUP(K707,#REF!,2,FALSE))","v":" "},{"$f":"IF(ISERROR(VLOOKUP(K707,#REF!,3,FALSE)),\" \",VLOOKUP(K707,#REF!,3,FALSE))","v":" "},1835,0,80114740,"WILLIAM ANTONIO BETANCOURT APONTE","Persona Natural",null,"N/A","N/A",null,4620000,0,0,0,{"$f":"+W707+X707+Z707","v":4620000},0,"2022-12-16","2022-12-21","2023-02-04",45,0,0,null,null,null,null,"En ejecución",{"$f":"IF(ISERROR(AB707/AA707),\"-\",(AB707/AA707))","v":0}]
["FDLSC-CPS-029-2022",2022,"FDLSC-CD-018-2022","https://community.secop.gov.co/Public/Tendering/OpportunityDetail/Index?noticeUID=CO1.NTC.2604610&isFromPublicArea=True&isModal=true&asPopupView=true","Contratos de prestación de servicios profesionales y de apoyo a la gestión","Contratación directa","Prestación de servicios profesionales y de apoyo a la gestión, o para la ejecución de trabajos artísticos que sólo puedan encomendarse a determinadas personas naturales","PRESTAR LOS SERVICIOS PROFESIONALES PARA LA OPERACIÓN, SEGUIMIENTO Y CUMPLIMIENTO DE LOS PROCESOS Y PROCEDIMIENTOS DEL SERVICIO APOYO ECONÓMICO TIPO C, REQUERIDOS PARA EL OPORTUNO Y ADECUADO REGISTRO, CRUCE Y REPORTE DE LOS DATOS EN EL SISTEMA MISIONAL SIRBE, QUE CONTRIBUYAN A LA GARANTÍA DE LOS DERECHOS DE LA POBLACIÓN MAYOR EN EL MARCO DE LA POLÍTICA PÚBLICA SOCIAL PARA EL ENVEJECIMIENTO Y LA VEJEZ EN EL DISTRITO CAPITAL A CARGO DE LA ALCALDÍA LOCAL","Inversión","Un nuevo contrato social y ambiental para la Bogotá del Siglo XXI",57,{"$f":"IF(ISERROR(VLOOKUP(K708,#REF!,2,FALSE)),\" \",VLOOKUP(K708,#REF!,2,FALSE))","v":" "},{"$f":"IF(ISERROR(VLOOKUP(K708,#REF!,3,FALSE)),\" \",VLOOKUP(K708,#REF!,3,FALSE))","v":" "},1873,0,51723412,"AURORA YARA MARTIN","Persona Natural",null,"N/A","N/A",null,0,0,1,4520000,{"$f":"+W708+X708+Z708","v":4520000},0,"2022-01-27","2022-02-07","2023-01-30",240,1,84,1030614391,"STEFFANY  ESCOBAR FRANCO\n","2022-09-19",17176000,"En ejecución",{"$f":"IF(ISERROR(AB708/AA708),\"-\",(AB708/AA708))","v":0}]
["FDLSC-CPS-605-2022",2022,"FDLSC-CD-333-2022","https://community.secop.gov.co/Public/Tendering/OpportunityDetail/Index?noticeUID=CO1.NTC.2719871&isFromPublicArea=True&isModal=true&asPopupView=true","Contratos de prestación de servicios profesionales y de apoyo a la gestión","Contratación directa","Prestación de servicios profesionales y de apoyo a la gestión, o para la ejecución de trabajos artísticos que sólo puedan encomendarse a determinadas personas naturales","PRESTAR LOS SERVICIOS PROFESIONALES A LA ALCALDÍA LOCAL DE SAN CRISTOBAL PARA LA EJECUCIÓN DE LAS ACTIVIDADES Y PROCESOS ADMINISTRATIVOS, EN EL MARCO DE LA REACTIVACIÓN ECONÓMICA Y LAS NECESIDADES DEL FONDO DE DESARROLLO LOCAL","Inversión","Un nuevo contrato social y ambiental para la Bogotá del Siglo XXI",6,{"$f":"IF(ISERROR(VLOOKUP(K709,#REF!,2,FALSE)),\" \",VLOOKUP(K709,#REF!,2,FALSE))","v":" "},{"$f":"IF(ISERROR(VLOOKUP(K709,#REF!,3,FALSE)),\" \",VLOOKUP(K709,#REF!,3,FALSE))","v":" "},1865,0,79701073,"JUAN CARLOS MORENO","Persona Natural",null,"N/A","N/A",null,4514000,0,0,0,{"$f":"+W709+X709+Z709","v":4514000},0,"2022-12-09","2022-12-19","2023-01-18",30,0,0,null,null,null,null,"En ejecución",{"$f":"IF(ISERROR(AB709/AA709),\"-\",(AB709/AA709))","v":0}]
["FDLSC-CPS-648-2022",2022,"FDLSC-CD-349-2022","https://community.secop.gov.co/Public/Tendering/OpportunityDetail/Index?noticeUID=CO1.NTC.3672617&isFromPublicArea=True&isModal=true&asPopupView=true","Contratos de prestación de servicios profesionales y de apoyo a la gestión","Contratación directa","Prestación de servicios profesionales y de apoyo a la gestión, o para la ejecución de trabajos artísticos que sólo puedan encomendarse a determinadas personas naturales","PRESTAR SERVICIOS PROFESIONALES EN EL ÁREA DE GESTIÓN DE DESARROLLO LOCAL PARA LA FORMULACIÓN, EVALUACIÓN, PRESENTACIÓN Y SEGUIMIENTO A PROYECTOS DE INVERSIÓN LOCAL Y APOYAR LAS ACTIVIDADES DE PLANEACIÓN EN TEMAS ADMINISTRATIVOS Y EN LOS PROYECTOS DE INVERSIÓN LOCAL","Inversión","Un nuevo contrato social y ambiental para la Bogotá del Siglo XXI",57,{"$f":"IF(ISERROR(VLOOKUP(K710,#REF!,2,FALSE)),\" \",VLOOKUP(K710,#REF!,2,FALSE))","v":" "},{"$f":"IF(ISERROR(VLOOKUP(K710,#REF!,3,FALSE)),\" \",VLOOKUP(K710,#REF!,3,FALSE))","v":" "},1873,0,1016020708,"DIANA PILAR GARCIA HUERFANO","Persona Natural",null,"N/A","N/A",null,4514000,0,0,0,{"$f":"+W710+X710+Z710","v":4514000},0,"2022-12-23","2022-12-30","2023-01-29",30,0,0,null,null,null,null,"En ejecución",{"$f":"IF(ISERROR(AB710/AA710),\"-\",(AB710/AA710))","v":0}]
[107,2021,"FDLSC-CPS-107-2021","https://community.secop.gov.co/Public/Tendering/OpportunityDetail/Index?noticeUID=CO1.NTC.1794189&isFromPublicArea=True&isModal=False","Contratos de prestación de servicios profesionales y de apoyo a la gestión","Contratación directa","Prestación de servicios profesionales y de apoyo a la gestión, o para la ejecución de trabajos artísticos que sólo puedan encomendarse a determinadas personas naturales","PRESTAR SUS SERVICIOS PROFESIONALES PARA APOYAR LOS PROCESOS Y PROCEDIMIENTOS REQUERIDOS POR EL FONDO, LAS SOLICITUDES QUE SE PRESENTENDE ACUERDO AL SISTEMA DE CONTROL Y LOS DEMÁS REQUERIMIENTOS DE LA ALSC EN EL MARCO DEL PLAN DE DESARROLLO LOCAL 2021-2024. REEMPLAZA EL CDP 409 Y EL CRP 460 DE 2021 POR CONSTITUIRSE EN OxP EL CPS 107 2021.","Inversión","Un nuevo contrato social y ambiental para la Bogotá del Siglo XXI",57,{"$f":"IF(ISERROR(VLOOKUP(K711,#REF!,2,FALSE)),\" \",VLOOKUP(K711,#REF!,2,FALSE))","v":" "},{"$f":"IF(ISERROR(VLOOKUP(K711,#REF!,3,FALSE)),\" \",VLOOKUP(K711,#REF!,3,FALSE))","v":" "},1873,0,1022357843,"DEISY VIVIANA SANDOVAL RIVERA","Persona Natural","N/A","N/A","N/A",null,4400000,0,0,0,{"$f":"+W711+X711+Z711","v":4400000},4400000,"2021-02-24","2021-02-25","2021-12-24",0,0,0,null,null,null,null,"Terminado",{"$f":"IF(ISERROR(AB711/AA711),\"-\",(AB711/AA711))","v":1}]
["FDLSC-CPS-473-2022",2022,"FDLSC-CD-337-2022","https://community.secop.gov.co/Public/Tendering/OpportunityDetail/Index?noticeUID=CO1.NTC.3637564&isFromPublicArea=True&isModal=true&asPopupView=true\n","Contratos de prestación de servicios profesionales y de apoyo a la gestión","Contratación directa","Prestación de servicios profesionales y de apoyo a la gestión, o para la ejecución de trabajos artísticos que sólo puedan encomendarse a determinadas personas naturales","PRESTAR SUS SERVICIOS DE APOYO ASISTENCIAL PARA FORTALECER LA CAPACIDAD INSTITUCIONAL A TRAVÉS DE LA PROMOCIÓN DE LA SEPARACIÓN EN LA FUENTE Y RECICLAJE, A LA LUZ DEL PLAN DE DESARROLLO 2021-2024 UN NUEVO CONTRATO AMBIENTAL Y SOCIAL PARA SAN CRISTÓBAL","Inversión","Un nuevo contrato social y ambiental para la Bogotá del Siglo XXI",57,{"$f":"IF(ISERROR(VLOOKUP(K712,#REF!,2,FALSE)),\" \",VLOOKUP(K712,#REF!,2,FALSE))","v":" "},{"$f":"IF(ISERROR(VLOOKUP(K712,#REF!,3,FALSE)),\" \",VLOOKUP(K712,#REF!,3,FALSE))","v":" "},1873,0,39755305,"ELISA INES GOMEZ RAMOS","Persona Natural",null,"N/A","N/A",null,3600000,0,0,0,{"$f":"+W712+X712+Z712","v":3600000},0,"2022-12-13","2022-12-21","2023-02-04",45,0,0,null,null,null,null,"En ejecución",{"$f":"IF(ISERROR(AB712/AA712),\"-\",(AB712/AA712))","v":0}]
["FDLSC-CPS-603-2022",2022,"FDLSC-CD-332-2022","https://community.secop.gov.co/Public/Tendering/OpportunityDetail/Index?noticeUID=CO1.NTC.3617030&isFromPublicArea=True&isModal=true&asPopupView=true","Contratos de prestación de servicios profesionales y de apoyo a la gestión","Contratación directa","Prestación de servicios profesionales y de apoyo a la gestión, o para la ejecución de trabajos artísticos que sólo puedan encomendarse a determinadas personas naturales","PRESTAR SUS SERVICIOS DE APOYO A LA GESTIÓN AMBIENTAL EXTERNA DE LA ALCALDÍA LOCAL DE SAN CRISTÓBAL EN ESPACIO PÚBLICO QUE PRESENTA SITUACIONES AMBIENTALES CONFLICTIVAS Y A LAS COMPLEMENTARIAS DE LOS PROYECTOS AMBIENTALES DEL PLAN DE DESARROLLO UN NUEVO CONTRATO SOCIAL Y AMBIENTAL PARA SAN CRISTÓBAL","Inversión","Un nuevo contrato social y ambiental para la Bogotá del Siglo XXI",24,{"$f":"IF(ISERROR(VLOOKUP(K713,#REF!,2,FALSE)),\" \",VLOOKUP(K713,#REF!,2,FALSE))","v":" "},{"$f":"IF(ISERROR(VLOOKUP(K713,#REF!,3,FALSE)),\" \",VLOOKUP(K713,#REF!,3,FALSE))","v":" "},1813,0,1016052447,"JOHANA ANDREA PINILLA NOVOA","Persona Natural",null,"N/A","N/A",null,3600000,0,0,0,{"$f":"+W713+X713+Z713","v":3600000},0,"2022-12-06","2022-12-14","2022-12-31",45,0,0,null,null,null,null,"En ejecución",{"$f":"IF(ISERROR(AB713/AA713),\"-\",(AB713/AA713))","v":0}]
["FDLSC-CPS-606-2022",2022,"FDLSC-CD-334-2022","https://community.secop.gov.co/Public/Tendering/OpportunityDetail/Index?noticeUID=CO1.NTC.3619949&isFromPublicArea=True&isModal=true&asPopupView=true","Contratos de prestación de servicios profesionales y de apoyo a la gestión","Contratación directa","Prestación de servicios profesionales y de apoyo a la gestión, o para la ejecución de trabajos artísticos que sólo puedan encomendarse a determinadas personas naturales","PRESTAR SUS SERVICIOS ASISTENCIALES PARA APOYAR LA GESTIÓN LOCAL Y TERRITORIAL DE LOS TEMAS DE SEGURIDAD Y CONVIVENCIA CIUDADANA, EN EL MARCO DEL PLAN DE DESARROLLO LOCAL 2021-2024","Inversión","Un nuevo contrato social y ambiental para la Bogotá del Siglo XXI",43,{"$f":"IF(ISERROR(VLOOKUP(K714,#REF!,2,FALSE)),\" \",VLOOKUP(K714,#REF!,2,FALSE))","v":" "},{"$f":"IF(ISERROR(VLOOKUP(K714,#REF!,3,FALSE)),\" \",VLOOKUP(K714,#REF!,3,FALSE))","v":" "},1824,0,1023901181,"LUCAS SADDAM GOMEZ HURTADO","Persona Natural",null,"N/A","N/A",null,3600000,0,0,0,{"$f":"+W714+X714+Z714","v":3600000},0,"2022-12-07","2022-12-15","2023-01-29",45,0,0,null,null,null,null,"En ejecución",{"$f":"IF(ISERROR(AB714/AA714),\"-\",(AB714/AA714))","v":0}]
["FDLSC-CPS-607-2022",2022,"FDLSC-CD-332-2022","https://community.secop.gov.co/Public/Tendering/OpportunityDetail/Index?noticeUID=CO1.NTC.3617030&isFromPublicArea=True&isModal=true&asPopupView=true","Contratos de prestación de servicios profesionales y de apoyo a la gestión","Contratación directa","Prestación de servicios profesionales y de apoyo a la gestión, o para la ejecución de trabajos artísticos que sólo puedan encomendarse a determinadas personas naturales","PRESTAR SUS SERVICIOS DE APOYO A LA GESTIÓN AMBIENTAL EXTERNA DE LA ALCALDÍA LOCAL DE SAN CRISTÓBAL EN ESPACIO PÚBLICO QUE PRESENTA SITUACIONES AMBIENTALES CONFLICTIVAS Y A LAS COMPLEMENTARIAS DE LOS PROYECTOS AMBIENTALES DEL PLAN DE DESARROLLO UN NUEVO CONTRATO SOCIAL Y AMBIENTAL PARA SAN CRISTÓBAL","Inversión","Un nuevo contrato social y ambiental para la Bogotá del Siglo XXI",24,{"$f":"IF(ISERROR(VLOOKUP(K715,#REF!,2,FALSE)),\" \",VLOOKUP(K715,#REF!,2,FALSE))","v":" "},{"$f":"IF(ISERROR(VLOOKUP(K715,#REF!,3,FALSE)),\" \",VLOOKUP(K715,#REF!,3,FALSE))","v":" "},1813,0,1024463266,"SANDRA VIVIANA VALDERRAMA CORTES","Persona Natural",null,"N/A","N/A",null,3600000,0,0,0,{"$f":"+W715+X715+Z715","v":3600000},0,"2022-12-07","2022-12-19","2023-03-02",45,0,0,null,null,null,null,"En ejecución",{"$f":"IF(ISERROR(AB715/AA715),\"-\",(AB715/AA715))","v":0}]
["FDLSC-CPS-609-2022",2022,"FDLSC-CD-332-2022","https://community.secop.gov.co/Public/Tendering/OpportunityDetail/Index?noticeUID=CO1.NTC.3617030&isFromPublicArea=True&isModal=true&asPopupView=true","Contratos de prestación de servicios profesionales y de apoyo a la gestión","Contratación directa","Prestación de servicios profesionales y de apoyo a la gestión, o para la ejecución de trabajos artísticos que sólo puedan encomendarse a determinadas personas naturales","PRESTAR SUS SERVICIOS DE APOYO A LA GESTIÓN AMBIENTAL EXTERNA DE LA ALCALDÍA LOCAL DE SAN CRISTÓBAL EN ESPACIO PÚBLICO QUE PRESENTA SITUACIONES AMBIENTALES CONFLICTIVAS Y A LAS COMPLEMENTARIAS DE LOS PROYECTOS AMBIENTALES DEL PLAN DE DESARROLLO UN NUEVO CONTRATO SOCIAL Y AMBIENTAL PARA SAN CRISTÓBAL","Inversión","Un nuevo contrato social y ambiental para la Bogotá del Siglo XXI",24,{"$f":"IF(ISERROR(VLOOKUP(K716,#REF!,2,FALSE)),\" \",VLOOKUP(K716,#REF!,2,FALSE))","v":" "},{"$f":"IF(ISERROR(VLOOKUP(K716,#REF!,3,FALSE)),\" \",VLOOKUP(K716,#REF!,3,FALSE))","v":" "},1813,0,52117627,"LUDY BONILLA GARCIA","Persona Natural",null,"N/A","N/A",null,3600000,0,0,0,{"$f":"+W716+X716+Z716","v":3600000},0,"2022-12-09","2022-12-16","2023-01-30",45,0,0,null,null,null,null,"En ejecución",{"$f":"IF(ISERROR(AB716/AA716),\"-\",(AB716/AA716))","v":0}]
["FDLSC-CPS-613-2022",2022,"FDLSC-CD-332-2022","https://community.secop.gov.co/Public/Tendering/OpportunityDetail/Index?noticeUID=CO1.NTC.3617030&isFromPublicArea=True&isModal=true&asPopupView=true","Contratos de prestación de servicios profesionales y de apoyo a la gestión","Contratación directa","Prestación de servicios profesionales y de apoyo a la gestión, o para la ejecución de trabajos artísticos que sólo puedan encomendarse a determinadas personas naturales","PRESTAR SUS SERVICIOS DE APOYO A LA GESTIÓN AMBIENTAL EXTERNA DE LA ALCALDÍA LOCAL DE SAN CRISTÓBAL EN ESPACIO PÚBLICO QUE PRESENTA SITUACIONES AMBIENTALES CONFLICTIVAS Y A LAS COMPLEMENTARIAS DE LOS PROYECTOS AMBIENTALES DEL PLAN DE DESARROLLO UN NUEVO CONTRATO SOCIAL Y AMBIENTAL PARA SAN CRISTÓBAL","Inversión","Un nuevo contrato social y ambiental para la Bogotá del Siglo XXI",24,{"$f":"IF(ISERROR(VLOOKUP(K717,#REF!,2,FALSE)),\" \",VLOOKUP(K717,#REF!,2,FALSE))","v":" "},{"$f":"IF(ISERROR(VLOOKUP(K717,#REF!,3,FALSE)),\" \",VLOOKUP(K717,#REF!,3,FALSE))","v":" "},1813,0,79604580,"GERBEY GARCIA AVILA","Persona Natural",null,"N/A","N/A",null,3600000,0,0,0,{"$f":"+W717+X717+Z717","v":3600000},0,"2022-12-09","2022-12-30","2023-02-14",45,0,0,null,null,null,null,"En ejecución",{"$f":"IF(ISERROR(AB717/AA717),\"-\",(AB717/AA717))","v":0}]
["FDLSC-CPS-614-2022",2022,"FDLSC-CD-332-2022","https://community.secop.gov.co/Public/Tendering/OpportunityDetail/Index?noticeUID=CO1.NTC.3617030&isFromPublicArea=True&isModal=true&asPopupView=true","Contratos de prestación de servicios profesionales y de apoyo a la gestión","Contratación directa","Prestación de servicios profesionales y de apoyo a la gestión, o para la ejecución de trabajos artísticos que sólo puedan encomendarse a determinadas personas naturales","PRESTAR SUS SERVICIOS DE APOYO A LA GESTIÓN AMBIENTAL EXTERNA DE LA ALCALDÍA LOCAL DE SAN CRISTÓBAL EN ESPACIO PÚBLICO QUE PRESENTA SITUACIONES AMBIENTALES CONFLICTIVAS Y A LAS COMPLEMENTARIAS DE LOS PROYECTOS AMBIENTALES DEL PLAN DE DESARROLLO UN NUEVO CONTRATO SOCIAL Y AMBIENTAL PARA SAN CRISTÓBAL","Inversión","Un nuevo contrato social y ambiental para la Bogotá del Siglo XXI",24,{"$f":"IF(ISERROR(VLOOKUP(K718,#REF!,2,FALSE)),\" \",VLOOKUP(K718,#REF!,2,FALSE))","v":" "},{"$f":"IF(ISERROR(VLOOKUP(K718,#REF!,3,FALSE)),\" \",VLOOKUP(K718,#REF!,3,FALSE))","v":" "},1813,0,1023945094,"WILSON DAVID FEIJOO GARCÍA","Persona Natural",null,"N/A","N/A",null,3600000,0,0,0,{"$f":"+W718+X718+Z718","v":3600000},0,"2022-12-09","2022-12-14","2023-01-29",45,0,0,null,null,null,null,"En ejecución",{"$f":"IF(ISERROR(AB718/AA718),\"-\",(AB718/AA718))","v":0}]
["FDLSC-CPS-617-2022",2022,"FDLSC-CD-332-2022","https://community.secop.gov.co/Public/Tendering/OpportunityDetail/Index?noticeUID=CO1.NTC.3617030&isFromPublicArea=True&isModal=true&asPopupView=true","Contratos de prestación de servicios profesionales y de apoyo a la gestión","Contratación directa","Prestación de servicios profesionales y de apoyo a la gestión, o para la ejecución de trabajos artísticos que sólo puedan encomendarse a determinadas personas naturales","PRESTAR SUS SERVICIOS DE APOYO A LA GESTIÓN AMBIENTAL EXTERNA DE LA ALCALDÍA LOCAL DE SAN CRISTÓBAL EN ESPACIO PÚBLICO QUE PRESENTA SITUACIONES AMBIENTALES CONFLICTIVAS Y A LAS COMPLEMENTARIAS DE LOS PROYECTOS AMBIENTALES DEL PLAN DE DESARROLLO UN NUEVO CONTRATO SOCIAL Y AMBIENTAL PARA SAN CRISTÓBAL","Inversión","Un nuevo contrato social y ambiental para la Bogotá del Siglo XXI",24,{"$f":"IF(ISERROR(VLOOKUP(K719,#REF!,2,FALSE)),\" \",VLOOKUP(K719,#REF!,2,FALSE))","v":" "},{"$f":"IF(ISERROR(VLOOKUP(K719,#REF!,3,FALSE)),\" \",VLOOKUP(K719,#REF!,3,FALSE))","v":" "},1813,0,1023899677,"DIANA CAROLINA FAJARDO TAPIAS","Persona Natural",null,"N/A","N/A",null,3600000,0,0,0,{"$f":"+W719+X719+Z719","v":3600000},0,"2022-12-09","2022-12-14","2023-01-28",45,0,0,null,null,null,null,"En ejecución",{"$f":"IF(ISERROR(AB719/AA719),\"-\",(AB719/AA719))","v":0}]
["FDLSC-CPS-618-2022",2022,"FDLSC-CD-332-2022","https://community.secop.gov.co/Public/Tendering/OpportunityDetail/Index?noticeUID=CO1.NTC.3617030&isFromPublicArea=True&isModal=true&asPopupView=true","Contratos de prestación de servicios profesionales y de apoyo a la gestión","Contratación directa","Prestación de servicios profesionales y de apoyo a la gestión, o para la ejecución de trabajos artísticos que sólo puedan encomendarse a determinadas personas naturales","PRESTAR SUS SERVICIOS DE APOYO A LA GESTIÓN AMBIENTAL EXTERNA DE LA ALCALDÍA LOCAL DE SAN CRISTÓBAL EN ESPACIO PÚBLICO QUE PRESENTA SITUACIONES AMBIENTALES CONFLICTIVAS Y A LAS COMPLEMENTARIAS DE LOS PROYECTOS AMBIENTALES DEL PLAN DE DESARROLLO UN NUEVO CONTRATO SOCIAL Y AMBIENTAL PARA SAN CRISTÓBAL","Inversión","Un nuevo contrato social y ambiental para la Bogotá del Siglo XXI",24,{"$f":"IF(ISERROR(VLOOKUP(K720,#REF!,2,FALSE)),\" \",VLOOKUP(K720,#REF!,2,FALSE))","v":" "},{"$f":"IF(ISERROR(VLOOKUP(K720,#REF!,3,FALSE)),\" \",VLOOKUP(K720,#REF!,3,FALSE))","v":" "},1813,0,16836744,"JOSE HUMBERTO VARGAS BONILLA","Persona Natural",null,"N/A","N/A",null,3600000,0,0,0,{"$f":"+W720+X720+Z720","v":3600000},0,"2022-12-09","2022-12-15","2023-01-29",45,0,0,null,null,null,null,"En ejecución",{"$f":"IF(ISERROR(AB720/AA720),\"-\",(AB720/AA720))","v":0}]
["FDLSC-CPS-624-2022",2022,"FDLSC-CD-340-2022","https://community.secop.gov.co/Public/Tendering/OpportunityDetail/Index?noticeUID=CO1.NTC.3648846&isFromPublicArea=True&isModal=true&asPopupView=true","Contratos de prestación de servicios profesionales y de apoyo a la gestión","Contratación directa","Prestación de servicios profesionales y de apoyo a la gestión, o para la ejecución de trabajos artísticos que sólo puedan encomendarse a determinadas personas naturales","PRESTAR LOS SERVICIOS DE APOYO A LA GESTIÓN DE LA ALCALDÍA LOCAL DE SAN CRISTÓBAL EN EL DESARROLLO DE ACTIVIDADES DE REACTIVACIÓN ECONÓMICA, ACOMPAÑAMIENTO EN CAMPO Y PARTICIPACIÓN EN LOS PROCESOS NECESARIOS PARA LA CORRECTA EJECUCIÓN DE LOS EVENTOS RELACIONADOS Y DE LAS NECESIDADES DE LA ALCALDÍA LOCAL DE ACUERDO CON LO CONTEMPLADO EN EL(LOS) PROYECTO(S) 1865","Inversión","Un nuevo contrato social y ambiental para la Bogotá del Siglo XXI",6,{"$f":"IF(ISERROR(VLOOKUP(K721,#REF!,2,FALSE)),\" \",VLOOKUP(K721,#REF!,2,FALSE))","v":" "},{"$f":"IF(ISERROR(VLOOKUP(K721,#REF!,3,FALSE)),\" \",VLOOKUP(K721,#REF!,3,FALSE))","v":" "},1865,0,1000614673,"PEÑA GUEVARA NICOLAS STEVENS","Persona Natural",null,"N/A","N/A",null,3600000,0,0,0,{"$f":"+W721+X721+Z721","v":3600000},0,"2022-12-15","2022-12-21","2023-02-06",45,0,0,null,null,null,null,"En ejecución",{"$f":"IF(ISERROR(AB721/AA721),\"-\",(AB721/AA721))","v":0}]
["FDLSC-CPS-625-2022",2022,"FDLSC-CD-337-2022","https://community.secop.gov.co/Public/Tendering/OpportunityDetail/Index?noticeUID=CO1.NTC.3637564&isFromPublicArea=True&isModal=true&asPopupView=true","Contratos de prestación de servicios profesionales y de apoyo a la gestión","Contratación directa","Prestación de servicios profesionales y de apoyo a la gestión, o para la ejecución de trabajos artísticos que sólo puedan encomendarse a determinadas personas naturales","PRESTAR SUS SERVICIOS DE APOYO ASISTENCIAL PARA FORTALECER LA CAPACIDAD INSTITUCIONAL A TRAVÉS DE LA PROMOCIÓN DE LA SEPARACIÓN EN LA FUENTE Y RECICLAJE, A LA LUZ DEL PLAN DE DESARROLLO 2021-2024 UN NUEVO CONTRATO AMBIENTAL Y SOCIAL PARA SAN CRISTÓBAL DE ACUERDO CON LO CONTEMPLADO EN EL(LOS) ROYECTO(S) 1873 --- SAN CRISTÓBAL AL SERVICIO DE LA CIUDADANÍA ","Inversión","Un nuevo contrato social y ambiental para la Bogotá del Siglo XXI",57,{"$f":"IF(ISERROR(VLOOKUP(K722,#REF!,2,FALSE)),\" \",VLOOKUP(K722,#REF!,2,FALSE))","v":" "},{"$f":"IF(ISERROR(VLOOKUP(K722,#REF!,3,FALSE)),\" \",VLOOKUP(K722,#REF!,3,FALSE))","v":" "},1873,0,1000048185,"LEIDY LILIANA GRIMALDOS CARRILLO","Persona Natural",null,"N/A","N/A",null,3600000,0,0,0,{"$f":"+W722+X722+Z722","v":3600000},0,"2022-12-16","2022-12-22","2023-01-30",45,0,0,null,null,null,null,"En ejecución",{"$f":"IF(ISERROR(AB722/AA722),\"-\",(AB722/AA722))","v":0}]
["FDLSC-CPS-633-2022",2022,"FDLSC-CD-337-2022","https://community.secop.gov.co/Public/Tendering/OpportunityDetail/Index?noticeUID=CO1.NTC.3637564&isFromPublicArea=True&isModal=true&asPopupView=true","Contratos de prestación de servicios profesionales y de apoyo a la gestión","Contratación directa","Prestación de servicios profesionales y de apoyo a la gestión, o para la ejecución de trabajos artísticos que sólo puedan encomendarse a determinadas personas naturales","PRESTAR SUS SERVICIOS DE APOYO ASISTENCIAL PARA FORTALECER LA CAPACIDAD INSTITUCIONAL A TRAVÉS DE LA  PROMOCIÓN DE LA SEPARACIÓN EN LA FUENTE Y RECICLAJE, A LA LUZ DEL PLAN DE DESARROLLO 2021-2024 UN NUEVO CONTRATO AMBIENTAL Y SOCIAL PARA SANCRISTÓBAL","Inversión","Un nuevo contrato social y ambiental para la Bogotá del Siglo XXI",57,{"$f":"IF(ISERROR(VLOOKUP(K723,#REF!,2,FALSE)),\" \",VLOOKUP(K723,#REF!,2,FALSE))","v":" "},{"$f":"IF(ISERROR(VLOOKUP(K723,#REF!,3,FALSE)),\" \",VLOOKUP(K723,#REF!,3,FALSE))","v":" "},1873,0,1023877293,"CRISTIAN CAMILO MORENO GARRIDO","Persona Natural",null,"N/A","N/A",null,3600000,0,0,0,{"$f":"+W723+X723+Z723","v":3600000},0,"2022-12-16","2022-12-28","2023-02-11",45,0,0,null,null,null,null,"En ejecución",{"$f":"IF(ISERROR(AB723/AA723),\"-\",(AB723/AA723))","v":0}]
["FDLSC-CPS-456-2022",2022,"FDLSC-CD-186-2022","https://community.secop.gov.co/Public/Tendering/OpportunityDetail/Index?noticeUID=CO1.NTC.3078890&isFromPublicArea=True&isModal=true&asPopupView=true","Contratos de prestación de servicios profesionales y de apoyo a la gestión","Contratación directa","Prestación de servicios profesionales y de apoyo a la gestión, o para la ejecución de trabajos artísticos que sólo puedan encomendarse a determinadas personas naturales","PRESTAR SUS SERVICIOS DE APOYO PARA REALIZAR LA CONDUCCIÓN DE LOS VEHÍCULOS LIVIANOS, PESADOS Y/O MAQUINARIA PESADA QUE SE ENCUENTRE AL SERVICIO DE LAS ACTIVIDADES DESARROLLADAS EN EL FDL.","Inversión","Un nuevo contrato social y ambiental para la Bogotá del Siglo XXI",57,{"$f":"IF(ISERROR(VLOOKUP(K724,#REF!,2,FALSE)),\" \",VLOOKUP(K724,#REF!,2,FALSE))","v":" "},{"$f":"IF(ISERROR(VLOOKUP(K724,#REF!,3,FALSE)),\" \",VLOOKUP(K724,#REF!,3,FALSE))","v":" "},1873,0,79285938,"LUIS ERNESTO VARGAS AROCA","Persona Natural",null,"N/A","N/A",null,12772000,-9195840,0,0,{"$f":"+W724+X724+Z724","v":3576160},3576160,"2022-08-12","2022-08-19","2022-12-31",150,0,0,null,null,null,null,"Liquidado",{"$f":"IF(ISERROR(AB724/AA724),\"-\",(AB724/AA724))","v":1}]
["FDLSC-CPS-652-2022",2022,"FDLSC-MIC-012-2022","https://community.secop.gov.co/Public/Tendering/OpportunityDetail/Index?noticeUID=CO1.NTC.3650171&isFromPublicArea=True&isModal=true&asPopupView=true","Contratos de prestación de servicios","Contratación mínima cuantia","No aplica","CONTRATAR EL SERVICIO TÉCNICO ESPECIALIZADO PARA TALA DE DOS (2) INDIVIDUOS ARBÓREOS QUE PRESENTAN RIESGO, EN LA ALCALDÍA LOCAL DE SAN CRISTÓBAL; INCLUIDO EL TRANSPORTE Y DISPOSICIÓN FINAL DE RESIDUOS.","Inversión","Un nuevo contrato social y ambiental para la Bogotá del Siglo XXI",57,{"$f":"IF(ISERROR(VLOOKUP(K725,#REF!,2,FALSE)),\" \",VLOOKUP(K725,#REF!,2,FALSE))","v":" "},{"$f":"IF(ISERROR(VLOOKUP(K725,#REF!,3,FALSE)),\" \",VLOOKUP(K725,#REF!,3,FALSE))","v":" "},1873,2,830118188,"FUNDACION PARA EL DESARROLLO SOSTENIBLE DE LAS ZONAS DEL PARAMO Y SU AREA DE INFLUENCIA","Persona Jurídica",null,"N/A","N/A",null,3570000,0,0,0,{"$f":"+W725+X725+Z725","v":3570000},0,"2022-12-28","2023-01-06","2023-03-05",30,0,0,null,null,null,null,"En ejecución",{"$f":"IF(ISERROR(AB725/AA725),\"-\",(AB725/AA725))","v":0}]
[103056,2022,177352,"https://colombiacompra.gov.co/tienda-virtual-del-estado-colombiano/ordenes-compra/103056","Otros","Selección abreviada","Acuerdo marco de precios ","CONTRATAR LA ADQUISICIÓN DE EQUIPOS TECNOLÓGICOS QUE INCIDAN EN EL FORTALECIMIENTO INSTITUCIONAL Y FOMENTO DE LA PARTICIPACIÓN CIUDADANA A TRAVÉS DE LA ESTRATEGIA GOBIERNO ABIERTO LOTE III: IMPRESORAS PORTATILES (LOTE 11 ACUERDO MARCO DE PRECIOS)","Inversión","Un nuevo contrato social y ambiental para la Bogotá del Siglo XXI",57,{"$f":"IF(ISERROR(VLOOKUP(K726,#REF!,2,FALSE)),\" \",VLOOKUP(K726,#REF!,2,FALSE))","v":" "},{"$f":"IF(ISERROR(VLOOKUP(K726,#REF!,3,FALSE)),\" \",VLOOKUP(K726,#REF!,3,FALSE))","v":" "},1873,16,830001338,"SUMIMAS S A S","Persona Jurídica",null,"N/A","N/A",null,3568796,0,0,0,{"$f":"+W726+X726+Z726","v":3568796},0,"2022-12-23","2022-12-23","2023-06-22",180,0,0,null,null,null,null,"En ejecución",{"$f":"IF(ISERROR(AB726/AA726),\"-\",(AB726/AA726))","v":0}]
[5352020,2020,"FDLSC-SAMC-001-2020","https://community.secop.gov.co/Public/Tendering/OpportunityDetail/Index?noticeUID=CO1.NTC.1441839&isFromPublicArea=True&isModal=true&asPopupView=true","Seguro","Selección abreviada","Selección abreviada por menor cuantía ","CONTRATAR CON UNA COMPAÑÍA ASEGURADORA, AVALADA POR LA SUPERINTENDENCIA FINANCIERA, LOS SEGUROS QUE AMPAREN LOS BIENES MUEBLES E INMUEBLES, Y EN GENERAL, EL PATRIMONIO DEL FONDO DE DESARROLLO LOCAL DE SAN CRISTÓBAL","Funcionamiento","Un nuevo contrato social y ambiental para la Bogotá del Siglo XXI","No aplica",{"$f":"IF(ISERROR(VLOOKUP(K727,#REF!,2,FALSE)),\" \",VLOOKUP(K727,#REF!,2,FALSE))","v":" "},{"$f":"IF(ISERROR(VLOOKUP(K727,#REF!,3,FALSE)),\" \",VLOOKUP(K727,#REF!,3,FALSE))","v":" "},1359,1,"860524654","ASEGURADORA SOLIDARIA DE COLOMBIA ENTIDA D COOPERATIVA","Persona Natural","N/A","N/A","N/A",null,0,0,1,3360230,{"$f":"+W727+X727+Z727","v":3360230},3360230,"2022-02-07","2020-09-22","2022-04-21",431,2,148,null,null,null,null,"Terminado",{"$f":"IF(ISERROR(AB727/AA727),\"-\",(AB727/AA727))","v":1}]
["FDLSC-CPS-637-2022",2022,"FDLSC-CD-345-2022","https://community.secop.gov.co/Public/Tendering/OpportunityDetail/Index?noticeUID=CO1.NTC.3656952&isFromPublicArea=True&isModal=true&asPopupView=true","Contratos de prestación de servicios profesionales y de apoyo a la gestión","Contratación directa","Prestación de servicios profesionales y de apoyo a la gestión, o para la ejecución de trabajos artísticos que sólo puedan encomendarse a determinadas personas naturales","PRESTAR SUS SERVICIOS DE APOYO ASISTENCIAL PARA LA GESTIÓN DEL RIESGO, EN EL MARCO DE LOS VÍGIAS DEL RIESGO DE LA LOCALIDAD DE SAN CRISTÓBAL, A LA LUZ DEL PLAN DE DESARROLLO 2021-2024","Inversión","Un nuevo contrato social y ambiental para la Bogotá del Siglo XXI",30,{"$f":"IF(ISERROR(VLOOKUP(K728,#REF!,2,FALSE)),\" \",VLOOKUP(K728,#REF!,2,FALSE))","v":" "},{"$f":"IF(ISERROR(VLOOKUP(K728,#REF!,3,FALSE)),\" \",VLOOKUP(K728,#REF!,3,FALSE))","v":" "},1866,0,1016072674,"BRAYAN STICK BARBOSA CENDALES","Persona Natural",null,"N/A","N/A",null,2400000,0,0,0,{"$f":"+W728+X728+Z728","v":2400000},0,"2022-12-19","2022-12-23","2023-01-22",30,0,0,null,null,null,null,"En ejecución",{"$f":"IF(ISERROR(AB728/AA728),\"-\",(AB728/AA728))","v":0}]
["FDLSC-CPS-638-2022",2022,"FDLSC-CD-345-2022","https://community.secop.gov.co/Public/Tendering/OpportunityDetail/Index?noticeUID=CO1.NTC.3656952&isFromPublicArea=True&isModal=true&asPopupView=true","Contratos de prestación de servicios profesionales y de apoyo a la gestión","Contratación directa","Prestación de servicios profesionales y de apoyo a la gestión, o para la ejecución de trabajos artísticos que sólo puedan encomendarse a determinadas personas naturales","PRESTAR SUS SERVICIOS DE APOYO ASISTENCIAL PARA LA GESTIÓN DEL RIESGO, EN EL MARCO DE LOS VÍGIAS DEL RIESGO DE LA LOCALIDAD DE SAN CRISTÓBAL, A LA LUZ DEL PLAN DE DESARROLLO 2021-2024","Inversión","Un nuevo contrato social y ambiental para la Bogotá del Siglo XXI",30,{"$f":"IF(ISERROR(VLOOKUP(K729,#REF!,2,FALSE)),\" \",VLOOKUP(K729,#REF!,2,FALSE))","v":" "},{"$f":"IF(ISERROR(VLOOKUP(K729,#REF!,3,FALSE)),\" \",VLOOKUP(K729,#REF!,3,FALSE))","v":" "},1866,0,51988791,"BILSAM LÓPEZ CARDENAS","Persona Natural",null,"N/A","N/A",null,2400000,0,0,0,{"$f":"+W729+X729+Z729","v":2400000},0,"2022-12-20","2022-12-22","2023-01-21",30,0,0,null,null,null,null,"En ejecución",{"$f":"IF(ISERROR(AB729/AA729),\"-\",(AB729/AA729))","v":0}]
["FDLSC-CPS-643-2022",2022,"FDLSC-CD-345-2022","https://community.secop.gov.co/Public/Tendering/OpportunityDetail/Index?noticeUID=CO1.NTC.3656952&isFromPublicArea=True&isModal=true&asPopupView=true","Contratos de prestación de servicios profesionales y de apoyo a la gestión","Contratación directa","Prestación de servicios profesionales y de apoyo a la gestión, o para la ejecución de trabajos artísticos que sólo puedan encomendarse a determinadas personas naturales","PRESTAR SUS SERVICIOS DE APOYO ASISTENCIAL PARA LA GESTIÓN DEL RIESGO, EN EL MARCO DE LOS VÍGIAS DEL RIESGO DE LA LOCALIDAD DE SANPRESTAR SUS SERVICIOS DE APOYO ASISTENCIAL PARA LA GESTIÓN DEL RIESGO, EN EL MARCO DE LOS VÍGIAS DEL RIESGO DE LA LOCALIDAD DE SAN CRISTÓBAL, A LA LUZ DEL PLAN DE DESARROLLO 2021-2024","Inversión","Un nuevo contrato social y ambiental para la Bogotá del Siglo XXI",30,{"$f":"IF(ISERROR(VLOOKUP(K730,#REF!,2,FALSE)),\" \",VLOOKUP(K730,#REF!,2,FALSE))","v":" "},{"$f":"IF(ISERROR(VLOOKUP(K730,#REF!,3,FALSE)),\" \",VLOOKUP(K730,#REF!,3,FALSE))","v":" "},1866,0,80360423,"JOSE ALBERTO CARVAJAL LIZARAZO","Persona Natural",null,"N/A","N/A",null,2400000,0,0,0,{"$f":"+W730+X730+Z730","v":2400000},0,"2022-12-23","2022-12-27","2023-01-26",30,0,0,null,null,null,null,"En ejecución",{"$f":"IF(ISERROR(AB730/AA730),\"-\",(AB730/AA730))","v":0}]
["FDLSC-CPS-644-2022",2022,"FDLSC-CD-345-2022","https://community.secop.gov.co/Public/Tendering/OpportunityDetail/Index?noticeUID=CO1.NTC.3656952&isFromPublicArea=True&isModal=true&asPopupView=true","Contratos de prestación de servicios profesionales y de apoyo a la gestión","Contratación directa","Prestación de servicios profesionales y de apoyo a la gestión, o para la ejecución de trabajos artísticos que sólo puedan encomendarse a determinadas personas naturales","PRESTAR SUS SERVICIOS DE APOYO ASISTENCIAL PARA LA GESTIÓN DEL RIESGO, EN EL MARCO DE LOS VÍGIAS DEL RIESGO DE LA LOCALIDAD DE SANPRESTAR SUS SERVICIOS DE APOYO ASISTENCIAL PARA LA GESTIÓN DEL RIESGO, EN EL MARCO DE LOS VÍGIAS DEL RIESGO DE LA LOCALIDAD DE SAN CRISTÓBAL, A LA LUZ DEL PLAN DE DESARROLLO 2021-2024","Inversión","Un nuevo contrato social y ambiental para la Bogotá del Siglo XXI",30,{"$f":"IF(ISERROR(VLOOKUP(K731,#REF!,2,FALSE)),\" \",VLOOKUP(K731,#REF!,2,FALSE))","v":" "},{"$f":"IF(ISERROR(VLOOKUP(K731,#REF!,3,FALSE)),\" \",VLOOKUP(K731,#REF!,3,FALSE))","v":" "},1866,0,1000047002,"MARIAN DAYANA SARMIENTO PULIDO","Persona Natural",null,"N/A","N/A",null,2400000,0,0,0,{"$f":"+W731+X731+Z731","v":2400000},0,"2022-12-23","2022-12-27","2023-01-26",30,0,0,null,null,null,null,"En ejecución",{"$f":"IF(ISERROR(AB731/AA731),\"-\",(AB731/AA731))","v":0}]
["FDLSC-CPS-646-2022",2022,"FDLSC-CD-347-2022","https://community.secop.gov.co/Public/Tendering/OpportunityDetail/Index?noticeUID=CO1.NTC.3672209&isFromPublicArea=True&isModal=true&asPopupView=true","Contratos de prestación de servicios profesionales y de apoyo a la gestión","Contratación directa","Prestación de servicios profesionales y de apoyo a la gestión, o para la ejecución de trabajos artísticos que sólo puedan encomendarse a determinadas personas naturales","PRESTAR LOS SERVICIOS DE APOYO A LA GESTIÓN PARA ACOMPAÑAR TODOS LOS TEMAS RELACIONADOS CON LOS PROYECTOS DE ACUERDOS EN EL MARCO PLAN DE DESARROLLO LOCAL","Inversión","Un nuevo contrato social y ambiental para la Bogotá del Siglo XXI",45,{"$f":"IF(ISERROR(VLOOKUP(K732,#REF!,2,FALSE)),\" \",VLOOKUP(K732,#REF!,2,FALSE))","v":" "},{"$f":"IF(ISERROR(VLOOKUP(K732,#REF!,3,FALSE)),\" \",VLOOKUP(K732,#REF!,3,FALSE))","v":" "},1835,0,1013640568,"MARTHA INES TRIANA VIGOYA","Persona Natural",null,"N/A","N/A",null,2400000,0,0,0,{"$f":"+W732+X732+Z732","v":2400000},0,"2022-12-23","2022-12-29","2023-01-28",30,0,0,null,null,null,null,"En ejecución",{"$f":"IF(ISERROR(AB732/AA732),\"-\",(AB732/AA732))","v":0}]
["FDLSC-CPS-647-2022",2022,"FDLSC-CD-348-2022","https://community.secop.gov.co/Public/Tendering/OpportunityDetail/Index?noticeUID=CO1.NTC.3681279&isFromPublicArea=True&isModal=true&asPopupView=true","Contratos de prestación de servicios profesionales y de apoyo a la gestión","Contratación directa","Prestación de servicios profesionales y de apoyo a la gestión, o para la ejecución de trabajos artísticos que sólo puedan encomendarse a determinadas personas naturales","PRESTAR SU SERVICIOS ASISTENCIALES PARA EL APOYO A LOS PROCESO DE PROTECCIÓN Y BIENESTAR ANIMAL DEL FONDO DE DESARROLLO LOCAL DE SAN CRÍSTOBAL EN MATERIA ADMINISTRATIVA, ASÍ COMO LABORES DE CAMPO","Inversión","Un nuevo contrato social y ambiental para la Bogotá del Siglo XXI",34,{"$f":"IF(ISERROR(VLOOKUP(K733,#REF!,2,FALSE)),\" \",VLOOKUP(K733,#REF!,2,FALSE))","v":" "},{"$f":"IF(ISERROR(VLOOKUP(K733,#REF!,3,FALSE)),\" \",VLOOKUP(K733,#REF!,3,FALSE))","v":" "},1826,0,35318520,"MARTHA ISABEL MORA BERMUDEZ","Persona Natural",null,"N/A","N/A",null,2400000,0,0,0,{"$f":"+W733+X733+Z733","v":2400000},0,"2022-12-28","2022-12-30","2023-01-29",30,0,0,null,null,null,null,"En ejecución",{"$f":"IF(ISERROR(AB733/AA733),\"-\",(AB733/AA733))","v":0}]
["FDLSC-INTV-367-2022",2022,"FDLSC-CMA-002-2022","https://community.secop.gov.co/Public/Tendering/OpportunityDetail/Index?noticeUID=CO1.NTC.2923330&isFromPublicArea=True&isModal=False","Interventoría","Concurso de méritos","No aplica","REALIZAR LA INTERVENTORIA TECNICA, ADMINISTRATIVA, FINANCIERA, JURIDICA, SOCIAL, AMBIENTAL Y SST AL CONTRATO QUE TIENE COMO OBJETO CONTRATAR A PRECIOS UNITARIOS, LAS OBRAS DE CONSTRUCCIÓN DE PARQUES VECINALES Y/O BOLSILLO DE LA LOCALIDAD DE SAN CRISTOBAL EN LA CIUDAD DE BOGOTÁ D.C, DE CONFORMIDAD CON LOS ESTUDIOS Y DISEÑOS ARQUITECTONICOS","Inversión","Un nuevo contrato social y ambiental para la Bogotá del Siglo XXI",33,{"$f":"IF(ISERROR(VLOOKUP(K734,#REF!,2,FALSE)),\" \",VLOOKUP(K734,#REF!,2,FALSE))","v":" "},{"$f":"IF(ISERROR(VLOOKUP(K734,#REF!,3,FALSE)),\" \",VLOOKUP(K734,#REF!,3,FALSE))","v":" "},1863,2,901601348,"CONSORCIO PARQUES SC","Consorcio",900503599,"DAM SOLUCIONES E INGENIERIA SAS",0.15,null,0,0,0,0,{"$f":"+W734+X734+Z734","v":0},0,"2022-06-01","2022-04-22","2023-08-22",420,0,0,null,null,null,null,"En ejecución",{"$f":"IF(ISERROR(AB734/AA734),\"-\",(AB734/AA734))","v":"-"}]
["FDLSC-INTV-367-2022",2022,"FDLSC-CMA-002-2022","https://community.secop.gov.co/Public/Tendering/OpportunityDetail/Index?noticeUID=CO1.NTC.2923330&isFromPublicArea=True&isModal=False","Interventoría","Concurso de méritos","No aplica","REALIZAR LA INTERVENTORIA TECNICA, ADMINISTRATIVA, FINANCIERA, JURIDICA, SOCIAL, AMBIENTAL Y SST AL CONTRATO QUE TIENE COMO OBJETO CONTRATAR A PRECIOS UNITARIOS, LAS OBRAS DE CONSTRUCCIÓN DE PARQUES VECINALES Y/O BOLSILLO DE LA LOCALIDAD DE SAN CRISTOBAL EN LA CIUDAD DE BOGOTÁ D.C, DE CONFORMIDAD CON LOS ESTUDIOS Y DISEÑOS ARQUITECTONICOS","Inversión","Un nuevo contrato social y ambiental para la Bogotá del Siglo XXI",33,{"$f":"IF(ISERROR(VLOOKUP(K735,#REF!,2,FALSE)),\" \",VLOOKUP(K735,#REF!,2,FALSE))","v":" "},{"$f":"IF(ISERROR(VLOOKUP(K735,#REF!,3,FALSE)),\" \",VLOOKUP(K735,#REF!,3,FALSE))","v":" "},1863,2,901601348,"CONSORCIO PARQUES SC","Consorcio",901045594,"EIS CONSTRUCTORES SAS",0.35,null,0,0,0,0,{"$f":"+W735+X735+Z735","v":0},0,"2022-06-01","2022-04-22","2023-08-22",420,0,0,null,null,null,null,"En ejecución",{"$f":"IF(ISERROR(AB735/AA735),\"-\",(AB735/AA735))","v":"-"}]
["FDLSC-CVNI-412-2022",2022,"FDLSC-CD-197-2022","https://www.contratos.gov.co/consultas/detalleProceso.do?numConstancia=22-22-41448&g-recaptcha-response=03ANYolqvPuTGwYq9fW4CR5gbA1WcVV_zoqCiCYBN-6knpww4YWnZ6ARKtRjwiwzgNo7vYeuZRNPoNX2sKL17k4jostDJ9Nty3rsedM5n--jk9kQqoIFdJg37KP9zYNMNk0h3gR9YfPAuWLY4IU3j4cbzLTWwIRsfWib234wi7y1NMtiy11HILI3p_RFXKsTEsZblSngJcR40yw1fBAg4QcaQ4aDTlKYJ7w7OWfU50strnViJm3t4U4pUa_CBQfJ_qY6FJ5Sn3BpHduTCxLjQ7RfOl4Np1eWjhaEW1RqfeDPU48ogNDhT0UbKhfMszMm4nMIhR6vgQod8TH24hWFs_I8-buLkzRFxvjVcNlTo1-tHSV6ZvTgdCipqD947ZRnL8G0IWcggcwBjHWCv3qI91v65wKb1FeejdAboJeHSoUdCmqON2KyUYSjLT26a8wA9rEJK_XqAiKXhGFZh8lhpp9G1VbaIlv5H93ACTgNG2tZjKuTqV3oxZkQCcBFXiVBqcs-yVldbhpRLGKEyHvEyP_Fy6kjXa1auDEQ","Convenios/Contratos interadministrativos","Contratación directa","Contratos interadministrativos","AUNAR ESFUERZOS ADMINISTRATIVOS,TÉCNICOS Y LOGÍSTICOS PARA EL CUMPLIMIENTO DE LAS METAS RELACIONADAS CON EL DESARROLLO, CONSOLIDACIÓN Y FORTALECIMIENTO DE LA ECONOMÍA DISTRITAL EN LAS LOCALIDADES PARTICIPANTES.","Inversión","Un nuevo contrato social y ambiental para la Bogotá del Siglo XXI",43,{"$f":"IF(ISERROR(VLOOKUP(K736,#REF!,2,FALSE)),\" \",VLOOKUP(K736,#REF!,2,FALSE))","v":" "},{"$f":"IF(ISERROR(VLOOKUP(K736,#REF!,3,FALSE)),\" \",VLOOKUP(K736,#REF!,3,FALSE))","v":" "},1824,0,899999061,"SECRETARIA DISTRITAL DE DESARROLLO ECONOMICO","Persona Jurídica",null,"N/A","N/A",null,0,0,0,0,{"$f":"+W736+X736+Z736","v":0},0,"2022-08-08","2022-08-08","2023-08-07",360,0,0,null,null,null,null,"En ejecución",{"$f":"IF(ISERROR(AB736/AA736),\"-\",(AB736/AA736))","v":"-"}]
["FDLSC-CPS-620-2022",2022,"FDLSC-SAMC-002-2022","https://community.secop.gov.co/Public/Tendering/OpportunityDetail/Index?noticeUID=CO1.NTC.3569349&isFromPublicArea=True&isModal=true&asPopupView=true","Contratos de prestación de servicios","Selección abreviada","Selección abreviada por menor cuantía ","CONTRATAR LA PRESTACIÓN DE SERVICIOS DE OPERADOR LOGÍSTICO, PARA LA ORGANIZACIÓN, PRODUCCIÓN Y DEMÁS ACCIONES LOGÍSTICAS, A MONTO AGOTABLE PARA LA REALIZACIÓN DE EVENTOS DE CIRCULACIÓN ARTÍSTICA, CULTURAL Y PATRIMONIAL DE LA ALCALDÍA LOCAL DE SAN CRISTÓBAL","Inversión","Un nuevo contrato social y ambiental para la Bogotá del Siglo XXI",21,{"$f":"IF(ISERROR(VLOOKUP(K737,#REF!,2,FALSE)),\" \",VLOOKUP(K737,#REF!,2,FALSE))","v":" "},{"$f":"IF(ISERROR(VLOOKUP(K737,#REF!,3,FALSE)),\" \",VLOOKUP(K737,#REF!,3,FALSE))","v":" "},1803,8,0,"UNION TEMPORAL FIESTAS SAN CRISTOBAL 2022","Unión Temporal",900934512,"VIVACE PRODUCCIONES COLOMBIA SAS",0.4,null,0,0,0,0,{"$f":"+W737+X737+Z737","v":0},0,"2022-12-23","2022-12-27","2023-04-26",120,0,0,null,null,null,null,"En ejecución",{"$f":"IF(ISERROR(AB737/AA737),\"-\",(AB737/AA737))","v":"-"}]
["FDLSC-CSU-649-2022",2022,"FDLSC-SASI-009-2022","https://community.secop.gov.co/Public/Tendering/OpportunityDetail/Index?noticeUID=CO1.NTC.3297541&isFromPublicArea=True&isModal=true&asPopupView=true","Suministro","Selección abreviada","Subasta inversa ","ADQUISICIÓN DE ELEMENTOS DEPORTIVOS PARA LA DOTACIÓN DE LAS ESCUELAS Y CLUBES DEPORTIVOS, AVALADOS POR EL IDRD Y DEPORTISTAS DE ALTO RENDIMIENTO DE LA LOCALIDAD DE SAN CRISTÓBAL EN EL MARCO DEL PROYECTO 1801, SAN CRISTÓBAL ES DEPORTE.","Inversión","Un nuevo contrato social y ambiental para la Bogotá del Siglo XXI",20,{"$f":"IF(ISERROR(VLOOKUP(K738,#REF!,2,FALSE)),\" \",VLOOKUP(K738,#REF!,2,FALSE))","v":" "},{"$f":"IF(ISERROR(VLOOKUP(K738,#REF!,3,FALSE)),\" \",VLOOKUP(K738,#REF!,3,FALSE))","v":" "},1801,9,901659143,"CONSORCIO DEPORTES SAN CRISTOBAL","Consorcio",14223251,"AROTEX CONFECCIONES",0.1,null,0,0,0,0,{"$f":"+W738+X738+Z738","v":0},0,"2022-12-28","2022-12-30","2023-03-29",90,0,0,null,null,null,null,"En ejecución",{"$f":"IF(ISERROR(AB738/AA738),\"-\",(AB738/AA738))","v":"-"}]
[5962020,2020,"FDLSC-LP-002-2020","https://community.secop.gov.co/Public/Tendering/OpportunityDetail/Index?noticeUID=CO1.NTC.1542157&isFromPublicArea=True&isModal=False","Obra pública","Licitación pública","No aplica","REALIZAR LAS OBRAS DE CONSERVACIÓN DE LA MALLA VIAL Y ESPACIO PÚBLICO ASOCIADO EN LA LOCALIDAD DE SAN CRISTÓBAL, BOGOTÁ, D.C. A TRAVÉS DEL SISTEMA DE PRECIOS UNITARIOS FIJOS, SIN FORMULA DE REAJUSTE Y A MONTO AGOTABLE","Inversión","Un nuevo contrato social y ambiental para la Bogotá del Siglo XXI",49,{"$f":"IF(ISERROR(VLOOKUP(K739,#REF!,2,FALSE)),\" \",VLOOKUP(K739,#REF!,2,FALSE))","v":" "},{"$f":"IF(ISERROR(VLOOKUP(K739,#REF!,3,FALSE)),\" \",VLOOKUP(K739,#REF!,3,FALSE))","v":" "},1871,53,"901461394","CONSORCIO GAMA GALAN DQ","Consorcio",830136490,"GAMA INGENIEROS ARQUITECTOS S.A.S",0.4,null,0,0,0,0,{"$f":"+W739+X739+Z739","v":0},0,"2022-02-14","2021-03-15","2022-06-14",450,1,120,null,null,null,null,"Terminado",{"$f":"IF(ISERROR(AB739/AA739),\"-\",(AB739/AA739))","v":"-"}]
[5962020,2020,"FDLSC-LP-002-2020","https://community.secop.gov.co/Public/Tendering/OpportunityDetail/Index?noticeUID=CO1.NTC.1542157&isFromPublicArea=True&isModal=False","Obra pública","Licitación pública","No aplica","REALIZAR LAS OBRAS DE CONSERVACIÓN DE LA MALLA VIAL Y ESPACIO PÚBLICO ASOCIADO EN LA LOCALIDAD DE SAN CRISTÓBAL, BOGOTÁ, D.C. A TRAVÉS DEL SISTEMA DE PRECIOS UNITARIOS FIJOS, SIN FORMULA DE REAJUSTE Y A MONTO AGOTABLE","Inversión","Un nuevo contrato social y ambiental para la Bogotá del Siglo XXI",49,{"$f":"IF(ISERROR(VLOOKUP(K740,#REF!,2,FALSE)),\" \",VLOOKUP(K740,#REF!,2,FALSE))","v":" "},{"$f":"IF(ISERROR(VLOOKUP(K740,#REF!,3,FALSE)),\" \",VLOOKUP(K740,#REF!,3,FALSE))","v":" "},1871,53,"901461394","CONSORCIO GAMA GALAN DQ","Consorcio",19080314,"JOSE GUILLERMO GALAN GOMEZ",0.1,null,0,0,0,0,{"$f":"+W740+X740+Z740","v":0},0,"2022-02-14","2021-03-15","2022-06-14",450,1,120,null,null,null,null,"Terminado",{"$f":"IF(ISERROR(AB740/AA740),\"-\",(AB740/AA740))","v":"-"}]
[6152020,2020,"FDLSC-CMA-002-2020","https://community.secop.gov.co/Public/Tendering/OpportunityDetail/Index?noticeUID=CO1.NTC.1554733&isFromPublicArea=True&isModal=true&asPopupView=true\n","Interventoría","Concurso de méritos","No aplica","\tREALIZAR LA INTERVENTORÍA, TÉCNICA, ADMINISTRATIVA, JURÍDICA, FINANCIERA, SOCIAL, AMBIENTAL Y DE SEGURIDAD Y SALUD EN EL TRABAJO AL CONTRATO CUYO OBJETO ES: “REALIZAR LAS OBRAS DE CONSERVACIÓN DE LA MALLA VIAL Y ESPACIO PÚBLICO ASOCIADO EN LA LOCALIDAD DE SAN CRISTÓBAL, BOGOTÁ, D.C. A TRAVÉS DEL SISTEMA DE PRECIOS UNITARIOS FIJOS, SIN FORMULA DE REAJUSTE Y A MONTO AGOTABLE”","Inversión","Un nuevo contrato social y ambiental para la Bogotá del Siglo XXI",49,{"$f":"IF(ISERROR(VLOOKUP(K741,#REF!,2,FALSE)),\" \",VLOOKUP(K741,#REF!,2,FALSE))","v":" "},{"$f":"IF(ISERROR(VLOOKUP(K741,#REF!,3,FALSE)),\" \",VLOOKUP(K741,#REF!,3,FALSE))","v":" "},1871,62,"901442113","CONSORCIO INTER GEOTERRA SAN CRISTOBAL","Consorcio",860038275,"TERRA INGENIEROS CIVILES SAS",0.5,null,0,0,0,0,{"$f":"+W741+X741+Z741","v":0},0,"2022-02-14","2021-03-15","2022-06-14",450,1,120,null,null,null,null,"Liquidado",{"$f":"IF(ISERROR(AB741/AA741),\"-\",(AB741/AA741))","v":"-"}]
[507,2021,"FDLSC-LP-002-2021","https://community.secop.gov.co/Public/Tendering/OpportunityDetail/Index?noticeUID=CO1.NTC.2397616&isFromPublicArea=True&isModal=true&asPopupView=true","Obra pública","Licitación pública","No aplica","EJECUTAR A PRECIOS UNITARIOS SIN FORMULA DE REAJUSTE Y A MONTO AGOTABLE, LAS ACTIVIDADES NECESARIAS PARA LA CONSTRUCCIÓN DE LA MALLA VIAL DE LA LOCALIDAD DE SAN CRISTÓBAL EN BOGOTÁ D.C.","Inversión","Un nuevo contrato social y ambiental para la Bogotá del Siglo XXI",49,{"$f":"IF(ISERROR(VLOOKUP(K742,#REF!,2,FALSE)),\" \",VLOOKUP(K742,#REF!,2,FALSE))","v":" "},{"$f":"IF(ISERROR(VLOOKUP(K742,#REF!,3,FALSE)),\" \",VLOOKUP(K742,#REF!,3,FALSE))","v":" "},1871,0,"901607744","CONSORCIO VIA D J","Consorcio",19080314,"JOSE GUILLERMO GALAN GOMEZ",0.5,null,0,0,0,0,0,0,"2022-08-05","2022-02-04","2022-12-19",249,1,23,null,null,null,null,"Terminado",{"$f":"IF(ISERROR(AB742/AA742),\"-\",(AB742/AA742))","v":"-"}]
["Total",null,null,null,null,null,null,null,null,null,null,null,null,null,null,null,null,null,null,null,null,null,{"$f":"SUM(W4:W741)","v":85733610794},{"$f":"SUM(X4:X741)","v":-378637876},{"$f":"SUM(Y4:Y742)","v":261},{"$f":"SUM(Z4:Z742)","v":8686820275},{"$f":"SUM(AA4:AA741)","v":94041793193},{"$f":"SUM(AB4:AB741)","v":49649809207},null,null,null,null,null,null,null,null,null,null,null,{"$f":"SUM(AN4:AN741)","v":477.93425029719913}]
[" "," "," "," "," "," "," "," "," "," "," "," "," "," "," "," "," "," "," "," "," "," "," "," "," "," "," "," "," "," "," "," "," "," "," "," "," "," "," "," "]

{"sheet":"Tipo","index":1,"n_rows":67,"n_cols":5,"rows_kept":67,"cut":false,"hidden":true,"merged":[]}
[null,null,"Modalidad de Selección","afectacion","Naturaleza Jurídica"]
[1,null,"Concurso de méritos","Funcionamiento","Persona Natural"]
[2,null,"Contratación directa","Inversión","Persona Jurídica"]
[3,null,"Contratación mínima cuantia","Operación","Unión Temporal"]
[4,null,"Selección abreviada",null,"Consorcio"]
[5,null,"Licitación pública",null,"Sociedad con objeto único"]
[6,null,"Otros",null,"Persona jurídica extranjera"]
[7,null,"Régimen especial",null,"Sin ánimo de lucro"]
[8,null,null,null,"Cabildo indígena"]
[9,null,null,null,"Consejo comunitario de las comunidades negras"]
[10,null,"Selección abreviada",null,"Organizaciones de segundo nivel"]
[11,null,"Subasta inversa ",null,"Formas o expresiones organizativas, afrocolombianas, raizales y palenqueras"]
[12,null,"Bolsas de productos",null,"Organizaciones de base de comunidades negras "]
[13,null,"Acuerdo marco de precios ",null,"Asociaciones de autoridades tradicionales indígenas"]
[14,null,"Selección abreviada por menor cuantía "]
[15]
[16,null,"contratacion directa"]
[17,null,"Urgencia manifiesta"]
[18,null,"Contratación de empréstitos"]
[19,null,"Contratos interadministrativos"]
[20,null,"Contratación de bienes y servicios en el sector Defensa "]
[null,"SECTOR","Contratos para el desarrollo de actividades científicas y tecnológicas"]
[1,"Gestión Pública","Contratos de encargo fiduciario que celebren las entidades territoriales cuando inician el Acuerdo de Reestructuración de Pasivos"]
[{"$f":"+A23+1","v":2},"Gobierno","Cuando no exista pluralidad de oferentes en el mercado"]
[{"$f":"+A24+1","v":3},"Hacienda","Prestación de servicios profesionales y de apoyo a la gestión, o para la ejecución de trabajos artísticos que sólo puedan encomendarse a determinadas personas naturales"]
[4,"Planeación","El arrendamiento o adquisición de inmuebles"]
[5,"Desarrollo Económico, Industria y Turismo","Contratación de bienes y servicios de la Dirección Nacional de Inteligencia (DNI)"]
[6,"Educación"]
[7,"Salud"]
[8,"Integración Social","Decreto 92 de 2017"]
[9,"Cultura, Recreación y Deporte","No aplica"]
[10,"Ambiente"]
[11,"Movilidad","SECOP I"]
[12,"Hábitat","SECOP II"]
[13,"Mujeres"]
[14,"Seguridad, Convivencia y Justicia","Bogotá Mejor para Todos"]
[15,"Gestión Juridíca","Un Nuevo Contrato Social y Ambiental para la Bogotá del Siglo XXI"]
[16,"descentralizado territorialmente"]
[]
[null,"16 - AL","Estado"]
[null,null,"Celebrado o por iniciar"]
[null,"Plan de desarrollo distrital","En ejecución"]
[null,"Un nuevo contrato social y ambiental para la Bogotá del Siglo XXI","Terminado"]
[null,null,"Liquidado"]
[]
[null,"Tipo"]
[null,"Obra pública"]
[null,"Consultoría"]
[null,"Interventoría"]
[null,"Contratos de prestación de servicios"]
[null,"Contratos de prestación de servicios profesionales y de apoyo a la gestión"]
[null,"Compraventa de bienes muebles"]
[null,"Compraventa de bienes inmuebles"]
[null,"Arrendamiento de bienes muebles"]
[null,"Arrendamiento de bienes inmuebles"]
[null,"Seguro"]
[null,"Suministro"]
[null,"Empréstitos"]
[null,"Fiducia mercantil o encargo fiduciario"]
[null,"Concesión "]
[null,"Convenios de cooperacion"]
[null,"Convenios/Contratos interadministrativos"]
[null,"Convenios de apoyo o convenios de asociación "]
[null,"Convenios solidarios"]
[null,"Asociaciones Público Privadas"]
[null,"Otros"]
[null,"Otros gastos"]