{"text_format":"1","workbook":"xlsx","n_sheets":35,"sheets":["Principal","Gráficas ODS","ODS","Anexo ODS","Hoja1","Base de Datos MUSI 2017-2020","Pond Programa","LISTAS 02","Inf Ejec","NomLocIE","Anexo PMR","PMR","NomLocPMR","Dashboard","INFORME INDICADOR SECTORIAL","LINEA DE TIEMPO","DBO1","DB02","DB03","DB04","DB05","DB06","DB07","DB08","DB09","DB10","DB11","DB12","AGREGACION","AI1","AI2","ATotal","IA03","Indicadores agregados","listas"],"not_rendered":{"charts":20,"images":16,"macros":1,"external_links":3,"defined_names":173,"comments":2,"pivot_tables":29},"unopened":[],"bounds":{"document_bytes":16777216,"sheet_cells":100000,"rows_first":2000,"rows_last":500,"rows_between":2000,"halvings":0,"cell_chars":16384,"cell_head_chars":4096},"cells_cut":0,"cells_raw":0,"read":"whole","date_system":"1900"}

{"sheet":"Principal","index":0,"n_rows":22,"n_cols":9,"rows_kept":22,"cut":false,"hidden":false,"merged":[[21,2,21,12],[7,2,7,6],[2,2,4,12],[5,8,5,11],[6,2,6,12],[7,8,7,12],[19,7,19,11],[8,2,8,6],[8,8,8,12]]}
[]
[]
[]
[]
[]
[]
[]
[]
[null,null,"Informes por Meta",null,null,null,null,null,"Informes Gráficos"]
[]
[]
[]
[]
[]
[]
[]
[]
[]
[]
[]
[]
[null,null,"EDITADO POR LA SECRETARÍA DISTRITAL DE PLANEACIÓN"]

{"sheet":"Gráficas ODS","index":1,"n_rows":61,"n_cols":27,"rows_kept":61,"cut":false,"hidden":true,"merged":[[42,0,42,5],[60,21,60,26]]}
["Año_corte","2021_1",null,{"$f":"VLOOKUP(B1,FECHAS,2,0)","v":"Marzo 31 de 2021"}]
["Nombre Localidad ","Usaquén"]
[]
["Nombre_ODS\nConpes 3918 de 2018","Suma de Total Compromisos 2021-2024"]
["Ciudades y comunidades sostenibles",288719280,null,{"$f":"GETPIVOTDATA(\"Total Compromisos 2021-2024\",$A$4,\"Nombre_ODS\nConpes 3918 de 2018\",\"Ciudades y comunidades sostenibles\")/GETPIVOTDATA(\"Total Compromisos 2021-2024\",$A$4)","v":2.4389145325855895E-2}]
["Educación de calidad",266810000,null,{"$f":"GETPIVOTDATA(\"Total Compromisos 2021-2024\",$A$4,\"Nombre_ODS\nConpes 3918 de 2018\",\"Educación de calidad\")/GETPIVOTDATA(\"Total Compromisos 2021-2024\",$A$4)","v":2.2538390454532899E-2}]
["Fin de la pobreza",4909084000,null,{"$f":"GETPIVOTDATA(\"Total Compromisos 2021-2024\",$A$4,\"Nombre_ODS\nConpes 3918 de 2018\",\"Fin de la pobreza\")/GETPIVOTDATA(\"Total Compromisos 2021-2024\",$A$4)","v":0.41468780018027879}]
["Igualdad de género",96566000]
["Salud y Bienestar",83808000]
["Industria, innovación e infraestructura",214066000]
["Paz, justicia e instituciones sólidas",5358073124]
["Acción por el Clima",52000000]
["Trabajo decente y crecimiento económico",403897280]
["Producción y consumo responsables",93500000]
["Reducción de las desigualdades ",71500000]
["Total general",11838023684]
[]
[]
[]
[]
[]
[]
["Año_corte","2021_1"]
["Nombre Localidad ","Usaquén"]
[]
["Cod","Nombre_ODS","Compromisos 2021","Compromisos 2022","Compromisos 2023","Compromisos 2024"]
[1,"Fin de la pobreza",4909084000,0,0,0,1]
[3,"Salud y Bienestar",83808000,0,0,0,2]
[4,"Educación de calidad",266810000,0,0,0,3]
[5,"Igualdad de género",96566000,0,0,0,4]
[8,"Trabajo decente y crecimiento económico",403897280,0,0,0,5]
[9,"Industria, innovación e infraestructura",214066000,0,0,0,6]
[10,"Reducción de las desigualdades ",71500000,0,0,0,7]
[11,"Ciudades y comunidades sostenibles",288719280,0,0,0,8]
[12,"Producción y consumo responsables",93500000,0,0,0,9]
[13,"Acción por el Clima",52000000,0,0,0,10]
[15,"Vida de ecosistemas terrestres",0,0,0,0]
[16,"Paz, justicia e instituciones sólidas",5358073124,0,0,0]
["Total general",null,11838023684,0,0,0]
[]
[]
[]
["Compromisos  en millones de pesos"]
[]
[]
[]
[]
[]
[]
[]
[null,null,null,null,null,null,null,null,null,null,null,null,null,null,null,null,null,null,null,null,null,"Año_corte","2021_1"]
[null,null,null,null,null,null,null,null,null,null,null,null,null,null,null,null,null,null,null,null,null,"Nombre Localidad ","Usaquén"]
[]
[null,null,null,null,null,null,null,null,null,null,null,null,null,null,null,null,null,null,null,null,null,"COD","Esferas ODS","Compromisos 2021","Compromisos 2022","Compromisos 2023","Compromisos 2024"]
[null,null,null,null,null,null,null,null,null,null,null,null,null,null,null,null,null,null,null,null,null,1,"Las Personas",5356268000,0,0,0]
[null,null,null,null,null,null,null,null,null,null,null,null,null,null,null,null,null,null,null,null,null,2,"La Paz",5358073124,0,0,0]
[null,null,null,null,null,null,null,null,null,null,null,null,null,null,null,null,null,null,null,null,null,3,"La Prosperidad",978182560,0,0,0]
[null,null,null,null,null,null,null,null,null,null,null,null,null,null,null,null,null,null,null,null,null,4,"El Planeta",145500000,0,0,0]
[null,null,null,null,null,null,null,null,null,null,null,null,null,null,null,null,null,null,null,null,null,"Total general",null,11838023684,0,0,0]
[]
[null,null,null,null,null,null,null,null,null,null,null,null,null,null,null,null,null,null,null,null,null,"Compromisos  en millones de pesos"]

{"sheet":"ODS","index":2,"n_rows":99,"n_cols":17,"rows_kept":99,"cut":false,"hidden":false,"merged":[[15,3,15,5],[13,1,13,4],[11,1,12,11],[15,6,15,9]]}
[]
[]
[]
[]
[]
[]
[]
[]
[]
[]
[]
[null,"Objetivos de Desarrollo Sostenible (ODS) FDL"]
[]
[null,{"$f":"'Gráficas ODS'!$D$1","v":"Marzo 31 de 2021"}]
[]
[null,"Localidad:",null,{"$f":"'Gráficas ODS'!$B$2","v":"Usaquén"},null,null,"*Cifras en millones de pesos"]
[]
[]
[]
[]
[]
[]
[]
[]
[]
[]
[]
[]
[]
[]
[]
[]
[]
[]
[]
[]
[]
[]
[]
[null,"Esferas ODS","Codigo_ODS","Nombre_ODS","Cod_meta ODS","Nombre Meta ODS","Código Proyecto","Meta proyecto","Apropiacion inicial POAI 2021","Compromisos 2021","Apropiación inicial 2022","Compromisos 2022","Apropiación inicial POAI 2023","Compromisos 2023","Apropiación inicial POAI 2024","Compromisos 2024","Giros 2021"]
[null,"Las Personas",1,"Fin de la pobreza","1.2","De aquí a 2030, reducir al menos a la mitad la proporción de hombres, mujeres y niños de todas las edades que viven en la pobreza en todas sus dimensiones con arreglo a las definiciones nacionales",1960,"Atender 977 hogares con apoyos que contribuyan al ingreso mínimo garantizado.",5406826000,4447080000,0,0,0,0,0,0,4331333333]
[null,"Las Personas",1,"Fin de la pobreza","1.2","De aquí a 2030, reducir al menos a la mitad la proporción de hombres, mujeres y niños de todas las edades que viven en la pobreza en todas sus dimensiones con arreglo a las definiciones nacionales",1960,"Beneficiar 950 personas mayores con apoyo económico tipo C.",1802275000,462004000,0,0,0,0,0,0,4017566]
[null,"Las Personas",1,"Fin de la pobreza","1.2","De aquí a 2030, reducir al menos a la mitad la proporción de hombres, mujeres y niños de todas las edades que viven en la pobreza en todas sus dimensiones con arreglo a las definiciones nacionales",1988,"Dotar 11 Sedes de atención a la primera infancia y/o adolescencia (jardines infantiles y Centros Amar).",0,null,0,0,0,0,0,0]
[null,"Las Personas",4,"Educación de calidad","4.2","De aquí a 2030, asegurar que todas las niñas y todos los niños tengan acceso a servicios de atención y desarrollo en la primera infancia y educación preescolar de calidad, a fin de que estén preparados para la enseñanza primaria.",1943,"Implementar 12 Proyectos para el desarrollo integral de la primera infancia y la relación escuela, familia y comunidad.",360455000,36000000,0,0,0,0,0,0,3300000]
[null,"Las Personas",4,"Educación de calidad","4.3","De aquí a 2030, asegurar el acceso igualitario de todos los hombres y las mujeres a una formación técnica, profesional y superior de calidad, incluida la enseñanza universitaria.",1687,"Beneficiar 250 estudiantes de programas de educación superior con apoyo de sostenimiento para la permanencia",101711000,null,0,0,0,0,0,0]
[null,"Las Personas",4,"Educación de calidad","4.3","De aquí a 2030, asegurar el acceso igualitario de todos los hombres y las mujeres a una formación técnica, profesional y superior de calidad, incluida la enseñanza universitaria.",1687,"Beneficiar 250 personas con apoyo para la educación superior",3142385000,212810000,0,0,0,0,0,0,581466]
[null,"Las Personas",4,"Educación de calidad","4.7","De aquí a 2030, asegurar que todos los alumnos adquieran los conocimientos teóricos y prácticos necesarios para promover el desarrollo sostenible, entre otras cosas mediante la educación para el desarrollo sostenible y los estilos de vida sostenibles, los derechos humanos, la igualdad de género, la promoción de una cultura de paz y no violencia, la ciudadanía mundial y la valoración de la diversidad cultural y la contribución de la cultura al desarrollo sostenible",1947,"Dotar 10 sedes educativas urbanas",0,null,0,0,0,0,0,0]
[null,"Las Personas",4,"Educación de calidad","4.7","De aquí a 2030, asegurar que todos los alumnos adquieran los conocimientos teóricos y prácticos necesarios para promover el desarrollo sostenible, entre otras cosas mediante la educación para el desarrollo sostenible y los estilos de vida sostenibles, los derechos humanos, la igualdad de género, la promoción de una cultura de paz y no violencia, la ciudadanía mundial y la valoración de la diversidad cultural y la contribución de la cultura al desarrollo sostenible",1939,"Capacitar 680 personas en los campos deportivos",194253000,18000000,0,0,0,0,0,0,0]
[null,"Las Personas",5,"Igualdad de género","5.2","Eliminar todas las formas de violencia contra todas las mujeres y las niñas en los ámbitos público y privado, incluidas la trata y la explotación sexual y otros tipos de explotación",1991,"Vincular 2500 personas en acciones para la prevención del feminicidio y la violencia contra la  mujer.",485631000,46400000,0,0,0,0,0,0,0]
[null,"Las Personas",5,"Igualdad de género","5.4","Reconocer y valorar los cuidados y el trabajo doméstico no remunerados mediante servicios públicos, infraestructuras y políticas de protección social, y promoviendo la responsabilidad compartida en el hogar y la familia, según proceda en cada país",1989,"Vincular 711 mujeres cuidadoras a estrategias de cuidado",291379000,24000000,0,0,0,0,0,0,0]
[null,"Las Personas",5,"Igualdad de género","5.c","Aprobar y fortalecer políticas acertadas y leyes aplicables para promover la igualdad de género y el empoderamiento de todas las mujeres y las niñas a todos los niveles",1991,"Capacitar 1530 personas para la construcción de ciudadanía y desarrollo de capacidades para el ejercicio de derechos de las mujeres",242816000,26166000,0,0,0,0,0,0,0]
[null,"Las Personas",3,"Salud y Bienestar","3.d","Reforzar la capacidad de todos los países, en particular los países en desarrollo, en materia de alerta temprana,  reducción de riesgos y gestión de los riesgos para la salud nacional y mundial",1939,"Vincular 9142 personas en actividades recreodeportivas comunitarias",498569000,47808000,0,0,0,0,0,0,0]
[null,"Las Personas",3,"Salud y Bienestar","3.d","Reforzar la capacidad de todos los países, en particular los países en desarrollo, en materia de alerta temprana, reducción de riesgos y gestión de los riesgos para la salud\nnacional y mundial",1939,"Beneficiar 680 Personas con artículos deportivos entregados",279520000,36000000,0,0,0,0,0,0,0]
[null,"La Prosperidad",11,"Ciudades y comunidades sostenibles","11.4","Redoblar los esfuerzos para proteger y salvaguardar el patrimonio cultural y natural del mundo",1992,"Capacitar 680 personas en los campos artísticos, interculturales, culturales y/o patrimoniales.",194253000,null,0,0,0,0,0,0]
[null,"La Prosperidad",11,"Ciudades y comunidades sostenibles","11.4","Redoblar los esfuerzos para proteger y salvaguardar el patrimonio cultural y natural del mundo",1992,"Realizar 16 eventos de promoción de actividades culturales",447228000,null,0,0,0,0,0,0]
[null,"La Prosperidad",11,"Ciudades y comunidades sostenibles","11.4","Redoblar los esfuerzos para proteger y salvaguardar el patrimonio cultural y natural del mundo",1992,"Otorgar 50 estímulos de apoyo al sector artístico y cultural",582758000,45000000,0,0,0,0,0,0,0]
[null,"La Prosperidad",11,"Ciudades y comunidades sostenibles","11.5","De aquí a 2030, reducir significativamente el número de muertes causadas por los desastres, incluidos los relacionados con el agua, y de personas afectadas por ellos, y reducir considerablemente las pérdidas económicas directas provocadas por los desastres en comparación con el producto interno bruto mundial, haciendo especial hincapié en la protección de los pobres y las personas en situaciones de vulnerabilidad",1940,"Realizar 1 acción efectiva para el fortalecimiento de las capacidades locales para la respuesta a emergencias y desastres",0,null,0,0,0,0,0,0]
[null,"La Prosperidad",11,"Ciudades y comunidades sostenibles","11.7","De aquí a 2030, proporcionar acceso universal a zonas verdes y espacios públicos seguros, inclusivos y accesibles, en particular para las mujeres y los niños, las personas de edad y las personas con discapacidad",1945,"Intervenir 30 Parques vecinales y/o de bolsillo con acciones de mejoramiento, mantenimiento y/o dotación",700514000,118400000,0,0,0,0,0,0,2786667]
[null,"La Prosperidad",11,"Ciudades y comunidades sostenibles","11.7"," De aquí a 2030, proporcionar acceso universal a zonas verdes y espacios públicos seguros, inclusivos y accesibles, en particular para las mujeres y los niños, las personas de edad y las personas con discapacidad",1954,"Intervenir 1700 metros cuadrados de elementos del sistema de espacio público peatonal con acciones de construcción y/o conservación.",0,null,0,0,0,0,0,0]
[null,"La Prosperidad",11,"Ciudades y comunidades sostenibles","11.3","De aquí a 2030, aumentar la urbanización inclusiva y sostenible y la capacidad para la planificación y la gestión participativas, integradas y sostenibles de los asentamientos",1944,"Construir 167 m2 de muros y techos verdes",0,null,0,0,0,0,0,0]
[null,"La Prosperidad",11,"Ciudades y comunidades sostenibles","11.3","De aquí a 2030, aumentar la urbanización inclusiva y sostenible y la capacidad para la planificación y la gestión participativas, integradas y sostenibles de los asentamientos",1944,"Intervenir 9000 m2 de jardinería y coberturas verdes",0,null,0,0,0,0,0,0]
[null,"La Prosperidad",11,"Ciudades y comunidades sostenibles","11.3","De aquí a 2030, aumentar la urbanización inclusiva y sostenible y la capacidad para la planificación y la gestión participativas, integradas y sostenibles de los asentamientos\nhumanos en todos los países",1933,"Atender 4000 animales en urgencias, brigadas médicoveterinarias, acciones de esterilización, educación y adopción.",485631000,90000000,0,0,0,0,0,0,0]
[null,"La Prosperidad",11,"Ciudades y comunidades sostenibles","11.3","De aquí a 2030, aumentar la urbanización inclusiva y sostenible y la capacidad para la planificación y la gestión participativas, integradas y sostenibles de los asentamientos humanos en todos los países",1950,"Intervenir 3 sedes de salones comunales",0,null,0,0,0,0,0,0]
[null,"La Prosperidad",11,"Ciudades y comunidades sostenibles","11.3","De aquí a 2030, aumentar la urbanización inclusiva y sostenible y la capacidad para la planificación y la gestión participativas, integradas y sostenibles de los asentamientos humanos en todos los países",1950,"Dotar 38 sedes de salones comunales",0,null,0,0,0,0,0,0]
[null,"La Prosperidad",11,"Ciudades y comunidades sostenibles","11.2"," De aquí a 2030, proporcionar acceso a sistemas de transporte seguros, asequibles, accesibles y sostenibles para todos y mejorar la seguridad vial, en particular mediante la ampliación del transporte público, prestando especial atención a las necesidades de las personas en situación de vulnerabilidad, las mujeres, los niños, las personas con discapacidad y las personas de edad",1954,"Intervenir 800 metros lineales de Ciclo-infraestructura con acciones de construcción y/o conservación.",383338000,35319280,0,0,0,0,0,0,2207455]
[null,"La Prosperidad",9,"Industria, innovación e infraestructura","9.1","Desarrollar infraestructuras fiables, sostenibles, resilientes y de calidad, incluidas infraestructuras regionales y transfronterizas, para apoyar el desarrollo económico y el bienestar humano, haciendo especial hincapié en el acceso asequible y equitativo para todos",1992,"Intervenir 1 sede cultural con dotación y/o adecuación",582758000,61366000,0,0,0,0,0,0,3960000]
[null,"La Prosperidad",9,"Industria, innovación e infraestructura","9.1","Desarrollar infraestructuras fiables, sostenibles, resilientes y de calidad, incluidas infraestructuras regionales y transfronterizas, para apoyar el desarrollo económico y el bienestar humano, haciendo especial hincapié en el acceso asequible y equitativo para todos",1954,"Intervenir 500 metros cuadrados de Puentes vehiculares y/o peatonales de escala local sobre cuerpos de agua con acciones de construcción y/o conservación.",0,null,0,0,0,0,0,0]
[null,"La Prosperidad",9,"Industria, innovación e infraestructura","9.1","Desarrollar infraestructuras fiables, sostenibles, resilientes y de calidad, incluidas infraestructuras regionales y transfronterizas, para apoyar el desarrollo económico y el bienestar humano, haciendo especial hincapié en el acceso asequible y equitativo para todos",1954,"Intervenir 2 Kilómetros-carril de malla vial urbana (local y/o intermedia) con acciones de construcción y/o conservación.",2913788000,152700000,0,0,0,0,0,0,5750000]
[null,"La Prosperidad",9,"Industria, innovación e infraestructura","9.1","Desarrollar infraestructuras fiables, sostenibles, resilientes y de calidad, incluidas infraestructuras regionales y transfronterizas, para apoyar el desarrollo económico y el bienestar humano, haciendo especial hincapié en el acceso asequible y equitativo para todos",0,"Construir 1 sede administrativa local",0,null,0,0,0,0,0,0]
[null,"La Prosperidad",8,"Trabajo decente y crecimiento económico","8.3","Promover políticas orientadas al desarrollo que apoyen las actividades productivas, la creación de puestos de trabajo decentes, el emprendimiento, la creatividad y la innovación, y fomentar la formalización y el crecimiento de las microempresas y las pequeñas y medianas empresas, incluso mediante el acceso a servicios financieros",1990,"Financiar 65 proyectos del sector cultural y creativo",485631000,35319280,0,0,0,0,0,0,0]
[null,"La Prosperidad",8,"Trabajo decente y crecimiento económico","8.3","Promover políticas orientadas al desarrollo que apoyen las actividades productivas, la creación de puestos de trabajo decentes, el emprendimiento, la creatividad y la innovación, y fomentar la formalización y el crecimiento de las microempresas y las pequeñas y medianas empresas, incluso mediante el acceso a servicios financieros",1941,"Promover en 208 Mipymes y/o emprendimientos la transformación empresarial y/o productiva",1068389000,102580000,0,0,0,0,0,0,5151333]
[null,"La Prosperidad",8,"Trabajo decente y crecimiento económico","8.3","Promover políticas orientadas al desarrollo que apoyen las actividades productivas, la creación de puestos de trabajo decentes, el emprendimiento, la creatividad y la innovación, y fomentar la formalización y el crecimiento de las microempresas y las pequeñas y medianas empresas, incluso mediante el acceso a servicios financieros",1941,"Revitalizar 211 Mipymes y/o emprendimientos potencializadas dentro de las aglomeraciones económicas que fomentan el empleo y/o nuevas actividades económicas",971263000,50166000,0,0,0,0,0,0,0]
[null,"La Prosperidad",8,"Trabajo decente y crecimiento económico","8.3","Promover políticas orientadas al desarrollo que apoyen las actividades productivas, la creación de puestos de trabajo decentes, el emprendimiento, la creatividad y la innovación, y fomentar la formalización y el crecimiento de las microempresas y las pequeñas y medianas empresas, incluso mediante el acceso a servicios financieros",1941,"Apoyar 267 Mipymes y/o emprendimientos culturales y creativos",1408331000,163500000,0,0,0,0,0,0,3250000]
[null,"La Prosperidad",8,"Trabajo decente y crecimiento económico","8.3","Promover políticas orientadas al desarrollo que apoyen las actividades productivas, la creación de puestos de trabajo decentes, el emprendimiento, la creatividad y la innovación, y fomentar la formalización y el crecimiento de las microempresas y las pequeñas y medianas empresas, incluso mediante el acceso a servicios financieros",1941,"Promover en 210 Mipymes y/o emprendimientos procesos de reconversión hacia actividades sostenibles",874137000,52332000,0,0,0,0,0,0,0]
[null,"La Prosperidad",10,"Reducción de las desigualdades ","10.2","De aquí a 2030, potenciar y promover la inclusión social, económica y política de todas las personas, independientemente de su edad, sexo, discapacidad, raza, etnia, origen, religión o situación económica u otra condición",1988,"Dotar 1 centro de atención especializado",0,null,0,0,0,0,0,0]
[null,"La Prosperidad",10,"Reducción de las desigualdades ","10.2","De aquí a 2030, potenciar y promover la inclusión social, económica y política de todas las personas, independientemente de su edad, sexo, discapacidad, raza, etnia, origen, religión o situación económica u otra condición",1988,"Dotar 1 Centro de Desarrollo comunitario.",0,null,0,0,0,0,0,0]
[null,"La Prosperidad",10,"Reducción de las desigualdades ","10.2","De aquí a 2030, potenciar y promover la inclusión social, económica y política de todas las personas, independientemente de su edad, sexo, discapacidad, raza, etnia, origen, religión o situación económica u otra condición",1961,"Beneficiar 711 personas con discapacidad a través de Dispositivos de Asistencia Personal - Ayudas Técnicas (no incluidas en los Planes de Beneficios).",331715000,71500000,0,0,0,0,0,0,0]
[null,"La Paz",16,"Paz, justicia e instituciones sólidas","16.1","Reducir significativamente todas las formas de violencia y las correspondientes tasas de mortalidad en todo el mundo",1988,"Formar 1020 personas en prevención de violencia intrafamiliar y/o violencia sexual.",485631000,50000000,0,0,0,0,0,0,0]
[null,"La Paz",16,"Paz, justicia e instituciones sólidas","16.1","Reducir significativamente todas las formas de violencia y las correspondientes tasas de mortalidad en todo el mundo",1948,"Implementar 4 estrategias de atención de movilizaciones y aglomeraciones en el territorio a través de equipos de gestores de convivencia bajo el direccionamiento estratégico de la Secretaria de Seguridad, Convivencia y Justicia.",463593000,282000000,0,0,0,0,0,0,0]
[null,"La Paz",16,"Paz, justicia e instituciones sólidas","16.1","Reducir significativamente todas las formas de violencia y las correspondientes tasas de mortalidad en todo el mundo",1959,"Realizar 4 acuerdos para la vinculación de la ciudadanía en los programas adelantados por el IDRD y acuerdos con vendedores informales o estacionarios",0,null,0,0,0,0,0,0]
[null,"La Paz",16,"Paz, justicia e instituciones sólidas","16.1","Reducir significativamente todas las formas de violencia y las correspondientes tasas de mortalidad en todo el mundo",1959,"Realizar 4 acuerdos para el uso del EP con fines culturales, deportivos, recreacionales o de mercados temporales.",194253000,28000000,0,0,0,0,0,0,0]
[null,"La Paz",16,"Paz, justicia e instituciones sólidas","16.1","Reducir significativamente todas las formas de violencia y las correspondientes tasas de mortalidad en todo el mundo",1959,"Realizar 1 acuerdo para promover la formalización de vendedores informales a círculos económicos productivos de la ciudad que incluya formación para el trabajo.",254918000,80400000,0,0,0,0,0,0,0]
[null,"La Paz",16,"Paz, justicia e instituciones sólidas","16.3","Promover el estado de derecho en los planos nacional e internacional y garantizar la igualdad en el acceso a la justicia para todos",1946,"Vincular 150 personas a procesos de construcción de memoria, verdad, reparación integral a víctimas, paz y reconciliación.",194253000,null,0,0,0,0,0,0]
[null,"La Paz",16,"Paz, justicia e instituciones sólidas","16.3","Promover el estado de derecho en los planos nacional e internacional y garantizar la igualdad de acceso a la justicia para todos",1951,"Implementar 2 estrategias locales de acciones pedagógicas del Código Nacional de Seguridad y Convivencia Ciudadana en la localidad.",0,null,0,0,0,0,0,0]
[null,"La Paz",16,"Paz, justicia e instituciones sólidas","16.3","Promover el estado de derecho en los planos nacional e internacional y garantizar la igualdad de acceso a la justicia para todos",1951,"Atender 150 personas en estrategias de acceso a la justicia integral en la ciudad.",0,null,0,0,0,0,0,0]
[null,"La Paz",16,"Paz, justicia e instituciones sólidas","16.a","Fortalecer las instituciones nacionales pertinentes, incluso mediante la cooperación internacional, para crear a todos los niveles, particularmente en los países en desarrollo, la capacidad de prevenir la violencia y combatir el terrorismo y la delincuencia",1956,"Suministrar 1  dotación logística a organismos de seguridad",0,null,0,0,0,0,0,0]
[null,"La Paz",16,"Paz, justicia e instituciones sólidas","16.a","Fortalecer las instituciones nacionales pertinentes, incluso mediante la cooperación internacional, para crear a todos los niveles, particularmente en los países en desarrollo, la capacidad de prevenir la violencia y combatir el terrorismo y la delincuencia",1956,"Suministrar 2 dotaciones tecnológicas a organismos de seguridad.",1651147000,355300000,0,0,0,0,0,0,9873334]
[null,"La Paz",16,"Paz, justicia e instituciones sólidas","16.7","Garantizar la adopción en todos los niveles de decisiones inclusivas, participativas y representativas que respondan a las necesidades",1950,"Capacitar 734 personas a través de procesos de formación para la participación de manera virtual y presencial.",300052000,204373280,0,0,0,0,0,0,0]
[null,"La Paz",16,"Paz, justicia e instituciones sólidas","16.7","Garantizar la adopción en todos los niveles de decisiones inclusivas, participativas y representativas que respondan a las necesidades",1950,"Fortalecer 43 Organizaciones, JAC e Instancias de participación ciudadana",417488000,100000000,0,0,0,0,0,0,4766667]
[null,"La Paz",16,"Paz, justicia e instituciones sólidas","16.6","Garantizar el acceso público a la información y proteger las libertades fundamentales, de conformidad con las leyes nacionales y los acuerdos internacionales",1949,"Realizar 4 estrategias de fortalecimiento institucional.",5406826000,2643777464,0,0,0,0,0,0,90863412]
[null,"La Paz",16,"Paz, justicia e instituciones sólidas","16.6","Garantizar el acceso público a la información y proteger las libertades fundamentales, de conformidad con las leyes nacionales y los acuerdos internacionales",1949,"Realizar 1 rendición de cuenta anual",28735000,null,0,0,0,0,0,0]
[null,"La Paz",16,"Paz, justicia e instituciones sólidas","16.6","Garantizar el acceso público a la información y proteger las libertades fundamentales, de conformidad con las leyes nacionales y los acuerdos internacionales",1952,"Realizar 4 acciones de inspección, vigilancia y control.",1441820000,1614222380,0,0,0,0,0,0,11893206]
[null,"El Planeta",15,"Vida de ecosistemas terrestres","15.1","De aquí a 2020, asegurar la conservación, el restablecimiento y el uso sostenible de los ecosistemas terrestres y los ecosistemas interiores de agua dulce y sus servicios, en particular los bosques, los humedales, las montañas y las zonas áridas, en consonancia con las obligaciones contraídas en virtud de acuerdos internacionales",1942,"Mantener 8000 árboles urbanos y/o rurales",194253000,null,0,0,0,0,0,0]
[null,"El Planeta",15,"Vida de ecosistemas terrestres","15.1","De aquí a 2020, asegurar la conservación, el restablecimiento y el uso sostenible de los ecosistemas terrestres y los ecosistemas interiores de agua dulce y sus servicios, en particular los bosques, los humedales, las montañas y las zonas áridas, en consonancia con las obligaciones contraídas en virtud de acuerdos internacionales",1942,"Plantar 340 árboles urbanos y/o rurales.",0,null,0,0,0,0,0,0]
[null,"El Planeta",15,"Vida de ecosistemas terrestres","15.1","De aquí a 2020, asegurar la conservación, el restablecimiento y el uso sostenible de los ecosistemas terrestres y los ecosistemas interiores de agua dulce y sus servicios, en particular los bosques, los humedales, las montañas y las zonas áridas, en consonancia con las obligaciones contraídas en virtud de acuerdos\ninternacionales",1935,"Intervenir 6 hectáreas con procesos de restauración, rehabilitación o recuperación ecológica.",0,null,0,0,0,0,0,0]
[null,"El Planeta",13,"Acción por el Clima","13.1","Fortalecer la resiliencia y la capacidad de adaptación a los riesgos relacionados con el clima y los desastres naturales en todos los países",1940,"Desarrollar 1 intervención para la reducción del riesgo y adaptación al cambio climático",0,null,0,0,0,0,0,0]
[null,"El Planeta",13,"Acción por el Clima","13.3","Mejorar la educación, la sensibilización y la capacidad humana e institucional respecto de la mitigación del cambio climático, la adaptación a él, la reducción de sus efectos y la alerta temprana",1944,"Implementar 6 PROCEDAS.",194253000,52000000,0,0,0,0,0,0,0]
[null,"El Planeta",12,"Producción y consumo responsables","12.2","De aquí a 2030, lograr la gestión sostenible y el uso eficiente\nde los recursos naturales",1932,"Implementar 4 acciones de fomento para la agricultura urbana",194253000,49500000,0,0,0,0,0,0,0]
[null,"El Planeta",12,"Producción y consumo responsables","12.5","De aquí a 2030, reducir considerablemente la generación de desechos mediante actividades de prevención, reducción, reciclado y reutilización",1955,"Capacitar 2500 personas en separación en la fuente y reciclaje.",388505000,44000000,0,0,0,0,0,0,5316667]

{"sheet":"Anexo ODS","index":3,"n_rows":90,"n_cols":20,"rows_kept":90,"cut":false,"hidden":true,"merged":[]}
[null,null,null,null,null,null,1,2,3,4,5,6,7,8,9,10]
["No PROYECTO  DE INVERSIÓN","COMPETENCIA","SECTOR","LINEA","CONCEPTO","ESTRUCTURA META","INDICADOR DE PRODUCTO","PROPOSITO","PROGRAMA PDD","COMPONENTE PROYECTO","CODIGO ESFERA ODS","ESFERA ODS","CODIGO ODS","ODS","CÓDIGO META ODS (Conpes 3918 de 2018)","META ODS (Conpes 3918 de 2018)","CÓDIGO META EQUIVALENTE PDD","META EQUIVALENTE PDD","CÓDIGO META EQUIVALENTE PDD - 2","META EQUIVALENTE PDD - 2"]
[1,"11. Realizar inversiones complementarias a los programas y proyectos de la Administración Distrital en los sectores de Salud, Integración Social, Educación, Mujer, poblaciones, ruralidad, de conformidad con la reglamentación que se expida para el efecto.","INTEGRACIÓN SOCIAL","Sistema Bogotá Solidaria (20%)","Ingreso mínimo garantizado","Atender XXX hogares con apoyos que contribuyan al ingreso mínimo garantizado. ","Hogares atendidos con apoyos que contribuyan al ingreso mínimo garantizado","Propósito 1. Hacer un nuevo contrato social con igualdad de oportunidades para la inclusión social, productiva y política","Subsidios y transferencias para la equidad","INGRESO MÍNIMO",1,"Las Personas",1,"Fin de la pobreza","1.2","De aquí a 2030, reducir al menos a la mitad la proporción de hombres, mujeres y niños de todas las edades que viven en la pobreza en todas sus dimensiones con arreglo a las definiciones nacionales",12,"Contribuir con el ingreso mínimo garantizado de la población vulnerable a través de las intervenciones de las Alcaldías Locales de conformidad con la reglamentación vigente",902,"Reducir la incidencia de la pobreza monetaria en Bogotá"]
[1,"11. Realizar inversiones complementarias a los programas y proyectos de la Administración Distrital en los sectores de Salud, Integración Social, Educación, Mujer, poblaciones, ruralidad, de conformidad con la reglamentación que se expida para el efecto.","INTEGRACIÓN SOCIAL","Sistema Bogotá Solidaria (20%)","Subsidio tipo C adulto mayor.","Beneficiar XXX personas mayores con apoyo económico tipo C.","Número de personas mayores con apoyo económico tipo C","Propósito 1. Hacer un nuevo contrato social con igualdad de oportunidades para la inclusión social, productiva y política","Subsidios y transferencias para la equidad","SUBSIDIO TIPO C",1,"Las Personas",1,"Fin de la pobreza","1.2","De aquí a 2030, reducir al menos a la mitad la proporción de hombres, mujeres y niños de todas las edades que viven en la pobreza en todas sus dimensiones con arreglo a las definiciones nacionales",902,"Reducir la incidencia de la pobreza monetaria en Bogotá",901,"Mantener la incidencia de la pobreza multidimensional en Bogotá."]
[2,"11. Realizar inversiones complementarias a los programas y proyectos de la Administración Distrital en los sectores de Salud, Integración Social, Educación, Mujer, poblaciones, ruralidad, de conformidad con la reglamentación que se expida para el efecto.","EDUCACIÓN","Educación superior y primera infancia (10%)","Apoyo para educación inicial.","Implementar XXX Proyectos para el desarrollo integral de la primera infancia y la relación escuela, familia y comunidad.","Proyectos para el desarrollo integral de la primera infancia y la relación escuela, familia y comunidad.","Propósito 1. Hacer un nuevo contrato social con igualdad de oportunidades para la inclusión social, productiva y política","Educación inicial: Bases sólidas para la vida","EDUCACIÓN INICIAL",1,"Las Personas",4,"Educación de calidad","4.2","De aquí a 2030, asegurar que todas las niñas y todos los niños tengan acceso a servicios de atención y desarrollo en la primera infancia y educación preescolar de calidad, a fin de que estén preparados para la enseñanza primaria.",86,"Promover la atención de 93.000 beneficiarios de primera infancia a través de la realización de experiencias artísticas a favor de los derechos culturales"]
[3,"11. Realizar inversiones complementarias a los programas y proyectos de la Administración Distrital en los sectores de Salud, Integración Social, Educación, Mujer, poblaciones, ruralidad, de conformidad con la reglamentación que se expida para el efecto.","EDUCACIÓN","Infraestructura","Dotación pedagógica a colegios.","Dotar XXX sedes educativas urbanas y rurales.","Sedes educativas urbanas y rurales dotadas","Propósito 1. Hacer un nuevo contrato social con igualdad de oportunidades para la inclusión social, productiva y política","Formación integral: más y mejor tiempo en los colegios","DOTACIÓN",1,"Las Personas",4,"Educación de calidad","4.7","De aquí a 2030, asegurar que todos los alumnos adquieran los conocimientos teóricos y prácticos necesarios para promover el desarrollo sostenible, entre otras cosas mediante la educación para el desarrollo sostenible y los estilos de vida sostenibles, los derechos humanos, la igualdad de género, la promoción de una cultura de paz y no violencia, la ciudadanía mundial y la valoración de la diversidad cultural y la contribución de la cultura al desarrollo sostenible",100,"Realizar 1 proceso integral de formación a lo largo de la vida con énfasis en el arte, la cultura",91,"Entregar 35 colegios nuevos o restituidos, de los cuales 15 corresponden a terminación de colegios que se encuentran en ejecución de obra al inicio de la administración y 20 colegios nuevos o restituidos, con comedores escolares y ambientes de aprendizaje adecuados para la jornada única, el desarrollo de la primera infancia, y la transformación pedagógica, y realizar la intervención del 100% de instituciones educativas priorizadas en materia de mejoramientos y con dotaciones para el aprendizaje y el cierre de brechas digitales, contribuyendo al plan de reactivación económica de la ciudad a raíz de la emergencia de la CODIV-19"]
[4,"11. Realizar inversiones complementarias a los programas y proyectos de la Administración Distrital en los sectores de Salud, Integración Social, Educación, Mujer, poblaciones, ruralidad, de conformidad con la reglamentación que se expida para el efecto.","EDUCACIÓN","Educación superior y primera infancia (10%)","Apoyo para educación superior.","Beneficiar XXX personas con apoyo para la educación superior.","Personas beneficiadas con  apoyo para la educación superior","Propósito 1. Hacer un nuevo contrato social con igualdad de oportunidades para la inclusión social, productiva y política","Jóvenes con capacidades: Proyecto de vida para la ciudadanía, la innovación y el trabajo del siglo XXI","APOYO EDUCACIÓN SUPERIOR",1,"Las Personas",4,"Educación de calidad","4.3","De aquí a 2030, asegurar el acceso igualitario de todos los hombres y las mujeres a una formación técnica, profesional y superior de calidad, incluida la enseñanza universitaria.",115,"Ofrecer a través de las IES, 20 mil cupos nuevos de educación superior mediante un modelo inclusivo y flexible que brinde alternativas de acceso, permanencia y pertinencia a programas de educación superior o educación postmedia, promoviendo el trabajo colaborativo y la conformación de redes entre las Instituciones de Educación Superior de la ciudad-región"]
[4,"11. Realizar inversiones complementarias a los programas y proyectos de la Administración Distrital en los sectores de Salud, Integración Social, Educación, Mujer, poblaciones, ruralidad, de conformidad con la reglamentación que se expida para el efecto.","EDUCACIÓN","Educación superior y primera infancia (10%)","Apoyo para educación superior.","Beneficiar XXX estudiantes de programas de educación superior con apoyo de sostenimiento para la permanencia.","Número de estudiantes de programas de educación superior con apoyo de sostenimiento para la permanencia.","Propósito 1. Hacer un nuevo contrato social con igualdad de oportunidades para la inclusión social, productiva y política","Jóvenes con capacidades: Proyecto de vida para la ciudadanía, la innovación y el trabajo del siglo XXI","SOSTENIMIENTO",1,"Las Personas",4,"Educación de calidad","4.3","De aquí a 2030, asegurar el acceso igualitario de todos los hombres y las mujeres a una formación técnica, profesional y superior de calidad, incluida la enseñanza universitaria.",115,"Ofrecer a través de las IES, 20 mil cupos nuevos de educación superior mediante un modelo inclusivo y flexible que brinde alternativas de acceso, permanencia y pertinencia a programas de educación superior o educación postmedia, promoviendo el trabajo colaborativo y la conformación de redes entre las Instituciones de Educación Superior de la ciudad-región"]
[5,"11. Realizar inversiones complementarias a los programas y proyectos de la Administración Distrital en los sectores de Salud, Integración Social, Educación, Mujer, poblaciones, ruralidad, de conformidad con la reglamentación que se expida para el efecto.","INTEGRACIÓN SOCIAL","Infraestructura","Dotación Casas de Juventud.","Dotar XXX sedes de casas de juventud.","Sedes de Casas de juventud dotadas","Propósito 1. Hacer un nuevo contrato social con igualdad de oportunidades para la inclusión social, productiva y política","Jóvenes con capacidades: Proyecto de vida para la ciudadanía, la innovación y el trabajo del siglo XXI","DOTACIÓN",1,"Las Personas",1,"Fin de la Pobreza","1.2","De aquí a 2030, reducir al menos a la mitad la proporción de hombres, mujeres y niños de todas las edades que viven en la pobreza en todas sus dimensiones con arreglo a las definiciones nacionales",114,"Incrementar en 100% el número de jóvenes atendidos con estrategias móviles, canales virtuales y servicios sociales con especial énfasis en jóvenes NiNis y vulnerables, acordes a las necesidades de la población, teniendo en cuenta los impactos de la emergencia social y sanitaria sobre esta población"]
[5,"11. Realizar inversiones complementarias a los programas y proyectos de la Administración Distrital en los sectores de Salud, Integración Social, Educación, Mujer, poblaciones, ruralidad, de conformidad con la reglamentación que se expida para el efecto.","INTEGRACIÓN SOCIAL","Infraestructura","Dotación a Jardines Infantiles, Centros Amar y Forjar.","Dotar XXX sedes de atención a adolescentes y jóvenes vinculados al sistema de responsabilidad penal adolescente (Centros Forjar).","Sedes de atención a adolescentes y jovenes vinculados al sistema de responsabilidad penal adolescente dotados.","Propósito 1. Hacer un nuevo contrato social con igualdad de oportunidades para la inclusión social, productiva y política","Jóvenes con capacidades: Proyecto de vida para la ciudadanía, la innovación y el trabajo del siglo XXI","DOTACIÓN",2,"La Paz",16,"Paz, justicia e instituciones sólidas","16.3","Promover el estado de derecho en los planos nacional e internacional y garantizar la igualdad de acceso a la justicia para todos",110,"Atender 2.400 adolescentes y jóvenes con sanciones no privativas de la libertad o en apoyo al restablecimiento en administración de justicia en los Centros Forjar, con oportunidades que favorezcan sus proyectos de vida e inclusión social"]
[6,"11. Realizar inversiones complementarias a los programas y proyectos de la Administración Distrital en los sectores de Salud, Integración Social, Educación, Mujer, poblaciones, ruralidad, de conformidad con la reglamentación que se expida para el efecto.","HÁBITAT","Ruralidad","Mejoramiento de vivienda rural.","Mejorar XXX viviendas de interés social rurales.","Viviendas de interés social rurales mejoradas ","Propósito 1. Hacer un nuevo contrato social con igualdad de oportunidades para la inclusión social, productiva y política","Vivienda y entornos dignos en el territorio urbano y rural.","MEJORAMIENTO DE VIVIENDA",3,"La Prosperidad",11,"Ciudades y comunidades sostenibles","11.1","De aquí a 2030, asegurar el acceso de todas las personas a viviendas y servicios básicos adecuados, seguros y asequibles y mejorar los barrios marginales",126,"Diseñar e implementar intervenciones de mejoramiento integral rural y de bordes urbanos",127,"Diseñar e implementar alternativas financieras y esquemas para el acceso a una vivienda digna y gestión del hábitat"]
[7,"02. Realizar inversiones complementarias a las realizadas por el sector en la prestación de servicios culturales, recreativos y deportivos locales.","CULTURA, RECREACIÓN Y DEPORTE","Desarrollo social y cultural","Eventos recreo-deportivos.","Vincular XXX personas en actividades recreo-deportivas comunitarias.","Personas vinculadas en actividades recreo-deportivas comunitarias","Propósito 1. Hacer un nuevo contrato social con igualdad de oportunidades para la inclusión social, productiva y política","Bogotá, referente en cultura, deporte, recreación y actividad física, con parques para el desarrollo y la salud","EVENTOS",1,"Las Personas",3,"Salud y Bienestar","3.d","Reforzar la capacidad de todos los países, en particular los países en desarrollo, en materia de alerta temprana,  reducción de riesgos y gestión de los riesgos para la salud nacional y mundial",143,"Realizar campeonatos, certámenes deportivos y acciones recreativas en el 100% de las UPZ priorizadas del Distrito Capital, que potencien la participación ciudadana y la apropiación y la re significación de la vida social y comunitaria desde lo cotidiano. Promover la realización de torneos virtuales para fortalecer los e-sports, con un componente de práctica responsable y actividad física para evitar el sedentarismo"]
[7,"02. Realizar inversiones complementarias a las realizadas por el sector en la prestación de servicios culturales, recreativos y deportivos locales.","CULTURA, RECREACIÓN Y DEPORTE","Desarrollo social y cultural","Procesos de formación y dotación de insumos para los campos artísticos, interculturales, culturales, patrimoniales y deportivos.","Capacitar XXX personas en los campos deportivos.","Personas capacitadas en los campos deportivos","Propósito 1. Hacer un nuevo contrato social con igualdad de oportunidades para la inclusión social, productiva y política","Bogotá, referente en cultura, deporte, recreación y actividad física, con parques para el desarrollo y la salud","FORMACIÓN DEPORTIVA",1,"Las Personas",4,"Educación de calidad","4.7","De aquí a 2030, asegurar que todos los alumnos adquieran los conocimientos teóricos y prácticos necesarios para promover el desarrollo sostenible, entre otras cosas mediante la educación para el desarrollo sostenible y los estilos de vida sostenibles, los derechos humanos, la igualdad de género, la promoción de una cultura de paz y no violencia, la ciudadanía mundial y la valoración de la diversidad cultural y la contribución de la cultura al desarrollo sostenible",138,"Formar 40.000 niñas, niños y adolescentes y jóvenes en disciplinas deportivas priorizadas en el marco de la jornada escolar complementaria"]
[7,"02. Realizar inversiones complementarias a las realizadas por el sector en la prestación de servicios culturales, recreativos y deportivos locales.","CULTURA, RECREACIÓN Y DEPORTE","Desarrollo social y cultural","Procesos de formación y dotación de insumos para los campos artísticos, interculturales, culturales, patrimoniales y deportivos.","Beneficiar XXX Personas con artículos deportivos entregados.","Personas beneficiadas con artículos entregados.","Propósito 1. Hacer un nuevo contrato social con igualdad de oportunidades para la inclusión social, productiva y política","Bogotá, referente en cultura, deporte, recreación y actividad física, con parques para el desarrollo y la salud","DOTACIÓN",1,"Las Personas",3,"Salud y Bienestar","3.d","Reforzar la capacidad de todos los países, en particular los países en desarrollo, en materia de alerta temprana, reducción de riesgos y gestión de los riesgos para la salud\nnacional y mundial",924,"Promover la participación, la transformación cultural, deportiva, recreativa, patrimonial y artística que propicien espacios de encuentro, tejido social y reconocimiento del otro."]
[8,"02. Realizar inversiones complementarias a las realizadas por el sector en la prestación de servicios culturales, recreativos y deportivos locales.","CULTURA, RECREACIÓN Y DEPORTE","Desarrollo social y cultural","Circulación y apropiación de prácticas artísticas, interculturales, culturales y patrimoniales.","Realizar XXX eventos de promoción de actividades culturales.","Eventos de promoción de actividades culturales realizadas","Propósito 1. Hacer un nuevo contrato social con igualdad de oportunidades para la inclusión social, productiva y política","Creación y vida cotidiana: Apropiación ciudadana del arte, la cultura y el patrimonio, para la democracia cultural","EVENTOS",3,"La Prosperidad",11,"Ciudades y comunidades sostenibles","11.4","Redoblar los esfuerzos para proteger y salvaguardar el patrimonio cultural y natural del mundo",156,"Promover 21.250 acciones para el fortalecimiento y la participación en prácticas artísticas, culturales y patrimoniales en los territorios, generando espacios de encuentro y reconocimiento del otro",924,"Promover la participación, la transformación cultural, deportiva, recreativa, patrimonial y artística que propicien espacios de encuentro, tejido social y reconocimiento del otro."]
[8,"02. Realizar inversiones complementarias a las realizadas por el sector en la prestación de servicios culturales, recreativos y deportivos locales.","CULTURA, RECREACIÓN Y DEPORTE","Desarrollo social y cultural","Iniciativas de interés cultural, artístico, patrimonial y recreo deportivas.","Otorgar XXX estímulos de apoyo al sector artístico y cultural.","Estímulos otorgados de apoyo al sector artístico y cultural ","Propósito 1. Hacer un nuevo contrato social con igualdad de oportunidades para la inclusión social, productiva y política","Creación y vida cotidiana: Apropiación ciudadana del arte, la cultura y el patrimonio, para la democracia cultural","ESTÍMULOS",3,"La Prosperidad",11,"Ciudades y comunidades sostenibles","11.4","Redoblar los esfuerzos para proteger y salvaguardar el patrimonio cultural y natural del mundo",158,"Realizar el 100% de las acciones para el fortalecimiento de los estímulos, apoyos concertados y alianzas estratégicas para dinamizar la estrategia sectorial dirigida a fomentar los procesos culturales, artísticos, patrimoniales"]
[8,"02. Realizar inversiones complementarias a las realizadas por el sector en la prestación de servicios culturales, recreativos y deportivos locales.","CULTURA, RECREACIÓN Y DEPORTE","Desarrollo social y cultural","Procesos de formación y dotación de insumos para los campos artísticos, interculturales, culturales, patrimoniales y deportivos.","Capacitar XXX personas en los campos artísticos, interculturales, culturales y/o patrimoniales.","Personas capacitadas en los campos artísticos, interculturales, culturales y/o patrimoniales","Propósito 1. Hacer un nuevo contrato social con igualdad de oportunidades para la inclusión social, productiva y política","Creación y vida cotidiana: Apropiación ciudadana del arte, la cultura y el patrimonio, para la democracia cultural","FORMACIÓN",3,"La Prosperidad",11,"Ciudades y comunidades sostenibles","11.4","Redoblar los esfuerzos para proteger y salvaguardar el patrimonio cultural y natural del mundo",924,"Promover la participación, la transformación cultural, deportiva, recreativa, patrimonial y artística que propicien espacios de encuentro, tejido social y reconocimiento del otro."]
[8,"02. Realizar inversiones complementarias a las realizadas por el sector en la prestación de servicios culturales, recreativos y deportivos locales.","CULTURA, RECREACIÓN Y DEPORTE","Infraestructura","Dotación e infraestructura cultural.","Intervenir XXX sedes culturales con dotación y/o adecuación.","Sedes dotadas/Sedes adecuadas","Propósito 1. Hacer un nuevo contrato social con igualdad de oportunidades para la inclusión social, productiva y política","Creación y vida cotidiana: Apropiación ciudadana del arte, la cultura y el patrimonio, para la democracia cultural","FORTALECIMIENTO INFRAESTRUCTURA",3,"La Prosperidad",9,"Industria, innovación e infraestructura","9.1","Desarrollar infraestructuras fiables, sostenibles, resilientes y de calidad, incluidas infraestructuras regionales y transfronterizas, para apoyar el desarrollo económico y el bienestar humano, haciendo especial hincapié en el acceso asequible y equitativo para todos",155,"Mantener, mejorar y dotar 17 equipamientos urbanos y rurales para el goce y disfrute de los habitantes de la ciudad región y de los visitantes"]
[9,"11. Realizar inversiones complementarias a los programas y proyectos de la Administración Distrital en los sectores de Salud, Integración Social, Educación, Mujer, poblaciones, ruralidad, de conformidad con la reglamentación que se expida para el efecto.","AMBIENTE / DESARROLLO ECONÓMICO","Ruralidad","Asistencia técnica agropecuaria y ambiental y productividad rural.","Apoyar XXX predios rurales con asistencia técnica agropecuaria y/o ambiental. ","Número de Predios rurales con asistencia técnica agropecuaria y/o ambiental","Propósito 1. Hacer un nuevo contrato social con igualdad de oportunidades para la inclusión social, productiva y política","Bogotá rural","ASESORÍA Y ASISTENCIA TÉCNICA ",4,"El Planeta",15,"Vida de ecosistemas terrestres","15.9","De aquí a 2020, integrar los valores de los ecosistemas y la biodiversidad en la planificación, los procesos de desarrollo, las estrategias de reducción de la pobreza y la contabilidad nacionales y locales",162,"Lograr el 100% de las localidades rurales de Bogotá con acciones del plan de acción de la Política Pública Distrital de Ruralidad"]
[9,"11. Realizar inversiones complementarias a los programas y proyectos de la Administración Distrital en los sectores de Salud, Integración Social, Educación, Mujer, poblaciones, ruralidad, de conformidad con la reglamentación que se expida para el efecto.","AMBIENTE / DESARROLLO ECONÓMICO","Ruralidad","Asistencia técnica agropecuaria y ambiental y productividad rural.","Vincular XXX hogares y/o unidades productivas a procesos productivos y de comercialización en el sector rural.","Número  de hogares y/o unidades productivas vinculadas a procesos productivos y de comercialización en el sector rural","Propósito 1. Hacer un nuevo contrato social con igualdad de oportunidades para la inclusión social, productiva y política","Bogotá rural","EMPRENDIMIENTO RURAL",1,"Las Personas",2,"Hambre Cero","2.3","De aquí a 2030, duplicar la productividad agrícola y los ingresos de los productores de alimentos en pequeña escala, en particular las mujeres, los pueblos indígenas, los agricultores familiares, los ganaderos y los pescadores, entre otras cosas mediante",162,"Lograr el 100% de las localidades rurales de Bogotá con acciones del plan de acción de la Política Pública Distrital de Ruralidad",163,"Reglamentar los instrumentos operacionales para el desarrollo rural sostenible de Bogotá (Modelo de Desarrollo Rural MDR, Política Pública de Ruralidad, Sistema de información para el desarrollo rural SIPSDER y Estructura Institucional de Desarrollo Rural Sostenible)"]
[10,"07. Orientar la gestión ambiental.","AMBIENTE","Inversiones ambientales sostenibles","Agricultura urbana.","Implementar XXX acciones de fomento para la agricultura urbana.","Número acciones de fomento para la agricultura urbana",".","Bogotá región emprendedora e innovadora.","AGRICULTURA URBANA",4,"El Planeta",12,"Producción y consumo responsables","12.2","De aquí a 2030, lograr la gestión sostenible y el uso eficiente\nde los recursos naturales",172,"Implementar un (1) programa distrital de agricultura urbana y periurbana articulado a los mercados campesinos"]
[11,"Nueva PDD","CULTURA, RECREACIÓN Y DEPORTE","Desarrollo social y cultural","Apoyo y fortalecimiento a las industrias culturales y creativas en las localidades","Financiar XXX proyectos del sector cultural y creativo.","Número de proyectos financiados y acompañados del sector cultural y creativo.","Propósito 1. Hacer un nuevo contrato social con igualdad de oportunidades para la inclusión social, productiva y política","Bogotá región emprendedora e innovadora.","FORTALECIMIENTO INDUSTRIA CULTURAL",3,"La Prosperidad",8,"Trabajo decente y crecimiento económico","8.3","Promover políticas orientadas al desarrollo que apoyen las actividades productivas, la creación de puestos de trabajo decentes, el emprendimiento, la creatividad y la innovación, y fomentar la formalización y el crecimiento de las microempresas y las pequeñas y medianas empresas, incluso mediante el acceso a servicios financieros",168,"Diseñar y promover tres (3) programas para el fortalecimiento de la cadena de valor de la economía cultural y creativa",175,"Implementar y fortalecer una (1) estrategia de economía cultural y creativa para orientar la toma de decisiones que permita mitigar y reactivar el sector cultura"]
[12,"Nueva PDD","DESARROLLO ECONÓMICO, INDUSTRIA Y TURISMO","Desarrollo de la Economía Local","Apoyo a industrias culturales y creativas.","Apoyar XXX Mipymes y/o emprendimientos culturales y creativos.","Número de Mipymes y/o emprendimientos culturales y creativos apoyados","Propósito 1. Hacer un nuevo contrato social con igualdad de oportunidades para la inclusión social, productiva y política","Sistema Distrital de Cuidado","FORTALECIMIENTO MIPYMES",3,"La Prosperidad",8,"Trabajo decente y crecimiento económico","8.3","Promover políticas orientadas al desarrollo que apoyen las actividades productivas, la creación de puestos de trabajo decentes, el emprendimiento, la creatividad y la innovación, y fomentar la formalización y el crecimiento de las microempresas y las pequeñas y medianas empresas, incluso mediante el acceso a servicios financieros",118,"Diseñar y poner en marcha uno o varios vehículos financieros para fondear al menos 73.900 unidades de MIPYIMES, negocios, emprendimientos, pequeños comercios, unidades productivas aglomeradas y/o emprendimientos por subsistencia, formales e informales, que permitan su liquidez y la conservación de los empleos o que ayude a crecer y consolidar sus negocios, disminuyendo la exposición a la tasa de mortalidad empresarial en el marco de la reactivación económica de la ciudad. Como mínimo, un 20% de la oferta será destinada a jóvenes"]
[12,"Nueva PDD","DESARROLLO ECONÓMICO, INDUSTRIA Y TURISMO","Desarrollo de la Economía Local","Reactivación y reconversión verde","Promover en XXX Mipymes y/o emprendimientos procesos de reconversión hacia actividades sostenibles.","Número de Mipymes y/o emprendimientos con procesos de reconversión hacia actividades sostenibles","Propósito 1. Hacer un nuevo contrato social con igualdad de oportunidades para la inclusión social, productiva y política","Sistema Distrital de Cuidado","REACTIVACIÓN",3,"La Prosperidad",8,"Trabajo decente y crecimiento económico","8.3","Promover políticas orientadas al desarrollo que apoyen las actividades productivas, la creación de puestos de trabajo decentes, el emprendimiento, la creatividad y la innovación, y fomentar la formalización y el crecimiento de las microempresas y las pequeñas y medianas empresas, incluso mediante el acceso a servicios financieros",118,"Diseñar y poner en marcha uno o varios vehículos financieros para fondear al menos 73.900 unidades de MIPYIMES, negocios, emprendimientos, pequeños comercios, unidades productivas aglomeradas y/o emprendimientos por subsistencia, formales e informales, que permitan su liquidez y la conservación de los empleos o que ayude a crecer y consolidar sus negocios, disminuyendo la exposición a la tasa de mortalidad empresarial en el marco de la reactivación económica de la ciudad. Como mínimo, un 20% de la oferta será destinada a jóvenes",177,"Abrir nuevos mercados/segmentos comerciales para al menos 100 empresas, mipymes y/o emprendimientos con potencial exportador y atracción de eventos, que permita la reactivación económica local"]
[12,"Nueva PDD","DESARROLLO ECONÓMICO, INDUSTRIA Y TURISMO","Desarrollo de la Economía Local","Transformación productiva y formación de capacidades","Promover en XXX Mipymes y/o emprendimientos la transformación empresarial y/o productiva.","Número de Mipymes y/o emprendimientos con transformacion empresarial y/o productiva","Propósito 1. Hacer un nuevo contrato social con igualdad de oportunidades para la inclusión social, productiva y política","Sistema Distrital de Cuidado","TRANSFORMACIÓN PRODUCTIVA",3,"La Prosperidad",8,"Trabajo decente y crecimiento económico","8.3","Promover políticas orientadas al desarrollo que apoyen las actividades productivas, la creación de puestos de trabajo decentes, el emprendimiento, la creatividad y la innovación, y fomentar la formalización y el crecimiento de las microempresas y las pequeñas y medianas empresas, incluso mediante el acceso a servicios financieros",171,"Impactar al menos 3.500 emprendimientos de alto potencial de crecimiento o alto impacto a través del fortalecimiento del Fondo Cuenta Distrital de Innovación, Tecnología e Industrias Creativas (FITIC) para financiación, fomento y/o liquidez, principalmente enfocado a las MIPYMES con el ánimo de promover la transformación digital y la inclusión financiera y la innovación para detonar generación de empleo en industrias de oportunidad en el marco de la reactivación económica. como mínimo un 20% de la oferta será destinada a jóvenes"]
[12,"Nueva PDD","DESARROLLO ECONÓMICO, INDUSTRIA Y TURISMO","Desarrollo de la Economía Local","Revitalización del corazón productivo de las localidades","Revitalizar XXX Mipymes y/o emprendimientos potencializadas dentro de las aglomeraciones económicas que fomentan el empleo y/o nuevas actividades económicas.","Número de Mipymes  y/o emprendimientos revitalizadas o potencializadas dentro de las aglomeraciones económicas que fomentan el empleo y/o nuevas actividades económicas","Propósito 1. Hacer un nuevo contrato social con igualdad de oportunidades para la inclusión social, productiva y política","Sistema Distrital de Cuidado","REVITALIZACIÓN",3,"La Prosperidad",8,"Trabajo decente y crecimiento económico","8.3","Promover políticas orientadas al desarrollo que apoyen las actividades productivas, la creación de puestos de trabajo decentes, el emprendimiento, la creatividad y la innovación, y fomentar la formalización y el crecimiento de las microempresas y las pequeñas y medianas empresas, incluso mediante el acceso a servicios financieros",118,"Diseñar y poner en marcha uno o varios vehículos financieros para fondear al menos 73.900 unidades de MIPYIMES, negocios, emprendimientos, pequeños comercios, unidades productivas aglomeradas y/o emprendimientos por subsistencia, formales e informales, que permitan su liquidez y la conservación de los empleos o que ayude a crecer y consolidar sus negocios, disminuyendo la exposición a la tasa de mortalidad empresarial en el marco de la reactivación económica de la ciudad. Como mínimo, un 20% de la oferta será destinada a jóvenes",177,"Abrir nuevos mercados/segmentos comerciales para al menos 100 empresas, mipymes y/o emprendimientos con potencial exportador y atracción de eventos, que permita la reactivación económica local"]
[13,"05. Desarrollar acciones que promuevan los derechos de las mujeres, desde los enfoques de género, de derechos, diferencial y territorial.","INTEGRACIÓN SOCIAL","Desarrollo social y cultural","Prevención y atención de violencia intrafamiliar y sexual para poblaciones en situaciones de riesgo y vulneración de derechos.","Formar XXX personas en prevención de violencia intrafamiliar y/o violencia sexual.","Número de Personas formadas u orientadas o sensibilizadas en prevención de violencia intrafamiliar y/o violencia sexual.            ","Propósito 1. Hacer un nuevo contrato social con igualdad de oportunidades para la inclusión social, productiva y política","Sistema Distrital de Cuidado","PREVENCIÓN DE VIOLENCIAS",2,"La Paz",16,"Paz, justicia e instituciones sólidas","16.1","Reducir significativamente todas las formas de violencia y las correspondientes tasas de mortalidad en todo el mundo",55,"Formular, implementar, monitorear y evaluar un Plan Distrital de Prevención Integral de las Violencias contra las niñas, los niños, adolescentes, mujeres y personas mayores, de carácter interinstitucional e intersectorial con enfoque de derechos, diferencial, poblacional, ambiental, territorial y de género"]
[13,"11. Realizar inversiones complementarias a los programas y proyectos de la Administración Distrital en los sectores de Salud, Integración Social, Educación, Mujer, poblaciones, ruralidad, de conformidad con la reglamentación que se expida para el efecto.","INTEGRACIÓN SOCIAL","Infraestructura","Dotación a Centros Crecer, Renacer.","Dotar XXX centros de atención especializados.","Centros de atención especializada dotados","Propósito 1. Hacer un nuevo contrato social con igualdad de oportunidades para la inclusión social, productiva y política","Sistema Distrital de Cuidado","DOTACIÓN CENTROS DE ATENCIÓN ESPECIALIZADOS",3,"La Prosperidad",10,"Reducción de las desigualdades ","10.2","De aquí a 2030, potenciar y promover la inclusión social, económica y política de todas las personas, independientemente de su edad, sexo, discapacidad, raza, etnia, origen, religión o situación económica u otra condición",62,"Optimizar el 100% de la red de unidades operativas para la prestación de servicios sociales, a través de la construcción, restitución, mantenimiento, adecuación o habilitación de inmuebles para atención especial en respuesta a situaciones de impacto poblacional diferencial, en el marco de la implementación del Sistema Distrital de Cuidado"]
[13,"11. Realizar inversiones complementarias a los programas y proyectos de la Administración Distrital en los sectores de Salud, Integración Social, Educación, Mujer, poblaciones, ruralidad, de conformidad con la reglamentación que se expida para el efecto.","INTEGRACIÓN SOCIAL","Infraestructura","Dotación Centros de Desarrollo Comunitario.","Dotar XXX Centros de Desarrollo comunitarios","Sedes de Centros de Desarrollo comunitarios dotados","Propósito 1. Hacer un nuevo contrato social con igualdad de oportunidades para la inclusión social, productiva y política","Sistema Distrital de Cuidado","DOTACIÓN CDC",3,"La Prosperidad",10,"Reducción de las desigualdades ","10.2","De aquí a 2030, potenciar y promover la inclusión social, económica y política de todas las personas, independientemente de su edad, sexo, discapacidad, raza, etnia, origen, religión o situación económica u otra condición",62,"Optimizar el 100% de la red de unidades operativas para la prestación de servicios sociales, a través de la construcción, restitución, mantenimiento, adecuación o habilitación de inmuebles para atención especial en respuesta a situaciones de impacto poblacional diferencial, en el marco de la implementación del Sistema Distrital de Cuidado"]
[13,"11. Realizar inversiones complementarias a los programas y proyectos de la Administración Distrital en los sectores de Salud, Integración Social, Educación, Mujer, poblaciones, ruralidad, de conformidad con la reglamentación que se expida para el efecto.","INTEGRACIÓN SOCIAL","Infraestructura","Dotación a Jardines Infantiles, Centros Amar y Forjar.","Dotar XXX Sedes de atención a la primera infancia y/o adolescencia (jardines infantiles y Centros Amar).","Sedes de atención a la primera infancia y/o adolescencia dotadas.","Propósito 1. Hacer un nuevo contrato social con igualdad de oportunidades para la inclusión social, productiva y política","Sistema Distrital de Cuidado","DOTACIÓN JARDINES IFANTILES Y CENTROS AMAR",1,"Las Personas",1,"Fin de la Pobreza","1.2","De aquí a 2030, reducir al menos a la mitad la proporción de hombres, mujeres y niños de todas las edades que viven en la pobreza en todas sus dimensiones con arreglo a las definiciones nacionales",42,"Atender con enfoque diferencial a 71.000 niñas y niños en servicios dirigidos a la primera infancia pertinentes y de calidad en el marco de la atención integral, a través de una oferta flexible que tenga en cuenta las dinámicas socioeconómicas de las familias y cuidadores y, que permita potenciar el desarrollo de las niñas y los niños, así como prevenir situaciones de riesgo para la garantía de sus derechos",41,"Actualizar, implementar y hacer seguimiento a la política pública de infancia y adolescencia con la participación e incidencia de niñas, niños y adolescentes, sus familias y la movilización de la sociedad civil para la transformación de los territorios y la generación de entornos protectores desde la gestación hasta la adolescencia, teniendo en cuenta los impactos de la emergencia social y sanitaria sobre esta población"]
[13,"11. Realizar inversiones complementarias a los programas y proyectos de la Administración Distrital en los sectores de Salud, Integración Social, Educación, Mujer, poblaciones, ruralidad, de conformidad con la reglamentación que se expida para el efecto.","INTEGRACIÓN SOCIAL","Infraestructura","Dotación a Centro de Atención a la diversidad Sexual y de géneros – CAIDSG.","Dotar XXX Unidades Operativas de los Centros de Atención Integral a la Diversidad Sexual y de Géneros.","Unidades Operativas de los Centros de Atención Integral a la Diversidad Sexual y de Géneros dotadas","Propósito 1. Hacer un nuevo contrato social con igualdad de oportunidades para la inclusión social, productiva y política","Sistema Distrital de Cuidado","DOTACIÓN CAIDSG",3,"La Prosperidad",10,"Reducción de las desigualdades ","10.2","De aquí a 2030, potenciar y promover la inclusión social, económica y política de todas las personas, independientemente de su edad, sexo, discapacidad, raza, etnia, origen, religión o situación económica u otra condición",62,"Optimizar el 100% de la red de unidades operativas para la prestación de servicios sociales, a través de la construcción, restitución, mantenimiento, adecuación o habilitación de inmuebles para atención especial en respuesta a situaciones de impacto poblacional diferencial, en el marco de la implementación del Sistema Distrital de Cuidado"]
[14,"05. Desarrollar acciones que promuevan los derechos de las mujeres, desde los enfoques de género, de derechos, diferencial y territorial.","MUJER","Desarrollo social y cultural","Estrategias de cuidado para cuidadoras, cuidadores y a personas con discapacidad","Vincular XXX mujeres cuidadoras a estrategias de cuidado.","Mujeres cuidadoras vinculadas a estrategias de cuidado","Propósito 1. Hacer un nuevo contrato social con igualdad de oportunidades para la inclusión social, productiva y política","Sistema Distrital de Cuidado","ESTRATEGIAS DE CUIDADO",1,"Las Personas",5,"Igualdad de género","5.4","Reconocer y valorar los cuidados y el trabajo doméstico no remunerados mediante servicios públicos, infraestructuras y políticas de protección social, y promoviendo la responsabilidad compartida en el hogar y la familia, según proceda en cada país",53,"Formular las bases técnicas y coordinar la implementación del sistema distrital del cuidado",52,"Formular e implementar una estrategia pedagógica para la valoración, la resignificación, el reconocimiento y la redistribución del trabajo de cuidado no remunerado que realizan las mujeres en Bogotá"]
[15,"11. Realizar inversiones complementarias a los programas y proyectos de la Administración Distrital en los sectores de Salud, Integración Social, Educación, Mujer, poblaciones, ruralidad, de conformidad con la reglamentación que se expida para el efecto.","SALUD","Condiciones de salud","Acciones complementarias para personas en condición de discapacidad y sus cuidadores.","Vincular XXX personas con discapacidad, cuidadores y cuidadoras, en actividades alternativas de salud.","Número de personas con discapacidad, cuidadadores y cuidadoras, vinculados en actividades alernativas de salud.","Propósito 1. Hacer un nuevo contrato social con igualdad de oportunidades para la inclusión social, productiva y política","Sistema Distrital de Cuidado","ACCIONES COMPLEMENTARIAS ",1,"Las Personas",3,"Salud y Bienestar","3.4","De aquí a 2030, reducir en un tercio la mortalidad prematura por enfermedades no transmisibles mediante su prevención y tratamiento, y promover la salud mental y el\nbienestar",40,"A 2024 incrementar la vinculación en 70.000 personas con discapacidad y cuidadoras/es a las acciones individuales y colectivas para la identificación, reconocimiento y atención integral a las necesidades diferenciales en salud e inclusión, priorizando estrategias de prevención de la salud mental",58,"Incrementar en 30% la atención de las personas con discapacidad en Bogotá, mediante procesos de articulación intersectorial, con mayor capacidad de respuesta integral teniendo en cuenta el contexto social e implementar el registro distrital de cuidadoras y cuidadores de personas con discapacidad, garantizando así el cumplimiento del Art 10 del Acuerdo distrital 710 de 2018"]
[15,"12. Realizar inversiones complementarias a las realizadas por la Administración Central y desarrollar acciones en el ámbito social que promuevan la prevención del embarazo en adolescentes, así como de los factores de riesgo frente al consumo de sustancias psicoactivas. ","SALUD","Condiciones de salud","Acciones para la disminución de los factores de riesgo frente al consumo de sustancias psicoactivas.","Vincular XXX personas a las acciones desarrolladas desde los dispositivos de base comunitaria en respuesta al consumo de SPA.","Números de personas vinculadas a las acciones desarrolladas desde los dispositivos de base comunitaria en respuesta al consumo de SPA.","Propósito 1. Hacer un nuevo contrato social con igualdad de oportunidades para la inclusión social, productiva y política","Sistema Distrital de Cuidado","DISMINUCIÓN FACTORES DE RIESGO SPA",1,"Las Personas",3,"Salud y Bienestar","3.5","Fortalecer la prevención y el tratamiento del abuso de sustancias adictivas, incluido el uso indebido de estupefacientes y el consumo nocivo de alcohol",76,"A 2024 ejecutar un programa de salud mental a través de acciones de atención integral que incluyen la promoción y prevención, consejería e intervención con enfoque comunitario. También el reforzamiento de 2 centros de salud mental actuales y la creación de un nuevo centro especializado con tratamiento diferencial de menores de edad, y la implementación de unidades móviles especializadas. Para la prevención del consumo de sustancias psicoactivas se enfocarán acciones de cuidado y prevención, con énfasis en el control del consumo de sustancias psicoactivas ilegales. Para la atención de consumidores problemáticos y habituales de sustancias psicoactivas se usarán estrategias de reducción del daño"]
[15,"11. Realizar inversiones complementarias a los programas y proyectos de la Administración Distrital en los sectores de Salud, Integración Social, Educación, Mujer, poblaciones, ruralidad, de conformidad con la reglamentación que se expida para el efecto.","SALUD","Condiciones de salud","Dispositivos de asistencia personal -DAP- Ayudas técnicas a personas con discapacidad (No incluidas en el POS).","Beneficiar XXX personas con discapacidad a través de Dispositivos de Asistencia Personal - Ayudas Técnicas (no incluidas en los Planes de Beneficios).","Número de personas con discapacidad beneficiadas con Dispostivos de Asistencia Personal - Ayudas Técnicas (no incluidas en los Planes de Beneficios).","Propósito 1. Hacer un nuevo contrato social con igualdad de oportunidades para la inclusión social, productiva y política","Sistema Distrital de Cuidado","DISPOSITIVOS DE ASISTENCIA PERSONAL",3,"La Prosperidad",10,"Reducción de las desigualdades ","10.2","De aquí a 2030, potenciar y promover la inclusión social, económica y política de todas las personas, independientemente de su edad, sexo, discapacidad, raza, etnia, origen, religión o situación económica u otra condición",58,"Incrementar en 30% la atención de las personas con discapacidad en Bogotá, mediante procesos de articulación intersectorial, con mayor capacidad de respuesta integral teniendo en cuenta el contexto social e implementar el registro distrital de cuidadoras y cuidadores de personas con discapacidad, garantizando así el cumplimiento del Art 10 del Acuerdo distrital 710 de 2018"]
[15,"11. Realizar inversiones complementarias a los programas y proyectos de la Administración Distrital en los sectores de Salud, Integración Social, Educación, Mujer, poblaciones, ruralidad, de conformidad con la reglamentación que se expida para el efecto.","SALUD","Condiciones de salud","Reconocimiento de los saberes ancestrales en medicina.","Vincular XXX personas a las acciones y estrategias de reconocimiento de los saberes ancestrales en medicina.","Número de personas vinculadas a las acciones y estrategias de reconocimiento de los saberes ancestrales en medicina.","Propósito 1. Hacer un nuevo contrato social con igualdad de oportunidades para la inclusión social, productiva y política","Sistema Distrital de Cuidado","SABERES ANCESTRALES",1,"Las Personas",3,"Salud y Bienestar","3.b","Apoyar las actividades de investigación y desarrollo de vacunas y medicamentos contra las enfermedades transmisibles y no transmisibles que afectan primordialmente a los países en desarrollo y facilitar el acceso a medicamentos y vacunas esenciales asequibles de conformidad con la Declaración relativa al Acuerdo sobre los Aspectos de los Derechos de Propiedad Intelectual Relacionados con el Comercio y la Salud Pública, en la que se afirma el derecho de los países en desarrollo a utilizar al máximo las disposiciones del Acuerdo sobre los Aspectos de los Derechos de Propiedad Intelectual Relacionados con el Comercio respecto a la flexibilidad para proteger la salud pública y, en particular, proporcionar acceso a los medicamentos para todos"]
[15,"11. Realizar inversiones complementarias a los programas y proyectos de la Administración Distrital en los sectores de Salud, Integración Social, Educación, Mujer, poblaciones, ruralidad, de conformidad con la reglamentación que se expida para el efecto.","SALUD","Condiciones de salud","Acciones de cuidado y protección para madres gestantes, niños y niñas migrantes.","Vincular XXX mujeres gestantes, niños y niñas, migrantes irregulares, vinculados en acciones de protección específica y detección temprana.","Número de mujeres gestantes, niños y niñas, migrantes irregulares, vinvulados en acciones de protección específica y detección temprana.","Propósito 1. Hacer un nuevo contrato social con igualdad de oportunidades para la inclusión social, productiva y política","Sistema Distrital de Cuidado","ACCIONES DE CUIDADO",1,"Las Personas",3,"Salud y Bienestar","3.8","Lograr la cobertura sanitaria universal, incluida la protección contra los riesgos financieros, el acceso a servicios de salud esenciales de calidad y el acceso a medicamentos y vacunas inocuos, eficaces, asequibles y de calidad para todos","16-Estr","A 2024 diseñar e implementar un abordaje para la atención en salud para población migrante irregular, de conformidad con el modelo de atención en  salud"]
[15,"11. Realizar inversiones complementarias a los programas y proyectos de la Administración Distrital en los sectores de Salud, Integración Social, Educación, Mujer, poblaciones, ruralidad, de conformidad con la reglamentación que se expida para el efecto.","SALUD","Condiciones de salud","Coinversión en la estrategia territorial de salud.","Vincular XXX personas en acciones complementarias de la estrategia territorial de salud.","Número de personas vinculadas en las acciones complementarias de la estrategia territorial de salud.","Propósito 1. Hacer un nuevo contrato social con igualdad de oportunidades para la inclusión social, productiva y política","Sistema Distrital de Cuidado","ESTRATEGIA TERRITORIAL DE SALUD",1,"Las Personas",3,"Salud y Bienestar","3.8","Lograr la cobertura sanitaria universal, incluida la protección contra los riesgos financieros, el acceso a servicios de salud esenciales de calidad y el acceso a medicamentos y vacunas inocuos, eficaces, asequibles y de calidad para todos","16-Estr","A 2024 diseñar e implementar un abordaje para la atención en salud para población migrante irregular, de conformidad con el modelo de atención en  salud"]
[16,"12. Realizar inversiones complementarias a las realizadas por la Administración Central y desarrollar acciones en el ámbito social que promuevan la prevención del embarazo en adolescentes, así como de los factores de riesgo frente al consumo de sustancias psicoactivas. ","SALUD","Condiciones de salud","Prevención del embarazo en adolescentes.","Vincular XXX personas a las acciones y estrategias para la prevención del embarazo adolescente.","Número de personas vinculadas a las acciones y estrategias para la prevención del embarazo adolescente","Propósito 1. Hacer un nuevo contrato social con igualdad de oportunidades para la inclusión social, productiva y política","Prevención y atención de maternidad temprana","PREVENCIÓN",1,"Las Personas",3,"Salud y Bienestar","3.7","De aquí a 2030, garantizar el acceso universal a los servicios de salud sexual y reproductiva, incluidos los de planificación familiar, información y educación, y la integración de la salud reproductiva en las estrategias y los programas nacionales",73,"Reducir la maternidad y paternidad temprana en mujeres menores o iguales a 19 años, así como la violencia sexual contra niñas y mujeres jóvenes, fortaleciendo capacidades de niñas, niños, adolescentes, jóvenes y sus familias sobre derechos sexuales y derechos reproductivos",913,"A 2024 reducir en 10% la maternidad y paternidad temprana en mujeres con edades entre 15 y 19 años, fortaleciendo las capacidades sobre derechos sexuales y reproductivos de adolescentes, jóvenes y sus familias."]
[17,"07. Orientar la gestión ambiental.","AMBIENTE","Inversiones ambientales sostenibles","Educación ambiental.","Implementar XXX PROCEDAS.","Número de PROCEDAS implementados ","Propósito 2. Cambiar nuestros hábitos de vida para reverdecer a Bogotá y adaptarnos y mitigar el cambio climático.","Cambio cultural para la gestión de la crisis climática.","EDUCACIÓN AMBIENTAL",4,"El Planeta",13,"Acción por el Clima","13.3","Mejorar la educación, la sensibilización y la capacidad humana e institucional respecto de la mitigación del cambio climático, la adaptación a él, la reducción de sus efectos y la alerta temprana",200,"Realizar la gestión y seguimiento a la aplicación de los determinantes ambientales en 1.000 proyectos de ciudad tomando en cuenta medidas de adaptación y mitigación a la crisis climática"]
[17,"07. Orientar la gestión ambiental.","AMBIENTE","Inversiones ambientales sostenibles","Eco-urbanismo.","Construir XXX m2 de muros y techos verdes.","m2 de muros y techos verdes","Propósito 2. Cambiar nuestros hábitos de vida para reverdecer a Bogotá y adaptarnos y mitigar el cambio climático.","Cambio cultural para la gestión de la crisis climática.","MUROS VERDES",3,"La Prosperidad",11,"Ciudades y comunidades sostenibles","11.3","De aquí a 2030, aumentar la urbanización inclusiva y sostenible y la capacidad para la planificación y la gestión participativas, integradas y sostenibles de los asentamientos",201,"Reverdecer 20.000 m2 en la ciudad a través del fortalecimiento de la infraestructura vegetada"]
[17,"07. Orientar la gestión ambiental.","AMBIENTE","Inversiones ambientales sostenibles","Eco-urbanismo.","Intervenir XXX m2 de jardinería y coberturas verdes. ","m2 de jardinería y coberturas verdes","Propósito 2. Cambiar nuestros hábitos de vida para reverdecer a Bogotá y adaptarnos y mitigar el cambio climático.","Cambio cultural para la gestión de la crisis climática.","JARDINERÍA",3,"La Prosperidad",11,"Ciudades y comunidades sostenibles","11.3","De aquí a 2030, aumentar la urbanización inclusiva y sostenible y la capacidad para la planificación y la gestión participativas, integradas y sostenibles de los asentamientos",201,"Reverdecer 20.000 m2 en la ciudad a través del fortalecimiento de la infraestructura vegetada"]
[18,"07. Orientar la gestión ambiental.","AMBIENTE","Inversiones ambientales sostenibles","Restauración ecológica urbana y/o rural.","Intervenir XXX hectáreas con procesos de restauración, rehabilitación o recuperación ecológica.","Hectáreas en restauración, rehabilitación o recuperación ecológica y mantenimiento ","Propósito 2. Cambiar nuestros hábitos de vida para reverdecer a Bogotá y adaptarnos y mitigar el cambio climático.","Bogotá protectora de sus recursos naturales","RESTAURACIÓN ECOLÓGICA",4,"El Planeta",15,"Vida de ecosistemas terrestres","15.1","De aquí a 2020, asegurar la conservación, el restablecimiento y el uso sostenible de los ecosistemas terrestres y los ecosistemas interiores de agua dulce y sus servicios, en particular los bosques, los humedales, las montañas y las zonas áridas, en consonancia con las obligaciones contraídas en virtud de acuerdos\ninternacionales",214,"Mantener 590 hectáreas priorizadas en proceso de recuperación, rehabilitación o restauración ecológica en la estructura ecológica principal y áreas de interés ambiental"]
[19,"08. Atender y prevenir riesgos de desastres naturales.","AMBIENTE","Inversiones ambientales sostenibles","Manejo de emergencias y desastres.","Realizar XXX acciones efectivas para el fortalecimiento de las capacidades locales para la respuesta a emergencias y desastres.","Acciones efectivas para el fortalecimiento de las capacidades locales para la respuesta a emergencias y desastres","Propósito 2. Cambiar nuestros hábitos de vida para reverdecer a Bogotá y adaptarnos y mitigar el cambio climático.","Eficiencia en la atención de emergencias","MANEJO DE EMERGENCIAS, CALAMIDADES Y DESASTRES",3,"La Prosperidad",11,"Ciudades y comunidades sostenibles","11.5","De aquí a 2030, reducir significativamente el número de muertes causadas por los desastres, incluidos los relacionados con el agua, y de personas afectadas por ellos, y reducir considerablemente las pérdidas económicas directas provocadas por los desastres en comparación con el producto interno bruto mundial, haciendo especial hincapié en la protección de los pobres y las personas en situaciones de vulnerabilidad",221,"Atender el 100% de la población afectada por emergencias con respuesta integral y coordinada del SDGR-CC",225,"Poner en funcionamiento 3 nuevos espacios para la gestión integral de riesgos, incendios e incidentes con materiales peligrosos y rescates en todas sus modalidades"]
[19,"08. Atender y prevenir riesgos de desastres naturales.","AMBIENTE","Inversiones ambientales sostenibles","Mitigación del riesgo. ","Desarrollar XXX intervenciones para la reducción del riesgo y adaptación al cambio climático.","Intervenciones para la reducción del riesgo y adaptación al cambio climático","Propósito 2. Cambiar nuestros hábitos de vida para reverdecer a Bogotá y adaptarnos y mitigar el cambio climático.","Eficiencia en la atención de emergencias","REDUCCIÓN DEL RIESGO Y ADAPTACIÓN AL CAMBIO CLIMÁTICO",4,"El Planeta",13,"Acción por el clima","13.1","Fortalecer la resiliencia y la capacidad de adaptación a los riesgos relacionados con el clima y los desastres naturales en todos los países",218,"Construir nueve (9) obras de mitigación para la reducción del riesgo y adaptación a la crisis climática",225,"Poner en funcionamiento 3 nuevos espacios para la gestión integral de riesgos, incendios e incidentes con materiales peligrosos y rescates en todas sus modalidades"]
[20,"07. Orientar la gestión ambiental.","AMBIENTE","Inversiones ambientales sostenibles","Arbolado urbano y/o rural.","Mantener XXX árboles urbanos y/o rurales.","Número de árboles mantenidos","Propósito 2. Cambiar nuestros hábitos de vida para reverdecer a Bogotá y adaptarnos y mitigar el cambio climático.","Más árboles y más y mejor espacio público","ARBORIZACIÓN",4,"El Planeta",15,"Vida de ecosistemas terrestres","15.1","De aquí a 2020, asegurar la conservación, el restablecimiento y el uso sostenible de los ecosistemas terrestres y los ecosistemas interiores de agua dulce y sus servicios, en particular los bosques, los humedales, las montañas y las zonas áridas, en consonancia con las obligaciones contraídas en virtud de acuerdos internacionales",250,"Plantar 80.000 árboles en el espacio urbano de Bogotá y realizar el mantenimiento de 400.000 de los existentes",251,"Plantar y mantener 225.000 individuos vegetales con criterios de recuperación ecológica en zona rural"]
[20,"07. Orientar la gestión ambiental.","AMBIENTE","Inversiones ambientales sostenibles","Arbolado urbano y/o rural.","Plantar XXX árboles urbanos y/o rurales.","Número de árboles plantados","Propósito 2. Cambiar nuestros hábitos de vida para reverdecer a Bogotá y adaptarnos y mitigar el cambio climático.","Más árboles y más y mejor espacio público","ARBORIZACIÓN",4,"El Planeta",15,"Vida de ecosistemas terrestres","15.1","De aquí a 2020, asegurar la conservación, el restablecimiento y el uso sostenible de los ecosistemas terrestres y los ecosistemas interiores de agua dulce y sus servicios, en particular los bosques, los humedales, las montañas y las zonas áridas, en consonancia con las obligaciones contraídas en virtud de acuerdos internacionales",250,"Plantar 80.000 árboles en el espacio urbano de Bogotá y realizar el mantenimiento de 400.000 de los existentes",930,"Plantar 802.000 individuos vegetales en área urbana y rural"]
[21,"04. Adelantar la construcción y mantenimiento de parques vecinales y de bolsillo.","CULTURA, RECREACIÓN Y DEPORTE","Infraestructura","Construcción, mantenimiento y dotación de parques vecinales y/o de bolsillo.","Construir XXX m2 de Parques vecinales y/o de bolsillo (la construcción incluye su dotación).","m2 de Parques vecinales y/o de bolsillo construidos y dotados","Propósito 2. Cambiar nuestros hábitos de vida para reverdecer a Bogotá y adaptarnos y mitigar el cambio climático.","Más árboles y más y mejor espacio público","CONSTRUCCIÓN",3,"La Prosperidad",11,"Ciudades y comunidades sostenibles","11.7","De aquí a 2030, proporcionar acceso universal a zonas verdes y espacios públicos seguros, inclusivos y accesibles, en particular para las mujeres y los niños, las personas de edad y las personas con discapacidad",248,"Mejorar el estado del espacio público local, zonas verdes y parques vecinales a través de las intervenciones de las Alcaldías Locales"]
[21,"04. Adelantar la construcción y mantenimiento de parques vecinales y de bolsillo.","CULTURA, RECREACIÓN Y DEPORTE","Infraestructura","Construcción, mantenimiento y dotación de parques vecinales y/o de bolsillo.","Intervenir XXX Parques vecinales y/o de bolsillo con acciones de mejoramiento, mantenimiento y/o dotación. ","Número de Parques vecinales y/o de bolsillo intervenidos en mejoramiento, mantenimiento y/o dotación","Propósito 2. Cambiar nuestros hábitos de vida para reverdecer a Bogotá y adaptarnos y mitigar el cambio climático.","Más árboles y más y mejor espacio público","INTERVENCIÓN",3,"La Prosperidad",11,"Ciudades y comunidades sostenibles","11.7","De aquí a 2030, proporcionar acceso universal a zonas verdes y espacios públicos seguros, inclusivos y accesibles, en particular para las mujeres y los niños, las personas de edad y las personas con discapacidad",248,"Mejorar el estado del espacio público local, zonas verdes y parques vecinales a través de las intervenciones de las Alcaldías Locales"]
[22,"07. Orientar la gestión ambiental.","AMBIENTE","Inversiones ambientales sostenibles","Acuerdos con las redes locales de proteccionistas de animales para urgencias, brigadas médico veterinarias, acciones de esterilización, educación y adopción  ","Atender XXX animales en urgencias, brigadas médico veterinarias, acciones de esterilización, educación y adopción.","Número de animales atendidos","Propósito 2. Cambiar nuestros hábitos de vida para reverdecer a Bogotá y adaptarnos y mitigar el cambio climático.","Bogotá protectora de los animales","BIENESTAR ANIMAL",3,"La Prosperidad",11,"Ciudades y comunidades sostenibles","11.3","De aquí a 2030, aumentar la urbanización inclusiva y sostenible y la capacidad para la planificación y la gestión participativas, integradas y sostenibles de los asentamientos\nhumanos en todos los países",260,"60.000 animales atendidos en los programas de atención integral de la fauna doméstica del Distrito Capital",261,"Realizar la esterilización de 356.000 animales en el Distrito Capital"]
[23,"11. Realizar inversiones complementarias a los programas y proyectos de la Administración Distrital en los sectores de Salud, Integración Social, Educación, Mujer, poblaciones, ruralidad, de conformidad con la reglamentación que se expida para el efecto.","HÁBITAT","Ruralidad","Acueductos veredales y saneamiento básico.","Fortalecer XXX acueductos veredales con asistencia, intervenir técnica u organizativa","Número de acueductos verdales asistidos o intervenidos técnica u organizacionalmente.","Propósito 2. Cambiar nuestros hábitos de vida para reverdecer a Bogotá y adaptarnos y mitigar el cambio climático.","Provisión y mejoramiento de servicios públicos","ACUEDUCTOS VEREDALES",4,"El Planeta",6,"Agua y saneamiento","6.b","Apoyar y fortalecer la participación de las comunidades locales en la mejora de la gestión del agua y el saneamiento",283,"Fortalecer técnica y organizacionalmente a los prestadores de los sistemas de abastecimiento de agua potable en zona rural del Distrito que identifique y priorice la Secretaría del Hábitat",287,"Mantener la continuidad del servicio de acueducto por encima del 98,36% en Bogotá, Soacha y Gachancipá"]
[24,"07. Orientar la gestión ambiental.","HÁBITAT","Inversiones ambientales sostenibles","Cambios de hábitos de consumo, separación en la fuente y reciclaje.","Capacitar XXX personas en separación en la fuente y reciclaje.","Personas capacitadas en separación en la fuente y reciclaje","Propósito 2. Cambiar nuestros hábitos de vida para reverdecer a Bogotá y adaptarnos y mitigar el cambio climático.","Ecoeficiencia, reciclaje, manejo de residuos e inclusión de la población recicladora","HÁBITOS DE CONSUMO",4,"El Planeta",12,"Producción y consumo responsables","12.5","De aquí a 2030, reducir considerablemente la generación de desechos mediante actividades de prevención, reducción, reciclado y reutilización",297,"Implementar una estrategia de cultura ciudadana para promover la separación en la fuente, el reuso, el reciclaje, valoración y aprovechamiento de residuos ordinarios orgánicos e inorgánicos, contribuyendo a mejorar la gestión sostenible de los residuos generados en la ciudad"]
[24,"11. Realizar inversiones complementarias a los programas y proyectos de la Administración Distrital en los sectores de Salud, Integración Social, Educación, Mujer, poblaciones, ruralidad, de conformidad con la reglamentación que se expida para el efecto.","HÁBITAT","Ruralidad","Energías alternativas para el área rural.","Realizar XXX acciones  con energías alternativas para el área rural.","Acciones con energías alternativas para el área rural realizadas.","Propósito 2. Cambiar nuestros hábitos de vida para reverdecer a Bogotá y adaptarnos y mitigar el cambio climático.","Ecoeficiencia, reciclaje, manejo de residuos e inclusión de la población recicladora","ENERGÍAS ALTERNATIVAS",4,"El Planeta",12,"Producción y consumo responsables","12.5","De aquí a 2030, reducir considerablemente la generación de desechos mediante actividades de prevención, reducción, reciclado y reutilización",295,"Gestionar en el terreno del RSDJ la disminución del entierro de residuos y el mayor aprovechamiento con alternativas de transformación en energía y biogás, para que su vida útil no dependa del entierro de residuos sino de los proyectos de aprovechamiento"]
[25,"06. Promover la seguridad y convivencia ciudadanas.","GESTIÓN PÚBLICA","Desarrollo social y cultural","Construcción de memoria, verdad, reparación, víctimas, paz y reconciliación.","Vincular XXX personas a procesos de construcción de memoria, verdad, reparación integral a víctimas, paz y reconciliación.","Personas vinculadas a procesos de construcción de memoria, verdad, reparación integral a víctimas, paz y reconciliación","Propósito 3. Inspirar confianza y legitimidad para vivir sin miedo y ser epicentro de cultura ciudadana, paz y reconciliación.","Bogotá territorio de paz y atención integral a las víctimas del conflicto armado","PAZ, MEMORIA Y RECONCILIACIÓN",2,"La Paz",16,"Paz, justicia e instituciones sólidas","16.3","Promover el estado de derecho en los planos nacional e internacional y garantizar la igualdad en el acceso a la justicia para todos",299,"Desarrollar acciones y procesos de asistencia, atención, reparación integral y participación para las víctimas del conflicto armado, en concordancia con las obligaciones y disposiciones legales establecidas para el Distrito Capital",300,"Formular e implementar una estrategia para la apropiación social de la memoria, para la paz y la reconciliación en los territorios ciudad región a través de la pedagogía social y la gestión del conocimiento"]
[26,"05. Desarrollar acciones que promuevan los derechos de las mujeres, desde los enfoques de género, de derechos, diferencial y territorial.","MUJER","Desarrollo social y cultural","Construcción de ciudadanía y desarrollo de capacidades para el ejercicio de derechos de las mujeres.","Capacitar XXX personas para la construcción de ciudadanía y desarrollo de capacidades para el ejercicio de derechos de las mujeres.","Personas capacitadas para la construcción de ciudadanía y desarrollo de capacidades para el ejercicio de derechos de las mujeres.","Propósito 3. Inspirar confianza y legitimidad para vivir sin miedo y ser epicentro de cultura ciudadana, paz y reconciliación.","Más mujeres viven una vida libre de violencias, se sienten seguras y acceden con confianza al sistema de justicia","DESARROLLO DE CAPACIDADES",1,"Las Personas",5,"Igualdad de género","5.c","Aprobar y fortalecer políticas acertadas y leyes aplicables para promover la igualdad de género y el empoderamiento de todas las mujeres y las niñas a todos los niveles",306,"Diseñar e implementar estrategias de divulgación pedagógica y de transformación cultural para el cambio social con enfoques de género, diferencial, de derechos de las mujeres e interseccional que articulen la oferta institucional con el ejercicio pleno de los derechos de las mujeres"]
[26,"05. Desarrollar acciones que promuevan los derechos de las mujeres, desde los enfoques de género, de derechos, diferencial y territorial.","MUJER","Desarrollo social y cultural","Prevención del feminicidio y la violencia contra la mujer.","Vincular XXX personas en acciones para la prevención del feminicidio y la violencia contra la mujer.","Número de Personas vinculadas en acciones para la prevención del feminicidio y la violencia contra la mujer","Propósito 3. Inspirar confianza y legitimidad para vivir sin miedo y ser epicentro de cultura ciudadana, paz y reconciliación.","Más mujeres viven una vida libre de violencias, se sienten seguras y acceden con confianza al sistema de justicia","PREVENCIÓN",1,"Las Personas",5,"Igualdad de género","5.2","Eliminar todas las formas de violencia contra todas las mujeres y las niñas en los ámbitos público y privado, incluidas la trata y la explotación sexual y otros tipos de explotación",306,"Diseñar e implementar estrategias de divulgación pedagógica y de transformación cultural para el cambio social con enfoques de género, diferencial, de derechos de las mujeres e interseccional que articulen la oferta institucional con el ejercicio pleno de los derechos de las mujeres"]
[27,"06. Promover la seguridad y convivencia ciudadanas.","SEGURIDAD, CONVIVENCIA Y JUSTICIA","Desarrollo social y cultural","Promoción de la convivencia ciudadana.","Implementar XXX estrategia de atención de movilizaciones y aglomeraciones en el territorio a través de equipos de gestores de convivencia bajo el direccionamiento estratégico de la Secretaria de Seguridad, Convivencia y Justicia.","Estrategia de atención de movilizaciones y aglomeraciones en el territorio implementada a traves de equipos de gestores de convivencia bajo el direccionamiento estrategico de la Secretaria de Seguridad, Convivencia y Justicia","Propósito 3. Inspirar confianza y legitimidad para vivir sin miedo y ser epicentro de cultura ciudadana, paz y reconciliación.","Cultura ciudadana para la confianza, la convivencia y la participación desde la vida cotidiana","GESTORES DE CONVIVENCIA",2,"La Paz",16,"Paz, justicia e instituciones sólidas","16.1","Reducir significativamente todas las formas de violencia y las correspondientes tasas de mortalidad en todo el mundo",323,"Desarrollar un (1) Programa de diálogo social constructivo y cercano, a través de estrategias de acción coordinada e inmediata frente a las conflictividades sociales para el fortalecimiento de la convivencia, la cultura ciudadana y la gobernabilidad en la ciudad",327,"Implementar un (1) programa de barrismo social que promueva territorios en paz, convivencia en el fútbol, el cuidado de la ciudad y la cultura pacífica en Bogotá"]
[27,"06. Promover la seguridad y convivencia ciudadanas.","SEGURIDAD, CONVIVENCIA Y JUSTICIA","Desarrollo social y cultural","Promoción de la convivencia ciudadana.","Formar XXX personas en la escuela de seguridad.","Número de personas formadas en la escuela de seguridad","Propósito 3. Inspirar confianza y legitimidad para vivir sin miedo y ser epicentro de cultura ciudadana, paz y reconciliación.","Cultura ciudadana para la confianza, la convivencia y la participación desde la vida cotidiana","ESCUELA DE SEGURIDAD",2,"La Paz",16,"Paz, justicia e instituciones sólidas","16.1","Reducir significativamente todas las formas de violencia y las correspondientes tasas de mortalidad en todo el mundo",323,"Desarrollar un (1) Programa de diálogo social constructivo y cercano, a través de estrategias de acción coordinada e inmediata frente a las conflictividades sociales para el fortalecimiento de la convivencia, la cultura ciudadana y la gobernabilidad en la ciudad"]
[27,"06. Promover la seguridad y convivencia ciudadanas.","SEGURIDAD, CONVIVENCIA Y JUSTICIA","Desarrollo social y cultural","Promoción de la convivencia ciudadana.","Incluir XXX personas en actividades de educación para la resiliencia y la prevención de hechos delictivos.","Personas incluidas en actividades de educación para la resiliencia y la prevención de hechos delictivos. ","Propósito 3. Inspirar confianza y legitimidad para vivir sin miedo y ser epicentro de cultura ciudadana, paz y reconciliación.","Cultura ciudadana para la confianza, la convivencia y la participación desde la vida cotidiana","PREVENCIÓN",2,"La Paz",16,"Paz, justicia e instituciones sólidas","16.1","Reducir significativamente todas las formas de violencia y las correspondientes tasas de mortalidad en todo el mundo",323,"Desarrollar un (1) Programa de diálogo social constructivo y cercano, a través de estrategias de acción coordinada e inmediata frente a las conflictividades sociales para el fortalecimiento de la convivencia, la cultura ciudadana y la gobernabilidad en la ciudad",328,"Implementar una (1) estrategia para la elección, formación y fortalecimiento del Consejo Distrital de Juventud que promueva nuevas ciudadanías y liderazgos activos"]
[28,"06. Promover la seguridad y convivencia ciudadanas.","GOBIERNO","Desarrollo social y cultural","Acuerdos para el uso, acceso y aprovechamiento del espacio público.","Realizar XXX acuerdos para el uso del EP con fines culturales, deportivos, recreacionales o de mercados temporales.","Acuerdos realizados para el uso del EP con fines culturales, deportivos, recreacionales o de mercados temporales.","Propósito 3. Inspirar confianza y legitimidad para vivir sin miedo y ser epicentro de cultura ciudadana, paz y reconciliación.","Espacio público más seguro y construido colectivamente.","ACUERDOS CIUDADANOS",2,"La Paz",16,"Paz, justicia e instituciones sólidas","16.1","Reducir significativamente todas las formas de violencia y las correspondientes tasas de mortalidad en todo el mundo",960,"Disminuir la ilegalidad y la conflictividad en el uso y ordenamiento del espacio público, privado y en el medio ambiente rural y urbano",333,"Generar una (1) estrategia para las prácticas culturales, artísticas y patrimoniales en espacios identificados como entornos conflictivos"]
[28,"06. Promover la seguridad y convivencia ciudadanas.","GOBIERNO","Desarrollo social y cultural","Acuerdos para fortalecer la formalidad.","Realizar XXX acuerdos para la promover la formalización de vendedores informales a círculos económicos productivos de la ciudad.","Acuerdos realizados para la promover la formalización de vendedores informales a circulos económicos productivos de la ciudad","Propósito 3. Inspirar confianza y legitimidad para vivir sin miedo y ser epicentro de cultura ciudadana, paz y reconciliación.","Espacio público más seguro y construido colectivamente.","ACUERDOS CIUDADANOS",2,"La Paz",16,"Paz, justicia e instituciones sólidas","16.1","Reducir significativamente todas las formas de violencia y las correspondientes tasas de mortalidad en todo el mundo",960,"Disminuir la ilegalidad y la conflictividad en el uso y ordenamiento del espacio público, privado y en el medio ambiente rural y urbano"]
[28,"06. Promover la seguridad y convivencia ciudadanas.","GOBIERNO","Desarrollo social y cultural","Acuerdos para mejorar el uso de medios de transporte no motorizados.","Realizar XXX acuerdos para la vinculación de la ciudadanía en los programas adelantados por el IDRD y acuerdos con vendedores informales o estacionarios","Acuerdos realizados para la vinculación de la ciudadanía en los programas adelantados por el IDRD y acuerdos con vendedores informales o estacionarios ","Propósito 3. Inspirar confianza y legitimidad para vivir sin miedo y ser epicentro de cultura ciudadana, paz y reconciliación.","Espacio público más seguro y construido colectivamente.","ACUERDOS CIUDADANOS",2,"La Paz",16,"Paz, justicia e instituciones sólidas","16.1","Reducir significativamente todas las formas de violencia y las correspondientes tasas de mortalidad en todo el mundo",960,"Disminuir la ilegalidad y la conflictividad en el uso y ordenamiento del espacio público, privado y en el medio ambiente rural y urbano"]
[29,"06. Promover la seguridad y convivencia ciudadanas.","SEGURIDAD, CONVIVENCIA Y JUSTICIA","Desarrollo social y cultural","Acceso a la Justicia.","Beneficiar XXX personas a través de estrategias para el fortalecimiento de los mecanismos de justicia comunitaria.","Beneficiarios de las estrategias para el fortalecimiento  de los mecanismos  de justicia comunitaria.","Propósito 3. Inspirar confianza y legitimidad para vivir sin miedo y ser epicentro de cultura ciudadana, paz y reconciliación.","Plataforma institucional para la seguridad y justicia","JUSTICIA COMUNITARIA",2,"La Paz",16,"Paz, justicia e instituciones sólidas","16.3","Promover el estado de derecho en los planos nacional e internacional y garantizar la igualdad de acceso a la justicia para todos",350,"Diseñar e implementar al 100% la estrategia Facilitadores para el acceso a la justicia"]
[29,"06. Promover la seguridad y convivencia ciudadanas.","SEGURIDAD, CONVIVENCIA Y JUSTICIA","Desarrollo social y cultural","Acceso a la Justicia.","Atender XXX personas en estrategias de acceso a la justicia integral en la ciudad.","Personas atendidas en estrategias de acceso a la justicia integral en la ciudad.","Propósito 3. Inspirar confianza y legitimidad para vivir sin miedo y ser epicentro de cultura ciudadana, paz y reconciliación.","Plataforma institucional para la seguridad y justicia","JUECES DE PAZ",2,"La Paz",16,"Paz, justicia e instituciones sólidas","16.3","Promover el estado de derecho en los planos nacional e internacional y garantizar la igualdad de acceso a la justicia para todos",350,"Diseñar e implementar al 100% la estrategia Facilitadores para el acceso a la justicia",362,"Formular e implementar al 100% el Plan Integral de convivencia, seguridad y justicia"]
[29,"06. Promover la seguridad y convivencia ciudadanas.","SEGURIDAD, CONVIVENCIA Y JUSTICIA","Desarrollo social y cultural","Acceso a la Justicia.","Vincular XXX Instituciones educativas al programa pedagógico de resolución de conflictos en la comunidad escolar.","Instituciones educativas vinculadas al programa pedagógico de resolución de conflictos en la comunidad escolar.","Propósito 3. Inspirar confianza y legitimidad para vivir sin miedo y ser epicentro de cultura ciudadana, paz y reconciliación.","Plataforma institucional para la seguridad y justicia","RESOLUCIÓN DE CONFLICTOS ESCOLARES",2,"La Paz",16,"Paz, justicia e instituciones sólidas","16.3","Promover el estado de derecho en los planos nacional e internacional y garantizar la igualdad de acceso a la justicia para todos",352,"Diseñar e implementar al 100% una (1) estrategia de intervención de entornos vulnerables, con especial énfasis en las Instituciones Educativas Distritales, las Instituciones de Educación Superior, el Sistema Integrado de Transporte Público, las ciclorrutas, los parques y las zonas de rumba"]
[29,"06. Promover la seguridad y convivencia ciudadanas.","SEGURIDAD, CONVIVENCIA Y JUSTICIA","Desarrollo social y cultural","Acceso a la Justicia.","Implementar 1 estrategia local de acciones pedagógicas del Código Nacional de Seguridad y Convivencia Ciudadana en la localidad.","Estrategia local de acciones pedagógicas del Código Nacional de Seguridad y Convivencia Ciudadana implementada en la localidad.","Propósito 3. Inspirar confianza y legitimidad para vivir sin miedo y ser epicentro de cultura ciudadana, paz y reconciliación.","Plataforma institucional para la seguridad y justicia","ACCIONES PEDAGÓGICAS",2,"La Paz",16,"Paz, justicia e instituciones sólidas","16.3","Promover el estado de derecho en los planos nacional e internacional y garantizar la igualdad de acceso a la justicia para todos",357,"Diseñar e implementar al 100% una estrategia pedagógica del Código Nacional de Seguridad y Convivencia Ciudadana",363,"Formular e implementar al 100% un lineamiento técnico de acciones de materialización del Código Nacional de Seguridad y Convivencia Ciudadana"]
[30,"06. Promover la seguridad y convivencia ciudadanas.","SEGURIDAD, CONVIVENCIA Y JUSTICIA","Desarrollo social y cultural","Dotación para instancias de seguridad.","Suministrar XXX dotaciones tecnológicas a organismos de seguridad.","Dotaciones tecnológicas suministradas a organismos de seguridad.","Propósito 3. Inspirar confianza y legitimidad para vivir sin miedo y ser epicentro de cultura ciudadana, paz y reconciliación.","Plataforma institucional para la seguridad y justicia","DOTACIÓN",2,"La Paz",16,"Paz, justicia e instituciones sólidas","16.a","Fortalecer las instituciones nacionales pertinentes, incluso mediante la cooperación internacional, para crear a todos los niveles, particularmente en los países en desarrollo, la capacidad de prevenir la violencia y combatir el terrorismo y la delincuencia",349,"Diseñar e implementar al 100% el plan integral de mejoramiento tecnológico para la seguridad",352,"Aumentar en 15 % el número de cámaras instaladas y en funcionamiento en la ciudad"]
[30,"06. Promover la seguridad y convivencia ciudadanas.","SEGURIDAD, CONVIVENCIA Y JUSTICIA","Desarrollo social y cultural","Dotación para instancias de seguridad.","Suministrar XXX dotaciones logísticas a organismos de seguridad.","Dotaciones logísticas suministradas a organismos de seguridad.","Propósito 3. Inspirar confianza y legitimidad para vivir sin miedo y ser epicentro de cultura ciudadana, paz y reconciliación.","Plataforma institucional para la seguridad y justicia","DOTACIÓN",2,"La Paz",16,"Paz, justicia e instituciones sólidas","16.a","Fortalecer las instituciones nacionales pertinentes, incluso mediante la cooperación internacional, para crear a todos los niveles, particularmente en los países en desarrollo, la capacidad de prevenir la violencia y combatir el terrorismo y la delincuencia",366,"Implementar al 100% el plan de infraestructura y dotación de los organismos de seguridad y justicia, con enfoque territorial",349,"Diseñar e implementar al 100% el plan integral de mejoramiento tecnológico para la seguridad"]
[30,"06. Promover la seguridad y convivencia ciudadanas.","SEGURIDAD, CONVIVENCIA Y JUSTICIA","Desarrollo social y cultural","Dotación para instancias de seguridad.","Suministrar XXX dotaciones de equipos especiales de protección a organismos de seguridad.","Dotaciones de equipos especiales de protección  suministradas a organismos de seguridad.","Propósito 3. Inspirar confianza y legitimidad para vivir sin miedo y ser epicentro de cultura ciudadana, paz y reconciliación.","Plataforma institucional para la seguridad y justicia","DOTACIÓN",2,"La Paz",16,"Paz, justicia e instituciones sólidas","16.a","Fortalecer las instituciones nacionales pertinentes, incluso mediante la cooperación internacional, para crear a todos los niveles, particularmente en los países en desarrollo, la capacidad de prevenir la violencia y combatir el terrorismo y la delincuencia",366,"Implementar al 100% el plan de infraestructura y dotación de los organismos de seguridad y justicia, con enfoque territorial",349,"Diseñar e implementar al 100% el plan integral de mejoramiento tecnológico para la seguridad"]
[30,"06. Promover la seguridad y convivencia ciudadanas.","SEGURIDAD, CONVIVENCIA Y JUSTICIA","Desarrollo social y cultural","Dotación para instancias de seguridad.","Suministrar XXX dotaciones del parque automotor a organismos de seguridad.","Dotación del parque automotor suministrada a organismos de seguridad.","Propósito 3. Inspirar confianza y legitimidad para vivir sin miedo y ser epicentro de cultura ciudadana, paz y reconciliación.","Plataforma institucional para la seguridad y justicia","DOTACIÓN",2,"La Paz",16,"Paz, justicia e instituciones sólidas","16.a","Fortalecer las instituciones nacionales pertinentes, incluso mediante la cooperación internacional, para crear a todos los niveles, particularmente en los países en desarrollo, la capacidad de prevenir la violencia y combatir el terrorismo y la delincuencia",366,"Implementar al 100% el plan de infraestructura y dotación de los organismos de seguridad y justicia, con enfoque territorial"]
[31,"03. Adelantar el diseño, construcción y conservación de la malla vial local e intermedia, del espacio público y peatonal local e intermedio; así como de los puentes peatonales y/o vehiculares que pertenezcan a la malla vial local e intermedia, incluyendo los ubicados sobre cuerpos de agua. Así mismo, podrán coordinar con las entidades del sector movilidad su participación en la conservación de la malla vial y espacio público arterial, sin transporte masivo.","MOVILIDAD","Infraestructura","Construcción y/o conservación de elementos del sistema de espacio público peatonal.","Intervenir XXX metros cuadrados de elementos del sistema de espacio público peatonal con acciones de construcción y/o conservación.","Metros cuadrados construidos y/o conservados de elementos del sistema de espacio público peatonal.","Propósito 4. Hacer de Bogotá-región un modelo de movilidad, creatividad y productividad incluyente y sostenible","Movilidad segura, sostenible y accesible","CONSTRUCCIÓN Y CONSERVACIÓN ",3,"La Prosperidad",11,"Ciudades y comunidades sostenibles","11.7"," De aquí a 2030, proporcionar acceso universal a zonas verdes y espacios públicos seguros, inclusivos y accesibles, en particular para las mujeres y los niños, las personas de edad y las personas con discapacidad",241,"Construir 2.718.592 m2 de espacio público para el disfrute de los ciudadanos. En esta construcción se contara con un 35% de mano de obra de la localidad donde se ejecute el proyecto",240,"Conservar 1.505.155 m2 de espacio público"]
[31,"03. Adelantar el diseño, construcción y conservación de la malla vial local e intermedia, del espacio público y peatonal local e intermedio; así como de los puentes peatonales y/o vehiculares que pertenezcan a la malla vial local e intermedia, incluyendo los ubicados sobre cuerpos de agua. Así mismo, podrán coordinar con las entidades del sector movilidad su participación en la conservación de la malla vial y espacio público arterial, sin transporte masivo.","MOVILIDAD","Infraestructura","Construcción y/o conservación de puentes peatonales y/o vehiculares sobre cuerpos de agua (de escala local: urbana y/o rural).","Intervenir XXX metros cuadrados de Puentes vehiculares y/o peatonales de escala local sobre cuerpos de agua con acciones de construcción y/o conservación.","Metros cuadrados de Puentes vehiculares y/o peatonales de escala local sobre cuerpos de agua construidos y/o intervenidos","Propósito 4. Hacer de Bogotá-región un modelo de movilidad, creatividad y productividad incluyente y sostenible","Movilidad segura, sostenible y accesible","INTERVENCIÓN PUENTES",3,"La Prosperidad",9,"Industria, innovación e infraestructura","9.1","Desarrollar infraestructuras fiables, sostenibles, resilientes y de calidad, incluidas infraestructuras regionales y transfronterizas, para apoyar el desarrollo económico y el bienestar humano, haciendo especial hincapié en el acceso asequible y equitativo para todos",382,"Construir o reforzar 29 Puentes vehiculares e intersecciones a desnivel"]
[31,"03. Adelantar el diseño, construcción y conservación de la malla vial local e intermedia, del espacio público y peatonal local e intermedio; así como de los puentes peatonales y/o vehiculares que pertenezcan a la malla vial local e intermedia, incluyendo los ubicados sobre cuerpos de agua. Así mismo, podrán coordinar con las entidades del sector movilidad su participación en la conservación de la malla vial y espacio público arterial, sin transporte masivo.","MOVILIDAD","Infraestructura","Diseño, construcción y conservación (mantenimiento y rehabilitación) de la malla vial local e intermedia urbana o rural.","Intervenir XXX Kilómetros-carril de malla vial urbana (local y/o intermedia) con acciones de construcción y/o conservación","Kilómetros-carril construidos y/o conservados de malla vial urbana (local y/o intermedia)","Propósito 4. Hacer de Bogotá-región un modelo de movilidad, creatividad y productividad incluyente y sostenible","Movilidad segura, sostenible y accesible","INTERVENCIÓN MALLA VIAL LOCAL",3,"La Prosperidad",9,"Industria, innovación e infraestructura","9.1","Desarrollar infraestructuras fiables, sostenibles, resilientes y de calidad, incluidas infraestructuras regionales y transfronterizas, para apoyar el desarrollo económico y el bienestar humano, haciendo especial hincapié en el acceso asequible y equitativo para todos",380,"Construir 146 km. de malla vial. En esta construcción se contara con un 35% de mano de obra de la localidad donde se ejecute el proyecto",391,"Mejorar el estado de la malla vial local a través de las intervenciones de las Alcaldías Locales, en el marco del proceso de reactivación económica de la ciudad"]
[31,"03. Adelantar el diseño, construcción y conservación de la malla vial local e intermedia, del espacio público y peatonal local e intermedio; así como de los puentes peatonales y/o vehiculares que pertenezcan a la malla vial local e intermedia, incluyendo los ubicados sobre cuerpos de agua. Así mismo, podrán coordinar con las entidades del sector movilidad su participación en la conservación de la malla vial y espacio público arterial, sin transporte masivo.","MOVILIDAD","Infraestructura","Diseño, construcción y conservación (mantenimiento y rehabilitación) de la malla vial local e intermedia urbana o rural.","Intervenir XXX Kilómetros-carril de malla vial rural con acciones de construcción y/o conservación","Kilómetros-carril construidos y/o conservados de malla vial rural","Propósito 4. Hacer de Bogotá-región un modelo de movilidad, creatividad y productividad incluyente y sostenible","Movilidad segura, sostenible y accesible","INTERVENCIÓN MALLA VIAL RURAL",3,"La Prosperidad",9,"Industria, innovación e infraestructura","9.1","Desarrollar infraestructuras fiables, sostenibles, resilientes y de calidad, incluidas infraestructuras regionales y transfronterizas, para apoyar el desarrollo económico y el bienestar humano, haciendo especial hincapié en el acceso asequible y equitativo para todos",380,"Construir 146 km. de malla vial. En esta construcción se contara con un 35% de mano de obra de la localidad donde se ejecute el proyecto",391,"Mejorar el estado de la malla vial local a través de las intervenciones de las Alcaldías Locales, en el marco del proceso de reactivación económica de la ciudad"]
[31,"03. Adelantar el diseño, construcción y conservación de la malla vial local e intermedia, del espacio público y peatonal local e intermedio; así como de los puentes peatonales y/o vehiculares que pertenezcan a la malla vial local e intermedia, incluyendo los ubicados sobre cuerpos de agua. Así mismo, podrán coordinar con las entidades del sector movilidad su participación en la conservación de la malla vial y espacio público arterial, sin transporte masivo.","MOVILIDAD","Infraestructura","Diseño, construcción y conservación de ciclo-infraestructura.","Intervenir XXX metros lineales de Ciclo-infraestructura con acciones de construcción y/o conservación.","Metros lineales construidos y/o conservados de Ciclo-infraestructura","Propósito 4. Hacer de Bogotá-región un modelo de movilidad, creatividad y productividad incluyente y sostenible","Movilidad segura, sostenible y accesible","CICLO INFRAESTRUCTURA",3,"La Prosperidad",11,"Ciudades y comunidades sostenibles","11.2"," De aquí a 2030, proporcionar acceso a sistemas de transporte seguros, asequibles, accesibles y sostenibles para todos y mejorar la seguridad vial, en particular mediante la ampliación del transporte público, prestando especial atención a las necesidades de las personas en situación de vulnerabilidad, las mujeres, los niños, las personas con discapacidad y las personas de edad",377,"Conservar 190 km. de cicloinfraestructura",966,"Construir 280 km de cicloinfraestructura de la ciudad"]
[32,"11. Realizar inversiones complementarias a los programas y proyectos de la Administración Distrital en los sectores de Salud, Integración Social, Educación, Mujer, poblaciones, ruralidad, de conformidad con la reglamentación que se expida para el efecto.","GESTIÓN PÚBLICA","Ruralidad","Conectividad y redes de comunicación.","Operativizar XXX Centros de Acceso Comunitario en zonas rurales y/o apartadas.","Centros de Acceso Comunitario en zonas rurales y/o apartadas funcionando ","Propósito 5. Construir Bogotá-región con gobierno abierto, transparente y ciudadanía consciente.","Transformación digital y gestión de TIC para un territorio inteligente","CONECTIVIDAD",3,"La Prosperidad",9,"Industria, innovación e infraestructura","9.c","Aumentar significativamente el acceso a la tecnología de la información y las comunicaciones y esforzarse por proporcionar acceso universal y asequible a Internet en los países menos adelantados de aquí a 2020",468,"Formular e implementar las agendas de transformación digital para el Distrito",469,"Formular la política pública de Bogotá territorio inteligente"]
[33,"09. Fomentar la participación ciudadana.","GOBIERNO","Infraestructura","Intervención y dotación de salones comunales.","Intervenir XXX sedes de salones comunales.","Sedes intervenidas de salones comunales.","Propósito 5. Construir Bogotá-región con gobierno abierto, transparente y ciudadanía consciente.","Fortalecimiento de cultura ciudadana y su institucionalidad","INTERVENCIÓN",3,"La Prosperidad",11,"Ciudades y comunidades sostenibles","11.3","De aquí a 2030, aumentar la urbanización inclusiva y sostenible y la capacidad para la planificación y la gestión participativas, integradas y sostenibles de los asentamientos humanos en todos los países"]
[33,"09. Fomentar la participación ciudadana.","GOBIERNO","Infraestructura","Intervención y dotación de salones comunales.","Dotar XXX sedes de salones comunales.","Sedes dotadas de salones comunales.","Propósito 5. Construir Bogotá-región con gobierno abierto, transparente y ciudadanía consciente.","Fortalecimiento de cultura ciudadana y su institucionalidad","DOTACIÓN",3,"La Prosperidad",11,"Ciudades y comunidades sostenibles","11.3","De aquí a 2030, aumentar la urbanización inclusiva y sostenible y la capacidad para la planificación y la gestión participativas, integradas y sostenibles de los asentamientos humanos en todos los países"]
[33,"09. Fomentar la participación ciudadana.","GOBIERNO","Infraestructura","Intervención y dotación de salones comunales.","Construir XXX sedes de salones comunales","Sedes construidas de salones comunales","Propósito 5. Construir Bogotá-región con gobierno abierto, transparente y ciudadanía consciente.","Fortalecimiento de cultura ciudadana y su institucionalidad","CONSTRUCCIÓN",3,"La Prosperidad",11,"Ciudades y comunidades sostenibles","11.3","De aquí a 2030, aumentar la urbanización inclusiva y sostenible y la capacidad para la planificación y la gestión participativas, integradas y sostenibles de los asentamientos humanos en todos los países"]
[33,"09. Fomentar la participación ciudadana.","GOBIERNO","Participación ciudadana y construcción de confianza / Desarrollo social y cultural","Escuelas y procesos de formación para la participación ciudadana y/u organizaciones para los procesos de presupuestos participativos.","Capacitar XXX personas a través de procesos de formación para la participación de manera virtual y presencial.","Número de Personas capacitadas a través de procesos de formación para la participación de manera virtual y presencial.","Propósito 5. Construir Bogotá-región con gobierno abierto, transparente y ciudadanía consciente.","Fortalecimiento de cultura ciudadana y su institucionalidad","FORMACIÓN",2,"La Paz",16,"Paz, justicia e instituciones sólidas","16.7","Garantizar la adopción en todos los niveles de decisiones inclusivas, participativas y representativas que respondan a las necesidades",424,"Implementar una (1) estrategia para fortalecer a las organizaciones comunales, sociales, comunitarias, de propiedad horizontal e instancias de participación promocionando la inclusión y el liderazgo de nuevas ciudadanías",474,"Creación de un (1) centro de diseño de políticas públicas de cambio cultural para fortalecer la institucionalidad de Cultura Ciudadana en el distrito, la gestión del conocimiento y la toma de decisiones institucionales que promuevan las transformaciones culturales a partir de mejores comprensiones de las dinámicas sociales y culturales"]
[33,"09. Fomentar la participación ciudadana.","GOBIERNO","Participación ciudadana y construcción de confianza / Desarrollo social y cultural","Fortalecimiento de organizaciones sociales, comunitarias, comunales, propiedad horizontal e instancias y mecanismos de participación, con énfasis en jóvenes y asociatividad productiva.","Fortalecer XXX Organizaciones, JAC e Instancias de participación ciudadana.","Número de Organizaciones, JAC e Instancias de participación ciudadana fortalecidas.","Propósito 5. Construir Bogotá-región con gobierno abierto, transparente y ciudadanía consciente.","Fortalecimiento de cultura ciudadana y su institucionalidad","FORTALECIMIENTO ORGANIZATIVO",2,"La Paz",16,"Paz, justicia e instituciones sólidas","16.7","Garantizar la adopción en todos los niveles de decisiones inclusivas, participativas y representativas que respondan a las necesidades",424,"Implementar una (1) estrategia para fortalecer a las organizaciones comunales, sociales, comunitarias, de propiedad horizontal e instancias de participación promocionando la inclusión y el liderazgo de nuevas ciudadanías",474,"Creación de un (1) centro de diseño de políticas públicas de cambio cultural para fortalecer la institucionalidad de Cultura Ciudadana en el distrito, la gestión del conocimiento y la toma de decisiones institucionales que promuevan las transformaciones culturales a partir de mejores comprensiones de las dinámicas sociales y culturales"]
[34,"01. Administrar las Alcaldías Locales y los Fondos de Desarrollo Local.","GOBIERNO","Gestión pública local","Terminación de infraestructuras (sedes administrativas locales).","Terminar 1 sedes administrativas locales.","Sedes administrativas locales terminadas.","Propósito 5. Construir Bogotá-región con gobierno abierto, transparente y ciudadanía consciente.","Gestión Pública Efectiva","SEDE ADMINISTRATIVA",3,"La Prosperidad",9,"Industria, innovación e infraestructura","9.1","Desarrollar infraestructuras fiables, sostenibles, resilientes y de calidad, incluidas infraestructuras regionales y transfronterizas, para apoyar el desarrollo económico y el bienestar humano, haciendo especial hincapié en el acceso asequible y equitativo para todos",493,"Desarrollar y mantener al 100% la capacidad institucional a través de la mejora en la infraestructura física, tecnológica y de gestión en beneficio de la ciudadanía"]
[34,"01. Administrar las Alcaldías Locales y los Fondos de Desarrollo Local.","GOBIERNO","Gestión pública local","Terminación de infraestructuras (sedes administrativas locales).","Construir 1 sedes administrativas locales.","Sedes administrativas locales construidas.","Propósito 5. Construir Bogotá-región con gobierno abierto, transparente y ciudadanía consciente.","Gestión Pública Efectiva","SEDE ADMINISTRATIVA",3,"La Prosperidad",9,"Industria, innovación e infraestructura","9.1","Desarrollar infraestructuras fiables, sostenibles, resilientes y de calidad, incluidas infraestructuras regionales y transfronterizas, para apoyar el desarrollo económico y el bienestar humano, haciendo especial hincapié en el acceso asequible y equitativo para todos",493,"Desarrollar y mantener al 100% la capacidad institucional a través de la mejora en la infraestructura física, tecnológica y de gestión en beneficio de la ciudadanía"]
[35,"01. Administrar las Alcaldías Locales y los Fondos de Desarrollo Local.","GOBIERNO","Gestión pública local","Fortalecimiento institucional.","Realizar 4 estrategias de fortalecimiento institucional.","Estrategias de fortalecimiento institucional realizadas","Propósito 5. Construir Bogotá-región con gobierno abierto, transparente y ciudadanía consciente.","Gestión Pública Local","FORTALECIMIENTO LOCAL",2,"La Paz",16,"Paz, justicia e instituciones sólidas","16.6","Garantizar el acceso público a la información y proteger las libertades fundamentales, de conformidad con las leyes nacionales y los acuerdos internacionales",544,"Fortalecer la gestión territorial a través de las intervenciones de las Alcaldías Locales",547,"Implementar un (1) modelo local de gestión transparente, incluyente, participativo y colaborativo local"]
[35,"09. Fomentar la participación ciudadana.","GOBIERNO","Participación ciudadana y construcción de confianza","Transparencia, control social y rendición de cuentas del Gobierno Local.","Realizar 1 rendición de cuentas anuales.","Número de Rendiciones de cuentas anuales.","Propósito 5. Construir Bogotá-región con gobierno abierto, transparente y ciudadanía consciente.","Gestión Pública Local","TRANSPARENCIA Y CONTROL SOCIAL",2,"La Paz",16,"Paz, justicia e instituciones sólidas","16.6","Garantizar el acceso público a la información y proteger las libertades fundamentales, de conformidad con las leyes nacionales y los acuerdos internacionales",544,"Fortalecer la gestión territorial a través de las intervenciones de las Alcaldías Locales",547,"Implementar un (1) modelo local de gestión transparente, incluyente, participativo y colaborativo local"]
[36,"10. Coordinar la inspección, vigilancia y control.","GOBIERNO","Inspección, vigilancia y control","Inspección, vigilancia y control.","Realizar 4 acciones de inspección, vigilancia y control.","Acciones de inspección, vigilancia y control realizadas","Propósito 5. Construir Bogotá-región con gobierno abierto, transparente y ciudadanía consciente.","Gestión Pública Local","IVC",2,"La Paz",16,"Paz, justicia e instituciones sólidas","16.6","Garantizar el acceso público a la información y proteger las libertades fundamentales, de conformidad con las leyes nacionales y los acuerdos internacionales",544,"Fortalecer la gestión territorial a través de las intervenciones de las Alcaldías Locales"]
[]
[]
[]
[null,null,null,null,null,null,null,null," "]

{"sheet":"Hoja1","index":4,"n_rows":29,"n_cols":11,"rows_kept":29,"cut":false,"hidden":true,"merged":[]}
[]
[]
[]
["No. Localidad","Nombre Localidad ","Plan plurianual PDL 2021","Plan plurianual PDL 2022","Plan plurianual PDL 2023","Plan plurianual PDL 2024","TOTAL PPLURIANUAL","Suma de Apropiación inicial POAI vigencia del corte"]
[1,"Usaquén",37112030000,38251830000,39460580000,40702720000,155527160000,36045534000,null,36045534000,{"$f":"GETPIVOTDATA(\"Suma de Apropiación inicial POAI vigencia del corte\",$A$4,\"No. Localidad\",1,\"Nombre Localidad \",\"Usaquén\")-I5","v":36045534000}]
[2,"Chapinero",17262000000,17792000000,18355000000,18938000000,72347000000,15888914000,null,15888914000,{"$f":"GETPIVOTDATA(\"Suma de Apropiación inicial POAI vigencia del corte\",$A$4,\"No. Localidad\",1,\"Nombre Localidad \",\"Usaquén\")-I6","v":36045534000}]
[3,"Santa Fe",25666000000,26453000000,27289000000,28157000000,107565000000,25224011000,null,25224011000,36045534000]
[4,"San Cristóbal",61423000000,63310000000,65310000000,67386000000,257429000000,61841979000,null,61841979000,36045534000]
[5,"Usme",59233000000,61052000000,62981000000,64983000000,248249000000,59441193000,null,59441193000,36045534000]
[6,"Tunjuelito",26079000000,26880000000,27729000000,28611000000,109299000000,25190864000,null,25190864000,36045534000]
[7,"Bosa",74519000000,76805000000,79231000000,81753000000,312308000000,76497960000,null,76497960000,36045534000]
[8,"Kennedy",89162000000,91801000000,94702000000,97706000000,373371000000,90843825000,null,90843825000,36045534000]
[9,"Fontibón",29221000000,30072000000,31009000000,31986000000,122288000000,27103021000,null,27103021000,36045534000]
[10,"Engativá",54114000000,55776000000,57540000000,59367000000,226797000000,53413905000,null,53413905000,36045534000]
[11,"Suba",75005000000,85117000000,79751000000,82285000000,322158000000,75750446000,null,75750446000,36045534000]
[12,"Barrios Unidos",22518000000,23209000000,23942000000,25162000000,94831000000,22394138000,null,22394138000,36045534000]
[13,"Teusaquillo",14638000000,15087047995,15563991993.45536,16060027603.097979,61349067591.553337,13317275000,null,13317275000,36045534000]
[14,"Los Mártires",17439000000,17974000000,18543000000,19133000000,73089000000,15716297000,null,15716297000,36045534000]
[15,"Antonio Nariño",15534000000,16011000000,16517000000,17042000000,65104000000,14703072000,null,14703072000,36045534000]
[16,"Puente Aranda",27016000000,27845000000,28725000000,29638000000,113224000000,26255236000,null,26255236000,36045534000]
[17,"La Candelaria",11127000000,11469000000,11831000000,12207000000,46634000000,10711313000,null,10711313000,36045534000]
[18,"Rafael Uribe Uribe",53887000000,55542000000,57296000000,59117000000,225842000000,54032772000,null,54032772000,36045534000]
[19,"Ciudad Bolívar",97533000000,100528000000,103705000000,107000000000,408766000000,98962427000,null,98962427000,36045534000]
[20,"Sumapaz",31842000000,32820000000,33858000000,34934000000,133454000000,31207766000,null,31207766000,36045534000]
["Total general",null,840330030000,873794877995,893338571993.45532,922167747603.09802,3529631227591.5532,834541948000]
[]
[]
[]
[null,null,null,null,5]

{"sheet":"Base de Datos MUSI 2017-2020","index":5,"n_rows":1309,"n_cols":118,"rows_kept":562,"cut":true,"hidden":true,"merged":[],"bounds":{"rows_first":250,"rows_last":62,"rows_between":250,"halvings":3}}
["Código meta proyecto Extendida","No. Localidad","Nombre Localidad ","Código Eje/Pilar","Nombre Eje/Pilar","Código Programa","Nombre Programa","Codigo meta Resultado PDD asociada","Nombre meta Resultado PDD asociada","Codigo meta Producto PDD asociada","Nombre meta Producto PDD asociada","Código meta PDL","Nombre meta PDL","Código Proyecto","Nombre Proyecto","Componente","Tipo de anualización meta proyecto","Código meta proyecto SEGPLAN","Proceso meta proyecto","Magnitud meta proyecto","Unidad de Medida meta proyecto","Descripción meta proyecto","Meta proyecto","Componente líneas","Código Línea de inversión","Línea de Inversión","Concepto línea de inversión","Código sector","Sector relacionado ","Código producto","Producto PMR","Código Indicador ","Nombre Indicador ","TEMA","Cod. PP","Política Pública Distrital","Eje Estructurante / Dimensión/  Líneas de Acción / Eje Temático","Magnitud programada PLAN DE ACCION SEGPLAN 2021","Magnitud programada PLAN DE ACCION SEGPLAN 2022","Magnitud programada PLAN DE ACCION SEGPLAN 2023","Magnitud programada PLAN DE ACCION SEGPLAN 2024","Valor Plan plurianual PDL 2021","Valor Plan plurianual PDL 2022","Valor Plan plurianual PDL 2023","Valor Plan plurianual PDL 2024","TOTAL PLAN PLURIANUAL","Ponderación indicador de la meta de proyecto","Suma contratado","% Avance Acumulado contratado","Suma Entregado","% Avance Acumulado Entregado","Nivel de avance Contratado","Nivel de avance Entregado","CRITERIO 1\n% Recursos por programa","Avance Indicador frente al programa Contratado","Avance Indicador frente al programa Entregado","Ponderador por Proyecto","% AVANCE CONTRATADO POR PROYECTO","% AVANCE ENTREGADO POR PROYECTO","Linea Base ","Año_corte","Magnitud programada POAI vigencia del corte","Magnitud programada POAI meta proyecto 2021","Magnitud programada POAI meta proyecto 2022","Magnitud programada POAI meta proyecto 2023","Magnitud programada POAI meta proyecto 2024","Magnitud contratada meta proyecto 2021 ","Magnitud contratada meta proyecto 2022","Magnitud contratada meta proyecto 2023","Magnitud contratada meta proyecto 2024","Magnitud entregada meta proyecto 2021","Magnitud entregada meta proyecto 2022","Magnitud entregada meta proyecto 2023","Magnitud entregada meta proyecto 2024","Condición 2021","Condición 2022","Condición 2023","Condición 2024","Apropiación inicial POAI vigencia del corte","Apropiacion inicial meta proyecto POAI 2021","Apropiación inicial meta proyecto POAI 2022","Apropiación inicial meta proyecto POAI 2023","Apropiación inicial meta proyecto POAI 2024","Compromisos meta proyecto 2021","Compromisos meta proyecto 2022","Compromisos meta proyecto 2023","Compromisos meta proyecto 2024","Total Compromisos 2021-2024","Giros vigencia del corte","Giros meta proyecto 2021","Giros meta proyecto 2022","Giros meta proyecto 2023","Giros meta proyecto 2024","Observaciones 2021","Observaciones 2022","Observaciones 2023","Observaciones 2024","Código GEO","TEMA GEO","CODIGO ESFERA ODS","Esferas ODS","Codigo_ODS","Nombre_ODS\nConpes 3918 de 2018","Cod_meta ODS","Nombre Meta ODS","% POAI 2021","% POAI 2022","% POAI 2023","% POAI 2024","% Compromisos 2021","% Compromisos 2022","% Compromisos 2023","% Compromisos 2024","Magnitud 2021-2024 normalizada","Anexo"]
[1,1,"Usaquén",1,"Hacer un nuevo contrato social con igualdad de oportunidades para la inclusión social, productiva y política",1,"Subsidios y transferencias para la equidad",null,null,null,null,1,"Atender 977 hogares con apoyos que contribuyan al ingreso mínimo garantizado.",1960,"Integración económica y social de Usaquén","INGRESO MÍNIMO","Constante",1,"Atender",977,"Hogares","con apoyos que contribuyan al ingreso mínimo garantizado.","Atender 977 hogares con apoyos que contribuyan al ingreso mínimo garantizado.",{"$f":"VLOOKUP(AG2,'Anexo PMR'!$B$4:$G$87,6,0)","v":"1_Inflexible 45%"},3,"Sistema Bogotá Solidaria (20%)","Ingreso mínimo garantizado",92,"INTEGRACIÓN SOCIAL",1,"Protección integral a personas y familias en situación de vulneración.",1,"Hogares atendidos con apoyos que contribuyan al ingreso mínimo garantizado","INGRESO MÍNIMO",null,null,null,977,977,977,977,5566800000,5737770000,5919090000,6107200000,{"$f":"SUM(AP2:AS2)","v":23330860000},1,{"$f":"IF(Q2=\"Constante\",SUM(BO2:BR2)/4,IF(Q2=\"Suma\",SUM(BO2:BR2),0))","v":0},{"$f":"AV2/T2","v":0},{"$f":"IF(Q2=\"Constante\",SUM(BS2:BV2)/4,IF(Q2=\"Suma\",SUM(BS2:BV2),0))","v":0},{"$f":"AX2/T2","v":0},{"$f":"IF(AW2<=40%,\"Bajo\",IF(AW2<=70%,\"Medio\",IF(AW2<=90%,\"Alto\",IF(AW2>90%,\"Muy Alto\"))))","v":"Bajo"},{"$f":"IF(AY2<=40%,\"Bajo\",IF(AY2<=70%,\"Medio\",IF(AY2<=90%,\"Alto\",IF(AY2>90%,\"Muy Alto\"))))","v":"Bajo"},{"$f":"AT2/SUMIF($F$2:$F$60,F2,$AT$2:$AT$60)","v":0.75000008036567023},{"$f":"BB2*AW2","v":0},{"$f":"BB2*AY2","v":0},null,null,null,0,"2021_1",977,977,0,0,0,0,0,0,0,0,0,0,0,"",null,null,null,5406826000,5406826000,0,0,0,4447080000,0,0,0,{"$f":"SUM(CF2:CI2)","v":4447080000},4331333333,4331333333,0,0,0,"Corte 31 de marzo de 2021: Si bien el contrato reportado tiene previsto beneficiar una cantidad de hogares importante, no se lleva acabo el reporte debido a que se presentó modificación en el valor de los bonos/transferencias que puede conllevar a una mod",null,null,null,null,null,{"$f":"VLOOKUP(AG2,'Anexo ODS'!$G$3:$P$86,5,0)","v":1},{"$f":"VLOOKUP(AG2,'Anexo ODS'!$G$3:$P$86,6,0)","v":"Las Personas"},{"$f":"VLOOKUP(AG2,'Anexo ODS'!$G$3:$P$86,7,0)","v":1},{"$f":"VLOOKUP(AG2,'Anexo ODS'!$G$3:$P$86,8,0)","v":"Fin de la pobreza"},{"$f":"VLOOKUP(AG2,'Anexo ODS'!$G$3:$P$86,9,0)","v":"1.2"},{"$f":"VLOOKUP(AG2,'Anexo ODS'!$G$3:$P$86,10,0)","v":"De aquí a 2030, reducir al menos a la mitad la proporción de hombres, mujeres y niños de todas las edades que viven en la pobreza en todas sus dimensiones con arreglo a las definiciones nacionales"},null,null,null,null,null,null,null,null,3908,"Anexo 2 (15%)",null,null,{"$f":"DJ2*4","v":15632}]
[2,1,"Usaquén",1,"Hacer un nuevo contrato social con igualdad de oportunidades para la inclusión social, productiva y política",1,"Subsidios y transferencias para la equidad",null,null,null,null,2,"Beneficiar 950 personas mayores con apoyo económico tipo C.",1960,"Integración económica y social de Usaquén","SUBSIDIO TIPO C","Constante",1,"Beneficiar",950,"Personas","mayores con apoyo económico tipo C.","Beneficiar 950 personas mayores con apoyo económico tipo C.",{"$f":"VLOOKUP(AG3,'Anexo PMR'!$B$4:$G$87,6,0)","v":"1_Inflexible 45%"},3,"Sistema Bogotá Solidaria (20%)","Subsidio tipo C adulto mayor.",92,"INTEGRACIÓN SOCIAL",1,"Protección integral a personas y familias en situación de vulneración.",2,"Número de personas mayores con apoyo económico tipo C","SUBSIDIO TIPO C",null,null,null,950,950,950,950,1855600000,1912590000,1973030000,2035730000,7776950000,1,237.5,0.25,237.5,0.25,"Bajo","Bajo",0.24999991963432977,{"$f":"BB3*AW3","v":6.2499979908582443E-2},{"$f":"BB3*AY3","v":6.2499979908582443E-2},null,null,null,0,"2021_1",950,950,0,0,0,950,0,0,0,950,0,0,0,"Incompleto",null,null,null,1802275000,1802275000,0,0,0,462004000,0,0,0,{"$f":"SUM(CF3:CI3)","v":462004000},4017566,4017566,0,0,0,"",null,null,null,null,null,{"$f":"VLOOKUP(AG3,'Anexo ODS'!$G$3:$P$86,5,0)","v":1},{"$f":"VLOOKUP(AG3,'Anexo ODS'!$G$3:$P$86,6,0)","v":"Las Personas"},{"$f":"VLOOKUP(AG3,'Anexo ODS'!$G$3:$P$86,7,0)","v":1},{"$f":"VLOOKUP(AG3,'Anexo ODS'!$G$3:$P$86,8,0)","v":"Fin de la pobreza"},{"$f":"VLOOKUP(AG3,'Anexo ODS'!$G$3:$P$86,9,0)","v":"1.2"},{"$f":"VLOOKUP(AG3,'Anexo ODS'!$G$3:$P$86,10,0)","v":"De aquí a 2030, reducir al menos a la mitad la proporción de hombres, mujeres y niños de todas las edades que viven en la pobreza en todas sus dimensiones con arreglo a las definiciones nacionales"},null,null,null,null,null,null,null,null,950,"Anexo 2 (15%)"]
[3,1,"Usaquén",1,"Hacer un nuevo contrato social con igualdad de oportunidades para la inclusión social, productiva y política",6,"Sistema Distrital de Cuidado",null,null,null,null,3,"Promover en 208 Mipymes y/o emprendimientos la transformación empresarial y/o productiva",1941,"Reactivación económica por Usaquén","TRANSFORMACIÓN PRODUCTIVA","Suma",1,"Promover",208,"Mipymes","y/o emprendimientos la transformación empresarial y/o productiva","Promover en 208 Mipymes y/o emprendimientos la transformación empresarial y/o productiva",{"$f":"VLOOKUP(AG4,'Anexo PMR'!$B$4:$G$87,6,0)","v":"2_Presupuestos Participativos 50%"},5,"Desarrollo de la Economía Local","Transformación productiva y formación de capacidades",89,"DESARROLLO ECONÓMICO, INDUSTRIA Y TURISMO",14,"Servicios de asesoría, asistencia técnica integral, dotación y/o apoyo financiero a Mipymes y/o emprendimientos.",23,"Número de Mipymes y/o emprendimientos con transformacion empresarial y/o productiva","DESARROLLO DE LA ECONOMÍA LOCAL",null,null,null,90,51,38,29,1100000000,600000000,450000000,346000000,2496000000,1,5,2.403846153846154E-2,0,0,"Bajo","Bajo",0.14434762795092876,3.4698949026665568E-3,0,null,null,null,0,"2021_1",90,90,0,0,0,5,0,0,0,0,0,0,0,"",null,null,null,1068389000,1068389000,0,0,0,102580000,0,0,0,102580000,5151333,5151333,0,0,0,"Corte 31 marzo de 2021: Las contrataciones adjudicadas no contribuyen al avance directo de la meta.",null,null,null,null,null,{"$f":"VLOOKUP(AG4,'Anexo ODS'!$G$3:$P$86,5,0)","v":3},{"$f":"VLOOKUP(AG4,'Anexo ODS'!$G$3:$P$86,6,0)","v":"La Prosperidad"},{"$f":"VLOOKUP(AG4,'Anexo ODS'!$G$3:$P$86,7,0)","v":8},{"$f":"VLOOKUP(AG4,'Anexo ODS'!$G$3:$P$86,8,0)","v":"Trabajo decente y crecimiento económico"},{"$f":"VLOOKUP(AG4,'Anexo ODS'!$G$3:$P$86,9,0)","v":"8.3"},{"$f":"VLOOKUP(AG4,'Anexo ODS'!$G$3:$P$86,10,0)","v":"Promover políticas orientadas al desarrollo que apoyen las actividades productivas, la creación de puestos de trabajo decentes, el emprendimiento, la creatividad y la innovación, y fomentar la formalización y el crecimiento de las microempresas y las pequeñas y medianas empresas, incluso mediante el acceso a servicios financieros"},null,null,null,null,null,null,null,null,208,"Anexo 1 (85%)"]
[4,1,"Usaquén",1,"Hacer un nuevo contrato social con igualdad de oportunidades para la inclusión social, productiva y política",6,"Sistema Distrital de Cuidado",null,null,null,null,4,"Revitalizar 211 Mipymes y/o emprendimientos potencializadas dentro de las aglomeraciones económicas que fomentan el empleo y/o nuevas actividades económicas",1941,"Reactivación económica por Usaquén","REVITALIZACIÓN","Suma",2,"Revitalizar",211,"Mipymes","y/o emprendimientos potencializadas dentro de las aglomeraciones económicas que fomentan el empleo y/o nuevas actividades económicas","Revitalizar 211 Mipymes y/o emprendimientos potencializadas dentro de las aglomeraciones económicas que fomentan el empleo y/o nuevas actividades económicas",{"$f":"VLOOKUP(AG5,'Anexo PMR'!$B$4:$G$87,6,0)","v":"2_Presupuestos Participativos 50%"},5,"Desarrollo de la Economía Local","Revitalización del corazón productivo de las localidades",89,"DESARROLLO ECONÓMICO, INDUSTRIA Y TURISMO",14,"Servicios de asesoría, asistencia técnica integral, dotación y/o apoyo financiero a Mipymes y/o emprendimientos.",24,"Número de Mipymes  y/o emprendimientos revitalizadas o potencializadas dentro de las aglomeraciones económicas que fomentan el empleo y/o nuevas actividades económicas","DESARROLLO DE LA ECONOMÍA LOCAL",null,null,null,98,56,29,28,1000000000,550000000,284000000,282910000,2116910000,1,0,0,0,0,"Bajo","Bajo",0.12242425364006433,0,0,null,null,null,0,"2021_1",98,98,0,0,0,0,0,0,0,0,0,0,0,"",null,null,null,971263000,971263000,0,0,0,50166000,0,0,0,50166000,0,0,0,0,0,"Corte 31 marzo de 2021: Las contrataciones adjudicadas no contribuyen al avance directo de la meta.",null,null,null,null,null,{"$f":"VLOOKUP(AG5,'Anexo ODS'!$G$3:$P$86,5,0)","v":3},{"$f":"VLOOKUP(AG5,'Anexo ODS'!$G$3:$P$86,6,0)","v":"La Prosperidad"},{"$f":"VLOOKUP(AG5,'Anexo ODS'!$G$3:$P$86,7,0)","v":8},{"$f":"VLOOKUP(AG5,'Anexo ODS'!$G$3:$P$86,8,0)","v":"Trabajo decente y crecimiento económico"},{"$f":"VLOOKUP(AG5,'Anexo ODS'!$G$3:$P$86,9,0)","v":"8.3"},{"$f":"VLOOKUP(AG5,'Anexo ODS'!$G$3:$P$86,10,0)","v":"Promover políticas orientadas al desarrollo que apoyen las actividades productivas, la creación de puestos de trabajo decentes, el emprendimiento, la creatividad y la innovación, y fomentar la formalización y el crecimiento de las microempresas y las pequeñas y medianas empresas, incluso mediante el acceso a servicios financieros"},null,null,null,null,null,null,null,null,211,"Anexo 2 (15%)"]
[5,1,"Usaquén",1,"Hacer un nuevo contrato social con igualdad de oportunidades para la inclusión social, productiva y política",6,"Sistema Distrital de Cuidado",null,null,null,null,5,"Apoyar 267 Mipymes y/o emprendimientos culturales y creativos",1941,"Reactivación económica por Usaquén","FORTALECIMIENTO MIPYMES","Suma",3,"Apoyar",267,"Mipymes"," y/o emprendimientos culturales y creativos","Apoyar 267 Mipymes y/o emprendimientos culturales y creativos",{"$f":"VLOOKUP(AG6,'Anexo PMR'!$B$4:$G$87,6,0)","v":"2_Presupuestos Participativos 50%"},5,"Desarrollo de la Economía Local","Apoyo a industrias culturales y creativas.",89,"DESARROLLO ECONÓMICO, INDUSTRIA Y TURISMO",14,"Servicios de asesoría, asistencia técnica integral, dotación y/o apoyo financiero a Mipymes y/o emprendimientos.",21,"Número de Mipymes y/o emprendimientos culturales y creativos apoyados","DESARROLLO DE LA ECONOMÍA LOCAL",null,null,null,119,63,46,39,1450000000,750000000,550000000,454900000,3204900000,1,0,0,0,0,"Bajo","Bajo",0.18534443622593411,0,0,null,null,null,0,"2021_1",119,119,0,0,0,0,0,0,0,0,0,0,0,"",null,null,null,1408331000,1408331000,0,0,0,163500000,0,0,0,163500000,3250000,3250000,0,0,0,"Corte 31 marzo de 2021: Las contrataciones adjudicadas no contribuyen al avance directo de la meta.",null,null,null,null,null,{"$f":"VLOOKUP(AG6,'Anexo ODS'!$G$3:$P$86,5,0)","v":3},{"$f":"VLOOKUP(AG6,'Anexo ODS'!$G$3:$P$86,6,0)","v":"La Prosperidad"},{"$f":"VLOOKUP(AG6,'Anexo ODS'!$G$3:$P$86,7,0)","v":8},{"$f":"VLOOKUP(AG6,'Anexo ODS'!$G$3:$P$86,8,0)","v":"Trabajo decente y crecimiento económico"},{"$f":"VLOOKUP(AG6,'Anexo ODS'!$G$3:$P$86,9,0)","v":"8.3"},{"$f":"VLOOKUP(AG6,'Anexo ODS'!$G$3:$P$86,10,0)","v":"Promover políticas orientadas al desarrollo que apoyen las actividades productivas, la creación de puestos de trabajo decentes, el emprendimiento, la creatividad y la innovación, y fomentar la formalización y el crecimiento de las microempresas y las pequeñas y medianas empresas, incluso mediante el acceso a servicios financieros"},null,null,null,null,null,null,null,null,267,"Anexo 2 (15%)"]
[6,1,"Usaquén",1,"Hacer un nuevo contrato social con igualdad de oportunidades para la inclusión social, productiva y política",6,"Sistema Distrital de Cuidado",null,null,null,null,6,"Promover en 210 Mipymes y/o emprendimientos procesos de reconversión hacia actividades sostenibles",1941,"Reactivación económica por Usaquén","REACTIVACIÓN","Suma",4,"Promover",210,"Mipymes","y/o emprendimientos procesos de reconversión hacia actividades sostenibles","Promover en 210 Mipymes y/o emprendimientos procesos de reconversión hacia actividades sostenibles",{"$f":"VLOOKUP(AG7,'Anexo PMR'!$B$4:$G$87,6,0)","v":"2_Presupuestos Participativos 50%"},5,"Desarrollo de la Economía Local","Reactivación y reconversión verde",89,"DESARROLLO ECONÓMICO, INDUSTRIA Y TURISMO",14,"Servicios de asesoría, asistencia técnica integral, dotación y/o apoyo financiero a Mipymes y/o emprendimientos.",22,"Número de Mipymes y/o emprendimientos con procesos de reconversión hacia actividades sostenibles","DESARROLLO DE LA ECONOMÍA LOCAL",null,null,null,86,50,42,32,900000000,500000000,421000000,320540000,2141540000,1,0,0,0,0,"Bajo","Bajo",0.12384864549760895,0,0,null,null,null,0,"2021_1",86,86,0,0,0,0,0,0,0,0,0,0,0,"",null,null,null,874137000,874137000,0,0,0,52332000,0,0,0,52332000,0,0,0,0,0,"Corte 31 marzo de 2021: Las contrataciones adjudicadas no contribuyen al avance directo de la meta.",null,null,null,null,null,{"$f":"VLOOKUP(AG7,'Anexo ODS'!$G$3:$P$86,5,0)","v":3},{"$f":"VLOOKUP(AG7,'Anexo ODS'!$G$3:$P$86,6,0)","v":"La Prosperidad"},{"$f":"VLOOKUP(AG7,'Anexo ODS'!$G$3:$P$86,7,0)","v":8},{"$f":"VLOOKUP(AG7,'Anexo ODS'!$G$3:$P$86,8,0)","v":"Trabajo decente y crecimiento económico"},{"$f":"VLOOKUP(AG7,'Anexo ODS'!$G$3:$P$86,9,0)","v":"8.3"},{"$f":"VLOOKUP(AG7,'Anexo ODS'!$G$3:$P$86,10,0)","v":"Promover políticas orientadas al desarrollo que apoyen las actividades productivas, la creación de puestos de trabajo decentes, el emprendimiento, la creatividad y la innovación, y fomentar la formalización y el crecimiento de las microempresas y las pequeñas y medianas empresas, incluso mediante el acceso a servicios financieros"},null,null,null,null,null,null,null,null,210,"Anexo 2 (15%)"]
[7,1,"Usaquén",1,"Hacer un nuevo contrato social con igualdad de oportunidades para la inclusión social, productiva y política",6,"Sistema Distrital de Cuidado",null,null,null,null,7,"Beneficiar 711 personas con discapacidad a través de Dispositivos de Asistencia Personal - Ayudas Técnicas (no incluidas en los Planes de Beneficios).",1961,"Usaquén te cuida","DISPOSITIVOS DE ASISTENCIA PERSONAL","Suma",1,"Beneficiar",711,"Personas"," con discapacidad a través de Dispositivos de Asistencia Personal - Ayudas Técnicas (no incluidas en los Planes de Beneficios).","Beneficiar 711 personas con discapacidad a través de Dispositivos de Asistencia Personal - Ayudas Técnicas (no incluidas en los Planes de Beneficios).",{"$f":"VLOOKUP(AG8,'Anexo PMR'!$B$4:$G$87,6,0)","v":"3_Flexible 5%"},11,"Condiciones de salud","Dispositivos de asistencia personal -DAP- Ayudas técnicas a personas con discapacidad (No incluidas en el POS).",91,"SALUD",16,"Promoción, prevención e intervención en salud.",33,"Número de personas con discapacidad beneficiadas con Dispostivos de Asistencia Personal - Ayudas Técnicas (no incluidas en los Planes de Beneficios).","ATENCIÓN  A LA DISCAPACIDAD Y SUS CUIDADORES",null,null,null,175,178,179,179,341530000,352020000,363150000,374690000,1431390000,1,0,0,0,0,"Bajo","Bajo",8.2779547745464699E-2,0,0,null,null,null,0,"2021_1",175,175,0,0,0,0,0,0,0,0,0,0,0,"",null,null,null,331715000,331715000,0,0,0,71500000,0,0,0,71500000,0,0,0,0,0,"Corte 31 marzo 2021: La contratación reportada no contribuye al avance de la magnitud de la meta.",null,null,null,null,null,{"$f":"VLOOKUP(AG8,'Anexo ODS'!$G$3:$P$86,5,0)","v":3},{"$f":"VLOOKUP(AG8,'Anexo ODS'!$G$3:$P$86,6,0)","v":"La Prosperidad"},{"$f":"VLOOKUP(AG8,'Anexo ODS'!$G$3:$P$86,7,0)","v":10},{"$f":"VLOOKUP(AG8,'Anexo ODS'!$G$3:$P$86,8,0)","v":"Reducción de las desigualdades "},{"$f":"VLOOKUP(AG8,'Anexo ODS'!$G$3:$P$86,9,0)","v":"10.2"},{"$f":"VLOOKUP(AG8,'Anexo ODS'!$G$3:$P$86,10,0)","v":"De aquí a 2030, potenciar y promover la inclusión social, económica y política de todas las personas, independientemente de su edad, sexo, discapacidad, raza, etnia, origen, religión o situación económica u otra condición"},null,null,null,null,null,null,null,null,711,"Anexo 2 (15%)"]
[8,1,"Usaquén",1,"Hacer un nuevo contrato social con igualdad de oportunidades para la inclusión social, productiva y política",6,"Sistema Distrital de Cuidado",null,null,null,null,8,"Dotar 1 centro de atención especializado",1988,"Formación de familia Usaquén","DOTACIÓN CENTROS DE ATENCIÓN ESPECIALIZADOS","Suma",1,"Dotar",1,"Centros","de atención especializado","Dotar 1 centro de atención especializado",{"$f":"VLOOKUP(AG9,'Anexo PMR'!$B$4:$G$87,6,0)","v":"2_Presupuestos Participativos 50%"},6,"Infraestructura","Dotación a Centros Crecer, Renacer.",92,"INTEGRACIÓN SOCIAL",5,"Dotación para la atención y la prestación de los servicios en la infraestructura del sector Integración Social.",26,"Centros de atención especializada dotados","CENTROS DE ATENCIÓN ESPECIALIZADOS",null,null,null,0,0,1,0,0,0,200000000,0,200000000,1,0,0,0,0,"Bajo","Bajo",1.1566316342221855E-2,0,0,null,null,null,0,"2021_1",0,0,0,0,0,0,0,0,0,0,0,0,0,"",null,null,null,0,0,0,0,0,null,0,0,0,0,null,null,0,0,0,"",null,null,null,null,null,{"$f":"VLOOKUP(AG9,'Anexo ODS'!$G$3:$P$86,5,0)","v":3},{"$f":"VLOOKUP(AG9,'Anexo ODS'!$G$3:$P$86,6,0)","v":"La Prosperidad"},{"$f":"VLOOKUP(AG9,'Anexo ODS'!$G$3:$P$86,7,0)","v":10},{"$f":"VLOOKUP(AG9,'Anexo ODS'!$G$3:$P$86,8,0)","v":"Reducción de las desigualdades "},{"$f":"VLOOKUP(AG9,'Anexo ODS'!$G$3:$P$86,9,0)","v":"10.2"},{"$f":"VLOOKUP(AG9,'Anexo ODS'!$G$3:$P$86,10,0)","v":"De aquí a 2030, potenciar y promover la inclusión social, económica y política de todas las personas, independientemente de su edad, sexo, discapacidad, raza, etnia, origen, religión o situación económica u otra condición"},null,null,null,null,null,null,null,null,1,"Anexo 2 (15%)"]
[9,1,"Usaquén",1,"Hacer un nuevo contrato social con igualdad de oportunidades para la inclusión social, productiva y política",6,"Sistema Distrital de Cuidado",null,null,null,null,9,"Formar 1020 personas en prevención de violencia intrafamiliar y/o violencia sexual.",1988,"Formación de familia Usaquén","PREVENCIÓN DE VIOLENCIAS","Suma",1,"Formar",1020,"Personas","en prevención de violencia intrafamiliar y/o violencia sexual.","Formar 1020 personas en prevención de violencia intrafamiliar y/o violencia sexual.",{"$f":"VLOOKUP(AG10,'Anexo PMR'!$B$4:$G$87,6,0)","v":"2_Presupuestos Participativos 50%"},7,"Desarrollo social y cultural","Prevención y atención de violencia intrafamiliar y sexual para poblaciones en situaciones de riesgo y vulneración de derechos.",92,"INTEGRACIÓN SOCIAL",2,"Protección integral a niños y niñas y adolescentes.",25,"Número de Personas formadas u orientadas o sensibilizadas en prevención de violencia intrafamiliar y/o violencia sexual.            ","PREVENCIÓN DE LA VIOLENCIA",null,null,null,185,185,185,465,500000000,500000000,500000000,1251990000,2751990000,1,0,0,0,0,"Bajo","Bajo",0.1591519345531556,0,0,null,null,null,0,"2021_1",185,185,0,0,0,0,0,0,0,0,0,0,0,"",null,null,null,485631000,485631000,0,0,0,50000000,0,0,0,50000000,0,0,0,0,0,"Corte 31 marzo 2021: La contratación reportada no contribuye al avance de la magnitud de la meta.",null,null,null,null,null,{"$f":"VLOOKUP(AG10,'Anexo ODS'!$G$3:$P$86,5,0)","v":2},{"$f":"VLOOKUP(AG10,'Anexo ODS'!$G$3:$P$86,6,0)","v":"La Paz"},{"$f":"VLOOKUP(AG10,'Anexo ODS'!$G$3:$P$86,7,0)","v":16},{"$f":"VLOOKUP(AG10,'Anexo ODS'!$G$3:$P$86,8,0)","v":"Paz, justicia e instituciones sólidas"},{"$f":"VLOOKUP(AG10,'Anexo ODS'!$G$3:$P$86,9,0)","v":"16.1"},{"$f":"VLOOKUP(AG10,'Anexo ODS'!$G$3:$P$86,10,0)","v":"Reducir significativamente todas las formas de violencia y las correspondientes tasas de mortalidad en todo el mundo"},null,null,null,null,null,null,null,null,1020,"Anexo 2 (15%)"]
[10,1,"Usaquén",1,"Hacer un nuevo contrato social con igualdad de oportunidades para la inclusión social, productiva y política",6,"Sistema Distrital de Cuidado",null,null,null,null,10,"Dotar 11 Sedes de atención a la primera infancia y/o adolescencia (jardines infantiles y Centros Amar).",1988,"Formación de familia Usaquén","DOTACIÓN JARDINES IFANTILES Y CENTROS AMAR","Suma",2,"Dotar",11,"Sedes","de atención a la primera infancia y/o adolescencia (jardines infantiles y Centros Amar).","Dotar 11 Sedes de atención a la primera infancia y/o adolescencia (jardines infantiles y Centros Amar).",{"$f":"VLOOKUP(AG11,'Anexo PMR'!$B$4:$G$87,6,0)","v":"2_Presupuestos Participativos 50%"},6,"Infraestructura","Dotación a Jardines Infantiles, Centros Amar y Forjar.",92,"INTEGRACIÓN SOCIAL",2,"Protección integral a niños y niñas y adolescentes.",28,"Sedes de atención a la primera infancia y/o adolescencia dotadas.","JARDINES INFANTILES Y CENTROS AMAR",null,null,null,0,0,11,0,0,0,770400000,0,770400000,1,0,0,0,0,"Bajo","Bajo",4.4553450550238585E-2,0,0,null,null,null,0,"2021_1",0,0,0,0,0,0,0,0,0,0,0,0,0,"",null,null,null,0,0,0,0,0,null,0,0,0,0,null,null,0,0,0,"",null,null,null,null,null,{"$f":"VLOOKUP(AG11,'Anexo ODS'!$G$3:$P$86,5,0)","v":1},{"$f":"VLOOKUP(AG11,'Anexo ODS'!$G$3:$P$86,6,0)","v":"Las Personas"},{"$f":"VLOOKUP(AG11,'Anexo ODS'!$G$3:$P$86,7,0)","v":1},{"$f":"VLOOKUP(AG11,'Anexo ODS'!$G$3:$P$86,8,0)","v":"Fin de la Pobreza"},{"$f":"VLOOKUP(AG11,'Anexo ODS'!$G$3:$P$86,9,0)","v":"1.2"},{"$f":"VLOOKUP(AG11,'Anexo ODS'!$G$3:$P$86,10,0)","v":"De aquí a 2030, reducir al menos a la mitad la proporción de hombres, mujeres y niños de todas las edades que viven en la pobreza en todas sus dimensiones con arreglo a las definiciones nacionales"},null,null,null,null,null,null,null,null,11,"Anexo 1 (85%)"]
[11,1,"Usaquén",1,"Hacer un nuevo contrato social con igualdad de oportunidades para la inclusión social, productiva y política",6,"Sistema Distrital de Cuidado",null,null,null,null,11,"Dotar 1 Centro de Desarrollo comunitario.",1988,"Formación de familia Usaquén","DOTACIÓN CDC","Suma",3,"Dotar",1,"Centros","de Desarrollo comunitario.","Dotar 1 Centro de Desarrollo comunitario.",{"$f":"VLOOKUP(AG12,'Anexo PMR'!$B$4:$G$87,6,0)","v":"2_Presupuestos Participativos 50%"},6,"Infraestructura","Dotación Centros de Desarrollo Comunitario.",92,"INTEGRACIÓN SOCIAL",5,"Dotación para la atención y la prestación de los servicios en la infraestructura del sector Integración Social.",27,"Sedes de Centros de Desarrollo comunitarios dotados","CENTROS DE DESARROLLO COMUNITARIO",null,null,null,0,0,1,0,0,0,352000000,0,352000000,1,0,0,0,0,"Bajo","Bajo",2.0356716762310465E-2,0,0,null,null,null,0,"2021_1",0,0,0,0,0,0,0,0,0,0,0,0,0,"",null,null,null,0,0,0,0,0,null,0,0,0,0,null,null,0,0,0,"",null,null,null,null,null,{"$f":"VLOOKUP(AG12,'Anexo ODS'!$G$3:$P$86,5,0)","v":3},{"$f":"VLOOKUP(AG12,'Anexo ODS'!$G$3:$P$86,6,0)","v":"La Prosperidad"},{"$f":"VLOOKUP(AG12,'Anexo ODS'!$G$3:$P$86,7,0)","v":10},{"$f":"VLOOKUP(AG12,'Anexo ODS'!$G$3:$P$86,8,0)","v":"Reducción de las desigualdades "},{"$f":"VLOOKUP(AG12,'Anexo ODS'!$G$3:$P$86,9,0)","v":"10.2"},{"$f":"VLOOKUP(AG12,'Anexo ODS'!$G$3:$P$86,10,0)","v":"De aquí a 2030, potenciar y promover la inclusión social, económica y política de todas las personas, independientemente de su edad, sexo, discapacidad, raza, etnia, origen, religión o situación económica u otra condición"},null,null,null,null,null,null,null,null,1,"Anexo 1 (85%)"]
[12,1,"Usaquén",1,"Hacer un nuevo contrato social con igualdad de oportunidades para la inclusión social, productiva y política",6,"Sistema Distrital de Cuidado",null,null,null,null,12,"Vincular 711 mujeres cuidadoras a estrategias de cuidado",1989,"Usaquén cuidadora","ESTRATEGIAS DE CUIDADO","Suma",4,"Vincular",711,"Mujeres","cuidadoras a estrategias de cuidado","Vincular 711 mujeres cuidadoras a estrategias de cuidado",{"$f":"VLOOKUP(AG13,'Anexo PMR'!$B$4:$G$87,6,0)","v":"2_Presupuestos Participativos 50%"},7,"Desarrollo social y cultural","Estrategias de cuidado para cuidadoras, cuidadores y a personas con discapacidad",100,"MUJERES",15,"Estrategias del cuidado para cuidadoras.",30,"Mujeres cuidadoras vinculadas a estrategias de cuidado","ESTRATEGIAS DE CUIDADO",null,null,null,175,178,179,179,300000000,350000000,500000000,676460000,1826460000,1,0,0,0,0,"Bajo","Bajo",0.10562707073207264,0,0,null,null,null,0,"2021_1",175,175,0,0,0,0,0,0,0,0,0,0,0,"",null,null,null,291379000,291379000,0,0,0,24000000,0,0,0,24000000,0,0,0,0,0,"Corte 31 marzo 2021: La contratación reportada no contribuye al avance de la magnitud de la meta.",null,null,null,null,null,{"$f":"VLOOKUP(AG13,'Anexo ODS'!$G$3:$P$86,5,0)","v":1},{"$f":"VLOOKUP(AG13,'Anexo ODS'!$G$3:$P$86,6,0)","v":"Las Personas"},{"$f":"VLOOKUP(AG13,'Anexo ODS'!$G$3:$P$86,7,0)","v":5},{"$f":"VLOOKUP(AG13,'Anexo ODS'!$G$3:$P$86,8,0)","v":"Igualdad de género"},{"$f":"VLOOKUP(AG13,'Anexo ODS'!$G$3:$P$86,9,0)","v":"5.4"},{"$f":"VLOOKUP(AG13,'Anexo ODS'!$G$3:$P$86,10,0)","v":"Reconocer y valorar los cuidados y el trabajo doméstico no remunerados mediante servicios públicos, infraestructuras y políticas de protección social, y promoviendo la responsabilidad compartida en el hogar y la familia, según proceda en cada país"},null,null,null,null,null,null,null,null,711,"Anexo 1 (85%)"]
[13,1,"Usaquén",1,"Hacer un nuevo contrato social con igualdad de oportunidades para la inclusión social, productiva y política",12,"Educación inicial: Bases sólidas para la vida",null,null,null,null,13,"Implementar 12 Proyectos para el desarrollo integral de la primera infancia y la relación escuela, familia y comunidad.",1943,"Oportunidades para la primera infancia","EDUCACIÓN INICIAL","Suma",1,"Implementar",12,"Proyectos","para el desarrollo integral de la primera infancia y la relación escuela, familia y comunidad.","Implementar 12 Proyectos para el desarrollo integral de la primera infancia y la relación escuela, familia y comunidad.",{"$f":"VLOOKUP(AG14,'Anexo PMR'!$B$4:$G$87,6,0)","v":"1_Inflexible 45%"},4,"Educación superior y primera infancia (10%)","Apoyo para educación inicial.",90,"EDUCACIÓN",2,"Protección integral a niños y niñas y adolescentes.",3,"Proyectos para el desarrollo integral de la primera infancia y la relación escuela, familia y comunidad.","PROYECTOS PRIMERA INFANCIA",null,null,null,3,3,3,3,371120000,382520000,394610000,407150000,1555400000,1,0,0,0,0,"Bajo","Bajo",1,0,0,null,null,null,0,"2021_1",3,3,0,0,0,0,0,0,0,0,0,0,0,"",null,null,null,360455000,360455000,0,0,0,36000000,0,0,0,36000000,3300000,3300000,0,0,0,"Corte 31 marzo de 2021: Las contrataciones adjudicadas no contribuyen al avance directo de la meta.",null,null,null,null,null,{"$f":"VLOOKUP(AG14,'Anexo ODS'!$G$3:$P$86,5,0)","v":1},{"$f":"VLOOKUP(AG14,'Anexo ODS'!$G$3:$P$86,6,0)","v":"Las Personas"},{"$f":"VLOOKUP(AG14,'Anexo ODS'!$G$3:$P$86,7,0)","v":4},{"$f":"VLOOKUP(AG14,'Anexo ODS'!$G$3:$P$86,8,0)","v":"Educación de calidad"},{"$f":"VLOOKUP(AG14,'Anexo ODS'!$G$3:$P$86,9,0)","v":"4.2"},{"$f":"VLOOKUP(AG14,'Anexo ODS'!$G$3:$P$86,10,0)","v":"De aquí a 2030, asegurar que todas las niñas y todos los niños tengan acceso a servicios de atención y desarrollo en la primera infancia y educación preescolar de calidad, a fin de que estén preparados para la enseñanza primaria."},null,null,null,null,null,null,null,null,12,"Anexo 1 (85%)"]
[14,1,"Usaquén",1,"Hacer un nuevo contrato social con igualdad de oportunidades para la inclusión social, productiva y política",14,"Formación integral: más y mejor tiempo en los colegios",null,null,null,null,14,"Dotar 10 sedes educativas urbanas",1947,"Dotaciones tecnológicas para al innovación en educación","DOTACIÓN","Suma",1,"Dotar",10,"Sedes","educativas urbanas","Dotar 10 sedes educativas urbanas",{"$f":"VLOOKUP(AG15,'Anexo PMR'!$B$4:$G$87,6,0)","v":"2_Presupuestos Participativos 50%"},6,"Infraestructura","Dotación pedagógica a colegios.",90,"EDUCACIÓN",3,"Infraestructura y dotación escolar.",4,"Sedes educativas urbanas y rurales dotadas","SEDES EDUCATIVAS",null,null,null,0,3,3,4,0,200000000,200000000,372060000,772060000,1,0,0,0,0,"Bajo","Bajo",1,0,0,null,null,null,0,"2021_1",0,0,0,0,0,0,0,0,0,0,0,0,0,"",null,null,null,0,0,0,0,0,null,0,0,0,0,null,null,0,0,0,"",null,null,null,null,null,{"$f":"VLOOKUP(AG15,'Anexo ODS'!$G$3:$P$86,5,0)","v":1},{"$f":"VLOOKUP(AG15,'Anexo ODS'!$G$3:$P$86,6,0)","v":"Las Personas"},{"$f":"VLOOKUP(AG15,'Anexo ODS'!$G$3:$P$86,7,0)","v":4},{"$f":"VLOOKUP(AG15,'Anexo ODS'!$G$3:$P$86,8,0)","v":"Educación de calidad"},{"$f":"VLOOKUP(AG15,'Anexo ODS'!$G$3:$P$86,9,0)","v":"4.7"},{"$f":"VLOOKUP(AG15,'Anexo ODS'!$G$3:$P$86,10,0)","v":"De aquí a 2030, asegurar que todos los alumnos adquieran los conocimientos teóricos y prácticos necesarios para promover el desarrollo sostenible, entre otras cosas mediante la educación para el desarrollo sostenible y los estilos de vida sostenibles, los derechos humanos, la igualdad de género, la promoción de una cultura de paz y no violencia, la ciudadanía mundial y la valoración de la diversidad cultural y la contribución de la cultura al desarrollo sostenible"},null,null,null,null,null,null,null,null,10,"Anexo 1 (85%)"]
[15,1,"Usaquén",1,"Hacer un nuevo contrato social con igualdad de oportunidades para la inclusión social, productiva y política",17,"Jóvenes con capacidades: Proyecto de vida para la ciudadanía, la innovación y el trabajo del siglo XXI",null,null,null,null,15,"Beneficiar 250 estudiantes de programas de educación superior con apoyo de sostenimiento para la permanencia",1687,"Usaquén, territorio de oportunidades para los jóvenes","SOSTENIMIENTO","Suma",1,"Beneficiar",250,"estudiantes","de programas de educación superior con apoyo de sostenimiento para la permanencia","Beneficiar 250 estudiantes de programas de educación superior con apoyo de sostenimiento para la permanencia",{"$f":"VLOOKUP(AG16,'Anexo PMR'!$B$4:$G$87,6,0)","v":"1_Inflexible 45%"},4,"Educación superior y primera infancia (10%)","Apoyo para educación superior.",90,"EDUCACIÓN",4,"Apoyo a la educación superior.",6,"Número de estudiantes de programas de educación superior con apoyo de sostenimiento para la permanencia.","EDUCACIÓN SUPERIOR",null,null,null,60,63,63,64,104720000,107940000,111350000,114890000,438900000,1,0,0,0,0,"Bajo","Bajo",3.1353336890854809E-2,0,0,null,null,null,0,"2021_1",60,60,0,0,0,0,0,0,0,0,0,0,0,"",null,null,null,101711000,101711000,0,0,0,null,0,0,0,0,null,null,0,0,0,"",null,null,null,null,null,{"$f":"VLOOKUP(AG16,'Anexo ODS'!$G$3:$P$86,5,0)","v":1},{"$f":"VLOOKUP(AG16,'Anexo ODS'!$G$3:$P$86,6,0)","v":"Las Personas"},{"$f":"VLOOKUP(AG16,'Anexo ODS'!$G$3:$P$86,7,0)","v":4},{"$f":"VLOOKUP(AG16,'Anexo ODS'!$G$3:$P$86,8,0)","v":"Educación de calidad"},{"$f":"VLOOKUP(AG16,'Anexo ODS'!$G$3:$P$86,9,0)","v":"4.3"},{"$f":"VLOOKUP(AG16,'Anexo ODS'!$G$3:$P$86,10,0)","v":"De aquí a 2030, asegurar el acceso igualitario de todos los hombres y las mujeres a una formación técnica, profesional y superior de calidad, incluida la enseñanza universitaria."},null,null,null,null,null,null,null,null,250,"Anexo 1 (85%)"]
[16,1,"Usaquén",1,"Hacer un nuevo contrato social con igualdad de oportunidades para la inclusión social, productiva y política",17,"Jóvenes con capacidades: Proyecto de vida para la ciudadanía, la innovación y el trabajo del siglo XXI",null,null,null,null,16,"Beneficiar 250 personas con apoyo para la educación superior",1687,"Usaquén, territorio de oportunidades para los jóvenes","APOYO EDUCACIÓN SUPERIOR","Suma",1,"Beneficiar",250,"Personas","con apoyo para la educación superior","Beneficiar 250 personas con apoyo para la educación superior",{"$f":"VLOOKUP(AG17,'Anexo PMR'!$B$4:$G$87,6,0)","v":"1_Inflexible 45%"},4,"Educación superior y primera infancia (10%)","Apoyo para educación superior.",90,"EDUCACIÓN",4,"Apoyo a la educación superior.",5,"Personas beneficiadas con  apoyo para la educación superior","EDUCACIÓN SUPERIOR",null,null,null,60,63,63,64,3235360000,3334720000,3440100000,3549430000,13559610000,1,0,0,0,0,"Bajo","Bajo",0.96864666310914516,0,0,null,null,null,0,"2021_1",60,60,0,0,0,0,0,0,0,0,0,0,0,"No mueve meta",null,null,null,3142385000,3142385000,0,0,0,212810000,0,0,0,212810000,581466,581466,0,0,0,"Corte 31 marzo de 2021: Las contrataciones adjudicadas no contribuyen al avance directo de la meta.",null,null,null,null,null,{"$f":"VLOOKUP(AG17,'Anexo ODS'!$G$3:$P$86,5,0)","v":1},{"$f":"VLOOKUP(AG17,'Anexo ODS'!$G$3:$P$86,6,0)","v":"Las Personas"},{"$f":"VLOOKUP(AG17,'Anexo ODS'!$G$3:$P$86,7,0)","v":4},{"$f":"VLOOKUP(AG17,'Anexo ODS'!$G$3:$P$86,8,0)","v":"Educación de calidad"},{"$f":"VLOOKUP(AG17,'Anexo ODS'!$G$3:$P$86,9,0)","v":"4.3"},{"$f":"VLOOKUP(AG17,'Anexo ODS'!$G$3:$P$86,10,0)","v":"De aquí a 2030, asegurar el acceso igualitario de todos los hombres y las mujeres a una formación técnica, profesional y superior de calidad, incluida la enseñanza universitaria."},null,null,null,null,null,null,null,null,250,"Anexo 1 (85%)"]
[17,1,"Usaquén",1,"Hacer un nuevo contrato social con igualdad de oportunidades para la inclusión social, productiva y política",20,"Bogotá, referente en cultura, deporte, recreación y actividad física, con parques para el desarrollo y la salud",null,null,null,null,17,"Vincular 9142 personas en actividades recreodeportivas comunitarias",1939,"Usaquén deportiva y recreativa","EVENTOS","Suma",2,"Vincular",9142,"Personas","en actividades recreodeportivas comunitarias","Vincular 9142 personas en actividades recreodeportivas comunitarias",{"$f":"VLOOKUP(AG18,'Anexo PMR'!$B$4:$G$87,6,0)","v":"2_Presupuestos Participativos 50%"},7,"Desarrollo social y cultural","Eventos recreo-deportivos.",93,"CULTURA, RECREACIÓN Y DEPORTE",7,"Eventos y actividades recreativas y deportivas.",10,"Personas vinculadas en actividades recreo-deportivas comunitarias","ACTIVIDAD DEPORTIVA",null,null,null,2200,2300,2300,2342,513320000,529090000,545810000,563150000,2151370000,1,0,0,0,0,"Bajo","Bajo",0.51746473859416187,0,0,null,null,null,0,"2021_1",2200,2200,0,0,0,0,0,0,0,0,0,0,0,"",null,null,null,498569000,498569000,0,0,0,47808000,0,0,0,47808000,0,0,0,0,0,"Corte 31 marzo de 2021: Las contrataciones adjudicadas no contribuyen al avance directo de la meta.",null,null,null,null,null,{"$f":"VLOOKUP(AG18,'Anexo ODS'!$G$3:$P$86,5,0)","v":1},{"$f":"VLOOKUP(AG18,'Anexo ODS'!$G$3:$P$86,6,0)","v":"Las Personas"},{"$f":"VLOOKUP(AG18,'Anexo ODS'!$G$3:$P$86,7,0)","v":3},{"$f":"VLOOKUP(AG18,'Anexo ODS'!$G$3:$P$86,8,0)","v":"Salud y Bienestar"},{"$f":"VLOOKUP(AG18,'Anexo ODS'!$G$3:$P$86,9,0)","v":"3.d"},{"$f":"VLOOKUP(AG18,'Anexo ODS'!$G$3:$P$86,10,0)","v":"Reforzar la capacidad de todos los países, en particular los países en desarrollo, en materia de alerta temprana,  reducción de riesgos y gestión de los riesgos para la salud nacional y mundial"},null,null,null,null,null,null,null,null,9142,"Anexo 1 (85%)"]
[18,1,"Usaquén",1,"Hacer un nuevo contrato social con igualdad de oportunidades para la inclusión social, productiva y política",20,"Bogotá, referente en cultura, deporte, recreación y actividad física, con parques para el desarrollo y la salud",null,null,null,null,18,"Capacitar 680 personas en los campos deportivos",1939,"Usaquén deportiva y recreativa","FORMACIÓN DEPORTIVA","Suma",3,"Capacitar",680,"Personas","en los campos deportivos","Capacitar 680 personas en los campos deportivos",{"$f":"VLOOKUP(AG19,'Anexo PMR'!$B$4:$G$87,6,0)","v":"2_Presupuestos Participativos 50%"},7,"Desarrollo social y cultural","Procesos de formación y dotación de insumos para los campos artísticos, interculturales, culturales, patrimoniales y deportivos.",93,"CULTURA, RECREACIÓN Y DEPORTE",7,"Eventos y actividades recreativas y deportivas.",11,"Personas capacitadas en los campos deportivos","FORMACIÓN DEPORTIVA",null,null,null,170,170,170,170,200000000,200000000,200000000,200000000,800000000,1,0,0,0,0,"Bajo","Bajo",0.19242240566491561,0,0,null,null,null,0,"2021_1",170,170,0,0,0,0,0,0,0,0,0,0,0,"",null,null,null,194253000,194253000,0,0,0,18000000,0,0,0,18000000,0,0,0,0,0,"Corte 31 marzo de 2021: Las contrataciones adjudicadas no contribuyen al avance directo de la meta.",null,null,null,null,null,{"$f":"VLOOKUP(AG19,'Anexo ODS'!$G$3:$P$86,5,0)","v":1},{"$f":"VLOOKUP(AG19,'Anexo ODS'!$G$3:$P$86,6,0)","v":"Las Personas"},{"$f":"VLOOKUP(AG19,'Anexo ODS'!$G$3:$P$86,7,0)","v":4},{"$f":"VLOOKUP(AG19,'Anexo ODS'!$G$3:$P$86,8,0)","v":"Educación de calidad"},{"$f":"VLOOKUP(AG19,'Anexo ODS'!$G$3:$P$86,9,0)","v":"4.7"},{"$f":"VLOOKUP(AG19,'Anexo ODS'!$G$3:$P$86,10,0)","v":"De aquí a 2030, asegurar que todos los alumnos adquieran los conocimientos teóricos y prácticos necesarios para promover el desarrollo sostenible, entre otras cosas mediante la educación para el desarrollo sostenible y los estilos de vida sostenibles, los derechos humanos, la igualdad de género, la promoción de una cultura de paz y no violencia, la ciudadanía mundial y la valoración de la diversidad cultural y la contribución de la cultura al desarrollo sostenible"},null,null,null,null,null,null,null,null,680,"Anexo 1 (85%)"]
[19,1,"Usaquén",1,"Hacer un nuevo contrato social con igualdad de oportunidades para la inclusión social, productiva y política",20,"Bogotá, referente en cultura, deporte, recreación y actividad física, con parques para el desarrollo y la salud",null,null,null,null,19,"Beneficiar 680 Personas con artículos deportivos entregados",1939,"Usaquén deportiva y recreativa","DOTACIÓN","Suma",4,"Beneficiar",680,"Personas","con artículos deportivos entregados","Beneficiar 680 Personas con artículos deportivos entregados",{"$f":"VLOOKUP(AG20,'Anexo PMR'!$B$4:$G$87,6,0)","v":"2_Presupuestos Participativos 50%"},7,"Desarrollo social y cultural","Procesos de formación y dotación de insumos para los campos artísticos, interculturales, culturales, patrimoniales y deportivos.",93,"CULTURA, RECREACIÓN Y DEPORTE",7,"Eventos y actividades recreativas y deportivas.",12,"Personas beneficiadas con artículos entregados.","ACTIVIDAD DEPORTIVA",null,null,null,170,170,170,170,287790000,296630000,306000000,315730000,1206150000,1,0,0,0,0,"Bajo","Bajo",0.29011285574092249,0,0,null,null,null,0,"2021_1",170,170,0,0,0,0,0,0,0,0,0,0,0,"",null,null,null,279520000,279520000,0,0,0,36000000,0,0,0,36000000,0,0,0,0,0,"Corte 31 marzo de 2021: Las contrataciones adjudicadas no contribuyen al avance directo de la meta.",null,null,null,null,null,{"$f":"VLOOKUP(AG20,'Anexo ODS'!$G$3:$P$86,5,0)","v":1},{"$f":"VLOOKUP(AG20,'Anexo ODS'!$G$3:$P$86,6,0)","v":"Las Personas"},{"$f":"VLOOKUP(AG20,'Anexo ODS'!$G$3:$P$86,7,0)","v":3},{"$f":"VLOOKUP(AG20,'Anexo ODS'!$G$3:$P$86,8,0)","v":"Salud y Bienestar"},{"$f":"VLOOKUP(AG20,'Anexo ODS'!$G$3:$P$86,9,0)","v":"3.d"},{"$f":"VLOOKUP(AG20,'Anexo ODS'!$G$3:$P$86,10,0)","v":"Reforzar la capacidad de todos los países, en particular los países en desarrollo, en materia de alerta temprana, reducción de riesgos y gestión de los riesgos para la salud\nnacional y mundial"},null,null,null,null,null,null,null,null,680,"Anexo 1 (85%)"]
[20,1,"Usaquén",1,"Hacer un nuevo contrato social con igualdad de oportunidades para la inclusión social, productiva y política",21,"Creación y vida cotidiana: Apropiación ciudadana del arte, la cultura y el patrimonio, para la democracia cultural",null,null,null,null,20,"Capacitar 680 personas en los campos artísticos, interculturales, culturales y/o patrimoniales.",1992,"Usaquén cultura creativa y diversa","FORMACIÓN","Suma",1,"Capacitar",680,"Personas","en los campos artísticos, interculturales, culturales y/o patrimoniales.","Capacitar 680 personas en los campos artísticos, interculturales, culturales y/o patrimoniales.",{"$f":"VLOOKUP(AG21,'Anexo PMR'!$B$4:$G$87,6,0)","v":"2_Presupuestos Participativos 50%"},7,"Desarrollo social y cultural","Procesos de formación y dotación de insumos para los campos artísticos, interculturales, culturales, patrimoniales y deportivos.",93,"CULTURA, RECREACIÓN Y DEPORTE",10,"Formación artística y cultural.",15,"Personas capacitadas en los campos artísticos, interculturales, culturales y/o patrimoniales","FORMACIÓN CULTURAL",null,null,null,170,170,170,170,200000000,200000000,200000000,200000000,800000000,1,0,0,0,0,"Bajo","Bajo",0.10582920489195499,0,0,null,null,null,0,"2021_1",170,170,0,0,0,0,0,0,0,0,0,0,0,"",null,null,null,194253000,194253000,0,0,0,null,0,0,0,0,null,null,0,0,0,"",null,null,null,null,null,{"$f":"VLOOKUP(AG21,'Anexo ODS'!$G$3:$P$86,5,0)","v":3},{"$f":"VLOOKUP(AG21,'Anexo ODS'!$G$3:$P$86,6,0)","v":"La Prosperidad"},{"$f":"VLOOKUP(AG21,'Anexo ODS'!$G$3:$P$86,7,0)","v":11},{"$f":"VLOOKUP(AG21,'Anexo ODS'!$G$3:$P$86,8,0)","v":"Ciudades y comunidades sostenibles"},{"$f":"VLOOKUP(AG21,'Anexo ODS'!$G$3:$P$86,9,0)","v":"11.4"},{"$f":"VLOOKUP(AG21,'Anexo ODS'!$G$3:$P$86,10,0)","v":"Redoblar los esfuerzos para proteger y salvaguardar el patrimonio cultural y natural del mundo"},null,null,null,null,null,null,null,null,680,"Anexo 2 (15%)"]
[21,1,"Usaquén",1,"Hacer un nuevo contrato social con igualdad de oportunidades para la inclusión social, productiva y política",21,"Creación y vida cotidiana: Apropiación ciudadana del arte, la cultura y el patrimonio, para la democracia cultural",null,null,null,null,21,"Realizar 16 eventos de promoción de actividades culturales",1992,"Usaquén cultura creativa y diversa","EVENTOS","Suma",1,"Realizar",16,"Eventos","de promoción de actividades culturales","Realizar 16 eventos de promoción de actividades culturales",{"$f":"VLOOKUP(AG22,'Anexo PMR'!$B$4:$G$87,6,0)","v":"2_Presupuestos Participativos 50%"},7,"Desarrollo social y cultural","Circulación y apropiación de prácticas artísticas, interculturales, culturales y patrimoniales.",93,"CULTURA, RECREACIÓN Y DEPORTE",8,"Espacios artísticos y culturales.",13,"Eventos de promoción de actividades culturales realizadas","ACTIVIDAD CULTURAL",null,null,null,4,4,4,4,460460000,474610000,489600000,505160000,1929830000,1,0,0,0,0,"Bajo","Bajo",0.25529046809580191,0,0,null,null,null,0,"2021_1",4,4,0,0,0,0,0,0,0,0,0,0,0,"",null,null,null,447228000,447228000,0,0,0,null,0,0,0,0,null,null,0,0,0,"",null,null,null,null,null,{"$f":"VLOOKUP(AG22,'Anexo ODS'!$G$3:$P$86,5,0)","v":3},{"$f":"VLOOKUP(AG22,'Anexo ODS'!$G$3:$P$86,6,0)","v":"La Prosperidad"},{"$f":"VLOOKUP(AG22,'Anexo ODS'!$G$3:$P$86,7,0)","v":11},{"$f":"VLOOKUP(AG22,'Anexo ODS'!$G$3:$P$86,8,0)","v":"Ciudades y comunidades sostenibles"},{"$f":"VLOOKUP(AG22,'Anexo ODS'!$G$3:$P$86,9,0)","v":"11.4"},{"$f":"VLOOKUP(AG22,'Anexo ODS'!$G$3:$P$86,10,0)","v":"Redoblar los esfuerzos para proteger y salvaguardar el patrimonio cultural y natural del mundo"},null,null,null,null,null,null,null,null,16,"Anexo 2 (15%)"]
[22,1,"Usaquén",1,"Hacer un nuevo contrato social con igualdad de oportunidades para la inclusión social, productiva y política",21,"Creación y vida cotidiana: Apropiación ciudadana del arte, la cultura y el patrimonio, para la democracia cultural",null,null,null,null,22,"Intervenir 1 sede cultural con dotación y/o adecuación",1992,"Usaquén cultura creativa y diversa","FORTALECIMIENTO INFRAESTRUCTURA","Suma",2,"Intervenir",1,"Sedes","cultural con dotación y/o adecuación","Intervenir 1 sede cultural con dotación y/o adecuación",{"$f":"VLOOKUP(AG23,'Anexo PMR'!$B$4:$G$87,6,0)","v":"2_Presupuestos Participativos 50%"},6,"Infraestructura","Dotación e infraestructura cultural.",93,"CULTURA, RECREACIÓN Y DEPORTE",11,"Infraestructura y dotación a centros artísticos y culturales.",16,"Sedes dotadas/Sedes adecuadas","SEDES CULTURALES",null,null,null,0.25,0.25,0.25,0.25,600000000,500000000,800000000,655070000,2555070000,1,0,0,0,0,"Bajo","Bajo",0.33800128317910932,0,0,null,null,null,0,"2021_1",0.25,0.25,0,0,0,0,0,0,0,0,0,0,0,"",null,null,null,582758000,582758000,0,0,0,61366000,0,0,0,61366000,3960000,3960000,0,0,0,"Corte 31 marzo 2021: La contratación reportada no contribuye al avance de la magnitud de la meta.",null,null,null,null,null,{"$f":"VLOOKUP(AG23,'Anexo ODS'!$G$3:$P$86,5,0)","v":3},{"$f":"VLOOKUP(AG23,'Anexo ODS'!$G$3:$P$86,6,0)","v":"La Prosperidad"},{"$f":"VLOOKUP(AG23,'Anexo ODS'!$G$3:$P$86,7,0)","v":9},{"$f":"VLOOKUP(AG23,'Anexo ODS'!$G$3:$P$86,8,0)","v":"Industria, innovación e infraestructura"},{"$f":"VLOOKUP(AG23,'Anexo ODS'!$G$3:$P$86,9,0)","v":"9.1"},{"$f":"VLOOKUP(AG23,'Anexo ODS'!$G$3:$P$86,10,0)","v":"Desarrollar infraestructuras fiables, sostenibles, resilientes y de calidad, incluidas infraestructuras regionales y transfronterizas, para apoyar el desarrollo económico y el bienestar humano, haciendo especial hincapié en el acceso asequible y equitativo para todos"},null,null,null,null,null,null,null,null,1,"Anexo 2 (15%)"]
[23,1,"Usaquén",1,"Hacer un nuevo contrato social con igualdad de oportunidades para la inclusión social, productiva y política",21,"Creación y vida cotidiana: Apropiación ciudadana del arte, la cultura y el patrimonio, para la democracia cultural",null,null,null,null,23,"Otorgar 50 estímulos de apoyo al sector artístico y cultural",1992,"Usaquén cultura creativa y diversa","ESTÍMULOS","Suma",2,"Otorgar",50,"Estímulos","de apoyo al sector artístico y cultural","Otorgar 50 estímulos de apoyo al sector artístico y cultural",{"$f":"VLOOKUP(AG24,'Anexo PMR'!$B$4:$G$87,6,0)","v":"2_Presupuestos Participativos 50%"},7,"Desarrollo social y cultural","Iniciativas de interés cultural, artístico, patrimonial y recreo deportivas.",93,"CULTURA, RECREACIÓN Y DEPORTE",9,"Servicio de apoyo financiero para el desarrollo de prácticas artísticas y culturales en el Distrito de Bogotá.",14,"Estímulos otorgados de apoyo al sector artístico y cultural ","ESTIMULOS CULTURALES",null,null,null,12,12,13,13,600000000,500000000,400000000,774450000,2274450000,1,0,0,0,0,"Bajo","Bajo",0.3008790438331338,0,0,null,null,null,0,"2021_1",12,12,0,0,0,0,0,0,0,0,0,0,0,"",null,null,null,582758000,582758000,0,0,0,45000000,0,0,0,45000000,0,0,0,0,0,"Corte 31 marzo 2021: La contratación reportada no contribuye al avance de la magnitud de la meta.",null,null,null,null,null,{"$f":"VLOOKUP(AG24,'Anexo ODS'!$G$3:$P$86,5,0)","v":3},{"$f":"VLOOKUP(AG24,'Anexo ODS'!$G$3:$P$86,6,0)","v":"La Prosperidad"},{"$f":"VLOOKUP(AG24,'Anexo ODS'!$G$3:$P$86,7,0)","v":11},{"$f":"VLOOKUP(AG24,'Anexo ODS'!$G$3:$P$86,8,0)","v":"Ciudades y comunidades sostenibles"},{"$f":"VLOOKUP(AG24,'Anexo ODS'!$G$3:$P$86,9,0)","v":"11.4"},{"$f":"VLOOKUP(AG24,'Anexo ODS'!$G$3:$P$86,10,0)","v":"Redoblar los esfuerzos para proteger y salvaguardar el patrimonio cultural y natural del mundo"},null,null,null,null,null,null,null,null,50,"Anexo 2 (15%)"]
[24,1,"Usaquén",1,"Hacer un nuevo contrato social con igualdad de oportunidades para la inclusión social, productiva y política",24,"Bogotá región emprendedora e innovadora",null,null,null,null,24,"Implementar 4 acciones de fomento para la agricultura urbana",1932,"Cultivando en Usaquén","AGRICULTURA URBANA","Suma",1,"Implementar",4,"Acciones","de fomento para la agricultura urbana","Implementar 4 acciones de fomento para la agricultura urbana",{"$f":"VLOOKUP(AG25,'Anexo PMR'!$B$4:$G$87,6,0)","v":"2_Presupuestos Participativos 50%"},8,"Inversiones ambientales sostenibles","Agricultura urbana.",94,"AMBIENTE",13,"Servicios de asesoría, asistencia técnica integral y dotación de infraestructura productiva para la Agricultura urbana y periurbana.",19,"Número acciones de fomento para la agricultura urbana","AGRICULTURA URBANA",null,null,null,1,1,1,1,200000000,200000000,200000000,527390000,1127390000,1,0,0,0,0,"Bajo","Bajo",0.33092636133346248,0,0,null,null,null,0,"2021_1",1,1,0,0,0,0,0,0,0,0,0,0,0,"",null,null,null,194253000,194253000,0,0,0,49500000,0,0,0,49500000,0,0,0,0,0,"Corte 31 marzo de 2021: Las contrataciones adjudicadas no contribuyen al avance directo de la meta.",null,null,null,null,null,{"$f":"VLOOKUP(AG25,'Anexo ODS'!$G$3:$P$86,5,0)","v":4},{"$f":"VLOOKUP(AG25,'Anexo ODS'!$G$3:$P$86,6,0)","v":"El Planeta"},{"$f":"VLOOKUP(AG25,'Anexo ODS'!$G$3:$P$86,7,0)","v":12},{"$f":"VLOOKUP(AG25,'Anexo ODS'!$G$3:$P$86,8,0)","v":"Producción y consumo responsables"},{"$f":"VLOOKUP(AG25,'Anexo ODS'!$G$3:$P$86,9,0)","v":"12.2"},{"$f":"VLOOKUP(AG25,'Anexo ODS'!$G$3:$P$86,10,0)","v":"De aquí a 2030, lograr la gestión sostenible y el uso eficiente\nde los recursos naturales"},null,null,null,null,null,null,null,null,4,"Anexo 2 (15%)"]
[25,1,"Usaquén",1,"Hacer un nuevo contrato social con igualdad de oportunidades para la inclusión social, productiva y política",24,"Bogotá región emprendedora e innovadora",null,null,null,null,25,"Financiar 65 proyectos del sector cultural y creativo",1990,"Usaquén emprendedora y creativa","FORTALECIMIENTO INDUSTRIA CULTURAL","Suma",2,"Financiar",65,"Proyectos","del sector cultural y creativo","Financiar 65 proyectos del sector cultural y creativo",{"$f":"VLOOKUP(AG26,'Anexo PMR'!$B$4:$G$87,6,0)","v":"2_Presupuestos Participativos 50%"},7,"Desarrollo social y cultural","Apoyo y fortalecimiento a las industrias culturales y creativas en las localidades",93,"CULTURA, RECREACIÓN Y DEPORTE",9,"Servicio de apoyo financiero para el desarrollo de prácticas artísticas y culturales en el Distrito de Bogotá.",20,"Número de proyectos financiados y acompañados del sector cultural y creativo.","ACTIVIDAD CULTURAL",null,null,null,15,15,15,20,500000000,500000000,500000000,779380000,2279380000,1,0,0,0,0,"Bajo","Bajo",0.66907363866653746,0,0,null,null,null,0,"2021_1",15,15,0,0,0,0,0,0,0,0,0,0,0,"",null,null,null,485631000,485631000,0,0,0,35319280,0,0,0,35319280,0,0,0,0,0,"Corte 31 marzo 2021: La contratación reportada no contribuye al avance de la magnitud de la meta.",null,null,null,null,null,{"$f":"VLOOKUP(AG26,'Anexo ODS'!$G$3:$P$86,5,0)","v":3},{"$f":"VLOOKUP(AG26,'Anexo ODS'!$G$3:$P$86,6,0)","v":"La Prosperidad"},{"$f":"VLOOKUP(AG26,'Anexo ODS'!$G$3:$P$86,7,0)","v":8},{"$f":"VLOOKUP(AG26,'Anexo ODS'!$G$3:$P$86,8,0)","v":"Trabajo decente y crecimiento económico"},{"$f":"VLOOKUP(AG26,'Anexo ODS'!$G$3:$P$86,9,0)","v":"8.3"},{"$f":"VLOOKUP(AG26,'Anexo ODS'!$G$3:$P$86,10,0)","v":"Promover políticas orientadas al desarrollo que apoyen las actividades productivas, la creación de puestos de trabajo decentes, el emprendimiento, la creatividad y la innovación, y fomentar la formalización y el crecimiento de las microempresas y las pequeñas y medianas empresas, incluso mediante el acceso a servicios financieros"},null,null,null,null,null,null,null,null,65,"Anexo 2 (15%)"]
[26,1,"Usaquén",2,"Cambiar nuestros hábitos de vida para reverdecer a Bogotá y adaptarnos y mitigar el cambio climático.",27,"Cambio cultural para la gestión de la crisis climática",null,null,null,null,26,"Construir 167 m2 de muros y techos verdes",1944,"Usaquén más verde","MUROS VERDES","Suma",1,"Construir",167,"Metros cuadrados","de muros y techos verdes","Construir 167 m2 de muros y techos verdes",{"$f":"VLOOKUP(AG27,'Anexo PMR'!$B$4:$G$87,6,0)","v":"2_Presupuestos Participativos 50%"},8,"Inversiones ambientales sostenibles","Eco-urbanismo.",94,"AMBIENTE",17,"Calidad ambiental y preservación del patrimonio natural.",39,"m2 de muros y techos verdes","INTERVENCIONES VERDES",null,null,null,0,0,167,0,0,0,212620000,0,212620000,1,0,0,0,0,"Bajo","Bajo",0.10138134587050539,0,0,null,null,null,0,"2021_1",0,0,0,0,0,0,0,0,0,0,0,0,0,"",null,null,null,0,0,0,0,0,null,0,0,0,0,null,null,0,0,0,"",null,null,null,null,null,{"$f":"VLOOKUP(AG27,'Anexo ODS'!$G$3:$P$86,5,0)","v":3},{"$f":"VLOOKUP(AG27,'Anexo ODS'!$G$3:$P$86,6,0)","v":"La Prosperidad"},{"$f":"VLOOKUP(AG27,'Anexo ODS'!$G$3:$P$86,7,0)","v":11},{"$f":"VLOOKUP(AG27,'Anexo ODS'!$G$3:$P$86,8,0)","v":"Ciudades y comunidades sostenibles"},{"$f":"VLOOKUP(AG27,'Anexo ODS'!$G$3:$P$86,9,0)","v":"11.3"},{"$f":"VLOOKUP(AG27,'Anexo ODS'!$G$3:$P$86,10,0)","v":"De aquí a 2030, aumentar la urbanización inclusiva y sostenible y la capacidad para la planificación y la gestión participativas, integradas y sostenibles de los asentamientos"},null,null,null,null,null,null,null,null,167,"Anexo 2 (15%)"]
[27,1,"Usaquén",2,"Cambiar nuestros hábitos de vida para reverdecer a Bogotá y adaptarnos y mitigar el cambio climático.",27,"Cambio cultural para la gestión de la crisis climática",null,null,null,null,27,"Implementar 6 PROCEDAS.",1944,"Usaquén más verde","EDUCACIÓN AMBIENTAL","Suma",2,"Implementar",6,"PROCEDAS",null,"Implementar 6 PROCEDAS.",{"$f":"VLOOKUP(AG28,'Anexo PMR'!$B$4:$G$87,6,0)","v":"2_Presupuestos Participativos 50%"},8,"Inversiones ambientales sostenibles","Educación ambiental.",94,"AMBIENTE",17,"Calidad ambiental y preservación del patrimonio natural.",38,"Número de PROCEDAS implementados ","PROCEDAS",null,null,null,1,1,2,2,200000000,280000000,360000000,366150000,1206150000,1,0,0,0,0,"Bajo","Bajo",0.57511574791510711,0,0,null,null,null,0,"2021_1",1,1,0,0,0,0,0,0,0,0,0,0,0,"",null,null,null,194253000,194253000,0,0,0,52000000,0,0,0,52000000,0,0,0,0,0,"Corte 31 marzo de 2021: Las contrataciones adjudicadas no contribuyen al avance directo de la meta.",null,null,null,null,null,{"$f":"VLOOKUP(AG28,'Anexo ODS'!$G$3:$P$86,5,0)","v":4},{"$f":"VLOOKUP(AG28,'Anexo ODS'!$G$3:$P$86,6,0)","v":"El Planeta"},{"$f":"VLOOKUP(AG28,'Anexo ODS'!$G$3:$P$86,7,0)","v":13},{"$f":"VLOOKUP(AG28,'Anexo ODS'!$G$3:$P$86,8,0)","v":"Acción por el Clima"},{"$f":"VLOOKUP(AG28,'Anexo ODS'!$G$3:$P$86,9,0)","v":"13.3"},{"$f":"VLOOKUP(AG28,'Anexo ODS'!$G$3:$P$86,10,0)","v":"Mejorar la educación, la sensibilización y la capacidad humana e institucional respecto de la mitigación del cambio climático, la adaptación a él, la reducción de sus efectos y la alerta temprana"},null,null,null,null,null,null,null,null,6,"Anexo 1 (85%)"]
[28,1,"Usaquén",2,"Cambiar nuestros hábitos de vida para reverdecer a Bogotá y adaptarnos y mitigar el cambio climático.",27,"Cambio cultural para la gestión de la crisis climática",null,null,null,null,28,"Intervenir 9000 m2 de jardinería y coberturas verdes",1944,"Usaquén más verde","JARDINERÍA","Suma",2,"Intervenir",9000,"Metros cuadrados","de jardinería y coberturas verdes","Intervenir 9000 m2 de jardinería y coberturas verdes",{"$f":"VLOOKUP(AG29,'Anexo PMR'!$B$4:$G$87,6,0)","v":"2_Presupuestos Participativos 50%"},8,"Inversiones ambientales sostenibles","Eco-urbanismo.",94,"AMBIENTE",17,"Calidad ambiental y preservación del patrimonio natural.",40,"m2 de jardinería y coberturas verdes","INTERVENCIONES VERDES",null,null,null,0,3000,3000,3000,0,219140000,226060000,233260000,678460000,1,0,0,0,0,"Bajo","Bajo",0.32350290621438754,0,0,null,null,null,0,"2021_1",0,0,0,0,0,0,0,0,0,0,0,0,0,"",null,null,null,0,0,0,0,0,null,0,0,0,0,null,null,0,0,0,"",null,null,null,null,null,{"$f":"VLOOKUP(AG29,'Anexo ODS'!$G$3:$P$86,5,0)","v":3},{"$f":"VLOOKUP(AG29,'Anexo ODS'!$G$3:$P$86,6,0)","v":"La Prosperidad"},{"$f":"VLOOKUP(AG29,'Anexo ODS'!$G$3:$P$86,7,0)","v":11},{"$f":"VLOOKUP(AG29,'Anexo ODS'!$G$3:$P$86,8,0)","v":"Ciudades y comunidades sostenibles"},{"$f":"VLOOKUP(AG29,'Anexo ODS'!$G$3:$P$86,9,0)","v":"11.3"},{"$f":"VLOOKUP(AG29,'Anexo ODS'!$G$3:$P$86,10,0)","v":"De aquí a 2030, aumentar la urbanización inclusiva y sostenible y la capacidad para la planificación y la gestión participativas, integradas y sostenibles de los asentamientos"},null,null,null,null,null,null,null,null,9000,"Anexo 1 (85%)"]
[29,1,"Usaquén",2,"Cambiar nuestros hábitos de vida para reverdecer a Bogotá y adaptarnos y mitigar el cambio climático.",28,"Bogotá protectora de sus recursos naturales",null,null,null,null,29,"Intervenir 6 hectáreas con procesos de restauración, rehabilitación o recuperación ecológica.",1935,"Recuperación de la estructura , composición , función y conservación de ecosistemas de Usaquén","RESTAURACIÓN ECOLÓGICA","Suma",3,"Intervenir",6,"Hectáreas","con procesos de restauración, rehabilitación o recuperación ecológica.","Intervenir 6 hectáreas con procesos de restauración, rehabilitación o recuperación ecológica.",{"$f":"VLOOKUP(AG30,'Anexo PMR'!$B$4:$G$87,6,0)","v":"2_Presupuestos Participativos 50%"},8,"Inversiones ambientales sostenibles","Restauración ecológica urbana y/o rural.",94,"AMBIENTE",17,"Calidad ambiental y preservación del patrimonio natural.",41,"Hectáreas en restauración, rehabilitación o recuperación ecológica y mantenimiento ","INTERVENCIONES VERDES",null,null,null,0,1,2,3,0,300000000,402170000,883060000,1585230000,1,0,0,0,0,"Bajo","Bajo",1,0,0,null,null,null,0,"2021_1",0,0,0,0,0,0,0,0,0,0,0,0,0,"",null,null,null,0,0,0,0,0,null,0,0,0,0,null,null,0,0,0,"",null,null,null,null,null,{"$f":"VLOOKUP(AG30,'Anexo ODS'!$G$3:$P$86,5,0)","v":4},{"$f":"VLOOKUP(AG30,'Anexo ODS'!$G$3:$P$86,6,0)","v":"El Planeta"},{"$f":"VLOOKUP(AG30,'Anexo ODS'!$G$3:$P$86,7,0)","v":15},{"$f":"VLOOKUP(AG30,'Anexo ODS'!$G$3:$P$86,8,0)","v":"Vida de ecosistemas terrestres"},{"$f":"VLOOKUP(AG30,'Anexo ODS'!$G$3:$P$86,9,0)","v":"15.1"},{"$f":"VLOOKUP(AG30,'Anexo ODS'!$G$3:$P$86,10,0)","v":"De aquí a 2020, asegurar la conservación, el restablecimiento y el uso sostenible de los ecosistemas terrestres y los ecosistemas interiores de agua dulce y sus servicios, en particular los bosques, los humedales, las montañas y las zonas áridas, en consonancia con las obligaciones contraídas en virtud de acuerdos\ninternacionales"},null,null,null,null,null,null,null,null,6,"Anexo 1 (85%)"]
[30,1,"Usaquén",2,"Cambiar nuestros hábitos de vida para reverdecer a Bogotá y adaptarnos y mitigar el cambio climático.",30,"Eficiencia en la atención de emergencias",null,null,null,null,30,"Desarrollar 1 intervención para la reducción del riesgo y adaptación al cambio climático",1940,"Adaptación del territorio a los efectos del cambio climático","REDUCCIÓN DEL RIESGO Y ADAPTACIÓN AL CAMBIO CLIMÁTICO","Suma",1,"Desarrollar",1,"Intervenciones","para la reducción del riesgo y adaptación al cambio climático","Desarrollar 1 intervención para la reducción del riesgo y adaptación al cambio climático",{"$f":"VLOOKUP(AG31,'Anexo PMR'!$B$4:$G$87,6,0)","v":"2_Presupuestos Participativos 50%"},8,"Inversiones ambientales sostenibles","Mitigación del riesgo. ",94,"AMBIENTE",18,"Gestión para la prevención y mitigación del riesgo.",43,"Intervenciones para la reducción del riesgo y adaptación al cambio climático","REDUCCIÓN DEL RIESGO",null,null,null,0,1,0,0,0,1088000000,0,0,1088000000,1,0,0,0,0,"Bajo","Bajo",0.53640451210854301,0,0,null,null,null,0,"2021_1",0,0,0,0,0,0,0,0,0,0,0,0,0,"",null,null,null,0,0,0,0,0,null,0,0,0,0,null,null,0,0,0,"",null,null,null,null,null,{"$f":"VLOOKUP(AG31,'Anexo ODS'!$G$3:$P$86,5,0)","v":4},{"$f":"VLOOKUP(AG31,'Anexo ODS'!$G$3:$P$86,6,0)","v":"El Planeta"},{"$f":"VLOOKUP(AG31,'Anexo ODS'!$G$3:$P$86,7,0)","v":13},{"$f":"VLOOKUP(AG31,'Anexo ODS'!$G$3:$P$86,8,0)","v":"Acción por el clima"},{"$f":"VLOOKUP(AG31,'Anexo ODS'!$G$3:$P$86,9,0)","v":"13.1"},{"$f":"VLOOKUP(AG31,'Anexo ODS'!$G$3:$P$86,10,0)","v":"Fortalecer la resiliencia y la capacidad de adaptación a los riesgos relacionados con el clima y los desastres naturales en todos los países"},null,null,null,null,null,null,null,null,1,"Anexo 3 (Construcción Sedes, CAI)"]
[31,1,"Usaquén",2,"Cambiar nuestros hábitos de vida para reverdecer a Bogotá y adaptarnos y mitigar el cambio climático.",30,"Eficiencia en la atención de emergencias",null,null,null,null,31,"Realizar 1 acción efectiva para el fortalecimiento de las capacidades locales para la respuesta a emergencias y desastres",1940,"Adaptación del territorio a los efectos del cambio climático","MANEJO DE EMERGENCIAS, CALAMIDADES Y DESASTRES","Suma",4,"Realizar",1,"Acciones","efectiva para el fortalecimiento de las capacidades locales para la respuesta a emergencias y desastres","Realizar 1 acción efectiva para el fortalecimiento de las capacidades locales para la respuesta a emergencias y desastres",{"$f":"VLOOKUP(AG32,'Anexo PMR'!$B$4:$G$87,6,0)","v":"2_Presupuestos Participativos 50%"},8,"Inversiones ambientales sostenibles","Manejo de emergencias y desastres.",94,"AMBIENTE",18,"Gestión para la prevención y mitigación del riesgo.",42,"Acciones efectivas para el fortalecimiento de las capacidades locales para la respuesta a emergencias y desastres","REDUCCIÓN DEL RIESGO",null,null,null,0,0.5,0,0.5,0,470160000,0,470160000,940320000,1,0,0,0,0,"Bajo","Bajo",0.46359548789145699,0,0,null,null,null,0,"2021_1",0,0,0,0,0,0,0,0,0,0,0,0,0,"",null,null,null,0,0,0,0,0,null,0,0,0,0,null,null,0,0,0,"",null,null,null,null,null,{"$f":"VLOOKUP(AG32,'Anexo ODS'!$G$3:$P$86,5,0)","v":3},{"$f":"VLOOKUP(AG32,'Anexo ODS'!$G$3:$P$86,6,0)","v":"La Prosperidad"},{"$f":"VLOOKUP(AG32,'Anexo ODS'!$G$3:$P$86,7,0)","v":11},{"$f":"VLOOKUP(AG32,'Anexo ODS'!$G$3:$P$86,8,0)","v":"Ciudades y comunidades sostenibles"},{"$f":"VLOOKUP(AG32,'Anexo ODS'!$G$3:$P$86,9,0)","v":"11.5"},{"$f":"VLOOKUP(AG32,'Anexo ODS'!$G$3:$P$86,10,0)","v":"De aquí a 2030, reducir significativamente el número de muertes causadas por los desastres, incluidos los relacionados con el agua, y de personas afectadas por ellos, y reducir considerablemente las pérdidas económicas directas provocadas por los desastres en comparación con el producto interno bruto mundial, haciendo especial hincapié en la protección de los pobres y las personas en situaciones de vulnerabilidad"},null,null,null,null,null,null,null,null,1,"Anexo 2 (15%)"]
[32,1,"Usaquén",2,"Cambiar nuestros hábitos de vida para reverdecer a Bogotá y adaptarnos y mitigar el cambio climático.",33,"Más árboles y más y mejor espacio público ",null,null,null,null,32,"Mantener 8000 árboles urbanos y/o rurales",1942,"Usaquén reverdece","ARBORIZACIÓN","Suma",2,"Mantener",8000,"Árboles","urbanos y/o rurales","Mantener 8000 árboles urbanos y/o rurales",{"$f":"VLOOKUP(AG33,'Anexo PMR'!$B$4:$G$87,6,0)","v":"2_Presupuestos Participativos 50%"},8,"Inversiones ambientales sostenibles","Arbolado urbano y/o rural.",94,"AMBIENTE",19,"Plantación y mantenimiento de árboles, jardines y especies vegetales. ",44,"Número de árboles mantenidos","ARBOLADO",null,null,null,2000,2000,2000,2000,200000000,200000000,200000000,720950000,1320950000,1,0,0,0,0,"Bajo","Bajo",0.28976144776528656,0,0,null,null,null,0,"2021_1",2000,2000,0,0,0,0,0,0,0,0,0,0,0,"",null,null,null,194253000,194253000,0,0,0,null,0,0,0,0,null,null,0,0,0,"",null,null,null,null,null,{"$f":"VLOOKUP(AG33,'Anexo ODS'!$G$3:$P$86,5,0)","v":4},{"$f":"VLOOKUP(AG33,'Anexo ODS'!$G$3:$P$86,6,0)","v":"El Planeta"},{"$f":"VLOOKUP(AG33,'Anexo ODS'!$G$3:$P$86,7,0)","v":15},{"$f":"VLOOKUP(AG33,'Anexo ODS'!$G$3:$P$86,8,0)","v":"Vida de ecosistemas terrestres"},{"$f":"VLOOKUP(AG33,'Anexo ODS'!$G$3:$P$86,9,0)","v":"15.1"},{"$f":"VLOOKUP(AG33,'Anexo ODS'!$G$3:$P$86,10,0)","v":"De aquí a 2020, asegurar la conservación, el restablecimiento y el uso sostenible de los ecosistemas terrestres y los ecosistemas interiores de agua dulce y sus servicios, en particular los bosques, los humedales, las montañas y las zonas áridas, en consonancia con las obligaciones contraídas en virtud de acuerdos internacionales"},null,null,null,null,null,null,null,null,8000,"Anexo 2 (15%)"]
[33,1,"Usaquén",2,"Cambiar nuestros hábitos de vida para reverdecer a Bogotá y adaptarnos y mitigar el cambio climático.",33,"Más árboles y más y mejor espacio público ",null,null,null,null,33,"Plantar 340 árboles urbanos y/o rurales.",1942,"Usaquén reverdece","ARBORIZACIÓN","Suma",3,"Plantar",340,"Árboles","urbanos y/o rurales","Plantar 340 árboles urbanos y/o rurales.",{"$f":"VLOOKUP(AG34,'Anexo PMR'!$B$4:$G$87,6,0)","v":"2_Presupuestos Participativos 50%"},8,"Inversiones ambientales sostenibles","Arbolado urbano y/o rural.",94,"AMBIENTE",19,"Plantación y mantenimiento de árboles, jardines y especies vegetales. ",45,"Número de árboles plantados","ARBOLADO",null,null,null,0,340,0,0,0,215040000,0,0,215040000,1,0,0,0,0,"Bajo","Bajo",{"$f":"AT34/SUMIF($F$2:$F$60,F34,$AT$2:$AT$60)","v":4.7170825335892515E-2},0,0,null,null,null,0,"2021_1",0,0,0,0,0,0,0,0,0,0,0,0,0,"",null,null,null,0,0,0,0,0,null,0,0,0,0,null,null,0,0,0,"",null,null,null,null,null,{"$f":"VLOOKUP(AG34,'Anexo ODS'!$G$3:$P$86,5,0)","v":4},{"$f":"VLOOKUP(AG34,'Anexo ODS'!$G$3:$P$86,6,0)","v":"El Planeta"},{"$f":"VLOOKUP(AG34,'Anexo ODS'!$G$3:$P$86,7,0)","v":15},{"$f":"VLOOKUP(AG34,'Anexo ODS'!$G$3:$P$86,8,0)","v":"Vida de ecosistemas terrestres"},{"$f":"VLOOKUP(AG34,'Anexo ODS'!$G$3:$P$86,9,0)","v":"15.1"},{"$f":"VLOOKUP(AG34,'Anexo ODS'!$G$3:$P$86,10,0)","v":"De aquí a 2020, asegurar la conservación, el restablecimiento y el uso sostenible de los ecosistemas terrestres y los ecosistemas interiores de agua dulce y sus servicios, en particular los bosques, los humedales, las montañas y las zonas áridas, en consonancia con las obligaciones contraídas en virtud de acuerdos internacionales"},null,null,null,null,null,null,null,null,340,"Anexo 2 (15%)"]
[34,1,"Usaquén",2,"Cambiar nuestros hábitos de vida para reverdecer a Bogotá y adaptarnos y mitigar el cambio climático.",33,"Más árboles y más y mejor espacio público ",null,null,null,null,34,"Intervenir 30 Parques vecinales y/o de bolsillo con acciones de mejoramiento, mantenimiento y/o dotación",1945,"Parques más verdes y activos","INTERVENCIÓN","Suma",1,"Intervenir",30,"Parques","vecinales y/o de bolsillo con acciones de mejoramiento, mantenimiento y/o dotación","Intervenir 30 Parques vecinales y/o de bolsillo con acciones de mejoramiento, mantenimiento y/o dotación",{"$f":"VLOOKUP(AG35,'Anexo PMR'!$B$4:$G$87,6,0)","v":"2_Presupuestos Participativos 50%"},6,"Infraestructura","Construcción, mantenimiento y dotación de parques vecinales y/o de bolsillo.",93,"CULTURA, RECREACIÓN Y DEPORTE",20,"Parques y escenarios deportivos.",47,"Número de Parques vecinales y/o de bolsillo intervenidos en mejoramiento, mantenimiento y/o dotación","PARQUES",null,null,null,7,7,8,8,721240000,743390000,766880000,791250000,3022760000,1,0,0,0,0,"Bajo","Bajo",0.66306772689882099,0,0,null,null,null,0,"2021_1",7,7,0,0,0,0,0,0,0,0,0,0,0,"",null,null,null,700514000,700514000,0,0,0,118400000,0,0,0,118400000,2786667,2786667,0,0,0,"Corte 31 marzo de 2021: Las contrataciones adjudicadas no contribuyen al avance directo de la meta.",null,null,null,null,null,{"$f":"VLOOKUP(AG35,'Anexo ODS'!$G$3:$P$86,5,0)","v":3},{"$f":"VLOOKUP(AG35,'Anexo ODS'!$G$3:$P$86,6,0)","v":"La Prosperidad"},{"$f":"VLOOKUP(AG35,'Anexo ODS'!$G$3:$P$86,7,0)","v":11},{"$f":"VLOOKUP(AG35,'Anexo ODS'!$G$3:$P$86,8,0)","v":"Ciudades y comunidades sostenibles"},{"$f":"VLOOKUP(AG35,'Anexo ODS'!$G$3:$P$86,9,0)","v":"11.7"},{"$f":"VLOOKUP(AG35,'Anexo ODS'!$G$3:$P$86,10,0)","v":"De aquí a 2030, proporcionar acceso universal a zonas verdes y espacios públicos seguros, inclusivos y accesibles, en particular para las mujeres y los niños, las personas de edad y las personas con discapacidad"},null,null,null,null,null,null,null,null,30,"Anexo 1 (85%)"]
[35,1,"Usaquén",2,"Cambiar nuestros hábitos de vida para reverdecer a Bogotá y adaptarnos y mitigar el cambio climático.",34,"Bogotá protectora de los animales",null,null,null,null,35,"Atender 4000 animales en urgencias, brigadas médicoveterinarias, acciones de esterilización, educación y adopción.",1933,"Protegemos la vida y el bienestar de nuestros animales","BIENESTAR ANIMAL","Suma",1,"Atender",4000,"Animales","en urgencias, brigadas médicoveterinarias, acciones de esterilización, educación y adopción.","Atender 4000 animales en urgencias, brigadas médicoveterinarias, acciones de esterilización, educación y adopción.",{"$f":"VLOOKUP(AG36,'Anexo PMR'!$B$4:$G$87,6,0)","v":"2_Presupuestos Participativos 50%"},8,"Inversiones ambientales sostenibles","Acuerdos con las redes locales de proteccionistas de animales para urgencias, brigadas médico veterinarias, acciones de esterilización, educación y adopción  ",94,"AMBIENTE",21,"Servicios de protección y bienestar animal.",48,"Número de animales atendidos","PROTECCIÓN ANIMAL",null,null,null,747,768,1075,1410,500000000,500000000,700000000,919060000,2619060000,1,0,0,0,0,"Bajo","Bajo",1,0,0,null,null,null,0,"2021_1",747,747,0,0,0,0,0,0,0,0,0,0,0,"",null,null,null,485631000,485631000,0,0,0,90000000,0,0,0,90000000,0,0,0,0,0,"Corte 31 marzo de 2021: Las contrataciones adjudicadas no contribuyen al avance directo de la meta.",null,null,null,null,null,{"$f":"VLOOKUP(AG36,'Anexo ODS'!$G$3:$P$86,5,0)","v":3},{"$f":"VLOOKUP(AG36,'Anexo ODS'!$G$3:$P$86,6,0)","v":"La Prosperidad"},{"$f":"VLOOKUP(AG36,'Anexo ODS'!$G$3:$P$86,7,0)","v":11},{"$f":"VLOOKUP(AG36,'Anexo ODS'!$G$3:$P$86,8,0)","v":"Ciudades y comunidades sostenibles"},{"$f":"VLOOKUP(AG36,'Anexo ODS'!$G$3:$P$86,9,0)","v":"11.3"},{"$f":"VLOOKUP(AG36,'Anexo ODS'!$G$3:$P$86,10,0)","v":"De aquí a 2030, aumentar la urbanización inclusiva y sostenible y la capacidad para la planificación y la gestión participativas, integradas y sostenibles de los asentamientos\nhumanos en todos los países"},null,null,null,null,null,null,null,null,4000,"Anexo 2 (15%)"]
[36,1,"Usaquén",2,"Cambiar nuestros hábitos de vida para reverdecer a Bogotá y adaptarnos y mitigar el cambio climático.",38,"Ecoeficiencia, reciclaje, manejo de residuos e inclusión de la población recicladora",null,null,null,null,36,"Capacitar 2500 personas en separación en la fuente y reciclaje.",1955,"Escuela de economía circular","HÁBITOS DE CONSUMO","Suma",1,"Capacitar",2500,"Personas","en separación en la fuente y reciclaje.","Capacitar 2500 personas en separación en la fuente y reciclaje.",{"$f":"VLOOKUP(AG37,'Anexo PMR'!$B$4:$G$87,6,0)","v":"2_Presupuestos Participativos 50%"},8,"Inversiones ambientales sostenibles","Cambios de hábitos de consumo, separación en la fuente y reciclaje.",96,"HÁBITAT",23,"Manejo integral de residuos sólidos. ",50,"Personas capacitadas en separación en la fuente y reciclaje","RECICLAJE",null,null,null,454,511,682,853,400000000,450000000,600000000,750610000,2200610000,1,0,0,0,0,"Bajo","Bajo",1,0,0,null,null,null,0,"2021_1",454,454,0,0,0,0,0,0,0,0,0,0,0,"",null,null,null,388505000,388505000,0,0,0,44000000,0,0,0,44000000,5316667,5316667,0,0,0,"Corte 31 marzo de 2021: Las contrataciones adjudicadas no contribuyen al avance directo de la meta.",null,null,null,null,null,{"$f":"VLOOKUP(AG37,'Anexo ODS'!$G$3:$P$86,5,0)","v":4},{"$f":"VLOOKUP(AG37,'Anexo ODS'!$G$3:$P$86,6,0)","v":"El Planeta"},{"$f":"VLOOKUP(AG37,'Anexo ODS'!$G$3:$P$86,7,0)","v":12},{"$f":"VLOOKUP(AG37,'Anexo ODS'!$G$3:$P$86,8,0)","v":"Producción y consumo responsables"},{"$f":"VLOOKUP(AG37,'Anexo ODS'!$G$3:$P$86,9,0)","v":"12.5"},{"$f":"VLOOKUP(AG37,'Anexo ODS'!$G$3:$P$86,10,0)","v":"De aquí a 2030, reducir considerablemente la generación de desechos mediante actividades de prevención, reducción, reciclado y reutilización"},null,null,null,null,null,null,null,null,2500,"Anexo 2 (15%)"]
[37,1,"Usaquén",3,"Inspirar confianza y legitimidad para vivir sin miedo y ser epicentro de cultura ciudadana, paz y reconciliación.",39,"Bogotá territorio de paz y atención integral a las víctimas del conflicto armado",null,null,null,null,37,"Vincular 150 personas a procesos de construcción de memoria, verdad, reparación integral a víctimas, paz y reconciliación.",1946,"Usaquén territorio de paz y reconciliación","ENERGÍAS ALTERNATIVAS","Suma",2,"Vincular",150,"Personas","a procesos de construcción de memoria, verdad, reparación integral a víctimas, paz y reconciliación.","Vincular 150 personas a procesos de construcción de memoria, verdad, reparación integral a víctimas, paz y reconciliación.",{"$f":"VLOOKUP(AG38,'Anexo PMR'!$B$4:$G$87,6,0)","v":"2_Presupuestos Participativos 50%"},7,"Desarrollo social y cultural","Construcción de memoria, verdad, reparación, víctimas, paz y reconciliación.",85,"GESTIÓN PÚBLICA",25,"Servicio de apoyo y fortalecimiento a los procesos de construcción de memoria, verdad, reparación integral a víctimas, paz y reconciliación.",52,"Personas vinculadas a procesos de construcción de memoria, verdad, reparación integral a víctimas, paz y reconciliación","PAZ, MEMORIA Y RECONCILIACIÓN",null,null,null,35,38,38,39,200000000,205000000,210000000,210000000,825000000,1,0,0,0,0,"Bajo","Bajo",1,0,0,null,null,null,0,"2021_1",35,35,0,0,0,0,0,0,0,0,0,0,0,"",null,null,null,194253000,194253000,0,0,0,null,0,0,0,0,null,null,0,0,0,"",null,null,null,null,null,{"$f":"VLOOKUP(AG38,'Anexo ODS'!$G$3:$P$86,5,0)","v":2},{"$f":"VLOOKUP(AG38,'Anexo ODS'!$G$3:$P$86,6,0)","v":"La Paz"},{"$f":"VLOOKUP(AG38,'Anexo ODS'!$G$3:$P$86,7,0)","v":16},{"$f":"VLOOKUP(AG38,'Anexo ODS'!$G$3:$P$86,8,0)","v":"Paz, justicia e instituciones sólidas"},{"$f":"VLOOKUP(AG38,'Anexo ODS'!$G$3:$P$86,9,0)","v":"16.3"},{"$f":"VLOOKUP(AG38,'Anexo ODS'!$G$3:$P$86,10,0)","v":"Promover el estado de derecho en los planos nacional e internacional y garantizar la igualdad en el acceso a la justicia para todos"},null,null,null,null,null,null,null,null,150,"Anexo 2 (15%)"]
[38,1,"Usaquén",3,"Inspirar confianza y legitimidad para vivir sin miedo y ser epicentro de cultura ciudadana, paz y reconciliación.",40,"Más mujeres viven una vida libre de violencias, se sienten seguras y acceden con confianza al sistema de justicia",null,null,null,null,38,"Capacitar 1530 personas para la construcción de ciudadanía y desarrollo de capacidades para el ejercicio de derechos de las mujeres",1991,"Usaquén territorio de mujeres sin miedo","DESARROLLO DE CAPACIDADES","Suma",1,"Capacitar",1530,"Personas","para la construcción de ciudadanía y desarrollo de capacidades para el ejercicio de derechos de las mujeres","Capacitar 1530 personas para la construcción de ciudadanía y desarrollo de capacidades para el ejercicio de derechos de las mujeres",{"$f":"VLOOKUP(AG39,'Anexo PMR'!$B$4:$G$87,6,0)","v":"2_Presupuestos Participativos 50%"},7,"Desarrollo social y cultural","Construcción de ciudadanía y desarrollo de capacidades para el ejercicio de derechos de las mujeres.",100,"MUJERES",26,"Servicios de promoción y capacitación para la construcción de ciudadanía y desarrollo de capacidades para el ejercicio de derechos de las mujeres.",53,"Personas capacitadas para la construcción de ciudadanía y desarrollo de capacidades para el ejercicio de derechos de las mujeres.","DERECHOS DE LA MUJER",null,null,null,305,343,404,478,250000000,280000000,330000000,390460000,1250460000,1,0,0,0,0,"Bajo","Bajo",0.32151948205552783,0,0,null,null,null,0,"2021_1",305,305,0,0,0,0,0,0,0,0,0,0,0,"",null,null,null,242816000,242816000,0,0,0,26166000,0,0,0,26166000,0,0,0,0,0,"Corte 31 marzo 2021: La contratación reportada no contribuye al avance de la magnitud de la meta.",null,null,null,null,null,{"$f":"VLOOKUP(AG39,'Anexo ODS'!$G$3:$P$86,5,0)","v":1},{"$f":"VLOOKUP(AG39,'Anexo ODS'!$G$3:$P$86,6,0)","v":"Las Personas"},{"$f":"VLOOKUP(AG39,'Anexo ODS'!$G$3:$P$86,7,0)","v":5},{"$f":"VLOOKUP(AG39,'Anexo ODS'!$G$3:$P$86,8,0)","v":"Igualdad de género"},{"$f":"VLOOKUP(AG39,'Anexo ODS'!$G$3:$P$86,9,0)","v":"5.c"},{"$f":"VLOOKUP(AG39,'Anexo ODS'!$G$3:$P$86,10,0)","v":"Aprobar y fortalecer políticas acertadas y leyes aplicables para promover la igualdad de género y el empoderamiento de todas las mujeres y las niñas a todos los niveles"},null,null,null,null,null,null,null,null,1530,"Anexo 2 (15%)"]
[39,1,"Usaquén",3,"Inspirar confianza y legitimidad para vivir sin miedo y ser epicentro de cultura ciudadana, paz y reconciliación.",40,"Más mujeres viven una vida libre de violencias, se sienten seguras y acceden con confianza al sistema de justicia",null,null,null,null,39,"Vincular 2500 personas en acciones para la prevención del feminicidio y la violencia contra la  mujer.",1991,"Usaquén territorio de mujeres sin miedo","PREVENCIÓN","Suma",1,"Vincular",2500,"Personas","en acciones para la prevención del feminicidio y la violencia contra la  mujer.","Vincular 2500 personas en acciones para la prevención del feminicidio y la violencia contra la  mujer.",{"$f":"VLOOKUP(AG40,'Anexo PMR'!$B$4:$G$87,6,0)","v":"2_Presupuestos Participativos 50%"},7,"Desarrollo social y cultural","Prevención del feminicidio y la violencia contra la mujer.",100,"MUJERES",27,"Prevención, atención y gestión del conflicto en la localidad.",54,"Número de Personas vinculadas en acciones para la prevención del feminicidio y la violencia contra la mujer","PREVENCIÓN DE LA VIOLENCIA",null,null,null,473,569,664,794,500000000,600000000,700000000,838760000,2638760000,1,0,0,0,0,"Bajo","Bajo",0.67848051794447217,0,0,null,null,null,0,"2021_1",473,473,0,0,0,0,0,0,0,0,0,0,0,"",null,null,null,485631000,485631000,0,0,0,46400000,0,0,0,46400000,0,0,0,0,0,"Corte 31 marzo 2021: La contratación reportada no contribuye al avance de la magnitud de la meta.",null,null,null,null,null,{"$f":"VLOOKUP(AG40,'Anexo ODS'!$G$3:$P$86,5,0)","v":1},{"$f":"VLOOKUP(AG40,'Anexo ODS'!$G$3:$P$86,6,0)","v":"Las Personas"},{"$f":"VLOOKUP(AG40,'Anexo ODS'!$G$3:$P$86,7,0)","v":5},{"$f":"VLOOKUP(AG40,'Anexo ODS'!$G$3:$P$86,8,0)","v":"Igualdad de género"},{"$f":"VLOOKUP(AG40,'Anexo ODS'!$G$3:$P$86,9,0)","v":"5.2"},{"$f":"VLOOKUP(AG40,'Anexo ODS'!$G$3:$P$86,10,0)","v":"Eliminar todas las formas de violencia contra todas las mujeres y las niñas en los ámbitos público y privado, incluidas la trata y la explotación sexual y otros tipos de explotación"},null,null,null,null,null,null,null,null,2500,"Anexo 2 (15%)"]
[40,1,"Usaquén",3,"Inspirar confianza y legitimidad para vivir sin miedo y ser epicentro de cultura ciudadana, paz y reconciliación.",43,"Cultura ciudadana para la confianza, la convivencia y la participación desde la vida cotidiana",null,null,null,null,40,"Implementar 4 estrategias de atención de movilizaciones y aglomeraciones en el territorio a través de equipos de gestores de convivencia bajo el direccionamiento estratégico de la Secretaria de Seguridad, Convivencia y Justicia.",1948,"Usaquén segura, responsabilidad de todos","GESTORES DE CONVIVENCIA","Suma",2,"Vincular",4,"Estrategias","de atención de movilizaciones y aglomeraciones en el territorio a través de equipos de gestores de convivencia bajo el direccionamiento estratégico de la Secretaria de Seguridad, Convivencia y Justicia.","Implementar 4 estrategias de atención de movilizaciones y aglomeraciones en el territorio a través de equipos de gestores de convivencia bajo el direccionamiento estratégico de la Secretaria de Seguridad, Convivencia y Justicia.",{"$f":"VLOOKUP(AG41,'Anexo PMR'!$B$4:$G$87,6,0)","v":"2_Presupuestos Participativos 50%"},7,"Desarrollo social y cultural","Promoción de la convivencia ciudadana.",102,"SEGURIDAD, CONVIVENCIA Y JUSTICIA",27,"Prevención, atención y gestión del conflicto en la localidad.",55,"Estrategia de atención de movilizaciones y aglomeraciones en el territorio implementada a traves de equipos de gestores de convivencia bajo el direccionamiento estrategico de la Secretaria de Seguridad, Convivencia y Justicia","ACCIONES DE CONVIVENCIA",null,null,null,1,1,1,1,477310000,491970000,507520000,523650000,2000450000,1,1,0.25,1,0.25,"Bajo","Bajo",1,0.25,0.25,null,null,null,0,"2021_1",1,1,0,0,0,1,0,0,0,1,0,0,0,"Incompleto",null,null,null,463593000,463593000,0,0,0,282000000,0,0,0,282000000,0,0,0,0,0,"",null,null,null,null,null,{"$f":"VLOOKUP(AG41,'Anexo ODS'!$G$3:$P$86,5,0)","v":2},{"$f":"VLOOKUP(AG41,'Anexo ODS'!$G$3:$P$86,6,0)","v":"La Paz"},{"$f":"VLOOKUP(AG41,'Anexo ODS'!$G$3:$P$86,7,0)","v":16},{"$f":"VLOOKUP(AG41,'Anexo ODS'!$G$3:$P$86,8,0)","v":"Paz, justicia e instituciones sólidas"},{"$f":"VLOOKUP(AG41,'Anexo ODS'!$G$3:$P$86,9,0)","v":"16.1"},{"$f":"VLOOKUP(AG41,'Anexo ODS'!$G$3:$P$86,10,0)","v":"Reducir significativamente todas las formas de violencia y las correspondientes tasas de mortalidad en todo el mundo"},null,null,null,null,null,null,null,null,4,"Anexo 2 (15%)"]
[41,1,"Usaquén",3,"Inspirar confianza y legitimidad para vivir sin miedo y ser epicentro de cultura ciudadana, paz y reconciliación.",45,"Espacio público más seguro y construido colectivamente",null,null,null,null,41,"Realizar 4 acuerdos para la vinculación de la ciudadanía en los programas adelantados por el IDRD y acuerdos con vendedores informales o estacionarios",1959,"Usaquén con espacio público inclusivo","ACUERDOS CIUDADANOS","Suma",1,"Realizar",4,"Acuerdos","para la vinculación de la ciudadanía en los programas adelantados por el IDRD y acuerdos con vendedores informales o estacionarios","Realizar 4 acuerdos para la vinculación de la ciudadanía en los programas adelantados por el IDRD y acuerdos con vendedores informales o estacionarios",{"$f":"VLOOKUP(AG42,'Anexo PMR'!$B$4:$G$87,6,0)","v":"2_Presupuestos Participativos 50%"},7,"Desarrollo social y cultural","Acuerdos para mejorar el uso de medios de transporte no motorizados.",98,"GOBIERNO",28,"Acuerdos ciudadanos suscritos.",60,"Acuerdos realizados para la vinculación de la ciudadanía en los programas adelantados por el IDRD y acuerdos con vendedores informales o estacionarios ","\nACUERDOS DE ESPACIO PÚBLICO",null,null,null,0,1,1,2,0,200000000,200000000,407380000,807380000,1,0,0,0,0,"Bajo","Bajo",0.29559525073497916,0,0,null,null,null,0,"2021_1",0,0,0,0,0,0,0,0,0,0,0,0,0,"",null,null,null,0,0,0,0,0,null,0,0,0,0,null,null,0,0,0,"",null,null,null,null,null,{"$f":"VLOOKUP(AG42,'Anexo ODS'!$G$3:$P$86,5,0)","v":2},{"$f":"VLOOKUP(AG42,'Anexo ODS'!$G$3:$P$86,6,0)","v":"La Paz"},{"$f":"VLOOKUP(AG42,'Anexo ODS'!$G$3:$P$86,7,0)","v":16},{"$f":"VLOOKUP(AG42,'Anexo ODS'!$G$3:$P$86,8,0)","v":"Paz, justicia e instituciones sólidas"},{"$f":"VLOOKUP(AG42,'Anexo ODS'!$G$3:$P$86,9,0)","v":"16.1"},{"$f":"VLOOKUP(AG42,'Anexo ODS'!$G$3:$P$86,10,0)","v":"Reducir significativamente todas las formas de violencia y las correspondientes tasas de mortalidad en todo el mundo"},null,null,null,null,null,null,null,null,4,"Anexo 2 (15%)"]
[42,1,"Usaquén",3,"Inspirar confianza y legitimidad para vivir sin miedo y ser epicentro de cultura ciudadana, paz y reconciliación.",45,"Espacio público más seguro y construido colectivamente",null,null,null,null,42,"Realizar 4 acuerdos para el uso del EP con fines culturales, deportivos, recreacionales o de mercados temporales.",1959,"Usaquén con espacio público inclusivo","ACUERDOS CIUDADANOS","Suma",3,"Realizar",4,"Acuerdos","para el uso del EP con fines culturales, deportivos, recreacionales o de mercados temporales.","Realizar 4 acuerdos para el uso del EP con fines culturales, deportivos, recreacionales o de mercados temporales.",{"$f":"VLOOKUP(AG43,'Anexo PMR'!$B$4:$G$87,6,0)","v":"2_Presupuestos Participativos 50%"},7,"Desarrollo social y cultural","Acuerdos para el uso, acceso y aprovechamiento del espacio público.",98,"GOBIERNO",28,"Acuerdos ciudadanos suscritos.",58,"Acuerdos realizados para el uso del EP con fines culturales, deportivos, recreacionales o de mercados temporales.","\nACUERDOS DE ESPACIO PÚBLICO",null,null,null,1,1,1,1,200000000,200000000,200000000,224000000,824000000,1,0,0,0,0,"Bajo","Bajo",0.30168010924920463,0,0,null,null,null,0,"2021_1",1,1,0,0,0,0,0,0,0,0,0,0,0,"",null,null,null,194253000,194253000,0,0,0,28000000,0,0,0,28000000,0,0,0,0,0,"Corte 31 marzo de 2021: Las contrataciones adjudicadas no contribuyen al avance directo de la meta.",null,null,null,null,null,{"$f":"VLOOKUP(AG43,'Anexo ODS'!$G$3:$P$86,5,0)","v":2},{"$f":"VLOOKUP(AG43,'Anexo ODS'!$G$3:$P$86,6,0)","v":"La Paz"},{"$f":"VLOOKUP(AG43,'Anexo ODS'!$G$3:$P$86,7,0)","v":16},{"$f":"VLOOKUP(AG43,'Anexo ODS'!$G$3:$P$86,8,0)","v":"Paz, justicia e instituciones sólidas"},{"$f":"VLOOKUP(AG43,'Anexo ODS'!$G$3:$P$86,9,0)","v":"16.1"},{"$f":"VLOOKUP(AG43,'Anexo ODS'!$G$3:$P$86,10,0)","v":"Reducir significativamente todas las formas de violencia y las correspondientes tasas de mortalidad en todo el mundo"},null,null,null,null,null,null,null,null,4,"Anexo 2 (15%)"]
[43,1,"Usaquén",3,"Inspirar confianza y legitimidad para vivir sin miedo y ser epicentro de cultura ciudadana, paz y reconciliación.",45,"Espacio público más seguro y construido colectivamente",null,null,null,null,43,"Realizar 1 acuerdo para promover la formalización de vendedores informales a círculos económicos productivos de la ciudad que incluya formación para el trabajo.",1959,"Usaquén con espacio público inclusivo","ACUERDOS CIUDADANOS","Suma",4,"Realizar",1,"Acuerdos","para promover la formalización de vendedores informales a círculos económicos productivos de la ciudad que incluya formación para el trabajo.","Realizar 1 acuerdo para promover la formalización de vendedores informales a círculos económicos productivos de la ciudad que incluya formación para el trabajo.",{"$f":"VLOOKUP(AG44,'Anexo PMR'!$B$4:$G$87,6,0)","v":"2_Presupuestos Participativos 50%"},7,"Desarrollo social y cultural","Acuerdos para fortalecer la formalidad.",98,"GOBIERNO",28,"Acuerdos ciudadanos suscritos.",59,"Acuerdos realizados para la promover la formalización de vendedores informales a circulos económicos productivos de la ciudad","\nACUERDOS DE ESPACIO PÚBLICO",null,null,null,0.25,0.25,0.25,0.25,262460000,270520000,279070000,287940000,1099990000,1,0,0,0,0,"Bajo","Bajo",0.40272464001581626,0,0,null,null,null,0,"2021_1",0.25,0.25,0,0,0,0,0,0,0,0,0,0,0,"",null,null,null,254918000,254918000,0,0,0,80400000,0,0,0,80400000,0,0,0,0,0,"Corte 31 marzo de 2021: Las contrataciones adjudicadas no contribuyen al avance directo de la meta.",null,null,null,null,null,{"$f":"VLOOKUP(AG44,'Anexo ODS'!$G$3:$P$86,5,0)","v":2},{"$f":"VLOOKUP(AG44,'Anexo ODS'!$G$3:$P$86,6,0)","v":"La Paz"},{"$f":"VLOOKUP(AG44,'Anexo ODS'!$G$3:$P$86,7,0)","v":16},{"$f":"VLOOKUP(AG44,'Anexo ODS'!$G$3:$P$86,8,0)","v":"Paz, justicia e instituciones sólidas"},{"$f":"VLOOKUP(AG44,'Anexo ODS'!$G$3:$P$86,9,0)","v":"16.1"},{"$f":"VLOOKUP(AG44,'Anexo ODS'!$G$3:$P$86,10,0)","v":"Reducir significativamente todas las formas de violencia y las correspondientes tasas de mortalidad en todo el mundo"},null,null,null,null,null,null,null,null,1,"Anexo 1 (85%)"]
[44,1,"Usaquén",3,"Inspirar confianza y legitimidad para vivir sin miedo y ser epicentro de cultura ciudadana, paz y reconciliación.",48,"Plataforma institucional para la seguridad y justicia",null,null,null,null,44,"Implementar 2 estrategias locales de acciones pedagógicas del Código Nacional de Seguridad y Convivencia Ciudadana en la localidad.",1951,"Usaquén con acceso a la justicia","ACCIONES PEDAGÓGICAS","Suma",1,"Implementar",2,"Estrategias","locales de acciones pedagógicas del Código Nacional de Seguridad y Convivencia Ciudadana en la localidad.","Implementar 2 estrategias locales de acciones pedagógicas del Código Nacional de Seguridad y Convivencia Ciudadana en la localidad.",{"$f":"VLOOKUP(AG45,'Anexo PMR'!$B$4:$G$87,6,0)","v":"2_Presupuestos Participativos 50%"},7,"Desarrollo social y cultural","Acceso a la Justicia.",102,"SEGURIDAD, CONVIVENCIA Y JUSTICIA",27,"Prevención, atención y gestión del conflicto en la localidad.",64,"Estrategia local de acciones pedagógicas del Código Nacional de Seguridad y Convivencia Ciudadana implementada en la localidad.","ACCESO A LA JUSTICIA",null,null,null,0,1,1,0,0,200000000,265230000,0,465230000,1,0,0,0,0,"Bajo","Bajo",0.13099646062053177,0,0,null,null,null,0,"2021_1",0,0,0,0,0,0,0,0,0,0,0,0,0,"",null,null,null,0,0,0,0,0,null,0,0,0,0,null,null,0,0,0,"",null,null,null,null,null,{"$f":"VLOOKUP(AG45,'Anexo ODS'!$G$3:$P$86,5,0)","v":2},{"$f":"VLOOKUP(AG45,'Anexo ODS'!$G$3:$P$86,6,0)","v":"La Paz"},{"$f":"VLOOKUP(AG45,'Anexo ODS'!$G$3:$P$86,7,0)","v":16},{"$f":"VLOOKUP(AG45,'Anexo ODS'!$G$3:$P$86,8,0)","v":"Paz, justicia e instituciones sólidas"},{"$f":"VLOOKUP(AG45,'Anexo ODS'!$G$3:$P$86,9,0)","v":"16.3"},{"$f":"VLOOKUP(AG45,'Anexo ODS'!$G$3:$P$86,10,0)","v":"Promover el estado de derecho en los planos nacional e internacional y garantizar la igualdad de acceso a la justicia para todos"},null,null,null,null,null,null,null,null,2,"Anexo 1 (85%)"]
[45,1,"Usaquén",3,"Inspirar confianza y legitimidad para vivir sin miedo y ser epicentro de cultura ciudadana, paz y reconciliación.",48,"Plataforma institucional para la seguridad y justicia",null,null,null,null,45,"Atender 150 personas en estrategias de acceso a la justicia integral en la ciudad.",1951,"Usaquén con acceso a la justicia","JUECES DE PAZ","Suma",2,"Atender",150,"Personas"," en estrategias de acceso a la justicia integral en la ciudad.","Atender 150 personas en estrategias de acceso a la justicia integral en la ciudad.",{"$f":"VLOOKUP(AG46,'Anexo PMR'!$B$4:$G$87,6,0)","v":"2_Presupuestos Participativos 50%"},7,"Desarrollo social y cultural","Acceso a la Justicia.",102,"SEGURIDAD, CONVIVENCIA Y JUSTICIA",29,"Bienes y  servicios de apoyo para el fortalecimiento de la justicia comunitaria y la justicia integral en la ciudad.",62,"Personas atendidas en estrategias de acceso a la justicia integral en la ciudad.","ACCESO A LA JUSTICIA",null,null,null,0,75,75,0,0,200000000,265230000,0,465230000,1,0,0,0,0,"Bajo","Bajo",0.13099646062053177,0,0,null,null,null,0,"2021_1",0,0,0,0,0,0,0,0,0,0,0,0,0,"",null,null,null,0,0,0,0,0,null,0,0,0,0,null,null,0,0,0,"",null,null,null,null,null,{"$f":"VLOOKUP(AG46,'Anexo ODS'!$G$3:$P$86,5,0)","v":2},{"$f":"VLOOKUP(AG46,'Anexo ODS'!$G$3:$P$86,6,0)","v":"La Paz"},{"$f":"VLOOKUP(AG46,'Anexo ODS'!$G$3:$P$86,7,0)","v":16},{"$f":"VLOOKUP(AG46,'Anexo ODS'!$G$3:$P$86,8,0)","v":"Paz, justicia e instituciones sólidas"},{"$f":"VLOOKUP(AG46,'Anexo ODS'!$G$3:$P$86,9,0)","v":"16.3"},{"$f":"VLOOKUP(AG46,'Anexo ODS'!$G$3:$P$86,10,0)","v":"Promover el estado de derecho en los planos nacional e internacional y garantizar la igualdad de acceso a la justicia para todos"},null,null,null,null,null,null,null,null,150,"Anexo 1 (85%)"]
[46,1,"Usaquén",3,"Inspirar confianza y legitimidad para vivir sin miedo y ser epicentro de cultura ciudadana, paz y reconciliación.",48,"Plataforma institucional para la seguridad y justicia",null,null,null,null,46,"Suministrar 1  dotación logística a organismos de seguridad",1956,"Usaquén fortalecida y segura","DOTACIÓN","Suma",1,"Suministrar",1,"Dotaciones","logística a organismos de seguridad","Suministrar 1  dotación logística a organismos de seguridad",{"$f":"VLOOKUP(AG47,'Anexo PMR'!$B$4:$G$87,6,0)","v":"2_Presupuestos Participativos 50%"},7,"Desarrollo social y cultural","Dotación para instancias de seguridad.",102,"SEGURIDAD, CONVIVENCIA Y JUSTICIA",30,"Infraestructura y dotaciones para seguridad.",66,"Dotaciones logísticas suministradas a organismos de seguridad.","DOTACIÓN EN SEGURIDAD",null,null,null,0,1,0,0,0,516990000,0,0,516990000,1,0,0,0,0,"Bajo","Bajo",0.14557070734090391,0,0,null,null,null,0,"2021_1",0,0,0,0,0,0,0,0,0,0,0,0,0,"",null,null,null,0,0,0,0,0,null,0,0,0,0,null,null,0,0,0,"",null,null,null,null,null,{"$f":"VLOOKUP(AG47,'Anexo ODS'!$G$3:$P$86,5,0)","v":2},{"$f":"VLOOKUP(AG47,'Anexo ODS'!$G$3:$P$86,6,0)","v":"La Paz"},{"$f":"VLOOKUP(AG47,'Anexo ODS'!$G$3:$P$86,7,0)","v":16},{"$f":"VLOOKUP(AG47,'Anexo ODS'!$G$3:$P$86,8,0)","v":"Paz, justicia e instituciones sólidas"},{"$f":"VLOOKUP(AG47,'Anexo ODS'!$G$3:$P$86,9,0)","v":"16.a"},{"$f":"VLOOKUP(AG47,'Anexo ODS'!$G$3:$P$86,10,0)","v":"Fortalecer las instituciones nacionales pertinentes, incluso mediante la cooperación internacional, para crear a todos los niveles, particularmente en los países en desarrollo, la capacidad de prevenir la violencia y combatir el terrorismo y la delincuencia"},null,null,null,null,null,null,null,null,1,"Anexo 1 (85%)"]
[47,1,"Usaquén",3,"Inspirar confianza y legitimidad para vivir sin miedo y ser epicentro de cultura ciudadana, paz y reconciliación.",48,"Plataforma institucional para la seguridad y justicia",null,null,null,null,47,"Suministrar 2 dotaciones tecnológicas a organismos de seguridad.",1956,"Usaquén fortalecida y segura","DOTACIÓN","Suma",2,"Suministrar",2,"Dotaciones","tecnológicas a organismos de seguridad.","Suministrar 2 dotaciones tecnológicas a organismos de seguridad.",{"$f":"VLOOKUP(AG48,'Anexo PMR'!$B$4:$G$87,6,0)","v":"2_Presupuestos Participativos 50%"},7,"Desarrollo social y cultural","Dotación para instancias de seguridad.",102,"SEGURIDAD, CONVIVENCIA Y JUSTICIA",30,"Infraestructura y dotaciones para seguridad.",65,"Dotaciones tecnológicas suministradas a organismos de seguridad.","DOTACIÓN EN SEGURIDAD",null,null,null,1,0,1,0,1700000000,0,404020000,0,2104020000,1,0,0,0,0,"Bajo","Bajo",0.59243637141803251,0,0,null,null,null,0,"2021_1",1,1,0,0,0,0,0,0,0,0,0,0,0,"",null,null,null,1651147000,1651147000,0,0,0,355300000,0,0,0,355300000,9873334,9873334,0,0,0,"Corte 31 marzo de 2021: Las contrataciones adjudicadas no contribuyen al avance directo de la meta.",null,null,null,null,null,{"$f":"VLOOKUP(AG48,'Anexo ODS'!$G$3:$P$86,5,0)","v":2},{"$f":"VLOOKUP(AG48,'Anexo ODS'!$G$3:$P$86,6,0)","v":"La Paz"},{"$f":"VLOOKUP(AG48,'Anexo ODS'!$G$3:$P$86,7,0)","v":16},{"$f":"VLOOKUP(AG48,'Anexo ODS'!$G$3:$P$86,8,0)","v":"Paz, justicia e instituciones sólidas"},{"$f":"VLOOKUP(AG48,'Anexo ODS'!$G$3:$P$86,9,0)","v":"16.a"},{"$f":"VLOOKUP(AG48,'Anexo ODS'!$G$3:$P$86,10,0)","v":"Fortalecer las instituciones nacionales pertinentes, incluso mediante la cooperación internacional, para crear a todos los niveles, particularmente en los países en desarrollo, la capacidad de prevenir la violencia y combatir el terrorismo y la delincuencia"},null,null,null,null,null,null,null,null,2,"Anexo 1 (85%)"]
[48,1,"Usaquén",4,"Hacer de Bogotá-región un modelo de movilidad, creatividad y productividad incluyente y sostenible",49,"Movilidad segura, sostenible y accesible",null,null,null,null,48,"Intervenir 1700 metros cuadrados de elementos del sistema de espacio público peatonal con acciones de construcción y/o conservación.",1954,"Movilidad sostenible local","CONSTRUCCIÓN Y CONSERVACIÓN ","Suma",2,"Intervenir",1700,"Metros cuadrados","de elementos del sistema de espacio público peatonal con acciones de construcción y/o conservación.","Intervenir 1700 metros cuadrados de elementos del sistema de espacio público peatonal con acciones de construcción y/o conservación.",{"$f":"VLOOKUP(AG49,'Anexo PMR'!$B$4:$G$87,6,0)","v":"2_Presupuestos Participativos 50%"},6,"Infraestructura","Construcción y/o conservación de elementos del sistema de espacio público peatonal.",95,"MOVILIDAD",31," Espacio público.",69,"Metros cuadrados construidos y/o conservados de elementos del sistema de espacio público peatonal.","ESPACIO PÚBLICO",null,null,null,0,0,750,950,0,0,818460000,1200000000,2018460000,1,0,0,0,0,"Bajo","Bajo",0.15390785780568872,0,0,null,null,null,0,"2021_1",0,0,0,0,0,0,0,0,0,0,0,0,0,"",null,null,null,0,0,0,0,0,null,0,0,0,0,null,null,0,0,0,"",null,null,null,null,null,{"$f":"VLOOKUP(AG49,'Anexo ODS'!$G$3:$P$86,5,0)","v":3},{"$f":"VLOOKUP(AG49,'Anexo ODS'!$G$3:$P$86,6,0)","v":"La Prosperidad"},{"$f":"VLOOKUP(AG49,'Anexo ODS'!$G$3:$P$86,7,0)","v":11},{"$f":"VLOOKUP(AG49,'Anexo ODS'!$G$3:$P$86,8,0)","v":"Ciudades y comunidades sostenibles"},{"$f":"VLOOKUP(AG49,'Anexo ODS'!$G$3:$P$86,9,0)","v":"11.7"},{"$f":"VLOOKUP(AG49,'Anexo ODS'!$G$3:$P$86,10,0)","v":" De aquí a 2030, proporcionar acceso universal a zonas verdes y espacios públicos seguros, inclusivos y accesibles, en particular para las mujeres y los niños, las personas de edad y las personas con discapacidad"},null,null,null,null,null,null,null,null,1700,"Anexo 1 (85%)"]
[49,1,"Usaquén",4,"Hacer de Bogotá-región un modelo de movilidad, creatividad y productividad incluyente y sostenible",49,"Movilidad segura, sostenible y accesible",null,null,null,null,49,"Intervenir 500 metros cuadrados de Puentes vehiculares y/o peatonales de escala local sobre cuerpos de agua con acciones de construcción y/o conservación.",1954,"Movilidad sostenible local","INTERVENCIÓN PUENTES","Suma",3,"Intervenir",500,"Metros cuadrados","de Puentes vehiculares y/o peatonales de escala local sobre cuerpos de agua con acciones de construcción y/o conservación.","Intervenir 500 metros cuadrados de Puentes vehiculares y/o peatonales de escala local sobre cuerpos de agua con acciones de construcción y/o conservación.",{"$f":"VLOOKUP(AG50,'Anexo PMR'!$B$4:$G$87,6,0)","v":"2_Presupuestos Participativos 50%"},6,"Infraestructura","Construcción y/o conservación de puentes peatonales y/o vehiculares sobre cuerpos de agua (de escala local: urbana y/o rural).",95,"MOVILIDAD",31," Espacio público.",70,"Metros cuadrados de Puentes vehiculares y/o peatonales de escala local sobre cuerpos de agua construidos y/o intervenidos","PUENTES",null,null,null,0,0,250,250,0,0,600000000,694750000,1294750000,1,0,0,0,0,"Bajo","Bajo",9.8724868906946622E-2,0,0,null,null,null,0,"2021_1",0,0,0,0,0,0,0,0,0,0,0,0,0,"",null,null,null,0,0,0,0,0,null,0,0,0,0,null,null,0,0,0,"",null,null,null,null,null,{"$f":"VLOOKUP(AG50,'Anexo ODS'!$G$3:$P$86,5,0)","v":3},{"$f":"VLOOKUP(AG50,'Anexo ODS'!$G$3:$P$86,6,0)","v":"La Prosperidad"},{"$f":"VLOOKUP(AG50,'Anexo ODS'!$G$3:$P$86,7,0)","v":9},{"$f":"VLOOKUP(AG50,'Anexo ODS'!$G$3:$P$86,8,0)","v":"Industria, innovación e infraestructura"},{"$f":"VLOOKUP(AG50,'Anexo ODS'!$G$3:$P$86,9,0)","v":"9.1"},{"$f":"VLOOKUP(AG50,'Anexo ODS'!$G$3:$P$86,10,0)","v":"Desarrollar infraestructuras fiables, sostenibles, resilientes y de calidad, incluidas infraestructuras regionales y transfronterizas, para apoyar el desarrollo económico y el bienestar humano, haciendo especial hincapié en el acceso asequible y equitativo para todos"},null,null,null,null,null,null,null,null,500,"Anexo 1 (85%)"]
[50,1,"Usaquén",4,"Hacer de Bogotá-región un modelo de movilidad, creatividad y productividad incluyente y sostenible",49,"Movilidad segura, sostenible y accesible",null,null,null,null,50,"Intervenir 2 Kilómetros-carril de malla vial urbana (local y/o intermedia) con acciones de construcción y/o conservación.",1954,"Movilidad sostenible local","INTERVENCIÓN MALLA VIAL LOCAL","Suma",4,"Intervenir",2,"Kilómetros-carril","de malla vial urbana (local y/o intermedia) con acciones de construcción y/o conservación.","Intervenir 2 Kilómetros-carril de malla vial urbana (local y/o intermedia) con acciones de construcción y/o conservación.",{"$f":"VLOOKUP(AG51,'Anexo PMR'!$B$4:$G$87,6,0)","v":"2_Presupuestos Participativos 50%"},6,"Infraestructura","Diseño, construcción y conservación (mantenimiento y rehabilitación) de la malla vial local e intermedia urbana o rural.",95,"MOVILIDAD",32,"Vías locales.",71,"Kilómetros-carril construidos y/o conservados de malla vial urbana (local y/o intermedia)","MALLA VIAL",null,null,null,0.7,0.8,0.5,0,3000000000,3000000000,2147370000,0,8147370000,1,0,0,0,0,"Bajo","Bajo",0.62123810402501611,0,0,null,null,null,0,"2021_1",0.7,0.7,0,0,0,0,0,0,0,0,0,0,0,"",null,null,null,2913788000,2913788000,0,0,0,152700000,0,0,0,152700000,5750000,5750000,0,0,0,"Corte 31 marzo de 2021: Las contrataciones adjudicadas no contribuyen al avance directo de la meta.",null,null,null,null,null,{"$f":"VLOOKUP(AG51,'Anexo ODS'!$G$3:$P$86,5,0)","v":3},{"$f":"VLOOKUP(AG51,'Anexo ODS'!$G$3:$P$86,6,0)","v":"La Prosperidad"},{"$f":"VLOOKUP(AG51,'Anexo ODS'!$G$3:$P$86,7,0)","v":9},{"$f":"VLOOKUP(AG51,'Anexo ODS'!$G$3:$P$86,8,0)","v":"Industria, innovación e infraestructura"},{"$f":"VLOOKUP(AG51,'Anexo ODS'!$G$3:$P$86,9,0)","v":"9.1"},{"$f":"VLOOKUP(AG51,'Anexo ODS'!$G$3:$P$86,10,0)","v":"Desarrollar infraestructuras fiables, sostenibles, resilientes y de calidad, incluidas infraestructuras regionales y transfronterizas, para apoyar el desarrollo económico y el bienestar humano, haciendo especial hincapié en el acceso asequible y equitativo para todos"},null,null,null,null,null,null,null,null,2,"Anexo 1 (85%)"]
[51,1,"Usaquén",4,"Hacer de Bogotá-región un modelo de movilidad, creatividad y productividad incluyente y sostenible",49,"Movilidad segura, sostenible y accesible",null,null,null,null,51,"Intervenir 800 metros lineales de Ciclo-infraestructura con acciones de construcción y/o conservación.",1954,"Movilidad sostenible local","CICLO INFRAESTRUCTURA","Suma",5,"Intervenir",800,"Metros","lineales de Ciclo-infraestructura con acciones de construcción y/o conservación.","Intervenir 800 metros lineales de Ciclo-infraestructura con acciones de construcción y/o conservación.",{"$f":"VLOOKUP(AG52,'Anexo PMR'!$B$4:$G$87,6,0)","v":"2_Presupuestos Participativos 50%"},6,"Infraestructura","Diseño, construcción y conservación de ciclo-infraestructura.",95,"MOVILIDAD",33,"Ciclo infraestructura construida y/o conservada.",73,"Metros lineales construidos y/o conservados de Ciclo-infraestructura","CICLO-INFRAESTRUCTURA",null,null,null,200,200,200,200,394680000,406810000,419660000,433000000,1654150000,1,0,0,0,0,"Bajo","Bajo",0.12612916926234852,0,0,null,null,null,0,"2021_1",200,200,0,0,0,0,0,0,0,0,0,0,0,"",null,null,null,383338000,383338000,0,0,0,35319280,0,0,0,35319280,2207455,2207455,0,0,0,"Corte 31 marzo de 2021: Las contrataciones adjudicadas no contribuyen al avance directo de la meta.",null,null,null,null,null,{"$f":"VLOOKUP(AG52,'Anexo ODS'!$G$3:$P$86,5,0)","v":3},{"$f":"VLOOKUP(AG52,'Anexo ODS'!$G$3:$P$86,6,0)","v":"La Prosperidad"},{"$f":"VLOOKUP(AG52,'Anexo ODS'!$G$3:$P$86,7,0)","v":11},{"$f":"VLOOKUP(AG52,'Anexo ODS'!$G$3:$P$86,8,0)","v":"Ciudades y comunidades sostenibles"},{"$f":"VLOOKUP(AG52,'Anexo ODS'!$G$3:$P$86,9,0)","v":"11.2"},{"$f":"VLOOKUP(AG52,'Anexo ODS'!$G$3:$P$86,10,0)","v":" De aquí a 2030, proporcionar acceso a sistemas de transporte seguros, asequibles, accesibles y sostenibles para todos y mejorar la seguridad vial, en particular mediante la ampliación del transporte público, prestando especial atención a las necesidades de las personas en situación de vulnerabilidad, las mujeres, los niños, las personas con discapacidad y las personas de edad"},null,null,null,null,null,null,null,null,800,"Anexo 1 (85%)"]
[52,1,"Usaquén",5,"Construir Bogotá-región con gobierno abierto, transparente y ciudadanía consciente.",55,"Fortalecimiento de Cultura Ciudadana y su institucionalidad",null,null,null,null,52,"Capacitar 734 personas a través de procesos de formación para la participación de manera virtual y presencial.",1950,"Usaquén fortalece la participación ciudadana","FORMACIÓN","Suma",1,"Capacitar",734,"Personas","a través de procesos de formación para la participación de manera virtual y presencial.","Capacitar 734 personas a través de procesos de formación para la participación de manera virtual y presencial.",{"$f":"VLOOKUP(AG53,'Anexo PMR'!$B$4:$G$87,6,0)","v":"2_Presupuestos Participativos 50%"},7,"Desarrollo social y cultural","Escuelas y procesos de formación para la participación ciudadana y/u organizaciones para los procesos de presupuestos participativos.",98,"GOBIERNO",35,"Espacios y procesos de participación ciudadana fortalecidos. ",78,"Número de Personas capacitadas a través de procesos de formación para la participación de manera virtual y presencial.","FORMACIÓN CIUDADANA",null,null,null,180,186,186,182,308930000,318420000,328480000,338920000,1294750000,1,120,0.16348773841961853,0,0,"Bajo","Bajo",0.26972384944211586,4.4096542143125209E-2,0,null,null,null,0,"2021_1",180,180,0,0,0,120,0,0,0,0,0,0,0,"Incompleto",null,null,null,300052000,300052000,0,0,0,204373280,0,0,0,204373280,0,0,0,0,0,"",null,null,null,null,null,{"$f":"VLOOKUP(AG53,'Anexo ODS'!$G$3:$P$86,5,0)","v":2},{"$f":"VLOOKUP(AG53,'Anexo ODS'!$G$3:$P$86,6,0)","v":"La Paz"},{"$f":"VLOOKUP(AG53,'Anexo ODS'!$G$3:$P$86,7,0)","v":16},{"$f":"VLOOKUP(AG53,'Anexo ODS'!$G$3:$P$86,8,0)","v":"Paz, justicia e instituciones sólidas"},{"$f":"VLOOKUP(AG53,'Anexo ODS'!$G$3:$P$86,9,0)","v":"16.7"},{"$f":"VLOOKUP(AG53,'Anexo ODS'!$G$3:$P$86,10,0)","v":"Garantizar la adopción en todos los niveles de decisiones inclusivas, participativas y representativas que respondan a las necesidades"},null,null,null,null,null,null,null,null,734,"Anexo 1 (85%)"]
[53,1,"Usaquén",5,"Construir Bogotá-región con gobierno abierto, transparente y ciudadanía consciente.",55,"Fortalecimiento de Cultura Ciudadana y su institucionalidad",null,null,null,null,53,"Intervenir 3 sedes de salones comunales",1950,"Usaquén fortalece la participación ciudadana","INTERVENCIÓN","Suma",1,"Intervenir",3,"Sedes","de salones comunales","Intervenir 3 sedes de salones comunales",{"$f":"VLOOKUP(AG54,'Anexo PMR'!$B$4:$G$87,6,0)","v":"2_Presupuestos Participativos 50%"},6,"Infraestructura","Intervención y dotación de salones comunales.",98,"GOBIERNO",35,"Espacios y procesos de participación ciudadana fortalecidos. ",75,"Sedes intervenidas de salones comunales.","SALONES COMUNALES",null,null,null,0,0,3,0,0,0,200000000,0,200000000,1,0,0,0,0,"Bajo","Bajo",4.1664236252885248E-2,0,0,null,null,null,0,"2021_1",0,0,0,0,0,0,0,0,0,0,0,0,0,"",null,null,null,0,0,0,0,0,null,0,0,0,0,null,null,0,0,0,"",null,null,null,null,null,{"$f":"VLOOKUP(AG54,'Anexo ODS'!$G$3:$P$86,5,0)","v":3},{"$f":"VLOOKUP(AG54,'Anexo ODS'!$G$3:$P$86,6,0)","v":"La Prosperidad"},{"$f":"VLOOKUP(AG54,'Anexo ODS'!$G$3:$P$86,7,0)","v":11},{"$f":"VLOOKUP(AG54,'Anexo ODS'!$G$3:$P$86,8,0)","v":"Ciudades y comunidades sostenibles"},{"$f":"VLOOKUP(AG54,'Anexo ODS'!$G$3:$P$86,9,0)","v":"11.3"},{"$f":"VLOOKUP(AG54,'Anexo ODS'!$G$3:$P$86,10,0)","v":"De aquí a 2030, aumentar la urbanización inclusiva y sostenible y la capacidad para la planificación y la gestión participativas, integradas y sostenibles de los asentamientos humanos en todos los países"},null,null,null,null,null,null,null,null,3,"Anexo 1 (85%)"]
[54,1,"Usaquén",5,"Construir Bogotá-región con gobierno abierto, transparente y ciudadanía consciente.",55,"Fortalecimiento de Cultura Ciudadana y su institucionalidad",null,null,null,null,54,"Dotar 38 sedes de salones comunales",1950,"Usaquén fortalece la participación ciudadana","DOTACIÓN","Suma",2,"Dotar",38,"Sedes","de salones comunales","Dotar 38 sedes de salones comunales",{"$f":"VLOOKUP(AG55,'Anexo PMR'!$B$4:$G$87,6,0)","v":"2_Presupuestos Participativos 50%"},6,"Infraestructura","Intervención y dotación de salones comunales.",98,"GOBIERNO",35,"Espacios y procesos de participación ciudadana fortalecidos. ",76,"Sedes dotadas de salones comunales.","SALONES COMUNALES",null,null,null,0,19,0,19,0,450000000,0,458000000,908000000,1,0,0,0,0,"Bajo","Bajo",0.18915563258809903,0,0,null,null,null,0,"2021_1",0,0,0,0,0,0,0,0,0,0,0,0,0,"",null,null,null,0,0,0,0,0,null,0,0,0,0,null,null,0,0,0,"",null,null,null,null,null,{"$f":"VLOOKUP(AG55,'Anexo ODS'!$G$3:$P$86,5,0)","v":3},{"$f":"VLOOKUP(AG55,'Anexo ODS'!$G$3:$P$86,6,0)","v":"La Prosperidad"},{"$f":"VLOOKUP(AG55,'Anexo ODS'!$G$3:$P$86,7,0)","v":11},{"$f":"VLOOKUP(AG55,'Anexo ODS'!$G$3:$P$86,8,0)","v":"Ciudades y comunidades sostenibles"},{"$f":"VLOOKUP(AG55,'Anexo ODS'!$G$3:$P$86,9,0)","v":"11.3"},{"$f":"VLOOKUP(AG55,'Anexo ODS'!$G$3:$P$86,10,0)","v":"De aquí a 2030, aumentar la urbanización inclusiva y sostenible y la capacidad para la planificación y la gestión participativas, integradas y sostenibles de los asentamientos humanos en todos los países"},null,null,null,null,null,null,null,null,38,"Anexo 2 (15%)"]
[55,1,"Usaquén",5,"Construir Bogotá-región con gobierno abierto, transparente y ciudadanía consciente.",55,"Fortalecimiento de Cultura Ciudadana y su institucionalidad",null,null,null,null,55,"Fortalecer 43 Organizaciones, JAC e Instancias de participación ciudadana",1950,"Usaquén fortalece la participación ciudadana","FORTALECIMIENTO ORGANIZATIVO","Suma",2,"Fortalecer",43,"Organizaciones",", JAC e Instancias de participación ciudadana","Fortalecer 43 Organizaciones, JAC e Instancias de participación ciudadana",{"$f":"VLOOKUP(AG56,'Anexo PMR'!$B$4:$G$87,6,0)","v":"2_Presupuestos Participativos 50%"},7,"Desarrollo social y cultural","Fortalecimiento de organizaciones sociales, comunitarias, comunales, propiedad horizontal e instancias y mecanismos de participación, con énfasis en jóvenes y asociatividad productiva.",98,"GOBIERNO",35,"Espacios y procesos de participación ciudadana fortalecidos. ",79,"Número de Organizaciones, JAC e Instancias de participación ciudadana fortalecidas.","FORTALECIMIENTO ORGANIZATIVO",null,null,null,10,10,10,13,429840000,470160000,518700000,978830000,2397530000,1,0,0,0,0,"Bajo","Bajo",0.49945628171689987,0,0,null,null,null,0,"2021_1",10,10,0,0,0,0,0,0,0,0,0,0,0,"",null,null,null,417488000,417488000,0,0,0,100000000,0,0,0,100000000,4766667,4766667,0,0,0,"Corte 31 marzo de 2021: Las contrataciones adjudicadas no contribuyen al avance directo de la meta.",null,null,null,null,null,{"$f":"VLOOKUP(AG56,'Anexo ODS'!$G$3:$P$86,5,0)","v":2},{"$f":"VLOOKUP(AG56,'Anexo ODS'!$G$3:$P$86,6,0)","v":"La Paz"},{"$f":"VLOOKUP(AG56,'Anexo ODS'!$G$3:$P$86,7,0)","v":16},{"$f":"VLOOKUP(AG56,'Anexo ODS'!$G$3:$P$86,8,0)","v":"Paz, justicia e instituciones sólidas"},{"$f":"VLOOKUP(AG56,'Anexo ODS'!$G$3:$P$86,9,0)","v":"16.7"},{"$f":"VLOOKUP(AG56,'Anexo ODS'!$G$3:$P$86,10,0)","v":"Garantizar la adopción en todos los niveles de decisiones inclusivas, participativas y representativas que respondan a las necesidades"},null,null,null,null,null,null,null,null,43,"Anexo 2 (15%)"]
[56,1,"Usaquén",5,"Construir Bogotá-región con gobierno abierto, transparente y ciudadanía consciente.",56,"Gestión pública efectiva",null,null,null,null,56,"Construir 1 sede administrativa local",0,null,"SEDE ADMINISTRATIVA","Suma",1,"Construir",1,"Sedes","administrativa local","Construir 1 sede administrativa local",{"$f":"VLOOKUP(AG57,'Anexo PMR'!$B$4:$G$87,6,0)","v":"1_Inflexible 45%"},1,"Gestión pública local","Terminación de infraestructuras (sedes administrativas locales).",98,"GOBIERNO",36,"Infraestructura para la atención de servicio al ciudadano.",81,"Sedes administrativas locales construidas.","FORTALECIMIENTO ORGANIZATIVO",null,null,null,0,0,0,0,0,0,0,0,0,1,0,0,0,0,"Bajo","Bajo",0,0,0,null,null,null,0,"2021_1",0,0,0,0,0,0,0,0,0,0,0,0,0,"",null,null,null,0,0,0,0,0,null,0,0,0,0,null,null,0,0,0,"",null,null,null,null,null,{"$f":"VLOOKUP(AG57,'Anexo ODS'!$G$3:$P$86,5,0)","v":3},{"$f":"VLOOKUP(AG57,'Anexo ODS'!$G$3:$P$86,6,0)","v":"La Prosperidad"},{"$f":"VLOOKUP(AG57,'Anexo ODS'!$G$3:$P$86,7,0)","v":9},{"$f":"VLOOKUP(AG57,'Anexo ODS'!$G$3:$P$86,8,0)","v":"Industria, innovación e infraestructura"},{"$f":"VLOOKUP(AG57,'Anexo ODS'!$G$3:$P$86,9,0)","v":"9.1"},{"$f":"VLOOKUP(AG57,'Anexo ODS'!$G$3:$P$86,10,0)","v":"Desarrollar infraestructuras fiables, sostenibles, resilientes y de calidad, incluidas infraestructuras regionales y transfronterizas, para apoyar el desarrollo económico y el bienestar humano, haciendo especial hincapié en el acceso asequible y equitativo para todos"},null,null,null,null,null,null,null,null,1,"Anexo 1 (85%)"]
[57,1,"Usaquén",5,"Construir Bogotá-región con gobierno abierto, transparente y ciudadanía consciente.",57,"Gestión Pública Local",null,null,null,null,57,"Realizar 4 estrategias de fortalecimiento institucional.",1949,"Fortalecimiento local y participativo","FORTALECIMIENTO LOCAL","Suma",2,"Realizar",4,"Estrategias","de fortalecimiento institucional.","Realizar 4 estrategias de fortalecimiento institucional.",{"$f":"VLOOKUP(AG58,'Anexo PMR'!$B$4:$G$87,6,0)","v":"1_Inflexible 45%"},1,"Gestión pública local","Fortalecimiento institucional.",98,"GOBIERNO",37,"Fortalecimiento institucional.",82,"Estrategias de fortalecimiento institucional realizadas","FORTALECIMIENTO LOCAL",null,null,null,1,1,1,1,5566800000,5737770000,5919090000,6107200000,23330860000,1,1,0.25,1,0.25,"Bajo","Bajo",{"$f":"AT58/SUMIF($F$2:$F$60,F58,$AT$2:$AT$60)","v":0.78617475215179189},0.19654368803794797,0.19654368803794797,null,null,null,0,"2021_1",1,1,0,0,0,1,0,0,0,1,0,0,0,"Incompleto",null,null,null,5406826000,5406826000,0,0,0,2643777464,0,0,0,2643777464,90863412,90863412,0,0,0,"",null,null,null,null,null,{"$f":"VLOOKUP(AG58,'Anexo ODS'!$G$3:$P$86,5,0)","v":2},{"$f":"VLOOKUP(AG58,'Anexo ODS'!$G$3:$P$86,6,0)","v":"La Paz"},{"$f":"VLOOKUP(AG58,'Anexo ODS'!$G$3:$P$86,7,0)","v":16},{"$f":"VLOOKUP(AG58,'Anexo ODS'!$G$3:$P$86,8,0)","v":"Paz, justicia e instituciones sólidas"},{"$f":"VLOOKUP(AG58,'Anexo ODS'!$G$3:$P$86,9,0)","v":"16.6"},{"$f":"VLOOKUP(AG58,'Anexo ODS'!$G$3:$P$86,10,0)","v":"Garantizar el acceso público a la información y proteger las libertades fundamentales, de conformidad con las leyes nacionales y los acuerdos internacionales"},null,null,null,null,null,null,null,null,4,"Anexo 1 (85%)"]
[58,1,"Usaquén",5,"Construir Bogotá-región con gobierno abierto, transparente y ciudadanía consciente.",57,"Gestión Pública Local",null,null,null,null,58,"Realizar 1 rendición de cuenta anual",1949,"Fortalecimiento local y participativo","TRANSPARENCIA Y CONTROL SOCIAL","Constante",3,"Realizar",1,"Rendicion de cuenta","anual","Realizar 1 rendición de cuenta anual",{"$f":"VLOOKUP(AG59,'Anexo PMR'!$B$4:$G$87,6,0)","v":"3_Flexible 5%"},10,"Participación\nCiudadana y\nconstrucción de\nconfianza.","Transparencia, control social y rendición de cuentas del Gobierno Local.",98,"GOBIERNO",35,"Espacios y procesos de participación ciudadana fortalecidos. ",83,"Número de Rendiciones de cuentas anuales.","TRANSPARENCIA Y CONTROL SOCIAL",null,null,null,1,1,1,1,29590000,30500000,31460000,32460000,124010000,1,0.25,0.25,0.25,0.25,"Bajo","Bajo",{"$f":"AT59/SUMIF($F$2:$F$60,F59,$AT$2:$AT$60)","v":4.1787371324650572E-3},1.0446842831162643E-3,1.0446842831162643E-3,null,null,null,0,"2021_1",1,1,0,0,0,1,0,0,0,1,0,0,0,"Completo",null,null,null,28735000,28735000,0,0,0,null,0,0,0,0,null,null,0,0,0,"Corte 31 de marzo: La meta fue ejecutada por gestión.",null,null,null,null,null,{"$f":"VLOOKUP(AG59,'Anexo ODS'!$G$3:$P$86,5,0)","v":2},{"$f":"VLOOKUP(AG59,'Anexo ODS'!$G$3:$P$86,6,0)","v":"La Paz"},{"$f":"VLOOKUP(AG59,'Anexo ODS'!$G$3:$P$86,7,0)","v":16},{"$f":"VLOOKUP(AG59,'Anexo ODS'!$G$3:$P$86,8,0)","v":"Paz, justicia e instituciones sólidas"},{"$f":"VLOOKUP(AG59,'Anexo ODS'!$G$3:$P$86,9,0)","v":"16.6"},{"$f":"VLOOKUP(AG59,'Anexo ODS'!$G$3:$P$86,10,0)","v":"Garantizar el acceso público a la información y proteger las libertades fundamentales, de conformidad con las leyes nacionales y los acuerdos internacionales"},null,null,null,null,null,null,null,null,1,"Anexo 1 (85%)"]
[59,1,"Usaquén",5,"Construir Bogotá-región con gobierno abierto, transparente y ciudadanía consciente.",57,"Gestión Pública Local",null,null,null,null,59,"Realizar 4 acciones de inspección, vigilancia y control.",1952,"Inspección vigilancia y control local","IVC","Suma",1,"Realizar",4,"Acciones","de inspección, vigilancia y control.","Realizar 4 acciones de inspección, vigilancia y control.",{"$f":"VLOOKUP(AG60,'Anexo PMR'!$B$4:$G$87,6,0)","v":"1_Inflexible 45%"},2,"Inspección, vigilancia y control","Inspección, vigilancia y control.",98,"GOBIERNO",38,"Inspección, vigilancia y control (IVC).",84,"Acciones de inspección, vigilancia y control realizadas","IVC",null,null,null,1,1,1,1,1484480000,1530070000,1578420000,1628590000,6221560000,1,1,0.25,1,0.25,"Bajo","Bajo",{"$f":"AT60/SUMIF($F$2:$F$60,F60,$AT$2:$AT$60)","v":0.20964651071574311},5.2411627678935778E-2,5.2411627678935778E-2,null,null,null,0,"2021_1",1,1,0,0,0,1,0,0,0,1,0,0,0,"Incompleto",null,null,null,1441820000,1441820000,0,0,0,1614222380,0,0,0,1614222380,11893206,11893206,0,0,0,"",null,null,null,null,null,{"$f":"VLOOKUP(AG60,'Anexo ODS'!$G$3:$P$86,5,0)","v":2},{"$f":"VLOOKUP(AG60,'Anexo ODS'!$G$3:$P$86,6,0)","v":"La Paz"},{"$f":"VLOOKUP(AG60,'Anexo ODS'!$G$3:$P$86,7,0)","v":16},{"$f":"VLOOKUP(AG60,'Anexo ODS'!$G$3:$P$86,8,0)","v":"Paz, justicia e instituciones sólidas"},{"$f":"VLOOKUP(AG60,'Anexo ODS'!$G$3:$P$86,9,0)","v":"16.6"},{"$f":"VLOOKUP(AG60,'Anexo ODS'!$G$3:$P$86,10,0)","v":"Garantizar el acceso público a la información y proteger las libertades fundamentales, de conformidad con las leyes nacionales y los acuerdos internacionales"},null,null,null,null,null,null,null,null,4,"Anexo 2 (15%)"]
[60,2,"Chapinero",1,"Hacer un nuevo contrato social con igualdad de oportunidades para la inclusión social, productiva y política",1,"Subsidios y transferencias para la equidad",null,null,null,null,60,"Beneficiar 431 personas mayores con apoyo económico tipo C.",1815,"CHAPINERO TERRITORIO DE INCLUSIÓN SOCIAL Y EQUIDAD","SUBSIDIO TIPO C","Constante",1,"Beneficiar",431,"Personas","mayores con apoyo económico tipo C.","Beneficiar 431 personas mayores con apoyo económico tipo C.",{"$f":"VLOOKUP(AG61,'Anexo PMR'!$B$4:$G$87,6,0)","v":"1_Inflexible 45%"},3,"Sistema Bogotá Solidaria (20%)","Subsidio tipo C adulto mayor.",92,"INTEGRACIÓN SOCIAL",1,"Protección integral a personas y familias en situación de vulneración.",2,"Número de personas mayores con apoyo económico tipo C","SUBSIDIO TIPO C",null,null,null,431,431,431,431,790000000,817000000,925000000,1170000000,3702000000,1,107.75,0.25,107.75,0.25,"Bajo","Bajo",{"$f":"AT61/SUMIF($F$61:$F$132,F61,$AT$61:$AT$132)","v":0.25585735019697287},6.3964337549243216E-2,6.3964337549243216E-2,null,null,null,0,"2021_1",431,431,0,0,0,431,0,0,0,431,0,0,0,"Incompleto",null,null,null,727160000,727160000,0,0,0,290719000,0,0,0,290719000,107750000,107750000,0,0,0,"Contratacion de meta constante se dio ejecución al primer trimestre queda pendiente los proximos 3 trimestres",null,null,null,null,null,{"$f":"VLOOKUP(AG61,'Anexo ODS'!$G$3:$P$86,5,0)","v":1},{"$f":"VLOOKUP(AG61,'Anexo ODS'!$G$3:$P$86,6,0)","v":"Las Personas"},{"$f":"VLOOKUP(AG61,'Anexo ODS'!$G$3:$P$86,7,0)","v":1},{"$f":"VLOOKUP(AG61,'Anexo ODS'!$G$3:$P$86,8,0)","v":"Fin de la pobreza"},{"$f":"VLOOKUP(AG61,'Anexo ODS'!$G$3:$P$86,9,0)","v":"1.2"},{"$f":"VLOOKUP(AG61,'Anexo ODS'!$G$3:$P$86,10,0)","v":"De aquí a 2030, reducir al menos a la mitad la proporción de hombres, mujeres y niños de todas las edades que viven en la pobreza en todas sus dimensiones con arreglo a las definiciones nacionales"},null,null,null,null,null,null,null,null,431,"Anexo 2 (15%)"]
[61,2,"Chapinero",1,"Hacer un nuevo contrato social con igualdad de oportunidades para la inclusión social, productiva y política",1,"Subsidios y transferencias para la equidad",null,null,null,null,61,"Atender 2960 hogares con apoyos que contribuyan al ingreso mínimo garantizado.",1815,"CHAPINERO TERRITORIO DE INCLUSIÓN SOCIAL Y EQUIDAD","INGRESO MÍNIMO","Suma",2,"Atender",2960,"Hogares","con apoyos que contribuyan al ingreso mínimo garantizado.","Atender 2960 hogares con apoyos que contribuyan al ingreso mínimo garantizado.",{"$f":"VLOOKUP(AG62,'Anexo PMR'!$B$4:$G$87,6,0)","v":"1_Inflexible 45%"},3,"Sistema Bogotá Solidaria (20%)","Ingreso mínimo garantizado",92,"INTEGRACIÓN SOCIAL",1,"Protección integral a personas y familias en situación de vulneración.",1,"Hogares atendidos con apoyos que contribuyan al ingreso mínimo garantizado","INGRESO MÍNIMO",null,null,null,732,754,754,720,2662000000,2741000000,2746000000,2618000000,10767000000,1,732,0.2472972972972973,0,0,"Bajo","Bajo",0.74414264980302713,0.18402446609993778,0,null,null,null,0,"2021_1",732,732,0,0,0,732,0,0,0,0,0,0,0,"Incompleto",null,null,null,2450254000,2450254000,0,0,0,1959840000,0,0,0,1959840000,1959840000,1959840000,0,0,0,"Se realizo la transferencia de recursos a nivel central y queda pendiente la confirmación de la ejecución por parte de integración social",null,null,null,null,null,{"$f":"VLOOKUP(AG62,'Anexo ODS'!$G$3:$P$86,5,0)","v":1},{"$f":"VLOOKUP(AG62,'Anexo ODS'!$G$3:$P$86,6,0)","v":"Las Personas"},{"$f":"VLOOKUP(AG62,'Anexo ODS'!$G$3:$P$86,7,0)","v":1},{"$f":"VLOOKUP(AG62,'Anexo ODS'!$G$3:$P$86,8,0)","v":"Fin de la pobreza"},{"$f":"VLOOKUP(AG62,'Anexo ODS'!$G$3:$P$86,9,0)","v":"1.2"},{"$f":"VLOOKUP(AG62,'Anexo ODS'!$G$3:$P$86,10,0)","v":"De aquí a 2030, reducir al menos a la mitad la proporción de hombres, mujeres y niños de todas las edades que viven en la pobreza en todas sus dimensiones con arreglo a las definiciones nacionales"},null,null,null,null,null,null,null,null,2960]
[62,2,"Chapinero",1,"Hacer un nuevo contrato social con igualdad de oportunidades para la inclusión social, productiva y política",6,"Sistema Distrital de Cuidado",null,null,null,null,62,"Apoyar 200  Mipymes y/o emprendimientos culturales y creativos.",1671,"CHAPINERO PRODUCTIVO Y EMPRENDEDOR","FORTALECIMIENTO MIPYMES","Suma",1,"Apoyar",200,"Mipymes","y/o emprendimientos culturales y creativos.","Apoyar 200  Mipymes y/o emprendimientos culturales y creativos.",{"$f":"VLOOKUP(AG63,'Anexo PMR'!$B$4:$G$87,6,0)","v":"2_Presupuestos Participativos 50%"},5,"Desarrollo de la Economía Local","Apoyo a industrias culturales y creativas.",89,"DESARROLLO ECONÓMICO, INDUSTRIA Y TURISMO",14,"Servicios de asesoría, asistencia técnica integral, dotación y/o apoyo financiero a Mipymes y/o emprendimientos.",21,"Número de Mipymes y/o emprendimientos culturales y creativos apoyados","DESARROLLO DE LA ECONOMÍA LOCAL",null,null,null,42,44,57,57,250000000,240000000,314000000,315000000,1119000000,1,0,0,0,0,"Bajo","Bajo",0.13740176817288802,0,0,null,null,null,0,"2021_1",42,42,0,0,0,0,0,0,0,0,0,0,0,"No mueve meta",null,null,null,230114000,230114000,0,0,0,18021925,0,0,0,18021925,981666,981666,0,0,0,"Recursos humanos institucionales requeridos para el cumplimiento de la meta",null,null,null,null,null,{"$f":"VLOOKUP(AG63,'Anexo ODS'!$G$3:$P$86,5,0)","v":3},{"$f":"VLOOKUP(AG63,'Anexo ODS'!$G$3:$P$86,6,0)","v":"La Prosperidad"},{"$f":"VLOOKUP(AG63,'Anexo ODS'!$G$3:$P$86,7,0)","v":8},{"$f":"VLOOKUP(AG63,'Anexo ODS'!$G$3:$P$86,8,0)","v":"Trabajo decente y crecimiento económico"},{"$f":"VLOOKUP(AG63,'Anexo ODS'!$G$3:$P$86,9,0)","v":"8.3"},{"$f":"VLOOKUP(AG63,'Anexo ODS'!$G$3:$P$86,10,0)","v":"Promover políticas orientadas al desarrollo que apoyen las actividades productivas, la creación de puestos de trabajo decentes, el emprendimiento, la creatividad y la innovación, y fomentar la formalización y el crecimiento de las microempresas y las pequeñas y medianas empresas, incluso mediante el acceso a servicios financieros"},null,null,null,null,null,null,null,null,200]
[63,2,"Chapinero",1,"Hacer un nuevo contrato social con igualdad de oportunidades para la inclusión social, productiva y política",6,"Sistema Distrital de Cuidado",null,null,null,null,63,"Promover en 150  Mipymes y/o emprendimientos procesos de reconversión hacia actividades sostenibles.",1671,"CHAPINERO PRODUCTIVO Y EMPRENDEDOR","REACTIVACIÓN","Suma",2,"Promover",150,"Mipymes","y/o emprendimientos procesos de reconversión hacia actividades sostenibles.","Promover en 150  Mipymes y/o emprendimientos procesos de reconversión hacia actividades sostenibles.",{"$f":"VLOOKUP(AG64,'Anexo PMR'!$B$4:$G$87,6,0)","v":"2_Presupuestos Participativos 50%"},5,"Desarrollo de la Economía Local","Reactivación y reconversión verde",89,"DESARROLLO ECONÓMICO, INDUSTRIA Y TURISMO",14,"Servicios de asesoría, asistencia técnica integral, dotación y/o apoyo financiero a Mipymes y/o emprendimientos.",22,"Número de Mipymes y/o emprendimientos con procesos de reconversión hacia actividades sostenibles","DESARROLLO DE LA ECONOMÍA LOCAL",null,null,null,48,49,0,53,291000000,281000000,0,303000000,875000000,1,0,0,0,0,"Bajo","Bajo",0.10744106090373282,0,0,null,null,null,0,"2021_1",48,48,0,0,0,0,0,0,0,0,0,0,0,"No mueve meta",null,null,null,267853000,267853000,0,0,0,18021925,0,0,0,18021925,981666,981666,0,0,0,"Recursos humanos institucionales requeridos para el cumplimiento de la meta",null,null,null,null,null,{"$f":"VLOOKUP(AG64,'Anexo ODS'!$G$3:$P$86,5,0)","v":3},{"$f":"VLOOKUP(AG64,'Anexo ODS'!$G$3:$P$86,6,0)","v":"La Prosperidad"},{"$f":"VLOOKUP(AG64,'Anexo ODS'!$G$3:$P$86,7,0)","v":8},{"$f":"VLOOKUP(AG64,'Anexo ODS'!$G$3:$P$86,8,0)","v":"Trabajo decente y crecimiento económico"},{"$f":"VLOOKUP(AG64,'Anexo ODS'!$G$3:$P$86,9,0)","v":"8.3"},{"$f":"VLOOKUP(AG64,'Anexo ODS'!$G$3:$P$86,10,0)","v":"Promover políticas orientadas al desarrollo que apoyen las actividades productivas, la creación de puestos de trabajo decentes, el emprendimiento, la creatividad y la innovación, y fomentar la formalización y el crecimiento de las microempresas y las pequeñas y medianas empresas, incluso mediante el acceso a servicios financieros"},null,null,null,null,null,null,null,null,150]
[64,2,"Chapinero",1,"Hacer un nuevo contrato social con igualdad de oportunidades para la inclusión social, productiva y política",6,"Sistema Distrital de Cuidado",null,null,null,null,64,"Promover en 160 Mipymes y/o emprendimientos la transformación empresarial, productiva y/o turística",1671,"CHAPINERO PRODUCTIVO Y EMPRENDEDOR","TRANSFORMACIÓN PRODUCTIVA","Suma",3,"Promover",160,"Mipymes","y/o emprendimientos la transformación empresarial, productiva y/o turística","Promover en 160 Mipymes y/o emprendimientos la transformación empresarial, productiva y/o turística",{"$f":"VLOOKUP(AG65,'Anexo PMR'!$B$4:$G$87,6,0)","v":"2_Presupuestos Participativos 50%"},5,"Desarrollo de la Economía Local","Transformación productiva y formación de capacidades",89,"DESARROLLO ECONÓMICO, INDUSTRIA Y TURISMO",14,"Servicios de asesoría, asistencia técnica integral, dotación y/o apoyo financiero a Mipymes y/o emprendimientos.",23,"Número de Mipymes y/o emprendimientos con transformacion empresarial y/o productiva","DESARROLLO DE LA ECONOMÍA LOCAL",null,null,null,52,52,0,56,309000000,299000000,0,320000000,928000000,1,0,0,0,0,"Bajo","Bajo",0.11394891944990176,0,0,null,null,null,0,"2021_1",52,52,0,0,0,0,0,0,0,0,0,0,0,"No mueve meta",null,null,null,284421000,284421000,0,0,0,18021925,0,0,0,18021925,981666,981666,0,0,0,"Recursos humanos institucionales requeridos para el cumplimiento de la meta",null,null,null,null,null,{"$f":"VLOOKUP(AG65,'Anexo ODS'!$G$3:$P$86,5,0)","v":3},{"$f":"VLOOKUP(AG65,'Anexo ODS'!$G$3:$P$86,6,0)","v":"La Prosperidad"},{"$f":"VLOOKUP(AG65,'Anexo ODS'!$G$3:$P$86,7,0)","v":8},{"$f":"VLOOKUP(AG65,'Anexo ODS'!$G$3:$P$86,8,0)","v":"Trabajo decente y crecimiento económico"},{"$f":"VLOOKUP(AG65,'Anexo ODS'!$G$3:$P$86,9,0)","v":"8.3"},{"$f":"VLOOKUP(AG65,'Anexo ODS'!$G$3:$P$86,10,0)","v":"Promover políticas orientadas al desarrollo que apoyen las actividades productivas, la creación de puestos de trabajo decentes, el emprendimiento, la creatividad y la innovación, y fomentar la formalización y el crecimiento de las microempresas y las pequeñas y medianas empresas, incluso mediante el acceso a servicios financieros"},null,null,null,null,null,null,null,null,160]
[65,2,"Chapinero",1,"Hacer un nuevo contrato social con igualdad de oportunidades para la inclusión social, productiva y política",6,"Sistema Distrital de Cuidado",null,null,null,null,65,"Revitalizar 130 Mipymes y/o emprendimientos potencializadas dentro de las aglomeraciones económicas que fomentan el empleo y/o nuevas actividades económicas y/o turísticas.",1671,"CHAPINERO PRODUCTIVO Y EMPRENDEDOR","REVITALIZACIÓN","Suma",4,"Revitalizar",130,"Mipymes","y/o emprendimientos potencializadas dentro de las aglomeraciones económicas que fomentan el empleo y/o nuevas actividades económicas y/o turísticas.","Revitalizar 130 Mipymes y/o emprendimientos potencializadas dentro de las aglomeraciones económicas que fomentan el empleo y/o nuevas actividades económicas y/o turísticas.",{"$f":"VLOOKUP(AG66,'Anexo PMR'!$B$4:$G$87,6,0)","v":"2_Presupuestos Participativos 50%"},5,"Desarrollo de la Economía Local","Revitalización del corazón productivo de las localidades",89,"DESARROLLO ECONÓMICO, INDUSTRIA Y TURISMO",14,"Servicios de asesoría, asistencia técnica integral, dotación y/o apoyo financiero a Mipymes y/o emprendimientos.",24,"Número de Mipymes  y/o emprendimientos revitalizadas o potencializadas dentro de las aglomeraciones económicas que fomentan el empleo y/o nuevas actividades económicas","DESARROLLO DE LA ECONOMÍA LOCAL",null,null,null,40,44,0,46,241000000,231000000,0,251000000,{"$f":"SUM(AP66:AS66)","v":723000000},1,{"$f":"IF(Q66=\"Constante\",SUM(BO66:BR66)/4,IF(Q66=\"Suma\",SUM(BO66:BR66),0))","v":0},{"$f":"AV66/T66","v":0},{"$f":"IF(Q66=\"Constante\",SUM(BS66:BV66)/4,IF(Q66=\"Suma\",SUM(BS66:BV66),0))","v":0},{"$f":"AX66/T66","v":0},{"$f":"IF(AW66<=40%,\"Bajo\",IF(AW66<=70%,\"Medio\",IF(AW66<=90%,\"Alto\",IF(AW66>90%,\"Muy Alto\"))))","v":"Bajo"},{"$f":"IF(AY66<=40%,\"Bajo\",IF(AY66<=70%,\"Medio\",IF(AY66<=90%,\"Alto\",IF(AY66>90%,\"Muy Alto\"))))","v":"Bajo"},8.8777013752455794E-2,0,0,null,null,null,0,"2021_1",40,40,0,0,0,0,0,0,0,0,0,0,0,"No mueve meta",null,null,null,221830000,221830000,0,0,0,18021925,0,0,0,18021925,981669,981669,0,0,0,"Recursos humanos institucionales requeridos para el cumplimiento de la meta",null,null,null,null,null,{"$f":"VLOOKUP(AG66,'Anexo ODS'!$G$3:$P$86,5,0)","v":3},{"$f":"VLOOKUP(AG66,'Anexo ODS'!$G$3:$P$86,6,0)","v":"La Prosperidad"},{"$f":"VLOOKUP(AG66,'Anexo ODS'!$G$3:$P$86,7,0)","v":8},{"$f":"VLOOKUP(AG66,'Anexo ODS'!$G$3:$P$86,8,0)","v":"Trabajo decente y crecimiento económico"},{"$f":"VLOOKUP(AG66,'Anexo ODS'!$G$3:$P$86,9,0)","v":"8.3"},{"$f":"VLOOKUP(AG66,'Anexo ODS'!$G$3:$P$86,10,0)","v":"Promover políticas orientadas al desarrollo que apoyen las actividades productivas, la creación de puestos de trabajo decentes, el emprendimiento, la creatividad y la innovación, y fomentar la formalización y el crecimiento de las microempresas y las pequeñas y medianas empresas, incluso mediante el acceso a servicios financieros"},null,null,null,null,null,null,null,null,130]
[66,2,"Chapinero",1,"Hacer un nuevo contrato social con igualdad de oportunidades para la inclusión social, productiva y política",6,"Sistema Distrital de Cuidado",null,null,null,null,66,"Dotar 1 centro de atención especializado",1710,"CHAPINERO CONSTRUYE INFRAESTRUCTURA SOCIAL","DOTACIÓN CENTROS DE ATENCIÓN ESPECIALIZADOS","Suma",2,"Dotar",1,"Centros","de atención especializado","Dotar 1 centro de atención especializado",{"$f":"VLOOKUP(AG67,'Anexo PMR'!$B$4:$G$87,6,0)","v":"2_Presupuestos Participativos 50%"},6,"Infraestructura","Dotación a Centros Crecer, Renacer.",92,"INTEGRACIÓN SOCIAL",5,"Dotación para la atención y la prestación de los servicios en la infraestructura del sector Integración Social.",26,"Centros de atención especializada dotados","CENTROS DE ATENCIÓN ESPECIALIZADOS",null,null,null,0,0,0,1,0,0,0,200000000,200000000,1,0,0,0,0,"Bajo","Bajo",2.4557956777996069E-2,{"$f":"BB67*AW67","v":0},{"$f":"BB67*AY67","v":0},null,null,null,0,"2021_1",0,0,0,0,0,0,0,0,0,0,0,0,0,"",null,null,null,0,0,0,0,0,null,0,0,0,{"$f":"SUM(CF67:CI67)","v":0},null,null,0,0,0,"",null,null,null,null,null,{"$f":"VLOOKUP(AG67,'Anexo ODS'!$G$3:$P$86,5,0)","v":3},{"$f":"VLOOKUP(AG67,'Anexo ODS'!$G$3:$P$86,6,0)","v":"La Prosperidad"},{"$f":"VLOOKUP(AG67,'Anexo ODS'!$G$3:$P$86,7,0)","v":10},{"$f":"VLOOKUP(AG67,'Anexo ODS'!$G$3:$P$86,8,0)","v":"Reducción de las desigualdades "},{"$f":"VLOOKUP(AG67,'Anexo ODS'!$G$3:$P$86,9,0)","v":"10.2"},{"$f":"VLOOKUP(AG67,'Anexo ODS'!$G$3:$P$86,10,0)","v":"De aquí a 2030, potenciar y promover la inclusión social, económica y política de todas las personas, independientemente de su edad, sexo, discapacidad, raza, etnia, origen, religión o situación económica u otra condición"},null,null,null,null,null,null,null,null,1]
[67,2,"Chapinero",1,"Hacer un nuevo contrato social con igualdad de oportunidades para la inclusión social, productiva y política",6,"Sistema Distrital de Cuidado",null,null,null,null,67,"Dotar 1 centro de desarrollo comunitario.",1710,"CHAPINERO CONSTRUYE INFRAESTRUCTURA SOCIAL","DOTACIÓN CDC","Suma",3,"Dotar",1,"Centros","de desarrollo comunitario.","Dotar 1 centro de desarrollo comunitario.",{"$f":"VLOOKUP(AG68,'Anexo PMR'!$B$4:$G$87,6,0)","v":"2_Presupuestos Participativos 50%"},6,"Infraestructura","Dotación Centros de Desarrollo Comunitario.",92,"INTEGRACIÓN SOCIAL",5,"Dotación para la atención y la prestación de los servicios en la infraestructura del sector Integración Social.",27,"Sedes de Centros de Desarrollo comunitarios dotados","CENTROS DE DESARROLLO COMUNITARIO",null,null,null,0,1,0,0,0,200000000,0,0,200000000,1,0,0,0,0,"Bajo","Bajo",2.4557956777996069E-2,0,0,null,null,null,0,"2021_1",0,0,0,0,0,0,0,0,0,0,0,0,0,"",null,null,null,0,0,0,0,0,null,0,0,0,0,null,null,0,0,0,"",null,null,null,null,null,{"$f":"VLOOKUP(AG68,'Anexo ODS'!$G$3:$P$86,5,0)","v":3},{"$f":"VLOOKUP(AG68,'Anexo ODS'!$G$3:$P$86,6,0)","v":"La Prosperidad"},{"$f":"VLOOKUP(AG68,'Anexo ODS'!$G$3:$P$86,7,0)","v":10},{"$f":"VLOOKUP(AG68,'Anexo ODS'!$G$3:$P$86,8,0)","v":"Reducción de las desigualdades "},{"$f":"VLOOKUP(AG68,'Anexo ODS'!$G$3:$P$86,9,0)","v":"10.2"},{"$f":"VLOOKUP(AG68,'Anexo ODS'!$G$3:$P$86,10,0)","v":"De aquí a 2030, potenciar y promover la inclusión social, económica y política de todas las personas, independientemente de su edad, sexo, discapacidad, raza, etnia, origen, religión o situación económica u otra condición"},null,null,null,null,null,null,null,null,1]
[68,2,"Chapinero",1,"Hacer un nuevo contrato social con igualdad de oportunidades para la inclusión social, productiva y política",6,"Sistema Distrital de Cuidado",null,null,null,null,68,"Formar 3000  personas en prevención de violencia intrafamiliar y/o violencia sexual.",1710,"CHAPINERO CONSTRUYE INFRAESTRUCTURA SOCIAL","PREVENCIÓN DE VIOLENCIAS","Suma",1,"Formar",3000,"Personas","en prevención de violencia intrafamiliar y/o violencia sexual.","Formar 3000  personas en prevención de violencia intrafamiliar y/o violencia sexual.",{"$f":"VLOOKUP(AG69,'Anexo PMR'!$B$4:$G$87,6,0)","v":"2_Presupuestos Participativos 50%"},7,"Desarrollo social y cultural","Prevención y atención de violencia intrafamiliar y sexual para poblaciones en situaciones de riesgo y vulneración de derechos.",92,"INTEGRACIÓN SOCIAL",2,"Protección integral a niños y niñas y adolescentes.",25,"Número de Personas formadas u orientadas o sensibilizadas en prevención de violencia intrafamiliar y/o violencia sexual.            ","PREVENCIÓN DE LA VIOLENCIA",null,null,null,644,766,687,903,285000000,339000000,304000000,400000000,1328000000,1,0,0,0,0,"Bajo","Bajo",0.16306483300589392,0,0,null,null,null,0,"2021_1",644,644,0,0,0,0,0,0,0,0,0,0,0,"No mueve meta",null,null,null,262330000,262330000,0,0,0,33000000,0,0,0,33000000,0,0,0,0,0,"Recursos humanos institucionales requeridos para el cumplimiento de la meta",null,null,null,null,null,{"$f":"VLOOKUP(AG69,'Anexo ODS'!$G$3:$P$86,5,0)","v":2},{"$f":"VLOOKUP(AG69,'Anexo ODS'!$G$3:$P$86,6,0)","v":"La Paz"},{"$f":"VLOOKUP(AG69,'Anexo ODS'!$G$3:$P$86,7,0)","v":16},{"$f":"VLOOKUP(AG69,'Anexo ODS'!$G$3:$P$86,8,0)","v":"Paz, justicia e instituciones sólidas"},{"$f":"VLOOKUP(AG69,'Anexo ODS'!$G$3:$P$86,9,0)","v":"16.1"},{"$f":"VLOOKUP(AG69,'Anexo ODS'!$G$3:$P$86,10,0)","v":"Reducir significativamente todas las formas de violencia y las correspondientes tasas de mortalidad en todo el mundo"},null,null,null,null,null,null,null,null,3000]
[69,2,"Chapinero",1,"Hacer un nuevo contrato social con igualdad de oportunidades para la inclusión social, productiva y política",6,"Sistema Distrital de Cuidado",null,null,null,null,69,"Vincular 1000 mujeres cuidadoras a estrategias de cuidado.",1855,"Chapinero te cuida","ESTRATEGIAS DE CUIDADO","Suma",1,"Vincular",1000,"Mujeres","cuidadoras a estrategias de cuidado","Vincular 1000 mujeres cuidadoras a estrategias de cuidado.",{"$f":"VLOOKUP(AG70,'Anexo PMR'!$B$4:$G$87,6,0)","v":"2_Presupuestos Participativos 50%"},7,"Desarrollo social y cultural","Estrategias de cuidado para cuidadoras, cuidadores y a personas con discapacidad",100,"MUJERES",15,"Estrategias del cuidado para cuidadoras.",30,"Mujeres cuidadoras vinculadas a estrategias de cuidado","ESTRATEGIAS DE CUIDADO",null,null,null,0,332,332,336,0,245000000,245000000,247000000,737000000,1,0,0,0,0,"Bajo","Bajo",9.0496070726915526E-2,0,0,null,null,null,0,"2021_1",0,0,0,0,0,0,0,0,0,0,0,0,0,"",null,null,null,0,0,0,0,0,null,0,0,0,0,null,null,0,0,0,"",null,null,null,null,null,{"$f":"VLOOKUP(AG70,'Anexo ODS'!$G$3:$P$86,5,0)","v":1},{"$f":"VLOOKUP(AG70,'Anexo ODS'!$G$3:$P$86,6,0)","v":"Las Personas"},{"$f":"VLOOKUP(AG70,'Anexo ODS'!$G$3:$P$86,7,0)","v":5},{"$f":"VLOOKUP(AG70,'Anexo ODS'!$G$3:$P$86,8,0)","v":"Igualdad de género"},{"$f":"VLOOKUP(AG70,'Anexo ODS'!$G$3:$P$86,9,0)","v":"5.4"},{"$f":"VLOOKUP(AG70,'Anexo ODS'!$G$3:$P$86,10,0)","v":"Reconocer y valorar los cuidados y el trabajo doméstico no remunerados mediante servicios públicos, infraestructuras y políticas de protección social, y promoviendo la responsabilidad compartida en el hogar y la familia, según proceda en cada país"},null,null,null,null,null,null,null,null,1000]
[70,2,"Chapinero",1,"Hacer un nuevo contrato social con igualdad de oportunidades para la inclusión social, productiva y política",6,"Sistema Distrital de Cuidado",null,null,null,null,70,"Beneficiar 100 personas con discapacidad a través de Dispositivos de Asistencia Personal - Ayudas Técnicas (no incluidas en los Planes de Beneficios).",2024,"CHAPINERO PROMUEVE LA INCLUSIÓN Y EL CUIDADO DE LA SALUD","DISPOSITIVOS DE ASISTENCIA PERSONAL","Suma",2,"Beneficiar",100,"Personas","con discapacidad a través de Dispositivos de Asistencia Personal - Ayudas Técnicas (no incluidas en los Planes de Beneficios).","Beneficiar 100 personas con discapacidad a través de Dispositivos de Asistencia Personal - Ayudas Técnicas (no incluidas en los Planes de Beneficios).",{"$f":"VLOOKUP(AG71,'Anexo PMR'!$B$4:$G$87,6,0)","v":"3_Flexible 5%"},11,"Condiciones de salud","Dispositivos de asistencia personal -DAP- Ayudas técnicas a personas con discapacidad (No incluidas en el POS).",91,"SALUD",16,"Promoción, prevención e intervención en salud.",33,"Número de personas con discapacidad beneficiadas con Dispostivos de Asistencia Personal - Ayudas Técnicas (no incluidas en los Planes de Beneficios).","ATENCIÓN  A LA DISCAPACIDAD Y SUS CUIDADORES",null,null,null,24,25,25,26,77000000,80000000,81000000,85000000,323000000,1,0,0,0,0,"Bajo","Bajo",3.9661100196463656E-2,0,0,null,null,null,0,"2021_1",24,24,0,0,0,0,0,0,0,0,0,0,0,"No mueve meta",null,null,null,70875000,70875000,0,0,0,5000000,0,0,0,5000000,0,0,0,0,0,"Recursos humanos institucionales requeridos para el cumplimiento de la meta",null,null,null,null,null,{"$f":"VLOOKUP(AG71,'Anexo ODS'!$G$3:$P$86,5,0)","v":3},{"$f":"VLOOKUP(AG71,'Anexo ODS'!$G$3:$P$86,6,0)","v":"La Prosperidad"},{"$f":"VLOOKUP(AG71,'Anexo ODS'!$G$3:$P$86,7,0)","v":10},{"$f":"VLOOKUP(AG71,'Anexo ODS'!$G$3:$P$86,8,0)","v":"Reducción de las desigualdades "},{"$f":"VLOOKUP(AG71,'Anexo ODS'!$G$3:$P$86,9,0)","v":"10.2"},{"$f":"VLOOKUP(AG71,'Anexo ODS'!$G$3:$P$86,10,0)","v":"De aquí a 2030, potenciar y promover la inclusión social, económica y política de todas las personas, independientemente de su edad, sexo, discapacidad, raza, etnia, origen, religión o situación económica u otra condición"},null,null,null,null,null,null,null,null,100]
[71,2,"Chapinero",1,"Hacer un nuevo contrato social con igualdad de oportunidades para la inclusión social, productiva y política",6,"Sistema Distrital de Cuidado",null,null,null,null,71,"Vincular 100 mujeres gestantes, niños y niñas, migrantes irregulares, vinculados en acciones de protección específica y detección temprana.",2024,"CHAPINERO PROMUEVE LA INCLUSIÓN Y EL CUIDADO DE LA SALUD","ACCIONES DE CUIDADO","Suma",6,"Vincular",100,"Personas","Mujeres gestantes, niños y niñas, migrantes irregulares, vinculados en acciones de protección específica y detección temprana.","Vincular 100 mujeres gestantes, niños y niñas, migrantes irregulares, vinculados en acciones de protección específica y detección temprana.",{"$f":"VLOOKUP(AG72,'Anexo PMR'!$B$4:$G$87,6,0)","v":"3_Flexible 5%"},11,"Condiciones de salud","Acciones de cuidado y protección para madres gestantes, niños y niñas migrantes.",91,"SALUD",16,"Promoción, prevención e intervención en salud.",35,"Número de mujeres gestantes, niños y niñas, migrantes irregulares, vinvulados en acciones de protección específica y detección temprana.","MUJERES GESTANTES",null,null,null,49,51,0,0,95000000,97000000,0,0,192000000,1,0,0,0,0,"Bajo","Bajo",2.3575638506876228E-2,0,0,null,null,null,0,"2021_1",49,49,0,0,0,0,0,0,0,0,0,0,0,"No mueve meta",null,null,null,87443000,87443000,0,0,0,5000000,0,0,0,5000000,0,0,0,0,0,"Recursos humanos institucionales requeridos para el cumplimiento de la meta",null,null,null,null,null,{"$f":"VLOOKUP(AG72,'Anexo ODS'!$G$3:$P$86,5,0)","v":1},{"$f":"VLOOKUP(AG72,'Anexo ODS'!$G$3:$P$86,6,0)","v":"Las Personas"},{"$f":"VLOOKUP(AG72,'Anexo ODS'!$G$3:$P$86,7,0)","v":3},{"$f":"VLOOKUP(AG72,'Anexo ODS'!$G$3:$P$86,8,0)","v":"Salud y Bienestar"},{"$f":"VLOOKUP(AG72,'Anexo ODS'!$G$3:$P$86,9,0)","v":"3.8"},{"$f":"VLOOKUP(AG72,'Anexo ODS'!$G$3:$P$86,10,0)","v":"Lograr la cobertura sanitaria universal, incluida la protección contra los riesgos financieros, el acceso a servicios de salud esenciales de calidad y el acceso a medicamentos y vacunas inocuos, eficaces, asequibles y de calidad para todos"},null,null,null,null,null,null,null,null,100]
[72,2,"Chapinero",1,"Hacer un nuevo contrato social con igualdad de oportunidades para la inclusión social, productiva y política",6,"Sistema Distrital de Cuidado",null,null,null,null,72,"Vincular 200 personas con discapacidad, cuidadores y cuidadoras, en actividades alternativas de salud fisíca y mental.",2024,"CHAPINERO PROMUEVE LA INCLUSIÓN Y EL CUIDADO DE LA SALUD","ACCIONES COMPLEMENTARIAS","Suma",1,"Vincular",200,"Personas","con discapacidad, cuidadores y cuidadoras, en actividades alternativas de salud física y mental","Vincular 200 personas con discapacidad, cuidadores y cuidadoras, en actividades alternativas de salud fisíca y mental.",{"$f":"VLOOKUP(AG73,'Anexo PMR'!$B$4:$G$87,6,0)","v":"3_Flexible 5%"},11,"Condiciones de salud","Acciones complementarias para personas en condición de discapacidad y sus cuidadores.",91,"SALUD",16,"Promoción, prevención e intervención en salud.",31,"Número de personas con discapacidad, cuidadadores y cuidadoras, vinculados en actividades alernativas de salud.","ATENCIÓN  A LA DISCAPACIDAD Y SUS CUIDADORES",null,null,null,48,49,50,53,95000000,98000000,100000000,104000000,397000000,1,0,0,0,0,"Bajo","Bajo",4.8747544204322202E-2,0,0,null,null,null,0,"2021_1",48,48,0,0,0,0,0,0,0,0,0,0,0,"No mueve meta",null,null,null,87443000,87443000,0,0,0,5000000,0,0,0,5000000,0,0,0,0,0,"Recursos humanos institucionales requeridos para el cumplimiento de la meta",null,null,null,null,null,{"$f":"VLOOKUP(AG73,'Anexo ODS'!$G$3:$P$86,5,0)","v":1},{"$f":"VLOOKUP(AG73,'Anexo ODS'!$G$3:$P$86,6,0)","v":"Las Personas"},{"$f":"VLOOKUP(AG73,'Anexo ODS'!$G$3:$P$86,7,0)","v":3},{"$f":"VLOOKUP(AG73,'Anexo ODS'!$G$3:$P$86,8,0)","v":"Salud y Bienestar"},{"$f":"VLOOKUP(AG73,'Anexo ODS'!$G$3:$P$86,9,0)","v":"3.4"},{"$f":"VLOOKUP(AG73,'Anexo ODS'!$G$3:$P$86,10,0)","v":"De aquí a 2030, reducir en un tercio la mortalidad prematura por enfermedades no transmisibles mediante su prevención y tratamiento, y promover la salud mental y el\nbienestar"},null,null,null,null,null,null,null,null,200]
[73,2,"Chapinero",1,"Hacer un nuevo contrato social con igualdad de oportunidades para la inclusión social, productiva y política",6,"Sistema Distrital de Cuidado",null,null,null,null,73,"Vincular 400 personas a las acciones desarrolladas desde los dispositivos de base comunitaria en respuesta al consumo de SPA.",2024,"CHAPINERO PROMUEVE LA INCLUSIÓN Y EL CUIDADO DE LA SALUD","DISMINUCIÓN FACTORES DE RIESGO SPA","Suma",4,"Vincular",400,"Personas","a las acciones desarrolladas desde los dispositivos de base comunitaria en respuesta al consumo de SPA.","Vincular 400 personas a las acciones desarrolladas desde los dispositivos de base comunitaria en respuesta al consumo de SPA.",{"$f":"VLOOKUP(AG74,'Anexo PMR'!$B$4:$G$87,6,0)","v":"3_Flexible 5%"},11,"Condiciones de salud","Acciones para la disminución de los factores de riesgo frente al consumo de sustancias psicoactivas.",91,"SALUD",16,"Promoción, prevención e intervención en salud.",32,"Números de personas vinculadas a las acciones desarrolladas desde los dispositivos de base comunitaria en respuesta al consumo de SPA.","SPA",null,null,null,95,99,102,104,87000000,91000000,93000000,95000000,366000000,1,0,0,0,0,"Bajo","Bajo",4.4941060903732809E-2,0,0,null,null,null,0,"2021_1",95,95,0,0,0,0,0,0,0,0,0,0,0,"No mueve meta",null,null,null,80080000,80080000,0,0,0,5000000,0,0,0,5000000,0,0,0,0,0,"Recursos humanos institucionales requeridos para el cumplimiento de la meta",null,null,null,null,null,{"$f":"VLOOKUP(AG74,'Anexo ODS'!$G$3:$P$86,5,0)","v":1},{"$f":"VLOOKUP(AG74,'Anexo ODS'!$G$3:$P$86,6,0)","v":"Las Personas"},{"$f":"VLOOKUP(AG74,'Anexo ODS'!$G$3:$P$86,7,0)","v":3},{"$f":"VLOOKUP(AG74,'Anexo ODS'!$G$3:$P$86,8,0)","v":"Salud y Bienestar"},{"$f":"VLOOKUP(AG74,'Anexo ODS'!$G$3:$P$86,9,0)","v":"3.5"},{"$f":"VLOOKUP(AG74,'Anexo ODS'!$G$3:$P$86,10,0)","v":"Fortalecer la prevención y el tratamiento del abuso de sustancias adictivas, incluido el uso indebido de estupefacientes y el consumo nocivo de alcohol"},null,null,null,null,null,null,null,null,400]
[74,2,"Chapinero",1,"Hacer un nuevo contrato social con igualdad de oportunidades para la inclusión social, productiva y política",6,"Sistema Distrital de Cuidado",null,null,null,null,74,"Vincular 400 personas a las acciones y estrategias de reconocimiento de los saberes ancestrales en medicina.",2024,"CHAPINERO PROMUEVE LA INCLUSIÓN Y EL CUIDADO DE LA SALUD","SABERES ANCESTRALES","Suma",3,"Vincular",400,"Personas","a las acciones y estrategias de reconocimiento de los saberes ancestrales en medicina.","Vincular 400 personas a las acciones y estrategias de reconocimiento de los saberes ancestrales en medicina.",{"$f":"VLOOKUP(AG75,'Anexo PMR'!$B$4:$G$87,6,0)","v":"3_Flexible 5%"},11,"Condiciones de salud","Reconocimiento de los saberes ancestrales en medicina.",91,"SALUD",16,"Promoción, prevención e intervención en salud.",34,"Número de personas vinculadas a las acciones y estrategias de reconocimiento de los saberes ancestrales en medicina.","SABERES ANCESTRALES",null,null,null,97,98,102,103,78000000,79000000,82000000,84000000,323000000,1,0,0,0,0,"Bajo","Bajo",3.9661100196463656E-2,0,0,null,null,null,0,"2021_1",97,97,0,0,0,0,0,0,0,0,0,0,0,"No mueve meta",null,null,null,71796000,71796000,0,0,0,5000000,0,0,0,5000000,0,0,0,0,0,"Recursos humanos institucionales requeridos para el cumplimiento de la meta",null,null,null,null,null,{"$f":"VLOOKUP(AG75,'Anexo ODS'!$G$3:$P$86,5,0)","v":1},{"$f":"VLOOKUP(AG75,'Anexo ODS'!$G$3:$P$86,6,0)","v":"Las Personas"},{"$f":"VLOOKUP(AG75,'Anexo ODS'!$G$3:$P$86,7,0)","v":3},{"$f":"VLOOKUP(AG75,'Anexo ODS'!$G$3:$P$86,8,0)","v":"Salud y Bienestar"},{"$f":"VLOOKUP(AG75,'Anexo ODS'!$G$3:$P$86,9,0)","v":"3.b"},{"$f":"VLOOKUP(AG75,'Anexo ODS'!$G$3:$P$86,10,0)","v":"Apoyar las actividades de investigación y desarrollo de vacunas y medicamentos contra las enfermedades transmisibles y no transmisibles que afectan primordialmente a los países en desarrollo y facilitar el acceso a medicamentos y vacunas esenciales asequibles de conformidad con la Declaración relativa al Acuerdo sobre los Aspectos de los Derechos de Propiedad Intelectual Relacionados con el Comercio y la Salud Pública, en la que se afirma el derecho de los países en desarrollo a utilizar al máximo las disposiciones del Acuerdo sobre los Aspectos de los Derechos de Propiedad Intelectual Relacionados con el Comercio respecto a la flexibilidad para proteger la salud pública y, en particular, proporcionar acceso a los medicamentos para todos"},null,null,null,null,null,null,null,null,400]
[75,2,"Chapinero",1,"Hacer un nuevo contrato social con igualdad de oportunidades para la inclusión social, productiva y política",6,"Sistema Distrital de Cuidado",null,null,null,null,75,"Vincular 400 personas en acciones complementarias de la estrategia territorial de salud integral.",2024,"CHAPINERO PROMUEVE LA INCLUSIÓN Y EL CUIDADO DE LA SALUD","ESTRATEGIA TERRITORIAL DE SALUD","Suma",5,"Vincular",400,"Personas","en acciones complementarias de la estrategia territorial de salud integral.","Vincular 400 personas en acciones complementarias de la estrategia territorial de salud integral.",{"$f":"VLOOKUP(AG76,'Anexo PMR'!$B$4:$G$87,6,0)","v":"3_Flexible 5%"},11,"Condiciones de salud","Coinversión en la estrategia territorial de salud.",91,"SALUD",16,"Promoción, prevención e intervención en salud.",36,"Número de personas vinculadas en las acciones complementarias de la estrategia territorial de salud.","ESTRATEGIA TERRITORIAL DE SALUD",null,null,null,95,98,102,105,103000000,106000000,110000000,114000000,433000000,1,0,0,0,0,"Bajo","Bajo",5.3167976424361496E-2,0,0,null,null,null,0,"2021_1",95,95,0,0,0,0,0,0,0,0,0,0,0,"No mueve meta",null,null,null,94807000,94807000,0,0,0,5000000,0,0,0,5000000,0,0,0,0,0,"Recursos humanos institucionales requeridos para el cumplimiento de la meta",null,null,null,null,null,{"$f":"VLOOKUP(AG76,'Anexo ODS'!$G$3:$P$86,5,0)","v":1},{"$f":"VLOOKUP(AG76,'Anexo ODS'!$G$3:$P$86,6,0)","v":"Las Personas"},{"$f":"VLOOKUP(AG76,'Anexo ODS'!$G$3:$P$86,7,0)","v":3},{"$f":"VLOOKUP(AG76,'Anexo ODS'!$G$3:$P$86,8,0)","v":"Salud y Bienestar"},{"$f":"VLOOKUP(AG76,'Anexo ODS'!$G$3:$P$86,9,0)","v":"3.8"},{"$f":"VLOOKUP(AG76,'Anexo ODS'!$G$3:$P$86,10,0)","v":"Lograr la cobertura sanitaria universal, incluida la protección contra los riesgos financieros, el acceso a servicios de salud esenciales de calidad y el acceso a medicamentos y vacunas inocuos, eficaces, asequibles y de calidad para todos"},null,null,null,null,null,null,null,null,400]
[76,2,"Chapinero",1,"Hacer un nuevo contrato social con igualdad de oportunidades para la inclusión social, productiva y política",8,"Prevención y atención de maternidad temprana",null,null,null,null,76,"Vincular 200 personas a las acciones y estrategias para la prevención del embarazo adolescente.",2025,"Chapinero joven, sano y responsable","PREVENCIÓN","Suma",1,"Vincular",200,"Personas","a las acciones y estrategias para la prevención del embarazo adolescente.","Vincular 200 personas a las acciones y estrategias para la prevención del embarazo adolescente.",{"$f":"VLOOKUP(AG77,'Anexo PMR'!$B$4:$G$87,6,0)","v":"3_Flexible 5%"},11,"Condiciones de salud","Prevención del embarazo en adolescentes.",91,"SALUD",16,"Promoción, prevención e intervención en salud.",37,"Número de personas vinculadas a las acciones y estrategias para la prevención del embarazo adolescente","PREVENCIÓN DEL EMBARAZO",null,null,null,0,0,100,100,0,0,103000000,104000000,207000000,1,0,0,0,0,"Bajo","Bajo",1,0,0,null,null,null,0,"2021_1",0,0,0,0,0,0,0,0,0,0,0,0,0,"",null,null,null,0,0,0,0,0,null,0,0,0,0,null,null,0,0,0,"",null,null,null,null,null,{"$f":"VLOOKUP(AG77,'Anexo ODS'!$G$3:$P$86,5,0)","v":1},{"$f":"VLOOKUP(AG77,'Anexo ODS'!$G$3:$P$86,6,0)","v":"Las Personas"},{"$f":"VLOOKUP(AG77,'Anexo ODS'!$G$3:$P$86,7,0)","v":3},{"$f":"VLOOKUP(AG77,'Anexo ODS'!$G$3:$P$86,8,0)","v":"Salud y Bienestar"},{"$f":"VLOOKUP(AG77,'Anexo ODS'!$G$3:$P$86,9,0)","v":"3.7"},{"$f":"VLOOKUP(AG77,'Anexo ODS'!$G$3:$P$86,10,0)","v":"De aquí a 2030, garantizar el acceso universal a los servicios de salud sexual y reproductiva, incluidos los de planificación familiar, información y educación, y la integración de la salud reproductiva en las estrategias y los programas nacionales"},null,null,null,null,null,null,null,null,200]
[77,2,"Chapinero",1,"Hacer un nuevo contrato social con igualdad de oportunidades para la inclusión social, productiva y política",12,"Educación inicial: Bases sólidas para la vida",null,null,null,null,77,"Implementar 16  Proyectos para el desarrollo integral de la primera infancia y la relación escuela, familia y comunidad.",1830,"CHAPINERO ES PRIMERA INFANCIA","EDUCACIÓN INICIAL","Suma",1,"Implementar",16,"Proyectos","para el desarrollo integral de la primera infancia y la relación escuela, familia y comunidad.","Implementar 16  Proyectos para el desarrollo integral de la primera infancia y la relación escuela, familia y comunidad.",{"$f":"VLOOKUP(AG78,'Anexo PMR'!$B$4:$G$87,6,0)","v":"1_Inflexible 45%"},4,"Educación superior y primera infancia (10%)","Apoyo para educación inicial.",90,"EDUCACIÓN",2,"Protección integral a niños y niñas y adolescentes.",3,"Proyectos para el desarrollo integral de la primera infancia y la relación escuela, familia y comunidad.","PROYECTOS PRIMERA INFANCIA",null,null,null,4,4,4,4,604000000,623000000,642000000,663000000,2532000000,1,0,0,0,0,"Bajo","Bajo",1,0,0,null,null,null,0,"2021_1",4,4,0,0,0,0,0,0,0,0,0,0,0,"No mueve meta",null,null,null,555955000,555955000,0,0,0,33000000,0,0,0,33000000,0,0,0,0,0,"Recursos humanos institucionales requeridos para el cumplimiento de la meta",null,null,null,null,null,{"$f":"VLOOKUP(AG78,'Anexo ODS'!$G$3:$P$86,5,0)","v":1},{"$f":"VLOOKUP(AG78,'Anexo ODS'!$G$3:$P$86,6,0)","v":"Las Personas"},{"$f":"VLOOKUP(AG78,'Anexo ODS'!$G$3:$P$86,7,0)","v":4},{"$f":"VLOOKUP(AG78,'Anexo ODS'!$G$3:$P$86,8,0)","v":"Educación de calidad"},{"$f":"VLOOKUP(AG78,'Anexo ODS'!$G$3:$P$86,9,0)","v":"4.2"},{"$f":"VLOOKUP(AG78,'Anexo ODS'!$G$3:$P$86,10,0)","v":"De aquí a 2030, asegurar que todas las niñas y todos los niños tengan acceso a servicios de atención y desarrollo en la primera infancia y educación preescolar de calidad, a fin de que estén preparados para la enseñanza primaria."},null,null,null,null,null,null,null,null,16]
[78,2,"Chapinero",1,"Hacer un nuevo contrato social con igualdad de oportunidades para la inclusión social, productiva y política",14,"Formación integral: más y mejor tiempo en los colegios",null,null,null,null,78,"Dotar 4 sedes educativas urbanas",1842,"Chapinero apropia los espacios educativos","DOTACIÓN","Suma",1,"Dotar",4,"Sedes","educativas urbanas","Dotar 4 sedes educativas urbanas",{"$f":"VLOOKUP(AG79,'Anexo PMR'!$B$4:$G$87,6,0)","v":"2_Presupuestos Participativos 50%"},6,"Infraestructura","Dotación pedagógica a colegios.",90,"EDUCACIÓN",3,"Infraestructura y dotación escolar.",4,"Sedes educativas urbanas y rurales dotadas","SEDES EDUCATIVAS",null,null,null,0,0,0,4,0,0,0,560000000,560000000,1,0,0,0,0,"Bajo","Bajo",1,0,0,null,null,null,0,"2021_1",0,0,0,0,0,0,0,0,0,0,0,0,0,"",null,null,null,0,0,0,0,0,null,0,0,0,0,null,null,0,0,0,"",null,null,null,null,null,{"$f":"VLOOKUP(AG79,'Anexo ODS'!$G$3:$P$86,5,0)","v":1},{"$f":"VLOOKUP(AG79,'Anexo ODS'!$G$3:$P$86,6,0)","v":"Las Personas"},{"$f":"VLOOKUP(AG79,'Anexo ODS'!$G$3:$P$86,7,0)","v":4},{"$f":"VLOOKUP(AG79,'Anexo ODS'!$G$3:$P$86,8,0)","v":"Educación de calidad"},{"$f":"VLOOKUP(AG79,'Anexo ODS'!$G$3:$P$86,9,0)","v":"4.7"},{"$f":"VLOOKUP(AG79,'Anexo ODS'!$G$3:$P$86,10,0)","v":"De aquí a 2030, asegurar que todos los alumnos adquieran los conocimientos teóricos y prácticos necesarios para promover el desarrollo sostenible, entre otras cosas mediante la educación para el desarrollo sostenible y los estilos de vida sostenibles, los derechos humanos, la igualdad de género, la promoción de una cultura de paz y no violencia, la ciudadanía mundial y la valoración de la diversidad cultural y la contribución de la cultura al desarrollo sostenible"},null,null,null,null,null,null,null,null,4]
[79,2,"Chapinero",1,"Hacer un nuevo contrato social con igualdad de oportunidades para la inclusión social, productiva y política",17,"Jóvenes con capacidades: Proyecto de vida para la ciudadanía, la innovación y el trabajo del siglo XXI",null,null,null,null,79,"Dotar 1 Sede de casa de juventud",1695,"JOVENES COMPROMETIDOS POR CHAPINERO","DOTACIÓN","Suma",1,"Dotar",1,"Sedes","de casa de la juventud","Dotar 1 Sede de casa de juventud",{"$f":"VLOOKUP(AG80,'Anexo PMR'!$B$4:$G$87,6,0)","v":"2_Presupuestos Participativos 50%"},6,"Infraestructura","Dotación Casas de Juventud.",92,"INTEGRACIÓN SOCIAL",5,"Dotación para la atención y la prestación de los servicios en la infraestructura del sector Integración Social.",7,"Sedes de Casas de juventud dotadas","CASAS DE JUVENTUD",null,null,null,1,0,0,0,270000000,0,0,0,270000000,1,0,0,0,0,"Bajo","Bajo",5.4304102976669349E-2,0,0,null,null,null,0,"2021_1",1,1,0,0,0,0,0,0,0,0,0,0,0,"No mueve meta",null,null,null,248523000,248523000,0,0,0,22000000,0,0,0,22000000,0,0,0,0,0,"Recursos humanos institucionales requeridos para el cumplimiento de la meta",null,null,null,null,null,{"$f":"VLOOKUP(AG80,'Anexo ODS'!$G$3:$P$86,5,0)","v":1},{"$f":"VLOOKUP(AG80,'Anexo ODS'!$G$3:$P$86,6,0)","v":"Las Personas"},{"$f":"VLOOKUP(AG80,'Anexo ODS'!$G$3:$P$86,7,0)","v":1},{"$f":"VLOOKUP(AG80,'Anexo ODS'!$G$3:$P$86,8,0)","v":"Fin de la Pobreza"},{"$f":"VLOOKUP(AG80,'Anexo ODS'!$G$3:$P$86,9,0)","v":"1.2"},{"$f":"VLOOKUP(AG80,'Anexo ODS'!$G$3:$P$86,10,0)","v":"De aquí a 2030, reducir al menos a la mitad la proporción de hombres, mujeres y niños de todas las edades que viven en la pobreza en todas sus dimensiones con arreglo a las definiciones nacionales"},null,null,null,null,null,null,null,null,1]
[80,2,"Chapinero",1,"Hacer un nuevo contrato social con igualdad de oportunidades para la inclusión social, productiva y política",17,"Jóvenes con capacidades: Proyecto de vida para la ciudadanía, la innovación y el trabajo del siglo XXI",null,null,null,null,80,"Beneficiar 100 personas con apoyo para la educación superior.",1743,"CHAPINERO CONSTRUYE FUTURO","APOYO EDUCACIÓN SUPERIOR","Suma",1,"Beneficiar",100,"Personas","con apoyo para la educación superior","Beneficiar 100 personas con apoyo para la educación superior.",{"$f":"VLOOKUP(AG81,'Anexo PMR'!$B$4:$G$87,6,0)","v":"1_Inflexible 45%"},4,"Educación superior y primera infancia (10%)","Apoyo para educación superior.",90,"EDUCACIÓN",4,"Apoyo a la educación superior.",5,"Personas beneficiadas con  apoyo para la educación superior","EDUCACIÓN SUPERIOR",null,null,null,26,26,24,24,690000000,712000000,734000000,758000000,2894000000,1,0,0,0,0,"Bajo","Bajo",0.58205953338696703,0,0,null,null,null,0,"2021_1",26,26,0,0,0,0,0,0,0,0,0,0,0,"No mueve meta",null,null,null,635114000,635114000,0,0,0,12500000,0,0,0,12500000,0,0,0,0,0,"Recursos humanos institucionales requeridos para el cumplimiento de la meta",null,null,null,null,null,{"$f":"VLOOKUP(AG81,'Anexo ODS'!$G$3:$P$86,5,0)","v":1},{"$f":"VLOOKUP(AG81,'Anexo ODS'!$G$3:$P$86,6,0)","v":"Las Personas"},{"$f":"VLOOKUP(AG81,'Anexo ODS'!$G$3:$P$86,7,0)","v":4},{"$f":"VLOOKUP(AG81,'Anexo ODS'!$G$3:$P$86,8,0)","v":"Educación de calidad"},{"$f":"VLOOKUP(AG81,'Anexo ODS'!$G$3:$P$86,9,0)","v":"4.3"},{"$f":"VLOOKUP(AG81,'Anexo ODS'!$G$3:$P$86,10,0)","v":"De aquí a 2030, asegurar el acceso igualitario de todos los hombres y las mujeres a una formación técnica, profesional y superior de calidad, incluida la enseñanza universitaria."},null,null,null,null,null,null,null,null,100]
[81,2,"Chapinero",1,"Hacer un nuevo contrato social con igualdad de oportunidades para la inclusión social, productiva y política",17,"Jóvenes con capacidades: Proyecto de vida para la ciudadanía, la innovación y el trabajo del siglo XXI",null,null,null,null,81,"Beneficiar 200 estudiantes de programas de educación superior con apoyo de sostenimiento para la permanencia.",1743,"CHAPINERO CONSTRUYE FUTURO","SOSTENIMIENTO","Suma",2,"Beneficiar",200,"estudiantes","de programas de educación superior con apoyo de sostenimiento para la permanencia","Beneficiar 200 estudiantes de programas de educación superior con apoyo de sostenimiento para la permanencia.",{"$f":"VLOOKUP(AG82,'Anexo PMR'!$B$4:$G$87,6,0)","v":"1_Inflexible 45%"},4,"Educación superior y primera infancia (10%)","Apoyo para educación superior.",90,"EDUCACIÓN",4,"Apoyo a la educación superior.",6,"Número de estudiantes de programas de educación superior con apoyo de sostenimiento para la permanencia.","EDUCACIÓN SUPERIOR",null,null,null,50,50,50,50,432000000,444000000,460000000,472000000,1808000000,1,0,0,0,0,"Bajo","Bajo",0.36363636363636365,0,0,null,null,null,0,"2021_1",50,50,0,0,0,0,0,0,0,0,0,0,0,"No mueve meta",null,null,null,397637000,397637000,0,0,0,12500000,0,0,0,12500000,0,0,0,0,0,"Recursos humanos institucionales requeridos para el cumplimiento de la meta",null,null,null,null,null,{"$f":"VLOOKUP(AG82,'Anexo ODS'!$G$3:$P$86,5,0)","v":1},{"$f":"VLOOKUP(AG82,'Anexo ODS'!$G$3:$P$86,6,0)","v":"Las Personas"},{"$f":"VLOOKUP(AG82,'Anexo ODS'!$G$3:$P$86,7,0)","v":4},{"$f":"VLOOKUP(AG82,'Anexo ODS'!$G$3:$P$86,8,0)","v":"Educación de calidad"},{"$f":"VLOOKUP(AG82,'Anexo ODS'!$G$3:$P$86,9,0)","v":"4.3"},{"$f":"VLOOKUP(AG82,'Anexo ODS'!$G$3:$P$86,10,0)","v":"De aquí a 2030, asegurar el acceso igualitario de todos los hombres y las mujeres a una formación técnica, profesional y superior de calidad, incluida la enseñanza universitaria."},null,null,null,null,null,null,null,null,200]
[82,2,"Chapinero",1,"Hacer un nuevo contrato social con igualdad de oportunidades para la inclusión social, productiva y política",19,"Vivienda y entornos dignos en el territorio urbano y rural",null,null,null,null,82,"Mejorar 20 viviendas de interés social rurales",1699,"Chapinero vive rural","MEJORAMIENTO DE VIVIENDA","Suma",1,"Mejorar",20,"Viviendas","de interés social rurales","Mejorar 20 viviendas de interés social rurales",{"$f":"VLOOKUP(AG83,'Anexo PMR'!$B$4:$G$87,6,0)","v":"2_Presupuestos Participativos 50%"},9,"Ruralidad","Mejoramiento de vivienda rural.",96,"HÁBITAT",6,"Viviendas de interés social rural mejoradas.",9,"Viviendas de interés social rurales mejoradas ","VIVIENDA RURAL",null,null,null,0,20,0,0,0,528000000,0,0,528000000,1,0,0,0,0,"Bajo","Bajo",1,0,0,null,null,null,0,"2021_1",0,0,0,0,0,0,0,0,0,0,0,0,0,"",null,null,null,0,0,0,0,0,null,0,0,0,0,null,null,0,0,0,"",null,null,null,null,null,{"$f":"VLOOKUP(AG83,'Anexo ODS'!$G$3:$P$86,5,0)","v":3},{"$f":"VLOOKUP(AG83,'Anexo ODS'!$G$3:$P$86,6,0)","v":"La Prosperidad"},{"$f":"VLOOKUP(AG83,'Anexo ODS'!$G$3:$P$86,7,0)","v":11},{"$f":"VLOOKUP(AG83,'Anexo ODS'!$G$3:$P$86,8,0)","v":"Ciudades y comunidades sostenibles"},{"$f":"VLOOKUP(AG83,'Anexo ODS'!$G$3:$P$86,9,0)","v":"11.1"},{"$f":"VLOOKUP(AG83,'Anexo ODS'!$G$3:$P$86,10,0)","v":"De aquí a 2030, asegurar el acceso de todas las personas a viviendas y servicios básicos adecuados, seguros y asequibles y mejorar los barrios marginales"},null,null,null,null,null,null,null,null,20]
[83,2,"Chapinero",1,"Hacer un nuevo contrato social con igualdad de oportunidades para la inclusión social, productiva y política",20,"Bogotá, referente en cultura, deporte, recreación y actividad física, con parques para el desarrollo y la salud",null,null,null,null,83,"Capacitar 400 personas en los campos deportivos.",1845,"CHAPINERO EPICENTRO DEL DEPORTE Y LA RECREACIÓN","FORMACIÓN DEPORTIVA","Suma",2,"Capacitar",400,"Personas","en los campos deportivos","Capacitar 400 personas en los campos deportivos.",{"$f":"VLOOKUP(AG84,'Anexo PMR'!$B$4:$G$87,6,0)","v":"2_Presupuestos Participativos 50%"},7,"Desarrollo social y cultural","Procesos de formación y dotación de insumos para los campos artísticos, interculturales, culturales, patrimoniales y deportivos.",93,"CULTURA, RECREACIÓN Y DEPORTE",7,"Eventos y actividades recreativas y deportivas.",11,"Personas capacitadas en los campos deportivos","FORMACIÓN DEPORTIVA",null,null,null,0,199,0,201,0,216000000,0,219000000,435000000,1,0,0,0,0,"Bajo","Bajo",0.28028350515463918,0,0,null,null,null,0,"2021_1",0,0,0,0,0,0,0,0,0,0,0,0,0,"",null,null,null,0,0,0,0,0,null,0,0,0,0,null,null,0,0,0,"",null,null,null,null,null,{"$f":"VLOOKUP(AG84,'Anexo ODS'!$G$3:$P$86,5,0)","v":1},{"$f":"VLOOKUP(AG84,'Anexo ODS'!$G$3:$P$86,6,0)","v":"Las Personas"},{"$f":"VLOOKUP(AG84,'Anexo ODS'!$G$3:$P$86,7,0)","v":4},{"$f":"VLOOKUP(AG84,'Anexo ODS'!$G$3:$P$86,8,0)","v":"Educación de calidad"},{"$f":"VLOOKUP(AG84,'Anexo ODS'!$G$3:$P$86,9,0)","v":"4.7"},{"$f":"VLOOKUP(AG84,'Anexo ODS'!$G$3:$P$86,10,0)","v":"De aquí a 2030, asegurar que todos los alumnos adquieran los conocimientos teóricos y prácticos necesarios para promover el desarrollo sostenible, entre otras cosas mediante la educación para el desarrollo sostenible y los estilos de vida sostenibles, los derechos humanos, la igualdad de género, la promoción de una cultura de paz y no violencia, la ciudadanía mundial y la valoración de la diversidad cultural y la contribución de la cultura al desarrollo sostenible"},null,null,null,null,null,null,null,null,400]
[84,2,"Chapinero",1,"Hacer un nuevo contrato social con igualdad de oportunidades para la inclusión social, productiva y política",20,"Bogotá, referente en cultura, deporte, recreación y actividad física, con parques para el desarrollo y la salud",null,null,null,null,84,"Vincular 3000 personas en actividades recreo-deportivas comunitarias.",1845,"CHAPINERO EPICENTRO DEL DEPORTE Y LA RECREACIÓN","EVENTOS","Suma",1,"Vincular",3000,"Personas","en actividades recreodeportivas comunitarias","Vincular 3000 personas en actividades recreo-deportivas comunitarias.",{"$f":"VLOOKUP(AG85,'Anexo PMR'!$B$4:$G$87,6,0)","v":"2_Presupuestos Participativos 50%"},7,"Desarrollo social y cultural","Eventos recreo-deportivos.",93,"CULTURA, RECREACIÓN Y DEPORTE",7,"Eventos y actividades recreativas y deportivas.",10,"Personas vinculadas en actividades recreo-deportivas comunitarias","ACTIVIDAD DEPORTIVA",null,null,null,749,749,749,753,279000000,279000000,279000000,280000000,1117000000,1,0,0,0,0,"Bajo","Bajo",0.71971649484536082,0,0,null,null,null,0,"2021_1",749,749,0,0,0,0,0,0,0,0,0,0,0,"",null,null,null,256807000,256807000,0,0,0,null,0,0,0,0,null,null,0,0,0,"",null,null,null,null,null,{"$f":"VLOOKUP(AG85,'Anexo ODS'!$G$3:$P$86,5,0)","v":1},{"$f":"VLOOKUP(AG85,'Anexo ODS'!$G$3:$P$86,6,0)","v":"Las Personas"},{"$f":"VLOOKUP(AG85,'Anexo ODS'!$G$3:$P$86,7,0)","v":3},{"$f":"VLOOKUP(AG85,'Anexo ODS'!$G$3:$P$86,8,0)","v":"Salud y Bienestar"},{"$f":"VLOOKUP(AG85,'Anexo ODS'!$G$3:$P$86,9,0)","v":"3.d"},{"$f":"VLOOKUP(AG85,'Anexo ODS'!$G$3:$P$86,10,0)","v":"Reforzar la capacidad de todos los países, en particular los países en desarrollo, en materia de alerta temprana,  reducción de riesgos y gestión de los riesgos para la salud nacional y mundial"},null,null,null,null,null,null,null,null,3000]
[85,2,"Chapinero",1,"Hacer un nuevo contrato social con igualdad de oportunidades para la inclusión social, productiva y política",21,"Creación y vida cotidiana: Apropiación ciudadana del arte, la cultura y el patrimonio, para la democracia cultural",null,null,null,null,85,"Formar 500 personas en los campos artísticos, interculturales, culturales y/o patrimoniales con enfoque  diferencial, poblacional y de derechos.",1848,"Chapinero cultural y creativo","FORMACIÓN","Suma",3,"Formar",500,"Personas","en los campos artísticos, interculturales, culturales y/o patrimoniales con enfoque  diferencial, poblacional y de derechos.","Formar 500 personas en los campos artísticos, interculturales, culturales y/o patrimoniales con enfoque  diferencial, poblacional y de derechos.",{"$f":"VLOOKUP(AG86,'Anexo PMR'!$B$4:$G$87,6,0)","v":"2_Presupuestos Participativos 50%"},7,"Desarrollo social y cultural","Procesos de formación y dotación de insumos para los campos artísticos, interculturales, culturales, patrimoniales y deportivos.",93,"CULTURA, RECREACIÓN Y DEPORTE",10,"Formación artística y cultural.",15,"Personas capacitadas en los campos artísticos, interculturales, culturales y/o patrimoniales","FORMACIÓN CULTURAL",null,null,null,250,0,250,0,216000000,0,216000000,0,432000000,1,0,0,0,0,"Bajo","Bajo",0.19762122598353157,0,0,null,null,null,0,"2021_1",250,250,0,0,0,0,0,0,0,0,0,0,0,"",null,null,null,198819000,198819000,0,0,0,null,0,0,0,0,null,null,0,0,0,"",null,null,null,null,null,{"$f":"VLOOKUP(AG86,'Anexo ODS'!$G$3:$P$86,5,0)","v":3},{"$f":"VLOOKUP(AG86,'Anexo ODS'!$G$3:$P$86,6,0)","v":"La Prosperidad"},{"$f":"VLOOKUP(AG86,'Anexo ODS'!$G$3:$P$86,7,0)","v":11},{"$f":"VLOOKUP(AG86,'Anexo ODS'!$G$3:$P$86,8,0)","v":"Ciudades y comunidades sostenibles"},{"$f":"VLOOKUP(AG86,'Anexo ODS'!$G$3:$P$86,9,0)","v":"11.4"},{"$f":"VLOOKUP(AG86,'Anexo ODS'!$G$3:$P$86,10,0)","v":"Redoblar los esfuerzos para proteger y salvaguardar el patrimonio cultural y natural del mundo"},null,null,null,null,null,null,null,null,500]
[86,2,"Chapinero",1,"Hacer un nuevo contrato social con igualdad de oportunidades para la inclusión social, productiva y política",21,"Creación y vida cotidiana: Apropiación ciudadana del arte, la cultura y el patrimonio, para la democracia cultural",null,null,null,null,86,"Intervenir 1 sede cultural con dotación y/o adecuación.",1848,"Chapinero cultural y creativo","FORTALECIMIENTO INFRAESTRUCTURA","Suma",4,"Intervenir",1,"Sedes","con dotación y/o adecuación","Intervenir 1 sede cultural con dotación y/o adecuación.",{"$f":"VLOOKUP(AG87,'Anexo PMR'!$B$4:$G$87,6,0)","v":"2_Presupuestos Participativos 50%"},6,"Infraestructura","Dotación e infraestructura cultural.",93,"CULTURA, RECREACIÓN Y DEPORTE",11,"Infraestructura y dotación a centros artísticos y culturales.",16,"Sedes dotadas/Sedes adecuadas","SEDES CULTURALES",null,null,null,0,0,1,0,0,0,546000000,0,546000000,1,0,0,0,0,"Bajo","Bajo",0.24977127172918573,0,0,null,null,null,0,"2021_1",0,0,0,0,0,0,0,0,0,0,0,0,0,"",null,null,null,0,0,0,0,0,null,0,0,0,0,null,null,0,0,0,"",null,null,null,null,null,{"$f":"VLOOKUP(AG87,'Anexo ODS'!$G$3:$P$86,5,0)","v":3},{"$f":"VLOOKUP(AG87,'Anexo ODS'!$G$3:$P$86,6,0)","v":"La Prosperidad"},{"$f":"VLOOKUP(AG87,'Anexo ODS'!$G$3:$P$86,7,0)","v":9},{"$f":"VLOOKUP(AG87,'Anexo ODS'!$G$3:$P$86,8,0)","v":"Industria, innovación e infraestructura"},{"$f":"VLOOKUP(AG87,'Anexo ODS'!$G$3:$P$86,9,0)","v":"9.1"},{"$f":"VLOOKUP(AG87,'Anexo ODS'!$G$3:$P$86,10,0)","v":"Desarrollar infraestructuras fiables, sostenibles, resilientes y de calidad, incluidas infraestructuras regionales y transfronterizas, para apoyar el desarrollo económico y el bienestar humano, haciendo especial hincapié en el acceso asequible y equitativo para todos"},null,null,null,null,null,null,null,null,1]
[87,2,"Chapinero",1,"Hacer un nuevo contrato social con igualdad de oportunidades para la inclusión social, productiva y política",21,"Creación y vida cotidiana: Apropiación ciudadana del arte, la cultura y el patrimonio, para la democracia cultural",null,null,null,null,87,"Otorgar 40 estímulos de apoyo al sector artístico y cultural.",1848,"Chapinero cultural y creativo","ESTÍMULOS","Suma",2,"Otorgar",40,"Estímulos","de apoyo al sector artístico y cultural","Otorgar 40 estímulos de apoyo al sector artístico y cultural.",{"$f":"VLOOKUP(AG88,'Anexo PMR'!$B$4:$G$87,6,0)","v":"2_Presupuestos Participativos 50%"},7,"Desarrollo social y cultural","Iniciativas de interés cultural, artístico, patrimonial y recreo deportivas.",93,"CULTURA, RECREACIÓN Y DEPORTE",9,"Servicio de apoyo financiero para el desarrollo de prácticas artísticas y culturales en el Distrito de Bogotá.",14,"Estímulos otorgados de apoyo al sector artístico y cultural ","ESTIMULOS CULTURALES",null,null,null,0,20,0,20,0,406000000,0,406000000,812000000,1,0,0,0,0,"Bajo","Bajo",0.37145471180237877,0,0,null,null,null,0,"2021_1",0,0,0,0,0,0,0,0,0,0,0,0,0,"",null,null,null,0,0,0,0,0,null,0,0,0,0,null,null,0,0,0,"",null,null,null,null,null,{"$f":"VLOOKUP(AG88,'Anexo ODS'!$G$3:$P$86,5,0)","v":3},{"$f":"VLOOKUP(AG88,'Anexo ODS'!$G$3:$P$86,6,0)","v":"La Prosperidad"},{"$f":"VLOOKUP(AG88,'Anexo ODS'!$G$3:$P$86,7,0)","v":11},{"$f":"VLOOKUP(AG88,'Anexo ODS'!$G$3:$P$86,8,0)","v":"Ciudades y comunidades sostenibles"},{"$f":"VLOOKUP(AG88,'Anexo ODS'!$G$3:$P$86,9,0)","v":"11.4"},{"$f":"VLOOKUP(AG88,'Anexo ODS'!$G$3:$P$86,10,0)","v":"Redoblar los esfuerzos para proteger y salvaguardar el patrimonio cultural y natural del mundo"},null,null,null,null,null,null,null,null,40]
[88,2,"Chapinero",1,"Hacer un nuevo contrato social con igualdad de oportunidades para la inclusión social, productiva y política",21,"Creación y vida cotidiana: Apropiación ciudadana del arte, la cultura y el patrimonio, para la democracia cultural",null,null,null,null,88,"Realizar 6 eventos de promocion de actividades culturales",1848,"Chapinero cultural y creativo","EVENTOS","Suma",1,"Realizar",6,"Eventos","de promoción de actividades culturales","Realizar 6 eventos de promocion de actividades culturales",{"$f":"VLOOKUP(AG89,'Anexo PMR'!$B$4:$G$87,6,0)","v":"2_Presupuestos Participativos 50%"},7,"Desarrollo social y cultural","Circulación y apropiación de prácticas artísticas, interculturales, culturales y patrimoniales.",93,"CULTURA, RECREACIÓN Y DEPORTE",8,"Espacios artísticos y culturales.",13,"Eventos de promoción de actividades culturales realizadas","ACTIVIDAD CULTURAL",null,null,null,0,3,3,0,0,196000000,200000000,0,396000000,1,0,0,0,0,"Bajo","Bajo",0.18115279048490393,0,0,null,null,null,0,"2021_1",0,0,0,0,0,0,0,0,0,0,0,0,0,"",null,null,null,0,0,0,0,0,null,0,0,0,0,null,null,0,0,0,"",null,null,null,null,null,{"$f":"VLOOKUP(AG89,'Anexo ODS'!$G$3:$P$86,5,0)","v":3},{"$f":"VLOOKUP(AG89,'Anexo ODS'!$G$3:$P$86,6,0)","v":"La Prosperidad"},{"$f":"VLOOKUP(AG89,'Anexo ODS'!$G$3:$P$86,7,0)","v":11},{"$f":"VLOOKUP(AG89,'Anexo ODS'!$G$3:$P$86,8,0)","v":"Ciudades y comunidades sostenibles"},{"$f":"VLOOKUP(AG89,'Anexo ODS'!$G$3:$P$86,9,0)","v":"11.4"},{"$f":"VLOOKUP(AG89,'Anexo ODS'!$G$3:$P$86,10,0)","v":"Redoblar los esfuerzos para proteger y salvaguardar el patrimonio cultural y natural del mundo"},null,null,null,null,null,null,null,null,6]
[89,2,"Chapinero",1,"Hacer un nuevo contrato social con igualdad de oportunidades para la inclusión social, productiva y política",23,"Bogotá rural",null,null,null,null,89,"Vincular 24 hogares y/o unidades productivas a procesos productivos y de comercialización en el sector rural.",1827,"Chapinero rural y productivo","EMPRENDIMIENTO RURAL","Suma",1,"Vincular",24,"Hogares","y/o unidades productivas a procesos productivos y de comercialización en el sector rural.","Vincular 24 hogares y/o unidades productivas a procesos productivos y de comercialización en el sector rural.",{"$f":"VLOOKUP(AG90,'Anexo PMR'!$B$4:$G$87,6,0)","v":"2_Presupuestos Participativos 50%"},9,"Ruralidad","Asistencia técnica agropecuaria y ambiental y productividad rural.","94-89","AMBIENTE / DESARROLLO ECONÓMICO",12,"Servicios de asistencia técnica agropecuaria y/o ambiental.",18,"Número  de hogares y/o unidades productivas vinculadas a procesos productivos y de comercialización en el sector rural","ASISTENCIA TÉCNICA RURAL",null,null,null,0,12,0,12,0,293000000,0,294000000,587000000,1,0,0,0,0,"Bajo","Bajo",1,0,0,null,null,null,0,"2021_1",0,0,0,0,0,0,0,0,0,0,0,0,0,"",null,null,null,0,0,0,0,0,null,0,0,0,0,null,null,0,0,0,"",null,null,null,null,null,{"$f":"VLOOKUP(AG90,'Anexo ODS'!$G$3:$P$86,5,0)","v":1},{"$f":"VLOOKUP(AG90,'Anexo ODS'!$G$3:$P$86,6,0)","v":"Las Personas"},{"$f":"VLOOKUP(AG90,'Anexo ODS'!$G$3:$P$86,7,0)","v":2},{"$f":"VLOOKUP(AG90,'Anexo ODS'!$G$3:$P$86,8,0)","v":"Hambre Cero"},{"$f":"VLOOKUP(AG90,'Anexo ODS'!$G$3:$P$86,9,0)","v":"2.3"},{"$f":"VLOOKUP(AG90,'Anexo ODS'!$G$3:$P$86,10,0)","v":"De aquí a 2030, duplicar la productividad agrícola y los ingresos de los productores de alimentos en pequeña escala, en particular las mujeres, los pueblos indígenas, los agricultores familiares, los ganaderos y los pescadores, entre otras cosas mediante"},null,null,null,null,null,null,null,null,24]
[90,2,"Chapinero",1,"Hacer un nuevo contrato social con igualdad de oportunidades para la inclusión social, productiva y política",24,"Bogotá región emprendedora e innovadora",null,null,null,null,90,"Implementar 12 acciones de fomento para la agricultura urbana.",1631,"CHAPINERO SIEMBRA ESPERANZA","AGRICULTURA URBANA","Suma",1,"Implementar",12,"Acciones","de fomento para la agricultura urbana","Implementar 12 acciones de fomento para la agricultura urbana.",{"$f":"VLOOKUP(AG91,'Anexo PMR'!$B$4:$G$87,6,0)","v":"2_Presupuestos Participativos 50%"},8,"Inversiones ambientales sostenibles","Agricultura urbana.",94,"AMBIENTE",13,"Servicios de asesoría, asistencia técnica integral y dotación de infraestructura productiva para la Agricultura urbana y periurbana.",19,"Número acciones de fomento para la agricultura urbana","AGRICULTURA URBANA",null,null,null,3,3,3,3,247000000,247000000,247000000,250000000,991000000,1,0,0,0,0,"Bajo","Bajo",0.6422553467271549,0,0,null,null,null,0,"2021_1",3,3,0,0,0,0,0,0,0,0,0,0,0,"No mueve meta",null,null,null,227353000,227353000,0,0,0,24000000,0,0,0,24000000,3360000,3360000,0,0,0,"Corresponde a la contratacion del profesional que lidera el proyecto",null,null,null,null,null,{"$f":"VLOOKUP(AG91,'Anexo ODS'!$G$3:$P$86,5,0)","v":4},{"$f":"VLOOKUP(AG91,'Anexo ODS'!$G$3:$P$86,6,0)","v":"El Planeta"},{"$f":"VLOOKUP(AG91,'Anexo ODS'!$G$3:$P$86,7,0)","v":12},{"$f":"VLOOKUP(AG91,'Anexo ODS'!$G$3:$P$86,8,0)","v":"Producción y consumo responsables"},{"$f":"VLOOKUP(AG91,'Anexo ODS'!$G$3:$P$86,9,0)","v":"12.2"},{"$f":"VLOOKUP(AG91,'Anexo ODS'!$G$3:$P$86,10,0)","v":"De aquí a 2030, lograr la gestión sostenible y el uso eficiente\nde los recursos naturales"},null,null,null,null,null,null,null,null,12]
[91,2,"Chapinero",1,"Hacer un nuevo contrato social con igualdad de oportunidades para la inclusión social, productiva y política",24,"Bogotá región emprendedora e innovadora",null,null,null,null,91,"Financiar 20 proyectos del sector cultural y creativo.",1853,"CHAPINERO CONSTRUYE TEJIDO CULTURAL","FORTALECIMIENTO INDUSTRIA CULTURAL","Suma",1,"Financiar",20,"Proyectos","del sector cultural y creativo","Financiar 20 proyectos del sector cultural y creativo.",{"$f":"VLOOKUP(AG92,'Anexo PMR'!$B$4:$G$87,6,0)","v":"2_Presupuestos Participativos 50%"},7,"Desarrollo social y cultural","Apoyo y fortalecimiento a las industrias culturales y creativas en las localidades",93,"CULTURA, RECREACIÓN Y DEPORTE",9,"Servicio de apoyo financiero para el desarrollo de prácticas artísticas y culturales en el Distrito de Bogotá.",20,"Número de proyectos financiados y acompañados del sector cultural y creativo.","ACTIVIDAD CULTURAL",null,null,null,10,0,10,0,276000000,0,276000000,0,552000000,1,0,0,0,0,"Bajo","Bajo",0.3577446532728451,0,0,null,null,null,0,"2021_1",10,10,0,0,0,0,0,0,0,0,0,0,0,"No mueve meta",null,null,null,254046000,254046000,0,0,0,26500000,0,0,0,26500000,3356667,3356667,0,0,0,"Recursos humanos institucionales requeridos para el cumplimiento de la meta",null,null,null,null,null,{"$f":"VLOOKUP(AG92,'Anexo ODS'!$G$3:$P$86,5,0)","v":3},{"$f":"VLOOKUP(AG92,'Anexo ODS'!$G$3:$P$86,6,0)","v":"La Prosperidad"},{"$f":"VLOOKUP(AG92,'Anexo ODS'!$G$3:$P$86,7,0)","v":8},{"$f":"VLOOKUP(AG92,'Anexo ODS'!$G$3:$P$86,8,0)","v":"Trabajo decente y crecimiento económico"},{"$f":"VLOOKUP(AG92,'Anexo ODS'!$G$3:$P$86,9,0)","v":"8.3"},{"$f":"VLOOKUP(AG92,'Anexo ODS'!$G$3:$P$86,10,0)","v":"Promover políticas orientadas al desarrollo que apoyen las actividades productivas, la creación de puestos de trabajo decentes, el emprendimiento, la creatividad y la innovación, y fomentar la formalización y el crecimiento de las microempresas y las pequeñas y medianas empresas, incluso mediante el acceso a servicios financieros"},null,null,null,null,null,null,null,null,20]
[92,2,"Chapinero",2,"Cambiar nuestros hábitos de vida para reverdecer a Bogotá y adaptarnos y mitigar el cambio climático.",27,"Cambio cultural para la gestión de la crisis climática",null,null,null,null,92,"Construir 500 m2 de muros y techos verdes.",1712,"Chapinero consiente y resilente con el cambio climatico","MUROS VERDES","Suma",2,"Construir",500,"Metros cuadrados","de muros y techos verdes","Construir 500 m2 de muros y techos verdes.",{"$f":"VLOOKUP(AG93,'Anexo PMR'!$B$4:$G$87,6,0)","v":"2_Presupuestos Participativos 50%"},8,"Inversiones ambientales sostenibles","Eco-urbanismo.",94,"AMBIENTE",17,"Calidad ambiental y preservación del patrimonio natural.",39,"m2 de muros y techos verdes","INTERVENCIONES VERDES",null,null,null,0,0,0,500,0,0,0,382000000,382000000,1,0,0,0,0,"Bajo","Bajo",{"$f":"AT93/SUMIF($F$61:$F$132,F93,$AT$61:$AT$132)","v":0.35142594296228152},0,0,null,null,null,0,"2021_1",0,0,0,0,0,0,0,0,0,0,0,0,0,"",null,null,null,0,0,0,0,0,null,0,0,0,0,null,null,0,0,0,"",null,null,null,null,null,{"$f":"VLOOKUP(AG93,'Anexo ODS'!$G$3:$P$86,5,0)","v":3},{"$f":"VLOOKUP(AG93,'Anexo ODS'!$G$3:$P$86,6,0)","v":"La Prosperidad"},{"$f":"VLOOKUP(AG93,'Anexo ODS'!$G$3:$P$86,7,0)","v":11},{"$f":"VLOOKUP(AG93,'Anexo ODS'!$G$3:$P$86,8,0)","v":"Ciudades y comunidades sostenibles"},{"$f":"VLOOKUP(AG93,'Anexo ODS'!$G$3:$P$86,9,0)","v":"11.3"},{"$f":"VLOOKUP(AG93,'Anexo ODS'!$G$3:$P$86,10,0)","v":"De aquí a 2030, aumentar la urbanización inclusiva y sostenible y la capacidad para la planificación y la gestión participativas, integradas y sostenibles de los asentamientos"},null,null,null,null,null,null,null,null,500]
[93,2,"Chapinero",2,"Cambiar nuestros hábitos de vida para reverdecer a Bogotá y adaptarnos y mitigar el cambio climático.",27,"Cambio cultural para la gestión de la crisis climática",null,null,null,null,93,"Implementar 15 PROCEDAS.",1712,"Chapinero consiente y resilente con el cambio climatico","EDUCACIÓN AMBIENTAL","Suma",1,"Implementar",15,"PROCEDAS",null,"Implementar 15 PROCEDAS.",{"$f":"VLOOKUP(AG94,'Anexo PMR'!$B$4:$G$87,6,0)","v":"2_Presupuestos Participativos 50%"},8,"Inversiones ambientales sostenibles","Educación ambiental.",94,"AMBIENTE",17,"Calidad ambiental y preservación del patrimonio natural.",38,"Número de PROCEDAS implementados ","PROCEDAS",null,null,null,0,5,5,5,0,235000000,235000000,235000000,705000000,1,0,0,0,0,"Bajo","Bajo",0.64857405703771853,0,0,null,null,null,0,"2021_1",0,0,0,0,0,0,0,0,0,0,0,0,0,"",null,null,null,0,0,0,0,0,null,0,0,0,0,null,null,0,0,0,"",null,null,null,null,null,{"$f":"VLOOKUP(AG94,'Anexo ODS'!$G$3:$P$86,5,0)","v":4},{"$f":"VLOOKUP(AG94,'Anexo ODS'!$G$3:$P$86,6,0)","v":"El Planeta"},{"$f":"VLOOKUP(AG94,'Anexo ODS'!$G$3:$P$86,7,0)","v":13},{"$f":"VLOOKUP(AG94,'Anexo ODS'!$G$3:$P$86,8,0)","v":"Acción por el Clima"},{"$f":"VLOOKUP(AG94,'Anexo ODS'!$G$3:$P$86,9,0)","v":"13.3"},{"$f":"VLOOKUP(AG94,'Anexo ODS'!$G$3:$P$86,10,0)","v":"Mejorar la educación, la sensibilización y la capacidad humana e institucional respecto de la mitigación del cambio climático, la adaptación a él, la reducción de sus efectos y la alerta temprana"},null,null,null,null,null,null,null,null,15]
[94,2,"Chapinero",2,"Cambiar nuestros hábitos de vida para reverdecer a Bogotá y adaptarnos y mitigar el cambio climático.",28,"Bogotá protectora de sus recursos naturales",null,null,null,null,94,"Intervenir 8 hectáreas con procesos de restauración, rehabilitación o recuperación ecológica.",1715,"CHAPINERO RESTAURADOR Y CUIDADOR DEL TERRITORIO","RESTAURACIÓN ECOLÓGICA","Suma",1,"Intervenir",8,"Hectáreas","con procesos de restauración, rehabilitación o recuperación ecológica.","Intervenir 8 hectáreas con procesos de restauración, rehabilitación o recuperación ecológica.",{"$f":"VLOOKUP(AG95,'Anexo PMR'!$B$4:$G$87,6,0)","v":"2_Presupuestos Participativos 50%"},8,"Inversiones ambientales sostenibles","Restauración ecológica urbana y/o rural.",94,"AMBIENTE",17,"Calidad ambiental y preservación del patrimonio natural.",41,"Hectáreas en restauración, rehabilitación o recuperación ecológica y mantenimiento ","INTERVENCIONES VERDES",null,null,null,2,2,2,2,252000000,252000000,252000000,254000000,1010000000,1,0,0,0,0,"Bajo","Bajo",1,0,0,null,null,null,0,"2021_1",2,2,0,0,0,0,0,0,0,0,0,0,0,"",null,null,null,231955000,231955000,0,0,0,null,0,0,0,0,null,null,0,0,0,"",null,null,null,null,null,{"$f":"VLOOKUP(AG95,'Anexo ODS'!$G$3:$P$86,5,0)","v":4},{"$f":"VLOOKUP(AG95,'Anexo ODS'!$G$3:$P$86,6,0)","v":"El Planeta"},{"$f":"VLOOKUP(AG95,'Anexo ODS'!$G$3:$P$86,7,0)","v":15},{"$f":"VLOOKUP(AG95,'Anexo ODS'!$G$3:$P$86,8,0)","v":"Vida de ecosistemas terrestres"},{"$f":"VLOOKUP(AG95,'Anexo ODS'!$G$3:$P$86,9,0)","v":"15.1"},{"$f":"VLOOKUP(AG95,'Anexo ODS'!$G$3:$P$86,10,0)","v":"De aquí a 2020, asegurar la conservación, el restablecimiento y el uso sostenible de los ecosistemas terrestres y los ecosistemas interiores de agua dulce y sus servicios, en particular los bosques, los humedales, las montañas y las zonas áridas, en consonancia con las obligaciones contraídas en virtud de acuerdos\ninternacionales"},null,null,null,null,null,null,null,null,8]
[95,2,"Chapinero",2,"Cambiar nuestros hábitos de vida para reverdecer a Bogotá y adaptarnos y mitigar el cambio climático.",30,"Eficiencia en la atención de emergencias",null,null,null,null,95,"Desarrollar 1 intervención física para la reducción del riesgo y adaptación al cambio climático.",1719,"Chapinero ante la reducción y mitigación del riesgo frente al cambio climático","REDUCCIÓN DEL RIESGO Y ADAPTACIÓN AL CAMBIO CLIMÁTICO","Suma",2,"Desarrollar",1,"Intervenciones","física para la reducción del rieso y adaptación al cambio climático","Desarrollar 1 intervención física para la reducción del riesgo y adaptación al cambio climático.",{"$f":"VLOOKUP(AG96,'Anexo PMR'!$B$4:$G$87,6,0)","v":"2_Presupuestos Participativos 50%"},8,"Inversiones ambientales sostenibles","Mitigación del riesgo.",94,"AMBIENTE",18,"Gestión para la prevención y mitigación del riesgo.",43,"Intervenciones para la reducción del riesgo y adaptación al cambio climático","REDUCCIÓN DEL RIESGO",null,null,null,0,0,1,0,0,0,1050000000,0,1050000000,1,0,0,0,0,"Bajo","Bajo",0.74839629365645044,0,0,null,null,null,0,"2021_1",0,0,0,0,0,0,0,0,0,0,0,0,0,"",null,null,null,0,0,0,0,0,null,0,0,0,0,null,null,0,0,0,"",null,null,null,null,null,{"$f":"VLOOKUP(AG96,'Anexo ODS'!$G$3:$P$86,5,0)","v":4},{"$f":"VLOOKUP(AG96,'Anexo ODS'!$G$3:$P$86,6,0)","v":"El Planeta"},{"$f":"VLOOKUP(AG96,'Anexo ODS'!$G$3:$P$86,7,0)","v":13},{"$f":"VLOOKUP(AG96,'Anexo ODS'!$G$3:$P$86,8,0)","v":"Acción por el clima"},{"$f":"VLOOKUP(AG96,'Anexo ODS'!$G$3:$P$86,9,0)","v":"13.1"},{"$f":"VLOOKUP(AG96,'Anexo ODS'!$G$3:$P$86,10,0)","v":"Fortalecer la resiliencia y la capacidad de adaptación a los riesgos relacionados con el clima y los desastres naturales en todos los países"},null,null,null,null,null,null,null,null,1]
[96,2,"Chapinero",2,"Cambiar nuestros hábitos de vida para reverdecer a Bogotá y adaptarnos y mitigar el cambio climático.",30,"Eficiencia en la atención de emergencias",null,null,null,null,96,"Realizar 5 acciones efectivas para el fortalecimiento de las capacidades locales para la respuesta a emergencias y desastres materializadas en el Plan Local de Gestión del Riesgo y Cambio Climático.",1719,"Chapinero ante la reducción y mitigación del riesgo frente al cambio climático","MANEJO DE EMERGENCIAS, CALAMIDADES Y DESASTRES","Suma",1,"Realizar",5,"Acciones","efectivas para el fortalecimiento de las capacidades locales para la respuesta a emergencias y desastres materializadas en el Plan Local de Gestión del Riesgo y Cambio Climático.","Realizar 5 acciones efectivas para el fortalecimiento de las capacidades locales para la respuesta a emergencias y desastres materializadas en el Plan Local de Gestión del Riesgo y Cambio Climático.",{"$f":"VLOOKUP(AG97,'Anexo PMR'!$B$4:$G$87,6,0)","v":"2_Presupuestos Participativos 50%"},8,"Inversiones ambientales sostenibles","Manejo de emergencias y desastres.",94,"AMBIENTE",18,"Gestión para la prevención y mitigación del riesgo.",42,"Acciones efectivas para el fortalecimiento de las capacidades locales para la respuesta a emergencias y desastres","REDUCCIÓN DEL RIESGO",null,null,null,0,5,0,0,0,353000000,0,0,353000000,1,0,0,0,0,"Bajo","Bajo",0.25160370634354956,0,0,null,null,null,0,"2021_1",0,0,0,0,0,0,0,0,0,0,0,0,0,"",null,null,null,0,0,0,0,0,null,0,0,0,0,null,null,0,0,0,"",null,null,null,null,null,{"$f":"VLOOKUP(AG97,'Anexo ODS'!$G$3:$P$86,5,0)","v":3},{"$f":"VLOOKUP(AG97,'Anexo ODS'!$G$3:$P$86,6,0)","v":"La Prosperidad"},{"$f":"VLOOKUP(AG97,'Anexo ODS'!$G$3:$P$86,7,0)","v":11},{"$f":"VLOOKUP(AG97,'Anexo ODS'!$G$3:$P$86,8,0)","v":"Ciudades y comunidades sostenibles"},{"$f":"VLOOKUP(AG97,'Anexo ODS'!$G$3:$P$86,9,0)","v":"11.5"},{"$f":"VLOOKUP(AG97,'Anexo ODS'!$G$3:$P$86,10,0)","v":"De aquí a 2030, reducir significativamente el número de muertes causadas por los desastres, incluidos los relacionados con el agua, y de personas afectadas por ellos, y reducir considerablemente las pérdidas económicas directas provocadas por los desastres en comparación con el producto interno bruto mundial, haciendo especial hincapié en la protección de los pobres y las personas en situaciones de vulnerabilidad"},null,null,null,null,null,null,null,null,5]
[97,2,"Chapinero",2,"Cambiar nuestros hábitos de vida para reverdecer a Bogotá y adaptarnos y mitigar el cambio climático.",33,"Más árboles y más y mejor espacio público ",null,null,null,null,97,"Mantener 1000 árboles urbanos y/o rurales.",1721,"Reverdece Chapinero","ARBORIZACIÓN","Suma",1,"Mantener",1000,"Árboles","urbanos y/o rurales","Mantener 1000 árboles urbanos y/o rurales.",{"$f":"VLOOKUP(AG98,'Anexo PMR'!$B$4:$G$87,6,0)","v":"2_Presupuestos Participativos 50%"},8,"Inversiones ambientales sostenibles","Arbolado urbano y/o rural.",94,"AMBIENTE",19,"Plantación y mantenimiento de árboles, jardines y especies vegetales. ",44,"Número de árboles mantenidos","ARBOLADO",null,null,null,0,0,500,500,0,0,200000000,200000000,400000000,1,0,0,0,0,"Bajo","Bajo",0.21344717182497333,0,0,null,null,null,0,"2021_1",0,0,0,0,0,0,0,0,0,0,0,0,0,"",null,null,null,0,0,0,0,0,null,0,0,0,0,null,null,0,0,0,"",null,null,null,null,null,{"$f":"VLOOKUP(AG98,'Anexo ODS'!$G$3:$P$86,5,0)","v":4},{"$f":"VLOOKUP(AG98,'Anexo ODS'!$G$3:$P$86,6,0)","v":"El Planeta"},{"$f":"VLOOKUP(AG98,'Anexo ODS'!$G$3:$P$86,7,0)","v":15},{"$f":"VLOOKUP(AG98,'Anexo ODS'!$G$3:$P$86,8,0)","v":"Vida de ecosistemas terrestres"},{"$f":"VLOOKUP(AG98,'Anexo ODS'!$G$3:$P$86,9,0)","v":"15.1"},{"$f":"VLOOKUP(AG98,'Anexo ODS'!$G$3:$P$86,10,0)","v":"De aquí a 2020, asegurar la conservación, el restablecimiento y el uso sostenible de los ecosistemas terrestres y los ecosistemas interiores de agua dulce y sus servicios, en particular los bosques, los humedales, las montañas y las zonas áridas, en consonancia con las obligaciones contraídas en virtud de acuerdos internacionales"},null,null,null,null,null,null,null,null,1000]
[98,2,"Chapinero",2,"Cambiar nuestros hábitos de vida para reverdecer a Bogotá y adaptarnos y mitigar el cambio climático.",33,"Más árboles y más y mejor espacio público ",null,null,null,null,98,"Plantar 1000 árboles urbanos y/o rurales.",1721,"Reverdece Chapinero","ARBORIZACIÓN","Suma",2,"Plantar",1000,"Árboles","urbanos y/o rurales","Plantar 1000 árboles urbanos y/o rurales.",{"$f":"VLOOKUP(AG99,'Anexo PMR'!$B$4:$G$87,6,0)","v":"2_Presupuestos Participativos 50%"},8,"Inversiones ambientales sostenibles","Arbolado urbano y/o rural.",94,"AMBIENTE",19,"Plantación y mantenimiento de árboles, jardines y especies vegetales. ",45,"Número de árboles plantados","ARBOLADO",null,null,null,0,1000,0,0,0,282000000,0,0,282000000,1,0,0,0,0,"Bajo","Bajo",0.15048025613660618,0,0,null,null,null,0,"2021_1",0,0,0,0,0,0,0,0,0,0,0,0,0,"",null,null,null,0,0,0,0,0,null,0,0,0,0,null,null,0,0,0,"",null,null,null,null,null,{"$f":"VLOOKUP(AG99,'Anexo ODS'!$G$3:$P$86,5,0)","v":4},{"$f":"VLOOKUP(AG99,'Anexo ODS'!$G$3:$P$86,6,0)","v":"El Planeta"},{"$f":"VLOOKUP(AG99,'Anexo ODS'!$G$3:$P$86,7,0)","v":15},{"$f":"VLOOKUP(AG99,'Anexo ODS'!$G$3:$P$86,8,0)","v":"Vida de ecosistemas terrestres"},{"$f":"VLOOKUP(AG99,'Anexo ODS'!$G$3:$P$86,9,0)","v":"15.1"},{"$f":"VLOOKUP(AG99,'Anexo ODS'!$G$3:$P$86,10,0)","v":"De aquí a 2020, asegurar la conservación, el restablecimiento y el uso sostenible de los ecosistemas terrestres y los ecosistemas interiores de agua dulce y sus servicios, en particular los bosques, los humedales, las montañas y las zonas áridas, en consonancia con las obligaciones contraídas en virtud de acuerdos internacionales"},null,null,null,null,null,null,null,null,1000]
[99,2,"Chapinero",2,"Cambiar nuestros hábitos de vida para reverdecer a Bogotá y adaptarnos y mitigar el cambio climático.",33,"Más árboles y más y mejor espacio público ",null,null,null,null,99,"Construir 1200  m2 de Parques vecinales y/o de bolsillo (la construcción incluye su dotación).",1723,"Chapinero espacios para hábitos saludables","CONSTRUCCIÓN","Suma",1,"Construir",1200,"Metros cuadrados","de parques vecinales y/o de bolsillo (la construcción incluye su dotación).","Construir 1200  m2 de Parques vecinales y/o de bolsillo (la construcción incluye su dotación).",{"$f":"VLOOKUP(AG100,'Anexo PMR'!$B$4:$G$87,6,0)","v":"2_Presupuestos Participativos 50%"},6,"Infraestructura","Construcción, mantenimiento y dotación de parques vecinales y/o de bolsillo.",93,"CULTURA, RECREACIÓN Y DEPORTE",20,"Parques y escenarios deportivos.",46,"m2 de Parques vecinales y/o de bolsillo construidos y dotados","PARQUES",null,null,null,1200,0,0,0,1192000000,0,0,0,1192000000,1,0,0,0,0,"Bajo","Bajo",0.63607257203842049,0,0,null,null,null,0,"2021_1",1200,1200,0,0,0,0,0,0,0,0,0,0,0,"No mueve meta",null,null,null,1097184000,1097184000,0,0,0,33000000,0,0,0,33000000,3483333,3483333,0,0,0,"Recursos humanos institucionales requeridos para el cumplimiento de la meta",null,null,null,null,null,{"$f":"VLOOKUP(AG100,'Anexo ODS'!$G$3:$P$86,5,0)","v":3},{"$f":"VLOOKUP(AG100,'Anexo ODS'!$G$3:$P$86,6,0)","v":"La Prosperidad"},{"$f":"VLOOKUP(AG100,'Anexo ODS'!$G$3:$P$86,7,0)","v":11},{"$f":"VLOOKUP(AG100,'Anexo ODS'!$G$3:$P$86,8,0)","v":"Ciudades y comunidades sostenibles"},{"$f":"VLOOKUP(AG100,'Anexo ODS'!$G$3:$P$86,9,0)","v":"11.7"},{"$f":"VLOOKUP(AG100,'Anexo ODS'!$G$3:$P$86,10,0)","v":"De aquí a 2030, proporcionar acceso universal a zonas verdes y espacios públicos seguros, inclusivos y accesibles, en particular para las mujeres y los niños, las personas de edad y las personas con discapacidad"},null,null,null,null,null,null,null,null,1200]
[100,2,"Chapinero",2,"Cambiar nuestros hábitos de vida para reverdecer a Bogotá y adaptarnos y mitigar el cambio climático.",34,"Bogotá protectora de los animales",null,null,null,null,100,"Atender 8000 animales en urgencias, brigadas médico-veterinarias, acciones de esterilización, educación y adopción, de las cuales una se realizará en el día de los animales como estrategia de promoción del cuidado animal..",1731,"CHAPINERO DEJANDO HUELLA POR LOS ANIMALES","BIENESTAR ANIMAL","Suma",1,"Atender",8000,"Animales","en urgencias, brigadas médicoveterinarias, acciones de esterilización, educación y adopción.","Atender 8000 animales en urgencias, brigadas médico-veterinarias, acciones de esterilización, educación y adopción, de las cuales una se realizará en el día de los animales como estrategia de promoción del cuidado animal..",{"$f":"VLOOKUP(AG101,'Anexo PMR'!$B$4:$G$87,6,0)","v":"2_Presupuestos Participativos 50%"},8,"Inversiones ambientales sostenibles","Acuerdos con las redes locales de proteccionistas de animales para urgencias, brigadas médico veterinarias, acciones de esterilización, educación y adopción",94,"AMBIENTE",21,"Servicios de protección y bienestar animal.",48,"Número de animales atendidos","PROTECCIÓN ANIMAL",null,null,null,2000,2000,1526,2474,422000000,422000000,322000000,522000000,1688000000,1,0,0,0,0,"Bajo","Bajo",1,0,0,null,null,null,0,"2021_1",2000,2000,0,0,0,0,0,0,0,0,0,0,0,"",null,null,null,388433000,388433000,0,0,0,null,0,0,0,0,null,null,0,0,0,"",null,null,null,null,null,{"$f":"VLOOKUP(AG101,'Anexo ODS'!$G$3:$P$86,5,0)","v":3},{"$f":"VLOOKUP(AG101,'Anexo ODS'!$G$3:$P$86,6,0)","v":"La Prosperidad"},{"$f":"VLOOKUP(AG101,'Anexo ODS'!$G$3:$P$86,7,0)","v":11},{"$f":"VLOOKUP(AG101,'Anexo ODS'!$G$3:$P$86,8,0)","v":"Ciudades y comunidades sostenibles"},{"$f":"VLOOKUP(AG101,'Anexo ODS'!$G$3:$P$86,9,0)","v":"11.3"},{"$f":"VLOOKUP(AG101,'Anexo ODS'!$G$3:$P$86,10,0)","v":"De aquí a 2030, aumentar la urbanización inclusiva y sostenible y la capacidad para la planificación y la gestión participativas, integradas y sostenibles de los asentamientos\nhumanos en todos los países"},null,null,null,null,null,null,null,null,8000]
[101,2,"Chapinero",2,"Cambiar nuestros hábitos de vida para reverdecer a Bogotá y adaptarnos y mitigar el cambio climático.",37,"Provisión y mejoramiento de servicios públicos",null,null,null,null,101,"Fortalecer 1 acueducto veredales con asistencia, intervenir técnica u organizativa.",1829,"Agua, liquido vital para la ruralidad de Chapinero","ACUEDUCTOS VEREDALES","Suma",1,"Fortalecer",1,"Acueductos","veredales con asistencia, intervenir técnica u organizativa.","Fortalecer 1 acueducto veredales con asistencia, intervenir técnica u organizativa.",{"$f":"VLOOKUP(AG102,'Anexo PMR'!$B$4:$G$87,6,0)","v":"2_Presupuestos Participativos 50%"},9,"Ruralidad","Acueductos veredales y saneamiento básico.",96,"HÁBITAT",22,"Acueductos y alcantarillados.",49,"Número de acueductos verdales asistidos o intervenidos técnica u organizacionalmente.","ACUEDUCTOS VEREDALES",null,null,null,0,0,1,0,0,0,464000000,200000000,664000000,1,0,0,0,0,"Bajo","Bajo",1,0,0,null,null,null,0,"2021_1",0,0,0,0,0,0,0,0,0,0,0,0,0,"",null,null,null,0,0,0,0,0,null,0,0,0,0,null,null,0,0,0,"",null,null,null,null,null,{"$f":"VLOOKUP(AG102,'Anexo ODS'!$G$3:$P$86,5,0)","v":4},{"$f":"VLOOKUP(AG102,'Anexo ODS'!$G$3:$P$86,6,0)","v":"El Planeta"},{"$f":"VLOOKUP(AG102,'Anexo ODS'!$G$3:$P$86,7,0)","v":6},{"$f":"VLOOKUP(AG102,'Anexo ODS'!$G$3:$P$86,8,0)","v":"Agua y saneamiento"},{"$f":"VLOOKUP(AG102,'Anexo ODS'!$G$3:$P$86,9,0)","v":"6.b"},{"$f":"VLOOKUP(AG102,'Anexo ODS'!$G$3:$P$86,10,0)","v":"Apoyar y fortalecer la participación de las comunidades locales en la mejora de la gestión del agua y el saneamiento"},null,null,null,null,null,null,null,null,1]
[102,2,"Chapinero",2,"Cambiar nuestros hábitos de vida para reverdecer a Bogotá y adaptarnos y mitigar el cambio climático.",38,"Ecoeficiencia, reciclaje, manejo de residuos e inclusión de la población recicladora",null,null,null,null,102,"Ejecutar 4 Acciones con energías alternativas para el área rural.",1728,"CHAPINERO SOSTENIBLE Y CONSCIENTE","ENERGÍAS ALTERNATIVAS","Suma",2,"Ejecutar",4,"Acciones","con energías alternativas para el área rural.","Ejecutar 4 Acciones con energías alternativas para el área rural.",{"$f":"VLOOKUP(AG103,'Anexo PMR'!$B$4:$G$87,6,0)","v":"2_Presupuestos Participativos 50%"},9,"Ruralidad","Energías alternativas para el área rural.",96,"HÁBITAT",24,"Fuentes de energías alternativas para el área rural.",51,"Acciones con energías alternativas para el área rural realizadas.","ENERGÍAS ALTERNATIVAS",null,null,null,0,0,2,2,0,0,200000000,245000000,445000000,1,0,0,0,0,"Bajo","Bajo",0.3752107925801012,0,0,null,null,null,0,"2021_1",0,0,0,0,0,0,0,0,0,0,0,0,0,"",null,null,null,0,0,0,0,0,null,0,0,0,0,null,null,0,0,0,"",null,null,null,null,null,{"$f":"VLOOKUP(AG103,'Anexo ODS'!$G$3:$P$86,5,0)","v":4},{"$f":"VLOOKUP(AG103,'Anexo ODS'!$G$3:$P$86,6,0)","v":"El Planeta"},{"$f":"VLOOKUP(AG103,'Anexo ODS'!$G$3:$P$86,7,0)","v":12},{"$f":"VLOOKUP(AG103,'Anexo ODS'!$G$3:$P$86,8,0)","v":"Producción y consumo responsables"},{"$f":"VLOOKUP(AG103,'Anexo ODS'!$G$3:$P$86,9,0)","v":"12.5"},{"$f":"VLOOKUP(AG103,'Anexo ODS'!$G$3:$P$86,10,0)","v":"De aquí a 2030, reducir considerablemente la generación de desechos mediante actividades de prevención, reducción, reciclado y reutilización"},null,null,null,null,null,null,null,null,4]
[103,2,"Chapinero",2,"Cambiar nuestros hábitos de vida para reverdecer a Bogotá y adaptarnos y mitigar el cambio climático.",38,"Ecoeficiencia, reciclaje, manejo de residuos e inclusión de la población recicladora",null,null,null,null,103,"Formar 900 personas como multiplicadoras en separación en la fuente y reciclaje",1728,"CHAPINERO SOSTENIBLE Y CONSCIENTE","HÁBITOS DE CONSUMO","Suma",1,"Formar",900,"Personas","como multiplicadoras en separación en la fuente y reciclaje","Formar 900 personas como multiplicadoras en separación en la fuente y reciclaje",{"$f":"VLOOKUP(AG104,'Anexo PMR'!$B$4:$G$87,6,0)","v":"2_Presupuestos Participativos 50%"},8,"Inversiones ambientales sostenibles","Cambios de hábitos de consumo, separación en la fuente y reciclaje.",96,"HÁBITAT",23,"Manejo integral de residuos sólidos. ",50,"Personas capacitadas en separación en la fuente y reciclaje","RECICLAJE",null,null,null,300,300,0,300,247000000,247000000,0,247000000,741000000,1,0,0,0,0,"Bajo","Bajo",0.62478920741989885,0,0,null,null,null,0,"2021_1",300,300,0,0,0,0,0,0,0,0,0,0,0,"No mueve meta",null,null,null,227353000,227353000,0,0,0,24000000,0,0,0,24000000,3200000,3200000,0,0,0,"Recursos humanos institucionales requeridos para el cumplimiento de la meta",null,null,null,null,null,{"$f":"VLOOKUP(AG104,'Anexo ODS'!$G$3:$P$86,5,0)","v":4},{"$f":"VLOOKUP(AG104,'Anexo ODS'!$G$3:$P$86,6,0)","v":"El Planeta"},{"$f":"VLOOKUP(AG104,'Anexo ODS'!$G$3:$P$86,7,0)","v":12},{"$f":"VLOOKUP(AG104,'Anexo ODS'!$G$3:$P$86,8,0)","v":"Producción y consumo responsables"},{"$f":"VLOOKUP(AG104,'Anexo ODS'!$G$3:$P$86,9,0)","v":"12.5"},{"$f":"VLOOKUP(AG104,'Anexo ODS'!$G$3:$P$86,10,0)","v":"De aquí a 2030, reducir considerablemente la generación de desechos mediante actividades de prevención, reducción, reciclado y reutilización"},null,null,null,null,null,null,null,null,900]
[104,2,"Chapinero",3,"Inspirar confianza y legitimidad para vivir sin miedo y ser epicentro de cultura ciudadana, paz y reconciliación.",39,"Bogotá territorio de paz y atención integral a las víctimas del conflicto armado",null,null,null,null,104,"Vincular 100 personas a procesos de construcción de memoria, verdad, reparación integral a víctimas, paz y reconciliación.",2028,"Chapinero territorio de Paz","ENERGÍAS ALTERNATIVAS","Suma",1,"Vincular",100,"Personas","a procesos de construcción de memoria, verdad, reparación integral a víctimas, paz y reconciliación.","Vincular 100 personas a procesos de construcción de memoria, verdad, reparación integral a víctimas, paz y reconciliación.",{"$f":"VLOOKUP(AG105,'Anexo PMR'!$B$4:$G$87,6,0)","v":"2_Presupuestos Participativos 50%"},7,"Desarrollo social y cultural","Construcción de memoria, verdad, reparación, víctimas, paz y reconciliación.",85,"GESTIÓN PÚBLICA",25,"Servicio de apoyo y fortalecimiento a los procesos de construcción de memoria, verdad, reparación integral a víctimas, paz y reconciliación.",52,"Personas vinculadas a procesos de construcción de memoria, verdad, reparación integral a víctimas, paz y reconciliación","PAZ, MEMORIA Y RECONCILIACIÓN",null,null,null,0,100,0,0,0,244000000,0,0,244000000,1,0,0,0,0,"Bajo","Bajo",1,0,0,null,null,null,0,"2021_1",0,0,0,0,0,0,0,0,0,0,0,0,0,"",null,null,null,0,0,0,0,0,null,0,0,0,0,null,null,0,0,0,"",null,null,null,null,null,{"$f":"VLOOKUP(AG105,'Anexo ODS'!$G$3:$P$86,5,0)","v":2},{"$f":"VLOOKUP(AG105,'Anexo ODS'!$G$3:$P$86,6,0)","v":"La Paz"},{"$f":"VLOOKUP(AG105,'Anexo ODS'!$G$3:$P$86,7,0)","v":16},{"$f":"VLOOKUP(AG105,'Anexo ODS'!$G$3:$P$86,8,0)","v":"Paz, justicia e instituciones sólidas"},{"$f":"VLOOKUP(AG105,'Anexo ODS'!$G$3:$P$86,9,0)","v":"16.3"},{"$f":"VLOOKUP(AG105,'Anexo ODS'!$G$3:$P$86,10,0)","v":"Promover el estado de derecho en los planos nacional e internacional y garantizar la igualdad en el acceso a la justicia para todos"},null,null,null,null,null,null,null,null,100]
[105,2,"Chapinero",3,"Inspirar confianza y legitimidad para vivir sin miedo y ser epicentro de cultura ciudadana, paz y reconciliación.",40,"Más mujeres viven una vida libre de violencias, se sienten seguras y acceden con confianza al sistema de justicia",null,null,null,null,105,"Capacitar 1200 personas para la construcción de ciudadanía y desarrollo de capacidades para el ejercicio de derechos de las mujeres.",2035,"EN CHAPINERO TODAS CONTAMOS","DESARROLLO DE CAPACIDADES","Suma",1,"Capacitar",1200,"Personas","para la construcción de ciudadanía y desarrollo de capacidades para el ejercicio de derechos de las mujeres","Capacitar 1200 personas para la construcción de ciudadanía y desarrollo de capacidades para el ejercicio de derechos de las mujeres.",{"$f":"VLOOKUP(AG106,'Anexo PMR'!$B$4:$G$87,6,0)","v":"2_Presupuestos Participativos 50%"},7,"Desarrollo social y cultural","Construcción de ciudadanía y desarrollo de capacidades para el ejercicio de derechos de las mujeres.",100,"MUJERES",26,"Servicios de promoción y capacitación para la construcción de ciudadanía y desarrollo de capacidades para el ejercicio de derechos de las mujeres.",53,"Personas capacitadas para la construcción de ciudadanía y desarrollo de capacidades para el ejercicio de derechos de las mujeres.","DERECHOS DE LA MUJER",null,null,null,292,292,292,324,200000000,200000000,200000000,221000000,821000000,1,0,0,0,0,"Bajo","Bajo",0.36215262461402736,0,0,null,null,null,0,"2021_1",292,292,0,0,0,0,0,0,0,0,0,0,0,"No mueve meta",null,null,null,184091000,184091000,0,0,0,22500000,0,0,0,22500000,0,0,0,0,0,"Recursos humanos institucionales requeridos para el cumplimiento de la meta",null,null,null,null,null,{"$f":"VLOOKUP(AG106,'Anexo ODS'!$G$3:$P$86,5,0)","v":1},{"$f":"VLOOKUP(AG106,'Anexo ODS'!$G$3:$P$86,6,0)","v":"Las Personas"},{"$f":"VLOOKUP(AG106,'Anexo ODS'!$G$3:$P$86,7,0)","v":5},{"$f":"VLOOKUP(AG106,'Anexo ODS'!$G$3:$P$86,8,0)","v":"Igualdad de género"},{"$f":"VLOOKUP(AG106,'Anexo ODS'!$G$3:$P$86,9,0)","v":"5.c"},{"$f":"VLOOKUP(AG106,'Anexo ODS'!$G$3:$P$86,10,0)","v":"Aprobar y fortalecer políticas acertadas y leyes aplicables para promover la igualdad de género y el empoderamiento de todas las mujeres y las niñas a todos los niveles"},null,null,null,null,null,null,null,null,1200]
[106,2,"Chapinero",3,"Inspirar confianza y legitimidad para vivir sin miedo y ser epicentro de cultura ciudadana, paz y reconciliación.",40,"Más mujeres viven una vida libre de violencias, se sienten seguras y acceden con confianza al sistema de justicia",null,null,null,null,106,"Vincular 2000 personas en acciones para la prevención del feminicidio y la vilenca contra la mujer.",2035,"EN CHAPINERO TODAS CONTAMOS","PREVENCIÓN","Suma",2,"Vincular",2000,"Personas","en acciones para la prevención del feminicidio y la violencia contra la  mujer.","Vincular 2000 personas en acciones para la prevención del feminicidio y la vilenca contra la mujer.",{"$f":"VLOOKUP(AG107,'Anexo PMR'!$B$4:$G$87,6,0)","v":"2_Presupuestos Participativos 50%"},7,"Desarrollo social y cultural","Prevención del feminicidio y la violencia contra la mujer.",100,"MUJERES",27,"Prevención, atención y gestión del conflicto en la localidad.",54,"Número de Personas vinculadas en acciones para la prevención del feminicidio y la violencia contra la mujer","PREVENCIÓN DE LA VIOLENCIA",null,null,null,499,499,415,587,361000000,361000000,300000000,424000000,1446000000,1,0,0,0,0,"Bajo","Bajo",0.63784737538597269,0,0,null,null,null,0,"2021_1",499,499,0,0,0,0,0,0,0,0,0,0,0,"No mueve meta",null,null,null,332285000,332285000,0,0,0,36600000,0,0,0,36600000,0,0,0,0,0,"Recursos humanos institucionales requeridos para el cumplimiento de la meta",null,null,null,null,null,{"$f":"VLOOKUP(AG107,'Anexo ODS'!$G$3:$P$86,5,0)","v":1},{"$f":"VLOOKUP(AG107,'Anexo ODS'!$G$3:$P$86,6,0)","v":"Las Personas"},{"$f":"VLOOKUP(AG107,'Anexo ODS'!$G$3:$P$86,7,0)","v":5},{"$f":"VLOOKUP(AG107,'Anexo ODS'!$G$3:$P$86,8,0)","v":"Igualdad de género"},{"$f":"VLOOKUP(AG107,'Anexo ODS'!$G$3:$P$86,9,0)","v":"5.2"},{"$f":"VLOOKUP(AG107,'Anexo ODS'!$G$3:$P$86,10,0)","v":"Eliminar todas las formas de violencia contra todas las mujeres y las niñas en los ámbitos público y privado, incluidas la trata y la explotación sexual y otros tipos de explotación"},null,null,null,null,null,null,null,null,2000]
[107,2,"Chapinero",3,"Inspirar confianza y legitimidad para vivir sin miedo y ser epicentro de cultura ciudadana, paz y reconciliación.",43,"Cultura ciudadana para la confianza, la convivencia y la participación desde la vida cotidiana",null,null,null,null,107,"Formar 1500 personas en la escuela de seguridad, derechos humanos (DDHH) y convivencia.",1735,"CHAPINERO PROMUEVE Y GENERA CONFIANZA CIUDADANA","ESCUELA DE SEGURIDAD","Suma",1,"Formar",1500,"Personas","en la escuela de seguridad, derechos humanos (DDHH) y convivencia.","Formar 1500 personas en la escuela de seguridad, derechos humanos (DDHH) y convivencia.",{"$f":"VLOOKUP(AG108,'Anexo PMR'!$B$4:$G$87,6,0)","v":"2_Presupuestos Participativos 50%"},7,"Desarrollo social y cultural","Promoción de la convivencia ciudadana.",102,"SEGURIDAD, CONVIVENCIA Y JUSTICIA",27,"Prevención, atención y gestión del conflicto en la localidad.",56,"Número de personas formadas en la escuela de seguridad","ACCIONES DE CONVIVENCIA",null,null,null,0,1500,0,0,0,248000000,0,0,248000000,1,0,0,0,0,"Bajo","Bajo",0.5,0,0,null,null,null,0,"2021_1",0,0,0,0,0,0,0,0,0,0,0,0,0,"",null,null,null,0,0,0,0,0,null,0,0,0,0,null,null,0,0,0,"",null,null,null,null,null,{"$f":"VLOOKUP(AG108,'Anexo ODS'!$G$3:$P$86,5,0)","v":2},{"$f":"VLOOKUP(AG108,'Anexo ODS'!$G$3:$P$86,6,0)","v":"La Paz"},{"$f":"VLOOKUP(AG108,'Anexo ODS'!$G$3:$P$86,7,0)","v":16},{"$f":"VLOOKUP(AG108,'Anexo ODS'!$G$3:$P$86,8,0)","v":"Paz, justicia e instituciones sólidas"},{"$f":"VLOOKUP(AG108,'Anexo ODS'!$G$3:$P$86,9,0)","v":"16.1"},{"$f":"VLOOKUP(AG108,'Anexo ODS'!$G$3:$P$86,10,0)","v":"Reducir significativamente todas las formas de violencia y las correspondientes tasas de mortalidad en todo el mundo"},null,null,null,null,null,null,null,null,1500]
[108,2,"Chapinero",3,"Inspirar confianza y legitimidad para vivir sin miedo y ser epicentro de cultura ciudadana, paz y reconciliación.",43,"Cultura ciudadana para la confianza, la convivencia y la participación desde la vida cotidiana",null,null,null,null,108,"Incluir 1000 personas en actividades de educación para la resiliencia y la prevención de hechos delictivos.",1735,"CHAPINERO PROMUEVE Y GENERA CONFIANZA CIUDADANA","PREVENCIÓN","Suma",2,"Incluir",1000,"Personas","en actividades de educación para la resiliencia y la prevención de hechos delictivos.","Incluir 1000 personas en actividades de educación para la resiliencia y la prevención de hechos delictivos.",{"$f":"VLOOKUP(AG109,'Anexo PMR'!$B$4:$G$87,6,0)","v":"2_Presupuestos Participativos 50%"},7,"Desarrollo social y cultural","Promoción de la convivencia ciudadana.",102,"SEGURIDAD, CONVIVENCIA Y JUSTICIA",27,"Prevención, atención y gestión del conflicto en la localidad.",57,"Personas incluidas en actividades de educación para la resiliencia y la prevención de hechos delictivos. ","ACCIONES DE CONVIVENCIA",null,null,null,1000,0,0,0,248000000,0,0,0,248000000,1,0,0,0,0,"Bajo","Bajo",0.5,0,0,null,null,null,0,"2021_1",1000,1000,0,0,0,0,0,0,0,0,0,0,0,"No mueve meta",null,null,null,228273000,228273000,0,0,0,21805000,0,0,0,21805000,0,0,0,0,0,"Recursos humanos institucionales requeridos para el cumplimiento de la meta",null,null,null,null,null,{"$f":"VLOOKUP(AG109,'Anexo ODS'!$G$3:$P$86,5,0)","v":2},{"$f":"VLOOKUP(AG109,'Anexo ODS'!$G$3:$P$86,6,0)","v":"La Paz"},{"$f":"VLOOKUP(AG109,'Anexo ODS'!$G$3:$P$86,7,0)","v":16},{"$f":"VLOOKUP(AG109,'Anexo ODS'!$G$3:$P$86,8,0)","v":"Paz, justicia e instituciones sólidas"},{"$f":"VLOOKUP(AG109,'Anexo ODS'!$G$3:$P$86,9,0)","v":"16.1"},{"$f":"VLOOKUP(AG109,'Anexo ODS'!$G$3:$P$86,10,0)","v":"Reducir significativamente todas las formas de violencia y las correspondientes tasas de mortalidad en todo el mundo"},null,null,null,null,null,null,null,null,1000]
[109,2,"Chapinero",3,"Inspirar confianza y legitimidad para vivir sin miedo y ser epicentro de cultura ciudadana, paz y reconciliación.",45,"Espacio público más seguro y construido colectivamente",null,null,null,null,109,"Realizar 1 acuerdo para el uso del EP con fines culturales, deportivos, recreacionales o de mercados temporales.",1736,"CHAPINERO ES ESPACIO PUBLICO INCLUYENTE Y DEMOCRATICO","ACUERDOS CIUDADANOS","Suma",1,"Realizar",1,"Acuerdos","para el uso del EP con fines culturales, deportivos, recreacionales o de mercados temporales.","Realizar 1 acuerdo para el uso del EP con fines culturales, deportivos, recreacionales o de mercados temporales.",{"$f":"VLOOKUP(AG110,'Anexo PMR'!$B$4:$G$87,6,0)","v":"2_Presupuestos Participativos 50%"},7,"Desarrollo social y cultural","Acuerdos para el uso, acceso y aprovechamiento del espacio público.",98,"GOBIERNO",28,"Acuerdos ciudadanos suscritos.",58,"Acuerdos realizados para el uso del EP con fines culturales, deportivos, recreacionales o de mercados temporales.","\nACUERDOS DE ESPACIO PÚBLICO",null,null,null,1,0,0,0,206000000,0,0,0,206000000,1,0,0,0,0,"Bajo","Bajo",0.29985443959243085,0,0,null,null,null,0,"2021_1",1,1,0,0,0,0,0,0,0,0,0,0,0,"No mueve meta",null,null,null,189614000,189614000,0,0,0,39500000,0,0,0,39500000,5133333,5133333,0,0,0,"Recursos humanos institucionales requeridos para el cumplimiento de la meta",null,null,null,null,null,{"$f":"VLOOKUP(AG110,'Anexo ODS'!$G$3:$P$86,5,0)","v":2},{"$f":"VLOOKUP(AG110,'Anexo ODS'!$G$3:$P$86,6,0)","v":"La Paz"},{"$f":"VLOOKUP(AG110,'Anexo ODS'!$G$3:$P$86,7,0)","v":16},{"$f":"VLOOKUP(AG110,'Anexo ODS'!$G$3:$P$86,8,0)","v":"Paz, justicia e instituciones sólidas"},{"$f":"VLOOKUP(AG110,'Anexo ODS'!$G$3:$P$86,9,0)","v":"16.1"},{"$f":"VLOOKUP(AG110,'Anexo ODS'!$G$3:$P$86,10,0)","v":"Reducir significativamente todas las formas de violencia y las correspondientes tasas de mortalidad en todo el mundo"},null,null,null,null,null,null,null,null,1]
[110,2,"Chapinero",3,"Inspirar confianza y legitimidad para vivir sin miedo y ser epicentro de cultura ciudadana, paz y reconciliación.",45,"Espacio público más seguro y construido colectivamente",null,null,null,null,110,"Realizar 1 acuerdo para la promover la formalización de vendedores informales a círculos económicos productivos de la ciudad.",1736,"CHAPINERO ES ESPACIO PUBLICO INCLUYENTE Y DEMOCRATICO","ACUERDOS CIUDADANOS","Suma",2,"Realizar",1,"Acuerdos","para promover la formalización de vendedores informales a círculos económicos productivos de la ciudad","Realizar 1 acuerdo para la promover la formalización de vendedores informales a círculos económicos productivos de la ciudad.",{"$f":"VLOOKUP(AG111,'Anexo PMR'!$B$4:$G$87,6,0)","v":"2_Presupuestos Participativos 50%"},7,"Desarrollo social y cultural","Acuerdos para fortalecer la formalidad.",98,"GOBIERNO",28,"Acuerdos ciudadanos suscritos.",59,"Acuerdos realizados para la promover la formalización de vendedores informales a circulos económicos productivos de la ciudad","\nACUERDOS DE ESPACIO PÚBLICO",null,null,null,0,1,0,0,0,275000000,0,0,275000000,1,0,0,0,0,"Bajo","Bajo",0.40029112081513829,0,0,null,null,null,0,"2021_1",0,0,0,0,0,0,0,0,0,0,0,0,0,"",null,null,null,0,0,0,0,0,null,0,0,0,0,null,null,0,0,0,"",null,null,null,null,null,{"$f":"VLOOKUP(AG111,'Anexo ODS'!$G$3:$P$86,5,0)","v":2},{"$f":"VLOOKUP(AG111,'Anexo ODS'!$G$3:$P$86,6,0)","v":"La Paz"},{"$f":"VLOOKUP(AG111,'Anexo ODS'!$G$3:$P$86,7,0)","v":16},{"$f":"VLOOKUP(AG111,'Anexo ODS'!$G$3:$P$86,8,0)","v":"Paz, justicia e instituciones sólidas"},{"$f":"VLOOKUP(AG111,'Anexo ODS'!$G$3:$P$86,9,0)","v":"16.1"},{"$f":"VLOOKUP(AG111,'Anexo ODS'!$G$3:$P$86,10,0)","v":"Reducir significativamente todas las formas de violencia y las correspondientes tasas de mortalidad en todo el mundo"},null,null,null,null,null,null,null,null,1]
[111,2,"Chapinero",3,"Inspirar confianza y legitimidad para vivir sin miedo y ser epicentro de cultura ciudadana, paz y reconciliación.",45,"Espacio público más seguro y construido colectivamente",null,null,null,null,111,"Realizar 1 acuerdo para la vinculación de la ciudadanía en los programas adelantados por el IDRD y acuerdos con vendedores informales o estacionarios",1736,"CHAPINERO ES ESPACIO PUBLICO INCLUYENTE Y DEMOCRATICO","ACUERDOS CIUDADANOS","Suma",3,"Realizar",1,"Acuerdos","para la vinculación de la ciudadanía en los programas adelantados por el IDRD y acuerdos con vendedores informales o estacionarios","Realizar 1 acuerdo para la vinculación de la ciudadanía en los programas adelantados por el IDRD y acuerdos con vendedores informales o estacionarios",{"$f":"VLOOKUP(AG112,'Anexo PMR'!$B$4:$G$87,6,0)","v":"2_Presupuestos Participativos 50%"},7,"Desarrollo social y cultural","Acuerdos para mejorar el uso de medios de transporte no motorizados.",98,"GOBIERNO",28,"Acuerdos ciudadanos suscritos.",60,"Acuerdos realizados para la vinculación de la ciudadanía en los programas adelantados por el IDRD y acuerdos con vendedores informales o estacionarios ","\nACUERDOS DE ESPACIO PÚBLICO",null,null,null,0,0,1,0,0,0,206000000,0,206000000,1,0,0,0,0,"Bajo","Bajo",0.29985443959243085,0,0,null,null,null,0,"2021_1",0,0,0,0,0,0,0,0,0,0,0,0,0,"",null,null,null,0,0,0,0,0,null,0,0,0,0,null,null,0,0,0,"",null,null,null,null,null,{"$f":"VLOOKUP(AG112,'Anexo ODS'!$G$3:$P$86,5,0)","v":2},{"$f":"VLOOKUP(AG112,'Anexo ODS'!$G$3:$P$86,6,0)","v":"La Paz"},{"$f":"VLOOKUP(AG112,'Anexo ODS'!$G$3:$P$86,7,0)","v":16},{"$f":"VLOOKUP(AG112,'Anexo ODS'!$G$3:$P$86,8,0)","v":"Paz, justicia e instituciones sólidas"},{"$f":"VLOOKUP(AG112,'Anexo ODS'!$G$3:$P$86,9,0)","v":"16.1"},{"$f":"VLOOKUP(AG112,'Anexo ODS'!$G$3:$P$86,10,0)","v":"Reducir significativamente todas las formas de violencia y las correspondientes tasas de mortalidad en todo el mundo"},null,null,null,null,null,null,null,null,1]
[112,2,"Chapinero",3,"Inspirar confianza y legitimidad para vivir sin miedo y ser epicentro de cultura ciudadana, paz y reconciliación.",48,"Plataforma institucional para la seguridad y justicia",null,null,null,null,112,"Atender 1000 personas en estrategias de acceso a la justicia integral en la ciudad.",1738,"JUSTICIA ACCESIBLE Y OPORTUNA PARA CHAPINERO","JUECES DE PAZ","Suma",1,"Atender",1000,"Personas","en estrategias de acceso a la justicia integral en la ciudad","Atender 1000 personas en estrategias de acceso a la justicia integral en la ciudad.",{"$f":"VLOOKUP(AG113,'Anexo PMR'!$B$4:$G$87,6,0)","v":"2_Presupuestos Participativos 50%"},7,"Desarrollo social y cultural","Acceso a la Justicia.",102,"SEGURIDAD, CONVIVENCIA Y JUSTICIA",29,"Bienes y  servicios de apoyo para el fortalecimiento de la justicia comunitaria y la justicia integral en la ciudad.",62,"Personas atendidas en estrategias de acceso a la justicia integral en la ciudad.","ACCESO A LA JUSTICIA",null,null,null,0,0,1000,0,0,0,250000000,0,250000000,1,0,0,0,0,"Bajo","Bajo",0.12846865364850976,0,0,null,null,null,0,"2021_1",0,0,0,0,0,0,0,0,0,0,0,0,0,"",null,null,null,0,0,0,0,0,null,0,0,0,0,null,null,0,0,0,"",null,null,null,null,null,{"$f":"VLOOKUP(AG113,'Anexo ODS'!$G$3:$P$86,5,0)","v":2},{"$f":"VLOOKUP(AG113,'Anexo ODS'!$G$3:$P$86,6,0)","v":"La Paz"},{"$f":"VLOOKUP(AG113,'Anexo ODS'!$G$3:$P$86,7,0)","v":16},{"$f":"VLOOKUP(AG113,'Anexo ODS'!$G$3:$P$86,8,0)","v":"Paz, justicia e instituciones sólidas"},{"$f":"VLOOKUP(AG113,'Anexo ODS'!$G$3:$P$86,9,0)","v":"16.3"},{"$f":"VLOOKUP(AG113,'Anexo ODS'!$G$3:$P$86,10,0)","v":"Promover el estado de derecho en los planos nacional e internacional y garantizar la igualdad de acceso a la justicia para todos"},null,null,null,null,null,null,null,null,1000]
[113,2,"Chapinero",3,"Inspirar confianza y legitimidad para vivir sin miedo y ser epicentro de cultura ciudadana, paz y reconciliación.",48,"Plataforma institucional para la seguridad y justicia",null,null,null,null,113,"Implementar 1 estrategia local de acciones pedagógicas del Código Nacional de Seguridad y Convivencia Ciudadana en la localidad.",1738,"JUSTICIA ACCESIBLE Y OPORTUNA PARA CHAPINERO","ACCIONES PEDAGÓGICAS","Suma",3,"Implementar",1,"Estrategias","locales de acciones pedagógicas del Código Nacional de Seguridad y Convivencia Ciudadana en la localidad.","Implementar 1 estrategia local de acciones pedagógicas del Código Nacional de Seguridad y Convivencia Ciudadana en la localidad.",{"$f":"VLOOKUP(AG114,'Anexo PMR'!$B$4:$G$87,6,0)","v":"2_Presupuestos Participativos 50%"},7,"Desarrollo social y cultural","Acceso a la Justicia.",102,"SEGURIDAD, CONVIVENCIA Y JUSTICIA",27,"Prevención, atención y gestión del conflicto en la localidad.",64,"Estrategia local de acciones pedagógicas del Código Nacional de Seguridad y Convivencia Ciudadana implementada en la localidad.","ACCESO A LA JUSTICIA",null,null,null,0,0,0,1,0,0,0,229000000,229000000,1,0,0,0,0,"Bajo","Bajo",0.11767728674203494,0,0,null,null,null,0,"2021_1",0,0,0,0,0,0,0,0,0,0,0,0,0,"",null,null,null,0,0,0,0,0,null,0,0,0,0,null,null,0,0,0,"",null,null,null,null,null,{"$f":"VLOOKUP(AG114,'Anexo ODS'!$G$3:$P$86,5,0)","v":2},{"$f":"VLOOKUP(AG114,'Anexo ODS'!$G$3:$P$86,6,0)","v":"La Paz"},{"$f":"VLOOKUP(AG114,'Anexo ODS'!$G$3:$P$86,7,0)","v":16},{"$f":"VLOOKUP(AG114,'Anexo ODS'!$G$3:$P$86,8,0)","v":"Paz, justicia e instituciones sólidas"},{"$f":"VLOOKUP(AG114,'Anexo ODS'!$G$3:$P$86,9,0)","v":"16.3"},{"$f":"VLOOKUP(AG114,'Anexo ODS'!$G$3:$P$86,10,0)","v":"Promover el estado de derecho en los planos nacional e internacional y garantizar la igualdad de acceso a la justicia para todos"},null,null,null,null,null,null,null,null,1]
[114,2,"Chapinero",3,"Inspirar confianza y legitimidad para vivir sin miedo y ser epicentro de cultura ciudadana, paz y reconciliación.",48,"Plataforma institucional para la seguridad y justicia",null,null,null,null,114,"Vincular 3 Instituciones educativas al programa pedagógico de resolución de conflictos en la comunidad escolar.",1738,"JUSTICIA ACCESIBLE Y OPORTUNA PARA CHAPINERO","RESOLUCIÓN DE CONFLICTOS ESCOLARES","Suma",2,"Vincular",3,"Instituciones","educativas al programa pedagógico de resolución de conflictos en la comunidad escolar.","Vincular 3 Instituciones educativas al programa pedagógico de resolución de conflictos en la comunidad escolar.",{"$f":"VLOOKUP(AG115,'Anexo PMR'!$B$4:$G$87,6,0)","v":"2_Presupuestos Participativos 50%"},7,"Desarrollo social y cultural","Acceso a la Justicia.",102,"SEGURIDAD, CONVIVENCIA Y JUSTICIA",27,"Prevención, atención y gestión del conflicto en la localidad.",63,"Instituciones educativas vinculadas al programa pedagógico de resolución de conflictos en la comunidad escolar.","ACCESO A LA JUSTICIA",null,null,null,3,0,0,0,264000000,0,0,0,264000000,1,0,0,0,0,"Bajo","Bajo",0.13566289825282632,0,0,null,null,null,0,"2021_1",3,3,0,0,0,0,0,0,0,0,0,0,0,"",null,null,null,243000000,243000000,0,0,0,null,0,0,0,0,null,null,0,0,0,"",null,null,null,null,null,{"$f":"VLOOKUP(AG115,'Anexo ODS'!$G$3:$P$86,5,0)","v":2},{"$f":"VLOOKUP(AG115,'Anexo ODS'!$G$3:$P$86,6,0)","v":"La Paz"},{"$f":"VLOOKUP(AG115,'Anexo ODS'!$G$3:$P$86,7,0)","v":16},{"$f":"VLOOKUP(AG115,'Anexo ODS'!$G$3:$P$86,8,0)","v":"Paz, justicia e instituciones sólidas"},{"$f":"VLOOKUP(AG115,'Anexo ODS'!$G$3:$P$86,9,0)","v":"16.3"},{"$f":"VLOOKUP(AG115,'Anexo ODS'!$G$3:$P$86,10,0)","v":"Promover el estado de derecho en los planos nacional e internacional y garantizar la igualdad de acceso a la justicia para todos"},null,null,null,null,null,null,null,null,3]
[115,2,"Chapinero",3,"Inspirar confianza y legitimidad para vivir sin miedo y ser epicentro de cultura ciudadana, paz y reconciliación.",48,"Plataforma institucional para la seguridad y justicia",null,null,null,null,115,"Suministrar 1 dotación de equipos especiales de protección a organismos de seguridad.",1740,"CHAPINERO TERRITORIO PARA VIVIR SIN MIEDO","DOTACIÓN","Suma",3,"Suministrar",1,"Dotaciones","de equipos especiales de protección a organismos de seguridad","Suministrar 1 dotación de equipos especiales de protección a organismos de seguridad.",{"$f":"VLOOKUP(AG116,'Anexo PMR'!$B$4:$G$87,6,0)","v":"2_Presupuestos Participativos 50%"},7,"Desarrollo social y cultural","Dotación para instancias de seguridad.",102,"SEGURIDAD, CONVIVENCIA Y JUSTICIA",30,"Infraestructura y dotaciones para seguridad.",67,"Dotaciones de equipos especiales de protección  suministradas a organismos de seguridad.","DOTACIÓN EN SEGURIDAD",null,null,null,0,0,1,0,0,0,300000000,0,300000000,1,0,0,0,0,"Bajo","Bajo",0.15416238437821173,0,0,null,null,null,0,"2021_1",0,0,0,0,0,0,0,0,0,0,0,0,0,"",null,null,null,0,0,0,0,0,null,0,0,0,0,null,null,0,0,0,"",null,null,null,null,null,{"$f":"VLOOKUP(AG116,'Anexo ODS'!$G$3:$P$86,5,0)","v":2},{"$f":"VLOOKUP(AG116,'Anexo ODS'!$G$3:$P$86,6,0)","v":"La Paz"},{"$f":"VLOOKUP(AG116,'Anexo ODS'!$G$3:$P$86,7,0)","v":16},{"$f":"VLOOKUP(AG116,'Anexo ODS'!$G$3:$P$86,8,0)","v":"Paz, justicia e instituciones sólidas"},{"$f":"VLOOKUP(AG116,'Anexo ODS'!$G$3:$P$86,9,0)","v":"16.a"},{"$f":"VLOOKUP(AG116,'Anexo ODS'!$G$3:$P$86,10,0)","v":"Fortalecer las instituciones nacionales pertinentes, incluso mediante la cooperación internacional, para crear a todos los niveles, particularmente en los países en desarrollo, la capacidad de prevenir la violencia y combatir el terrorismo y la delincuencia"},null,null,null,null,null,null,null,null,1]
[116,2,"Chapinero",3,"Inspirar confianza y legitimidad para vivir sin miedo y ser epicentro de cultura ciudadana, paz y reconciliación.",48,"Plataforma institucional para la seguridad y justicia",null,null,null,null,116,"Suministrar 1 dotación del parque automotor a organismos de seguridad.",1740,"CHAPINERO TERRITORIO PARA VIVIR SIN MIEDO","DOTACIÓN","Suma",4,"Suministrar",1,"Dotaciones","del parque automotor a organismos de seguridad","Suministrar 1 dotación del parque automotor a organismos de seguridad.",{"$f":"VLOOKUP(AG117,'Anexo PMR'!$B$4:$G$87,6,0)","v":"2_Presupuestos Participativos 50%"},7,"Desarrollo social y cultural","Dotación para instancias de seguridad.",102,"SEGURIDAD, CONVIVENCIA Y JUSTICIA",30,"Infraestructura y dotaciones para seguridad.",68,"Dotación del parque automotor suministrada a organismos de seguridad.","DOTACIÓN EN SEGURIDAD",null,null,null,0,0,0,1,0,0,0,303000000,303000000,1,0,0,0,0,"Bajo","Bajo",0.15570400822199384,0,0,null,null,null,0,"2021_1",0,0,0,0,0,0,0,0,0,0,0,0,0,"",null,null,null,0,0,0,0,0,null,0,0,0,0,null,null,0,0,0,"",null,null,null,null,null,{"$f":"VLOOKUP(AG117,'Anexo ODS'!$G$3:$P$86,5,0)","v":2},{"$f":"VLOOKUP(AG117,'Anexo ODS'!$G$3:$P$86,6,0)","v":"La Paz"},{"$f":"VLOOKUP(AG117,'Anexo ODS'!$G$3:$P$86,7,0)","v":16},{"$f":"VLOOKUP(AG117,'Anexo ODS'!$G$3:$P$86,8,0)","v":"Paz, justicia e instituciones sólidas"},{"$f":"VLOOKUP(AG117,'Anexo ODS'!$G$3:$P$86,9,0)","v":"16.a"},{"$f":"VLOOKUP(AG117,'Anexo ODS'!$G$3:$P$86,10,0)","v":"Fortalecer las instituciones nacionales pertinentes, incluso mediante la cooperación internacional, para crear a todos los niveles, particularmente en los países en desarrollo, la capacidad de prevenir la violencia y combatir el terrorismo y la delincuencia"},null,null,null,null,null,null,null,null,1]
[117,2,"Chapinero",3,"Inspirar confianza y legitimidad para vivir sin miedo y ser epicentro de cultura ciudadana, paz y reconciliación.",48,"Plataforma institucional para la seguridad y justicia",null,null,null,null,117,"Suministrar 1 dotacion logística a organismos de seguridad",1740,"CHAPINERO TERRITORIO PARA VIVIR SIN MIEDO","DOTACIÓN","Suma",2,"Suministrar",1,"Dotaciones","logística a organismos de seguridad","Suministrar 1 dotacion logística a organismos de seguridad",{"$f":"VLOOKUP(AG118,'Anexo PMR'!$B$4:$G$87,6,0)","v":"2_Presupuestos Participativos 50%"},7,"Desarrollo social y cultural","Dotación para instancias de seguridad.",102,"SEGURIDAD, CONVIVENCIA Y JUSTICIA",30,"Infraestructura y dotaciones para seguridad.",66,"Dotaciones logísticas suministradas a organismos de seguridad.","DOTACIÓN EN SEGURIDAD",null,null,null,0,1,0,0,0,300000000,0,0,300000000,1,0,0,0,0,"Bajo","Bajo",0.15416238437821173,0,0,null,null,null,0,"2021_1",0,0,0,0,0,0,0,0,0,0,0,0,0,"",null,null,null,0,0,0,0,0,null,0,0,0,0,null,null,0,0,0,"",null,null,null,null,null,{"$f":"VLOOKUP(AG118,'Anexo ODS'!$G$3:$P$86,5,0)","v":2},{"$f":"VLOOKUP(AG118,'Anexo ODS'!$G$3:$P$86,6,0)","v":"La Paz"},{"$f":"VLOOKUP(AG118,'Anexo ODS'!$G$3:$P$86,7,0)","v":16},{"$f":"VLOOKUP(AG118,'Anexo ODS'!$G$3:$P$86,8,0)","v":"Paz, justicia e instituciones sólidas"},{"$f":"VLOOKUP(AG118,'Anexo ODS'!$G$3:$P$86,9,0)","v":"16.a"},{"$f":"VLOOKUP(AG118,'Anexo ODS'!$G$3:$P$86,10,0)","v":"Fortalecer las instituciones nacionales pertinentes, incluso mediante la cooperación internacional, para crear a todos los niveles, particularmente en los países en desarrollo, la capacidad de prevenir la violencia y combatir el terrorismo y la delincuencia"},null,null,null,null,null,null,null,null,1]
[118,2,"Chapinero",3,"Inspirar confianza y legitimidad para vivir sin miedo y ser epicentro de cultura ciudadana, paz y reconciliación.",48,"Plataforma institucional para la seguridad y justicia",null,null,null,null,118,"Suministrar 1 dotacion tecnológica a organismos de seguridad.",1740,"CHAPINERO TERRITORIO PARA VIVIR SIN MIEDO","DOTACIÓN","Suma",1,"Suministrar",1,"Dotaciones","tecnológicas a organismos de seguridad.","Suministrar 1 dotacion tecnológica a organismos de seguridad.",{"$f":"VLOOKUP(AG119,'Anexo PMR'!$B$4:$G$87,6,0)","v":"2_Presupuestos Participativos 50%"},7,"Desarrollo social y cultural","Dotación para instancias de seguridad.",102,"SEGURIDAD, CONVIVENCIA Y JUSTICIA",30,"Infraestructura y dotaciones para seguridad.",65,"Dotaciones tecnológicas suministradas a organismos de seguridad.","DOTACIÓN EN SEGURIDAD",null,null,null,1,0,0,0,300000000,0,0,0,300000000,1,1,1,0,0,"Muy Alto","Bajo",0.15416238437821173,0.15416238437821173,0,null,null,null,0,"2021_1",1,1,0,0,0,1,0,0,0,0,0,0,0,"Incompleto",null,null,null,276137000,276137000,0,0,0,34200000,0,0,0,34200000,3040000,3040000,0,0,0,"Recursos humanos institucionales requeridos para el cumplimiento de la meta el cual esta en implmentacion de la estrategia",null,null,null,null,null,{"$f":"VLOOKUP(AG119,'Anexo ODS'!$G$3:$P$86,5,0)","v":2},{"$f":"VLOOKUP(AG119,'Anexo ODS'!$G$3:$P$86,6,0)","v":"La Paz"},{"$f":"VLOOKUP(AG119,'Anexo ODS'!$G$3:$P$86,7,0)","v":16},{"$f":"VLOOKUP(AG119,'Anexo ODS'!$G$3:$P$86,8,0)","v":"Paz, justicia e instituciones sólidas"},{"$f":"VLOOKUP(AG119,'Anexo ODS'!$G$3:$P$86,9,0)","v":"16.a"},{"$f":"VLOOKUP(AG119,'Anexo ODS'!$G$3:$P$86,10,0)","v":"Fortalecer las instituciones nacionales pertinentes, incluso mediante la cooperación internacional, para crear a todos los niveles, particularmente en los países en desarrollo, la capacidad de prevenir la violencia y combatir el terrorismo y la delincuencia"},null,null,null,null,null,null,null,null,1]
[119,2,"Chapinero",4,"Hacer de Bogotá-región un modelo de movilidad, creatividad y productividad incluyente y sostenible",49,"Movilidad segura, sostenible y accesible",null,null,null,null,119,"Intervenir 0,4 Kilómetros-carril de malla vial urbana (local y/o intermedia) con acciones de construcción y/o conservación.",1734,"CHAPINERO MODELO DE MOVILIDAD INTELIGENTE.","INTERVENCIÓN MALLA VIAL LOCAL","Suma",3,"Intervenir",0.4,"Kilómetros-carril","de malla vial urbana (local y/o intermedia) con acciones de construcción y/o conservación.","Intervenir 0,4 Kilómetros-carril de malla vial urbana (local y/o intermedia) con acciones de construcción y/o conservación.",{"$f":"VLOOKUP(AG120,'Anexo PMR'!$B$4:$G$87,6,0)","v":"2_Presupuestos Participativos 50%"},6,"Infraestructura","Diseño, construcción y conservación (mantenimiento y rehabilitación) de la malla vial local e intermedia urbana o rural.",95,"MOVILIDAD",32,"Vías locales.",71,"Kilómetros-carril construidos y/o conservados de malla vial urbana (local y/o intermedia)","MALLA VIAL",null,null,null,0,0.4,0,0,0,938000000,0,0,938000000,1,0,0,0,0,"Bajo","Bajo",0.18475477644278118,0,0,null,null,null,0,"2021_1",0,0,0,0,0,0,0,0,0,0,0,0,0,"",null,null,null,0,0,0,0,0,null,0,0,0,0,null,null,0,0,0,"",null,null,null,null,null,{"$f":"VLOOKUP(AG120,'Anexo ODS'!$G$3:$P$86,5,0)","v":3},{"$f":"VLOOKUP(AG120,'Anexo ODS'!$G$3:$P$86,6,0)","v":"La Prosperidad"},{"$f":"VLOOKUP(AG120,'Anexo ODS'!$G$3:$P$86,7,0)","v":9},{"$f":"VLOOKUP(AG120,'Anexo ODS'!$G$3:$P$86,8,0)","v":"Industria, innovación e infraestructura"},{"$f":"VLOOKUP(AG120,'Anexo ODS'!$G$3:$P$86,9,0)","v":"9.1"},{"$f":"VLOOKUP(AG120,'Anexo ODS'!$G$3:$P$86,10,0)","v":"Desarrollar infraestructuras fiables, sostenibles, resilientes y de calidad, incluidas infraestructuras regionales y transfronterizas, para apoyar el desarrollo económico y el bienestar humano, haciendo especial hincapié en el acceso asequible y equitativo para todos"},null,null,null,null,null,null,null,null,0.4]
[120,2,"Chapinero",4,"Hacer de Bogotá-región un modelo de movilidad, creatividad y productividad incluyente y sostenible",49,"Movilidad segura, sostenible y accesible",null,null,null,null,120,"Intervenir 2  Kilómetros-carril de malla vial rural con acciones de construcción y/o conservación",1734,"CHAPINERO MODELO DE MOVILIDAD INTELIGENTE.","INTERVENCIÓN MALLA VIAL RURAL","Suma",4,"Intervenir",2,"Kilómetros-carril","de malla vial urbana (local y/o intermedia) con acciones de construcción y/o conservación.","Intervenir 2  Kilómetros-carril de malla vial rural con acciones de construcción y/o conservación",{"$f":"VLOOKUP(AG121,'Anexo PMR'!$B$4:$G$87,6,0)","v":"2_Presupuestos Participativos 50%"},6,"Infraestructura","Diseño, construcción y conservación (mantenimiento y rehabilitación) de la malla vial local e intermedia urbana o rural.",95,"MOVILIDAD",32,"Vías locales.",72,"Kilómetros-carril construidos y/o conservados de malla vial rural","MALLA VIAL",null,null,null,2,0,0,0,2000000000,0,0,0,2000000000,1,0,0,0,0,"Bajo","Bajo",0.39393342525113256,0,0,null,null,null,0,"2021_1",2,2,0,0,0,0,0,0,0,0,0,0,0,"No mueve meta",null,null,null,1840912000,1840912000,0,0,0,154615000,0,0,0,154615000,2026833,2026833,0,0,0,"Recursos humanos institucionales requeridos para el cumplimiento de la meta",null,null,null,null,null,{"$f":"VLOOKUP(AG121,'Anexo ODS'!$G$3:$P$86,5,0)","v":3},{"$f":"VLOOKUP(AG121,'Anexo ODS'!$G$3:$P$86,6,0)","v":"La Prosperidad"},{"$f":"VLOOKUP(AG121,'Anexo ODS'!$G$3:$P$86,7,0)","v":9},{"$f":"VLOOKUP(AG121,'Anexo ODS'!$G$3:$P$86,8,0)","v":"Industria, innovación e infraestructura"},{"$f":"VLOOKUP(AG121,'Anexo ODS'!$G$3:$P$86,9,0)","v":"9.1"},{"$f":"VLOOKUP(AG121,'Anexo ODS'!$G$3:$P$86,10,0)","v":"Desarrollar infraestructuras fiables, sostenibles, resilientes y de calidad, incluidas infraestructuras regionales y transfronterizas, para apoyar el desarrollo económico y el bienestar humano, haciendo especial hincapié en el acceso asequible y equitativo para todos"},null,null,null,null,null,null,null,null,2]
[121,2,"Chapinero",4,"Hacer de Bogotá-región un modelo de movilidad, creatividad y productividad incluyente y sostenible",49,"Movilidad segura, sostenible y accesible",null,null,null,null,121,"Intervenir 500 metros lineales de Ciclo-infraestructura con acciones de construcción y/o conservación.",1734,"CHAPINERO MODELO DE MOVILIDAD INTELIGENTE.","CICLO INFRAESTRUCTURA","Suma",5,"Intervenir",500,"Metros","lineales de Ciclo-infraestructura con acciones de construcción y/o conservación.","Intervenir 500 metros lineales de Ciclo-infraestructura con acciones de construcción y/o conservación.",{"$f":"VLOOKUP(AG122,'Anexo PMR'!$B$4:$G$87,6,0)","v":"2_Presupuestos Participativos 50%"},6,"Infraestructura","Diseño, construcción y conservación de ciclo-infraestructura.",95,"MOVILIDAD",33,"Ciclo infraestructura construida y/o conservada.",73,"Metros lineales construidos y/o conservados de Ciclo-infraestructura","CICLO-INFRAESTRUCTURA",null,null,null,0,0,0,500,0,0,0,575000000,575000000,1,0,0,0,0,"Bajo","Bajo",0.11325585975970061,0,0,null,null,null,0,"2021_1",0,0,0,0,0,0,0,0,0,0,0,0,0,"",null,null,null,0,0,0,0,0,null,0,0,0,0,null,null,0,0,0,"",null,null,null,null,null,{"$f":"VLOOKUP(AG122,'Anexo ODS'!$G$3:$P$86,5,0)","v":3},{"$f":"VLOOKUP(AG122,'Anexo ODS'!$G$3:$P$86,6,0)","v":"La Prosperidad"},{"$f":"VLOOKUP(AG122,'Anexo ODS'!$G$3:$P$86,7,0)","v":11},{"$f":"VLOOKUP(AG122,'Anexo ODS'!$G$3:$P$86,8,0)","v":"Ciudades y comunidades sostenibles"},{"$f":"VLOOKUP(AG122,'Anexo ODS'!$G$3:$P$86,9,0)","v":"11.2"},{"$f":"VLOOKUP(AG122,'Anexo ODS'!$G$3:$P$86,10,0)","v":" De aquí a 2030, proporcionar acceso a sistemas de transporte seguros, asequibles, accesibles y sostenibles para todos y mejorar la seguridad vial, en particular mediante la ampliación del transporte público, prestando especial atención a las necesidades de las personas en situación de vulnerabilidad, las mujeres, los niños, las personas con discapacidad y las personas de edad"},null,null,null,null,null,null,null,null,500]
[122,2,"Chapinero",4,"Hacer de Bogotá-región un modelo de movilidad, creatividad y productividad incluyente y sostenible",49,"Movilidad segura, sostenible y accesible",null,null,null,null,122,"Intervenir 75 metros cuadrados de Puentes vehiculares y/o peatonales de escala local sobre cuerpos de agua con acciones de construcción y/o conservación.",1734,"CHAPINERO MODELO DE MOVILIDAD INTELIGENTE.","INTERVENCIÓN PUENTES","Suma",2,"Intervenir",75,"Metros cuadrados","de Puentes vehiculares y/o peatonales de escala local sobre cuerpos de agua con acciones de construcción y/o conservación.","Intervenir 75 metros cuadrados de Puentes vehiculares y/o peatonales de escala local sobre cuerpos de agua con acciones de construcción y/o conservación.",{"$f":"VLOOKUP(AG123,'Anexo PMR'!$B$4:$G$87,6,0)","v":"2_Presupuestos Participativos 50%"},6,"Infraestructura","Construcción y/o conservación de puentes peatonales y/o vehiculares sobre cuerpos de agua (de escala local: urbana y/o rural).",95,"MOVILIDAD",31," Espacio público.",70,"Metros cuadrados de Puentes vehiculares y/o peatonales de escala local sobre cuerpos de agua construidos y/o intervenidos","PUENTES",null,null,null,0,0,0,75,0,0,0,414000000,414000000,1,0,0,0,0,"Bajo","Bajo",8.1544219026984444E-2,0,0,null,null,null,0,"2021_1",0,0,0,0,0,0,0,0,0,0,0,0,0,"",null,null,null,0,0,0,0,0,null,0,0,0,0,null,null,0,0,0,"",null,null,null,null,null,{"$f":"VLOOKUP(AG123,'Anexo ODS'!$G$3:$P$86,5,0)","v":3},{"$f":"VLOOKUP(AG123,'Anexo ODS'!$G$3:$P$86,6,0)","v":"La Prosperidad"},{"$f":"VLOOKUP(AG123,'Anexo ODS'!$G$3:$P$86,7,0)","v":9},{"$f":"VLOOKUP(AG123,'Anexo ODS'!$G$3:$P$86,8,0)","v":"Industria, innovación e infraestructura"},{"$f":"VLOOKUP(AG123,'Anexo ODS'!$G$3:$P$86,9,0)","v":"9.1"},{"$f":"VLOOKUP(AG123,'Anexo ODS'!$G$3:$P$86,10,0)","v":"Desarrollar infraestructuras fiables, sostenibles, resilientes y de calidad, incluidas infraestructuras regionales y transfronterizas, para apoyar el desarrollo económico y el bienestar humano, haciendo especial hincapié en el acceso asequible y equitativo para todos"},null,null,null,null,null,null,null,null,75]
[123,2,"Chapinero",4,"Hacer de Bogotá-región un modelo de movilidad, creatividad y productividad incluyente y sostenible",49,"Movilidad segura, sostenible y accesible",null,null,null,null,123,"Intervenir 900 metros cuadrados de elementos del sistema de espacio público peatonal con acciones de construcción y/o conservación.",1734,"CHAPINERO MODELO DE MOVILIDAD INTELIGENTE.","CONSTRUCCIÓN Y CONSERVACIÓN","Suma",1,"Intervenir",900,"Metros cuadrados","de elementos del sistema de espacio público peatonal con acciones de construcción y/o conservación.","Intervenir 900 metros cuadrados de elementos del sistema de espacio público peatonal con acciones de construcción y/o conservación.",{"$f":"VLOOKUP(AG124,'Anexo PMR'!$B$4:$G$87,6,0)","v":"2_Presupuestos Participativos 50%"},6,"Infraestructura","Construcción y/o conservación de elementos del sistema de espacio público peatonal.",95,"MOVILIDAD",31," Espacio público.",69,"Metros cuadrados construidos y/o conservados de elementos del sistema de espacio público peatonal.","ESPACIO PÚBLICO",null,null,null,0,0,900,0,0,0,1150000000,0,1150000000,1,0,0,0,0,"Bajo","Bajo",0.22651171951940122,0,0,null,null,null,0,"2021_1",0,0,0,0,0,0,0,0,0,0,0,0,0,"",null,null,null,0,0,0,0,0,null,0,0,0,0,null,null,0,0,0,"",null,null,null,null,null,{"$f":"VLOOKUP(AG124,'Anexo ODS'!$G$3:$P$86,5,0)","v":3},{"$f":"VLOOKUP(AG124,'Anexo ODS'!$G$3:$P$86,6,0)","v":"La Prosperidad"},{"$f":"VLOOKUP(AG124,'Anexo ODS'!$G$3:$P$86,7,0)","v":11},{"$f":"VLOOKUP(AG124,'Anexo ODS'!$G$3:$P$86,8,0)","v":"Ciudades y comunidades sostenibles"},{"$f":"VLOOKUP(AG124,'Anexo ODS'!$G$3:$P$86,9,0)","v":"11.7"},{"$f":"VLOOKUP(AG124,'Anexo ODS'!$G$3:$P$86,10,0)","v":" De aquí a 2030, proporcionar acceso universal a zonas verdes y espacios públicos seguros, inclusivos y accesibles, en particular para las mujeres y los niños, las personas de edad y las personas con discapacidad"},null,null,null,null,null,null,null,null,900]
[124,2,"Chapinero",5,"Construir Bogotá-región con gobierno abierto, transparente y ciudadanía consciente.",54,"Transformación digital y gestión de TIC para un territorio inteligente",null,null,null,null,124,"Acondicionar 1 Centro de Acceso Comunitario en zonas rurales y/o apartadas.",1737,"Chapinero conecta y transforma digitalmente","CONECTIVIDAD","Suma",1,"Acondicionar",1,"Centro","de Acceso Comunitario en zonas rurales y/o apartadas.","Acondicionar 1 Centro de Acceso Comunitario en zonas rurales y/o apartadas.",{"$f":"VLOOKUP(AG125,'Anexo PMR'!$B$4:$G$87,6,0)","v":"2_Presupuestos Participativos 50%"},9,"Ruralidad","Conectividad y redes de comunicación.",85,"GESTIÓN PÚBLICA",34,"Servicios de Conectividad y redes de comunicación.",74,"Centros de Acceso Comunitario en zonas rurales y/o apartadas funcionando ","CONECTIVIDAD RURAL",null,null,null,0,0,0,1,0,0,283000000,420000000,703000000,1,0,0,0,0,"Bajo","Bajo",{"$f":"AT125/SUMIF($F$61:$F$132,F125,$AT$61:$AT$132)","v":1},0,0,null,null,null,0,"2021_1",0,0,0,0,0,0,0,0,0,0,0,0,0,"",null,null,null,0,0,0,0,0,null,0,0,0,0,null,null,0,0,0,"",null,null,null,null,null,{"$f":"VLOOKUP(AG125,'Anexo ODS'!$G$3:$P$86,5,0)","v":3},{"$f":"VLOOKUP(AG125,'Anexo ODS'!$G$3:$P$86,6,0)","v":"La Prosperidad"},{"$f":"VLOOKUP(AG125,'Anexo ODS'!$G$3:$P$86,7,0)","v":9},{"$f":"VLOOKUP(AG125,'Anexo ODS'!$G$3:$P$86,8,0)","v":"Industria, innovación e infraestructura"},{"$f":"VLOOKUP(AG125,'Anexo ODS'!$G$3:$P$86,9,0)","v":"9.c"},{"$f":"VLOOKUP(AG125,'Anexo ODS'!$G$3:$P$86,10,0)","v":"Aumentar significativamente el acceso a la tecnología de la información y las comunicaciones y esforzarse por proporcionar acceso universal y asequible a Internet en los países menos adelantados de aquí a 2020"},null,null,null,null,null,null,null,null,1]
[125,2,"Chapinero",5,"Construir Bogotá-región con gobierno abierto, transparente y ciudadanía consciente.",55,"Fortalecimiento de Cultura Ciudadana y su institucionalidad",null,null,null,null,125,"Capacitar 450 personas a través de procesos de formación para la participación de manera virtual y presencial.",1739,"CHAPINERO LIDERADO POR LA CIUDADANIA","FORMACIÓN","Suma",3,"Capacitar",450,"Personas","a través de procesos de formación para la participación de manera virtual y presencial.","Capacitar 450 personas a través de procesos de formación para la participación de manera virtual y presencial.",{"$f":"VLOOKUP(AG126,'Anexo PMR'!$B$4:$G$87,6,0)","v":"2_Presupuestos Participativos 50%"},7,"Desarrollo social y cultural","Escuelas y procesos de formación para la participación ciudadana y/u organizaciones para los procesos de presupuestos participativos.",98,"GOBIERNO",35,"Espacios y procesos de participación ciudadana fortalecidos. ",78,"Número de Personas capacitadas a través de procesos de formación para la participación de manera virtual y presencial.","FORMACIÓN CIUDADANA","no plica",null,null,0,219,0,231,0,280000000,0,295000000,575000000,1,0,0,0,0,"Bajo","Bajo",0.22917497010761259,0,0,null,null,null,0,"2021_1",0,0,0,0,0,0,0,0,0,0,0,0,0,"",null,null,null,0,0,0,0,0,null,0,0,0,0,null,null,0,0,0,"",null,null,null,null,null,{"$f":"VLOOKUP(AG126,'Anexo ODS'!$G$3:$P$86,5,0)","v":2},{"$f":"VLOOKUP(AG126,'Anexo ODS'!$G$3:$P$86,6,0)","v":"La Paz"},{"$f":"VLOOKUP(AG126,'Anexo ODS'!$G$3:$P$86,7,0)","v":16},{"$f":"VLOOKUP(AG126,'Anexo ODS'!$G$3:$P$86,8,0)","v":"Paz, justicia e instituciones sólidas"},{"$f":"VLOOKUP(AG126,'Anexo ODS'!$G$3:$P$86,9,0)","v":"16.7"},{"$f":"VLOOKUP(AG126,'Anexo ODS'!$G$3:$P$86,10,0)","v":"Garantizar la adopción en todos los niveles de decisiones inclusivas, participativas y representativas que respondan a las necesidades"},null,null,null,null,null,null,null,null,450]
[126,2,"Chapinero",5,"Construir Bogotá-región con gobierno abierto, transparente y ciudadanía consciente.",55,"Fortalecimiento de Cultura Ciudadana y su institucionalidad",null,null,null,null,126,"Construir 1 sede de salon comunal",1739,"CHAPINERO LIDERADO POR LA CIUDADANIA","CONSTRUCCIÓN","Suma",2,"Construir",1,"Sedes","de salones comunales","Construir 1 sede de salon comunal",{"$f":"VLOOKUP(AG127,'Anexo PMR'!$B$4:$G$87,6,0)","v":"2_Presupuestos Participativos 50%"},6,"Infraestructura","Intervención y dotación de salones comunales.",98,"GOBIERNO",35,"Espacios y procesos de participación ciudadana fortalecidos. ",77,"Sedes construidas de salones comunales","SALONES COMUNALES",null,null,null,0,0,1,0,0,0,881000000,0,881000000,1,0,0,0,0,"Bajo","Bajo",0.35113591072140293,0,0,null,null,null,0,"2021_1",0,0,0,0,0,0,0,0,0,0,0,0,0,"",null,null,null,0,0,0,0,0,null,0,0,0,0,null,null,0,0,0,"",null,null,null,null,null,{"$f":"VLOOKUP(AG127,'Anexo ODS'!$G$3:$P$86,5,0)","v":3},{"$f":"VLOOKUP(AG127,'Anexo ODS'!$G$3:$P$86,6,0)","v":"La Prosperidad"},{"$f":"VLOOKUP(AG127,'Anexo ODS'!$G$3:$P$86,7,0)","v":11},{"$f":"VLOOKUP(AG127,'Anexo ODS'!$G$3:$P$86,8,0)","v":"Ciudades y comunidades sostenibles"},{"$f":"VLOOKUP(AG127,'Anexo ODS'!$G$3:$P$86,9,0)","v":"11.3"},{"$f":"VLOOKUP(AG127,'Anexo ODS'!$G$3:$P$86,10,0)","v":"De aquí a 2030, aumentar la urbanización inclusiva y sostenible y la capacidad para la planificación y la gestión participativas, integradas y sostenibles de los asentamientos humanos en todos los países"},null,null,null,null,null,null,null,null,1]
[127,2,"Chapinero",5,"Construir Bogotá-región con gobierno abierto, transparente y ciudadanía consciente.",55,"Fortalecimiento de Cultura Ciudadana y su institucionalidad",null,null,null,null,127,"Dotar 17 organizaciones comunales.",1739,"CHAPINERO LIDERADO POR LA CIUDADANIA","DOTACIÓN","Suma",1,"Dotar",17,"Organizaciones","comunales","Dotar 17 organizaciones comunales.",{"$f":"VLOOKUP(AG128,'Anexo PMR'!$B$4:$G$87,6,0)","v":"2_Presupuestos Participativos 50%"},6,"Infraestructura","Intervención y dotación de salones comunales.",98,"GOBIERNO",35,"Espacios y procesos de participación ciudadana fortalecidos. ",76,"Sedes dotadas de salones comunales.","SALONES COMUNALES",null,null,null,17,0,0,0,275000000,0,0,0,275000000,1,0,0,0,0,"Bajo","Bajo",0.10960542048624951,0,0,null,null,null,0,"2021_1",17,17,0,0,0,0,0,0,0,0,0,0,0,"",null,null,null,253125000,253125000,0,0,0,null,0,0,0,0,null,null,0,0,0,"",null,null,null,null,null,{"$f":"VLOOKUP(AG128,'Anexo ODS'!$G$3:$P$86,5,0)","v":3},{"$f":"VLOOKUP(AG128,'Anexo ODS'!$G$3:$P$86,6,0)","v":"La Prosperidad"},{"$f":"VLOOKUP(AG128,'Anexo ODS'!$G$3:$P$86,7,0)","v":11},{"$f":"VLOOKUP(AG128,'Anexo ODS'!$G$3:$P$86,8,0)","v":"Ciudades y comunidades sostenibles"},{"$f":"VLOOKUP(AG128,'Anexo ODS'!$G$3:$P$86,9,0)","v":"11.3"},{"$f":"VLOOKUP(AG128,'Anexo ODS'!$G$3:$P$86,10,0)","v":"De aquí a 2030, aumentar la urbanización inclusiva y sostenible y la capacidad para la planificación y la gestión participativas, integradas y sostenibles de los asentamientos humanos en todos los países"},null,null,null,null,null,null,null,null,17]
[128,2,"Chapinero",5,"Construir Bogotá-región con gobierno abierto, transparente y ciudadanía consciente.",55,"Fortalecimiento de Cultura Ciudadana y su institucionalidad",null,null,null,null,128,"Fortalecer 40 Organizaciones, JAC e Instancias de participación ciudadana.",1739,"CHAPINERO LIDERADO POR LA CIUDADANIA","FORTALECIMIENTO ORGANIZATIVO","Suma",4,"Fortalecer",40,"Organizaciones",", JAC e Instancias de participación ciudadana","Fortalecer 40 Organizaciones, JAC e Instancias de participación ciudadana.",{"$f":"VLOOKUP(AG129,'Anexo PMR'!$B$4:$G$87,6,0)","v":"2_Presupuestos Participativos 50%"},7,"Desarrollo social y cultural","Fortalecimiento de organizaciones sociales, comunitarias, comunales, propiedad horizontal e instancias y mecanismos de participación, con énfasis en jóvenes y asociatividad productiva.",98,"GOBIERNO",35,"Espacios y procesos de participación ciudadana fortalecidos. ",79,"Número de Organizaciones, JAC e Instancias de participación ciudadana fortalecidas.","FORTALECIMIENTO ORGANIZATIVO",null,null,null,0,13,13,14,0,259000000,259000000,260000000,778000000,1,0,0,0,0,"Bajo","Bajo",0.31008369868473495,0,0,null,null,null,0,"2021_1",0,0,0,0,0,0,0,0,0,0,0,0,0,"",null,null,null,0,0,0,0,0,null,0,0,0,0,null,null,0,0,0,"",null,null,null,null,null,{"$f":"VLOOKUP(AG129,'Anexo ODS'!$G$3:$P$86,5,0)","v":2},{"$f":"VLOOKUP(AG129,'Anexo ODS'!$G$3:$P$86,6,0)","v":"La Paz"},{"$f":"VLOOKUP(AG129,'Anexo ODS'!$G$3:$P$86,7,0)","v":16},{"$f":"VLOOKUP(AG129,'Anexo ODS'!$G$3:$P$86,8,0)","v":"Paz, justicia e instituciones sólidas"},{"$f":"VLOOKUP(AG129,'Anexo ODS'!$G$3:$P$86,9,0)","v":"16.7"},{"$f":"VLOOKUP(AG129,'Anexo ODS'!$G$3:$P$86,10,0)","v":"Garantizar la adopción en todos los niveles de decisiones inclusivas, participativas y representativas que respondan a las necesidades"},null,null,null,null,null,null,null,null,40]
[129,2,"Chapinero",5,"Construir Bogotá-región con gobierno abierto, transparente y ciudadanía consciente.",57,"Gestión Pública Local",null,null,null,null,129,"Realizar 1 rendición de cuentas anual.",1741,"CHAPINERO EJEMPLO DE GOBIERNO ABIERTO Y TRANSPARENCIA LOCAL","TRANSPARENCIA Y CONTROL SOCIAL","Constante",2,"Realizar",1,"Rendicion de cuenta","anual","Realizar 1 rendición de cuentas anual.",{"$f":"VLOOKUP(AG130,'Anexo PMR'!$B$4:$G$87,6,0)","v":"3_Flexible 5%"},10,"Participación\nCiudadana y\nconstrucción de\nconfianza.","Transparencia, control social y rendición de cuentas del Gobierno Local.",98,"GOBIERNO",35,"Espacios y procesos de participación ciudadana fortalecidos. ",83,"Número de Rendiciones de cuentas anuales.","TRANSPARENCIA Y CONTROL SOCIAL",null,null,null,1,1,1,1,69000000,72000000,72000000,74000000,{"$f":"SUM(AP130:AS130)","v":287000000},1,{"$f":"IF(Q130=\"Constante\",SUM(BO130:BR130)/4,IF(Q130=\"Suma\",SUM(BO130:BR130),0))","v":0},{"$f":"AV130/T130","v":0},{"$f":"IF(Q130=\"Constante\",SUM(BS130:BV130)/4,IF(Q130=\"Suma\",SUM(BS130:BV130),0))","v":0},{"$f":"AX130/T130","v":0},{"$f":"IF(AW130<=40%,\"Bajo\",IF(AW130<=70%,\"Medio\",IF(AW130<=90%,\"Alto\",IF(AW130>90%,\"Muy Alto\"))))","v":"Bajo"},{"$f":"IF(AY130<=40%,\"Bajo\",IF(AY130<=70%,\"Medio\",IF(AY130<=90%,\"Alto\",IF(AY130>90%,\"Muy Alto\"))))","v":"Bajo"},2.3474562407982989E-2,0,0,null,null,null,0,"2021_1",1,1,0,0,0,0,0,0,0,0,0,0,0,"",null,null,null,63512000,63512000,0,0,0,null,0,0,0,0,null,null,0,0,0,"",null,null,null,null,null,{"$f":"VLOOKUP(AG130,'Anexo ODS'!$G$3:$P$86,5,0)","v":2},{"$f":"VLOOKUP(AG130,'Anexo ODS'!$G$3:$P$86,6,0)","v":"La Paz"},{"$f":"VLOOKUP(AG130,'Anexo ODS'!$G$3:$P$86,7,0)","v":16},{"$f":"VLOOKUP(AG130,'Anexo ODS'!$G$3:$P$86,8,0)","v":"Paz, justicia e instituciones sólidas"},{"$f":"VLOOKUP(AG130,'Anexo ODS'!$G$3:$P$86,9,0)","v":"16.6"},{"$f":"VLOOKUP(AG130,'Anexo ODS'!$G$3:$P$86,10,0)","v":"Garantizar el acceso público a la información y proteger las libertades fundamentales, de conformidad con las leyes nacionales y los acuerdos internacionales"},null,null,null,null,null,null,null,null,1]
[130,2,"Chapinero",5,"Construir Bogotá-región con gobierno abierto, transparente y ciudadanía consciente.",57,"Gestión Pública Local",null,null,null,null,130,"Realizar 4 estrategias de fortalecimiento institucional.",1741,"CHAPINERO EJEMPLO DE GOBIERNO ABIERTO Y TRANSPARENCIA LOCAL","FORTALECIMIENTO LOCAL","Constante",1,"Realizar",4,"Estrategias","de fortalecimiento institucional.","Realizar 4 estrategias de fortalecimiento institucional.",{"$f":"VLOOKUP(AG131,'Anexo PMR'!$B$4:$G$87,6,0)","v":"1_Inflexible 45%"},1,"Gestión pública local","Fortalecimiento institucional.",98,"GOBIERNO",37,"Fortalecimiento institucional.",82,"Estrategias de fortalecimiento institucional realizadas","FORTALECIMIENTO LOCAL",null,null,null,4,4,4,4,1554000000,1601000000,1651000000,1704000000,6510000000,1,0.25,6.25E-2,0,0,"Bajo","Bajo",0.53247178144937024,{"$f":"BB131*AW131","v":3.327948634058564E-2},{"$f":"BB131*AY131","v":0},null,null,null,0,"2021_1",4,4,0,0,0,1,0,0,0,0,0,0,0,"Incompleto",null,null,null,1430389000,1430389000,0,0,0,599989900,0,0,0,{"$f":"SUM(CF131:CI131)","v":599989900},69952566,69952566,0,0,0,"Recursos humanos institucionales requeridos para el cumplimiento de la meta para el desarrollo de la estrategia institucional",null,null,null,null,null,{"$f":"VLOOKUP(AG131,'Anexo ODS'!$G$3:$P$86,5,0)","v":2},{"$f":"VLOOKUP(AG131,'Anexo ODS'!$G$3:$P$86,6,0)","v":"La Paz"},{"$f":"VLOOKUP(AG131,'Anexo ODS'!$G$3:$P$86,7,0)","v":16},{"$f":"VLOOKUP(AG131,'Anexo ODS'!$G$3:$P$86,8,0)","v":"Paz, justicia e instituciones sólidas"},{"$f":"VLOOKUP(AG131,'Anexo ODS'!$G$3:$P$86,9,0)","v":"16.6"},{"$f":"VLOOKUP(AG131,'Anexo ODS'!$G$3:$P$86,10,0)","v":"Garantizar el acceso público a la información y proteger las libertades fundamentales, de conformidad con las leyes nacionales y los acuerdos internacionales"},null,null,null,null,null,null,null,null,4]
[131,2,"Chapinero",5,"Construir Bogotá-región con gobierno abierto, transparente y ciudadanía consciente.",57,"Gestión Pública Local",null,null,null,null,131,"Realizar 4 acciones de inspección, vigilancia y control.",1841,"Fortalecimiento del EJECICIO DE INSPECCIÓN, VIGILANCIA Y CONTROL EN CHAPINERO","IVC","Suma",1,"Realizar",4,"Acciones","de inspección, vigilancia y control.","Realizar 4 acciones de inspección, vigilancia y control.",{"$f":"VLOOKUP(AG132,'Anexo PMR'!$B$4:$G$87,6,0)","v":"1_Inflexible 45%"},2,"Inspección, vigilancia y control","Inspección, vigilancia y control.",98,"GOBIERNO",38,"Inspección, vigilancia y control (IVC).",84,"Acciones de inspección, vigilancia y control realizadas","IVC",null,null,null,1,1,1,1,1295000000,1335000000,1377000000,1422000000,5429000000,1,1,0.25,1,0.25,"Bajo","Bajo",0.4440536561426468,0.1110134140356617,0.1110134140356617,null,null,null,0,"2021_1",1,1,0,0,0,1,0,0,0,1,0,0,0,"Incompleto",null,null,null,1191991000,1191991000,0,0,0,562605200,0,0,0,562605200,24115867,24115867,0,0,0,"Recursos humanos institucionales requeridos para el cumplimiento de la meta",null,null,null,null,null,{"$f":"VLOOKUP(AG132,'Anexo ODS'!$G$3:$P$86,5,0)","v":2},{"$f":"VLOOKUP(AG132,'Anexo ODS'!$G$3:$P$86,6,0)","v":"La Paz"},{"$f":"VLOOKUP(AG132,'Anexo ODS'!$G$3:$P$86,7,0)","v":16},{"$f":"VLOOKUP(AG132,'Anexo ODS'!$G$3:$P$86,8,0)","v":"Paz, justicia e instituciones sólidas"},{"$f":"VLOOKUP(AG132,'Anexo ODS'!$G$3:$P$86,9,0)","v":"16.6"},{"$f":"VLOOKUP(AG132,'Anexo ODS'!$G$3:$P$86,10,0)","v":"Garantizar el acceso público a la información y proteger las libertades fundamentales, de conformidad con las leyes nacionales y los acuerdos internacionales"},null,null,null,null,null,null,null,null,4]
[132,3,"Santa Fe",1,"Hacer un nuevo contrato social con igualdad de oportunidades para la inclusión social, productiva y política",1,"Subsidios y transferencias para la equidad",null,null,null,null,132,"Atender 1776 hogares con apoyos que contribuyan al ingreso mínimo garantizado.",2081,"Santa Fe activo con el envejecimiento, cuidador e incluyente","INGRESO MÍNIMO","Suma",null,"Atender",1776,"Hogares","con apoyos que contribuyan al ingreso mínimo garantizado.","Atender 1776 hogares con apoyos que contribuyan al ingreso mínimo garantizado.",{"$f":"VLOOKUP(AG133,'Anexo PMR'!$B$4:$G$87,6,0)","v":"1_Inflexible 45%"},3,"Sistema Bogotá Solidaria (20%)","Ingreso mínimo garantizado",92,"INTEGRACIÓN SOCIAL",1,"Protección integral a personas y familias en situación de vulneración.",1,"Hogares atendidos con apoyos que contribuyan al ingreso mínimo garantizado","INGRESO MÍNIMO",null,null,null,1140,318,318,0,570000000,1242000000,1197000000,0,3009000000,1,1140,0.64189189189189189,0,0,"Medio","Bajo",{"$f":"AT133/SUMIF($F$133:$F$196,F133,$AT$133:$AT$196)","v":0.13064999348703921},8.3863171495058952E-2,0,null,null,null,0,"2021_1",1140,1140,0,0,0,1140,0,0,0,0,0,0,0,"Incompleto",null,null,null,570000000,570000000,0,0,0,456000000,0,0,0,456000000,456000000,456000000,0,0,0,"El recurso se giró a la Secretaría Distrital de Hacienda, pero teniendo en cuenta lo indicado por nivel central de la Secretaría Distrital de Gobierno a 31 de marzo de 2021 el monto a girar por hogar y la magnitud de la meta se están replanteando, toda ve",null,null,null,null,null,{"$f":"VLOOKUP(AG133,'Anexo ODS'!$G$3:$P$86,5,0)","v":1},{"$f":"VLOOKUP(AG133,'Anexo ODS'!$G$3:$P$86,6,0)","v":"Las Personas"},{"$f":"VLOOKUP(AG133,'Anexo ODS'!$G$3:$P$86,7,0)","v":1},{"$f":"VLOOKUP(AG133,'Anexo ODS'!$G$3:$P$86,8,0)","v":"Fin de la pobreza"},{"$f":"VLOOKUP(AG133,'Anexo ODS'!$G$3:$P$86,9,0)","v":"1.2"},{"$f":"VLOOKUP(AG133,'Anexo ODS'!$G$3:$P$86,10,0)","v":"De aquí a 2030, reducir al menos a la mitad la proporción de hombres, mujeres y niños de todas las edades que viven en la pobreza en todas sus dimensiones con arreglo a las definiciones nacionales"},null,null,null,null,null,null,null,null,1776]
[133,3,"Santa Fe",1,"Hacer un nuevo contrato social con igualdad de oportunidades para la inclusión social, productiva y política",1,"Subsidios y transferencias para la equidad",null,null,null,null,133,"Beneficiar 2500 personas mayores con apoyo económico tipo C",2081,"Santa Fe activo con el envejecimiento, cuidador e incluyente","SUBSIDIO TIPO C","Constante",null,"Beneficiar",2500,"Personas","mayores con apoyo económico tipo C.","Beneficiar 2500 personas mayores con apoyo económico tipo C",{"$f":"VLOOKUP(AG134,'Anexo PMR'!$B$4:$G$87,6,0)","v":"1_Inflexible 45%"},3,"Sistema Bogotá Solidaria (20%)","Subsidio tipo C adulto mayor.",92,"INTEGRACIÓN SOCIAL",1,"Protección integral a personas y familias en situación de vulneración.",2,"Número de personas mayores con apoyo económico tipo C","SUBSIDIO TIPO C",null,null,null,2500,2500,2500,2500,4474000000,4636000000,5265000000,5647000000,20022000000,1,625,0.25,625,0.25,"Bajo","Bajo",0.86935000651296079,0.2173375016282402,0.2173375016282402,null,null,null,0,"2021_1",2500,2500,0,0,0,2500,0,0,0,2500,0,0,0,"Incompleto",null,null,null,4474000000,4474000000,0,0,0,2134395777,0,0,0,2134395777,951313579,951313579,0,0,0,"",null,null,null,null,null,{"$f":"VLOOKUP(AG134,'Anexo ODS'!$G$3:$P$86,5,0)","v":1},{"$f":"VLOOKUP(AG134,'Anexo ODS'!$G$3:$P$86,6,0)","v":"Las Personas"},{"$f":"VLOOKUP(AG134,'Anexo ODS'!$G$3:$P$86,7,0)","v":1},{"$f":"VLOOKUP(AG134,'Anexo ODS'!$G$3:$P$86,8,0)","v":"Fin de la pobreza"},{"$f":"VLOOKUP(AG134,'Anexo ODS'!$G$3:$P$86,9,0)","v":"1.2"},{"$f":"VLOOKUP(AG134,'Anexo ODS'!$G$3:$P$86,10,0)","v":"De aquí a 2030, reducir al menos a la mitad la proporción de hombres, mujeres y niños de todas las edades que viven en la pobreza en todas sus dimensiones con arreglo a las definiciones nacionales"},null,null,null,null,null,null,null,null,2500]
[134,3,"Santa Fe",1,"Hacer un nuevo contrato social con igualdad de oportunidades para la inclusión social, productiva y política",6,"Sistema Distrital de Cuidado",null,null,null,null,134,"Apoyar 50 Mipymes y/o emprendimientos culturales y creativos.",2188,"Santa Fe con un sistema de cuidado","FORTALECIMIENTO MIPYMES","Suma",null,"Apoyar",50,"Mipymes","y/o emprendimientos culturales y creativos.","Apoyar 50 Mipymes y/o emprendimientos culturales y creativos.",{"$f":"VLOOKUP(AG135,'Anexo PMR'!$B$4:$G$87,6,0)","v":"2_Presupuestos Participativos 50%"},5,"Desarrollo de la Economía Local","Apoyo a industrias culturales y creativas.",89,"DESARROLLO ECONÓMICO, INDUSTRIA Y TURISMO",14,"Servicios de asesoría, asistencia técnica integral, dotación y/o apoyo financiero a Mipymes y/o emprendimientos.",21,"Número de Mipymes y/o emprendimientos culturales y creativos apoyados","DESARROLLO DE LA ECONOMÍA LOCAL",null,null,null,13,12,13,12,316000000,326000000,336000000,347000000,1325000000,1,0,0,0,0,"Bajo","Bajo",0.10808385675830003,0,0,null,null,null,0,"2021_1",13,13,0,0,0,0,0,0,0,0,0,0,0,"",null,null,null,310000000,310000000,0,0,0,null,0,0,0,0,null,null,0,0,0,"",null,null,null,null,null,{"$f":"VLOOKUP(AG135,'Anexo ODS'!$G$3:$P$86,5,0)","v":3},{"$f":"VLOOKUP(AG135,'Anexo ODS'!$G$3:$P$86,6,0)","v":"La Prosperidad"},{"$f":"VLOOKUP(AG135,'Anexo ODS'!$G$3:$P$86,7,0)","v":8},{"$f":"VLOOKUP(AG135,'Anexo ODS'!$G$3:$P$86,8,0)","v":"Trabajo decente y crecimiento económico"},{"$f":"VLOOKUP(AG135,'Anexo ODS'!$G$3:$P$86,9,0)","v":"8.3"},{"$f":"VLOOKUP(AG135,'Anexo ODS'!$G$3:$P$86,10,0)","v":"Promover políticas orientadas al desarrollo que apoyen las actividades productivas, la creación de puestos de trabajo decentes, el emprendimiento, la creatividad y la innovación, y fomentar la formalización y el crecimiento de las microempresas y las pequeñas y medianas empresas, incluso mediante el acceso a servicios financieros"},null,null,null,null,null,null,null,null,50]
[135,3,"Santa Fe",1,"Hacer un nuevo contrato social con igualdad de oportunidades para la inclusión social, productiva y política",6,"Sistema Distrital de Cuidado",null,null,null,null,135,"Beneficiar 650 personas con discapacidad a través de Dispositivos de Asistencia Personal - Ayudas Técnicas (no incluidas en los Planes de Beneficios).",2188,"Santa Fe con un sistema de cuidado","DISPOSITIVOS DE ASISTENCIA PERSONAL","Suma",null,"Beneficiar",650,"Personas","con discapacidad a través de Dispositivos de Asistencia Personal - Ayudas Técnicas (no incluidas en los Planes de Beneficios).","Beneficiar 650 personas con discapacidad a través de Dispositivos de Asistencia Personal - Ayudas Técnicas (no incluidas en los Planes de Beneficios).",{"$f":"VLOOKUP(AG136,'Anexo PMR'!$B$4:$G$87,6,0)","v":"3_Flexible 5%"},11,"Condiciones de salud","Dispositivos de asistencia personal -DAP- Ayudas técnicas a personas con discapacidad (No incluidas en el POS).",91,"SALUD",16,"Promoción, prevención e intervención en salud.",33,"Número de personas con discapacidad beneficiadas con Dispostivos de Asistencia Personal - Ayudas Técnicas (no incluidas en los Planes de Beneficios).","ATENCIÓN  A LA DISCAPACIDAD Y SUS CUIDADORES",null,null,null,163,163,163,161,222000000,236000000,236000000,250000000,944000000,1,0,0,0,0,"Bajo","Bajo",7.7004649645158657E-2,0,0,null,null,null,0,"2021_1",163,163,0,0,0,0,0,0,0,0,0,0,0,"",null,null,null,222000000,222000000,0,0,0,null,0,0,0,0,null,null,0,0,0,"",null,null,null,null,null,{"$f":"VLOOKUP(AG136,'Anexo ODS'!$G$3:$P$86,5,0)","v":3},{"$f":"VLOOKUP(AG136,'Anexo ODS'!$G$3:$P$86,6,0)","v":"La Prosperidad"},{"$f":"VLOOKUP(AG136,'Anexo ODS'!$G$3:$P$86,7,0)","v":10},{"$f":"VLOOKUP(AG136,'Anexo ODS'!$G$3:$P$86,8,0)","v":"Reducción de las desigualdades "},{"$f":"VLOOKUP(AG136,'Anexo ODS'!$G$3:$P$86,9,0)","v":"10.2"},{"$f":"VLOOKUP(AG136,'Anexo ODS'!$G$3:$P$86,10,0)","v":"De aquí a 2030, potenciar y promover la inclusión social, económica y política de todas las personas, independientemente de su edad, sexo, discapacidad, raza, etnia, origen, religión o situación económica u otra condición"},null,null,null,null,null,null,null,null,650]
[136,3,"Santa Fe",1,"Hacer un nuevo contrato social con igualdad de oportunidades para la inclusión social, productiva y política",6,"Sistema Distrital de Cuidado",null,null,null,null,136,"Dotar 1 Centro de Desarrollo comunitario.",2188,"Santa Fe con un sistema de cuidado","DOTACIÓN CDC","Suma",null,"Dotar",1,"Centros","de desarrollo comunitario.","Dotar 1 Centro de Desarrollo comunitario.",{"$f":"VLOOKUP(AG137,'Anexo PMR'!$B$4:$G$87,6,0)","v":"2_Presupuestos Participativos 50%"},6,"Infraestructura","Dotación Centros de Desarrollo Comunitario.",92,"INTEGRACIÓN SOCIAL",5,"Dotación para la atención y la prestación de los servicios en la infraestructura del sector Integración Social.",27,"Sedes de Centros de Desarrollo comunitarios dotados","CENTROS DE DESARROLLO COMUNITARIO",null,null,null,0,0,0,1,0,0,0,248000000,248000000,1,0,0,0,0,"Bajo","Bajo",2.0230035076270494E-2,0,0,null,null,null,0,"2021_1",0,0,0,0,0,0,0,0,0,0,0,0,0,"",null,null,null,0,0,0,0,0,null,0,0,0,0,null,null,0,0,0,"",null,null,null,null,null,{"$f":"VLOOKUP(AG137,'Anexo ODS'!$G$3:$P$86,5,0)","v":3},{"$f":"VLOOKUP(AG137,'Anexo ODS'!$G$3:$P$86,6,0)","v":"La Prosperidad"},{"$f":"VLOOKUP(AG137,'Anexo ODS'!$G$3:$P$86,7,0)","v":10},{"$f":"VLOOKUP(AG137,'Anexo ODS'!$G$3:$P$86,8,0)","v":"Reducción de las desigualdades "},{"$f":"VLOOKUP(AG137,'Anexo ODS'!$G$3:$P$86,9,0)","v":"10.2"},{"$f":"VLOOKUP(AG137,'Anexo ODS'!$G$3:$P$86,10,0)","v":"De aquí a 2030, potenciar y promover la inclusión social, económica y política de todas las personas, independientemente de su edad, sexo, discapacidad, raza, etnia, origen, religión o situación económica u otra condición"},null,null,null,null,null,null,null,null,1]
[137,3,"Santa Fe",1,"Hacer un nuevo contrato social con igualdad de oportunidades para la inclusión social, productiva y política",6,"Sistema Distrital de Cuidado",null,null,null,null,137,"Dotar 10 Sedes de atención a la primera infancia y/o adolescencia (jardines infantiles).",2188,"Santa Fe con un sistema de cuidado","DOTACIÓN JARDINES IFANTILES Y CENTROS AMAR","Suma",null,"Dotar",10,"Sedes","de atención a la primera infancia y/o adolescencia (jardines infantiles).","Dotar 10 Sedes de atención a la primera infancia y/o adolescencia (jardines infantiles).",{"$f":"VLOOKUP(AG138,'Anexo PMR'!$B$4:$G$87,6,0)","v":"2_Presupuestos Participativos 50%"},6,"Infraestructura","Dotación a Jardines Infantiles, Centros Amar y Forjar.",92,"INTEGRACIÓN SOCIAL",2,"Protección integral a niños y niñas y adolescentes.",28,"Sedes de atención a la primera infancia y/o adolescencia dotadas.","JARDINES INFANTILES Y CENTROS AMAR",null,null,null,0,0,0,10,0,0,0,338000000,338000000,1,0,0,0,0,"Bajo","Bajo",2.7571580063626724E-2,0,0,null,null,null,0,"2021_1",0,0,0,0,0,0,0,0,0,0,0,0,0,"",null,null,null,0,0,0,0,0,null,0,0,0,0,null,null,0,0,0,"",null,null,null,null,null,{"$f":"VLOOKUP(AG138,'Anexo ODS'!$G$3:$P$86,5,0)","v":1},{"$f":"VLOOKUP(AG138,'Anexo ODS'!$G$3:$P$86,6,0)","v":"Las Personas"},{"$f":"VLOOKUP(AG138,'Anexo ODS'!$G$3:$P$86,7,0)","v":1},{"$f":"VLOOKUP(AG138,'Anexo ODS'!$G$3:$P$86,8,0)","v":"Fin de la Pobreza"},{"$f":"VLOOKUP(AG138,'Anexo ODS'!$G$3:$P$86,9,0)","v":"1.2"},{"$f":"VLOOKUP(AG138,'Anexo ODS'!$G$3:$P$86,10,0)","v":"De aquí a 2030, reducir al menos a la mitad la proporción de hombres, mujeres y niños de todas las edades que viven en la pobreza en todas sus dimensiones con arreglo a las definiciones nacionales"},null,null,null,null,null,null,null,null,10]
[138,3,"Santa Fe",1,"Hacer un nuevo contrato social con igualdad de oportunidades para la inclusión social, productiva y política",6,"Sistema Distrital de Cuidado",null,null,null,null,138,"Formar 1.200 personas en prevención de violencia intrafamiliar y/o violencia sexual.",2188,"Santa Fe con un sistema de cuidado","PREVENCIÓN DE VIOLENCIAS","Suma",null,"Formar",1200,"Personas","en prevención de violencia intrafamiliar y/o violencia sexual.","Formar 1.200 personas en prevención de violencia intrafamiliar y/o violencia sexual.",{"$f":"VLOOKUP(AG139,'Anexo PMR'!$B$4:$G$87,6,0)","v":"2_Presupuestos Participativos 50%"},7,"Desarrollo social y cultural","Prevención y atención de violencia intrafamiliar y sexual para poblaciones en situaciones de riesgo y vulneración de derechos.",92,"INTEGRACIÓN SOCIAL",2,"Protección integral a niños y niñas y adolescentes.",25,"Número de Personas formadas u orientadas o sensibilizadas en prevención de violencia intrafamiliar y/o violencia sexual.            ","PREVENCIÓN DE LA VIOLENCIA",null,null,null,300,300,300,300,313000000,323000000,333000000,344000000,1313000000,1,0,0,0,0,"Bajo","Bajo",0.1071049840933192,0,0,null,null,null,0,"2021_1",300,300,0,0,0,0,0,0,0,0,0,0,0,"",null,null,null,300000000,300000000,0,0,0,null,0,0,0,0,null,null,0,0,0,"",null,null,null,null,null,{"$f":"VLOOKUP(AG139,'Anexo ODS'!$G$3:$P$86,5,0)","v":2},{"$f":"VLOOKUP(AG139,'Anexo ODS'!$G$3:$P$86,6,0)","v":"La Paz"},{"$f":"VLOOKUP(AG139,'Anexo ODS'!$G$3:$P$86,7,0)","v":16},{"$f":"VLOOKUP(AG139,'Anexo ODS'!$G$3:$P$86,8,0)","v":"Paz, justicia e instituciones sólidas"},{"$f":"VLOOKUP(AG139,'Anexo ODS'!$G$3:$P$86,9,0)","v":"16.1"},{"$f":"VLOOKUP(AG139,'Anexo ODS'!$G$3:$P$86,10,0)","v":"Reducir significativamente todas las formas de violencia y las correspondientes tasas de mortalidad en todo el mundo"},null,null,null,null,null,null,null,null,1200]
[139,3,"Santa Fe",1,"Hacer un nuevo contrato social con igualdad de oportunidades para la inclusión social, productiva y política",6,"Sistema Distrital de Cuidado",null,null,null,null,139,"Promover en 50 Mipymes y/o emprendimientos la transformación empresarial y/o productiva.",2188,"Santa Fe con un sistema de cuidado","TRANSFORMACIÓN PRODUCTIVA","Suma",null,"Promover",50,"Mipymes","y/o emprendimientos la transformación empresarial y/o productiva.","Promover en 50 Mipymes y/o emprendimientos la transformación empresarial y/o productiva.",{"$f":"VLOOKUP(AG140,'Anexo PMR'!$B$4:$G$87,6,0)","v":"2_Presupuestos Participativos 50%"},5,"Desarrollo de la Economía Local","Transformación productiva y formación de capacidades",89,"DESARROLLO ECONÓMICO, INDUSTRIA Y TURISMO",14,"Servicios de asesoría, asistencia técnica integral, dotación y/o apoyo financiero a Mipymes y/o emprendimientos.",23,"Número de Mipymes y/o emprendimientos con transformacion empresarial y/o productiva","DESARROLLO DE LA ECONOMÍA LOCAL",null,null,null,12,13,12,13,651000000,671000000,692000000,714000000,2728000000,1,0,0,0,0,"Bajo","Bajo",0.22253038583897544,0,0,null,null,null,0,"2021_1",12,12,0,0,0,0,0,0,0,0,0,0,0,"",null,null,null,640000000,640000000,0,0,0,null,0,0,0,0,null,null,0,0,0,"",null,null,null,null,null,{"$f":"VLOOKUP(AG140,'Anexo ODS'!$G$3:$P$86,5,0)","v":3},{"$f":"VLOOKUP(AG140,'Anexo ODS'!$G$3:$P$86,6,0)","v":"La Prosperidad"},{"$f":"VLOOKUP(AG140,'Anexo ODS'!$G$3:$P$86,7,0)","v":8},{"$f":"VLOOKUP(AG140,'Anexo ODS'!$G$3:$P$86,8,0)","v":"Trabajo decente y crecimiento económico"},{"$f":"VLOOKUP(AG140,'Anexo ODS'!$G$3:$P$86,9,0)","v":"8.3"},{"$f":"VLOOKUP(AG140,'Anexo ODS'!$G$3:$P$86,10,0)","v":"Promover políticas orientadas al desarrollo que apoyen las actividades productivas, la creación de puestos de trabajo decentes, el emprendimiento, la creatividad y la innovación, y fomentar la formalización y el crecimiento de las microempresas y las pequeñas y medianas empresas, incluso mediante el acceso a servicios financieros"},null,null,null,null,null,null,null,null,50]
[140,3,"Santa Fe",1,"Hacer un nuevo contrato social con igualdad de oportunidades para la inclusión social, productiva y política",6,"Sistema Distrital de Cuidado",null,null,null,null,140,"Promover en 50 Mipymes y/o emprendimientos procesos de reconversión hacia actividades sostenibles.",2188,"Santa Fe con un sistema de cuidado","REACTIVACIÓN","Suma",null,"Promover",50,"Mipymes","y/o emprendimientos procesos de reconversión hacia actividades sostenibles.","Promover en 50 Mipymes y/o emprendimientos procesos de reconversión hacia actividades sostenibles.",{"$f":"VLOOKUP(AG141,'Anexo PMR'!$B$4:$G$87,6,0)","v":"2_Presupuestos Participativos 50%"},5,"Desarrollo de la Economía Local","Reactivación y reconversión verde",89,"DESARROLLO ECONÓMICO, INDUSTRIA Y TURISMO",14,"Servicios de asesoría, asistencia técnica integral, dotación y/o apoyo financiero a Mipymes y/o emprendimientos.",22,"Número de Mipymes y/o emprendimientos con procesos de reconversión hacia actividades sostenibles","DESARROLLO DE LA ECONOMÍA LOCAL",null,null,null,0,17,17,16,0,391000000,205000000,211000000,807000000,1,0,0,0,0,"Bajo","Bajo",6.5829186719960839E-2,0,0,null,null,null,0,"2021_1",0,0,0,0,0,0,0,0,0,0,0,0,0,"",null,null,null,0,0,0,0,0,null,0,0,0,0,null,null,0,0,0,"",null,null,null,null,null,{"$f":"VLOOKUP(AG141,'Anexo ODS'!$G$3:$P$86,5,0)","v":3},{"$f":"VLOOKUP(AG141,'Anexo ODS'!$G$3:$P$86,6,0)","v":"La Prosperidad"},{"$f":"VLOOKUP(AG141,'Anexo ODS'!$G$3:$P$86,7,0)","v":8},{"$f":"VLOOKUP(AG141,'Anexo ODS'!$G$3:$P$86,8,0)","v":"Trabajo decente y crecimiento económico"},{"$f":"VLOOKUP(AG141,'Anexo ODS'!$G$3:$P$86,9,0)","v":"8.3"},{"$f":"VLOOKUP(AG141,'Anexo ODS'!$G$3:$P$86,10,0)","v":"Promover políticas orientadas al desarrollo que apoyen las actividades productivas, la creación de puestos de trabajo decentes, el emprendimiento, la creatividad y la innovación, y fomentar la formalización y el crecimiento de las microempresas y las pequeñas y medianas empresas, incluso mediante el acceso a servicios financieros"},null,null,null,null,null,null,null,null,50]
[141,3,"Santa Fe",1,"Hacer un nuevo contrato social con igualdad de oportunidades para la inclusión social, productiva y política",6,"Sistema Distrital de Cuidado",null,null,null,null,141,"Revitalizar 60 Mipymes y/o emprendimientos potencializadas dentro de las aglomeraciones económicas que fomentan el empleo y/o nuevas actividades económicas.",2188,"Santa Fe con un sistema de cuidado","REVITALIZACIÓN","Suma",null,"Revitalizar",60,"Mipymes","y/o emprendimientos potencializadas dentro de las aglomeraciones económicas que fomentan el empleo y/o nuevas actividades económicas.","Revitalizar 60 Mipymes y/o emprendimientos potencializadas dentro de las aglomeraciones económicas que fomentan el empleo y/o nuevas actividades económicas.",{"$f":"VLOOKUP(AG142,'Anexo PMR'!$B$4:$G$87,6,0)","v":"2_Presupuestos Participativos 50%"},5,"Desarrollo de la Economía Local","Revitalización del corazón productivo de las localidades",89,"DESARROLLO ECONÓMICO, INDUSTRIA Y TURISMO",14,"Servicios de asesoría, asistencia técnica integral, dotación y/o apoyo financiero a Mipymes y/o emprendimientos.",24,"Número de Mipymes  y/o emprendimientos revitalizadas o potencializadas dentro de las aglomeraciones económicas que fomentan el empleo y/o nuevas actividades económicas","DESARROLLO DE LA ECONOMÍA LOCAL",null,null,null,15,15,15,15,509000000,525000000,542000000,559000000,2135000000,1,0,0,0,0,"Bajo","Bajo",0.17415776164450608,0,0,null,null,null,0,"2021_1",15,15,0,0,0,0,0,0,0,0,0,0,0,"",null,null,null,493000000,493000000,0,0,0,null,0,0,0,0,null,null,0,0,0,"",null,null,null,null,null,{"$f":"VLOOKUP(AG142,'Anexo ODS'!$G$3:$P$86,5,0)","v":3},{"$f":"VLOOKUP(AG142,'Anexo ODS'!$G$3:$P$86,6,0)","v":"La Prosperidad"},{"$f":"VLOOKUP(AG142,'Anexo ODS'!$G$3:$P$86,7,0)","v":8},{"$f":"VLOOKUP(AG142,'Anexo ODS'!$G$3:$P$86,8,0)","v":"Trabajo decente y crecimiento económico"},{"$f":"VLOOKUP(AG142,'Anexo ODS'!$G$3:$P$86,9,0)","v":"8.3"},{"$f":"VLOOKUP(AG142,'Anexo ODS'!$G$3:$P$86,10,0)","v":"Promover políticas orientadas al desarrollo que apoyen las actividades productivas, la creación de puestos de trabajo decentes, el emprendimiento, la creatividad y la innovación, y fomentar la formalización y el crecimiento de las microempresas y las pequeñas y medianas empresas, incluso mediante el acceso a servicios financieros"},null,null,null,null,null,null,null,null,60]
[142,3,"Santa Fe",1,"Hacer un nuevo contrato social con igualdad de oportunidades para la inclusión social, productiva y política",6,"Sistema Distrital de Cuidado",null,null,null,null,142,"Vincular 200 personas con discapacidad, cuidadores y cuidadoras, en actividades alternativas de salud.",2188,"Santa Fe con un sistema de cuidado","ACCIONES COMPLEMENTARIAS ","Suma",null,"Vincular",200,"Personas","con discapacidad, cuidadores y cuidadoras, en actividades alternativas de salud","Vincular 200 personas con discapacidad, cuidadores y cuidadoras, en actividades alternativas de salud.",{"$f":"VLOOKUP(AG143,'Anexo PMR'!$B$4:$G$87,6,0)","v":"3_Flexible 5%"},11,"Condiciones de salud","Acciones complementarias para personas en condición de discapacidad y sus cuidadores.",91,"SALUD",16,"Promoción, prevención e intervención en salud.",31,"Número de personas con discapacidad, cuidadadores y cuidadoras, vinculados en actividades alernativas de salud.","ATENCIÓN  A LA DISCAPACIDAD Y SUS CUIDADORES",null,null,null,50,50,50,50,60000000,60000000,60000000,60000000,240000000,1,0,0,0,0,"Bajo","Bajo",1.9577453299616607E-2,0,0,null,null,null,0,"2021_1",50,50,0,0,0,0,0,0,0,0,0,0,0,"",null,null,null,60000000,60000000,0,0,0,null,0,0,0,0,null,null,0,0,0,"",null,null,null,null,null,{"$f":"VLOOKUP(AG143,'Anexo ODS'!$G$3:$P$86,5,0)","v":1},{"$f":"VLOOKUP(AG143,'Anexo ODS'!$G$3:$P$86,6,0)","v":"Las Personas"},{"$f":"VLOOKUP(AG143,'Anexo ODS'!$G$3:$P$86,7,0)","v":3},{"$f":"VLOOKUP(AG143,'Anexo ODS'!$G$3:$P$86,8,0)","v":"Salud y Bienestar"},{"$f":"VLOOKUP(AG143,'Anexo ODS'!$G$3:$P$86,9,0)","v":"3.4"},{"$f":"VLOOKUP(AG143,'Anexo ODS'!$G$3:$P$86,10,0)","v":"De aquí a 2030, reducir en un tercio la mortalidad prematura por enfermedades no transmisibles mediante su prevención y tratamiento, y promover la salud mental y el\nbienestar"},null,null,null,null,null,null,null,null,200]
[143,3,"Santa Fe",1,"Hacer un nuevo contrato social con igualdad de oportunidades para la inclusión social, productiva y política",6,"Sistema Distrital de Cuidado",null,null,null,null,143,"Vincular 500 mujeres cuidadoras a estrategias de cuidado.",2188,"Santa Fe con un sistema de cuidado","ESTRATEGIAS DE CUIDADO","Suma",null,"Vincular",500,"Mujeres","cuidadoras a estrategias de cuidado","Vincular 500 mujeres cuidadoras a estrategias de cuidado.",{"$f":"VLOOKUP(AG144,'Anexo PMR'!$B$4:$G$87,6,0)","v":"2_Presupuestos Participativos 50%"},7,"Desarrollo social y cultural","Estrategias de cuidado para cuidadoras, cuidadores y a personas con discapacidad",100,"MUJERES",15,"Estrategias del cuidado para cuidadoras.",30,"Mujeres cuidadoras vinculadas a estrategias de cuidado","ESTRATEGIAS DE CUIDADO",null,null,null,125,125,125,125,294000000,303000000,313000000,323000000,1233000000,1,0,0,0,0,"Bajo","Bajo",0.10057916632678032,0,0,null,null,null,0,"2021_1",125,125,0,0,0,0,0,0,0,0,0,0,0,"",null,null,null,294000000,294000000,0,0,0,null,0,0,0,0,null,null,0,0,0,"",null,null,null,null,null,{"$f":"VLOOKUP(AG144,'Anexo ODS'!$G$3:$P$86,5,0)","v":1},{"$f":"VLOOKUP(AG144,'Anexo ODS'!$G$3:$P$86,6,0)","v":"Las Personas"},{"$f":"VLOOKUP(AG144,'Anexo ODS'!$G$3:$P$86,7,0)","v":5},{"$f":"VLOOKUP(AG144,'Anexo ODS'!$G$3:$P$86,8,0)","v":"Igualdad de género"},{"$f":"VLOOKUP(AG144,'Anexo ODS'!$G$3:$P$86,9,0)","v":"5.4"},{"$f":"VLOOKUP(AG144,'Anexo ODS'!$G$3:$P$86,10,0)","v":"Reconocer y valorar los cuidados y el trabajo doméstico no remunerados mediante servicios públicos, infraestructuras y políticas de protección social, y promoviendo la responsabilidad compartida en el hogar y la familia, según proceda en cada país"},null,null,null,null,null,null,null,null,500]
[144,3,"Santa Fe",1,"Hacer un nuevo contrato social con igualdad de oportunidades para la inclusión social, productiva y política",6,"Sistema Distrital de Cuidado",null,null,null,null,144,"Vincular 500 personas a las acciones y estrategias de reconocimiento de los saberes ancestrales en medicina.",2188,"Santa Fe con un sistema de cuidado","SABERES ANCESTRALES","Suma",null,"Vincular",500,"Personas","a las acciones y estrategias de reconocimiento de los saberes ancestrales en medicina.","Vincular 500 personas a las acciones y estrategias de reconocimiento de los saberes ancestrales en medicina.",{"$f":"VLOOKUP(AG145,'Anexo PMR'!$B$4:$G$87,6,0)","v":"3_Flexible 5%"},11,"Condiciones de salud","Reconocimiento de los saberes ancestrales en medicina.",91,"SALUD",16,"Promoción, prevención e intervención en salud.",34,"Número de personas vinculadas a las acciones y estrategias de reconocimiento de los saberes ancestrales en medicina.","SABERES ANCESTRALES",null,null,null,0,500,0,0,0,200000000,0,0,200000000,1,0,0,0,0,"Bajo","Bajo",1.6314544416347172E-2,0,0,null,null,null,0,"2021_1",0,0,0,0,0,0,0,0,0,0,0,0,0,"",null,null,null,0,0,0,0,0,null,0,0,0,0,null,null,0,0,0,"",null,null,null,null,null,{"$f":"VLOOKUP(AG145,'Anexo ODS'!$G$3:$P$86,5,0)","v":1},{"$f":"VLOOKUP(AG145,'Anexo ODS'!$G$3:$P$86,6,0)","v":"Las Personas"},{"$f":"VLOOKUP(AG145,'Anexo ODS'!$G$3:$P$86,7,0)","v":3},{"$f":"VLOOKUP(AG145,'Anexo ODS'!$G$3:$P$86,8,0)","v":"Salud y Bienestar"},{"$f":"VLOOKUP(AG145,'Anexo ODS'!$G$3:$P$86,9,0)","v":"3.b"},{"$f":"VLOOKUP(AG145,'Anexo ODS'!$G$3:$P$86,10,0)","v":"Apoyar las actividades de investigación y desarrollo de vacunas y medicamentos contra las enfermedades transmisibles y no transmisibles que afectan primordialmente a los países en desarrollo y facilitar el acceso a medicamentos y vacunas esenciales asequibles de conformidad con la Declaración relativa al Acuerdo sobre los Aspectos de los Derechos de Propiedad Intelectual Relacionados con el Comercio y la Salud Pública, en la que se afirma el derecho de los países en desarrollo a utilizar al máximo las disposiciones del Acuerdo sobre los Aspectos de los Derechos de Propiedad Intelectual Relacionados con el Comercio respecto a la flexibilidad para proteger la salud pública y, en particular, proporcionar acceso a los medicamentos para todos"},null,null,null,null,null,null,null,null,500]
[145,3,"Santa Fe",1,"Hacer un nuevo contrato social con igualdad de oportunidades para la inclusión social, productiva y política",6,"Sistema Distrital de Cuidado",null,null,null,null,145,"Vincular 800 personas a las acciones desarrolladas desde los dispositivos de base comunitaria en respuesta al consumo de SPA.",2188,"Santa Fe con un sistema de cuidado","DISMINUCIÓN FACTORES DE RIESGO SPA","Suma",null,"Vincular",800,"Personas","a las acciones desarrolladas desde los dispositivos de base comunitaria en respuesta al consumo de SPA.","Vincular 800 personas a las acciones desarrolladas desde los dispositivos de base comunitaria en respuesta al consumo de SPA.",{"$f":"VLOOKUP(AG146,'Anexo PMR'!$B$4:$G$87,6,0)","v":"3_Flexible 5%"},11,"Condiciones de salud","Acciones para la disminución de los factores de riesgo frente al consumo de sustancias psicoactivas.",91,"SALUD",16,"Promoción, prevención e intervención en salud.",32,"Números de personas vinculadas a las acciones desarrolladas desde los dispositivos de base comunitaria en respuesta al consumo de SPA.","SPA",null,null,null,200,200,200,200,180000000,189000000,189000000,190000000,748000000,1,0,0,0,0,"Bajo","Bajo",6.1016396117138431E-2,0,0,null,null,null,0,"2021_1",200,200,0,0,0,0,0,0,0,0,0,0,0,"",null,null,null,120000000,120000000,0,0,0,null,0,0,0,0,null,null,0,0,0,"",null,null,null,null,null,{"$f":"VLOOKUP(AG146,'Anexo ODS'!$G$3:$P$86,5,0)","v":1},{"$f":"VLOOKUP(AG146,'Anexo ODS'!$G$3:$P$86,6,0)","v":"Las Personas"},{"$f":"VLOOKUP(AG146,'Anexo ODS'!$G$3:$P$86,7,0)","v":3},{"$f":"VLOOKUP(AG146,'Anexo ODS'!$G$3:$P$86,8,0)","v":"Salud y Bienestar"},{"$f":"VLOOKUP(AG146,'Anexo ODS'!$G$3:$P$86,9,0)","v":"3.5"},{"$f":"VLOOKUP(AG146,'Anexo ODS'!$G$3:$P$86,10,0)","v":"Fortalecer la prevención y el tratamiento del abuso de sustancias adictivas, incluido el uso indebido de estupefacientes y el consumo nocivo de alcohol"},null,null,null,null,null,null,null,null,800]
[146,3,"Santa Fe",1,"Hacer un nuevo contrato social con igualdad de oportunidades para la inclusión social, productiva y política",7,"Mejora de la gestión de instituciones de salud",null,null,null,null,146,"Vincular 800 personas en acciones complementarias de la estrategia territorial de salud.",2104,"Santa Fe mejora la gestión en salud","ESTRATEGIA TERRITORIAL DE SALUD","Suma",null,"Vincular",800,"Personas","en acciones complementarias de la estrategia territorial de salud.","Vincular 800 personas en acciones complementarias de la estrategia territorial de salud.",{"$f":"VLOOKUP(AG147,'Anexo PMR'!$B$4:$G$87,6,0)","v":"3_Flexible 5%"},11,"Condiciones de salud","Coinversión en la estrategia territorial de salud.",91,"SALUD",16,"Promoción, prevención e intervención en salud.",36,"Número de personas vinculadas en las acciones complementarias de la estrategia territorial de salud.","ESTRATEGIA TERRITORIAL DE SALUD",null,null,null,200,200,200,200,180000000,180000000,180000000,200000000,740000000,1,0,0,0,0,"Bajo","Bajo",1,0,0,null,null,null,0,"2021_1",200,200,0,0,0,0,0,0,0,0,0,0,0,"",null,null,null,144000000,144000000,0,0,0,null,0,0,0,0,null,null,0,0,0,"",null,null,null,null,null,{"$f":"VLOOKUP(AG147,'Anexo ODS'!$G$3:$P$86,5,0)","v":1},{"$f":"VLOOKUP(AG147,'Anexo ODS'!$G$3:$P$86,6,0)","v":"Las Personas"},{"$f":"VLOOKUP(AG147,'Anexo ODS'!$G$3:$P$86,7,0)","v":3},{"$f":"VLOOKUP(AG147,'Anexo ODS'!$G$3:$P$86,8,0)","v":"Salud y Bienestar"},{"$f":"VLOOKUP(AG147,'Anexo ODS'!$G$3:$P$86,9,0)","v":"3.8"},{"$f":"VLOOKUP(AG147,'Anexo ODS'!$G$3:$P$86,10,0)","v":"Lograr la cobertura sanitaria universal, incluida la protección contra los riesgos financieros, el acceso a servicios de salud esenciales de calidad y el acceso a medicamentos y vacunas inocuos, eficaces, asequibles y de calidad para todos"},null,null,null,null,null,null,null,null,800]
[147,3,"Santa Fe",1,"Hacer un nuevo contrato social con igualdad de oportunidades para la inclusión social, productiva y política",8,"Prevención y atención de maternidad temprana",null,null,null,null,147,"Vincular 800 personas a las acciones y estrategias para la prevención del embarazo adolescente.",2064,"Santa Fe atiende y previene la maternidad temprana","PREVENCIÓN","Suma",null,"Vincular",800,"Personas","a las acciones y estrategias para la prevención del embarazo adolescente.","Vincular 800 personas a las acciones y estrategias para la prevención del embarazo adolescente.",{"$f":"VLOOKUP(AG148,'Anexo PMR'!$B$4:$G$87,6,0)","v":"3_Flexible 5%"},11,"Condiciones de salud","Prevención del embarazo en adolescentes.",91,"SALUD",16,"Promoción, prevención e intervención en salud.",37,"Número de personas vinculadas a las acciones y estrategias para la prevención del embarazo adolescente","PREVENCIÓN DEL EMBARAZO",null,null,null,200,200,200,200,225000000,242000000,244000000,243000000,954000000,1,0,0,0,0,"Bajo","Bajo",1,0,0,null,null,null,0,"2021_1",200,200,0,0,0,0,0,0,0,0,0,0,0,"",null,null,null,144000000,144000000,0,0,0,null,0,0,0,0,null,null,0,0,0,"",null,null,null,null,null,{"$f":"VLOOKUP(AG148,'Anexo ODS'!$G$3:$P$86,5,0)","v":1},{"$f":"VLOOKUP(AG148,'Anexo ODS'!$G$3:$P$86,6,0)","v":"Las Personas"},{"$f":"VLOOKUP(AG148,'Anexo ODS'!$G$3:$P$86,7,0)","v":3},{"$f":"VLOOKUP(AG148,'Anexo ODS'!$G$3:$P$86,8,0)","v":"Salud y Bienestar"},{"$f":"VLOOKUP(AG148,'Anexo ODS'!$G$3:$P$86,9,0)","v":"3.7"},{"$f":"VLOOKUP(AG148,'Anexo ODS'!$G$3:$P$86,10,0)","v":"De aquí a 2030, garantizar el acceso universal a los servicios de salud sexual y reproductiva, incluidos los de planificación familiar, información y educación, y la integración de la salud reproductiva en las estrategias y los programas nacionales"},null,null,null,null,null,null,null,null,800]
[148,3,"Santa Fe",1,"Hacer un nuevo contrato social con igualdad de oportunidades para la inclusión social, productiva y política",12,"Educación inicial: Bases sólidas para la vida",null,null,null,null,148,"Implementar 4 Proyectos para el desarrollo integral de la primera infancia y la relación escuela, familia y comunidad.",2102,"Educación inicial para Santa Fe","EDUCACIÓN INICIAL","Suma",null,"Implementar",4,"Proyectos","para el desarrollo integral de la primera infancia y la relación escuela, familia y comunidad.","Implementar 4 Proyectos para el desarrollo integral de la primera infancia y la relación escuela, familia y comunidad.",{"$f":"VLOOKUP(AG149,'Anexo PMR'!$B$4:$G$87,6,0)","v":"1_Inflexible 45%"},4,"Educación superior y primera infancia (10%)","Apoyo para educación inicial.",90,"EDUCACIÓN",2,"Protección integral a niños y niñas y adolescentes.",3,"Proyectos para el desarrollo integral de la primera infancia y la relación escuela, familia y comunidad.","PROYECTOS PRIMERA INFANCIA",null,null,null,1,1,1,1,513000000,529000000,545000000,563000000,2150000000,1,0,0,0,0,"Bajo","Bajo",1,0,0,null,null,null,0,"2021_1",1,1,0,0,0,0,0,0,0,0,0,0,0,"",null,null,null,470011000,470011000,0,0,0,null,0,0,0,0,null,null,0,0,0,"",null,null,null,null,null,{"$f":"VLOOKUP(AG149,'Anexo ODS'!$G$3:$P$86,5,0)","v":1},{"$f":"VLOOKUP(AG149,'Anexo ODS'!$G$3:$P$86,6,0)","v":"Las Personas"},{"$f":"VLOOKUP(AG149,'Anexo ODS'!$G$3:$P$86,7,0)","v":4},{"$f":"VLOOKUP(AG149,'Anexo ODS'!$G$3:$P$86,8,0)","v":"Educación de calidad"},{"$f":"VLOOKUP(AG149,'Anexo ODS'!$G$3:$P$86,9,0)","v":"4.2"},{"$f":"VLOOKUP(AG149,'Anexo ODS'!$G$3:$P$86,10,0)","v":"De aquí a 2030, asegurar que todas las niñas y todos los niños tengan acceso a servicios de atención y desarrollo en la primera infancia y educación preescolar de calidad, a fin de que estén preparados para la enseñanza primaria."},null,null,null,null,null,null,null,null,4]
[149,3,"Santa Fe",1,"Hacer un nuevo contrato social con igualdad de oportunidades para la inclusión social, productiva y política",14,"Formación integral: más y mejor tiempo en los colegios",null,null,null,null,149,"Dotar 9 sedes educativas urbanas y rurales.",2091,"Formación Integral en Santa Fe","DOTACIÓN","Suma",null,"Dotar",9,"Sedes","educativas urbanas y rurales","Dotar 9 sedes educativas urbanas y rurales.",{"$f":"VLOOKUP(AG150,'Anexo PMR'!$B$4:$G$87,6,0)","v":"2_Presupuestos Participativos 50%"},6,"Infraestructura","Dotación pedagógica a colegios.",90,"EDUCACIÓN",3,"Infraestructura y dotación escolar.",4,"Sedes educativas urbanas y rurales dotadas","SEDES EDUCATIVAS",null,null,null,2,2,2,3,230000000,237000000,245000000,253000000,965000000,1,0,0,0,0,"Bajo","Bajo",1,0,0,null,null,null,0,"2021_1",2,2,0,0,0,0,0,0,0,0,0,0,0,"",null,null,null,230000000,230000000,0,0,0,null,0,0,0,0,null,null,0,0,0,"",null,null,null,null,null,{"$f":"VLOOKUP(AG150,'Anexo ODS'!$G$3:$P$86,5,0)","v":1},{"$f":"VLOOKUP(AG150,'Anexo ODS'!$G$3:$P$86,6,0)","v":"Las Personas"},{"$f":"VLOOKUP(AG150,'Anexo ODS'!$G$3:$P$86,7,0)","v":4},{"$f":"VLOOKUP(AG150,'Anexo ODS'!$G$3:$P$86,8,0)","v":"Educación de calidad"},{"$f":"VLOOKUP(AG150,'Anexo ODS'!$G$3:$P$86,9,0)","v":"4.7"},{"$f":"VLOOKUP(AG150,'Anexo ODS'!$G$3:$P$86,10,0)","v":"De aquí a 2030, asegurar que todos los alumnos adquieran los conocimientos teóricos y prácticos necesarios para promover el desarrollo sostenible, entre otras cosas mediante la educación para el desarrollo sostenible y los estilos de vida sostenibles, los derechos humanos, la igualdad de género, la promoción de una cultura de paz y no violencia, la ciudadanía mundial y la valoración de la diversidad cultural y la contribución de la cultura al desarrollo sostenible"},null,null,null,null,null,null,null,null,9]
[150,3,"Santa Fe",1,"Hacer un nuevo contrato social con igualdad de oportunidades para la inclusión social, productiva y política",17,"Jóvenes con capacidades: Proyecto de vida para la ciudadanía, la innovación y el trabajo del siglo XXI",null,null,null,null,150,"Beneficiar 60 estudiantes de programas de educación superior con apoyo de sostenimiento para la permanecía.",2095,"Jóvenes con capacidades en Santa Fe","SOSTENIMIENTO","Suma",null,"Beneficiar",60,"estudiantes","de programas de educación superior con apoyo de sostenimiento para la permanencia","Beneficiar 60 estudiantes de programas de educación superior con apoyo de sostenimiento para la permanecía.",{"$f":"VLOOKUP(AG151,'Anexo PMR'!$B$4:$G$87,6,0)","v":"1_Inflexible 45%"},4,"Educación superior y primera infancia (10%)","Apoyo para educación superior.",90,"EDUCACIÓN",4,"Apoyo a la educación superior.",6,"Número de estudiantes de programas de educación superior con apoyo de sostenimiento para la permanencia.","EDUCACIÓN SUPERIOR",null,null,null,15,15,15,15,615000000,634000000,654000000,675000000,2578000000,1,0,0,0,0,"Bajo","Bajo",0.29987204838897291,0,0,null,null,null,0,"2021_1",15,15,0,0,0,0,0,0,0,0,0,0,0,"",null,null,null,297315900,297315900,0,0,0,null,0,0,0,0,null,null,0,0,0,"",null,null,null,null,null,{"$f":"VLOOKUP(AG151,'Anexo ODS'!$G$3:$P$86,5,0)","v":1},{"$f":"VLOOKUP(AG151,'Anexo ODS'!$G$3:$P$86,6,0)","v":"Las Personas"},{"$f":"VLOOKUP(AG151,'Anexo ODS'!$G$3:$P$86,7,0)","v":4},{"$f":"VLOOKUP(AG151,'Anexo ODS'!$G$3:$P$86,8,0)","v":"Educación de calidad"},{"$f":"VLOOKUP(AG151,'Anexo ODS'!$G$3:$P$86,9,0)","v":"4.3"},{"$f":"VLOOKUP(AG151,'Anexo ODS'!$G$3:$P$86,10,0)","v":"De aquí a 2030, asegurar el acceso igualitario de todos los hombres y las mujeres a una formación técnica, profesional y superior de calidad, incluida la enseñanza universitaria."},null,null,null,null,null,null,null,null,60]
[151,3,"Santa Fe",1,"Hacer un nuevo contrato social con igualdad de oportunidades para la inclusión social, productiva y política",17,"Jóvenes con capacidades: Proyecto de vida para la ciudadanía, la innovación y el trabajo del siglo XXI",null,null,null,null,151,"Beneficiar 80 personas con apoyo para la educación superior.",2095,"Jóvenes con capacidades en Santa Fe","APOYO EDUCACIÓN SUPERIOR","Suma",null,"Beneficiar",80,"Personas","con apoyo a la educación superior","Beneficiar 80 personas con apoyo para la educación superior.",{"$f":"VLOOKUP(AG152,'Anexo PMR'!$B$4:$G$87,6,0)","v":"1_Inflexible 45%"},4,"Educación superior y primera infancia (10%)","Apoyo para educación superior.",90,"EDUCACIÓN",4,"Apoyo a la educación superior.",5,"Personas beneficiadas con  apoyo para la educación superior","EDUCACIÓN SUPERIOR",null,null,null,20,20,20,20,1436000000,1480000000,1527000000,1576000000,6019000000,1,0,0,0,0,"Bajo","Bajo",0.70012795161102714,0,0,null,null,null,0,"2021_1",20,20,0,0,0,0,0,0,0,0,0,0,0,"",null,null,null,1753684100,1753684100,0,0,0,null,0,0,0,0,null,null,0,0,0,"",null,null,null,null,null,{"$f":"VLOOKUP(AG152,'Anexo ODS'!$G$3:$P$86,5,0)","v":1},{"$f":"VLOOKUP(AG152,'Anexo ODS'!$G$3:$P$86,6,0)","v":"Las Personas"},{"$f":"VLOOKUP(AG152,'Anexo ODS'!$G$3:$P$86,7,0)","v":4},{"$f":"VLOOKUP(AG152,'Anexo ODS'!$G$3:$P$86,8,0)","v":"Educación de calidad"},{"$f":"VLOOKUP(AG152,'Anexo ODS'!$G$3:$P$86,9,0)","v":"4.3"},{"$f":"VLOOKUP(AG152,'Anexo ODS'!$G$3:$P$86,10,0)","v":"De aquí a 2030, asegurar el acceso igualitario de todos los hombres y las mujeres a una formación técnica, profesional y superior de calidad, incluida la enseñanza universitaria."},null,null,null,null,null,null,null,null,80]
[152,3,"Santa Fe",1,"Hacer un nuevo contrato social con igualdad de oportunidades para la inclusión social, productiva y política",19,"Vivienda y entornos dignos en el territorio urbano y rural",null,null,null,null,152,"Mejorar 130 viviendas de interés social rurales.",2112,"Vivienda y entornos dignos en el territorio urbano y rural en Santa Fe","MEJORAMIENTO DE VIVIENDA","Suma",null,"Mejorar",130,"Viviendas","de interés social rurales","Mejorar 130 viviendas de interés social rurales.",{"$f":"VLOOKUP(AG153,'Anexo PMR'!$B$4:$G$87,6,0)","v":"2_Presupuestos Participativos 50%"},9,"Ruralidad","Mejoramiento de vivienda rural.",96,"HÁBITAT",6,"Viviendas de interés social rural mejoradas.",9,"Viviendas de interés social rurales mejoradas ","VIVIENDA RURAL",null,null,null,43,29,29,29,512000000,528000000,544000000,562000000,2146000000,1,0,0,0,0,"Bajo","Bajo",1,0,0,null,null,null,0,"2021_1",43,43,0,0,0,0,0,0,0,0,0,0,0,"",null,null,null,500000000,500000000,0,0,0,null,0,0,0,0,null,null,0,0,0,"",null,null,null,null,null,{"$f":"VLOOKUP(AG153,'Anexo ODS'!$G$3:$P$86,5,0)","v":3},{"$f":"VLOOKUP(AG153,'Anexo ODS'!$G$3:$P$86,6,0)","v":"La Prosperidad"},{"$f":"VLOOKUP(AG153,'Anexo ODS'!$G$3:$P$86,7,0)","v":11},{"$f":"VLOOKUP(AG153,'Anexo ODS'!$G$3:$P$86,8,0)","v":"Ciudades y comunidades sostenibles"},{"$f":"VLOOKUP(AG153,'Anexo ODS'!$G$3:$P$86,9,0)","v":"11.1"},{"$f":"VLOOKUP(AG153,'Anexo ODS'!$G$3:$P$86,10,0)","v":"De aquí a 2030, asegurar el acceso de todas las personas a viviendas y servicios básicos adecuados, seguros y asequibles y mejorar los barrios marginales"},null,null,null,null,null,null,null,null,130]
[153,3,"Santa Fe",1,"Hacer un nuevo contrato social con igualdad de oportunidades para la inclusión social, productiva y política",20,"Bogotá, referente en cultura, deporte, recreación y actividad física, con parques para el desarrollo y la salud",null,null,null,null,153,"Capacitar 1.400 personas en los campos deportivos.",2100,"Santa Fe referente en cultura, deporte, recreación y actividad física con parques para el desarrollo y la salud","FORMACIÓN DEPORTIVA","Suma",null,"Capacitar",1400,"Personas","en los campos deportivos","Capacitar 1.400 personas en los campos deportivos.",{"$f":"VLOOKUP(AG154,'Anexo PMR'!$B$4:$G$87,6,0)","v":"2_Presupuestos Participativos 50%"},7,"Desarrollo social y cultural","Procesos de formación y dotación de insumos para los campos artísticos, interculturales, culturales, patrimoniales y deportivos.",93,"CULTURA, RECREACIÓN Y DEPORTE",7,"Eventos y actividades recreativas y deportivas.",11,"Personas capacitadas en los campos deportivos","FORMACIÓN DEPORTIVA",null,null,null,350,350,350,350,241000000,248000000,256000000,264000000,1009000000,1,0,0,0,0,"Bajo","Bajo",0.32727862471618552,0,0,null,null,null,0,"2021_1",350,350,0,0,0,0,0,0,0,0,0,0,0,"",null,null,null,241000000,241000000,0,0,0,null,0,0,0,0,null,null,0,0,0,"",null,null,null,null,null,{"$f":"VLOOKUP(AG154,'Anexo ODS'!$G$3:$P$86,5,0)","v":1},{"$f":"VLOOKUP(AG154,'Anexo ODS'!$G$3:$P$86,6,0)","v":"Las Personas"},{"$f":"VLOOKUP(AG154,'Anexo ODS'!$G$3:$P$86,7,0)","v":4},{"$f":"VLOOKUP(AG154,'Anexo ODS'!$G$3:$P$86,8,0)","v":"Educación de calidad"},{"$f":"VLOOKUP(AG154,'Anexo ODS'!$G$3:$P$86,9,0)","v":"4.7"},{"$f":"VLOOKUP(AG154,'Anexo ODS'!$G$3:$P$86,10,0)","v":"De aquí a 2030, asegurar que todos los alumnos adquieran los conocimientos teóricos y prácticos necesarios para promover el desarrollo sostenible, entre otras cosas mediante la educación para el desarrollo sostenible y los estilos de vida sostenibles, los derechos humanos, la igualdad de género, la promoción de una cultura de paz y no violencia, la ciudadanía mundial y la valoración de la diversidad cultural y la contribución de la cultura al desarrollo sostenible"},null,null,null,null,null,null,null,null,1400]
[154,3,"Santa Fe",1,"Hacer un nuevo contrato social con igualdad de oportunidades para la inclusión social, productiva y política",20,"Bogotá, referente en cultura, deporte, recreación y actividad física, con parques para el desarrollo y la salud",null,null,null,null,154,"Vincular 18.000 personas en actividades recreo-deportivas comunitarias.",2100,"Santa Fe referente en cultura, deporte, recreación y actividad física con parques para el desarrollo y la salud","EVENTOS","Suma",null,"Vincular",18000,"Personas","en actividades recreodeportivas comunitarias","Vincular 18.000 personas en actividades recreo-deportivas comunitarias.",{"$f":"VLOOKUP(AG155,'Anexo PMR'!$B$4:$G$87,6,0)","v":"2_Presupuestos Participativos 50%"},7,"Desarrollo social y cultural","Eventos recreo-deportivos.",93,"CULTURA, RECREACIÓN Y DEPORTE",7,"Eventos y actividades recreativas y deportivas.",10,"Personas vinculadas en actividades recreo-deportivas comunitarias","ACTIVIDAD DEPORTIVA",null,null,null,4500,4500,4500,4500,495000000,510000000,526000000,543000000,2074000000,1,0,0,0,0,"Bajo","Bajo",0.67272137528381448,0,0,null,null,null,0,"2021_1",4500,4500,0,0,0,0,0,0,0,0,0,0,0,"",null,null,null,480000000,480000000,0,0,0,null,0,0,0,0,null,null,0,0,0,"",null,null,null,null,null,{"$f":"VLOOKUP(AG155,'Anexo ODS'!$G$3:$P$86,5,0)","v":1},{"$f":"VLOOKUP(AG155,'Anexo ODS'!$G$3:$P$86,6,0)","v":"Las Personas"},{"$f":"VLOOKUP(AG155,'Anexo ODS'!$G$3:$P$86,7,0)","v":3},{"$f":"VLOOKUP(AG155,'Anexo ODS'!$G$3:$P$86,8,0)","v":"Salud y Bienestar"},{"$f":"VLOOKUP(AG155,'Anexo ODS'!$G$3:$P$86,9,0)","v":"3.d"},{"$f":"VLOOKUP(AG155,'Anexo ODS'!$G$3:$P$86,10,0)","v":"Reforzar la capacidad de todos los países, en particular los países en desarrollo, en materia de alerta temprana,  reducción de riesgos y gestión de los riesgos para la salud nacional y mundial"},null,null,null,null,null,null,null,null,18000]
[155,3,"Santa Fe",1,"Hacer un nuevo contrato social con igualdad de oportunidades para la inclusión social, productiva y política",21,"Creación y vida cotidiana: Apropiación ciudadana del arte, la cultura y el patrimonio, para la democracia cultural",null,null,null,null,155,"Capacitar 1.400 personas en los campos artísticos, interculturales, culturales y/o patrimoniales.",2110,"Apropiación ciudadana del arte, la cultura y el patrimonio en Santa Fe","FORMACIÓN","Suma",null,"Capacitar",1400,"Personas","en los campos artísticos, interculturales, culturales y/o patrimoniales","Capacitar 1.400 personas en los campos artísticos, interculturales, culturales y/o patrimoniales.",{"$f":"VLOOKUP(AG156,'Anexo PMR'!$B$4:$G$87,6,0)","v":"2_Presupuestos Participativos 50%"},7,"Desarrollo social y cultural","Procesos de formación y dotación de insumos para los campos artísticos, interculturales, culturales, patrimoniales y deportivos.",93,"CULTURA, RECREACIÓN Y DEPORTE",10,"Formación artística y cultural.",15,"Personas capacitadas en los campos artísticos, interculturales, culturales y/o patrimoniales","FORMACIÓN CULTURAL",null,null,null,350,350,350,350,241000000,248000000,256000000,264000000,1009000000,1,0,0,0,0,"Bajo","Bajo",0.22132046501425751,0,0,null,null,null,0,"2021_1",350,350,0,0,0,0,0,0,0,0,0,0,0,"",null,null,null,241000000,241000000,0,0,0,null,0,0,0,0,null,null,0,0,0,"",null,null,null,null,null,{"$f":"VLOOKUP(AG156,'Anexo ODS'!$G$3:$P$86,5,0)","v":3},{"$f":"VLOOKUP(AG156,'Anexo ODS'!$G$3:$P$86,6,0)","v":"La Prosperidad"},{"$f":"VLOOKUP(AG156,'Anexo ODS'!$G$3:$P$86,7,0)","v":11},{"$f":"VLOOKUP(AG156,'Anexo ODS'!$G$3:$P$86,8,0)","v":"Ciudades y comunidades sostenibles"},{"$f":"VLOOKUP(AG156,'Anexo ODS'!$G$3:$P$86,9,0)","v":"11.4"},{"$f":"VLOOKUP(AG156,'Anexo ODS'!$G$3:$P$86,10,0)","v":"Redoblar los esfuerzos para proteger y salvaguardar el patrimonio cultural y natural del mundo"},null,null,null,null,null,null,null,null,1400]
[156,3,"Santa Fe",1,"Hacer un nuevo contrato social con igualdad de oportunidades para la inclusión social, productiva y política",21,"Creación y vida cotidiana: Apropiación ciudadana del arte, la cultura y el patrimonio, para la democracia cultural",null,null,null,null,156,"Intervenir 8 sedes culturales con dotación y/o adecuación.",2110,"Apropiación ciudadana del arte, la cultura y el patrimonio en Santa Fe","FORTALECIMIENTO INFRAESTRUCTURA","Suma",null,"Intervenir",8,"Sedes","cultural con dotación y/o adecuación","Intervenir 8 sedes culturales con dotación y/o adecuación.",{"$f":"VLOOKUP(AG157,'Anexo PMR'!$B$4:$G$87,6,0)","v":"2_Presupuestos Participativos 50%"},6,"Infraestructura","Dotación e infraestructura cultural.",93,"CULTURA, RECREACIÓN Y DEPORTE",11,"Infraestructura y dotación a centros artísticos y culturales.",16,"Sedes dotadas/Sedes adecuadas","SEDES CULTURALES",null,null,null,2,2,2,2,357000000,368000000,379000000,391000000,1495000000,1,0,0,0,0,"Bajo","Bajo",0.32792279008554509,0,0,null,null,null,0,"2021_1",2,2,0,0,0,0,0,0,0,0,0,0,0,"",null,null,null,350000000,350000000,0,0,0,null,0,0,0,0,null,null,0,0,0,"",null,null,null,null,null,{"$f":"VLOOKUP(AG157,'Anexo ODS'!$G$3:$P$86,5,0)","v":3},{"$f":"VLOOKUP(AG157,'Anexo ODS'!$G$3:$P$86,6,0)","v":"La Prosperidad"},{"$f":"VLOOKUP(AG157,'Anexo ODS'!$G$3:$P$86,7,0)","v":9},{"$f":"VLOOKUP(AG157,'Anexo ODS'!$G$3:$P$86,8,0)","v":"Industria, innovación e infraestructura"},{"$f":"VLOOKUP(AG157,'Anexo ODS'!$G$3:$P$86,9,0)","v":"9.1"},{"$f":"VLOOKUP(AG157,'Anexo ODS'!$G$3:$P$86,10,0)","v":"Desarrollar infraestructuras fiables, sostenibles, resilientes y de calidad, incluidas infraestructuras regionales y transfronterizas, para apoyar el desarrollo económico y el bienestar humano, haciendo especial hincapié en el acceso asequible y equitativo para todos"},null,null,null,null,null,null,null,null,8]
[157,3,"Santa Fe",1,"Hacer un nuevo contrato social con igualdad de oportunidades para la inclusión social, productiva y política",21,"Creación y vida cotidiana: Apropiación ciudadana del arte, la cultura y el patrimonio, para la democracia cultural",null,null,null,null,157,"Otorgar 60 estímulos de apoyo al sector artístico y cultural.",2110,"Apropiación ciudadana del arte, la cultura y el patrimonio en Santa Fe","ESTÍMULOS","Suma",null,"Otorgar",60,"Estímulos","de apoyo al sector artístico y cultural","Otorgar 60 estímulos de apoyo al sector artístico y cultural.",{"$f":"VLOOKUP(AG158,'Anexo PMR'!$B$4:$G$87,6,0)","v":"2_Presupuestos Participativos 50%"},7,"Desarrollo social y cultural","Iniciativas de interés cultural, artístico, patrimonial y recreo deportivas.",93,"CULTURA, RECREACIÓN Y DEPORTE",9,"Servicio de apoyo financiero para el desarrollo de prácticas artísticas y culturales en el Distrito de Bogotá.",14,"Estímulos otorgados de apoyo al sector artístico y cultural ","ESTIMULOS CULTURALES",null,null,null,15,15,15,15,212000000,219000000,226000000,233000000,890000000,1,0,0,0,0,"Bajo","Bajo",0.1952182496161439,0,0,null,null,null,0,"2021_1",15,15,0,0,0,0,0,0,0,0,0,0,0,"",null,null,null,200000000,200000000,0,0,0,null,0,0,0,0,null,null,0,0,0,"",null,null,null,null,null,{"$f":"VLOOKUP(AG158,'Anexo ODS'!$G$3:$P$86,5,0)","v":3},{"$f":"VLOOKUP(AG158,'Anexo ODS'!$G$3:$P$86,6,0)","v":"La Prosperidad"},{"$f":"VLOOKUP(AG158,'Anexo ODS'!$G$3:$P$86,7,0)","v":11},{"$f":"VLOOKUP(AG158,'Anexo ODS'!$G$3:$P$86,8,0)","v":"Ciudades y comunidades sostenibles"},{"$f":"VLOOKUP(AG158,'Anexo ODS'!$G$3:$P$86,9,0)","v":"11.4"},{"$f":"VLOOKUP(AG158,'Anexo ODS'!$G$3:$P$86,10,0)","v":"Redoblar los esfuerzos para proteger y salvaguardar el patrimonio cultural y natural del mundo"},null,null,null,null,null,null,null,null,60]
[158,3,"Santa Fe",1,"Hacer un nuevo contrato social con igualdad de oportunidades para la inclusión social, productiva y política",21,"Creación y vida cotidiana: Apropiación ciudadana del arte, la cultura y el patrimonio, para la democracia cultural",null,null,null,null,158,"Realizar 24 eventos de promoción de actividades culturales.",2110,"Apropiación ciudadana del arte, la cultura y el patrimonio en Santa Fe","EVENTOS","Suma",null,"Realizar",24,"Eventos","de promoción de actividades culturales","Realizar 24 eventos de promoción de actividades culturales.",{"$f":"VLOOKUP(AG159,'Anexo PMR'!$B$4:$G$87,6,0)","v":"2_Presupuestos Participativos 50%"},7,"Desarrollo social y cultural","Circulación y apropiación de prácticas artísticas, interculturales, culturales y patrimoniales.",93,"CULTURA, RECREACIÓN Y DEPORTE",8,"Espacios artísticos y culturales.",13,"Eventos de promoción de actividades culturales realizadas","ACTIVIDAD CULTURAL",null,null,null,6,6,6,6,278000000,286000000,296000000,305000000,1165000000,1,0,0,0,0,"Bajo","Bajo",0.25553849528405354,0,0,null,null,null,0,"2021_1",6,6,0,0,0,0,0,0,0,0,0,0,0,"",null,null,null,283000000,283000000,0,0,0,null,0,0,0,0,null,null,0,0,0,"",null,null,null,null,null,{"$f":"VLOOKUP(AG159,'Anexo ODS'!$G$3:$P$86,5,0)","v":3},{"$f":"VLOOKUP(AG159,'Anexo ODS'!$G$3:$P$86,6,0)","v":"La Prosperidad"},{"$f":"VLOOKUP(AG159,'Anexo ODS'!$G$3:$P$86,7,0)","v":11},{"$f":"VLOOKUP(AG159,'Anexo ODS'!$G$3:$P$86,8,0)","v":"Ciudades y comunidades sostenibles"},{"$f":"VLOOKUP(AG159,'Anexo ODS'!$G$3:$P$86,9,0)","v":"11.4"},{"$f":"VLOOKUP(AG159,'Anexo ODS'!$G$3:$P$86,10,0)","v":"Redoblar los esfuerzos para proteger y salvaguardar el patrimonio cultural y natural del mundo"},null,null,null,null,null,null,null,null,24]
[159,3,"Santa Fe",1,"Hacer un nuevo contrato social con igualdad de oportunidades para la inclusión social, productiva y política",23,"Bogotá rural",null,null,null,null,159,"Apoyar 60 predios rurales con asistencia técnica agropecuaria y/o ambiental.",2108,"Santa Fe rural","ASESORÍA Y ASISTENCIA TÉCNICA ","Suma",null,"Apoyar",60,"Predios","rurales con asistencia técnica agropecuaria y/o ambiental","Apoyar 60 predios rurales con asistencia técnica agropecuaria y/o ambiental.",{"$f":"VLOOKUP(AG160,'Anexo PMR'!$B$4:$G$87,6,0)","v":"2_Presupuestos Participativos 50%"},9,"Ruralidad","Asistencia técnica agropecuaria y ambiental y productividad rural.","94-89","AMBIENTE / DESARROLLO ECONÓMICO",12,"Servicios de asistencia técnica agropecuaria y/o ambiental.",17,"Número de Predios rurales con asistencia técnica agropecuaria y/o ambiental","ASISTENCIA TÉCNICA Y COMERCIALIZACIÓN RURAL",null,null,null,10,16,17,17,251000000,259000000,267000000,276000000,1053000000,1,0,0,0,0,"Bajo","Bajo",0.5,0,0,null,null,null,0,"2021_1",10,10,0,0,0,0,0,0,0,0,0,0,0,"",null,null,null,172000000,172000000,0,0,0,null,0,0,0,0,null,null,0,0,0,"",null,null,null,null,null,{"$f":"VLOOKUP(AG160,'Anexo ODS'!$G$3:$P$86,5,0)","v":4},{"$f":"VLOOKUP(AG160,'Anexo ODS'!$G$3:$P$86,6,0)","v":"El Planeta"},{"$f":"VLOOKUP(AG160,'Anexo ODS'!$G$3:$P$86,7,0)","v":15},{"$f":"VLOOKUP(AG160,'Anexo ODS'!$G$3:$P$86,8,0)","v":"Vida de ecosistemas terrestres"},{"$f":"VLOOKUP(AG160,'Anexo ODS'!$G$3:$P$86,9,0)","v":"15.9"},{"$f":"VLOOKUP(AG160,'Anexo ODS'!$G$3:$P$86,10,0)","v":"De aquí a 2020, integrar los valores de los ecosistemas y la biodiversidad en la planificación, los procesos de desarrollo, las estrategias de reducción de la pobreza y la contabilidad nacionales y locales"},null,null,null,null,null,null,null,null,60]
[160,3,"Santa Fe",1,"Hacer un nuevo contrato social con igualdad de oportunidades para la inclusión social, productiva y política",23,"Bogotá rural",null,null,null,null,160,"Vincular 60 hogares y/o unidades productivas a procesos productivos y de comercialización en el sector rural.",2108,"Santa Fe rural","EMPRENDIMIENTO RURAL","Suma",null,"Vincular",60,"Hogares","y/o unidades productivas a procesos productivos y de comercialización en el sector rural.","Vincular 60 hogares y/o unidades productivas a procesos productivos y de comercialización en el sector rural.",{"$f":"VLOOKUP(AG161,'Anexo PMR'!$B$4:$G$87,6,0)","v":"2_Presupuestos Participativos 50%"},9,"Ruralidad","Asistencia técnica agropecuaria y ambiental y productividad rural.","94-89","AMBIENTE / DESARROLLO ECONÓMICO",12,"Servicios de asistencia técnica agropecuaria y/o ambiental.",18,"Número  de hogares y/o unidades productivas vinculadas a procesos productivos y de comercialización en el sector rural","ASISTENCIA TÉCNICA RURAL",null,null,null,10,16,17,17,251000000,259000000,267000000,276000000,1053000000,1,0,0,0,0,"Bajo","Bajo",0.5,0,0,null,null,null,0,"2021_1",10,10,0,0,0,0,0,0,0,0,0,0,0,"",null,null,null,172000000,172000000,0,0,0,null,0,0,0,0,null,null,0,0,0,"",null,null,null,null,null,{"$f":"VLOOKUP(AG161,'Anexo ODS'!$G$3:$P$86,5,0)","v":1},{"$f":"VLOOKUP(AG161,'Anexo ODS'!$G$3:$P$86,6,0)","v":"Las Personas"},{"$f":"VLOOKUP(AG161,'Anexo ODS'!$G$3:$P$86,7,0)","v":2},{"$f":"VLOOKUP(AG161,'Anexo ODS'!$G$3:$P$86,8,0)","v":"Hambre Cero"},{"$f":"VLOOKUP(AG161,'Anexo ODS'!$G$3:$P$86,9,0)","v":"2.3"},{"$f":"VLOOKUP(AG161,'Anexo ODS'!$G$3:$P$86,10,0)","v":"De aquí a 2030, duplicar la productividad agrícola y los ingresos de los productores de alimentos en pequeña escala, en particular las mujeres, los pueblos indígenas, los agricultores familiares, los ganaderos y los pescadores, entre otras cosas mediante"},null,null,null,null,null,null,null,null,60]
[161,3,"Santa Fe",1,"Hacer un nuevo contrato social con igualdad de oportunidades para la inclusión social, productiva y política",24,"Bogotá región emprendedora e innovadora",null,null,null,null,161,"Financiar 64 proyectos del sector cultural y creativo.",2123,"Santa Fe región emprendedora e innovadora","FORTALECIMIENTO INDUSTRIA CULTURAL","Suma",null,"Financiar",64,"Proyectos","del sector cultural y creativo","Financiar 64 proyectos del sector cultural y creativo.",{"$f":"VLOOKUP(AG162,'Anexo PMR'!$B$4:$G$87,6,0)","v":"2_Presupuestos Participativos 50%"},7,"Desarrollo social y cultural","Apoyo y fortalecimiento a las industrias culturales y creativas en las localidades",93,"CULTURA, RECREACIÓN Y DEPORTE",9,"Servicio de apoyo financiero para el desarrollo de prácticas artísticas y culturales en el Distrito de Bogotá.",20,"Número de proyectos financiados y acompañados del sector cultural y creativo.","ACTIVIDAD CULTURAL",null,null,null,16,16,16,16,286000000,295000000,305000000,314000000,1200000000,1,0,0,0,0,"Bajo","Bajo",0.57831325301204817,0,0,null,null,null,0,"2021_1",16,16,0,0,0,0,0,0,0,0,0,0,0,"",null,null,null,280000000,280000000,0,0,0,null,0,0,0,0,null,null,0,0,0,"",null,null,null,null,null,{"$f":"VLOOKUP(AG162,'Anexo ODS'!$G$3:$P$86,5,0)","v":3},{"$f":"VLOOKUP(AG162,'Anexo ODS'!$G$3:$P$86,6,0)","v":"La Prosperidad"},{"$f":"VLOOKUP(AG162,'Anexo ODS'!$G$3:$P$86,7,0)","v":8},{"$f":"VLOOKUP(AG162,'Anexo ODS'!$G$3:$P$86,8,0)","v":"Trabajo decente y crecimiento económico"},{"$f":"VLOOKUP(AG162,'Anexo ODS'!$G$3:$P$86,9,0)","v":"8.3"},{"$f":"VLOOKUP(AG162,'Anexo ODS'!$G$3:$P$86,10,0)","v":"Promover políticas orientadas al desarrollo que apoyen las actividades productivas, la creación de puestos de trabajo decentes, el emprendimiento, la creatividad y la innovación, y fomentar la formalización y el crecimiento de las microempresas y las pequeñas y medianas empresas, incluso mediante el acceso a servicios financieros"},null,null,null,null,null,null,null,null,64]
[162,3,"Santa Fe",1,"Hacer un nuevo contrato social con igualdad de oportunidades para la inclusión social, productiva y política",24,"Bogotá región emprendedora e innovadora",null,null,null,null,162,"Implementar 5 acciones de fomento para la agricultura urbana.",2123,"Santa Fe región emprendedora e innovadora","AGRICULTURA URBANA","Suma",null,"Implementar",5,"Acciones","de fomento para la agricultura urbana","Implementar 5 acciones de fomento para la agricultura urbana.",{"$f":"VLOOKUP(AG163,'Anexo PMR'!$B$4:$G$87,6,0)","v":"2_Presupuestos Participativos 50%"},8,"Inversiones ambientales sostenibles","Agricultura urbana.",94,"AMBIENTE",13,"Servicios de asesoría, asistencia técnica integral y dotación de infraestructura productiva para la Agricultura urbana y periurbana.",19,"Número acciones de fomento para la agricultura urbana","AGRICULTURA URBANA",null,null,null,1,1,2,1,209000000,215000000,222000000,229000000,875000000,1,0,0,0,0,"Bajo","Bajo",0.42168674698795183,0,0,null,null,null,0,"2021_1",1,1,0,0,0,0,0,0,0,0,0,0,0,"",null,null,null,200000000,200000000,0,0,0,null,0,0,0,0,null,null,0,0,0,"",null,null,null,null,null,{"$f":"VLOOKUP(AG163,'Anexo ODS'!$G$3:$P$86,5,0)","v":4},{"$f":"VLOOKUP(AG163,'Anexo ODS'!$G$3:$P$86,6,0)","v":"El Planeta"},{"$f":"VLOOKUP(AG163,'Anexo ODS'!$G$3:$P$86,7,0)","v":12},{"$f":"VLOOKUP(AG163,'Anexo ODS'!$G$3:$P$86,8,0)","v":"Producción y consumo responsables"},{"$f":"VLOOKUP(AG163,'Anexo ODS'!$G$3:$P$86,9,0)","v":"12.2"},{"$f":"VLOOKUP(AG163,'Anexo ODS'!$G$3:$P$86,10,0)","v":"De aquí a 2030, lograr la gestión sostenible y el uso eficiente\nde los recursos naturales"},null,null,null,null,null,null,null,null,5]
[163,3,"Santa Fe",2,"Cambiar nuestros hábitos de vida para reverdecer a Bogotá y adaptarnos y mitigar el cambio climático.",27,"Cambio cultural para la gestión de la crisis climática",null,null,null,null,163,"Implementar 10 PROCEDAS",2122,"Cambio cultural en Santa Fe para la gestión de la crisis climática","EDUCACIÓN AMBIENTAL","Suma",null,"Implementar",10,"PROCEDAS",null,"Implementar 10 PROCEDAS",{"$f":"VLOOKUP(AG164,'Anexo PMR'!$B$4:$G$87,6,0)","v":"2_Presupuestos Participativos 50%"},8,"Inversiones ambientales sostenibles","Educación ambiental.",94,"AMBIENTE",17,"Calidad ambiental y preservación del patrimonio natural.",38,"Número de PROCEDAS implementados ","PROCEDAS",null,null,null,5,0,0,5,359000000,0,0,382000000,741000000,1,0,0,0,0,"Bajo","Bajo",0.5236749116607774,0,0,null,null,null,0,"2021_1",5,5,0,0,0,0,0,0,0,0,0,0,0,"",null,null,null,356000000,356000000,0,0,0,null,0,0,0,0,null,null,0,0,0,"",null,null,null,null,null,{"$f":"VLOOKUP(AG164,'Anexo ODS'!$G$3:$P$86,5,0)","v":4},{"$f":"VLOOKUP(AG164,'Anexo ODS'!$G$3:$P$86,6,0)","v":"El Planeta"},{"$f":"VLOOKUP(AG164,'Anexo ODS'!$G$3:$P$86,7,0)","v":13},{"$f":"VLOOKUP(AG164,'Anexo ODS'!$G$3:$P$86,8,0)","v":"Acción por el Clima"},{"$f":"VLOOKUP(AG164,'Anexo ODS'!$G$3:$P$86,9,0)","v":"13.3"},{"$f":"VLOOKUP(AG164,'Anexo ODS'!$G$3:$P$86,10,0)","v":"Mejorar la educación, la sensibilización y la capacidad humana e institucional respecto de la mitigación del cambio climático, la adaptación a él, la reducción de sus efectos y la alerta temprana"},null,null,null,null,null,null,null,null,10]
[164,3,"Santa Fe",2,"Cambiar nuestros hábitos de vida para reverdecer a Bogotá y adaptarnos y mitigar el cambio climático.",27,"Cambio cultural para la gestión de la crisis climática",null,null,null,null,164,"Intervenir 6.500 m2 de jardinería y coberturas verdes.",2122,"Cambio cultural en Santa Fe para la gestión de la crisis climática","JARDINERÍA","Suma",null,"Intervenir",6500,"Metros cuadrados","de jardinería y coberturas verdes","Intervenir 6.500 m2 de jardinería y coberturas verdes.",{"$f":"VLOOKUP(AG165,'Anexo PMR'!$B$4:$G$87,6,0)","v":"2_Presupuestos Participativos 50%"},8,"Inversiones ambientales sostenibles","Eco-urbanismo.",94,"AMBIENTE",17,"Calidad ambiental y preservación del patrimonio natural.",40,"m2 de jardinería y coberturas verdes","INTERVENCIONES VERDES",null,null,null,3250,0,0,3250,327000000,0,0,347000000,674000000,1,0,0,0,0,"Bajo","Bajo",{"$f":"AT165/SUMIF($F$133:$F$196,F165,$AT$133:$AT$196)","v":0.4763250883392226},0,0,null,null,null,0,"2021_1",3250,3250,0,0,0,0,0,0,0,0,0,0,0,"",null,null,null,166000000,166000000,0,0,0,null,0,0,0,0,null,null,0,0,0,"",null,null,null,null,null,{"$f":"VLOOKUP(AG165,'Anexo ODS'!$G$3:$P$86,5,0)","v":3},{"$f":"VLOOKUP(AG165,'Anexo ODS'!$G$3:$P$86,6,0)","v":"La Prosperidad"},{"$f":"VLOOKUP(AG165,'Anexo ODS'!$G$3:$P$86,7,0)","v":11},{"$f":"VLOOKUP(AG165,'Anexo ODS'!$G$3:$P$86,8,0)","v":"Ciudades y comunidades sostenibles"},{"$f":"VLOOKUP(AG165,'Anexo ODS'!$G$3:$P$86,9,0)","v":"11.3"},{"$f":"VLOOKUP(AG165,'Anexo ODS'!$G$3:$P$86,10,0)","v":"De aquí a 2030, aumentar la urbanización inclusiva y sostenible y la capacidad para la planificación y la gestión participativas, integradas y sostenibles de los asentamientos"},null,null,null,null,null,null,null,null,6500]
[165,3,"Santa Fe",2,"Cambiar nuestros hábitos de vida para reverdecer a Bogotá y adaptarnos y mitigar el cambio climático.",28,"Bogotá protectora de sus recursos naturales",null,null,null,null,165,"Intervenir 20 hectáreas con procesos de restauración, rehabilitación o recuperación ecológica.",2117,"Restauración ecologica en Santa Fe","RESTAURACIÓN ECOLÓGICA","Suma",null,"Intervenir",20,"Hectáreas","con procesos de restauración, rehabilitación o recuperación ecológica.","Intervenir 20 hectáreas con procesos de restauración, rehabilitación o recuperación ecológica.",{"$f":"VLOOKUP(AG166,'Anexo PMR'!$B$4:$G$87,6,0)","v":"2_Presupuestos Participativos 50%"},8,"Inversiones ambientales sostenibles","Restauración ecológica urbana y/o rural.",94,"AMBIENTE",17,"Calidad ambiental y preservación del patrimonio natural.",41,"Hectáreas en restauración, rehabilitación o recuperación ecológica y mantenimiento ","INTERVENCIONES VERDES",null,null,null,0,10,10,0,0,248000000,264000000,0,512000000,1,0,0,0,0,"Bajo","Bajo",1,0,0,null,null,null,0,"2021_1",0,0,0,0,0,0,0,0,0,0,0,0,0,"",null,null,null,0,0,0,0,0,null,0,0,0,0,null,null,0,0,0,"",null,null,null,null,null,{"$f":"VLOOKUP(AG166,'Anexo ODS'!$G$3:$P$86,5,0)","v":4},{"$f":"VLOOKUP(AG166,'Anexo ODS'!$G$3:$P$86,6,0)","v":"El Planeta"},{"$f":"VLOOKUP(AG166,'Anexo ODS'!$G$3:$P$86,7,0)","v":15},{"$f":"VLOOKUP(AG166,'Anexo ODS'!$G$3:$P$86,8,0)","v":"Vida de ecosistemas terrestres"},{"$f":"VLOOKUP(AG166,'Anexo ODS'!$G$3:$P$86,9,0)","v":"15.1"},{"$f":"VLOOKUP(AG166,'Anexo ODS'!$G$3:$P$86,10,0)","v":"De aquí a 2020, asegurar la conservación, el restablecimiento y el uso sostenible de los ecosistemas terrestres y los ecosistemas interiores de agua dulce y sus servicios, en particular los bosques, los humedales, las montañas y las zonas áridas, en consonancia con las obligaciones contraídas en virtud de acuerdos\ninternacionales"},null,null,null,null,null,null,null,null,20]
[166,3,"Santa Fe",2,"Cambiar nuestros hábitos de vida para reverdecer a Bogotá y adaptarnos y mitigar el cambio climático.",30,"Eficiencia en la atención de emergencias",null,null,null,null,166,"Desarrollar 1 intervenciones para la reducción del riesgo y adaptación al cambio climático.",2159,"Santa Fe eficiente en la atención de emergencias","REDUCCIÓN DEL RIESGO Y ADAPTACIÓN AL CAMBIO CLIMÁTICO","Suma",null,"Desarrollar",1,"Intervenciones","para la reducción del riesgo y adaptación al cambio climático","Desarrollar 1 intervenciones para la reducción del riesgo y adaptación al cambio climático.",{"$f":"VLOOKUP(AG167,'Anexo PMR'!$B$4:$G$87,6,0)","v":"2_Presupuestos Participativos 50%"},8,"Inversiones ambientales sostenibles","Mitigación del riesgo. ",94,"AMBIENTE",18,"Gestión para la prevención y mitigación del riesgo.",43,"Intervenciones para la reducción del riesgo y adaptación al cambio climático","REDUCCIÓN DEL RIESGO",null,null,null,0,0,1,0,0,0,323000000,0,323000000,1,0,0,0,0,"Bajo","Bajo",0.495398773006135,0,0,null,null,null,0,"2021_1",0,0,0,0,0,0,0,0,0,0,0,0,0,"",null,null,null,0,0,0,0,0,null,0,0,0,0,null,null,0,0,0,"",null,null,null,null,null,{"$f":"VLOOKUP(AG167,'Anexo ODS'!$G$3:$P$86,5,0)","v":4},{"$f":"VLOOKUP(AG167,'Anexo ODS'!$G$3:$P$86,6,0)","v":"El Planeta"},{"$f":"VLOOKUP(AG167,'Anexo ODS'!$G$3:$P$86,7,0)","v":13},{"$f":"VLOOKUP(AG167,'Anexo ODS'!$G$3:$P$86,8,0)","v":"Acción por el clima"},{"$f":"VLOOKUP(AG167,'Anexo ODS'!$G$3:$P$86,9,0)","v":"13.1"},{"$f":"VLOOKUP(AG167,'Anexo ODS'!$G$3:$P$86,10,0)","v":"Fortalecer la resiliencia y la capacidad de adaptación a los riesgos relacionados con el clima y los desastres naturales en todos los países"},null,null,null,null,null,null,null,null,1]
[167,3,"Santa Fe",2,"Cambiar nuestros hábitos de vida para reverdecer a Bogotá y adaptarnos y mitigar el cambio climático.",30,"Eficiencia en la atención de emergencias",null,null,null,null,167,"Realizar 4 acciones efectivas para el fortalecimiento de las capacidades locales para la respuesta a emergencias y desastres.",2159,"Santa Fe eficiente en la atención de emergencias","MANEJO DE EMERGENCIAS, CALAMIDADES Y DESASTRES","Suma",null,"Realizar",4,"Acciones"," efectivas para el fortalecimiento de las capacidades locales para la respuesta a emergencias y desastres.","Realizar 4 acciones efectivas para el fortalecimiento de las capacidades locales para la respuesta a emergencias y desastres.",{"$f":"VLOOKUP(AG168,'Anexo PMR'!$B$4:$G$87,6,0)","v":"2_Presupuestos Participativos 50%"},8,"Inversiones ambientales sostenibles","Manejo de emergencias y desastres.",94,"AMBIENTE",18,"Gestión para la prevención y mitigación del riesgo.",42,"Acciones efectivas para el fortalecimiento de las capacidades locales para la respuesta a emergencias y desastres","REDUCCIÓN DEL RIESGO",null,null,null,4,0,0,0,329000000,0,0,0,329000000,1,0,0,0,0,"Bajo","Bajo",0.504601226993865,0,0,null,null,null,0,"2021_1",4,4,0,0,0,0,0,0,0,0,0,0,0,"",null,null,null,330000000,330000000,0,0,0,null,0,0,0,0,null,null,0,0,0,"",null,null,null,null,null,{"$f":"VLOOKUP(AG168,'Anexo ODS'!$G$3:$P$86,5,0)","v":3},{"$f":"VLOOKUP(AG168,'Anexo ODS'!$G$3:$P$86,6,0)","v":"La Prosperidad"},{"$f":"VLOOKUP(AG168,'Anexo ODS'!$G$3:$P$86,7,0)","v":11},{"$f":"VLOOKUP(AG168,'Anexo ODS'!$G$3:$P$86,8,0)","v":"Ciudades y comunidades sostenibles"},{"$f":"VLOOKUP(AG168,'Anexo ODS'!$G$3:$P$86,9,0)","v":"11.5"},{"$f":"VLOOKUP(AG168,'Anexo ODS'!$G$3:$P$86,10,0)","v":"De aquí a 2030, reducir significativamente el número de muertes causadas por los desastres, incluidos los relacionados con el agua, y de personas afectadas por ellos, y reducir considerablemente las pérdidas económicas directas provocadas por los desastres en comparación con el producto interno bruto mundial, haciendo especial hincapié en la protección de los pobres y las personas en situaciones de vulnerabilidad"},null,null,null,null,null,null,null,null,4]
[168,3,"Santa Fe",2,"Cambiar nuestros hábitos de vida para reverdecer a Bogotá y adaptarnos y mitigar el cambio climático.",33,"Más árboles y más y mejor espacio público ",null,null,null,null,168,"Intervenir 12 Parques vecinales y/o de bolsillo con acciones de mejoramiento, mantenimiento y/o dotación.",2138,"Más árboles y más y mejor espacio público en Santa Fe","INTERVENCIÓN","Suma",null,"Intervenir",12,"Parques","vecinales y/o de bolsillo con acciones de mejoramiento, mantenimiento y/o dotación","Intervenir 12 Parques vecinales y/o de bolsillo con acciones de mejoramiento, mantenimiento y/o dotación.",{"$f":"VLOOKUP(AG169,'Anexo PMR'!$B$4:$G$87,6,0)","v":"2_Presupuestos Participativos 50%"},6,"Infraestructura","Construcción, mantenimiento y dotación de parques vecinales y/o de bolsillo.",93,"CULTURA, RECREACIÓN Y DEPORTE",20,"Parques y escenarios deportivos.",47,"Número de Parques vecinales y/o de bolsillo intervenidos en mejoramiento, mantenimiento y/o dotación","PARQUES",null,null,null,4,4,4,0,562000000,595000000,1197000000,0,2354000000,1,0,0,0,0,"Bajo","Bajo",0.81963788300835649,0,0,null,null,null,0,"2021_1",4,4,0,0,0,0,0,0,0,0,0,0,0,"",null,null,null,560000000,560000000,0,0,0,null,0,0,0,0,null,null,0,0,0,"",null,null,null,null,null,{"$f":"VLOOKUP(AG169,'Anexo ODS'!$G$3:$P$86,5,0)","v":3},{"$f":"VLOOKUP(AG169,'Anexo ODS'!$G$3:$P$86,6,0)","v":"La Prosperidad"},{"$f":"VLOOKUP(AG169,'Anexo ODS'!$G$3:$P$86,7,0)","v":11},{"$f":"VLOOKUP(AG169,'Anexo ODS'!$G$3:$P$86,8,0)","v":"Ciudades y comunidades sostenibles"},{"$f":"VLOOKUP(AG169,'Anexo ODS'!$G$3:$P$86,9,0)","v":"11.7"},{"$f":"VLOOKUP(AG169,'Anexo ODS'!$G$3:$P$86,10,0)","v":"De aquí a 2030, proporcionar acceso universal a zonas verdes y espacios públicos seguros, inclusivos y accesibles, en particular para las mujeres y los niños, las personas de edad y las personas con discapacidad"},null,null,null,null,null,null,null,null,12]
[169,3,"Santa Fe",2,"Cambiar nuestros hábitos de vida para reverdecer a Bogotá y adaptarnos y mitigar el cambio climático.",33,"Más árboles y más y mejor espacio público ",null,null,null,null,169,"Mantener 5.000 árboles urbanos y/o rurales.",2138,"Más árboles y más y mejor espacio público en Santa Fe","ARBORIZACIÓN","Suma",null,"Mantener",5000,"Árboles","urbanos y/o rurales","Mantener 5.000 árboles urbanos y/o rurales.",{"$f":"VLOOKUP(AG170,'Anexo PMR'!$B$4:$G$87,6,0)","v":"2_Presupuestos Participativos 50%"},8,"Inversiones ambientales sostenibles","Arbolado urbano y/o rural.",94,"AMBIENTE",19,"Plantación y mantenimiento de árboles, jardines y especies vegetales. ",44,"Número de árboles mantenidos","ARBOLADO",null,null,null,0,2500,0,2500,0,251000000,0,267000000,518000000,1,0,0,0,0,"Bajo","Bajo",0.18036211699164345,0,0,null,null,null,0,"2021_1",0,0,0,0,0,0,0,0,0,0,0,0,0,"",null,null,null,0,0,0,0,0,null,0,0,0,0,null,null,0,0,0,"",null,null,null,null,null,{"$f":"VLOOKUP(AG170,'Anexo ODS'!$G$3:$P$86,5,0)","v":4},{"$f":"VLOOKUP(AG170,'Anexo ODS'!$G$3:$P$86,6,0)","v":"El Planeta"},{"$f":"VLOOKUP(AG170,'Anexo ODS'!$G$3:$P$86,7,0)","v":15},{"$f":"VLOOKUP(AG170,'Anexo ODS'!$G$3:$P$86,8,0)","v":"Vida de ecosistemas terrestres"},{"$f":"VLOOKUP(AG170,'Anexo ODS'!$G$3:$P$86,9,0)","v":"15.1"},{"$f":"VLOOKUP(AG170,'Anexo ODS'!$G$3:$P$86,10,0)","v":"De aquí a 2020, asegurar la conservación, el restablecimiento y el uso sostenible de los ecosistemas terrestres y los ecosistemas interiores de agua dulce y sus servicios, en particular los bosques, los humedales, las montañas y las zonas áridas, en consonancia con las obligaciones contraídas en virtud de acuerdos internacionales"},null,null,null,null,null,null,null,null,5000]
[170,3,"Santa Fe",2,"Cambiar nuestros hábitos de vida para reverdecer a Bogotá y adaptarnos y mitigar el cambio climático.",34,"Bogotá protectora de los animales",null,null,null,null,170,"Atender 15.000 animales en urgencias, brigadas médico-veterinarias, acciones de esterilización, educación y adopción.",2074,"Santa Fe protectora de los animales","BIENESTAR ANIMAL","Suma",null,"Atender",15000,"Animales","en urgencias, brigadas médicoveterinarias, acciones de esterilización, educación y adopción.","Atender 15.000 animales en urgencias, brigadas médico-veterinarias, acciones de esterilización, educación y adopción.",{"$f":"VLOOKUP(AG171,'Anexo PMR'!$B$4:$G$87,6,0)","v":"2_Presupuestos Participativos 50%"},8,"Inversiones ambientales sostenibles","Acuerdos con las redes locales de proteccionistas de animales para urgencias, brigadas médico veterinarias, acciones de esterilización, educación y adopción  ",94,"AMBIENTE",21,"Servicios de protección y bienestar animal.",48,"Número de animales atendidos","PROTECCIÓN ANIMAL",null,null,null,3500,3500,4000,4000,350000000,361000000,372000000,384000000,1467000000,1,0,0,0,0,"Bajo","Bajo",1,0,0,null,null,null,0,"2021_1",3500,3500,0,0,0,0,0,0,0,0,0,0,0,"",null,null,null,336000000,336000000,0,0,0,null,0,0,0,0,null,null,0,0,0,"",null,null,null,null,null,{"$f":"VLOOKUP(AG171,'Anexo ODS'!$G$3:$P$86,5,0)","v":3},{"$f":"VLOOKUP(AG171,'Anexo ODS'!$G$3:$P$86,6,0)","v":"La Prosperidad"},{"$f":"VLOOKUP(AG171,'Anexo ODS'!$G$3:$P$86,7,0)","v":11},{"$f":"VLOOKUP(AG171,'Anexo ODS'!$G$3:$P$86,8,0)","v":"Ciudades y comunidades sostenibles"},{"$f":"VLOOKUP(AG171,'Anexo ODS'!$G$3:$P$86,9,0)","v":"11.3"},{"$f":"VLOOKUP(AG171,'Anexo ODS'!$G$3:$P$86,10,0)","v":"De aquí a 2030, aumentar la urbanización inclusiva y sostenible y la capacidad para la planificación y la gestión participativas, integradas y sostenibles de los asentamientos\nhumanos en todos los países"},null,null,null,null,null,null,null,null,15000]
[171,3,"Santa Fe",2,"Cambiar nuestros hábitos de vida para reverdecer a Bogotá y adaptarnos y mitigar el cambio climático.",37,"Provisión y mejoramiento de servicios públicos",null,null,null,null,171,"Fortalecer 4 acueductos veredales con asistencia, intervenir técnica u organizativa.",2129,"Provición y mejoramiento de servicios públicos en Santa Fe","ACUEDUCTOS VEREDALES","Suma",null,"Fortalecer",4,"Acueductos","veredales con asistencia, intervenir técnica u organizativa.","Fortalecer 4 acueductos veredales con asistencia, intervenir técnica u organizativa.",{"$f":"VLOOKUP(AG172,'Anexo PMR'!$B$4:$G$87,6,0)","v":"2_Presupuestos Participativos 50%"},9,"Ruralidad","Acueductos veredales y saneamiento básico.",96,"HÁBITAT",22,"Acueductos y alcantarillados.",49,"Número de acueductos verdales asistidos o intervenidos técnica u organizacionalmente.","ACUEDUCTOS VEREDALES",null,null,null,1,1,1,1,203000000,209000000,216000000,223000000,851000000,1,0,0,0,0,"Bajo","Bajo",1,0,0,null,null,null,0,"2021_1",1,1,0,0,0,0,0,0,0,0,0,0,0,"",null,null,null,206000000,206000000,0,0,0,null,0,0,0,0,null,null,0,0,0,"",null,null,null,null,null,{"$f":"VLOOKUP(AG172,'Anexo ODS'!$G$3:$P$86,5,0)","v":4},{"$f":"VLOOKUP(AG172,'Anexo ODS'!$G$3:$P$86,6,0)","v":"El Planeta"},{"$f":"VLOOKUP(AG172,'Anexo ODS'!$G$3:$P$86,7,0)","v":6},{"$f":"VLOOKUP(AG172,'Anexo ODS'!$G$3:$P$86,8,0)","v":"Agua y saneamiento"},{"$f":"VLOOKUP(AG172,'Anexo ODS'!$G$3:$P$86,9,0)","v":"6.b"},{"$f":"VLOOKUP(AG172,'Anexo ODS'!$G$3:$P$86,10,0)","v":"Apoyar y fortalecer la participación de las comunidades locales en la mejora de la gestión del agua y el saneamiento"},null,null,null,null,null,null,null,null,4]
[172,3,"Santa Fe",2,"Cambiar nuestros hábitos de vida para reverdecer a Bogotá y adaptarnos y mitigar el cambio climático.",38,"Ecoeficiencia, reciclaje, manejo de residuos e inclusión de la población recicladora",null,null,null,null,172,"Capacitar 1.200 personas en separación en la fuente y reciclaje.",2131,"Ecoeficiencia y manejo de residuos en Santa Fe","HÁBITOS DE CONSUMO","Suma",null,"Capacitar",1200,"Personas","en separación en la fuente y reciclaje.","Capacitar 1.200 personas en separación en la fuente y reciclaje.",{"$f":"VLOOKUP(AG173,'Anexo PMR'!$B$4:$G$87,6,0)","v":"2_Presupuestos Participativos 50%"},8,"Inversiones ambientales sostenibles","Cambios de hábitos de consumo, separación en la fuente y reciclaje.",96,"HÁBITAT",23,"Manejo integral de residuos sólidos. ",50,"Personas capacitadas en separación en la fuente y reciclaje","RECICLAJE",null,null,null,300,300,300,300,271000000,279000000,288000000,297000000,1135000000,1,0,0,0,0,"Bajo","Bajo",0.59268929503916445,0,0,null,null,null,0,"2021_1",300,300,0,0,0,0,0,0,0,0,0,0,0,"",null,null,null,260000000,260000000,0,0,0,null,0,0,0,0,null,null,0,0,0,"",null,null,null,null,null,{"$f":"VLOOKUP(AG173,'Anexo ODS'!$G$3:$P$86,5,0)","v":4},{"$f":"VLOOKUP(AG173,'Anexo ODS'!$G$3:$P$86,6,0)","v":"El Planeta"},{"$f":"VLOOKUP(AG173,'Anexo ODS'!$G$3:$P$86,7,0)","v":12},{"$f":"VLOOKUP(AG173,'Anexo ODS'!$G$3:$P$86,8,0)","v":"Producción y consumo responsables"},{"$f":"VLOOKUP(AG173,'Anexo ODS'!$G$3:$P$86,9,0)","v":"12.5"},{"$f":"VLOOKUP(AG173,'Anexo ODS'!$G$3:$P$86,10,0)","v":"De aquí a 2030, reducir considerablemente la generación de desechos mediante actividades de prevención, reducción, reciclado y reutilización"},null,null,null,null,null,null,null,null,1200]
[173,3,"Santa Fe",2,"Cambiar nuestros hábitos de vida para reverdecer a Bogotá y adaptarnos y mitigar el cambio climático.",38,"Ecoeficiencia, reciclaje, manejo de residuos e inclusión de la población recicladora",null,null,null,null,173,"Realizar 3 acciones con energías alternativas para el área rural.",2131,"Ecoeficiencia y manejo de residuos en Santa Fe","ENERGÍAS ALTERNATIVAS","Suma",null,"Realizar",3,"Acciones","con energías alternativas para el área rural","Realizar 3 acciones con energías alternativas para el área rural.",{"$f":"VLOOKUP(AG174,'Anexo PMR'!$B$4:$G$87,6,0)","v":"2_Presupuestos Participativos 50%"},9,"Ruralidad","Energías alternativas para el área rural.",96,"HÁBITAT",24,"Fuentes de energías alternativas para el área rural.",51,"Acciones con energías alternativas para el área rural realizadas.","ENERGÍAS ALTERNATIVAS",null,null,null,1,0,2,0,378000000,0,402000000,0,780000000,1,0,0,0,0,"Bajo","Bajo",0.40731070496083549,0,0,null,null,null,0,"2021_1",1,1,0,0,0,0,0,0,0,0,0,0,0,"",null,null,null,360000000,360000000,0,0,0,null,0,0,0,0,null,null,0,0,0,"",null,null,null,null,null,{"$f":"VLOOKUP(AG174,'Anexo ODS'!$G$3:$P$86,5,0)","v":4},{"$f":"VLOOKUP(AG174,'Anexo ODS'!$G$3:$P$86,6,0)","v":"El Planeta"},{"$f":"VLOOKUP(AG174,'Anexo ODS'!$G$3:$P$86,7,0)","v":12},{"$f":"VLOOKUP(AG174,'Anexo ODS'!$G$3:$P$86,8,0)","v":"Producción y consumo responsables"},{"$f":"VLOOKUP(AG174,'Anexo ODS'!$G$3:$P$86,9,0)","v":"12.5"},{"$f":"VLOOKUP(AG174,'Anexo ODS'!$G$3:$P$86,10,0)","v":"De aquí a 2030, reducir considerablemente la generación de desechos mediante actividades de prevención, reducción, reciclado y reutilización"},null,null,null,null,null,null,null,null,3]
[174,3,"Santa Fe",3,"Inspirar confianza y legitimidad para vivir sin miedo y ser epicentro de cultura ciudadana, paz y reconciliación.",39,"Bogotá territorio de paz y atención integral a las víctimas del conflicto armado",null,null,null,null,174,"Vincular 500 personas a procesos de construcción de memoria, verdad, reparación integral a víctimas, paz y reconciliación.",2187,"Santa Fe territorio de paz y atención integral a las víctimas del conflcito armado","ENERGÍAS ALTERNATIVAS","Suma",null,"Vincular",500,"Personas","a procesos de construcción de memoria, verdad, reparación integral a víctimas, paz y reconciliación.","Vincular 500 personas a procesos de construcción de memoria, verdad, reparación integral a víctimas, paz y reconciliación.",{"$f":"VLOOKUP(AG175,'Anexo PMR'!$B$4:$G$87,6,0)","v":"2_Presupuestos Participativos 50%"},7,"Desarrollo social y cultural","Construcción de memoria, verdad, reparación, víctimas, paz y reconciliación.",85,"GESTIÓN PÚBLICA",25,"Servicio de apoyo y fortalecimiento a los procesos de construcción de memoria, verdad, reparación integral a víctimas, paz y reconciliación.",52,"Personas vinculadas a procesos de construcción de memoria, verdad, reparación integral a víctimas, paz y reconciliación","PAZ, MEMORIA Y RECONCILIACIÓN",null,null,null,0,250,0,250,0,212000000,0,225000000,437000000,1,0,0,0,0,"Bajo","Bajo",1,0,0,null,null,null,0,"2021_1",0,0,0,0,0,0,0,0,0,0,0,0,0,"",null,null,null,0,0,0,0,0,null,0,0,0,0,null,null,0,0,0,"",null,null,null,null,null,{"$f":"VLOOKUP(AG175,'Anexo ODS'!$G$3:$P$86,5,0)","v":2},{"$f":"VLOOKUP(AG175,'Anexo ODS'!$G$3:$P$86,6,0)","v":"La Paz"},{"$f":"VLOOKUP(AG175,'Anexo ODS'!$G$3:$P$86,7,0)","v":16},{"$f":"VLOOKUP(AG175,'Anexo ODS'!$G$3:$P$86,8,0)","v":"Paz, justicia e instituciones sólidas"},{"$f":"VLOOKUP(AG175,'Anexo ODS'!$G$3:$P$86,9,0)","v":"16.3"},{"$f":"VLOOKUP(AG175,'Anexo ODS'!$G$3:$P$86,10,0)","v":"Promover el estado de derecho en los planos nacional e internacional y garantizar la igualdad en el acceso a la justicia para todos"},null,null,null,null,null,null,null,null,500]
[175,3,"Santa Fe",3,"Inspirar confianza y legitimidad para vivir sin miedo y ser epicentro de cultura ciudadana, paz y reconciliación.",40,"Más mujeres viven una vida libre de violencias, se sienten seguras y acceden con confianza al sistema de justicia",null,null,null,null,175,"Capacitar 1020 personas para la construcción de ciudadanía y desarrollo de capacidades para el ejercicio de derechos de las mujeres.",2161,"Santa Fe con más mujeres seguras y defensoras de sus derechos","DESARROLLO DE CAPACIDADES","Suma",null,"Capacitar",1020,"Personas","para la construcción de ciudadanía y desarrollo de capacidades para el ejercicio de derechos de las mujeres","Capacitar 1020 personas para la construcción de ciudadanía y desarrollo de capacidades para el ejercicio de derechos de las mujeres.",{"$f":"VLOOKUP(AG176,'Anexo PMR'!$B$4:$G$87,6,0)","v":"2_Presupuestos Participativos 50%"},7,"Desarrollo social y cultural","Construcción de ciudadanía y desarrollo de capacidades para el ejercicio de derechos de las mujeres.",100,"MUJERES",26,"Servicios de promoción y capacitación para la construcción de ciudadanía y desarrollo de capacidades para el ejercicio de derechos de las mujeres.",53,"Personas capacitadas para la construcción de ciudadanía y desarrollo de capacidades para el ejercicio de derechos de las mujeres.","DERECHOS DE LA MUJER",null,null,null,510,0,0,510,366000000,0,0,389000000,755000000,1,0,0,0,0,"Bajo","Bajo",0.36298076923076922,0,0,null,null,null,0,"2021_1",510,510,0,0,0,0,0,0,0,0,0,0,0,"",null,null,null,350000000,350000000,0,0,0,null,0,0,0,0,null,null,0,0,0,"",null,null,null,null,null,{"$f":"VLOOKUP(AG176,'Anexo ODS'!$G$3:$P$86,5,0)","v":1},{"$f":"VLOOKUP(AG176,'Anexo ODS'!$G$3:$P$86,6,0)","v":"Las Personas"},{"$f":"VLOOKUP(AG176,'Anexo ODS'!$G$3:$P$86,7,0)","v":5},{"$f":"VLOOKUP(AG176,'Anexo ODS'!$G$3:$P$86,8,0)","v":"Igualdad de género"},{"$f":"VLOOKUP(AG176,'Anexo ODS'!$G$3:$P$86,9,0)","v":"5.c"},{"$f":"VLOOKUP(AG176,'Anexo ODS'!$G$3:$P$86,10,0)","v":"Aprobar y fortalecer políticas acertadas y leyes aplicables para promover la igualdad de género y el empoderamiento de todas las mujeres y las niñas a todos los niveles"},null,null,null,null,null,null,null,null,1020]
[176,3,"Santa Fe",3,"Inspirar confianza y legitimidad para vivir sin miedo y ser epicentro de cultura ciudadana, paz y reconciliación.",40,"Más mujeres viven una vida libre de violencias, se sienten seguras y acceden con confianza al sistema de justicia",null,null,null,null,176,"Vincular 1.800 personas en acciones para la prevención del feminicidio y la violencia contra la mujer.",2161,"Santa Fe con más mujeres seguras y defensoras de sus derechos","PREVENCIÓN","Suma",null,"Vincular",1800,"Personas","en acciones para la prevención del feminicidio y la violencia contra la  mujer.","Vincular 1.800 personas en acciones para la prevención del feminicidio y la violencia contra la mujer.",{"$f":"VLOOKUP(AG177,'Anexo PMR'!$B$4:$G$87,6,0)","v":"2_Presupuestos Participativos 50%"},7,"Desarrollo social y cultural","Prevención del feminicidio y la violencia contra la mujer.",100,"MUJERES",27,"Prevención, atención y gestión del conflicto en la localidad.",54,"Número de Personas vinculadas en acciones para la prevención del feminicidio y la violencia contra la mujer","PREVENCIÓN DE LA VIOLENCIA",null,null,null,450,450,450,450,316000000,326000000,336000000,347000000,1325000000,1,0,0,0,0,"Bajo","Bajo",0.63701923076923073,0,0,null,null,null,0,"2021_1",450,450,0,0,0,0,0,0,0,0,0,0,0,"",null,null,null,310000000,310000000,0,0,0,null,0,0,0,0,null,null,0,0,0,"",null,null,null,null,null,{"$f":"VLOOKUP(AG177,'Anexo ODS'!$G$3:$P$86,5,0)","v":1},{"$f":"VLOOKUP(AG177,'Anexo ODS'!$G$3:$P$86,6,0)","v":"Las Personas"},{"$f":"VLOOKUP(AG177,'Anexo ODS'!$G$3:$P$86,7,0)","v":5},{"$f":"VLOOKUP(AG177,'Anexo ODS'!$G$3:$P$86,8,0)","v":"Igualdad de género"},{"$f":"VLOOKUP(AG177,'Anexo ODS'!$G$3:$P$86,9,0)","v":"5.2"},{"$f":"VLOOKUP(AG177,'Anexo ODS'!$G$3:$P$86,10,0)","v":"Eliminar todas las formas de violencia contra todas las mujeres y las niñas en los ámbitos público y privado, incluidas la trata y la explotación sexual y otros tipos de explotación"},null,null,null,null,null,null,null,null,1800]
[177,3,"Santa Fe",3,"Inspirar confianza y legitimidad para vivir sin miedo y ser epicentro de cultura ciudadana, paz y reconciliación.",43,"Cultura ciudadana para la confianza, la convivencia y la participación desde la vida cotidiana",null,null,null,null,177,"Implementar 2 estrategias de atención de movilizaciones y aglomeraciones en el territorio a través de equipos de gestores de convivencia bajo el direccionamiento estratégico de la Secretaria de Seguridad, Convivencia y Justicia.",2128,"Santa Fe con convivencia, justicia y seguridad","GESTORES DE CONVIVENCIA","Suma",null,"Implementar",2,"Estrategias","de atención de movilizaciones y aglomeraciones en el territorio a través de equipos de gestores de convivencia bajo el direccionamiento estratégico de la Secretaria de Seguridad, Convivencia y Justicia.","Implementar 2 estrategias de atención de movilizaciones y aglomeraciones en el territorio a través de equipos de gestores de convivencia bajo el direccionamiento estratégico de la Secretaria de Seguridad, Convivencia y Justicia.",{"$f":"VLOOKUP(AG178,'Anexo PMR'!$B$4:$G$87,6,0)","v":"2_Presupuestos Participativos 50%"},7,"Desarrollo social y cultural","Promoción de la convivencia ciudadana.",102,"SEGURIDAD, CONVIVENCIA Y JUSTICIA",27,"Prevención, atención y gestión del conflicto en la localidad.",55,"Estrategia de atención de movilizaciones y aglomeraciones en el territorio implementada a traves de equipos de gestores de convivencia bajo el direccionamiento estrategico de la Secretaria de Seguridad, Convivencia y Justicia","ACCIONES DE CONVIVENCIA",null,null,null,1,1,0,0,0,311000000,0,331000000,642000000,1,1,0.5,1,0.5,"Medio","Medio",1,0.5,0.5,null,null,null,0,"2021_1",1,1,0,0,0,1,0,0,0,1,0,0,0,"Incompleto",null,null,null,247000000,247000000,0,0,0,108960000,0,0,0,108960000,529667,529667,0,0,0,"",null,null,null,null,null,{"$f":"VLOOKUP(AG178,'Anexo ODS'!$G$3:$P$86,5,0)","v":2},{"$f":"VLOOKUP(AG178,'Anexo ODS'!$G$3:$P$86,6,0)","v":"La Paz"},{"$f":"VLOOKUP(AG178,'Anexo ODS'!$G$3:$P$86,7,0)","v":16},{"$f":"VLOOKUP(AG178,'Anexo ODS'!$G$3:$P$86,8,0)","v":"Paz, justicia e instituciones sólidas"},{"$f":"VLOOKUP(AG178,'Anexo ODS'!$G$3:$P$86,9,0)","v":"16.1"},{"$f":"VLOOKUP(AG178,'Anexo ODS'!$G$3:$P$86,10,0)","v":"Reducir significativamente todas las formas de violencia y las correspondientes tasas de mortalidad en todo el mundo"},null,null,null,null,null,null,null,null,2]
[178,3,"Santa Fe",3,"Inspirar confianza y legitimidad para vivir sin miedo y ser epicentro de cultura ciudadana, paz y reconciliación.",45,"Espacio público más seguro y construido colectivamente",null,null,null,null,178,"Realizar 2 acuerdos para la vinculación de la ciudadanía en los programas adelantados por el IDRD y acuerdos con vendedores informales o estacionarios.",2130,"Espacio público mas seguro y construido colectivamente en Santa Fe","ACUERDOS CIUDADANOS","Suma",null,"Realizar",2,"Acuerdos","para la vinculación de la ciudadanía en los programas adelantados por el IDRD y acuerdos con vendedores informales o estacionarios","Realizar 2 acuerdos para la vinculación de la ciudadanía en los programas adelantados por el IDRD y acuerdos con vendedores informales o estacionarios.",{"$f":"VLOOKUP(AG179,'Anexo PMR'!$B$4:$G$87,6,0)","v":"2_Presupuestos Participativos 50%"},7,"Desarrollo social y cultural","Acuerdos para mejorar el uso de medios de transporte no motorizados.",98,"GOBIERNO",28,"Acuerdos ciudadanos suscritos.",60,"Acuerdos realizados para la vinculación de la ciudadanía en los programas adelantados por el IDRD y acuerdos con vendedores informales o estacionarios ","\nACUERDOS DE ESPACIO PÚBLICO",null,null,null,0,2,0,0,0,411000000,0,0,411000000,1,0,0,0,0,"Bajo","Bajo",0.17707884532529083,0,0,null,null,null,0,"2021_1",0,0,0,0,0,0,0,0,0,0,0,0,0,"",null,null,null,0,0,0,0,0,null,0,0,0,0,null,null,0,0,0,"",null,null,null,null,null,{"$f":"VLOOKUP(AG179,'Anexo ODS'!$G$3:$P$86,5,0)","v":2},{"$f":"VLOOKUP(AG179,'Anexo ODS'!$G$3:$P$86,6,0)","v":"La Paz"},{"$f":"VLOOKUP(AG179,'Anexo ODS'!$G$3:$P$86,7,0)","v":16},{"$f":"VLOOKUP(AG179,'Anexo ODS'!$G$3:$P$86,8,0)","v":"Paz, justicia e instituciones sólidas"},{"$f":"VLOOKUP(AG179,'Anexo ODS'!$G$3:$P$86,9,0)","v":"16.1"},{"$f":"VLOOKUP(AG179,'Anexo ODS'!$G$3:$P$86,10,0)","v":"Reducir significativamente todas las formas de violencia y las correspondientes tasas de mortalidad en todo el mundo"},null,null,null,null,null,null,null,null,2]
[179,3,"Santa Fe",3,"Inspirar confianza y legitimidad para vivir sin miedo y ser epicentro de cultura ciudadana, paz y reconciliación.",45,"Espacio público más seguro y construido colectivamente",null,null,null,null,179,"Realizar 4 acuerdos para el uso del EP con fines culturales, deportivos, recreacionales o de mercados temporales.",2130,"Espacio público mas seguro y construido colectivamente en Santa Fe","ACUERDOS CIUDADANOS","Suma",null,"Realizar",4,"Acuerdos","para el uso del EP con fines culturales, deportivos, recreacionales o de mercados temporales.","Realizar 4 acuerdos para el uso del EP con fines culturales, deportivos, recreacionales o de mercados temporales.",{"$f":"VLOOKUP(AG180,'Anexo PMR'!$B$4:$G$87,6,0)","v":"2_Presupuestos Participativos 50%"},7,"Desarrollo social y cultural","Acuerdos para el uso, acceso y aprovechamiento del espacio público.",98,"GOBIERNO",28,"Acuerdos ciudadanos suscritos.",58,"Acuerdos realizados para el uso del EP con fines culturales, deportivos, recreacionales o de mercados temporales.","\nACUERDOS DE ESPACIO PÚBLICO",null,null,null,2,0,0,2,399000000,0,0,425000000,824000000,1,0,0,0,0,"Bajo","Bajo",0.35501938819474366,0,0,null,null,null,0,"2021_1",2,2,0,0,0,0,0,0,0,0,0,0,0,"No mueve meta",null,null,null,390000000,390000000,0,0,0,210900,0,0,0,210900,210900,210900,0,0,0,"Se debieron pagar riesgos laborales del mes de diciembre de 2020, al venir rubros de la vigencia anterior que ya no se encontraban en la presente, se realizó el pago con cargo al proyecto 2130 con el fin de continuar con trámite para el cumplimiento de la",null,null,null,null,null,{"$f":"VLOOKUP(AG180,'Anexo ODS'!$G$3:$P$86,5,0)","v":2},{"$f":"VLOOKUP(AG180,'Anexo ODS'!$G$3:$P$86,6,0)","v":"La Paz"},{"$f":"VLOOKUP(AG180,'Anexo ODS'!$G$3:$P$86,7,0)","v":16},{"$f":"VLOOKUP(AG180,'Anexo ODS'!$G$3:$P$86,8,0)","v":"Paz, justicia e instituciones sólidas"},{"$f":"VLOOKUP(AG180,'Anexo ODS'!$G$3:$P$86,9,0)","v":"16.1"},{"$f":"VLOOKUP(AG180,'Anexo ODS'!$G$3:$P$86,10,0)","v":"Reducir significativamente todas las formas de violencia y las correspondientes tasas de mortalidad en todo el mundo"},null,null,null,null,null,null,null,null,4]
[180,3,"Santa Fe",3,"Inspirar confianza y legitimidad para vivir sin miedo y ser epicentro de cultura ciudadana, paz y reconciliación.",45,"Espacio público más seguro y construido colectivamente",null,null,null,null,180,"Realizar 4 acuerdos para la promover la formalización de vendedores informales a círculos económicos productivos de la ciudad.",2130,"Espacio público mas seguro y construido colectivamente en Santa Fe","ACUERDOS CIUDADANOS","Suma",null,"Realizar",4,"Acuerdos","para la promover la formalización de vendedores informales a círculos económicos productivos de la ciudad.","Realizar 4 acuerdos para la promover la formalización de vendedores informales a círculos económicos productivos de la ciudad.",{"$f":"VLOOKUP(AG181,'Anexo PMR'!$B$4:$G$87,6,0)","v":"2_Presupuestos Participativos 50%"},7,"Desarrollo social y cultural","Acuerdos para fortalecer la formalidad.",98,"GOBIERNO",28,"Acuerdos ciudadanos suscritos.",59,"Acuerdos realizados para la promover la formalización de vendedores informales a circulos económicos productivos de la ciudad","\nACUERDOS DE ESPACIO PÚBLICO",null,null,null,1,1,1,1,259000000,267000000,276000000,284000000,1086000000,1,0,0,0,0,"Bajo","Bajo",0.46790176647996551,0,0,null,null,null,0,"2021_1",1,1,0,0,0,0,0,0,0,0,0,0,0,"",null,null,null,253000000,253000000,0,0,0,null,0,0,0,0,null,null,0,0,0,"",null,null,null,null,null,{"$f":"VLOOKUP(AG181,'Anexo ODS'!$G$3:$P$86,5,0)","v":2},{"$f":"VLOOKUP(AG181,'Anexo ODS'!$G$3:$P$86,6,0)","v":"La Paz"},{"$f":"VLOOKUP(AG181,'Anexo ODS'!$G$3:$P$86,7,0)","v":16},{"$f":"VLOOKUP(AG181,'Anexo ODS'!$G$3:$P$86,8,0)","v":"Paz, justicia e instituciones sólidas"},{"$f":"VLOOKUP(AG181,'Anexo ODS'!$G$3:$P$86,9,0)","v":"16.1"},{"$f":"VLOOKUP(AG181,'Anexo ODS'!$G$3:$P$86,10,0)","v":"Reducir significativamente todas las formas de violencia y las correspondientes tasas de mortalidad en todo el mundo"},null,null,null,null,null,null,null,null,4]
[181,3,"Santa Fe",3,"Inspirar confianza y legitimidad para vivir sin miedo y ser epicentro de cultura ciudadana, paz y reconciliación.",48,"Plataforma institucional para la seguridad y justicia",null,null,null,null,181,"Atender 750 personas en estrategias de acceso a la justicia integral en la ciudad.",2163,"Plataforma institucional para la seguridad y justicia en Santa Fe","JUECES DE PAZ","Suma",null,"Atender",750,"Personas","en estrategias de acceso a la justicia integral en la ciudad","Atender 750 personas en estrategias de acceso a la justicia integral en la ciudad.",{"$f":"VLOOKUP(AG182,'Anexo PMR'!$B$4:$G$87,6,0)","v":"2_Presupuestos Participativos 50%"},7,"Desarrollo social y cultural","Acceso a la Justicia.",102,"SEGURIDAD, CONVIVENCIA Y JUSTICIA",29,"Bienes y  servicios de apoyo para el fortalecimiento de la justicia comunitaria y la justicia integral en la ciudad.",62,"Personas atendidas en estrategias de acceso a la justicia integral en la ciudad.","ACCESO A LA JUSTICIA",null,null,null,375,0,0,375,328000000,0,0,349000000,677000000,1,0,0,0,0,"Bajo","Bajo",0.45254010695187163,0,0,null,null,null,0,"2021_1",375,375,0,0,0,0,0,0,0,0,0,0,0,"",null,null,null,310000000,310000000,0,0,0,null,0,0,0,0,null,null,0,0,0,"",null,null,null,null,null,{"$f":"VLOOKUP(AG182,'Anexo ODS'!$G$3:$P$86,5,0)","v":2},{"$f":"VLOOKUP(AG182,'Anexo ODS'!$G$3:$P$86,6,0)","v":"La Paz"},{"$f":"VLOOKUP(AG182,'Anexo ODS'!$G$3:$P$86,7,0)","v":16},{"$f":"VLOOKUP(AG182,'Anexo ODS'!$G$3:$P$86,8,0)","v":"Paz, justicia e instituciones sólidas"},{"$f":"VLOOKUP(AG182,'Anexo ODS'!$G$3:$P$86,9,0)","v":"16.3"},{"$f":"VLOOKUP(AG182,'Anexo ODS'!$G$3:$P$86,10,0)","v":"Promover el estado de derecho en los planos nacional e internacional y garantizar la igualdad de acceso a la justicia para todos"},null,null,null,null,null,null,null,null,750]
[182,3,"Santa Fe",3,"Inspirar confianza y legitimidad para vivir sin miedo y ser epicentro de cultura ciudadana, paz y reconciliación.",48,"Plataforma institucional para la seguridad y justicia",null,null,null,null,182,"Suministrar 48 dotaciones tecnológicas a organismos de seguridad.",2163,"Plataforma institucional para la seguridad y justicia en Santa Fe","DOTACIÓN","Suma",null,"Suministrar",48,"Dotaciones","tecnológicas a organismos de seguridad.","Suministrar 48 dotaciones tecnológicas a organismos de seguridad.",{"$f":"VLOOKUP(AG183,'Anexo PMR'!$B$4:$G$87,6,0)","v":"2_Presupuestos Participativos 50%"},7,"Desarrollo social y cultural","Dotación para instancias de seguridad.",102,"SEGURIDAD, CONVIVENCIA Y JUSTICIA",30,"Infraestructura y dotaciones para seguridad.",65,"Dotaciones tecnológicas suministradas a organismos de seguridad.","DOTACIÓN EN SEGURIDAD",null,null,null,16,"0.0",16,16,397000000,0,208000000,214000000,819000000,1,0,0,0,0,"Bajo","Bajo",0.54745989304812837,0,0,null,null,null,0,"2021_1",16,16,0,0,0,0,0,0,0,0,0,0,0,"",null,null,null,390000000,390000000,0,0,0,null,0,0,0,0,null,null,0,0,0,"",null,null,null,null,null,{"$f":"VLOOKUP(AG183,'Anexo ODS'!$G$3:$P$86,5,0)","v":2},{"$f":"VLOOKUP(AG183,'Anexo ODS'!$G$3:$P$86,6,0)","v":"La Paz"},{"$f":"VLOOKUP(AG183,'Anexo ODS'!$G$3:$P$86,7,0)","v":16},{"$f":"VLOOKUP(AG183,'Anexo ODS'!$G$3:$P$86,8,0)","v":"Paz, justicia e instituciones sólidas"},{"$f":"VLOOKUP(AG183,'Anexo ODS'!$G$3:$P$86,9,0)","v":"16.a"},{"$f":"VLOOKUP(AG183,'Anexo ODS'!$G$3:$P$86,10,0)","v":"Fortalecer las instituciones nacionales pertinentes, incluso mediante la cooperación internacional, para crear a todos los niveles, particularmente en los países en desarrollo, la capacidad de prevenir la violencia y combatir el terrorismo y la delincuencia"},null,null,null,null,null,null,null,null,48]
[183,3,"Santa Fe",4,"Hacer de Bogotá-región un modelo de movilidad, creatividad y productividad incluyente y sostenible",49,"Movilidad segura, sostenible y accesible",null,null,null,null,183,"Intervenir 0,5 Kilómetros-carril de malla vial urbana (local y/o intermedia) con acciones de construcción y/o conservación.",2145,"Movilidad segura, sostenible y accesible en Santa Fe","INTERVENCIÓN MALLA VIAL LOCAL","Suma",null,"Intervenir",0.5,"Kilómetros-carril","de malla vial urbana (local y/o intermedia) con acciones de construcción y/o conservación.","Intervenir 0,5 Kilómetros-carril de malla vial urbana (local y/o intermedia) con acciones de construcción y/o conservación.",{"$f":"VLOOKUP(AG184,'Anexo PMR'!$B$4:$G$87,6,0)","v":"2_Presupuestos Participativos 50%"},6,"Infraestructura","Diseño, construcción y conservación (mantenimiento y rehabilitación) de la malla vial local e intermedia urbana o rural.",95,"MOVILIDAD",32,"Vías locales.",71,"Kilómetros-carril construidos y/o conservados de malla vial urbana (local y/o intermedia)","MALLA VIAL",null,null,null,0.25,0,0.25,0,841000000,0,950000000,0,1791000000,1,0,0,0,0,"Bajo","Bajo",0.39968756973889757,0,0,null,null,null,0,"2021_1",0.25,0.25,0,0,0,0,0,0,0,0,0,0,0,"No mueve meta",null,null,null,964000000,964000000,0,0,0,1443600,0,0,0,1443600,1443600,1443600,0,0,0,"Giros por concepto de Riesgos Laborales que no mueven la meta",null,null,null,null,null,{"$f":"VLOOKUP(AG184,'Anexo ODS'!$G$3:$P$86,5,0)","v":3},{"$f":"VLOOKUP(AG184,'Anexo ODS'!$G$3:$P$86,6,0)","v":"La Prosperidad"},{"$f":"VLOOKUP(AG184,'Anexo ODS'!$G$3:$P$86,7,0)","v":9},{"$f":"VLOOKUP(AG184,'Anexo ODS'!$G$3:$P$86,8,0)","v":"Industria, innovación e infraestructura"},{"$f":"VLOOKUP(AG184,'Anexo ODS'!$G$3:$P$86,9,0)","v":"9.1"},{"$f":"VLOOKUP(AG184,'Anexo ODS'!$G$3:$P$86,10,0)","v":"Desarrollar infraestructuras fiables, sostenibles, resilientes y de calidad, incluidas infraestructuras regionales y transfronterizas, para apoyar el desarrollo económico y el bienestar humano, haciendo especial hincapié en el acceso asequible y equitativo para todos"},null,null,null,null,null,null,null,null,0.5]
[184,3,"Santa Fe",4,"Hacer de Bogotá-región un modelo de movilidad, creatividad y productividad incluyente y sostenible",49,"Movilidad segura, sostenible y accesible",null,null,null,null,184,"Intervenir 1 Kilómetros-carril de malla vial rural con acciones de construcción y/o conservación",2145,"Movilidad segura, sostenible y accesible en Santa Fe","INTERVENCIÓN MALLA VIAL RURAL","Suma",null,"Intervenir",1,"Kilómetros-carril","de malla vial rural con acciones de construcción y/o conservación","Intervenir 1 Kilómetros-carril de malla vial rural con acciones de construcción y/o conservación",{"$f":"VLOOKUP(AG185,'Anexo PMR'!$B$4:$G$87,6,0)","v":"2_Presupuestos Participativos 50%"},6,"Infraestructura","Diseño, construcción y conservación (mantenimiento y rehabilitación) de la malla vial local e intermedia urbana o rural.",95,"MOVILIDAD",32,"Vías locales.",72,"Kilómetros-carril construidos y/o conservados de malla vial rural","MALLA VIAL",null,null,null,0,0,0,1,0,0,0,999000000,999000000,1,0,0,0,0,"Bajo","Bajo",0.22294130774380719,0,0,null,null,null,0,"2021_1",0,0,0,0,0,0,0,0,0,0,0,0,0,"",null,null,null,0,0,0,0,0,null,0,0,0,0,null,null,0,0,0,"",null,null,null,null,null,{"$f":"VLOOKUP(AG185,'Anexo ODS'!$G$3:$P$86,5,0)","v":3},{"$f":"VLOOKUP(AG185,'Anexo ODS'!$G$3:$P$86,6,0)","v":"La Prosperidad"},{"$f":"VLOOKUP(AG185,'Anexo ODS'!$G$3:$P$86,7,0)","v":9},{"$f":"VLOOKUP(AG185,'Anexo ODS'!$G$3:$P$86,8,0)","v":"Industria, innovación e infraestructura"},{"$f":"VLOOKUP(AG185,'Anexo ODS'!$G$3:$P$86,9,0)","v":"9.1"},{"$f":"VLOOKUP(AG185,'Anexo ODS'!$G$3:$P$86,10,0)","v":"Desarrollar infraestructuras fiables, sostenibles, resilientes y de calidad, incluidas infraestructuras regionales y transfronterizas, para apoyar el desarrollo económico y el bienestar humano, haciendo especial hincapié en el acceso asequible y equitativo para todos"},null,null,null,null,null,null,null,null,1]
[185,3,"Santa Fe",4,"Hacer de Bogotá-región un modelo de movilidad, creatividad y productividad incluyente y sostenible",49,"Movilidad segura, sostenible y accesible",null,null,null,null,185,"Intervenir 1.600 metros lineales de Ciclo-infraestructura con acciones de construcción y/o conservación.",2145,"Movilidad segura, sostenible y accesible en Santa Fe","CICLO INFRAESTRUCTURA","Suma",null,"Intervenir",1600,"Metros","lineales de Ciclo-infraestructura con acciones de construcción y/o conservación.","Intervenir 1.600 metros lineales de Ciclo-infraestructura con acciones de construcción y/o conservación.",{"$f":"VLOOKUP(AG186,'Anexo PMR'!$B$4:$G$87,6,0)","v":"2_Presupuestos Participativos 50%"},6,"Infraestructura","Diseño, construcción y conservación de ciclo-infraestructura.",95,"MOVILIDAD",33,"Ciclo infraestructura construida y/o conservada.",73,"Metros lineales construidos y/o conservados de Ciclo-infraestructura","CICLO-INFRAESTRUCTURA",null,null,null,400,0,1200,0,206000000,0,219000000,0,425000000,1,0,0,0,0,"Bajo","Bajo",9.4844900691809869E-2,0,0,null,null,null,0,"2021_1",400,400,0,0,0,0,0,0,0,0,0,0,0,"",null,null,null,202000000,202000000,0,0,0,null,0,0,0,0,null,null,0,0,0,"",null,null,null,null,null,{"$f":"VLOOKUP(AG186,'Anexo ODS'!$G$3:$P$86,5,0)","v":3},{"$f":"VLOOKUP(AG186,'Anexo ODS'!$G$3:$P$86,6,0)","v":"La Prosperidad"},{"$f":"VLOOKUP(AG186,'Anexo ODS'!$G$3:$P$86,7,0)","v":11},{"$f":"VLOOKUP(AG186,'Anexo ODS'!$G$3:$P$86,8,0)","v":"Ciudades y comunidades sostenibles"},{"$f":"VLOOKUP(AG186,'Anexo ODS'!$G$3:$P$86,9,0)","v":"11.2"},{"$f":"VLOOKUP(AG186,'Anexo ODS'!$G$3:$P$86,10,0)","v":" De aquí a 2030, proporcionar acceso a sistemas de transporte seguros, asequibles, accesibles y sostenibles para todos y mejorar la seguridad vial, en particular mediante la ampliación del transporte público, prestando especial atención a las necesidades de las personas en situación de vulnerabilidad, las mujeres, los niños, las personas con discapacidad y las personas de edad"},null,null,null,null,null,null,null,null,1600]
[186,3,"Santa Fe",4,"Hacer de Bogotá-región un modelo de movilidad, creatividad y productividad incluyente y sostenible",49,"Movilidad segura, sostenible y accesible",null,null,null,null,186,"Intervenir 2.000 metros cuadrados de Puentes vehiculares y/o peatonales de escala local sobre cuerpos de agua con acciones de construcción y/o conservación.",2145,"Movilidad segura, sostenible y accesible en Santa Fe","INTERVENCIÓN PUENTES","Suma",null,"Intervenir",2000,"Metros cuadrados","de Puentes vehiculares y/o peatonales de escala local sobre cuerpos de agua con acciones de construcción y/o conservación.","Intervenir 2.000 metros cuadrados de Puentes vehiculares y/o peatonales de escala local sobre cuerpos de agua con acciones de construcción y/o conservación.",{"$f":"VLOOKUP(AG187,'Anexo PMR'!$B$4:$G$87,6,0)","v":"2_Presupuestos Participativos 50%"},6,"Infraestructura","Construcción y/o conservación de puentes peatonales y/o vehiculares sobre cuerpos de agua (de escala local: urbana y/o rural).",95,"MOVILIDAD",31," Espacio público.",70,"Metros cuadrados de Puentes vehiculares y/o peatonales de escala local sobre cuerpos de agua construidos y/o intervenidos","PUENTES",null,null,null,0,2000,0,0,0,317000000,0,0,317000000,1,0,0,0,0,"Bajo","Bajo",7.0743137692479363E-2,0,0,null,null,null,0,"2021_1",0,0,0,0,0,0,0,0,0,0,0,0,0,"",null,null,null,0,0,0,0,0,null,0,0,0,0,null,null,0,0,0,"",null,null,null,null,null,{"$f":"VLOOKUP(AG187,'Anexo ODS'!$G$3:$P$86,5,0)","v":3},{"$f":"VLOOKUP(AG187,'Anexo ODS'!$G$3:$P$86,6,0)","v":"La Prosperidad"},{"$f":"VLOOKUP(AG187,'Anexo ODS'!$G$3:$P$86,7,0)","v":9},{"$f":"VLOOKUP(AG187,'Anexo ODS'!$G$3:$P$86,8,0)","v":"Industria, innovación e infraestructura"},{"$f":"VLOOKUP(AG187,'Anexo ODS'!$G$3:$P$86,9,0)","v":"9.1"},{"$f":"VLOOKUP(AG187,'Anexo ODS'!$G$3:$P$86,10,0)","v":"Desarrollar infraestructuras fiables, sostenibles, resilientes y de calidad, incluidas infraestructuras regionales y transfronterizas, para apoyar el desarrollo económico y el bienestar humano, haciendo especial hincapié en el acceso asequible y equitativo para todos"},null,null,null,null,null,null,null,null,2000]
[187,3,"Santa Fe",4,"Hacer de Bogotá-región un modelo de movilidad, creatividad y productividad incluyente y sostenible",49,"Movilidad segura, sostenible y accesible",null,null,null,null,187,"Intervenir 2.200 metros cuadrados de elementos del sistema de espacio público peatonal con acciones de construcción y/o conservación.",2145,"Movilidad segura, sostenible y accesible en Santa Fe","CONSTRUCCIÓN Y CONSERVACIÓN ","Suma",null,"Intervenir",2200,"Metros cuadrados","de elementos del sistema de espacio público peatonal con acciones de construcción y/o conservación.","Intervenir 2.200 metros cuadrados de elementos del sistema de espacio público peatonal con acciones de construcción y/o conservación.",{"$f":"VLOOKUP(AG188,'Anexo PMR'!$B$4:$G$87,6,0)","v":"2_Presupuestos Participativos 50%"},6,"Infraestructura","Construcción y/o conservación de elementos del sistema de espacio público peatonal.",95,"MOVILIDAD",31," Espacio público.",69,"Metros cuadrados construidos y/o conservados de elementos del sistema de espacio público peatonal.","ESPACIO PÚBLICO",null,null,null,0,2200,0,0,0,949000000,0,0,949000000,1,0,0,0,0,"Bajo","Bajo",0.21178308413300603,0,0,null,null,null,0,"2021_1",0,0,0,0,0,0,0,0,0,0,0,0,0,"",null,null,null,0,0,0,0,0,null,0,0,0,0,null,null,0,0,0,"",null,null,null,null,null,{"$f":"VLOOKUP(AG188,'Anexo ODS'!$G$3:$P$86,5,0)","v":3},{"$f":"VLOOKUP(AG188,'Anexo ODS'!$G$3:$P$86,6,0)","v":"La Prosperidad"},{"$f":"VLOOKUP(AG188,'Anexo ODS'!$G$3:$P$86,7,0)","v":11},{"$f":"VLOOKUP(AG188,'Anexo ODS'!$G$3:$P$86,8,0)","v":"Ciudades y comunidades sostenibles"},{"$f":"VLOOKUP(AG188,'Anexo ODS'!$G$3:$P$86,9,0)","v":"11.7"},{"$f":"VLOOKUP(AG188,'Anexo ODS'!$G$3:$P$86,10,0)","v":" De aquí a 2030, proporcionar acceso universal a zonas verdes y espacios públicos seguros, inclusivos y accesibles, en particular para las mujeres y los niños, las personas de edad y las personas con discapacidad"},null,null,null,null,null,null,null,null,2200]
[188,3,"Santa Fe",5,"Construir Bogotá-región con gobierno abierto, transparente y ciudadanía consciente.",54,"Transformación digital y gestión de TIC para un territorio inteligente",null,null,null,null,188,"Operativizar 60 Centros de Acceso Comunitario en zonas rurales y/o apartadas.",2114,"Transformación digital y gestión de TIC en Santa Fe","CONECTIVIDAD","Suma",null,"Operativizar",60,"Centros","de Acceso Comunitario en zonas rurales y/o apartadas.","Operativizar 60 Centros de Acceso Comunitario en zonas rurales y/o apartadas.",{"$f":"VLOOKUP(AG189,'Anexo PMR'!$B$4:$G$87,6,0)","v":"2_Presupuestos Participativos 50%"},9,"Ruralidad","Conectividad y redes de comunicación.",85,"GESTIÓN PÚBLICA",34,"Servicios de Conectividad y redes de comunicación.",74,"Centros de Acceso Comunitario en zonas rurales y/o apartadas funcionando ","CONECTIVIDAD RURAL",null,null,null,15,16,16,13,522000000,538000000,555000000,572000000,2187000000,1,0,0,0,0,"Bajo","Bajo",1,0,0,null,null,null,0,"2021_1",15,15,0,0,0,0,0,0,0,0,0,0,0,"",null,null,null,520000000,520000000,0,0,0,null,0,0,0,0,null,null,0,0,0,"",null,null,null,null,null,{"$f":"VLOOKUP(AG189,'Anexo ODS'!$G$3:$P$86,5,0)","v":3},{"$f":"VLOOKUP(AG189,'Anexo ODS'!$G$3:$P$86,6,0)","v":"La Prosperidad"},{"$f":"VLOOKUP(AG189,'Anexo ODS'!$G$3:$P$86,7,0)","v":9},{"$f":"VLOOKUP(AG189,'Anexo ODS'!$G$3:$P$86,8,0)","v":"Industria, innovación e infraestructura"},{"$f":"VLOOKUP(AG189,'Anexo ODS'!$G$3:$P$86,9,0)","v":"9.c"},{"$f":"VLOOKUP(AG189,'Anexo ODS'!$G$3:$P$86,10,0)","v":"Aumentar significativamente el acceso a la tecnología de la información y las comunicaciones y esforzarse por proporcionar acceso universal y asequible a Internet en los países menos adelantados de aquí a 2020"},null,null,null,null,null,null,null,null,60]
[189,3,"Santa Fe",5,"Construir Bogotá-región con gobierno abierto, transparente y ciudadanía consciente.",55,"Fortalecimiento de Cultura Ciudadana y su institucionalidad",null,null,null,null,189,"Capacitar 1.000 personas a través de procesos de formación para la participación de manera virtual y presencial.",2156,"Participación y cultura ciudadana en Santa Fe","FORMACIÓN","Suma",null,"Capacitar",1000,"Personas","a través de procesos de formación para la participación de manera virtual y presencial.","Capacitar 1.000 personas a través de procesos de formación para la participación de manera virtual y presencial.",{"$f":"VLOOKUP(AG190,'Anexo PMR'!$B$4:$G$87,6,0)","v":"2_Presupuestos Participativos 50%"},7,"Desarrollo social y cultural","Escuelas y procesos de formación para la participación ciudadana y/u organizaciones para los procesos de presupuestos participativos.",98,"GOBIERNO",35,"Espacios y procesos de participación ciudadana fortalecidos. ",78,"Número de Personas capacitadas a través de procesos de formación para la participación de manera virtual y presencial.","FORMACIÓN CIUDADANA",null,null,null,250,250,250,250,219000000,226000000,233000000,240000000,918000000,1,0,0,0,0,"Bajo","Bajo",0.17152466367713004,0,0,null,null,null,0,"2021_1",250,250,0,0,0,0,0,0,0,0,0,0,0,"",null,null,null,210000000,210000000,0,0,0,null,0,0,0,0,null,null,0,0,0,"",null,null,null,null,null,{"$f":"VLOOKUP(AG190,'Anexo ODS'!$G$3:$P$86,5,0)","v":2},{"$f":"VLOOKUP(AG190,'Anexo ODS'!$G$3:$P$86,6,0)","v":"La Paz"},{"$f":"VLOOKUP(AG190,'Anexo ODS'!$G$3:$P$86,7,0)","v":16},{"$f":"VLOOKUP(AG190,'Anexo ODS'!$G$3:$P$86,8,0)","v":"Paz, justicia e instituciones sólidas"},{"$f":"VLOOKUP(AG190,'Anexo ODS'!$G$3:$P$86,9,0)","v":"16.7"},{"$f":"VLOOKUP(AG190,'Anexo ODS'!$G$3:$P$86,10,0)","v":"Garantizar la adopción en todos los niveles de decisiones inclusivas, participativas y representativas que respondan a las necesidades"},null,null,null,null,null,null,null,null,1000]
[190,3,"Santa Fe",5,"Construir Bogotá-región con gobierno abierto, transparente y ciudadanía consciente.",55,"Fortalecimiento de Cultura Ciudadana y su institucionalidad",null,null,null,null,190,"Fortalecer 120 Organizaciones, JAC e Instancias de participación ciudadana.",2156,"Participación y cultura ciudadana en Santa Fe","FORTALECIMIENTO ORGANIZATIVO","Suma",null,"Fortalecer",120,"Organizaciones",", JAC e Instancias de participación ciudadana","Fortalecer 120 Organizaciones, JAC e Instancias de participación ciudadana.",{"$f":"VLOOKUP(AG191,'Anexo PMR'!$B$4:$G$87,6,0)","v":"2_Presupuestos Participativos 50%"},7,"Desarrollo social y cultural","Fortalecimiento de organizaciones sociales, comunitarias, comunales, propiedad horizontal e instancias y mecanismos de participación, con énfasis en jóvenes y asociatividad productiva.",98,"GOBIERNO",35,"Espacios y procesos de participación ciudadana fortalecidos. ",79,"Número de Organizaciones, JAC e Instancias de participación ciudadana fortalecidas.","FORTALECIMIENTO ORGANIZATIVO",null,null,null,30,30,30,30,417000000,836000000,656000000,677000000,2586000000,1,0,0,0,0,"Bajo","Bajo",0.48318385650224216,0,0,null,null,null,0,"2021_1",30,30,0,0,0,0,0,0,0,0,0,0,0,"",null,null,null,400000000,400000000,0,0,0,null,0,0,0,0,null,null,0,0,0,"",null,null,null,null,null,{"$f":"VLOOKUP(AG191,'Anexo ODS'!$G$3:$P$86,5,0)","v":2},{"$f":"VLOOKUP(AG191,'Anexo ODS'!$G$3:$P$86,6,0)","v":"La Paz"},{"$f":"VLOOKUP(AG191,'Anexo ODS'!$G$3:$P$86,7,0)","v":16},{"$f":"VLOOKUP(AG191,'Anexo ODS'!$G$3:$P$86,8,0)","v":"Paz, justicia e instituciones sólidas"},{"$f":"VLOOKUP(AG191,'Anexo ODS'!$G$3:$P$86,9,0)","v":"16.7"},{"$f":"VLOOKUP(AG191,'Anexo ODS'!$G$3:$P$86,10,0)","v":"Garantizar la adopción en todos los niveles de decisiones inclusivas, participativas y representativas que respondan a las necesidades"},null,null,null,null,null,null,null,null,120]
[191,3,"Santa Fe",5,"Construir Bogotá-región con gobierno abierto, transparente y ciudadanía consciente.",55,"Fortalecimiento de Cultura Ciudadana y su institucionalidad",null,null,null,null,191,"Intervenir 24 sedes de salones comunales.",2156,"Participación y cultura ciudadana en Santa Fe","INTERVENCIÓN","Suma",null,"Intervenir",24,"Sedes","de salones comunales","Intervenir 24 sedes de salones comunales.",{"$f":"VLOOKUP(AG192,'Anexo PMR'!$B$4:$G$87,6,0)","v":"2_Presupuestos Participativos 50%"},6,"Infraestructura","Intervención y dotación de salones comunales.",98,"GOBIERNO",35,"Espacios y procesos de participación ciudadana fortalecidos. ",75,"Sedes intervenidas de salones comunales.","SALONES COMUNALES",null,null,null,6,6,6,6,441000000,454000000,469000000,484000000,1848000000,1,0,0,0,0,"Bajo","Bajo",0.3452914798206278,0,0,null,null,null,0,"2021_1",6,6,0,0,0,0,0,0,0,0,0,0,0,"",null,null,null,430000000,430000000,0,0,0,null,0,0,0,0,null,null,0,0,0,"",null,null,null,null,null,{"$f":"VLOOKUP(AG192,'Anexo ODS'!$G$3:$P$86,5,0)","v":3},{"$f":"VLOOKUP(AG192,'Anexo ODS'!$G$3:$P$86,6,0)","v":"La Prosperidad"},{"$f":"VLOOKUP(AG192,'Anexo ODS'!$G$3:$P$86,7,0)","v":11},{"$f":"VLOOKUP(AG192,'Anexo ODS'!$G$3:$P$86,8,0)","v":"Ciudades y comunidades sostenibles"},{"$f":"VLOOKUP(AG192,'Anexo ODS'!$G$3:$P$86,9,0)","v":"11.3"},{"$f":"VLOOKUP(AG192,'Anexo ODS'!$G$3:$P$86,10,0)","v":"De aquí a 2030, aumentar la urbanización inclusiva y sostenible y la capacidad para la planificación y la gestión participativas, integradas y sostenibles de los asentamientos humanos en todos los países"},null,null,null,null,null,null,null,null,24]
[192,3,"Santa Fe",5,"Construir Bogotá-región con gobierno abierto, transparente y ciudadanía consciente.",56,"Gestión pública efectiva",null,null,null,null,192,"Construir 1 sedes administrativas locales.",2136,"Gestión pública efectiva en Santa Fe","SEDE ADMINISTRATIVA","Constante",null,"Construir",1,"Sedes","administrativa local","Construir 1 sedes administrativas locales.",{"$f":"VLOOKUP(AG193,'Anexo PMR'!$B$4:$G$87,6,0)","v":"1_Inflexible 45%"},1,"Gestión pública local","Terminación de infraestructuras (sedes administrativas locales).",98,"GOBIERNO",36,"Infraestructura para la atención de servicio al ciudadano.",81,"Sedes administrativas locales construidas.","FORTALECIMIENTO ORGANIZATIVO",null,null,null,1,1,1,1,1000000,1000000,1000000,1000000,4000000,1,0,0,0,0,"Bajo","Bajo",1,0,0,null,null,null,0,"2021_1",1,1,0,0,0,0,0,0,0,0,0,0,0,"",null,null,null,1000000,1000000,0,0,0,null,0,0,0,0,null,null,0,0,0,"",null,null,null,null,null,{"$f":"VLOOKUP(AG193,'Anexo ODS'!$G$3:$P$86,5,0)","v":3},{"$f":"VLOOKUP(AG193,'Anexo ODS'!$G$3:$P$86,6,0)","v":"La Prosperidad"},{"$f":"VLOOKUP(AG193,'Anexo ODS'!$G$3:$P$86,7,0)","v":9},{"$f":"VLOOKUP(AG193,'Anexo ODS'!$G$3:$P$86,8,0)","v":"Industria, innovación e infraestructura"},{"$f":"VLOOKUP(AG193,'Anexo ODS'!$G$3:$P$86,9,0)","v":"9.1"},{"$f":"VLOOKUP(AG193,'Anexo ODS'!$G$3:$P$86,10,0)","v":"Desarrollar infraestructuras fiables, sostenibles, resilientes y de calidad, incluidas infraestructuras regionales y transfronterizas, para apoyar el desarrollo económico y el bienestar humano, haciendo especial hincapié en el acceso asequible y equitativo para todos"},null,null,null,null,null,null,null,null,1]
[193,3,"Santa Fe",5,"Construir Bogotá-región con gobierno abierto, transparente y ciudadanía consciente.",57,"Gestión Pública Local",null,null,null,null,193,"Realizar 1 rendición de cuentas anuales.",1822,"Santa Fe abierta y transparente","TRANSPARENCIA Y CONTROL SOCIAL","Constante",null,"Realizar",1,"Rendicion de cuenta","anual","Realizar 1 rendición de cuentas anuales.",{"$f":"VLOOKUP(AG194,'Anexo PMR'!$B$4:$G$87,6,0)","v":"3_Flexible 5%"},10,"Participación\nCiudadana y\nconstrucción de\nconfianza.","Transparencia, control social y rendición de cuentas del Gobierno Local.",98,"GOBIERNO",35,"Espacios y procesos de participación ciudadana fortalecidos. ",83,"Número de Rendiciones de cuentas anuales.","TRANSPARENCIA Y CONTROL SOCIAL",null,null,null,1,1,1,1,20000000,20000000,20000000,20000000,{"$f":"SUM(AP194:AS194)","v":80000000},1,{"$f":"IF(Q194=\"Constante\",SUM(BO194:BR194)/4,IF(Q194=\"Suma\",SUM(BO194:BR194),0))","v":0},{"$f":"AV194/T194","v":0},{"$f":"IF(Q194=\"Constante\",SUM(BS194:BV194)/4,IF(Q194=\"Suma\",SUM(BS194:BV194),0))","v":0},{"$f":"AX194/T194","v":0},{"$f":"IF(AW194<=40%,\"Bajo\",IF(AW194<=70%,\"Medio\",IF(AW194<=90%,\"Alto\",IF(AW194>90%,\"Muy Alto\"))))","v":"Bajo"},{"$f":"IF(AY194<=40%,\"Bajo\",IF(AY194<=70%,\"Medio\",IF(AY194<=90%,\"Alto\",IF(AY194>90%,\"Muy Alto\"))))","v":"Bajo"},4.9333991119881598E-3,0,0,null,null,null,0,"2021_1",1,1,0,0,0,0,0,0,0,0,0,0,0,"",null,null,null,20000000,20000000,0,0,0,null,0,0,0,0,null,null,0,0,0,"",null,null,null,null,null,{"$f":"VLOOKUP(AG194,'Anexo ODS'!$G$3:$P$86,5,0)","v":2},{"$f":"VLOOKUP(AG194,'Anexo ODS'!$G$3:$P$86,6,0)","v":"La Paz"},{"$f":"VLOOKUP(AG194,'Anexo ODS'!$G$3:$P$86,7,0)","v":16},{"$f":"VLOOKUP(AG194,'Anexo ODS'!$G$3:$P$86,8,0)","v":"Paz, justicia e instituciones sólidas"},{"$f":"VLOOKUP(AG194,'Anexo ODS'!$G$3:$P$86,9,0)","v":"16.6"},{"$f":"VLOOKUP(AG194,'Anexo ODS'!$G$3:$P$86,10,0)","v":"Garantizar el acceso público a la información y proteger las libertades fundamentales, de conformidad con las leyes nacionales y los acuerdos internacionales"},null,null,null,null,null,null,null,null,1]
[194,3,"Santa Fe",5,"Construir Bogotá-región con gobierno abierto, transparente y ciudadanía consciente.",57,"Gestión Pública Local",null,null,null,null,194,"Realizar 4 acciones de inspección, vigilancia y control.",2105,"Gestión pública local en Santa Fe","IVC","Suma",null,"Realizar",4,"Acciones","de inspección, vigilancia y control.","Realizar 4 acciones de inspección, vigilancia y control.",{"$f":"VLOOKUP(AG195,'Anexo PMR'!$B$4:$G$87,6,0)","v":"1_Inflexible 45%"},2,"Inspección, vigilancia y control","Inspección, vigilancia y control.",98,"GOBIERNO",38,"Inspección, vigilancia y control (IVC).",84,"Acciones de inspección, vigilancia y control realizadas","IVC",null,null,null,1,1,1,1,998000000,680000000,783000000,982000000,3443000000,1,1,0.25,1,0.25,"Bajo","Bajo",0.21232116428219042,{"$f":"BB195*AW195","v":5.3080291070547604E-2},{"$f":"BB195*AY195","v":5.3080291070547604E-2},null,null,null,0,"2021_1",1,1,0,0,0,1,0,0,0,1,0,0,0,"Incompleto",null,null,null,998000000,998000000,0,0,0,480725600,0,0,0,{"$f":"SUM(CF195:CI195)","v":480725600},12993933,12993933,0,0,0,"",null,null,null,null,null,{"$f":"VLOOKUP(AG195,'Anexo ODS'!$G$3:$P$86,5,0)","v":2},{"$f":"VLOOKUP(AG195,'Anexo ODS'!$G$3:$P$86,6,0)","v":"La Paz"},{"$f":"VLOOKUP(AG195,'Anexo ODS'!$G$3:$P$86,7,0)","v":16},{"$f":"VLOOKUP(AG195,'Anexo ODS'!$G$3:$P$86,8,0)","v":"Paz, justicia e instituciones sólidas"},{"$f":"VLOOKUP(AG195,'Anexo ODS'!$G$3:$P$86,9,0)","v":"16.6"},{"$f":"VLOOKUP(AG195,'Anexo ODS'!$G$3:$P$86,10,0)","v":"Garantizar el acceso público a la información y proteger las libertades fundamentales, de conformidad con las leyes nacionales y los acuerdos internacionales"},null,null,null,null,null,null,null,null,4]
[195,3,"Santa Fe",5,"Construir Bogotá-región con gobierno abierto, transparente y ciudadanía consciente.",57,"Gestión Pública Local",null,null,null,null,195,"Realizar 4 estrategias de fortalecimiento institucional.",2105,"Gestión pública local en Santa Fe","FORTALECIMIENTO LOCAL","Suma",null,"Realizar",4,"Estrategias","de fortalecimiento institucional.","Realizar 4 estrategias de fortalecimiento institucional.",{"$f":"VLOOKUP(AG196,'Anexo PMR'!$B$4:$G$87,6,0)","v":"1_Inflexible 45%"},1,"Gestión pública local","Fortalecimiento institucional.",98,"GOBIERNO",37,"Fortalecimiento institucional.",82,"Estrategias de fortalecimiento institucional realizadas","FORTALECIMIENTO LOCAL",null,null,null,1,1,1,1,3036000000,3123000000,3214000000,3320000000,12693000000,1,1,0.25,1,0.25,"Bajo","Bajo",0.78274543660582141,0.19568635915145535,0.19568635915145535,null,null,null,0,"2021_1",1,1,0,0,0,1,0,0,0,1,0,0,0,"Incompleto",null,null,null,3014000000,3014000000,0,0,0,1823750298,0,0,0,1823750298,57196531,57196531,0,0,0,"",null,null,null,null,null,{"$f":"VLOOKUP(AG196,'Anexo ODS'!$G$3:$P$86,5,0)","v":2},{"$f":"VLOOKUP(AG196,'Anexo ODS'!$G$3:$P$86,6,0)","v":"La Paz"},{"$f":"VLOOKUP(AG196,'Anexo ODS'!$G$3:$P$86,7,0)","v":16},{"$f":"VLOOKUP(AG196,'Anexo ODS'!$G$3:$P$86,8,0)","v":"Paz, justicia e instituciones sólidas"},{"$f":"VLOOKUP(AG196,'Anexo ODS'!$G$3:$P$86,9,0)","v":"16.6"},{"$f":"VLOOKUP(AG196,'Anexo ODS'!$G$3:$P$86,10,0)","v":"Garantizar el acceso público a la información y proteger las libertades fundamentales, de conformidad con las leyes nacionales y los acuerdos internacionales"},null,null,null,null,null,null,null,null,4]
[196,4,"San Cristóbal",1,"Hacer un nuevo contrato social con igualdad de oportunidades para la inclusión social, productiva y política",1,"Subsidios y transferencias para la equidad",null,null,null,null,196,"Atender 950 hogares con apoyos que contribuyan al ingreso mínimo garantizado.",1852,"Ingreso Vital para San Cristobal","INGRESO MÍNIMO","Constante",2,"Atender",950,"Hogares","con apoyos que contribuyan al ingreso mínimo garantizado.","Atender 950 hogares con apoyos que contribuyan al ingreso mínimo garantizado.",{"$f":"VLOOKUP(AG197,'Anexo PMR'!$B$4:$G$87,6,0)","v":"1_Inflexible 45%"},3,"Sistema Bogotá Solidaria (20%)","Ingreso mínimo garantizado",92,"INTEGRACIÓN SOCIAL",1,"Protección integral a personas y familias en situación de vulneración.",1,"Hogares atendidos con apoyos que contribuyan al ingreso mínimo garantizado","INGRESO MÍNIMO",null,null,null,950,950,950,950,2343000000,2343000000,2343000000,2344000000,9373000000,1,237.5,0.25,0,0,"Bajo","Bajo",{"$f":"AT197/SUMIF($F$197:$F$267,F197,$AT$197:$AT$267)","v":0.18204595334744691},4.5511488336861729E-2,0,null,null,null,0,"2021_1",950,950,0,0,0,950,0,0,0,0,0,0,0,"Incompleto",null,null,null,3013900000,3013900000,0,0,0,2410800000,0,0,0,2410800000,2410800000,2410800000,0,0,0,"Se generaron las resoluciones por los valores inicialmente pactados y dicho traslado de recursos se realizo a la SDH para continuar el tramíte.",null,null,null,null,null,{"$f":"VLOOKUP(AG197,'Anexo ODS'!$G$3:$P$86,5,0)","v":1},{"$f":"VLOOKUP(AG197,'Anexo ODS'!$G$3:$P$86,6,0)","v":"Las Personas"},{"$f":"VLOOKUP(AG197,'Anexo ODS'!$G$3:$P$86,7,0)","v":1},{"$f":"VLOOKUP(AG197,'Anexo ODS'!$G$3:$P$86,8,0)","v":"Fin de la pobreza"},{"$f":"VLOOKUP(AG197,'Anexo ODS'!$G$3:$P$86,9,0)","v":"1.2"},{"$f":"VLOOKUP(AG197,'Anexo ODS'!$G$3:$P$86,10,0)","v":"De aquí a 2030, reducir al menos a la mitad la proporción de hombres, mujeres y niños de todas las edades que viven en la pobreza en todas sus dimensiones con arreglo a las definiciones nacionales"},null,null,null,null,null,null,null,null,3800,null,null,null,{"$f":"DJ197*4","v":15200}]
[197,4,"San Cristóbal",1,"Hacer un nuevo contrato social con igualdad de oportunidades para la inclusión social, productiva y política",1,"Subsidios y transferencias para la equidad",null,null,null,null,197,"Beneficiar 4950 personas mayores con apoyo económico tipo C.",1852,"Ingreso Vital para San Cristobal","SUBSIDIO TIPO C","Constante",1,"Beneficiar",4950,"Personas","mayores con apoyo económico tipo C.","Beneficiar 4950 personas mayores con apoyo económico tipo C.",{"$f":"VLOOKUP(AG198,'Anexo PMR'!$B$4:$G$87,6,0)","v":"1_Inflexible 45%"},3,"Sistema Bogotá Solidaria (20%)","Subsidio tipo C adulto mayor.",92,"INTEGRACIÓN SOCIAL",1,"Protección integral a personas y familias en situación de vulneración.",2,"Número de personas mayores con apoyo económico tipo C","SUBSIDIO TIPO C",null,null,null,4950,4950,4950,4950,9000000000,9275000000,10362000000,13477000000,42114000000,1,1237.5,0.25,1234.25,0.24934343434343434,"Bajo","Bajo",0.81795404665255311,0.20448851166313828,0.20395147112745732,null,null,null,0,"2021_1",4950,4950,0,0,0,4950,0,0,0,4937,0,0,0,"Incompleto",null,null,null,9061391000,9061391000,0,0,0,4227053333,0,0,0,4227053333,1859241616,1859241616,0,0,0,"ante la no activación en base de datos de algunos beneficiarios, se continua en labores de busqueda y activación de los mismos.",null,null,null,null,null,{"$f":"VLOOKUP(AG198,'Anexo ODS'!$G$3:$P$86,5,0)","v":1},{"$f":"VLOOKUP(AG198,'Anexo ODS'!$G$3:$P$86,6,0)","v":"Las Personas"},{"$f":"VLOOKUP(AG198,'Anexo ODS'!$G$3:$P$86,7,0)","v":1},{"$f":"VLOOKUP(AG198,'Anexo ODS'!$G$3:$P$86,8,0)","v":"Fin de la pobreza"},{"$f":"VLOOKUP(AG198,'Anexo ODS'!$G$3:$P$86,9,0)","v":"1.2"},{"$f":"VLOOKUP(AG198,'Anexo ODS'!$G$3:$P$86,10,0)","v":"De aquí a 2030, reducir al menos a la mitad la proporción de hombres, mujeres y niños de todas las edades que viven en la pobreza en todas sus dimensiones con arreglo a las definiciones nacionales"},null,null,null,null,null,null,null,null,4950]
[198,4,"San Cristóbal",1,"Hacer un nuevo contrato social con igualdad de oportunidades para la inclusión social, productiva y política",6,"Sistema Distrital de Cuidado",null,null,null,null,198,"Dotar 2 centros de atención especializados.",1811,"San Cristóbal te cuida","DOTACIÓN CENTROS DE ATENCIÓN ESPECIALIZADOS","Suma",1,"Dotar",2,"Centros","de atención especializado","Dotar 2 centros de atención especializados.",{"$f":"VLOOKUP(AG199,'Anexo PMR'!$B$4:$G$87,6,0)","v":"2_Presupuestos Participativos 50%"},6,"Infraestructura","Dotación a Centros Crecer, Renacer.",92,"INTEGRACIÓN SOCIAL",5,"Dotación para la atención y la prestación de los servicios en la infraestructura del sector Integración Social.",26,"Centros de atención especializada dotados","CENTROS DE ATENCIÓN ESPECIALIZADOS",null,null,null,0,2,0,0,0,400000000,0,0,400000000,1,0,0,0,0,"Bajo","Bajo",9.9341860176331807E-3,0,0,null,null,null,0,"2021_1",0,0,0,0,0,0,0,0,0,0,0,0,0,"",null,null,null,0,0,0,0,0,null,0,0,0,0,null,null,0,0,0,"",null,null,null,null,null,{"$f":"VLOOKUP(AG199,'Anexo ODS'!$G$3:$P$86,5,0)","v":3},{"$f":"VLOOKUP(AG199,'Anexo ODS'!$G$3:$P$86,6,0)","v":"La Prosperidad"},{"$f":"VLOOKUP(AG199,'Anexo ODS'!$G$3:$P$86,7,0)","v":10},{"$f":"VLOOKUP(AG199,'Anexo ODS'!$G$3:$P$86,8,0)","v":"Reducción de las desigualdades "},{"$f":"VLOOKUP(AG199,'Anexo ODS'!$G$3:$P$86,9,0)","v":"10.2"},{"$f":"VLOOKUP(AG199,'Anexo ODS'!$G$3:$P$86,10,0)","v":"De aquí a 2030, potenciar y promover la inclusión social, económica y política de todas las personas, independientemente de su edad, sexo, discapacidad, raza, etnia, origen, religión o situación económica u otra condición"},null,null,null,null,null,null,null,null,2]
[199,4,"San Cristóbal",1,"Hacer un nuevo contrato social con igualdad de oportunidades para la inclusión social, productiva y política",6,"Sistema Distrital de Cuidado",null,null,null,null,199,"Dotar 2 Centros de Desarrollo comunitario.",1811,"San Cristóbal te cuida","DOTACIÓN CDC","Suma",2,"Dotar",2,"Centros","de desarrollo comunitario.","Dotar 2 Centros de Desarrollo comunitario.",{"$f":"VLOOKUP(AG200,'Anexo PMR'!$B$4:$G$87,6,0)","v":"2_Presupuestos Participativos 50%"},6,"Infraestructura","Dotación Centros de Desarrollo Comunitario.",92,"INTEGRACIÓN SOCIAL",5,"Dotación para la atención y la prestación de los servicios en la infraestructura del sector Integración Social.",27,"Sedes de Centros de Desarrollo comunitarios dotados","CENTROS DE DESARROLLO COMUNITARIO",null,null,null,0,1,0,1,0,589000000,0,531000000,1120000000,1,0,0,0,0,"Bajo","Bajo",2.7815720849372904E-2,0,0,null,null,null,0,"2021_1",0,0,0,0,0,0,0,0,0,0,0,0,0,"",null,null,null,0,0,0,0,0,null,0,0,0,0,null,null,0,0,0,"",null,null,null,null,null,{"$f":"VLOOKUP(AG200,'Anexo ODS'!$G$3:$P$86,5,0)","v":3},{"$f":"VLOOKUP(AG200,'Anexo ODS'!$G$3:$P$86,6,0)","v":"La Prosperidad"},{"$f":"VLOOKUP(AG200,'Anexo ODS'!$G$3:$P$86,7,0)","v":10},{"$f":"VLOOKUP(AG200,'Anexo ODS'!$G$3:$P$86,8,0)","v":"Reducción de las desigualdades "},{"$f":"VLOOKUP(AG200,'Anexo ODS'!$G$3:$P$86,9,0)","v":"10.2"},{"$f":"VLOOKUP(AG200,'Anexo ODS'!$G$3:$P$86,10,0)","v":"De aquí a 2030, potenciar y promover la inclusión social, económica y política de todas las personas, independientemente de su edad, sexo, discapacidad, raza, etnia, origen, religión o situación económica u otra condición"},null,null,null,null,null,null,null,null,2]
[200,4,"San Cristóbal",1,"Hacer un nuevo contrato social con igualdad de oportunidades para la inclusión social, productiva y política",6,"Sistema Distrital de Cuidado",null,null,null,null,200,"Dotar 22 Sedes de atención a la primera infancia y/o adolescencia (jardines infantiles y Centros Amar).",1811,"San Cristóbal te cuida","DOTACIÓN JARDINES IFANTILES Y CENTROS AMAR","Suma",3,"Dotar",22,"Sedes","de atención a la primera infancia y/o adolescencia (jardines infantiles y Centros Amar).","Dotar 22 Sedes de atención a la primera infancia y/o adolescencia (jardines infantiles y Centros Amar).",{"$f":"VLOOKUP(AG201,'Anexo PMR'!$B$4:$G$87,6,0)","v":"2_Presupuestos Participativos 50%"},6,"Infraestructura","Dotación a Jardines Infantiles, Centros Amar y Forjar.",92,"INTEGRACIÓN SOCIAL",2,"Protección integral a niños y niñas y adolescentes.",28,"Sedes de atención a la primera infancia y/o adolescencia dotadas.","JARDINES INFANTILES Y CENTROS AMAR",null,null,null,7,7,8,0,389000000,389000000,389000000,0,1167000000,1,0,0,0,0,"Bajo","Bajo",2.8982987706444804E-2,0,0,null,null,null,0,"2021_1",7,7,0,0,0,0,0,0,0,0,0,0,0,"",null,null,null,391653000,391653000,0,0,0,null,0,0,0,0,null,null,0,0,0,"",null,null,null,null,null,{"$f":"VLOOKUP(AG201,'Anexo ODS'!$G$3:$P$86,5,0)","v":1},{"$f":"VLOOKUP(AG201,'Anexo ODS'!$G$3:$P$86,6,0)","v":"Las Personas"},{"$f":"VLOOKUP(AG201,'Anexo ODS'!$G$3:$P$86,7,0)","v":1},{"$f":"VLOOKUP(AG201,'Anexo ODS'!$G$3:$P$86,8,0)","v":"Fin de la Pobreza"},{"$f":"VLOOKUP(AG201,'Anexo ODS'!$G$3:$P$86,9,0)","v":"1.2"},{"$f":"VLOOKUP(AG201,'Anexo ODS'!$G$3:$P$86,10,0)","v":"De aquí a 2030, reducir al menos a la mitad la proporción de hombres, mujeres y niños de todas las edades que viven en la pobreza en todas sus dimensiones con arreglo a las definiciones nacionales"},null,null,null,null,null,null,null,null,22]
[201,4,"San Cristóbal",1,"Hacer un nuevo contrato social con igualdad de oportunidades para la inclusión social, productiva y política",6,"Sistema Distrital de Cuidado",null,null,null,null,201,"Formar 4000 personas en prevención de violencia intrafamiliar y/o violencia sexual.",1811,"San Cristóbal te cuida","PREVENCIÓN DE VIOLENCIAS","Suma",4,"Formar",4000,"Personas","en prevención de violencia intrafamiliar y/o violencia sexual.","Formar 4000 personas en prevención de violencia intrafamiliar y/o violencia sexual.",{"$f":"VLOOKUP(AG202,'Anexo PMR'!$B$4:$G$87,6,0)","v":"2_Presupuestos Participativos 50%"},7,"Desarrollo social y cultural","Prevención y atención de violencia intrafamiliar y sexual para poblaciones en situaciones de riesgo y vulneración de derechos.",92,"INTEGRACIÓN SOCIAL",2,"Protección integral a niños y niñas y adolescentes.",25,"Número de Personas formadas u orientadas o sensibilizadas en prevención de violencia intrafamiliar y/o violencia sexual.            ","PREVENCIÓN DE LA VIOLENCIA",null,null,null,1000,1000,1000,1000,1119000000,1119000000,1119000000,1120000000,4477000000,1,0,0,0,0,"Bajo","Bajo",0.11118837700235937,0,0,null,null,null,0,"2021_1",1000,1000,0,0,0,0,0,0,0,0,0,0,0,"No mueve meta",null,null,null,1126633000,1126633000,0,0,0,59850000,0,0,0,59850000,0,0,0,0,0,"Se adelanta la contratación del personal que gestionará el desarrollo de la meta.",null,null,null,null,null,{"$f":"VLOOKUP(AG202,'Anexo ODS'!$G$3:$P$86,5,0)","v":2},{"$f":"VLOOKUP(AG202,'Anexo ODS'!$G$3:$P$86,6,0)","v":"La Paz"},{"$f":"VLOOKUP(AG202,'Anexo ODS'!$G$3:$P$86,7,0)","v":16},{"$f":"VLOOKUP(AG202,'Anexo ODS'!$G$3:$P$86,8,0)","v":"Paz, justicia e instituciones sólidas"},{"$f":"VLOOKUP(AG202,'Anexo ODS'!$G$3:$P$86,9,0)","v":"16.1"},{"$f":"VLOOKUP(AG202,'Anexo ODS'!$G$3:$P$86,10,0)","v":"Reducir significativamente todas las formas de violencia y las correspondientes tasas de mortalidad en todo el mundo"},null,null,null,null,null,null,null,null,4000]
[202,4,"San Cristóbal",1,"Hacer un nuevo contrato social con igualdad de oportunidades para la inclusión social, productiva y política",6,"Sistema Distrital de Cuidado",null,null,null,null,202,"Vincular 3600 mujeres cuidadoras a estrategias de cuidado.",1811,"San Cristóbal te cuida","ESTRATEGIAS DE CUIDADO","Suma",5,"Vincular",3600,"Mujeres","cuidadoras a estrategias de cuidado","Vincular 3600 mujeres cuidadoras a estrategias de cuidado.",{"$f":"VLOOKUP(AG203,'Anexo PMR'!$B$4:$G$87,6,0)","v":"2_Presupuestos Participativos 50%"},7,"Desarrollo social y cultural","Estrategias de cuidado para cuidadoras, cuidadores y a personas con discapacidad",100,"MUJERES",15,"Estrategias del cuidado para cuidadoras.",30,"Mujeres cuidadoras vinculadas a estrategias de cuidado","ESTRATEGIAS DE CUIDADO",null,null,null,900,900,900,900,708000000,707000000,708000000,708000000,2831000000,1,0,0,0,0,"Bajo","Bajo",7.0309201539798832E-2,0,0,null,null,null,0,"2021_1",900,900,0,0,0,0,0,0,0,0,0,0,0,"",null,null,null,712829000,712829000,0,0,0,null,0,0,0,0,null,null,0,0,0,"",null,null,null,null,null,{"$f":"VLOOKUP(AG203,'Anexo ODS'!$G$3:$P$86,5,0)","v":1},{"$f":"VLOOKUP(AG203,'Anexo ODS'!$G$3:$P$86,6,0)","v":"Las Personas"},{"$f":"VLOOKUP(AG203,'Anexo ODS'!$G$3:$P$86,7,0)","v":5},{"$f":"VLOOKUP(AG203,'Anexo ODS'!$G$3:$P$86,8,0)","v":"Igualdad de género"},{"$f":"VLOOKUP(AG203,'Anexo ODS'!$G$3:$P$86,9,0)","v":"5.4"},{"$f":"VLOOKUP(AG203,'Anexo ODS'!$G$3:$P$86,10,0)","v":"Reconocer y valorar los cuidados y el trabajo doméstico no remunerados mediante servicios públicos, infraestructuras y políticas de protección social, y promoviendo la responsabilidad compartida en el hogar y la familia, según proceda en cada país"},null,null,null,null,null,null,null,null,3600]
[203,4,"San Cristóbal",1,"Hacer un nuevo contrato social con igualdad de oportunidades para la inclusión social, productiva y política",6,"Sistema Distrital de Cuidado",null,null,null,null,203,"Beneficiar 1600 personas con discapacidad a través de Dispositivos de Asistencia Personal - Ayudas Técnicas (no incluidas en los Planes de Beneficios).",1843,"San Cristóbal saludable","DISPOSITIVOS DE ASISTENCIA PERSONAL","Suma",2,"Beneficiar",1600,"Personas","con discapacidad a través de Dispositivos de Asistencia Personal - Ayudas Técnicas (no incluidas en los Planes de Beneficios).","Beneficiar 1600 personas con discapacidad a través de Dispositivos de Asistencia Personal - Ayudas Técnicas (no incluidas en los Planes de Beneficios).",{"$f":"VLOOKUP(AG204,'Anexo PMR'!$B$4:$G$87,6,0)","v":"3_Flexible 5%"},11,"Condiciones de salud","Dispositivos de asistencia personal -DAP- Ayudas técnicas a personas con discapacidad (No incluidas en el POS).",91,"SALUD",16,"Promoción, prevención e intervención en salud.",33,"Número de personas con discapacidad beneficiadas con Dispostivos de Asistencia Personal - Ayudas Técnicas (no incluidas en los Planes de Beneficios).","ATENCIÓN  A LA DISCAPACIDAD Y SUS CUIDADORES",null,null,null,400,400,400,400,1000000000,1031000000,1060000000,1089000000,4180000000,1,0,0,0,0,"Bajo","Bajo",0.10381224388426673,0,0,null,null,null,0,"2021_1",400,400,0,0,0,0,0,0,0,0,0,0,0,"",null,null,null,1026577000,1026577000,0,0,0,null,0,0,0,0,null,null,0,0,0,"",null,null,null,null,null,{"$f":"VLOOKUP(AG204,'Anexo ODS'!$G$3:$P$86,5,0)","v":3},{"$f":"VLOOKUP(AG204,'Anexo ODS'!$G$3:$P$86,6,0)","v":"La Prosperidad"},{"$f":"VLOOKUP(AG204,'Anexo ODS'!$G$3:$P$86,7,0)","v":10},{"$f":"VLOOKUP(AG204,'Anexo ODS'!$G$3:$P$86,8,0)","v":"Reducción de las desigualdades "},{"$f":"VLOOKUP(AG204,'Anexo ODS'!$G$3:$P$86,9,0)","v":"10.2"},{"$f":"VLOOKUP(AG204,'Anexo ODS'!$G$3:$P$86,10,0)","v":"De aquí a 2030, potenciar y promover la inclusión social, económica y política de todas las personas, independientemente de su edad, sexo, discapacidad, raza, etnia, origen, religión o situación económica u otra condición"},null,null,null,null,null,null,null,null,1600]
[204,4,"San Cristóbal",1,"Hacer un nuevo contrato social con igualdad de oportunidades para la inclusión social, productiva y política",6,"Sistema Distrital de Cuidado",null,null,null,null,204,"Vincular 1000 personas a las acciones y estrategias de reconocimiento de los saberes ancestrales en medicina.",1843,"San Cristóbal saludable","SABERES ANCESTRALES","Suma",3,"Vincular",1000,"Personas","a las acciones y estrategias de reconocimiento de los saberes ancestrales en medicina.","Vincular 1000 personas a las acciones y estrategias de reconocimiento de los saberes ancestrales en medicina.",{"$f":"VLOOKUP(AG205,'Anexo PMR'!$B$4:$G$87,6,0)","v":"3_Flexible 5%"},11,"Condiciones de salud","Reconocimiento de los saberes ancestrales en medicina.",91,"SALUD",16,"Promoción, prevención e intervención en salud.",34,"Número de personas vinculadas a las acciones y estrategias de reconocimiento de los saberes ancestrales en medicina.","SABERES ANCESTRALES",null,null,null,250,250,250,250,200000000,209000000,215000000,222000000,846000000,1,0,0,0,0,"Bajo","Bajo",2.1010803427294177E-2,0,0,null,null,null,0,"2021_1",250,250,0,0,0,0,0,0,0,0,0,0,0,"",null,null,null,201364000,201364000,0,0,0,null,0,0,0,0,null,null,0,0,0,"",null,null,null,null,null,{"$f":"VLOOKUP(AG205,'Anexo ODS'!$G$3:$P$86,5,0)","v":1},{"$f":"VLOOKUP(AG205,'Anexo ODS'!$G$3:$P$86,6,0)","v":"Las Personas"},{"$f":"VLOOKUP(AG205,'Anexo ODS'!$G$3:$P$86,7,0)","v":3},{"$f":"VLOOKUP(AG205,'Anexo ODS'!$G$3:$P$86,8,0)","v":"Salud y Bienestar"},{"$f":"VLOOKUP(AG205,'Anexo ODS'!$G$3:$P$86,9,0)","v":"3.b"},{"$f":"VLOOKUP(AG205,'Anexo ODS'!$G$3:$P$86,10,0)","v":"Apoyar las actividades de investigación y desarrollo de vacunas y medicamentos contra las enfermedades transmisibles y no transmisibles que afectan primordialmente a los países en desarrollo y facilitar el acceso a medicamentos y vacunas esenciales asequibles de conformidad con la Declaración relativa al Acuerdo sobre los Aspectos de los Derechos de Propiedad Intelectual Relacionados con el Comercio y la Salud Pública, en la que se afirma el derecho de los países en desarrollo a utilizar al máximo las disposiciones del Acuerdo sobre los Aspectos de los Derechos de Propiedad Intelectual Relacionados con el Comercio respecto a la flexibilidad para proteger la salud pública y, en particular, proporcionar acceso a los medicamentos para todos"},null,null,null,null,null,null,null,null,1000]
[205,4,"San Cristóbal",1,"Hacer un nuevo contrato social con igualdad de oportunidades para la inclusión social, productiva y política",6,"Sistema Distrital de Cuidado",null,null,null,null,205,"Vincular 1000 personas con discapacidad, cuidadores y cuidadoras, en actividades alternativas de salud.",1843,"San Cristóbal saludable","ACCIONES COMPLEMENTARIAS","Suma",1,"Vincular",1000,"Personas","con discapacidad, cuidadores y cuidadoras, en actividades alternativas de salud","Vincular 1000 personas con discapacidad, cuidadores y cuidadoras, en actividades alternativas de salud.",{"$f":"VLOOKUP(AG206,'Anexo PMR'!$B$4:$G$87,6,0)","v":"3_Flexible 5%"},11,"Condiciones de salud","Acciones complementarias para personas en condición de discapacidad y sus cuidadores.",91,"SALUD",16,"Promoción, prevención e intervención en salud.",31,"Número de personas con discapacidad, cuidadadores y cuidadoras, vinculados en actividades alernativas de salud.","ATENCIÓN  A LA DISCAPACIDAD Y SUS CUIDADORES",null,null,null,250,250,250,250,500000000,513000000,529000000,546000000,2088000000,1,0,0,0,0,"Bajo","Bajo",5.1856451012045203E-2,0,0,null,null,null,0,"2021_1",250,250,0,0,0,0,0,0,0,0,0,0,0,"",null,null,null,503411000,503411000,0,0,0,null,0,0,0,0,null,null,0,0,0,"",null,null,null,null,null,{"$f":"VLOOKUP(AG206,'Anexo ODS'!$G$3:$P$86,5,0)","v":1},{"$f":"VLOOKUP(AG206,'Anexo ODS'!$G$3:$P$86,6,0)","v":"Las Personas"},{"$f":"VLOOKUP(AG206,'Anexo ODS'!$G$3:$P$86,7,0)","v":3},{"$f":"VLOOKUP(AG206,'Anexo ODS'!$G$3:$P$86,8,0)","v":"Salud y Bienestar"},{"$f":"VLOOKUP(AG206,'Anexo ODS'!$G$3:$P$86,9,0)","v":"3.4"},{"$f":"VLOOKUP(AG206,'Anexo ODS'!$G$3:$P$86,10,0)","v":"De aquí a 2030, reducir en un tercio la mortalidad prematura por enfermedades no transmisibles mediante su prevención y tratamiento, y promover la salud mental y el\nbienestar"},null,null,null,null,null,null,null,null,1000]
[206,4,"San Cristóbal",1,"Hacer un nuevo contrato social con igualdad de oportunidades para la inclusión social, productiva y política",6,"Sistema Distrital de Cuidado",null,null,null,null,206,"Vincular 1100 personas a las acciones desarrolladas desde los dispositivos de base comunitaria en respuesta al consumo de SPA.",1843,"San Cristóbal saludable","DISMINUCIÓN FACTORES DE RIESGO SPA","Suma",4,"Vincular",1100,"Personas","a las acciones desarrolladas desde los dispositivos de base comunitaria en respuesta al consumo de SPA.","Vincular 1100 personas a las acciones desarrolladas desde los dispositivos de base comunitaria en respuesta al consumo de SPA.",{"$f":"VLOOKUP(AG207,'Anexo PMR'!$B$4:$G$87,6,0)","v":"3_Flexible 5%"},11,"Condiciones de salud","Acciones para la disminución de los factores de riesgo frente al consumo de sustancias psicoactivas.",91,"SALUD",16,"Promoción, prevención e intervención en salud.",32,"Números de personas vinculadas a las acciones desarrolladas desde los dispositivos de base comunitaria en respuesta al consumo de SPA.","SPA",null,null,null,275,275,275,275,293000000,293000000,293000000,294000000,1173000000,1,0,0,0,0,"Bajo","Bajo",2.91320004967093E-2,0,0,null,null,null,0,"2021_1",275,275,0,0,0,0,0,0,0,0,0,0,0,"",null,null,null,294999000,294999000,0,0,0,null,0,0,0,0,null,null,0,0,0,"",null,null,null,null,null,{"$f":"VLOOKUP(AG207,'Anexo ODS'!$G$3:$P$86,5,0)","v":1},{"$f":"VLOOKUP(AG207,'Anexo ODS'!$G$3:$P$86,6,0)","v":"Las Personas"},{"$f":"VLOOKUP(AG207,'Anexo ODS'!$G$3:$P$86,7,0)","v":3},{"$f":"VLOOKUP(AG207,'Anexo ODS'!$G$3:$P$86,8,0)","v":"Salud y Bienestar"},{"$f":"VLOOKUP(AG207,'Anexo ODS'!$G$3:$P$86,9,0)","v":"3.5"},{"$f":"VLOOKUP(AG207,'Anexo ODS'!$G$3:$P$86,10,0)","v":"Fortalecer la prevención y el tratamiento del abuso de sustancias adictivas, incluido el uso indebido de estupefacientes y el consumo nocivo de alcohol"},null,null,null,null,null,null,null,null,1100]
[207,4,"San Cristóbal",1,"Hacer un nuevo contrato social con igualdad de oportunidades para la inclusión social, productiva y política",6,"Sistema Distrital de Cuidado",null,null,null,null,207,"Vincular 2400 personas en acciones complementarias de la estrategia territorial de salud.",1843,"San Cristóbal saludable","ESTRATEGIA TERRITORIAL DE SALUD","Suma",5,"Vincular",2400,"Personas","en acciones complementarias de la estrategia territorial de salud","Vincular 2400 personas en acciones complementarias de la estrategia territorial de salud.",{"$f":"VLOOKUP(AG208,'Anexo PMR'!$B$4:$G$87,6,0)","v":"3_Flexible 5%"},11,"Condiciones de salud","Coinversión en la estrategia territorial de salud.",91,"SALUD",16,"Promoción, prevención e intervención en salud.",36,"Número de personas vinculadas en las acciones complementarias de la estrategia territorial de salud.","ESTRATEGIA TERRITORIAL DE SALUD",null,null,null,600,600,600,600,656000000,671000000,692000000,710000000,2729000000,1,0,0,0,0,"Bajo","Bajo",6.7775984105302375E-2,0,0,null,null,null,0,"2021_1",600,600,0,0,0,0,0,0,0,0,0,0,0,"No mueve meta",null,null,null,660475000,660475000,0,0,0,217616666,0,0,0,217616666,3483333,3483333,0,0,0,"Se adelanta la contratación del personal que gestionará el desarrollo de la meta.",null,null,null,null,null,{"$f":"VLOOKUP(AG208,'Anexo ODS'!$G$3:$P$86,5,0)","v":1},{"$f":"VLOOKUP(AG208,'Anexo ODS'!$G$3:$P$86,6,0)","v":"Las Personas"},{"$f":"VLOOKUP(AG208,'Anexo ODS'!$G$3:$P$86,7,0)","v":3},{"$f":"VLOOKUP(AG208,'Anexo ODS'!$G$3:$P$86,8,0)","v":"Salud y Bienestar"},{"$f":"VLOOKUP(AG208,'Anexo ODS'!$G$3:$P$86,9,0)","v":"3.8"},{"$f":"VLOOKUP(AG208,'Anexo ODS'!$G$3:$P$86,10,0)","v":"Lograr la cobertura sanitaria universal, incluida la protección contra los riesgos financieros, el acceso a servicios de salud esenciales de calidad y el acceso a medicamentos y vacunas inocuos, eficaces, asequibles y de calidad para todos"},null,null,null,null,null,null,null,null,2400]
[208,4,"San Cristóbal",1,"Hacer un nuevo contrato social con igualdad de oportunidades para la inclusión social, productiva y política",6,"Sistema Distrital de Cuidado",null,null,null,null,208,"Apoyar 600 Mipymes y/o emprendimientos culturales y creativos.",1865,"San Cristóbal le apuesta a la reactivación economica apoyando lo nuestro","FORTALECIMIENTO MIPYMES","Suma",1,"Apoyar",600,"Mipymes","y/o emprendimientos culturales y creativos.","Apoyar 600 Mipymes y/o emprendimientos culturales y creativos.",{"$f":"VLOOKUP(AG209,'Anexo PMR'!$B$4:$G$87,6,0)","v":"2_Presupuestos Participativos 50%"},5,"Desarrollo de la Economía Local","Apoyo a industrias culturales y creativas.",89,"DESARROLLO ECONÓMICO, INDUSTRIA Y TURISMO",14,"Servicios de asesoría, asistencia técnica integral, dotación y/o apoyo financiero a Mipymes y/o emprendimientos.",21,"Número de Mipymes y/o emprendimientos culturales y creativos apoyados","DESARROLLO DE LA ECONOMÍA LOCAL",null,null,null,150,150,150,150,1537000000,1537000000,1537000000,1537000000,6148000000,1,0,0,0,0,"Bajo","Bajo",0.15268843909102198,0,0,null,null,null,0,"2021_1",150,150,0,0,0,0,0,0,0,0,0,0,0,"No mueve meta",null,null,null,1360523000,1360523000,0,0,0,25000000,0,0,0,25000000,0,0,0,0,0,"Se adelanta la contratación del personal que gestionará el desarrollo de la meta.",null,null,null,null,null,{"$f":"VLOOKUP(AG209,'Anexo ODS'!$G$3:$P$86,5,0)","v":3},{"$f":"VLOOKUP(AG209,'Anexo ODS'!$G$3:$P$86,6,0)","v":"La Prosperidad"},{"$f":"VLOOKUP(AG209,'Anexo ODS'!$G$3:$P$86,7,0)","v":8},{"$f":"VLOOKUP(AG209,'Anexo ODS'!$G$3:$P$86,8,0)","v":"Trabajo decente y crecimiento económico"},{"$f":"VLOOKUP(AG209,'Anexo ODS'!$G$3:$P$86,9,0)","v":"8.3"},{"$f":"VLOOKUP(AG209,'Anexo ODS'!$G$3:$P$86,10,0)","v":"Promover políticas orientadas al desarrollo que apoyen las actividades productivas, la creación de puestos de trabajo decentes, el emprendimiento, la creatividad y la innovación, y fomentar la formalización y el crecimiento de las microempresas y las pequeñas y medianas empresas, incluso mediante el acceso a servicios financieros"},null,null,null,null,null,null,null,null,600]
[209,4,"San Cristóbal",1,"Hacer un nuevo contrato social con igualdad de oportunidades para la inclusión social, productiva y política",6,"Sistema Distrital de Cuidado",null,null,null,null,209,"Promover en 400 Mipymes y/o emprendimientos procesos de reconversión hacia actividades sostenibles.",1865,"San Cristóbal le apuesta a la reactivación economica apoyando lo nuestro","REACTIVACIÓN","Suma",2,"Promover",400,"Mipymes","y/o emprendimientos procesos de reconversión hacia actividades sostenibles.","Promover en 400 Mipymes y/o emprendimientos procesos de reconversión hacia actividades sostenibles.",{"$f":"VLOOKUP(AG210,'Anexo PMR'!$B$4:$G$87,6,0)","v":"2_Presupuestos Participativos 50%"},5,"Desarrollo de la Economía Local","Reactivación y reconversión verde",89,"DESARROLLO ECONÓMICO, INDUSTRIA Y TURISMO",14,"Servicios de asesoría, asistencia técnica integral, dotación y/o apoyo financiero a Mipymes y/o emprendimientos.",22,"Número de Mipymes y/o emprendimientos con procesos de reconversión hacia actividades sostenibles","DESARROLLO DE LA ECONOMÍA LOCAL",null,null,null,100,100,100,100,788000000,788000000,791000000,788000000,3155000000,1,0,0,0,0,"Bajo","Bajo",7.8355892214081707E-2,0,0,null,null,null,0,"2021_1",100,100,0,0,0,0,0,0,0,0,0,0,0,"No mueve meta",null,null,null,793375000,793375000,0,0,0,54405000,0,0,0,54405000,0,0,0,0,0,"Se adelanta la contratación del personal que gestionará el desarrollo de la meta.",null,null,null,null,null,{"$f":"VLOOKUP(AG210,'Anexo ODS'!$G$3:$P$86,5,0)","v":3},{"$f":"VLOOKUP(AG210,'Anexo ODS'!$G$3:$P$86,6,0)","v":"La Prosperidad"},{"$f":"VLOOKUP(AG210,'Anexo ODS'!$G$3:$P$86,7,0)","v":8},{"$f":"VLOOKUP(AG210,'Anexo ODS'!$G$3:$P$86,8,0)","v":"Trabajo decente y crecimiento económico"},{"$f":"VLOOKUP(AG210,'Anexo ODS'!$G$3:$P$86,9,0)","v":"8.3"},{"$f":"VLOOKUP(AG210,'Anexo ODS'!$G$3:$P$86,10,0)","v":"Promover políticas orientadas al desarrollo que apoyen las actividades productivas, la creación de puestos de trabajo decentes, el emprendimiento, la creatividad y la innovación, y fomentar la formalización y el crecimiento de las microempresas y las pequeñas y medianas empresas, incluso mediante el acceso a servicios financieros"},null,null,null,null,null,null,null,null,400]
[210,4,"San Cristóbal",1,"Hacer un nuevo contrato social con igualdad de oportunidades para la inclusión social, productiva y política",6,"Sistema Distrital de Cuidado",null,null,null,null,210,"Promover en 800 Mipymes y/o emprendimientos la transformación empresarial y/o productiva.",1865,"San Cristóbal le apuesta a la reactivación economica apoyando lo nuestro","TRANSFORMACIÓN PRODUCTIVA","Suma",3,"Promover",800,"Mipymes","y/o emprendimientos la transformación empresarial y/o productiva.","Promover en 800 Mipymes y/o emprendimientos la transformación empresarial y/o productiva.",{"$f":"VLOOKUP(AG211,'Anexo PMR'!$B$4:$G$87,6,0)","v":"2_Presupuestos Participativos 50%"},5,"Desarrollo de la Economía Local","Transformación productiva y formación de capacidades",89,"DESARROLLO ECONÓMICO, INDUSTRIA Y TURISMO",14,"Servicios de asesoría, asistencia técnica integral, dotación y/o apoyo financiero a Mipymes y/o emprendimientos.",23,"Número de Mipymes y/o emprendimientos con transformacion empresarial y/o productiva","DESARROLLO DE LA ECONOMÍA LOCAL",null,null,null,200,200,200,200,1490000000,1490000000,1490000000,1491000000,5961000000,1,0,0,0,0,"Bajo","Bajo",0.14804420712777847,0,0,null,null,null,0,"2021_1",200,200,0,0,0,0,0,0,0,0,0,0,0,"No mueve meta",null,null,null,1500163000,1500163000,0,0,0,214496667,0,0,0,214496667,2383333,2383333,0,0,0,"Se adelanta la contratación del personal que gestionará el desarrollo de la meta.",null,null,null,null,null,{"$f":"VLOOKUP(AG211,'Anexo ODS'!$G$3:$P$86,5,0)","v":3},{"$f":"VLOOKUP(AG211,'Anexo ODS'!$G$3:$P$86,6,0)","v":"La Prosperidad"},{"$f":"VLOOKUP(AG211,'Anexo ODS'!$G$3:$P$86,7,0)","v":8},{"$f":"VLOOKUP(AG211,'Anexo ODS'!$G$3:$P$86,8,0)","v":"Trabajo decente y crecimiento económico"},{"$f":"VLOOKUP(AG211,'Anexo ODS'!$G$3:$P$86,9,0)","v":"8.3"},{"$f":"VLOOKUP(AG211,'Anexo ODS'!$G$3:$P$86,10,0)","v":"Promover políticas orientadas al desarrollo que apoyen las actividades productivas, la creación de puestos de trabajo decentes, el emprendimiento, la creatividad y la innovación, y fomentar la formalización y el crecimiento de las microempresas y las pequeñas y medianas empresas, incluso mediante el acceso a servicios financieros"},null,null,null,null,null,null,null,null,800]
[211,4,"San Cristóbal",1,"Hacer un nuevo contrato social con igualdad de oportunidades para la inclusión social, productiva y política",6,"Sistema Distrital de Cuidado",null,null,null,null,211,"Revitalizar 500 Mipymes y/o emprendimientos potencializadas dentro de las aglomeraciones económicas que fomentan el empleo y/o nuevas actividades económicas.",1865,"San Cristóbal le apuesta a la reactivación economica apoyando lo nuestro","REVITALIZACIÓN","Suma",4,"Revitalizar",500,"Mipymes","y/o emprendimientos potencializadas dentro de las aglomeraciones económicas que fomentan el empleo y/o nuevas actividades económicas.","Revitalizar 500 Mipymes y/o emprendimientos potencializadas dentro de las aglomeraciones económicas que fomentan el empleo y/o nuevas actividades económicas.",{"$f":"VLOOKUP(AG212,'Anexo PMR'!$B$4:$G$87,6,0)","v":"2_Presupuestos Participativos 50%"},5,"Desarrollo de la Economía Local","Revitalización del corazón productivo de las localidades",89,"DESARROLLO ECONÓMICO, INDUSTRIA Y TURISMO",14,"Servicios de asesoría, asistencia técnica integral, dotación y/o apoyo financiero a Mipymes y/o emprendimientos.",24,"Número de Mipymes  y/o emprendimientos revitalizadas o potencializadas dentro de las aglomeraciones económicas que fomentan el empleo y/o nuevas actividades económicas","DESARROLLO DE LA ECONOMÍA LOCAL",null,null,null,125,125,125,125,997000000,998000000,998000000,997000000,3990000000,1,0,0,0,0,"Bajo","Bajo",9.9093505525890968E-2,0,0,null,null,null,0,"2021_1",125,125,0,0,0,0,0,0,0,0,0,0,0,"No mueve meta",null,null,null,1003801000,1003801000,0,0,0,66960000,0,0,0,66960000,2314667,2314667,0,0,0,"Se adelanta la contratación del personal que gestionará el desarrollo de la meta.",null,null,null,null,null,{"$f":"VLOOKUP(AG212,'Anexo ODS'!$G$3:$P$86,5,0)","v":3},{"$f":"VLOOKUP(AG212,'Anexo ODS'!$G$3:$P$86,6,0)","v":"La Prosperidad"},{"$f":"VLOOKUP(AG212,'Anexo ODS'!$G$3:$P$86,7,0)","v":8},{"$f":"VLOOKUP(AG212,'Anexo ODS'!$G$3:$P$86,8,0)","v":"Trabajo decente y crecimiento económico"},{"$f":"VLOOKUP(AG212,'Anexo ODS'!$G$3:$P$86,9,0)","v":"8.3"},{"$f":"VLOOKUP(AG212,'Anexo ODS'!$G$3:$P$86,10,0)","v":"Promover políticas orientadas al desarrollo que apoyen las actividades productivas, la creación de puestos de trabajo decentes, el emprendimiento, la creatividad y la innovación, y fomentar la formalización y el crecimiento de las microempresas y las pequeñas y medianas empresas, incluso mediante el acceso a servicios financieros"},null,null,null,null,null,null,null,null,500]
[212,4,"San Cristóbal",1,"Hacer un nuevo contrato social con igualdad de oportunidades para la inclusión social, productiva y política",8,"Prevención y atención de maternidad temprana",null,null,null,null,212,"Vincular 1600 personas a las acciones y estrategias para la prevención del embarazo adolescente.",1861,"Adolescencia plena en San Cristóbal","PREVENCIÓN","Suma",1,"Vincular",1600,"Personas","a las acciones y estrategias para la prevención del embarazo adolescente.","Vincular 1600 personas a las acciones y estrategias para la prevención del embarazo adolescente.",{"$f":"VLOOKUP(AG213,'Anexo PMR'!$B$4:$G$87,6,0)","v":"3_Flexible 5%"},11,"Condiciones de salud","Prevención del embarazo en adolescentes.",91,"SALUD",16,"Promoción, prevención e intervención en salud.",37,"Número de personas vinculadas a las acciones y estrategias para la prevención del embarazo adolescente","PREVENCIÓN DEL EMBARAZO",null,null,null,400,400,400,400,400000000,411000000,424000000,438000000,1673000000,1,0,0,0,0,"Bajo","Bajo",1,0,0,null,null,null,0,"2021_1",400,400,0,0,0,0,0,0,0,0,0,0,0,"",null,null,null,402728000,402728000,0,0,0,null,0,0,0,0,null,null,0,0,0,"",null,null,null,null,null,{"$f":"VLOOKUP(AG213,'Anexo ODS'!$G$3:$P$86,5,0)","v":1},{"$f":"VLOOKUP(AG213,'Anexo ODS'!$G$3:$P$86,6,0)","v":"Las Personas"},{"$f":"VLOOKUP(AG213,'Anexo ODS'!$G$3:$P$86,7,0)","v":3},{"$f":"VLOOKUP(AG213,'Anexo ODS'!$G$3:$P$86,8,0)","v":"Salud y Bienestar"},{"$f":"VLOOKUP(AG213,'Anexo ODS'!$G$3:$P$86,9,0)","v":"3.7"},{"$f":"VLOOKUP(AG213,'Anexo ODS'!$G$3:$P$86,10,0)","v":"De aquí a 2030, garantizar el acceso universal a los servicios de salud sexual y reproductiva, incluidos los de planificación familiar, información y educación, y la integración de la salud reproductiva en las estrategias y los programas nacionales"},null,null,null,null,null,null,null,null,1600]
[213,4,"San Cristóbal",1,"Hacer un nuevo contrato social con igualdad de oportunidades para la inclusión social, productiva y política",12,"Educación inicial: Bases sólidas para la vida",null,null,null,null,213,"Implementar 34 Proyectos para el desarrollo integral de la primera infancia y la relación escuela, familia y comunidad.",1724,"Por una Infancia feliz en San cristobal","EDUCACIÓN INICIAL","Suma",1,"Implementar",34,"Proyectos","para el desarrollo integral de la primera infancia y la relación escuela, familia y comunidad.","Implementar 34 Proyectos para el desarrollo integral de la primera infancia y la relación escuela, familia y comunidad.",{"$f":"VLOOKUP(AG214,'Anexo PMR'!$B$4:$G$87,6,0)","v":"1_Inflexible 45%"},4,"Educación superior y primera infancia (10%)","Apoyo para educación inicial.",90,"EDUCACIÓN",2,"Protección integral a niños y niñas y adolescentes.",3,"Proyectos para el desarrollo integral de la primera infancia y la relación escuela, familia y comunidad.","PROYECTOS PRIMERA INFANCIA",null,null,null,9,9,8,8,1500000000,1500000000,1500000000,1500000000,6000000000,1,0,0,0,0,"Bajo","Bajo",1,0,0,null,null,null,0,"2021_1",9,9,0,0,0,0,0,0,0,0,0,0,0,"",null,null,null,1510232000,1510232000,0,0,0,null,0,0,0,0,null,null,0,0,0,"",null,null,null,null,null,{"$f":"VLOOKUP(AG214,'Anexo ODS'!$G$3:$P$86,5,0)","v":1},{"$f":"VLOOKUP(AG214,'Anexo ODS'!$G$3:$P$86,6,0)","v":"Las Personas"},{"$f":"VLOOKUP(AG214,'Anexo ODS'!$G$3:$P$86,7,0)","v":4},{"$f":"VLOOKUP(AG214,'Anexo ODS'!$G$3:$P$86,8,0)","v":"Educación de calidad"},{"$f":"VLOOKUP(AG214,'Anexo ODS'!$G$3:$P$86,9,0)","v":"4.2"},{"$f":"VLOOKUP(AG214,'Anexo ODS'!$G$3:$P$86,10,0)","v":"De aquí a 2030, asegurar que todas las niñas y todos los niños tengan acceso a servicios de atención y desarrollo en la primera infancia y educación preescolar de calidad, a fin de que estén preparados para la enseñanza primaria."},null,null,null,null,null,null,null,null,34]
[214,4,"San Cristóbal",1,"Hacer un nuevo contrato social con igualdad de oportunidades para la inclusión social, productiva y política",14,"Formación integral: más y mejor tiempo en los colegios",null,null,null,null,214,"Dotar 35 sedes educativas urbanas y rurales.",1790,"San Cristobal fortalece la educación","DOTACIÓN","Suma",1,"Dotar",35,"Sedes","educativas urbanas y rurales","Dotar 35 sedes educativas urbanas y rurales.",{"$f":"VLOOKUP(AG215,'Anexo PMR'!$B$4:$G$87,6,0)","v":"2_Presupuestos Participativos 50%"},6,"Infraestructura","Dotación pedagógica a colegios.",90,"EDUCACIÓN",3,"Infraestructura y dotación escolar.",4,"Sedes educativas urbanas y rurales dotadas","SEDES EDUCATIVAS",null,null,null,10,7,6,12,999000000,715000000,645000000,1120000000,3479000000,1,0,0,0,0,"Bajo","Bajo",1,0,0,null,null,null,0,"2021_1",10,10,0,0,0,0,0,0,0,0,0,0,0,"",null,null,null,1005814000,1005814000,0,0,0,null,0,0,0,0,null,null,0,0,0,"",null,null,null,null,null,{"$f":"VLOOKUP(AG215,'Anexo ODS'!$G$3:$P$86,5,0)","v":1},{"$f":"VLOOKUP(AG215,'Anexo ODS'!$G$3:$P$86,6,0)","v":"Las Personas"},{"$f":"VLOOKUP(AG215,'Anexo ODS'!$G$3:$P$86,7,0)","v":4},{"$f":"VLOOKUP(AG215,'Anexo ODS'!$G$3:$P$86,8,0)","v":"Educación de calidad"},{"$f":"VLOOKUP(AG215,'Anexo ODS'!$G$3:$P$86,9,0)","v":"4.7"},{"$f":"VLOOKUP(AG215,'Anexo ODS'!$G$3:$P$86,10,0)","v":"De aquí a 2030, asegurar que todos los alumnos adquieran los conocimientos teóricos y prácticos necesarios para promover el desarrollo sostenible, entre otras cosas mediante la educación para el desarrollo sostenible y los estilos de vida sostenibles, los derechos humanos, la igualdad de género, la promoción de una cultura de paz y no violencia, la ciudadanía mundial y la valoración de la diversidad cultural y la contribución de la cultura al desarrollo sostenible"},null,null,null,null,null,null,null,null,35]
[215,4,"San Cristóbal",1,"Hacer un nuevo contrato social con igualdad de oportunidades para la inclusión social, productiva y política",17,"Jóvenes con capacidades: Proyecto de vida para la ciudadanía, la innovación y el trabajo del siglo XXI",null,null,null,null,215,"Beneficiar 530 personas con apoyo para la educación superior.",1792,"San Cristobal le apuesta a una educación sin limites","APOYO EDUCACIÓN SUPERIOR","Suma",1,"Beneficiar",530,"Personas","con apoyo para la educación superior","Beneficiar 530 personas con apoyo para la educación superior.",{"$f":"VLOOKUP(AG216,'Anexo PMR'!$B$4:$G$87,6,0)","v":"1_Inflexible 45%"},4,"Educación superior y primera infancia (10%)","Apoyo para educación superior.",90,"EDUCACIÓN",4,"Apoyo a la educación superior.",5,"Personas beneficiadas con  apoyo para la educación superior","EDUCACIÓN SUPERIOR",null,null,null,93,146,146,145,3625000000,3625000000,3625000000,3625000000,14500000000,1,0,0,0,0,"Bajo","Bajo",0.71686359816087408,0,0,null,null,null,0,"2021_1",93,93,0,0,0,0,0,0,0,0,0,0,0,"",null,null,null,3649727000,3649727000,0,0,0,null,0,0,0,0,null,null,0,0,0,"",null,null,null,null,null,{"$f":"VLOOKUP(AG216,'Anexo ODS'!$G$3:$P$86,5,0)","v":1},{"$f":"VLOOKUP(AG216,'Anexo ODS'!$G$3:$P$86,6,0)","v":"Las Personas"},{"$f":"VLOOKUP(AG216,'Anexo ODS'!$G$3:$P$86,7,0)","v":4},{"$f":"VLOOKUP(AG216,'Anexo ODS'!$G$3:$P$86,8,0)","v":"Educación de calidad"},{"$f":"VLOOKUP(AG216,'Anexo ODS'!$G$3:$P$86,9,0)","v":"4.3"},{"$f":"VLOOKUP(AG216,'Anexo ODS'!$G$3:$P$86,10,0)","v":"De aquí a 2030, asegurar el acceso igualitario de todos los hombres y las mujeres a una formación técnica, profesional y superior de calidad, incluida la enseñanza universitaria."},null,null,null,null,null,null,null,null,530]
[216,4,"San Cristóbal",1,"Hacer un nuevo contrato social con igualdad de oportunidades para la inclusión social, productiva y política",17,"Jóvenes con capacidades: Proyecto de vida para la ciudadanía, la innovación y el trabajo del siglo XXI",null,null,null,null,216,"Beneficiar 730 estudiantes de programas de educación superior con apoyo de sostenimiento para la permanencia.",1792,"San Cristobal le apuesta a una educación sin limites","SOSTENIMIENTO","Suma",2,"Beneficiar",730,"estudiantes","de programas de educación superior con apoyo de sostenimiento para la permanencia","Beneficiar 730 estudiantes de programas de educación superior con apoyo de sostenimiento para la permanencia.",{"$f":"VLOOKUP(AG217,'Anexo PMR'!$B$4:$G$87,6,0)","v":"1_Inflexible 45%"},4,"Educación superior y primera infancia (10%)","Apoyo para educación superior.",90,"EDUCACIÓN",4,"Apoyo a la educación superior.",6,"Número de estudiantes de programas de educación superior con apoyo de sostenimiento para la permanencia.","EDUCACIÓN SUPERIOR",null,null,null,126,201,201,202,1310000000,1310000000,1311000000,1311000000,5242000000,1,0,0,0,0,"Bajo","Bajo",0.25915855045236563,0,0,null,null,null,0,"2021_1",126,126,0,0,0,0,0,0,0,0,0,0,0,"",null,null,null,1318936000,1318936000,0,0,0,null,0,0,0,0,null,null,0,0,0,"",null,null,null,null,null,{"$f":"VLOOKUP(AG217,'Anexo ODS'!$G$3:$P$86,5,0)","v":1},{"$f":"VLOOKUP(AG217,'Anexo ODS'!$G$3:$P$86,6,0)","v":"Las Personas"},{"$f":"VLOOKUP(AG217,'Anexo ODS'!$G$3:$P$86,7,0)","v":4},{"$f":"VLOOKUP(AG217,'Anexo ODS'!$G$3:$P$86,8,0)","v":"Educación de calidad"},{"$f":"VLOOKUP(AG217,'Anexo ODS'!$G$3:$P$86,9,0)","v":"4.3"},{"$f":"VLOOKUP(AG217,'Anexo ODS'!$G$3:$P$86,10,0)","v":"De aquí a 2030, asegurar el acceso igualitario de todos los hombres y las mujeres a una formación técnica, profesional y superior de calidad, incluida la enseñanza universitaria."},null,null,null,null,null,null,null,null,730]
[217,4,"San Cristóbal",1,"Hacer un nuevo contrato social con igualdad de oportunidades para la inclusión social, productiva y política",17,"Jóvenes con capacidades: Proyecto de vida para la ciudadanía, la innovación y el trabajo del siglo XXI",null,null,null,null,217,"Dotar 1 sedes de casas de juventud.",1792,"La juventud tiene espacio en San Cristóbal","DOTACIÓN","Suma",3,"Dotar",1,"Sedes","de casa de la juventud","Dotar 1 sedes de casas de juventud.",{"$f":"VLOOKUP(AG218,'Anexo PMR'!$B$4:$G$87,6,0)","v":"2_Presupuestos Participativos 50%"},6,"Infraestructura","Dotación Casas de Juventud.",92,"INTEGRACIÓN SOCIAL",5,"Dotación para la atención y la prestación de los servicios en la infraestructura del sector Integración Social.",7,"Sedes de Casas de juventud dotadas","CASAS DE JUVENTUD",null,null,null,0,1,0,0,0,485000000,0,0,485000000,1,0,0,0,0,"Bajo","Bajo",2.3977851386760271E-2,0,0,null,null,null,0,"2021_1",0,0,0,0,0,0,0,0,0,0,0,0,0,"",null,null,null,0,0,0,0,0,null,0,0,0,0,null,null,0,0,0,"",null,null,null,null,null,{"$f":"VLOOKUP(AG218,'Anexo ODS'!$G$3:$P$86,5,0)","v":1},{"$f":"VLOOKUP(AG218,'Anexo ODS'!$G$3:$P$86,6,0)","v":"Las Personas"},{"$f":"VLOOKUP(AG218,'Anexo ODS'!$G$3:$P$86,7,0)","v":1},{"$f":"VLOOKUP(AG218,'Anexo ODS'!$G$3:$P$86,8,0)","v":"Fin de la Pobreza"},{"$f":"VLOOKUP(AG218,'Anexo ODS'!$G$3:$P$86,9,0)","v":"1.2"},{"$f":"VLOOKUP(AG218,'Anexo ODS'!$G$3:$P$86,10,0)","v":"De aquí a 2030, reducir al menos a la mitad la proporción de hombres, mujeres y niños de todas las edades que viven en la pobreza en todas sus dimensiones con arreglo a las definiciones nacionales"},null,null,null,null,null,null,null,null,1]
[218,4,"San Cristóbal",1,"Hacer un nuevo contrato social con igualdad de oportunidades para la inclusión social, productiva y política",20,"Bogotá, referente en cultura, deporte, recreación y actividad física, con parques para el desarrollo y la salud",null,null,null,null,218,"Beneficiar 3200 Personas con artículos deportivos entregados.",1801,"San cristobal es deporte","DOTACIÓN","Suma",3,"Beneficiar",3200,"Personas","con artículos deportivos entregados","Beneficiar 3200 Personas con artículos deportivos entregados.",{"$f":"VLOOKUP(AG219,'Anexo PMR'!$B$4:$G$87,6,0)","v":"2_Presupuestos Participativos 50%"},7,"Desarrollo social y cultural","Procesos de formación y dotación de insumos para los campos artísticos, interculturales, culturales, patrimoniales y deportivos.",93,"CULTURA, RECREACIÓN Y DEPORTE",7,"Eventos y actividades recreativas y deportivas.",12,"Personas beneficiadas con artículos entregados.","ACTIVIDAD DEPORTIVA",null,null,null,800,800,800,800,240000000,240000000,240000000,240000000,960000000,1,0,0,0,0,"Bajo","Bajo",0.15073009891662742,0,0,null,null,null,0,"2021_1",800,800,0,0,0,0,0,0,0,0,0,0,0,"",null,null,null,241637000,241637000,0,0,0,null,0,0,0,0,null,null,0,0,0,"",null,null,null,null,null,{"$f":"VLOOKUP(AG219,'Anexo ODS'!$G$3:$P$86,5,0)","v":1},{"$f":"VLOOKUP(AG219,'Anexo ODS'!$G$3:$P$86,6,0)","v":"Las Personas"},{"$f":"VLOOKUP(AG219,'Anexo ODS'!$G$3:$P$86,7,0)","v":3},{"$f":"VLOOKUP(AG219,'Anexo ODS'!$G$3:$P$86,8,0)","v":"Salud y Bienestar"},{"$f":"VLOOKUP(AG219,'Anexo ODS'!$G$3:$P$86,9,0)","v":"3.d"},{"$f":"VLOOKUP(AG219,'Anexo ODS'!$G$3:$P$86,10,0)","v":"Reforzar la capacidad de todos los países, en particular los países en desarrollo, en materia de alerta temprana, reducción de riesgos y gestión de los riesgos para la salud\nnacional y mundial"},null,null,null,null,null,null,null,null,3200]
[219,4,"San Cristóbal",1,"Hacer un nuevo contrato social con igualdad de oportunidades para la inclusión social, productiva y política",20,"Bogotá, referente en cultura, deporte, recreación y actividad física, con parques para el desarrollo y la salud",null,null,null,null,219,"Capacitar 3200 personas en los campos deportivos.",1801,"San cristobal es deporte","FORMACIÓN DEPORTIVA","Suma",2,"Capacitar",3200,"Personas","en los campos deportivos","Capacitar 3200 personas en los campos deportivos.",{"$f":"VLOOKUP(AG220,'Anexo PMR'!$B$4:$G$87,6,0)","v":"2_Presupuestos Participativos 50%"},7,"Desarrollo social y cultural","Procesos de formación y dotación de insumos para los campos artísticos, interculturales, culturales, patrimoniales y deportivos.",93,"CULTURA, RECREACIÓN Y DEPORTE",7,"Eventos y actividades recreativas y deportivas.",11,"Personas capacitadas en los campos deportivos","FORMACIÓN DEPORTIVA",null,null,null,800,800,800,800,547000000,451000000,573000000,496000000,2067000000,1,0,0,0,0,"Bajo","Bajo",0.3245407442298634,0,0,null,null,null,0,"2021_1",800,800,0,0,0,0,0,0,0,0,0,0,0,"",null,null,null,550731000,550731000,0,0,0,null,0,0,0,0,null,null,0,0,0,"",null,null,null,null,null,{"$f":"VLOOKUP(AG220,'Anexo ODS'!$G$3:$P$86,5,0)","v":1},{"$f":"VLOOKUP(AG220,'Anexo ODS'!$G$3:$P$86,6,0)","v":"Las Personas"},{"$f":"VLOOKUP(AG220,'Anexo ODS'!$G$3:$P$86,7,0)","v":4},{"$f":"VLOOKUP(AG220,'Anexo ODS'!$G$3:$P$86,8,0)","v":"Educación de calidad"},{"$f":"VLOOKUP(AG220,'Anexo ODS'!$G$3:$P$86,9,0)","v":"4.7"},{"$f":"VLOOKUP(AG220,'Anexo ODS'!$G$3:$P$86,10,0)","v":"De aquí a 2030, asegurar que todos los alumnos adquieran los conocimientos teóricos y prácticos necesarios para promover el desarrollo sostenible, entre otras cosas mediante la educación para el desarrollo sostenible y los estilos de vida sostenibles, los derechos humanos, la igualdad de género, la promoción de una cultura de paz y no violencia, la ciudadanía mundial y la valoración de la diversidad cultural y la contribución de la cultura al desarrollo sostenible"},null,null,null,null,null,null,null,null,3200]
[220,4,"San Cristóbal",1,"Hacer un nuevo contrato social con igualdad de oportunidades para la inclusión social, productiva y política",20,"Bogotá, referente en cultura, deporte, recreación y actividad física, con parques para el desarrollo y la salud",null,null,null,null,220,"Vincular 8000 personas en actividades recreo-deportivas comunitarias.",1801,"San cristobal es deporte","EVENTOS","Suma",1,"Vincular",8000,"Personas","en actividades recreodeportivas comunitarias","Vincular 8000 personas en actividades recreo-deportivas comunitarias.",{"$f":"VLOOKUP(AG221,'Anexo PMR'!$B$4:$G$87,6,0)","v":"2_Presupuestos Participativos 50%"},7,"Desarrollo social y cultural","Eventos recreo-deportivos.",93,"CULTURA, RECREACIÓN Y DEPORTE",7,"Eventos y actividades recreativas y deportivas.",10,"Personas vinculadas en actividades recreo-deportivas comunitarias","ACTIVIDAD DEPORTIVA",null,null,null,2000,2000,2000,2000,835000000,836000000,836000000,835000000,3342000000,1,0,0,0,0,"Bajo","Bajo",0.52472915685350918,0,0,null,null,null,0,"2021_1",2000,2000,0,0,0,0,0,0,0,0,0,0,0,"",null,null,null,840696000,840696000,0,0,0,null,0,0,0,0,null,null,0,0,0,"",null,null,null,null,null,{"$f":"VLOOKUP(AG221,'Anexo ODS'!$G$3:$P$86,5,0)","v":1},{"$f":"VLOOKUP(AG221,'Anexo ODS'!$G$3:$P$86,6,0)","v":"Las Personas"},{"$f":"VLOOKUP(AG221,'Anexo ODS'!$G$3:$P$86,7,0)","v":3},{"$f":"VLOOKUP(AG221,'Anexo ODS'!$G$3:$P$86,8,0)","v":"Salud y Bienestar"},{"$f":"VLOOKUP(AG221,'Anexo ODS'!$G$3:$P$86,9,0)","v":"3.d"},{"$f":"VLOOKUP(AG221,'Anexo ODS'!$G$3:$P$86,10,0)","v":"Reforzar la capacidad de todos los países, en particular los países en desarrollo, en materia de alerta temprana,  reducción de riesgos y gestión de los riesgos para la salud nacional y mundial"},null,null,null,null,null,null,null,null,8000]
[221,4,"San Cristóbal",1,"Hacer un nuevo contrato social con igualdad de oportunidades para la inclusión social, productiva y política",21,"Creación y vida cotidiana: Apropiación ciudadana del arte, la cultura y el patrimonio, para la democracia cultural",null,null,null,null,221,"Capacitar 1200 personas en los campos artísticos, interculturales, culturales y/o patrimoniales.",1803,"San Cristóbal promotora del arte, la cultura y el patrimonio","FORMACIÓN","Suma",3,"Capacitar",1200,"Personas","en los campos artísticos, interculturales, culturales y/o patrimoniales","Capacitar 1200 personas en los campos artísticos, interculturales, culturales y/o patrimoniales.",{"$f":"VLOOKUP(AG222,'Anexo PMR'!$B$4:$G$87,6,0)","v":"2_Presupuestos Participativos 50%"},7,"Desarrollo social y cultural","Procesos de formación y dotación de insumos para los campos artísticos, interculturales, culturales, patrimoniales y deportivos.",93,"CULTURA, RECREACIÓN Y DEPORTE",10,"Formación artística y cultural.",15,"Personas capacitadas en los campos artísticos, interculturales, culturales y/o patrimoniales","FORMACIÓN CULTURAL",null,null,null,300,300,300,300,450000000,472000000,495000000,519000000,1936000000,1,0,0,0,0,"Bajo","Bajo",0.1994026161293645,0,0,null,null,null,0,"2021_1",300,300,0,0,0,0,0,0,0,0,0,0,0,"",null,null,null,453069000,453069000,0,0,0,null,0,0,0,0,null,null,0,0,0,"",null,null,null,null,null,{"$f":"VLOOKUP(AG222,'Anexo ODS'!$G$3:$P$86,5,0)","v":3},{"$f":"VLOOKUP(AG222,'Anexo ODS'!$G$3:$P$86,6,0)","v":"La Prosperidad"},{"$f":"VLOOKUP(AG222,'Anexo ODS'!$G$3:$P$86,7,0)","v":11},{"$f":"VLOOKUP(AG222,'Anexo ODS'!$G$3:$P$86,8,0)","v":"Ciudades y comunidades sostenibles"},{"$f":"VLOOKUP(AG222,'Anexo ODS'!$G$3:$P$86,9,0)","v":"11.4"},{"$f":"VLOOKUP(AG222,'Anexo ODS'!$G$3:$P$86,10,0)","v":"Redoblar los esfuerzos para proteger y salvaguardar el patrimonio cultural y natural del mundo"},null,null,null,null,null,null,null,null,1200]
[222,4,"San Cristóbal",1,"Hacer un nuevo contrato social con igualdad de oportunidades para la inclusión social, productiva y política",21,"Creación y vida cotidiana: Apropiación ciudadana del arte, la cultura y el patrimonio, para la democracia cultural",null,null,null,null,222,"Intervenir 3 sedes culturales con dotación y/o adecuación.",1803,"San Cristóbal promotora del arte, la cultura y el patrimonio","FORTALECIMIENTO INFRAESTRUCTURA","Suma",4,"Intervenir",3,"Sedes","cultural con dotación y/o adecuación","Intervenir 3 sedes culturales con dotación y/o adecuación.",{"$f":"VLOOKUP(AG223,'Anexo PMR'!$B$4:$G$87,6,0)","v":"2_Presupuestos Participativos 50%"},6,"Infraestructura","Dotación e infraestructura cultural.",93,"CULTURA, RECREACIÓN Y DEPORTE",11,"Infraestructura y dotación a centros artísticos y culturales.",16,"Sedes dotadas/Sedes adecuadas","SEDES CULTURALES",null,null,null,1,1,1,0,600000000,600000000,600000000,0,1800000000,1,0,0,0,0,"Bajo","Bajo",0.18539499433515294,0,0,null,null,null,0,"2021_1",1,1,0,0,0,0,0,0,0,0,0,0,0,"",null,null,null,604093000,604093000,0,0,0,null,0,0,0,0,null,null,0,0,0,"",null,null,null,null,null,{"$f":"VLOOKUP(AG223,'Anexo ODS'!$G$3:$P$86,5,0)","v":3},{"$f":"VLOOKUP(AG223,'Anexo ODS'!$G$3:$P$86,6,0)","v":"La Prosperidad"},{"$f":"VLOOKUP(AG223,'Anexo ODS'!$G$3:$P$86,7,0)","v":9},{"$f":"VLOOKUP(AG223,'Anexo ODS'!$G$3:$P$86,8,0)","v":"Industria, innovación e infraestructura"},{"$f":"VLOOKUP(AG223,'Anexo ODS'!$G$3:$P$86,9,0)","v":"9.1"},{"$f":"VLOOKUP(AG223,'Anexo ODS'!$G$3:$P$86,10,0)","v":"Desarrollar infraestructuras fiables, sostenibles, resilientes y de calidad, incluidas infraestructuras regionales y transfronterizas, para apoyar el desarrollo económico y el bienestar humano, haciendo especial hincapié en el acceso asequible y equitativo para todos"},null,null,null,null,null,null,null,null,3]
[223,4,"San Cristóbal",1,"Hacer un nuevo contrato social con igualdad de oportunidades para la inclusión social, productiva y política",21,"Creación y vida cotidiana: Apropiación ciudadana del arte, la cultura y el patrimonio, para la democracia cultural",null,null,null,null,223,"Otorgar 80 estímulos de apoyo al sector artístico y cultural.",1803,"San Cristóbal promotora del arte, la cultura y el patrimonio","ESTÍMULOS","Suma",2,"Otorgar",80,"Estímulos","de apoyo al sector artístico y cultural","Otorgar 80 estímulos de apoyo al sector artístico y cultural.",{"$f":"VLOOKUP(AG224,'Anexo PMR'!$B$4:$G$87,6,0)","v":"2_Presupuestos Participativos 50%"},7,"Desarrollo social y cultural","Iniciativas de interés cultural, artístico, patrimonial y recreo deportivas.",93,"CULTURA, RECREACIÓN Y DEPORTE",9,"Servicio de apoyo financiero para el desarrollo de prácticas artísticas y culturales en el Distrito de Bogotá.",14,"Estímulos otorgados de apoyo al sector artístico y cultural ","ESTIMULOS CULTURALES",null,null,null,20,20,20,20,869000000,870000000,870000000,870000000,3479000000,1,0,0,0,0,"Bajo","Bajo",0.3583273251622206,0,0,null,null,null,0,"2021_1",20,20,0,0,0,0,0,0,0,0,0,0,0,"",null,null,null,874928000,874928000,0,0,0,null,0,0,0,0,null,null,0,0,0,"",null,null,null,null,null,{"$f":"VLOOKUP(AG224,'Anexo ODS'!$G$3:$P$86,5,0)","v":3},{"$f":"VLOOKUP(AG224,'Anexo ODS'!$G$3:$P$86,6,0)","v":"La Prosperidad"},{"$f":"VLOOKUP(AG224,'Anexo ODS'!$G$3:$P$86,7,0)","v":11},{"$f":"VLOOKUP(AG224,'Anexo ODS'!$G$3:$P$86,8,0)","v":"Ciudades y comunidades sostenibles"},{"$f":"VLOOKUP(AG224,'Anexo ODS'!$G$3:$P$86,9,0)","v":"11.4"},{"$f":"VLOOKUP(AG224,'Anexo ODS'!$G$3:$P$86,10,0)","v":"Redoblar los esfuerzos para proteger y salvaguardar el patrimonio cultural y natural del mundo"},null,null,null,null,null,null,null,null,80]
[224,4,"San Cristóbal",1,"Hacer un nuevo contrato social con igualdad de oportunidades para la inclusión social, productiva y política",21,"Creación y vida cotidiana: Apropiación ciudadana del arte, la cultura y el patrimonio, para la democracia cultural",null,null,null,null,224,"Realizar 48 eventos de promoción de actividades culturales.",1803,"San Cristóbal promotora del arte, la cultura y el patrimonio","EVENTOS","Suma",1,"Realizar",48,"Eventos","de promoción de actividades culturales","Realizar 48 eventos de promoción de actividades culturales.",{"$f":"VLOOKUP(AG225,'Anexo PMR'!$B$4:$G$87,6,0)","v":"2_Presupuestos Participativos 50%"},7,"Desarrollo social y cultural","Circulación y apropiación de prácticas artísticas, interculturales, culturales y patrimoniales.",93,"CULTURA, RECREACIÓN Y DEPORTE",8,"Espacios artísticos y culturales.",13,"Eventos de promoción de actividades culturales realizadas","ACTIVIDAD CULTURAL",null,null,null,12,12,12,12,623000000,624000000,624000000,623000000,2494000000,1,0,0,0,0,"Bajo","Bajo",0.25687506437326191,0,0,null,null,null,0,"2021_1",12,12,0,0,0,0,0,0,0,0,0,0,0,"No mueve meta",null,null,null,627250000,627250000,0,0,0,28450000,0,0,0,28450000,3034667,3034667,0,0,0,"Se adelanta la contratación del personal que gestionará el desarrollo de la meta.",null,null,null,null,null,{"$f":"VLOOKUP(AG225,'Anexo ODS'!$G$3:$P$86,5,0)","v":3},{"$f":"VLOOKUP(AG225,'Anexo ODS'!$G$3:$P$86,6,0)","v":"La Prosperidad"},{"$f":"VLOOKUP(AG225,'Anexo ODS'!$G$3:$P$86,7,0)","v":11},{"$f":"VLOOKUP(AG225,'Anexo ODS'!$G$3:$P$86,8,0)","v":"Ciudades y comunidades sostenibles"},{"$f":"VLOOKUP(AG225,'Anexo ODS'!$G$3:$P$86,9,0)","v":"11.4"},{"$f":"VLOOKUP(AG225,'Anexo ODS'!$G$3:$P$86,10,0)","v":"Redoblar los esfuerzos para proteger y salvaguardar el patrimonio cultural y natural del mundo"},null,null,null,null,null,null,null,null,48]
[225,4,"San Cristóbal",1,"Hacer un nuevo contrato social con igualdad de oportunidades para la inclusión social, productiva y política",24,"Bogotá región emprendedora e innovadora",null,null,null,null,225,"Implementar 20 acciones de fomento para la agricultura urbana.",1813,"Espacios mas verdes en San cristobal","AGRICULTURA URBANA","Suma",1,"Implementar",20,"Acciones","de fomento para la agricultura urbana","Implementar 20 acciones de fomento para la agricultura urbana.",{"$f":"VLOOKUP(AG226,'Anexo PMR'!$B$4:$G$87,6,0)","v":"2_Presupuestos Participativos 50%"},8,"Inversiones ambientales sostenibles","Agricultura urbana.",94,"AMBIENTE",13,"Servicios de asesoría, asistencia técnica integral y dotación de infraestructura productiva para la Agricultura urbana y periurbana.",19,"Número acciones de fomento para la agricultura urbana","AGRICULTURA URBANA",null,null,null,5,5,5,5,779000000,779000000,779000000,780000000,3117000000,1,0,0,0,0,"Bajo","Bajo",0.4853628153223295,0,0,null,null,null,0,"2021_1",5,5,0,0,0,0,0,0,0,0,0,0,0,"",null,null,null,784314000,784314000,0,0,0,null,0,0,0,0,null,null,0,0,0,"",null,null,null,null,null,{"$f":"VLOOKUP(AG226,'Anexo ODS'!$G$3:$P$86,5,0)","v":4},{"$f":"VLOOKUP(AG226,'Anexo ODS'!$G$3:$P$86,6,0)","v":"El Planeta"},{"$f":"VLOOKUP(AG226,'Anexo ODS'!$G$3:$P$86,7,0)","v":12},{"$f":"VLOOKUP(AG226,'Anexo ODS'!$G$3:$P$86,8,0)","v":"Producción y consumo responsables"},{"$f":"VLOOKUP(AG226,'Anexo ODS'!$G$3:$P$86,9,0)","v":"12.2"},{"$f":"VLOOKUP(AG226,'Anexo ODS'!$G$3:$P$86,10,0)","v":"De aquí a 2030, lograr la gestión sostenible y el uso eficiente\nde los recursos naturales"},null,null,null,null,null,null,null,null,20]
[226,4,"San Cristóbal",1,"Hacer un nuevo contrato social con igualdad de oportunidades para la inclusión social, productiva y política",24,"Bogotá región emprendedora e innovadora",null,null,null,null,226,"Financiar 100 proyectos del sector cultural y creativo.",1858,"San Cristóbal creativa","FORTALECIMIENTO INDUSTRIA CULTURAL","Suma",1,"Financiar",100,"Proyectos","del sector cultural y creativo","Financiar 100 proyectos del sector cultural y creativo.",{"$f":"VLOOKUP(AG227,'Anexo PMR'!$B$4:$G$87,6,0)","v":"2_Presupuestos Participativos 50%"},7,"Desarrollo social y cultural","Apoyo y fortalecimiento a las industrias culturales y creativas en las localidades",93,"CULTURA, RECREACIÓN Y DEPORTE",9,"Servicio de apoyo financiero para el desarrollo de prácticas artísticas y culturales en el Distrito de Bogotá.",20,"Número de proyectos financiados y acompañados del sector cultural y creativo.","ACTIVIDAD CULTURAL",null,null,null,25,25,25,25,826000000,826000000,826000000,827000000,3305000000,1,0,0,0,0,"Bajo","Bajo",0.5146371846776705,0,0,null,null,null,0,"2021_1",25,25,0,0,0,0,0,0,0,0,0,0,0,"",null,null,null,831634000,831634000,0,0,0,null,0,0,0,0,null,null,0,0,0,"",null,null,null,null,null,{"$f":"VLOOKUP(AG227,'Anexo ODS'!$G$3:$P$86,5,0)","v":3},{"$f":"VLOOKUP(AG227,'Anexo ODS'!$G$3:$P$86,6,0)","v":"La Prosperidad"},{"$f":"VLOOKUP(AG227,'Anexo ODS'!$G$3:$P$86,7,0)","v":8},{"$f":"VLOOKUP(AG227,'Anexo ODS'!$G$3:$P$86,8,0)","v":"Trabajo decente y crecimiento económico"},{"$f":"VLOOKUP(AG227,'Anexo ODS'!$G$3:$P$86,9,0)","v":"8.3"},{"$f":"VLOOKUP(AG227,'Anexo ODS'!$G$3:$P$86,10,0)","v":"Promover políticas orientadas al desarrollo que apoyen las actividades productivas, la creación de puestos de trabajo decentes, el emprendimiento, la creatividad y la innovación, y fomentar la formalización y el crecimiento de las microempresas y las pequeñas y medianas empresas, incluso mediante el acceso a servicios financieros"},null,null,null,null,null,null,null,null,100]
[227,4,"San Cristóbal",2,"Cambiar nuestros hábitos de vida para reverdecer a Bogotá y adaptarnos y mitigar el cambio climático.",27,"Cambio cultural para la gestión de la crisis climática",null,null,null,null,227,"Construir 50 m2 de muros y techos verdes.",1859,"San Cristobal ambientalmente sostenible","MUROS VERDES","Suma",2,"Construir",50,"Metros cuadrados","de muros y techos verdes","Construir 50 m2 de muros y techos verdes.",{"$f":"VLOOKUP(AG228,'Anexo PMR'!$B$4:$G$87,6,0)","v":"2_Presupuestos Participativos 50%"},8,"Inversiones ambientales sostenibles","Eco-urbanismo.",94,"AMBIENTE",17,"Calidad ambiental y preservación del patrimonio natural.",39,"m2 de muros y techos verdes","INTERVENCIONES VERDES",null,null,null,50,0,0,0,136000000,0,0,0,136000000,1,0,0,0,0,"Bajo","Bajo",2.8547439126784216E-2,0,0,null,null,null,0,"2021_1",50,50,0,0,0,0,0,0,0,0,0,0,0,"No mueve meta",null,null,null,136928000,136928000,0,0,0,41709993,0,0,0,41709993,0,0,0,0,0,"Se adelanta la contratación del personal que gestionará el desarrollo de la meta.",null,null,null,null,null,{"$f":"VLOOKUP(AG228,'Anexo ODS'!$G$3:$P$86,5,0)","v":3},{"$f":"VLOOKUP(AG228,'Anexo ODS'!$G$3:$P$86,6,0)","v":"La Prosperidad"},{"$f":"VLOOKUP(AG228,'Anexo ODS'!$G$3:$P$86,7,0)","v":11},{"$f":"VLOOKUP(AG228,'Anexo ODS'!$G$3:$P$86,8,0)","v":"Ciudades y comunidades sostenibles"},{"$f":"VLOOKUP(AG228,'Anexo ODS'!$G$3:$P$86,9,0)","v":"11.3"},{"$f":"VLOOKUP(AG228,'Anexo ODS'!$G$3:$P$86,10,0)","v":"De aquí a 2030, aumentar la urbanización inclusiva y sostenible y la capacidad para la planificación y la gestión participativas, integradas y sostenibles de los asentamientos"},null,null,null,null,null,null,null,null,50]
[228,4,"San Cristóbal",2,"Cambiar nuestros hábitos de vida para reverdecer a Bogotá y adaptarnos y mitigar el cambio climático.",27,"Cambio cultural para la gestión de la crisis climática",null,null,null,null,228,"Implementar 8 PROCEDAS.",1859,"San Cristobal ambientalmente sostenible","EDUCACIÓN AMBIENTAL","Suma",1,"Implementar",8,"PROCEDAS",null,"Implementar 8 PROCEDAS.",{"$f":"VLOOKUP(AG229,'Anexo PMR'!$B$4:$G$87,6,0)","v":"2_Presupuestos Participativos 50%"},8,"Inversiones ambientales sostenibles","Educación ambiental.",94,"AMBIENTE",17,"Calidad ambiental y preservación del patrimonio natural.",38,"Número de PROCEDAS implementados ","PROCEDAS",null,null,null,2,2,2,2,848000000,848000000,848000000,848000000,3392000000,1,0,0,0,0,"Bajo","Bajo",{"$f":"AT229/SUMIF($F$197:$F$267,F229,$AT$197:$AT$267)","v":0.71200671704450047},0,0,null,null,null,0,"2021_1",2,2,0,0,0,0,0,0,0,0,0,0,0,"No mueve meta",null,null,null,780000000,780000000,0,0,0,141844666,0,0,0,141844666,860000,860000,0,0,0,"Se adelanta la contratación del personal que gestionará el desarrollo de la meta.",null,null,null,null,null,{"$f":"VLOOKUP(AG229,'Anexo ODS'!$G$3:$P$86,5,0)","v":4},{"$f":"VLOOKUP(AG229,'Anexo ODS'!$G$3:$P$86,6,0)","v":"El Planeta"},{"$f":"VLOOKUP(AG229,'Anexo ODS'!$G$3:$P$86,7,0)","v":13},{"$f":"VLOOKUP(AG229,'Anexo ODS'!$G$3:$P$86,8,0)","v":"Acción por el Clima"},{"$f":"VLOOKUP(AG229,'Anexo ODS'!$G$3:$P$86,9,0)","v":"13.3"},{"$f":"VLOOKUP(AG229,'Anexo ODS'!$G$3:$P$86,10,0)","v":"Mejorar la educación, la sensibilización y la capacidad humana e institucional respecto de la mitigación del cambio climático, la adaptación a él, la reducción de sus efectos y la alerta temprana"},null,null,null,null,null,null,null,null,8]
[229,4,"San Cristóbal",2,"Cambiar nuestros hábitos de vida para reverdecer a Bogotá y adaptarnos y mitigar el cambio climático.",27,"Cambio cultural para la gestión de la crisis climática",null,null,null,null,229,"Intervenir 4000 m2 de jardinería y coberturas verdes.",1859,"San Cristobal ambientalmente sostenible","JARDINERÍA","Suma",3,"Intervenir",4000,"Metros cuadrados","de jardinería y coberturas verdes","Intervenir 4000 m2 de jardinería y coberturas verdes.",{"$f":"VLOOKUP(AG230,'Anexo PMR'!$B$4:$G$87,6,0)","v":"2_Presupuestos Participativos 50%"},8,"Inversiones ambientales sostenibles","Eco-urbanismo.",94,"AMBIENTE",17,"Calidad ambiental y preservación del patrimonio natural.",40,"m2 de jardinería y coberturas verdes","INTERVENCIONES VERDES",null,null,null,1000,1000,1000,1000,309000000,309000000,309000000,309000000,1236000000,1,0,0,0,0,"Bajo","Bajo",0.25944584382871538,0,0,null,null,null,0,"2021_1",1000,1000,0,0,0,0,0,0,0,0,0,0,0,"",null,null,null,311108000,311108000,0,0,0,null,0,0,0,0,null,null,0,0,0,"",null,null,null,null,null,{"$f":"VLOOKUP(AG230,'Anexo ODS'!$G$3:$P$86,5,0)","v":3},{"$f":"VLOOKUP(AG230,'Anexo ODS'!$G$3:$P$86,6,0)","v":"La Prosperidad"},{"$f":"VLOOKUP(AG230,'Anexo ODS'!$G$3:$P$86,7,0)","v":11},{"$f":"VLOOKUP(AG230,'Anexo ODS'!$G$3:$P$86,8,0)","v":"Ciudades y comunidades sostenibles"},{"$f":"VLOOKUP(AG230,'Anexo ODS'!$G$3:$P$86,9,0)","v":"11.3"},{"$f":"VLOOKUP(AG230,'Anexo ODS'!$G$3:$P$86,10,0)","v":"De aquí a 2030, aumentar la urbanización inclusiva y sostenible y la capacidad para la planificación y la gestión participativas, integradas y sostenibles de los asentamientos"},null,null,null,null,null,null,null,null,4000]
[230,4,"San Cristóbal",2,"Cambiar nuestros hábitos de vida para reverdecer a Bogotá y adaptarnos y mitigar el cambio climático.",28,"Bogotá protectora de sus recursos naturales",null,null,null,null,230,"Intervenir 30 hectáreas con procesos de restauración, rehabilitación o recuperación ecológica.",1819,"San Cristobal protectora de sus recursos naturales","RESTAURACIÓN ECOLÓGICA","Suma",1,"Intervenir",30,"Hectáreas","con procesos de restauración, rehabilitación o recuperación ecológica.","Intervenir 30 hectáreas con procesos de restauración, rehabilitación o recuperación ecológica.",{"$f":"VLOOKUP(AG231,'Anexo PMR'!$B$4:$G$87,6,0)","v":"2_Presupuestos Participativos 50%"},8,"Inversiones ambientales sostenibles","Restauración ecológica urbana y/o rural.",94,"AMBIENTE",17,"Calidad ambiental y preservación del patrimonio natural.",41,"Hectáreas en restauración, rehabilitación o recuperación ecológica y mantenimiento ","INTERVENCIONES VERDES",null,null,null,7.5,7.5,7.5,7.5,835000000,835000000,836000000,836000000,3342000000,1,0,0,0,0,"Bajo","Bajo",1,0,0,null,null,null,0,"2021_1",7.5,7.5,0,0,0,0,0,0,0,0,0,0,0,"No mueve meta",null,null,null,840696000,840696000,0,0,0,80240000,0,0,0,80240000,0,0,0,0,0,"Se adelanta la contratación del personal que gestionará el desarrollo de la meta.",null,null,null,null,null,{"$f":"VLOOKUP(AG231,'Anexo ODS'!$G$3:$P$86,5,0)","v":4},{"$f":"VLOOKUP(AG231,'Anexo ODS'!$G$3:$P$86,6,0)","v":"El Planeta"},{"$f":"VLOOKUP(AG231,'Anexo ODS'!$G$3:$P$86,7,0)","v":15},{"$f":"VLOOKUP(AG231,'Anexo ODS'!$G$3:$P$86,8,0)","v":"Vida de ecosistemas terrestres"},{"$f":"VLOOKUP(AG231,'Anexo ODS'!$G$3:$P$86,9,0)","v":"15.1"},{"$f":"VLOOKUP(AG231,'Anexo ODS'!$G$3:$P$86,10,0)","v":"De aquí a 2020, asegurar la conservación, el restablecimiento y el uso sostenible de los ecosistemas terrestres y los ecosistemas interiores de agua dulce y sus servicios, en particular los bosques, los humedales, las montañas y las zonas áridas, en consonancia con las obligaciones contraídas en virtud de acuerdos\ninternacionales"},null,null,null,null,null,null,null,null,30]
[231,4,"San Cristóbal",2,"Cambiar nuestros hábitos de vida para reverdecer a Bogotá y adaptarnos y mitigar el cambio climático.",30,"Eficiencia en la atención de emergencias",null,null,null,null,231,"Desarrollar 4 intervenciones para la reducción del riesgo y adaptación al cambio climático.",1866,"San Cristóbal preparada ante emergencias","REDUCCIÓN DEL RIESGO Y ADAPTACIÓN AL CAMBIO CLIMÁTICO","Suma",2,"Desarrollar",4,"Intervenciones","para la reducción del riesgo y adaptación al cambio climático","Desarrollar 4 intervenciones para la reducción del riesgo y adaptación al cambio climático.",{"$f":"VLOOKUP(AG232,'Anexo PMR'!$B$4:$G$87,6,0)","v":"2_Presupuestos Participativos 50%"},8,"Inversiones ambientales sostenibles","Mitigación del riesgo.",94,"AMBIENTE",18,"Gestión para la prevención y mitigación del riesgo.",43,"Intervenciones para la reducción del riesgo y adaptación al cambio climático","REDUCCIÓN DEL RIESGO",null,null,null,1,1,1,1,390000000,390000000,390000000,391000000,1561000000,1,0,0,0,0,"Bajo","Bajo",0.46430696014277217,0,0,null,null,null,0,"2021_1",1,1,0,0,0,0,0,0,0,0,0,0,0,"",null,null,null,392660000,392660000,0,0,0,null,0,0,0,0,null,null,0,0,0,"",null,null,null,null,null,{"$f":"VLOOKUP(AG232,'Anexo ODS'!$G$3:$P$86,5,0)","v":4},{"$f":"VLOOKUP(AG232,'Anexo ODS'!$G$3:$P$86,6,0)","v":"El Planeta"},{"$f":"VLOOKUP(AG232,'Anexo ODS'!$G$3:$P$86,7,0)","v":13},{"$f":"VLOOKUP(AG232,'Anexo ODS'!$G$3:$P$86,8,0)","v":"Acción por el clima"},{"$f":"VLOOKUP(AG232,'Anexo ODS'!$G$3:$P$86,9,0)","v":"13.1"},{"$f":"VLOOKUP(AG232,'Anexo ODS'!$G$3:$P$86,10,0)","v":"Fortalecer la resiliencia y la capacidad de adaptación a los riesgos relacionados con el clima y los desastres naturales en todos los países"},null,null,null,null,null,null,null,null,4]
[232,4,"San Cristóbal",2,"Cambiar nuestros hábitos de vida para reverdecer a Bogotá y adaptarnos y mitigar el cambio climático.",30,"Eficiencia en la atención de emergencias",null,null,null,null,232,"Realizar 4 acciones efectivas para el fortalecimiento de las capacidades locales para la respuesta a emergencias y desastres.",1866,"San Cristóbal preparada ante emergencias","MANEJO DE EMERGENCIAS, CALAMIDADES Y DESASTRES","Suma",1,"Realizar",4,"Acciones","efectivas para el fortalecimiento de las capacidades locales para la respuesta a emergencias y desastres","Realizar 4 acciones efectivas para el fortalecimiento de las capacidades locales para la respuesta a emergencias y desastres.",{"$f":"VLOOKUP(AG233,'Anexo PMR'!$B$4:$G$87,6,0)","v":"2_Presupuestos Participativos 50%"},8,"Inversiones ambientales sostenibles","Manejo de emergencias y desastres.",94,"AMBIENTE",18,"Gestión para la prevención y mitigación del riesgo.",42,"Acciones efectivas para el fortalecimiento de las capacidades locales para la respuesta a emergencias y desastres","REDUCCIÓN DEL RIESGO",null,null,null,1,1,1,1,450000000,450000000,450000000,451000000,1801000000,1,0,0,0,0,"Bajo","Bajo",0.53569303985722783,0,0,null,null,null,0,"2021_1",1,1,0,0,0,0,0,0,0,0,0,0,0,"",null,null,null,453070000,453070000,0,0,0,null,0,0,0,0,null,null,0,0,0,"",null,null,null,null,null,{"$f":"VLOOKUP(AG233,'Anexo ODS'!$G$3:$P$86,5,0)","v":3},{"$f":"VLOOKUP(AG233,'Anexo ODS'!$G$3:$P$86,6,0)","v":"La Prosperidad"},{"$f":"VLOOKUP(AG233,'Anexo ODS'!$G$3:$P$86,7,0)","v":11},{"$f":"VLOOKUP(AG233,'Anexo ODS'!$G$3:$P$86,8,0)","v":"Ciudades y comunidades sostenibles"},{"$f":"VLOOKUP(AG233,'Anexo ODS'!$G$3:$P$86,9,0)","v":"11.5"},{"$f":"VLOOKUP(AG233,'Anexo ODS'!$G$3:$P$86,10,0)","v":"De aquí a 2030, reducir significativamente el número de muertes causadas por los desastres, incluidos los relacionados con el agua, y de personas afectadas por ellos, y reducir considerablemente las pérdidas económicas directas provocadas por los desastres en comparación con el producto interno bruto mundial, haciendo especial hincapié en la protección de los pobres y las personas en situaciones de vulnerabilidad"},null,null,null,null,null,null,null,null,4]
[233,4,"San Cristóbal",2,"Cambiar nuestros hábitos de vida para reverdecer a Bogotá y adaptarnos y mitigar el cambio climático.",33,"Más árboles y más y mejor espacio público ",null,null,null,null,233,"Construir 6000 m2 de Parques vecinales y/o de bolsillo (la construcción incluye su dotación).",1863,"San Cristóbal construye espacios para la recreación","CONSTRUCCIÓN","Suma",1,"Construir",6000,"Metros cuadrados","de parques vecinales y/o de bolsillo (la construcción incluye su dotación).","Construir 6000 m2 de Parques vecinales y/o de bolsillo (la construcción incluye su dotación).",{"$f":"VLOOKUP(AG234,'Anexo PMR'!$B$4:$G$87,6,0)","v":"2_Presupuestos Participativos 50%"},6,"Infraestructura","Construcción, mantenimiento y dotación de parques vecinales y/o de bolsillo.",93,"CULTURA, RECREACIÓN Y DEPORTE",20,"Parques y escenarios deportivos.",46,"m2 de Parques vecinales y/o de bolsillo construidos y dotados","PARQUES",null,null,null,1500,1500,1500,1500,375000000,375000000,375000000,375000000,1500000000,1,0,0,0,0,"Bajo","Bajo",0.17062905243999546,0,0,null,null,null,0,"2021_1",1500,1500,0,0,0,0,0,0,0,0,0,0,0,"",null,null,null,377558000,377558000,0,0,0,null,0,0,0,0,null,null,0,0,0,"",null,null,null,null,null,{"$f":"VLOOKUP(AG234,'Anexo ODS'!$G$3:$P$86,5,0)","v":3},{"$f":"VLOOKUP(AG234,'Anexo ODS'!$G$3:$P$86,6,0)","v":"La Prosperidad"},{"$f":"VLOOKUP(AG234,'Anexo ODS'!$G$3:$P$86,7,0)","v":11},{"$f":"VLOOKUP(AG234,'Anexo ODS'!$G$3:$P$86,8,0)","v":"Ciudades y comunidades sostenibles"},{"$f":"VLOOKUP(AG234,'Anexo ODS'!$G$3:$P$86,9,0)","v":"11.7"},{"$f":"VLOOKUP(AG234,'Anexo ODS'!$G$3:$P$86,10,0)","v":"De aquí a 2030, proporcionar acceso universal a zonas verdes y espacios públicos seguros, inclusivos y accesibles, en particular para las mujeres y los niños, las personas de edad y las personas con discapacidad"},null,null,null,null,null,null,null,null,6000]
[234,4,"San Cristóbal",2,"Cambiar nuestros hábitos de vida para reverdecer a Bogotá y adaptarnos y mitigar el cambio climático.",33,"Más árboles y más y mejor espacio público ",null,null,null,null,234,"Intervenir 20 Parques vecinales y/o de bolsillo con acciones de mejoramiento, mantenimiento y/o dotación.",1863,"San Cristóbal construye espacios para la recreación","INTERVENCIÓN","Suma",2,"Intervenir",20,"Parques","vecinales y/o de bolsillo con acciones de mejoramiento, mantenimiento y/o dotación","Intervenir 20 Parques vecinales y/o de bolsillo con acciones de mejoramiento, mantenimiento y/o dotación.",{"$f":"VLOOKUP(AG235,'Anexo PMR'!$B$4:$G$87,6,0)","v":"2_Presupuestos Participativos 50%"},6,"Infraestructura","Construcción, mantenimiento y dotación de parques vecinales y/o de bolsillo.",93,"CULTURA, RECREACIÓN Y DEPORTE",20,"Parques y escenarios deportivos.",47,"Número de Parques vecinales y/o de bolsillo intervenidos en mejoramiento, mantenimiento y/o dotación","PARQUES",null,null,null,5,5,5,5,1124000000,1125000000,1124000000,1125000000,4498000000,1,0,0,0,0,"Bajo","Bajo",0.51165965191673302,0,0,null,null,null,0,"2021_1",5,5,0,0,0,0,0,0,0,0,0,0,0,"",null,null,null,1131667000,1131667000,0,0,0,null,0,0,0,0,null,null,0,0,0,"",null,null,null,null,null,{"$f":"VLOOKUP(AG235,'Anexo ODS'!$G$3:$P$86,5,0)","v":3},{"$f":"VLOOKUP(AG235,'Anexo ODS'!$G$3:$P$86,6,0)","v":"La Prosperidad"},{"$f":"VLOOKUP(AG235,'Anexo ODS'!$G$3:$P$86,7,0)","v":11},{"$f":"VLOOKUP(AG235,'Anexo ODS'!$G$3:$P$86,8,0)","v":"Ciudades y comunidades sostenibles"},{"$f":"VLOOKUP(AG235,'Anexo ODS'!$G$3:$P$86,9,0)","v":"11.7"},{"$f":"VLOOKUP(AG235,'Anexo ODS'!$G$3:$P$86,10,0)","v":"De aquí a 2030, proporcionar acceso universal a zonas verdes y espacios públicos seguros, inclusivos y accesibles, en particular para las mujeres y los niños, las personas de edad y las personas con discapacidad"},null,null,null,null,null,null,null,null,20]
[235,4,"San Cristóbal",2,"Cambiar nuestros hábitos de vida para reverdecer a Bogotá y adaptarnos y mitigar el cambio climático.",33,"Más árboles y más y mejor espacio público ",null,null,null,null,235,"Mantener 2000 árboles urbanos y/o rurales.",1867,"Reverdecer a San Cristóbal, adaptarnos y mitigar la crisis climatica","ARBORIZACIÓN","Suma",1,"Mantener",2000,"Árboles","urbanos y/o rurales","Mantener 2000 árboles urbanos y/o rurales.",{"$f":"VLOOKUP(AG236,'Anexo PMR'!$B$4:$G$87,6,0)","v":"2_Presupuestos Participativos 50%"},8,"Inversiones ambientales sostenibles","Arbolado urbano y/o rural.",94,"AMBIENTE",19,"Plantación y mantenimiento de árboles, jardines y especies vegetales. ",44,"Número de árboles mantenidos","ARBOLADO",null,null,null,500,500,500,500,349000000,349000000,349000000,350000000,1397000000,1,0,0,0,0,"Bajo","Bajo",0.15891252417244908,0,0,null,null,null,0,"2021_1",500,500,0,0,0,0,0,0,0,0,0,0,0,"No mueve meta",null,null,null,351381000,351381000,0,0,0,25000000,0,0,0,25000000,0,0,0,0,0,"Se adelanta la contratación del personal que gestionará el desarrollo de la meta.",null,null,null,null,null,{"$f":"VLOOKUP(AG236,'Anexo ODS'!$G$3:$P$86,5,0)","v":4},{"$f":"VLOOKUP(AG236,'Anexo ODS'!$G$3:$P$86,6,0)","v":"El Planeta"},{"$f":"VLOOKUP(AG236,'Anexo ODS'!$G$3:$P$86,7,0)","v":15},{"$f":"VLOOKUP(AG236,'Anexo ODS'!$G$3:$P$86,8,0)","v":"Vida de ecosistemas terrestres"},{"$f":"VLOOKUP(AG236,'Anexo ODS'!$G$3:$P$86,9,0)","v":"15.1"},{"$f":"VLOOKUP(AG236,'Anexo ODS'!$G$3:$P$86,10,0)","v":"De aquí a 2020, asegurar la conservación, el restablecimiento y el uso sostenible de los ecosistemas terrestres y los ecosistemas interiores de agua dulce y sus servicios, en particular los bosques, los humedales, las montañas y las zonas áridas, en consonancia con las obligaciones contraídas en virtud de acuerdos internacionales"},null,null,null,null,null,null,null,null,2000]
[236,4,"San Cristóbal",2,"Cambiar nuestros hábitos de vida para reverdecer a Bogotá y adaptarnos y mitigar el cambio climático.",33,"Más árboles y más y mejor espacio público ",null,null,null,null,236,"Plantar 2000 árboles urbanos y/o rurales.",1867,"Reverdecer a San Cristóbal, adaptarnos y mitigar la crisis climatica","ARBORIZACIÓN","Suma",2,"Plantar",2000,"Árboles","urbanos y/o rurales","Plantar 2000 árboles urbanos y/o rurales.",{"$f":"VLOOKUP(AG237,'Anexo PMR'!$B$4:$G$87,6,0)","v":"2_Presupuestos Participativos 50%"},8,"Inversiones ambientales sostenibles","Arbolado urbano y/o rural.",94,"AMBIENTE",19,"Plantación y mantenimiento de árboles, jardines y especies vegetales. ",45,"Número de árboles plantados","ARBOLADO",null,null,null,500,500,500,500,349000000,349000000,349000000,349000000,1396000000,1,0,0,0,0,"Bajo","Bajo",0.15879877147082244,0,0,null,null,null,0,"2021_1",500,500,0,0,0,0,0,0,0,0,0,0,0,"",null,null,null,351381000,351381000,0,0,0,null,0,0,0,0,null,null,0,0,0,"",null,null,null,null,null,{"$f":"VLOOKUP(AG237,'Anexo ODS'!$G$3:$P$86,5,0)","v":4},{"$f":"VLOOKUP(AG237,'Anexo ODS'!$G$3:$P$86,6,0)","v":"El Planeta"},{"$f":"VLOOKUP(AG237,'Anexo ODS'!$G$3:$P$86,7,0)","v":15},{"$f":"VLOOKUP(AG237,'Anexo ODS'!$G$3:$P$86,8,0)","v":"Vida de ecosistemas terrestres"},{"$f":"VLOOKUP(AG237,'Anexo ODS'!$G$3:$P$86,9,0)","v":"15.1"},{"$f":"VLOOKUP(AG237,'Anexo ODS'!$G$3:$P$86,10,0)","v":"De aquí a 2020, asegurar la conservación, el restablecimiento y el uso sostenible de los ecosistemas terrestres y los ecosistemas interiores de agua dulce y sus servicios, en particular los bosques, los humedales, las montañas y las zonas áridas, en consonancia con las obligaciones contraídas en virtud de acuerdos internacionales"},null,null,null,null,null,null,null,null,2000]
[237,4,"San Cristóbal",2,"Cambiar nuestros hábitos de vida para reverdecer a Bogotá y adaptarnos y mitigar el cambio climático.",34,"Bogotá protectora de los animales",null,null,null,null,237,"Atender 12000 animales en urgencias, brigadas médico veterinarias, acciones de esterilización, educación y adopción.",1826,"San Cristóbal proteje todas las formas de vida","BIENESTAR ANIMAL","Suma",1,"Atender",12000,"Animales","en urgencias, brigadas médicoveterinarias, acciones de esterilización, educación y adopción.","Atender 12000 animales en urgencias, brigadas médico veterinarias, acciones de esterilización, educación y adopción.",{"$f":"VLOOKUP(AG238,'Anexo PMR'!$B$4:$G$87,6,0)","v":"2_Presupuestos Participativos 50%"},8,"Inversiones ambientales sostenibles","Acuerdos con las redes locales de proteccionistas de animales para urgencias, brigadas médico veterinarias, acciones de esterilización, educación y adopción",94,"AMBIENTE",21,"Servicios de protección y bienestar animal.",48,"Número de animales atendidos","PROTECCIÓN ANIMAL",null,null,null,3000,3000,3000,3000,1025000000,1026000000,1026000000,1026000000,4103000000,1,0,0,0,0,"Bajo","Bajo",1,0,0,null,null,null,0,"2021_1",3000,3000,0,0,0,0,0,0,0,0,0,0,0,"",null,null,null,1008024000,1008024000,0,0,0,null,0,0,0,0,null,null,0,0,0,"",null,null,null,null,null,{"$f":"VLOOKUP(AG238,'Anexo ODS'!$G$3:$P$86,5,0)","v":3},{"$f":"VLOOKUP(AG238,'Anexo ODS'!$G$3:$P$86,6,0)","v":"La Prosperidad"},{"$f":"VLOOKUP(AG238,'Anexo ODS'!$G$3:$P$86,7,0)","v":11},{"$f":"VLOOKUP(AG238,'Anexo ODS'!$G$3:$P$86,8,0)","v":"Ciudades y comunidades sostenibles"},{"$f":"VLOOKUP(AG238,'Anexo ODS'!$G$3:$P$86,9,0)","v":"11.3"},{"$f":"VLOOKUP(AG238,'Anexo ODS'!$G$3:$P$86,10,0)","v":"De aquí a 2030, aumentar la urbanización inclusiva y sostenible y la capacidad para la planificación y la gestión participativas, integradas y sostenibles de los asentamientos\nhumanos en todos los países"},null,null,null,null,null,null,null,null,12000]
[238,4,"San Cristóbal",2,"Cambiar nuestros hábitos de vida para reverdecer a Bogotá y adaptarnos y mitigar el cambio climático.",38,"Ecoeficiencia, reciclaje, manejo de residuos e inclusión de la población recicladora",null,null,null,null,238,"Capacitar 4500 personas en separación en la fuente y reciclaje.",1868,"San Cristóbal formenta la separación, transformación y aprovechamiento de sus residuos","HÁBITOS DE CONSUMO","Suma",1,"Capacitar",4500,"Personas","en separación en la fuente y reciclaje.","Capacitar 4500 personas en separación en la fuente y reciclaje.",{"$f":"VLOOKUP(AG239,'Anexo PMR'!$B$4:$G$87,6,0)","v":"2_Presupuestos Participativos 50%"},8,"Inversiones ambientales sostenibles","Cambios de hábitos de consumo, separación en la fuente y reciclaje.",96,"HÁBITAT",23,"Manejo integral de residuos sólidos. ",50,"Personas capacitadas en separación en la fuente y reciclaje","RECICLAJE",null,null,null,1125,1125,1125,1125,1050000000,1050000000,1051000000,1051000000,4202000000,1,0,0,0,0,"Bajo","Bajo",1,0,0,null,null,null,0,"2021_1",1125,1125,0,0,0,0,0,0,0,0,0,0,0,"",null,null,null,1032761000,1032761000,0,0,0,191870334,0,0,0,191870334,7043333,7043333,0,0,0,"Se adelanta la contratación del personal que gestionará el desarrollo de la meta.",null,null,null,null,null,{"$f":"VLOOKUP(AG239,'Anexo ODS'!$G$3:$P$86,5,0)","v":4},{"$f":"VLOOKUP(AG239,'Anexo ODS'!$G$3:$P$86,6,0)","v":"El Planeta"},{"$f":"VLOOKUP(AG239,'Anexo ODS'!$G$3:$P$86,7,0)","v":12},{"$f":"VLOOKUP(AG239,'Anexo ODS'!$G$3:$P$86,8,0)","v":"Producción y consumo responsables"},{"$f":"VLOOKUP(AG239,'Anexo ODS'!$G$3:$P$86,9,0)","v":"12.5"},{"$f":"VLOOKUP(AG239,'Anexo ODS'!$G$3:$P$86,10,0)","v":"De aquí a 2030, reducir considerablemente la generación de desechos mediante actividades de prevención, reducción, reciclado y reutilización"},null,null,null,null,null,null,null,null,4500]
[239,4,"San Cristóbal",3,"Inspirar confianza y legitimidad para vivir sin miedo y ser epicentro de cultura ciudadana, paz y reconciliación.",39,"Bogotá territorio de paz y atención integral a las víctimas del conflicto armado",null,null,null,null,239,"Vincular 2000 personas a procesos de construcción de memoria, verdad, reparación integral a víctimas, paz y reconciliación.",1869,"San Cristóbal territorio de paz y reconciliación","ENERGÍAS ALTERNATIVAS","Suma",1,"Vincular",2000,"Personas","a procesos de construcción de memoria, verdad, reparación integral a víctimas, paz y reconciliación.","Vincular 2000 personas a procesos de construcción de memoria, verdad, reparación integral a víctimas, paz y reconciliación.",{"$f":"VLOOKUP(AG240,'Anexo PMR'!$B$4:$G$87,6,0)","v":"2_Presupuestos Participativos 50%"},7,"Desarrollo social y cultural","Construcción de memoria, verdad, reparación, víctimas, paz y reconciliación.",85,"GESTIÓN PÚBLICA",25,"Servicio de apoyo y fortalecimiento a los procesos de construcción de memoria, verdad, reparación integral a víctimas, paz y reconciliación.",52,"Personas vinculadas a procesos de construcción de memoria, verdad, reparación integral a víctimas, paz y reconciliación","PAZ, MEMORIA Y RECONCILIACIÓN",null,null,null,500,500,500,500,660000000,660000000,660000000,659000000,2639000000,1,0,0,0,0,"Bajo","Bajo",1,0,0,null,null,null,0,"2021_1",500,500,0,0,0,0,0,0,0,0,0,0,0,"No mueve meta",null,null,null,643157000,643157000,0,0,0,25000000,0,0,0,25000000,0,0,0,0,0,"Se adelanta la contratación del personal que gestionará el desarrollo de la meta.",null,null,null,null,null,{"$f":"VLOOKUP(AG240,'Anexo ODS'!$G$3:$P$86,5,0)","v":2},{"$f":"VLOOKUP(AG240,'Anexo ODS'!$G$3:$P$86,6,0)","v":"La Paz"},{"$f":"VLOOKUP(AG240,'Anexo ODS'!$G$3:$P$86,7,0)","v":16},{"$f":"VLOOKUP(AG240,'Anexo ODS'!$G$3:$P$86,8,0)","v":"Paz, justicia e instituciones sólidas"},{"$f":"VLOOKUP(AG240,'Anexo ODS'!$G$3:$P$86,9,0)","v":"16.3"},{"$f":"VLOOKUP(AG240,'Anexo ODS'!$G$3:$P$86,10,0)","v":"Promover el estado de derecho en los planos nacional e internacional y garantizar la igualdad en el acceso a la justicia para todos"},null,null,null,null,null,null,null,null,2000]
[240,4,"San Cristóbal",3,"Inspirar confianza y legitimidad para vivir sin miedo y ser epicentro de cultura ciudadana, paz y reconciliación.",40,"Más mujeres viven una vida libre de violencias, se sienten seguras y acceden con confianza al sistema de justicia",null,null,null,null,240,"Capacitar 3000 personas para la construcción de ciudadanía y desarrollo de capacidades para el ejercicio de derechos de las mujeres.",1870,"Mujeres empoderadas en San cristobal","DESARROLLO DE CAPACIDADES","Suma",1,"Capacitar",3000,"Personas","para la construcción de ciudadanía y desarrollo de capacidades para el ejercicio de derechos de las mujeres","Capacitar 3000 personas para la construcción de ciudadanía y desarrollo de capacidades para el ejercicio de derechos de las mujeres.",{"$f":"VLOOKUP(AG241,'Anexo PMR'!$B$4:$G$87,6,0)","v":"2_Presupuestos Participativos 50%"},7,"Desarrollo social y cultural","Construcción de ciudadanía y desarrollo de capacidades para el ejercicio de derechos de las mujeres.",100,"MUJERES",26,"Servicios de promoción y capacitación para la construcción de ciudadanía y desarrollo de capacidades para el ejercicio de derechos de las mujeres.",53,"Personas capacitadas para la construcción de ciudadanía y desarrollo de capacidades para el ejercicio de derechos de las mujeres.","DERECHOS DE LA MUJER",null,null,null,750,750,750,750,449000000,449000000,449000000,449000000,1796000000,1,0,0,0,0,"Bajo","Bajo",0.3780256788044622,0,0,null,null,null,0,"2021_1",750,750,0,0,0,0,0,0,0,0,0,0,0,"No mueve meta",null,null,null,452063000,452063000,0,0,0,58000000,0,0,0,58000000,0,0,0,0,0,"Se adelanta la contratación del personal que gestionará el desarrollo de la meta.",null,null,null,null,null,{"$f":"VLOOKUP(AG241,'Anexo ODS'!$G$3:$P$86,5,0)","v":1},{"$f":"VLOOKUP(AG241,'Anexo ODS'!$G$3:$P$86,6,0)","v":"Las Personas"},{"$f":"VLOOKUP(AG241,'Anexo ODS'!$G$3:$P$86,7,0)","v":5},{"$f":"VLOOKUP(AG241,'Anexo ODS'!$G$3:$P$86,8,0)","v":"Igualdad de género"},{"$f":"VLOOKUP(AG241,'Anexo ODS'!$G$3:$P$86,9,0)","v":"5.c"},{"$f":"VLOOKUP(AG241,'Anexo ODS'!$G$3:$P$86,10,0)","v":"Aprobar y fortalecer políticas acertadas y leyes aplicables para promover la igualdad de género y el empoderamiento de todas las mujeres y las niñas a todos los niveles"},null,null,null,null,null,null,null,null,3000]
[241,4,"San Cristóbal",3,"Inspirar confianza y legitimidad para vivir sin miedo y ser epicentro de cultura ciudadana, paz y reconciliación.",40,"Más mujeres viven una vida libre de violencias, se sienten seguras y acceden con confianza al sistema de justicia",null,null,null,null,241,"Vincular 4300 personas en acciones para la prevención del feminicidio y la violencia contra la mujer.",1870,"Mujeres empoderadas en San cristobal","PREVENCIÓN","Suma",2,"Vincular",4300,"Personas","en acciones para la prevención del feminicidio y la violencia contra la  mujer.","Vincular 4300 personas en acciones para la prevención del feminicidio y la violencia contra la mujer.",{"$f":"VLOOKUP(AG242,'Anexo PMR'!$B$4:$G$87,6,0)","v":"2_Presupuestos Participativos 50%"},7,"Desarrollo social y cultural","Prevención del feminicidio y la violencia contra la mujer.",100,"MUJERES",27,"Prevención, atención y gestión del conflicto en la localidad.",54,"Número de Personas vinculadas en acciones para la prevención del feminicidio y la violencia contra la mujer","PREVENCIÓN DE LA VIOLENCIA",null,null,null,1075,1075,1075,1075,738000000,739000000,739000000,739000000,2955000000,1,0,0,0,0,"Bajo","Bajo",0.62197432119553775,0,0,null,null,null,0,"2021_1",1075,1075,0,0,0,0,0,0,0,0,0,0,0,"",null,null,null,686446000,686446000,0,0,0,null,0,0,0,0,null,null,0,0,0,"",null,null,null,null,null,{"$f":"VLOOKUP(AG242,'Anexo ODS'!$G$3:$P$86,5,0)","v":1},{"$f":"VLOOKUP(AG242,'Anexo ODS'!$G$3:$P$86,6,0)","v":"Las Personas"},{"$f":"VLOOKUP(AG242,'Anexo ODS'!$G$3:$P$86,7,0)","v":5},{"$f":"VLOOKUP(AG242,'Anexo ODS'!$G$3:$P$86,8,0)","v":"Igualdad de género"},{"$f":"VLOOKUP(AG242,'Anexo ODS'!$G$3:$P$86,9,0)","v":"5.2"},{"$f":"VLOOKUP(AG242,'Anexo ODS'!$G$3:$P$86,10,0)","v":"Eliminar todas las formas de violencia contra todas las mujeres y las niñas en los ámbitos público y privado, incluidas la trata y la explotación sexual y otros tipos de explotación"},null,null,null,null,null,null,null,null,4300]
[242,4,"San Cristóbal",3,"Inspirar confianza y legitimidad para vivir sin miedo y ser epicentro de cultura ciudadana, paz y reconciliación.",43,"Cultura ciudadana para la confianza, la convivencia y la participación desde la vida cotidiana",null,null,null,null,242,"Formar 1000 personas en la escuela de seguridad.",1824,"San Cristóbal construye confianza y convivencia","ESCUELA DE SEGURIDAD","Suma",2,"Formar",1000,"Personas","en la escuela de seguridad","Formar 1000 personas en la escuela de seguridad.",{"$f":"VLOOKUP(AG243,'Anexo PMR'!$B$4:$G$87,6,0)","v":"2_Presupuestos Participativos 50%"},7,"Desarrollo social y cultural","Promoción de la convivencia ciudadana.",102,"SEGURIDAD, CONVIVENCIA Y JUSTICIA",27,"Prevención, atención y gestión del conflicto en la localidad.",56,"Número de personas formadas en la escuela de seguridad","ACCIONES DE CONVIVENCIA",null,null,null,500,500,0,0,200000000,200000000,0,0,400000000,1,0,0,0,0,"Bajo","Bajo",0.11855364552459988,0,0,null,null,null,0,"2021_1",500,500,0,0,0,0,0,0,0,0,0,0,0,"",null,null,null,201364000,201364000,0,0,0,null,0,0,0,0,null,null,0,0,0,"",null,null,null,null,null,{"$f":"VLOOKUP(AG243,'Anexo ODS'!$G$3:$P$86,5,0)","v":2},{"$f":"VLOOKUP(AG243,'Anexo ODS'!$G$3:$P$86,6,0)","v":"La Paz"},{"$f":"VLOOKUP(AG243,'Anexo ODS'!$G$3:$P$86,7,0)","v":16},{"$f":"VLOOKUP(AG243,'Anexo ODS'!$G$3:$P$86,8,0)","v":"Paz, justicia e instituciones sólidas"},{"$f":"VLOOKUP(AG243,'Anexo ODS'!$G$3:$P$86,9,0)","v":"16.1"},{"$f":"VLOOKUP(AG243,'Anexo ODS'!$G$3:$P$86,10,0)","v":"Reducir significativamente todas las formas de violencia y las correspondientes tasas de mortalidad en todo el mundo"},null,null,null,null,null,null,null,null,1000]
[243,4,"San Cristóbal",3,"Inspirar confianza y legitimidad para vivir sin miedo y ser epicentro de cultura ciudadana, paz y reconciliación.",43,"Cultura ciudadana para la confianza, la convivencia y la participación desde la vida cotidiana",null,null,null,null,243,"Implementar 4 estrategias de atención de movilizaciones y aglomeraciones en el territorio a través de equipos de gestores de convivencia bajo el direccionamiento estratégico de la Secretaria de Seguridad, Convivencia y Justicia.",1824,"San Cristóbal construye confianza y convivencia","GESTORES DE CONVIVENCIA","Suma",1,"Implementar",4,"Estrategias","de atención de movilizaciones y aglomeraciones en el territorio a través de equipos de gestores de convivencia bajo el direccionamiento estratégico de la Secretaria de Seguridad, Convivencia y Justicia.","Implementar 4 estrategias de atención de movilizaciones y aglomeraciones en el territorio a través de equipos de gestores de convivencia bajo el direccionamiento estratégico de la Secretaria de Seguridad, Convivencia y Justicia.",{"$f":"VLOOKUP(AG244,'Anexo PMR'!$B$4:$G$87,6,0)","v":"2_Presupuestos Participativos 50%"},7,"Desarrollo social y cultural","Promoción de la convivencia ciudadana.",102,"SEGURIDAD, CONVIVENCIA Y JUSTICIA",27,"Prevención, atención y gestión del conflicto en la localidad.",55,"Estrategia de atención de movilizaciones y aglomeraciones en el territorio implementada a traves de equipos de gestores de convivencia bajo el direccionamiento estrategico de la Secretaria de Seguridad, Convivencia y Justicia","ACCIONES DE CONVIVENCIA",null,null,null,1,1,1,1,644000000,644000000,643000000,643000000,2574000000,1,1,0.25,1,0.25,"Bajo","Bajo",0.76289270895080019,0.19072317723770005,0.19072317723770005,null,null,null,0,"2021_1",1,1,0,0,0,1,0,0,0,1,0,0,0,"Incompleto",null,null,null,648393000,648393000,0,0,0,185500000,0,0,0,185500000,11666668,11666668,0,0,0,"Los valores registrados corresponden a la vinculación de los gestores de convivencia.",null,null,null,null,null,{"$f":"VLOOKUP(AG244,'Anexo ODS'!$G$3:$P$86,5,0)","v":2},{"$f":"VLOOKUP(AG244,'Anexo ODS'!$G$3:$P$86,6,0)","v":"La Paz"},{"$f":"VLOOKUP(AG244,'Anexo ODS'!$G$3:$P$86,7,0)","v":16},{"$f":"VLOOKUP(AG244,'Anexo ODS'!$G$3:$P$86,8,0)","v":"Paz, justicia e instituciones sólidas"},{"$f":"VLOOKUP(AG244,'Anexo ODS'!$G$3:$P$86,9,0)","v":"16.1"},{"$f":"VLOOKUP(AG244,'Anexo ODS'!$G$3:$P$86,10,0)","v":"Reducir significativamente todas las formas de violencia y las correspondientes tasas de mortalidad en todo el mundo"},null,null,null,null,null,null,null,null,4]
[244,4,"San Cristóbal",3,"Inspirar confianza y legitimidad para vivir sin miedo y ser epicentro de cultura ciudadana, paz y reconciliación.",43,"Cultura ciudadana para la confianza, la convivencia y la participación desde la vida cotidiana",null,null,null,null,244,"Incluir 1000 personas en actividades de educación para la resiliencia y la prevención de hechos delictivos.",1824,"San Cristóbal construye confianza y convivencia","PREVENCIÓN","Suma",3,"Incluir",1000,"Personas","en actividades de educación para la resiliencia y la prevención de hechos delictivos.","Incluir 1000 personas en actividades de educación para la resiliencia y la prevención de hechos delictivos.",{"$f":"VLOOKUP(AG245,'Anexo PMR'!$B$4:$G$87,6,0)","v":"2_Presupuestos Participativos 50%"},7,"Desarrollo social y cultural","Promoción de la convivencia ciudadana.",102,"SEGURIDAD, CONVIVENCIA Y JUSTICIA",27,"Prevención, atención y gestión del conflicto en la localidad.",57,"Personas incluidas en actividades de educación para la resiliencia y la prevención de hechos delictivos. ","ACCIONES DE CONVIVENCIA",null,null,null,0,0,500,500,0,0,200000000,200000000,400000000,1,0,0,0,0,"Bajo","Bajo",0.11855364552459988,0,0,null,null,null,0,"2021_1",0,0,0,0,0,0,0,0,0,0,0,0,0,"",null,null,null,0,0,0,0,0,null,0,0,0,0,null,null,0,0,0,"",null,null,null,null,null,{"$f":"VLOOKUP(AG245,'Anexo ODS'!$G$3:$P$86,5,0)","v":2},{"$f":"VLOOKUP(AG245,'Anexo ODS'!$G$3:$P$86,6,0)","v":"La Paz"},{"$f":"VLOOKUP(AG245,'Anexo ODS'!$G$3:$P$86,7,0)","v":16},{"$f":"VLOOKUP(AG245,'Anexo ODS'!$G$3:$P$86,8,0)","v":"Paz, justicia e instituciones sólidas"},{"$f":"VLOOKUP(AG245,'Anexo ODS'!$G$3:$P$86,9,0)","v":"16.1"},{"$f":"VLOOKUP(AG245,'Anexo ODS'!$G$3:$P$86,10,0)","v":"Reducir significativamente todas las formas de violencia y las correspondientes tasas de mortalidad en todo el mundo"},null,null,null,null,null,null,null,null,1000]
[245,4,"San Cristóbal",3,"Inspirar confianza y legitimidad para vivir sin miedo y ser epicentro de cultura ciudadana, paz y reconciliación.",45,"Espacio público más seguro y construido colectivamente",null,null,null,null,245,"Realizar 3 acuerdos para la promover la formalización de vendedores informales a círculos económicos productivos de la ciudad.",1835,"Por un buen uso en el espacio publico en San Cristóbal","ACUERDOS CIUDADANOS","Suma",2,"Realizar",3,"Acuerdos","para la promover la formalización de vendedores informales a círculos económicos productivos de la ciudad.","Realizar 3 acuerdos para la promover la formalización de vendedores informales a círculos económicos productivos de la ciudad.",{"$f":"VLOOKUP(AG246,'Anexo PMR'!$B$4:$G$87,6,0)","v":"2_Presupuestos Participativos 50%"},7,"Desarrollo social y cultural","Acuerdos para fortalecer la formalidad.",98,"GOBIERNO",28,"Acuerdos ciudadanos suscritos.",59,"Acuerdos realizados para la promover la formalización de vendedores informales a circulos económicos productivos de la ciudad","\nACUERDOS DE ESPACIO PÚBLICO",null,null,null,0,1,1,1,0,245000000,245000000,246000000,736000000,1,0,0,0,0,"Bajo","Bajo",0.3087248322147651,0,0,null,null,null,0,"2021_1",0,0,0,0,0,0,0,0,0,0,0,0,0,"",null,null,null,0,0,0,0,0,null,0,0,0,0,null,null,0,0,0,"",null,null,null,null,null,{"$f":"VLOOKUP(AG246,'Anexo ODS'!$G$3:$P$86,5,0)","v":2},{"$f":"VLOOKUP(AG246,'Anexo ODS'!$G$3:$P$86,6,0)","v":"La Paz"},{"$f":"VLOOKUP(AG246,'Anexo ODS'!$G$3:$P$86,7,0)","v":16},{"$f":"VLOOKUP(AG246,'Anexo ODS'!$G$3:$P$86,8,0)","v":"Paz, justicia e instituciones sólidas"},{"$f":"VLOOKUP(AG246,'Anexo ODS'!$G$3:$P$86,9,0)","v":"16.1"},{"$f":"VLOOKUP(AG246,'Anexo ODS'!$G$3:$P$86,10,0)","v":"Reducir significativamente todas las formas de violencia y las correspondientes tasas de mortalidad en todo el mundo"},null,null,null,null,null,null,null,null,3]
[246,4,"San Cristóbal",3,"Inspirar confianza y legitimidad para vivir sin miedo y ser epicentro de cultura ciudadana, paz y reconciliación.",45,"Espacio público más seguro y construido colectivamente",null,null,null,null,246,"Realizar 8 acuerdos para el uso del EP con fines culturales, deportivos, recreacionales o de mercados temporales.",1835,"Por un buen uso en el espacio publico en San Cristóbal","ACUERDOS CIUDADANOS","Suma",1,"Realizar",8,"Acuerdos","para el uso del EP con fines culturales, deportivos, recreacionales o de mercados temporales.","Realizar 8 acuerdos para el uso del EP con fines culturales, deportivos, recreacionales o de mercados temporales.",{"$f":"VLOOKUP(AG247,'Anexo PMR'!$B$4:$G$87,6,0)","v":"2_Presupuestos Participativos 50%"},7,"Desarrollo social y cultural","Acuerdos para el uso, acceso y aprovechamiento del espacio público.",98,"GOBIERNO",28,"Acuerdos ciudadanos suscritos.",58,"Acuerdos realizados para el uso del EP con fines culturales, deportivos, recreacionales o de mercados temporales.","\nACUERDOS DE ESPACIO PÚBLICO",null,null,null,2,2,2,2,206000000,206000000,206000000,206000000,824000000,1,2,0.25,2,0.25,"Bajo","Bajo",0.34563758389261745,8.6409395973154363E-2,8.6409395973154363E-2,null,null,null,0,"2021_1",2,2,0,0,0,2,0,0,0,2,0,0,0,"Incompleto",null,null,null,207405000,207405000,0,0,0,43500000,0,0,0,43500000,0,0,0,0,0,"Se adelanta la contratación del personal que gestionará la firma del acuerdo propuesto para el desarrollo de la meta.",null,null,null,null,null,{"$f":"VLOOKUP(AG247,'Anexo ODS'!$G$3:$P$86,5,0)","v":2},{"$f":"VLOOKUP(AG247,'Anexo ODS'!$G$3:$P$86,6,0)","v":"La Paz"},{"$f":"VLOOKUP(AG247,'Anexo ODS'!$G$3:$P$86,7,0)","v":16},{"$f":"VLOOKUP(AG247,'Anexo ODS'!$G$3:$P$86,8,0)","v":"Paz, justicia e instituciones sólidas"},{"$f":"VLOOKUP(AG247,'Anexo ODS'!$G$3:$P$86,9,0)","v":"16.1"},{"$f":"VLOOKUP(AG247,'Anexo ODS'!$G$3:$P$86,10,0)","v":"Reducir significativamente todas las formas de violencia y las correspondientes tasas de mortalidad en todo el mundo"},null,null,null,null,null,null,null,null,8]
[247,4,"San Cristóbal",3,"Inspirar confianza y legitimidad para vivir sin miedo y ser epicentro de cultura ciudadana, paz y reconciliación.",45,"Espacio público más seguro y construido colectivamente",null,null,null,null,247,"Realizar 8 acuerdos para la vinculación de la ciudadanía en los programas adelantados por el IDRD y acuerdos con vendedores informales o estacionarios",1835,"Por un buen uso en el espacio publico en San Cristóbal","ACUERDOS CIUDADANOS","Suma",3,"Realizar",8,"Acuerdos","para la vinculación de la ciudadanía en los programas adelantados por el IDRD y acuerdos con vendedores informales o estacionarios","Realizar 8 acuerdos para la vinculación de la ciudadanía en los programas adelantados por el IDRD y acuerdos con vendedores informales o estacionarios",{"$f":"VLOOKUP(AG248,'Anexo PMR'!$B$4:$G$87,6,0)","v":"2_Presupuestos Participativos 50%"},7,"Desarrollo social y cultural","Acuerdos para mejorar el uso de medios de transporte no motorizados.",98,"GOBIERNO",28,"Acuerdos ciudadanos suscritos.",58,"Acuerdos realizados para el uso del EP con fines culturales, deportivos, recreacionales o de mercados temporales.","\nACUERDOS DE ESPACIO PÚBLICO",null,null,null,2,2,2,2,206000000,206000000,206000000,206000000,824000000,1,0,0,0,0,"Bajo","Bajo",0.34563758389261745,0,0,null,null,null,0,"2021_1",2,2,0,0,0,0,0,0,0,0,0,0,0,"",null,null,null,207405000,207405000,0,0,0,null,0,0,0,0,null,null,0,0,0,"",null,null,null,null,null,{"$f":"VLOOKUP(AG248,'Anexo ODS'!$G$3:$P$86,5,0)","v":2},{"$f":"VLOOKUP(AG248,'Anexo ODS'!$G$3:$P$86,6,0)","v":"La Paz"},{"$f":"VLOOKUP(AG248,'Anexo ODS'!$G$3:$P$86,7,0)","v":16},{"$f":"VLOOKUP(AG248,'Anexo ODS'!$G$3:$P$86,8,0)","v":"Paz, justicia e instituciones sólidas"},{"$f":"VLOOKUP(AG248,'Anexo ODS'!$G$3:$P$86,9,0)","v":"16.1"},{"$f":"VLOOKUP(AG248,'Anexo ODS'!$G$3:$P$86,10,0)","v":"Reducir significativamente todas las formas de violencia y las correspondientes tasas de mortalidad en todo el mundo"},null,null,null,null,null,null,null,null,8]
[248,4,"San Cristóbal",3,"Inspirar confianza y legitimidad para vivir sin miedo y ser epicentro de cultura ciudadana, paz y reconciliación.",48,"Plataforma institucional para la seguridad y justicia",null,null,null,null,248,"Beneficiar 1500 personas a través de estrategias para el fortalecimiento de los mecanismos de justicia comunitaria.",1844,"San Cristóbal cuida a San Cristóbal","JUSTICIA COMUNITARIA","Suma",1,"Beneficiar",1500,"Personas","a través de estrategias para el fortalecimiento de los mecanismos de justicia comunitaria.","Beneficiar 1500 personas a través de estrategias para el fortalecimiento de los mecanismos de justicia comunitaria.",{"$f":"VLOOKUP(AG249,'Anexo PMR'!$B$4:$G$87,6,0)","v":"2_Presupuestos Participativos 50%"},7,"Desarrollo social y cultural","Acceso a la Justicia.",102,"SEGURIDAD, CONVIVENCIA Y JUSTICIA",29,"Bienes y  servicios de apoyo para el fortalecimiento de la justicia comunitaria y la justicia integral en la ciudad.",61,"Beneficiarios de las estrategias para el fortalecimiento  de los mecanismos  de justicia comunitaria.","ACCESO A LA JUSTICIA",null,null,null,375,375,375,375,430000000,430000000,430000000,430000000,1720000000,1,0,0,0,0,"Bajo","Bajo",0.32836960672012216,0,0,null,null,null,0,"2021_1",375,375,0,0,0,0,0,0,0,0,0,0,0,"",null,null,null,432933000,432933000,0,0,0,null,0,0,0,0,null,null,0,0,0,"",null,null,null,null,null,{"$f":"VLOOKUP(AG249,'Anexo ODS'!$G$3:$P$86,5,0)","v":2},{"$f":"VLOOKUP(AG249,'Anexo ODS'!$G$3:$P$86,6,0)","v":"La Paz"},{"$f":"VLOOKUP(AG249,'Anexo ODS'!$G$3:$P$86,7,0)","v":16},{"$f":"VLOOKUP(AG249,'Anexo ODS'!$G$3:$P$86,8,0)","v":"Paz, justicia e instituciones sólidas"},{"$f":"VLOOKUP(AG249,'Anexo ODS'!$G$3:$P$86,9,0)","v":"16.3"},{"$f":"VLOOKUP(AG249,'Anexo ODS'!$G$3:$P$86,10,0)","v":"Promover el estado de derecho en los planos nacional e internacional y garantizar la igualdad de acceso a la justicia para todos"},null,null,null,null,null,null,null,null,1500]
[249,4,"San Cristóbal",3,"Inspirar confianza y legitimidad para vivir sin miedo y ser epicentro de cultura ciudadana, paz y reconciliación.",48,"Plataforma institucional para la seguridad y justicia",null,null,null,null,249,"Implementar 4 estrategia local de acciones pedagógicas del Código Nacional de Seguridad y Convivencia Ciudadana en la localidad.",1844,"San Cristóbal cuida a San Cristóbal","ACCIONES PEDAGÓGICAS","Suma",3,"Implementar",4,"Estrategias","locales de acciones pedagógicas del Código Nacional de Seguridad y Convivencia Ciudadana en la localidad.","Implementar 4 estrategia local de acciones pedagógicas del Código Nacional de Seguridad y Convivencia Ciudadana en la localidad.",{"$f":"VLOOKUP(AG250,'Anexo PMR'!$B$4:$G$87,6,0)","v":"2_Presupuestos Participativos 50%"},7,"Desarrollo social y cultural","Acceso a la Justicia.",102,"SEGURIDAD, CONVIVENCIA Y JUSTICIA",27,"Prevención, atención y gestión del conflicto en la localidad.",64,"Estrategia local de acciones pedagógicas del Código Nacional de Seguridad y Convivencia Ciudadana implementada en la localidad.","ACCESO A LA JUSTICIA",null,null,null,1,1,1,1,125000000,126000000,126000000,125000000,502000000,1,0,0,0,0,"Bajo","Bajo",9.58381061473845E-2,0,0,null,null,null,0,"2021_1",1,1,0,0,0,0,0,0,0,0,0,0,0,"",null,null,null,125853000,125853000,0,0,0,null,0,0,0,0,null,null,0,0,0,"",null,null,null,null,null,{"$f":"VLOOKUP(AG250,'Anexo ODS'!$G$3:$P$86,5,0)","v":2},{"$f":"VLOOKUP(AG250,'Anexo ODS'!$G$3:$P$86,6,0)","v":"La Paz"},{"$f":"VLOOKUP(AG250,'Anexo ODS'!$G$3:$P$86,7,0)","v":16},{"$f":"VLOOKUP(AG250,'Anexo ODS'!$G$3:$P$86,8,0)","v":"Paz, justicia e instituciones sólidas"},{"$f":"VLOOKUP(AG250,'Anexo ODS'!$G$3:$P$86,9,0)","v":"16.3"},{"$f":"VLOOKUP(AG250,'Anexo ODS'!$G$3:$P$86,10,0)","v":"Promover el estado de derecho en los planos nacional e internacional y garantizar la igualdad de acceso a la justicia para todos"},null,null,null,null,null,null,null,null,4]
[250,4,"San Cristóbal",3,"Inspirar confianza y legitimidad para vivir sin miedo y ser epicentro de cultura ciudadana, paz y reconciliación.",48,"Plataforma institucional para la seguridad y justicia",null,null,null,null,250,"Suministrar 360 dotaciones de equipos especiales de protección a organismos de seguridad.",1844,"San Cristóbal cuida a San Cristóbal","DOTACIÓN","Suma",6,"Suministrar",360,"Dotaciones","de equipos especiales de protección a organismos de seguridad","Suministrar 360 dotaciones de equipos especiales de protección a organismos de seguridad.",{"$f":"VLOOKUP(AG251,'Anexo PMR'!$B$4:$G$87,6,0)","v":"2_Presupuestos Participativos 50%"},7,"Desarrollo social y cultural","Dotación para instancias de seguridad.",102,"SEGURIDAD, CONVIVENCIA Y JUSTICIA",30,"Infraestructura y dotaciones para seguridad.",67,"Dotaciones de equipos especiales de protección  suministradas a organismos de seguridad.","DOTACIÓN EN SEGURIDAD",null,null,null,0,0,360,0,0,0,772000000,0,772000000,1,0,0,0,0,"Bajo","Bajo",0.14738449789996183,0,0,null,null,null,0,"2021_1",0,0,0,0,0,0,0,0,0,0,0,0,0,"",null,null,null,0,0,0,0,0,null,0,0,0,0,null,null,0,0,0,"",null,null,null,null,null,{"$f":"VLOOKUP(AG251,'Anexo ODS'!$G$3:$P$86,5,0)","v":2},{"$f":"VLOOKUP(AG251,'Anexo ODS'!$G$3:$P$86,6,0)","v":"La Paz"},{"$f":"VLOOKUP(AG251,'Anexo ODS'!$G$3:$P$86,7,0)","v":16},{"$f":"VLOOKUP(AG251,'Anexo ODS'!$G$3:$P$86,8,0)","v":"Paz, justicia e instituciones sólidas"},{"$f":"VLOOKUP(AG251,'Anexo ODS'!$G$3:$P$86,9,0)","v":"16.a"},{"$f":"VLOOKUP(AG251,'Anexo ODS'!$G$3:$P$86,10,0)","v":"Fortalecer las instituciones nacionales pertinentes, incluso mediante la cooperación internacional, para crear a todos los niveles, particularmente en los países en desarrollo, la capacidad de prevenir la violencia y combatir el terrorismo y la delincuencia"},null,null,null,null,null,null,null,null,360]
[255,4,"San Cristóbal",4,"Hacer de Bogotá-región un modelo de movilidad, creatividad y productividad incluyente y sostenible",49,"Movilidad segura, sostenible y accesible",null,null,null,null,255,"Intervenir 3000 metros lineales de Ciclo-infraestructura con acciones de construcción y/o conservación.",1871,"Obras para la movilidad en San Cristóbal","CICLO INFRAESTRUCTURA","Suma",4,"Intervenir",3000,"Metros","lineales de Ciclo-infraestructura con acciones de construcción y/o conservación.","Intervenir 3000 metros lineales de Ciclo-infraestructura con acciones de construcción y/o conservación.",{"$f":"VLOOKUP(AG256,'Anexo PMR'!$B$4:$G$87,6,0)","v":"2_Presupuestos Participativos 50%"},6,"Infraestructura","Diseño, construcción y conservación de ciclo-infraestructura.",95,"MOVILIDAD",33,"Ciclo infraestructura construida y/o conservada.",73,"Metros lineales construidos y/o conservados de Ciclo-infraestructura","CICLO-INFRAESTRUCTURA",null,null,null,750,750,750,750,389000000,389000000,389000000,392000000,1559000000,1,0,0,0,0,"Bajo","Bajo",0.11514882930792525,0,0,null,null,null,0,"2021_1",750,750,0,0,0,0,0,0,0,0,0,0,0,"",null,null,null,391653000,391653000,0,0,0,null,0,0,0,0,null,null,0,0,0,"",null,null,null,null,null,{"$f":"VLOOKUP(AG256,'Anexo ODS'!$G$3:$P$86,5,0)","v":3},{"$f":"VLOOKUP(AG256,'Anexo ODS'!$G$3:$P$86,6,0)","v":"La Prosperidad"},{"$f":"VLOOKUP(AG256,'Anexo ODS'!$G$3:$P$86,7,0)","v":11},{"$f":"VLOOKUP(AG256,'Anexo ODS'!$G$3:$P$86,8,0)","v":"Ciudades y comunidades sostenibles"},{"$f":"VLOOKUP(AG256,'Anexo ODS'!$G$3:$P$86,9,0)","v":"11.2"},{"$f":"VLOOKUP(AG256,'Anexo ODS'!$G$3:$P$86,10,0)","v":" De aquí a 2030, proporcionar acceso a sistemas de transporte seguros, asequibles, accesibles y sostenibles para todos y mejorar la seguridad vial, en particular mediante la ampliación del transporte público, prestando especial atención a las necesidades de las personas en situación de vulnerabilidad, las mujeres, los niños, las personas con discapacidad y las personas de edad"},null,null,null,null,null,null,null,null,3000]
[260,4,"San Cristóbal",5,"Construir Bogotá-región con gobierno abierto, transparente y ciudadanía consciente.",55,"Fortalecimiento de Cultura Ciudadana y su institucionalidad",null,null,null,null,260,"Dotar 55 sedes de salones comunales.",1872,"Participación ciudadana para el desarrollo local","DOTACIÓN","Suma",2,"Dotar",55,"Sedes","de salones comunales","Dotar 55 sedes de salones comunales.",{"$f":"VLOOKUP(AG261,'Anexo PMR'!$B$4:$G$87,6,0)","v":"2_Presupuestos Participativos 50%"},6,"Infraestructura","Intervención y dotación de salones comunales.",98,"GOBIERNO",35,"Espacios y procesos de participación ciudadana fortalecidos. ",76,"Sedes dotadas de salones comunales.","SALONES COMUNALES",null,null,null,14,14,14,13,287000000,287000000,287000000,288000000,1149000000,1,0,0,0,0,"Bajo","Bajo",9.1795158584325312E-2,0,0,null,null,null,0,"2021_1",14,14,0,0,0,0,0,0,0,0,0,0,0,"",null,null,null,288958000,288958000,0,0,0,null,0,0,0,0,null,null,0,0,0,"",null,null,null,null,null,{"$f":"VLOOKUP(AG261,'Anexo ODS'!$G$3:$P$86,5,0)","v":3},{"$f":"VLOOKUP(AG261,'Anexo ODS'!$G$3:$P$86,6,0)","v":"La Prosperidad"},{"$f":"VLOOKUP(AG261,'Anexo ODS'!$G$3:$P$86,7,0)","v":11},{"$f":"VLOOKUP(AG261,'Anexo ODS'!$G$3:$P$86,8,0)","v":"Ciudades y comunidades sostenibles"},{"$f":"VLOOKUP(AG261,'Anexo ODS'!$G$3:$P$86,9,0)","v":"11.3"},{"$f":"VLOOKUP(AG261,'Anexo ODS'!$G$3:$P$86,10,0)","v":"De aquí a 2030, aumentar la urbanización inclusiva y sostenible y la capacidad para la planificación y la gestión participativas, integradas y sostenibles de los asentamientos humanos en todos los países"},null,null,null,null,null,null,null,null,55]
[261,4,"San Cristóbal",5,"Construir Bogotá-región con gobierno abierto, transparente y ciudadanía consciente.",55,"Fortalecimiento de Cultura Ciudadana y su institucionalidad",null,null,null,null,261,"Fortalecer 80 Organizaciones, JAC e Instancias de participación ciudadana.",1872,"Participación ciudadana para el desarrollo local","FORTALECIMIENTO ORGANIZATIVO","Constante",5,"Fortalecer",80,"Organizaciones",", JAC e Instancias de participación ciudadana","Fortalecer 80 Organizaciones, JAC e Instancias de participación ciudadana.",{"$f":"VLOOKUP(AG262,'Anexo PMR'!$B$4:$G$87,6,0)","v":"2_Presupuestos Participativos 50%"},7,"Desarrollo social y cultural","Fortalecimiento de organizaciones sociales, comunitarias, comunales, propiedad horizontal e instancias y mecanismos de participación, con énfasis en jóvenes y asociatividad productiva.",98,"GOBIERNO",35,"Espacios y procesos de participación ciudadana fortalecidos. ",79,"Número de Organizaciones, JAC e Instancias de participación ciudadana fortalecidas.","FORTALECIMIENTO ORGANIZATIVO",null,null,null,80,80,80,80,1280000000,1290000000,1290000000,1290000000,5150000000,1,0,0,0,0,"Bajo","Bajo",0.41144044100023969,0,0,null,null,null,0,"2021_1",80,80,0,0,0,0,0,0,0,0,0,0,0,"",null,null,null,1288731000,1288731000,0,0,0,null,0,0,0,0,null,null,0,0,0,"",null,null,null,null,null,{"$f":"VLOOKUP(AG262,'Anexo ODS'!$G$3:$P$86,5,0)","v":2},{"$f":"VLOOKUP(AG262,'Anexo ODS'!$G$3:$P$86,6,0)","v":"La Paz"},{"$f":"VLOOKUP(AG262,'Anexo ODS'!$G$3:$P$86,7,0)","v":16},{"$f":"VLOOKUP(AG262,'Anexo ODS'!$G$3:$P$86,8,0)","v":"Paz, justicia e instituciones sólidas"},{"$f":"VLOOKUP(AG262,'Anexo ODS'!$G$3:$P$86,9,0)","v":"16.7"},{"$f":"VLOOKUP(AG262,'Anexo ODS'!$G$3:$P$86,10,0)","v":"Garantizar la adopción en todos los niveles de decisiones inclusivas, participativas y representativas que respondan a las necesidades"},null,null,null,null,null,null,null,null,320]
[266,4,"San Cristóbal",5,"Construir Bogotá-región con gobierno abierto, transparente y ciudadanía consciente.",57,"Gestión Pública Local",null,null,null,null,266,"Realizar 4 estrategias de fortalecimiento institucional.",1873,"San Cristóbal al servicio de la ciudadania","FORTALECIMIENTO LOCAL","Suma",1,"Realizar",4,"Estrategias","de fortalecimiento institucional.","Realizar 4 estrategias de fortalecimiento institucional.",{"$f":"VLOOKUP(AG267,'Anexo PMR'!$B$4:$G$87,6,0)","v":"1_Inflexible 45%"},1,"Gestión pública local","Fortalecimiento institucional.",98,"GOBIERNO",37,"Fortalecimiento institucional.",82,"Estrategias de fortalecimiento institucional realizadas","FORTALECIMIENTO LOCAL",null,null,null,1,1,1,1,7064000000,7281000000,7511000000,7749000000,29605000000,1,1,0.25,1,0.25,"Bajo","Bajo",{"$f":"AT267/SUMIF($F$197:$F$267,F267,$AT$197:$AT$267)","v":0.76317281913796664},0.19079320478449166,0.19079320478449166,null,null,null,0,"2021_1",1,1,0,0,0,1,0,0,0,1,0,0,0,"Incompleto",null,null,null,7112185000,7112185000,0,0,0,4547378414,0,0,0,4547378414,232059767,232059767,0,0,0,"Se contrató personal para el funcionamiento del FDLSC y para la ejecución de los proyectos de inversión.",null,null,null,null,null,{"$f":"VLOOKUP(AG267,'Anexo ODS'!$G$3:$P$86,5,0)","v":2},{"$f":"VLOOKUP(AG267,'Anexo ODS'!$G$3:$P$86,6,0)","v":"La Paz"},{"$f":"VLOOKUP(AG267,'Anexo ODS'!$G$3:$P$86,7,0)","v":16},{"$f":"VLOOKUP(AG267,'Anexo ODS'!$G$3:$P$86,8,0)","v":"Paz, justicia e instituciones sólidas"},{"$f":"VLOOKUP(AG267,'Anexo ODS'!$G$3:$P$86,9,0)","v":"16.6"},{"$f":"VLOOKUP(AG267,'Anexo ODS'!$G$3:$P$86,10,0)","v":"Garantizar el acceso público a la información y proteger las libertades fundamentales, de conformidad con las leyes nacionales y los acuerdos internacionales"},null,null,null,null,null,null,null,null,4]
[271,5,"Usme",1,"Hacer un nuevo contrato social con igualdad de oportunidades para la inclusión social, productiva y política",6,"Sistema Distrital de Cuidado",null,null,null,null,271,"Promover en 500 Mipymes y/o emprendimientos procesos de reconversión hacia actividades sostenibles.",1732,"Fortalecimiento a Mipymes y/o emprendimientos culturales, empresariales y actividad productiva en Usme","REACTIVACIÓN","Suma",null,"Promover",500,"Mipymes","y/o emprendimientos procesos de reconversión hacia actividades sostenibles.","Promover en 500 Mipymes y/o emprendimientos procesos de reconversión hacia actividades sostenibles.",{"$f":"VLOOKUP(AG272,'Anexo PMR'!$B$4:$G$87,6,0)","v":"2_Presupuestos Participativos 50%"},5,"Desarrollo de la Economía Local","Reactivación y reconversión verde",89,"DESARROLLO ECONÓMICO, INDUSTRIA Y TURISMO",14,"Servicios de asesoría, asistencia técnica integral, dotación y/o apoyo financiero a Mipymes y/o emprendimientos.",22,"Número de Mipymes y/o emprendimientos con procesos de reconversión hacia actividades sostenibles","DESARROLLO DE LA ECONOMÍA LOCAL",null,null,null,100,124,128,148,578000000,684000000,706000000,815000000,2783000000,1,0,0,0,0,"Bajo","Bajo",8.1778378537216062E-2,0,0,null,null,null,0,"2021_1",100,100,0,0,0,0,0,0,0,0,0,0,0,"",null,null,null,549800000,549800000,0,0,0,null,0,0,0,0,null,null,0,0,0,"",null,null,null,null,null,{"$f":"VLOOKUP(AG272,'Anexo ODS'!$G$3:$P$86,5,0)","v":3},{"$f":"VLOOKUP(AG272,'Anexo ODS'!$G$3:$P$86,6,0)","v":"La Prosperidad"},{"$f":"VLOOKUP(AG272,'Anexo ODS'!$G$3:$P$86,7,0)","v":8},{"$f":"VLOOKUP(AG272,'Anexo ODS'!$G$3:$P$86,8,0)","v":"Trabajo decente y crecimiento económico"},{"$f":"VLOOKUP(AG272,'Anexo ODS'!$G$3:$P$86,9,0)","v":"8.3"},{"$f":"VLOOKUP(AG272,'Anexo ODS'!$G$3:$P$86,10,0)","v":"Promover políticas orientadas al desarrollo que apoyen las actividades productivas, la creación de puestos de trabajo decentes, el emprendimiento, la creatividad y la innovación, y fomentar la formalización y el crecimiento de las microempresas y las pequeñas y medianas empresas, incluso mediante el acceso a servicios financieros"},null,null,null,null,null,null,null,null,500]
[276,5,"Usme",1,"Hacer un nuevo contrato social con igualdad de oportunidades para la inclusión social, productiva y política",6,"Sistema Distrital de Cuidado",null,null,null,null,276,"Formar 1600 personas en prevención de violencia intrafamiliar y/o violencia sexual.",1793,"DESARROLLO SOCIAL LOCAL","PREVENCIÓN DE VIOLENCIAS","Suma",null,"Formar",1600,"Personas","en prevención de violencia intrafamiliar y/o violencia sexual.","Formar 1600 personas en prevención de violencia intrafamiliar y/o violencia sexual.",{"$f":"VLOOKUP(AG277,'Anexo PMR'!$B$4:$G$87,6,0)","v":"2_Presupuestos Participativos 50%"},7,"Desarrollo social y cultural","Prevención y atención de violencia intrafamiliar y sexual para poblaciones en situaciones de riesgo y vulneración de derechos.",92,"INTEGRACIÓN SOCIAL",2,"Protección integral a niños y niñas y adolescentes.",25,"Número de Personas formadas u orientadas o sensibilizadas en prevención de violencia intrafamiliar y/o violencia sexual.            ","PREVENCIÓN DE LA VIOLENCIA",null,null,null,298,397,409,496,373000000,473000000,488000000,591000000,1925000000,1,0,0,0,0,"Bajo","Bajo",5.6566072110722579E-2,0,0,null,null,null,0,"2021_1",298,298,0,0,0,0,0,0,0,0,0,0,0,"",null,null,null,354802000,354802000,0,0,0,null,0,0,0,0,null,null,0,0,0,"",null,null,null,null,null,{"$f":"VLOOKUP(AG277,'Anexo ODS'!$G$3:$P$86,5,0)","v":2},{"$f":"VLOOKUP(AG277,'Anexo ODS'!$G$3:$P$86,6,0)","v":"La Paz"},{"$f":"VLOOKUP(AG277,'Anexo ODS'!$G$3:$P$86,7,0)","v":16},{"$f":"VLOOKUP(AG277,'Anexo ODS'!$G$3:$P$86,8,0)","v":"Paz, justicia e instituciones sólidas"},{"$f":"VLOOKUP(AG277,'Anexo ODS'!$G$3:$P$86,9,0)","v":"16.1"},{"$f":"VLOOKUP(AG277,'Anexo ODS'!$G$3:$P$86,10,0)","v":"Reducir significativamente todas las formas de violencia y las correspondientes tasas de mortalidad en todo el mundo"},null,null,null,null,null,null,null,null,1600]
[277,5,"Usme",1,"Hacer un nuevo contrato social con igualdad de oportunidades para la inclusión social, productiva y política",6,"Sistema Distrital de Cuidado",null,null,null,null,277,"Vincular 1800 mujeres cuidadoras a estrategias de cuidado.",1795,"Empoderamiento de la mujer Usmeña","ESTRATEGIAS DE CUIDADO","Suma",null,"Vincular",1800,"Mujeres","cuidadoras a estrategias de cuidado.","Vincular 1800 mujeres cuidadoras a estrategias de cuidado.",{"$f":"VLOOKUP(AG278,'Anexo PMR'!$B$4:$G$87,6,0)","v":"2_Presupuestos Participativos 50%"},7,"Desarrollo social y cultural","Estrategias de cuidado para cuidadoras, cuidadores y a personas con discapacidad",100,"MUJERES",15,"Estrategias del cuidado para cuidadoras.",30,"Mujeres cuidadoras vinculadas a estrategias de cuidado","ESTRATEGIAS DE CUIDADO",null,null,null,342,447,461,550,419000000,520000000,537000000,640000000,2116000000,1,0,0,0,0,"Bajo","Bajo",6.2178601863007256E-2,0,0,null,null,null,0,"2021_1",342,342,0,0,0,0,0,0,0,0,0,0,0,"",null,null,null,398557000,398557000,0,0,0,null,0,0,0,0,null,null,0,0,0,"",null,null,null,null,null,{"$f":"VLOOKUP(AG278,'Anexo ODS'!$G$3:$P$86,5,0)","v":1},{"$f":"VLOOKUP(AG278,'Anexo ODS'!$G$3:$P$86,6,0)","v":"Las Personas"},{"$f":"VLOOKUP(AG278,'Anexo ODS'!$G$3:$P$86,7,0)","v":5},{"$f":"VLOOKUP(AG278,'Anexo ODS'!$G$3:$P$86,8,0)","v":"Igualdad de género"},{"$f":"VLOOKUP(AG278,'Anexo ODS'!$G$3:$P$86,9,0)","v":"5.4"},{"$f":"VLOOKUP(AG278,'Anexo ODS'!$G$3:$P$86,10,0)","v":"Reconocer y valorar los cuidados y el trabajo doméstico no remunerados mediante servicios públicos, infraestructuras y políticas de protección social, y promoviendo la responsabilidad compartida en el hogar y la familia, según proceda en cada país"},null,null,null,null,null,null,null,null,1800]
[282,5,"Usme",1,"Hacer un nuevo contrato social con igualdad de oportunidades para la inclusión social, productiva y política",6,"Sistema Distrital de Cuidado",null,null,null,null,282,"Vincular 2400 personas a las acciones desarrolladas desde los dispositivos de base comunitaria en respuesta al consumo de SPA.",1797,"APOYOS EN ESTRATEGIA DE SALUD PARA LA LOCALIDAD","DISMINUCIÓN FACTORES DE RIESGO SPA","Suma",null,"Vincular",2400,"Personas","a las acciones desarrolladas desde los dispositivos de base comunitaria en respuesta al consumo de SPA.","Vincular 2400 personas a las acciones desarrolladas desde los dispositivos de base comunitaria en respuesta al consumo de SPA.",{"$f":"VLOOKUP(AG283,'Anexo PMR'!$B$4:$G$87,6,0)","v":"3_Flexible 5%"},11,"Condiciones de salud","Acciones para la disminución de los factores de riesgo frente al consumo de sustancias psicoactivas.",91,"SALUD",16,"Promoción, prevención e intervención en salud.",32,"Números de personas vinculadas a las acciones desarrolladas desde los dispositivos de base comunitaria en respuesta al consumo de SPA.","SPA",null,null,null,582,560,577,681,457000000,560000000,577000000,682000000,2276000000,1,0,0,0,0,"Bajo","Bajo",6.6880197467015373E-2,0,0,null,null,null,0,"2021_1",582,582,0,0,0,0,0,0,0,0,0,0,0,"",null,null,null,582682000,582682000,0,0,0,null,0,0,0,0,null,null,0,0,0,"",null,null,null,null,null,{"$f":"VLOOKUP(AG283,'Anexo ODS'!$G$3:$P$86,5,0)","v":1},{"$f":"VLOOKUP(AG283,'Anexo ODS'!$G$3:$P$86,6,0)","v":"Las Personas"},{"$f":"VLOOKUP(AG283,'Anexo ODS'!$G$3:$P$86,7,0)","v":3},{"$f":"VLOOKUP(AG283,'Anexo ODS'!$G$3:$P$86,8,0)","v":"Salud y Bienestar"},{"$f":"VLOOKUP(AG283,'Anexo ODS'!$G$3:$P$86,9,0)","v":"3.5"},{"$f":"VLOOKUP(AG283,'Anexo ODS'!$G$3:$P$86,10,0)","v":"Fortalecer la prevención y el tratamiento del abuso de sustancias adictivas, incluido el uso indebido de estupefacientes y el consumo nocivo de alcohol"},null,null,null,null,null,null,null,null,2400]
[287,5,"Usme",1,"Hacer un nuevo contrato social con igualdad de oportunidades para la inclusión social, productiva y política",17,"Jóvenes con capacidades: Proyecto de vida para la ciudadanía, la innovación y el trabajo del siglo XXI",null,null,null,null,287,"Beneficiar 120 personas con apoyo para la educación superior.",1714,"Educación superior para la Usme del Siglo XXI","APOYO EDUCACIÓN SUPERIOR","Suma",null,"Beneficiar",120,"Personas","con apoyo para la educación superior","Beneficiar 120 personas con apoyo para la educación superior.",{"$f":"VLOOKUP(AG288,'Anexo PMR'!$B$4:$G$87,6,0)","v":"1_Inflexible 45%"},4,"Educación superior y primera infancia (10%)","Apoyo para educación superior.",90,"EDUCACIÓN",4,"Apoyo a la educación superior.",5,"Personas beneficiadas con  apoyo para la educación superior","EDUCACIÓN SUPERIOR",null,null,null,27,29,30,34,1485000000,1619000000,1670000000,1809000000,6583000000,1,0,0,0,0,"Bajo","Bajo",0.35193798449612401,0,0,null,null,null,0,"2021_1",27,27,0,0,0,0,0,0,0,0,0,0,0,"",null,null,null,1513964000,1513964000,0,0,0,null,0,0,0,0,null,null,0,0,0,"",null,null,null,null,null,{"$f":"VLOOKUP(AG288,'Anexo ODS'!$G$3:$P$86,5,0)","v":1},{"$f":"VLOOKUP(AG288,'Anexo ODS'!$G$3:$P$86,6,0)","v":"Las Personas"},{"$f":"VLOOKUP(AG288,'Anexo ODS'!$G$3:$P$86,7,0)","v":4},{"$f":"VLOOKUP(AG288,'Anexo ODS'!$G$3:$P$86,8,0)","v":"Educación de calidad"},{"$f":"VLOOKUP(AG288,'Anexo ODS'!$G$3:$P$86,9,0)","v":"4.3"},{"$f":"VLOOKUP(AG288,'Anexo ODS'!$G$3:$P$86,10,0)","v":"De aquí a 2030, asegurar el acceso igualitario de todos los hombres y las mujeres a una formación técnica, profesional y superior de calidad, incluida la enseñanza universitaria."},null,null,null,null,null,null,null,null,120]
[292,5,"Usme",1,"Hacer un nuevo contrato social con igualdad de oportunidades para la inclusión social, productiva y política",20,"Bogotá, referente en cultura, deporte, recreación y actividad física, con parques para el desarrollo y la salud",null,null,null,null,292,"Capacitar 3200 personas en los campos deportivos",1718,"USME, REFERENTE EN CULTURA, DEPORTE, RECREACIÓN Y ACTIVIDAD FÍSICA, CON PARQUES PARA EL DESARROLLO Y LA SALUD 2021 – 2025","FORMACIÓN DEPORTIVA","Suma",null,"Capacitar",3200,"Personas","en los campos deportivos","Capacitar 3200 personas en los campos deportivos",{"$f":"VLOOKUP(AG293,'Anexo PMR'!$B$4:$G$87,6,0)","v":"2_Presupuestos Participativos 50%"},7,"Desarrollo social y cultural","Procesos de formación y dotación de insumos para los campos artísticos, interculturales, culturales, patrimoniales y deportivos.",93,"CULTURA, RECREACIÓN Y DEPORTE",7,"Eventos y actividades recreativas y deportivas.",11,"Personas capacitadas en los campos deportivos","FORMACIÓN DEPORTIVA",null,null,null,618,794,820,968,458000000,560000000,578000000,682000000,2278000000,1,0,0,0,0,"Bajo","Bajo",0.24185157660048837,0,0,null,null,null,0,"2021_1",618,618,0,0,0,0,0,0,0,0,0,0,0,"",null,null,null,435655000,435655000,0,0,0,null,0,0,0,0,null,null,0,0,0,"",null,null,null,null,null,{"$f":"VLOOKUP(AG293,'Anexo ODS'!$G$3:$P$86,5,0)","v":1},{"$f":"VLOOKUP(AG293,'Anexo ODS'!$G$3:$P$86,6,0)","v":"Las Personas"},{"$f":"VLOOKUP(AG293,'Anexo ODS'!$G$3:$P$86,7,0)","v":4},{"$f":"VLOOKUP(AG293,'Anexo ODS'!$G$3:$P$86,8,0)","v":"Educación de calidad"},{"$f":"VLOOKUP(AG293,'Anexo ODS'!$G$3:$P$86,9,0)","v":"4.7"},{"$f":"VLOOKUP(AG293,'Anexo ODS'!$G$3:$P$86,10,0)","v":"De aquí a 2030, asegurar que todos los alumnos adquieran los conocimientos teóricos y prácticos necesarios para promover el desarrollo sostenible, entre otras cosas mediante la educación para el desarrollo sostenible y los estilos de vida sostenibles, los derechos humanos, la igualdad de género, la promoción de una cultura de paz y no violencia, la ciudadanía mundial y la valoración de la diversidad cultural y la contribución de la cultura al desarrollo sostenible"},null,null,null,null,null,null,null,null,3200]
[293,5,"Usme",1,"Hacer un nuevo contrato social con igualdad de oportunidades para la inclusión social, productiva y política",20,"Bogotá, referente en cultura, deporte, recreación y actividad física, con parques para el desarrollo y la salud",null,null,null,null,293,"Vincular 3200 personas en actividades recreo-deportivas comunitarias.",1718,"USME, REFERENTE EN CULTURA, DEPORTE, RECREACIÓN Y ACTIVIDAD FÍSICA, CON PARQUES PARA EL DESARROLLO Y LA SALUD 2021 – 2024","EVENTOS","Suma",null,"Vincular",3200,"Personas","en actividades recreodeportivas comunitarias","Vincular 3200 personas en actividades recreo-deportivas comunitarias.",{"$f":"VLOOKUP(AG294,'Anexo PMR'!$B$4:$G$87,6,0)","v":"2_Presupuestos Participativos 50%"},7,"Desarrollo social y cultural","Eventos recreo-deportivos.",93,"CULTURA, RECREACIÓN Y DEPORTE",7,"Eventos y actividades recreativas y deportivas.",10,"Personas vinculadas en actividades recreo-deportivas comunitarias","ACTIVIDAD DEPORTIVA",null,null,null,680,796,821,903,1074000000,1196000000,1234000000,1359000000,4863000000,1,0,0,0,0,"Bajo","Bajo",0.51629684679902321,0,0,null,null,null,0,"2021_1",680,680,0,0,0,0,0,0,0,0,0,0,0,"",null,null,null,1021600000,1021600000,0,0,0,null,0,0,0,0,null,null,0,0,0,"",null,null,null,null,null,{"$f":"VLOOKUP(AG294,'Anexo ODS'!$G$3:$P$86,5,0)","v":1},{"$f":"VLOOKUP(AG294,'Anexo ODS'!$G$3:$P$86,6,0)","v":"Las Personas"},{"$f":"VLOOKUP(AG294,'Anexo ODS'!$G$3:$P$86,7,0)","v":3},{"$f":"VLOOKUP(AG294,'Anexo ODS'!$G$3:$P$86,8,0)","v":"Salud y Bienestar"},{"$f":"VLOOKUP(AG294,'Anexo ODS'!$G$3:$P$86,9,0)","v":"3.d"},{"$f":"VLOOKUP(AG294,'Anexo ODS'!$G$3:$P$86,10,0)","v":"Reforzar la capacidad de todos los países, en particular los países en desarrollo, en materia de alerta temprana,  reducción de riesgos y gestión de los riesgos para la salud nacional y mundial"},null,null,null,null,null,null,null,null,3200]
[298,5,"Usme",1,"Hacer un nuevo contrato social con igualdad de oportunidades para la inclusión social, productiva y política",23,"Bogotá rural",null,null,null,null,298,"Apoyar 400 predios rurales con asistencia técnica agropecuaria y/o ambiental. ",1726,"Extensión agropecuaria, ambiental y productividad rural en Usme.","ASESORÍA Y ASISTENCIA TÉCNICA ","Suma",null,"Apoyar",400,"Predios","rurales con asistencia técnica agropecuaria y/o ambiental","Apoyar 400 predios rurales con asistencia técnica agropecuaria y/o ambiental. ",{"$f":"VLOOKUP(AG299,'Anexo PMR'!$B$4:$G$87,6,0)","v":"2_Presupuestos Participativos 50%"},9,"Ruralidad","Asistencia técnica agropecuaria y ambiental y productividad rural.","94-89","AMBIENTE / DESARROLLO ECONÓMICO",12,"Servicios de asistencia técnica agropecuaria y/o ambiental.",17,"Número de Predios rurales con asistencia técnica agropecuaria y/o ambiental","ASISTENCIA TÉCNICA Y COMERCIALIZACIÓN RURAL",null,null,null,73,99,102,126,332000000,430000000,444000000,544000000,1750000000,1,100,0.25,0,0,"Bajo","Bajo",0.5,0.125,0,null,null,null,0,"2021_1",73,73,0,0,0,100,0,0,0,0,0,0,0,"Incompleto",null,null,null,315802000,315802000,0,0,0,127536683,0,0,0,127536683,3269004,3269004,0,0,0,"",null,null,null,null,null,{"$f":"VLOOKUP(AG299,'Anexo ODS'!$G$3:$P$86,5,0)","v":4},{"$f":"VLOOKUP(AG299,'Anexo ODS'!$G$3:$P$86,6,0)","v":"El Planeta"},{"$f":"VLOOKUP(AG299,'Anexo ODS'!$G$3:$P$86,7,0)","v":15},{"$f":"VLOOKUP(AG299,'Anexo ODS'!$G$3:$P$86,8,0)","v":"Vida de ecosistemas terrestres"},{"$f":"VLOOKUP(AG299,'Anexo ODS'!$G$3:$P$86,9,0)","v":"15.9"},{"$f":"VLOOKUP(AG299,'Anexo ODS'!$G$3:$P$86,10,0)","v":"De aquí a 2020, integrar los valores de los ecosistemas y la biodiversidad en la planificación, los procesos de desarrollo, las estrategias de reducción de la pobreza y la contabilidad nacionales y locales"},null,null,null,null,null,null,null,null,400]
[303,5,"Usme",2,"Cambiar nuestros hábitos de vida para reverdecer a Bogotá y adaptarnos y mitigar el cambio climático.",27,"Cambio cultural para la gestión de la crisis climática",null,null,null,null,303,"Implementar 20 PROCEDAS.",1802,"Cambio cultural para la gestión de la crisis climática en Usme","EDUCACIÓN AMBIENTAL","Suma",null,"Implementar",20,"PROCEDAS",null,"Implementar 20 PROCEDAS.",{"$f":"VLOOKUP(AG304,'Anexo PMR'!$B$4:$G$87,6,0)","v":"2_Presupuestos Participativos 50%"},8,"Inversiones ambientales sostenibles","Educación ambiental.",94,"AMBIENTE",17,"Calidad ambiental y preservación del patrimonio natural.",38,"Número de PROCEDAS implementados ","PROCEDAS",null,null,null,3,5,5,7,221000000,313000000,323000000,415000000,1272000000,1,0,0,0,0,"Bajo","Bajo",0.63759398496240605,0,0,null,null,null,0,"2021_1",3,3,0,0,0,0,0,0,0,0,0,0,0,"",null,null,null,210217000,210217000,0,0,0,60640000,0,0,0,60640000,0,0,0,0,0,"Corte 31 marzo 2021: La contratación reportada no contribuye al avance de la magnitud de la meta.",null,null,null,null,null,{"$f":"VLOOKUP(AG304,'Anexo ODS'!$G$3:$P$86,5,0)","v":4},{"$f":"VLOOKUP(AG304,'Anexo ODS'!$G$3:$P$86,6,0)","v":"El Planeta"},{"$f":"VLOOKUP(AG304,'Anexo ODS'!$G$3:$P$86,7,0)","v":13},{"$f":"VLOOKUP(AG304,'Anexo ODS'!$G$3:$P$86,8,0)","v":"Acción por el Clima"},{"$f":"VLOOKUP(AG304,'Anexo ODS'!$G$3:$P$86,9,0)","v":"13.3"},{"$f":"VLOOKUP(AG304,'Anexo ODS'!$G$3:$P$86,10,0)","v":"Mejorar la educación, la sensibilización y la capacidad humana e institucional respecto de la mitigación del cambio climático, la adaptación a él, la reducción de sus efectos y la alerta temprana"},null,null,null,null,null,null,null,null,20]
[308,5,"Usme",2,"Cambiar nuestros hábitos de vida para reverdecer a Bogotá y adaptarnos y mitigar el cambio climático.",33,"Más árboles y más y mejor espacio público ",null,null,null,null,308,"Mantener 4000 árboles urbanos y/o rurales.",1808,"Calidad ambiental en Usme","ARBORIZACIÓN","Suma",null,"Mantener",4000,"Árboles","urbanos y/o rurales.","Mantener 4000 árboles urbanos y/o rurales.",{"$f":"VLOOKUP(AG309,'Anexo PMR'!$B$4:$G$87,6,0)","v":"2_Presupuestos Participativos 50%"},8,"Inversiones ambientales sostenibles","Arbolado urbano y/o rural.",94,"AMBIENTE",19,"Plantación y mantenimiento de árboles, jardines y especies vegetales. ",44,"Número de árboles mantenidos","ARBOLADO",null,null,null,1534,1004,0,1462,278000000,173000000,0,252000000,703000000,1,0,0,0,0,"Bajo","Bajo",9.9083861874559545E-2,0,0,null,null,null,0,"2021_1",1534,1534,0,0,0,0,0,0,0,0,0,0,0,"",null,null,null,264437000,264437000,0,0,0,107553333,0,0,0,107553333,0,0,0,0,0,"Corte 31 marzo 2021: La contratación reportada no contribuye al avance de la magnitud de la meta.",null,null,null,null,null,{"$f":"VLOOKUP(AG309,'Anexo ODS'!$G$3:$P$86,5,0)","v":4},{"$f":"VLOOKUP(AG309,'Anexo ODS'!$G$3:$P$86,6,0)","v":"El Planeta"},{"$f":"VLOOKUP(AG309,'Anexo ODS'!$G$3:$P$86,7,0)","v":15},{"$f":"VLOOKUP(AG309,'Anexo ODS'!$G$3:$P$86,8,0)","v":"Vida de ecosistemas terrestres"},{"$f":"VLOOKUP(AG309,'Anexo ODS'!$G$3:$P$86,9,0)","v":"15.1"},{"$f":"VLOOKUP(AG309,'Anexo ODS'!$G$3:$P$86,10,0)","v":"De aquí a 2020, asegurar la conservación, el restablecimiento y el uso sostenible de los ecosistemas terrestres y los ecosistemas interiores de agua dulce y sus servicios, en particular los bosques, los humedales, las montañas y las zonas áridas, en consonancia con las obligaciones contraídas en virtud de acuerdos internacionales"},null,null,null,null,null,null,null,null,4000]
[309,5,"Usme",2,"Cambiar nuestros hábitos de vida para reverdecer a Bogotá y adaptarnos y mitigar el cambio climático.",33,"Más árboles y más y mejor espacio público ",null,null,null,null,309,"Plantar 4000 árboles urbanos y/o rurales.",1808,"Calidad ambiental en Usme","ARBORIZACIÓN","Suma",null,"Plantar",4000,"Árboles","urbanos y/o rurales.","Plantar 4000 árboles urbanos y/o rurales.",{"$f":"VLOOKUP(AG310,'Anexo PMR'!$B$4:$G$87,6,0)","v":"2_Presupuestos Participativos 50%"},8,"Inversiones ambientales sostenibles","Arbolado urbano y/o rural.",94,"AMBIENTE",19,"Plantación y mantenimiento de árboles, jardines y especies vegetales. ",45,"Número de árboles plantados","ARBOLADO",null,null,null,1526,1037,1008,429,277000000,179000000,174000000,74000000,704000000,1,0,0,0,0,"Bajo","Bajo",9.9224806201550386E-2,0,0,null,null,null,0,"2021_1",1526,1526,0,0,0,0,0,0,0,0,0,0,0,"",null,null,null,263485000,263485000,0,0,0,null,0,0,0,0,null,null,0,0,0,"",null,null,null,null,null,{"$f":"VLOOKUP(AG310,'Anexo ODS'!$G$3:$P$86,5,0)","v":4},{"$f":"VLOOKUP(AG310,'Anexo ODS'!$G$3:$P$86,6,0)","v":"El Planeta"},{"$f":"VLOOKUP(AG310,'Anexo ODS'!$G$3:$P$86,7,0)","v":15},{"$f":"VLOOKUP(AG310,'Anexo ODS'!$G$3:$P$86,8,0)","v":"Vida de ecosistemas terrestres"},{"$f":"VLOOKUP(AG310,'Anexo ODS'!$G$3:$P$86,9,0)","v":"15.1"},{"$f":"VLOOKUP(AG310,'Anexo ODS'!$G$3:$P$86,10,0)","v":"De aquí a 2020, asegurar la conservación, el restablecimiento y el uso sostenible de los ecosistemas terrestres y los ecosistemas interiores de agua dulce y sus servicios, en particular los bosques, los humedales, las montañas y las zonas áridas, en consonancia con las obligaciones contraídas en virtud de acuerdos internacionales"},null,null,null,null,null,null,null,null,4000]
[314,5,"Usme",2,"Cambiar nuestros hábitos de vida para reverdecer a Bogotá y adaptarnos y mitigar el cambio climático.",38,"Ecoeficiencia, reciclaje, manejo de residuos e inclusión de la población recicladora",null,null,null,null,314,"Realizar 4 acciones con energías alternativas para el área rural.",1816,"Usme comprometida con energías alternativas y separación en la fuente","ENERGÍAS ALTERNATIVAS","Suma",null,"Realizar",4,"Acciones","con energías alternativas para el área rural.","Realizar 4 acciones con energías alternativas para el área rural.",{"$f":"VLOOKUP(AG315,'Anexo PMR'!$B$4:$G$87,6,0)","v":"2_Presupuestos Participativos 50%"},9,"Ruralidad","Energías alternativas para el área rural.",96,"HÁBITAT",24,"Fuentes de energías alternativas para el área rural.",51,"Acciones con energías alternativas para el área rural realizadas.","ENERGÍAS ALTERNATIVAS",null,null,null,1,1,1,1,673000000,673000000,694000000,695000000,2735000000,1,0,0,0,0,"Bajo","Bajo",0.65305635148042029,0,0,null,null,null,0,"2021_1",1,1,0,0,0,0,0,0,0,0,0,0,0,"",null,null,null,640165000,640165000,0,0,0,null,0,0,0,0,null,null,0,0,0,"Se contrató personal por este proyecto,estos no afectan meta",null,null,null,null,null,{"$f":"VLOOKUP(AG315,'Anexo ODS'!$G$3:$P$86,5,0)","v":4},{"$f":"VLOOKUP(AG315,'Anexo ODS'!$G$3:$P$86,6,0)","v":"El Planeta"},{"$f":"VLOOKUP(AG315,'Anexo ODS'!$G$3:$P$86,7,0)","v":12},{"$f":"VLOOKUP(AG315,'Anexo ODS'!$G$3:$P$86,8,0)","v":"Producción y consumo responsables"},{"$f":"VLOOKUP(AG315,'Anexo ODS'!$G$3:$P$86,9,0)","v":"12.5"},{"$f":"VLOOKUP(AG315,'Anexo ODS'!$G$3:$P$86,10,0)","v":"De aquí a 2030, reducir considerablemente la generación de desechos mediante actividades de prevención, reducción, reciclado y reutilización"},null,null,null,null,null,null,null,null,4]
[319,5,"Usme",3,"Inspirar confianza y legitimidad para vivir sin miedo y ser epicentro de cultura ciudadana, paz y reconciliación.",43,"Cultura ciudadana para la confianza, la convivencia y la participación desde la vida cotidiana",null,null,null,null,319,"Incluir 600 personas en actividades de educación para la resiliencia y la prevención de hechos delictivos.",1821,"Usme pilar de la cultura ciudadana para la confianza, la convivencia y la participación","PREVENCIÓN","Suma",null,"Incluir",600,"Personas","en actividades de educación para la resiliencia y la prevención de hechos delictivos.","Incluir 600 personas en actividades de educación para la resiliencia y la prevención de hechos delictivos.",{"$f":"VLOOKUP(AG320,'Anexo PMR'!$B$4:$G$87,6,0)","v":"2_Presupuestos Participativos 50%"},7,"Desarrollo social y cultural","Promoción de la convivencia ciudadana.",102,"SEGURIDAD, CONVIVENCIA Y JUSTICIA",27,"Prevención, atención y gestión del conflicto en la localidad.",57,"Personas incluidas en actividades de educación para la resiliencia y la prevención de hechos delictivos. ","ACCIONES DE CONVIVENCIA",null,null,null,66,99,101,334,45000000,64000000,65000000,216000000,390000000,1,0,0,0,0,"Bajo","Bajo",0.50064184852374838,0,0,null,null,null,0,"2021_1",66,66,0,0,0,0,0,0,0,0,0,0,0,"",null,null,null,42805000,42805000,0,0,0,null,0,0,0,0,null,null,0,0,0,"",null,null,null,null,null,{"$f":"VLOOKUP(AG320,'Anexo ODS'!$G$3:$P$86,5,0)","v":2},{"$f":"VLOOKUP(AG320,'Anexo ODS'!$G$3:$P$86,6,0)","v":"La Paz"},{"$f":"VLOOKUP(AG320,'Anexo ODS'!$G$3:$P$86,7,0)","v":16},{"$f":"VLOOKUP(AG320,'Anexo ODS'!$G$3:$P$86,8,0)","v":"Paz, justicia e instituciones sólidas"},{"$f":"VLOOKUP(AG320,'Anexo ODS'!$G$3:$P$86,9,0)","v":"16.1"},{"$f":"VLOOKUP(AG320,'Anexo ODS'!$G$3:$P$86,10,0)","v":"Reducir significativamente todas las formas de violencia y las correspondientes tasas de mortalidad en todo el mundo"},null,null,null,null,null,null,null,null,600]
[324,5,"Usme",3,"Inspirar confianza y legitimidad para vivir sin miedo y ser epicentro de cultura ciudadana, paz y reconciliación.",48,"Plataforma institucional para la seguridad y justicia",null,null,null,null,324,"Beneficiar 800 personas a través de estrategias para el fortalecimiento de los mecanismos de justicia comunitaria.",1825,"Acceso a la justicia para el desarrollo social y cultural del siglo XXI","JUSTICIA COMUNITARIA","Suma",null,"Beneficiar",800,"Personas","a través de estrategias para el fortalecimiento de los mecanismos de justicia comunitaria.","Beneficiar 800 personas a través de estrategias para el fortalecimiento de los mecanismos de justicia comunitaria.",{"$f":"VLOOKUP(AG325,'Anexo PMR'!$B$4:$G$87,6,0)","v":"2_Presupuestos Participativos 50%"},7,"Desarrollo social y cultural","Acceso a la Justicia.",102,"SEGURIDAD, CONVIVENCIA Y JUSTICIA",29,"Bienes y  servicios de apoyo para el fortalecimiento de la justicia comunitaria y la justicia integral en la ciudad.",61,"Beneficiarios de las estrategias para el fortalecimiento  de los mecanismos  de justicia comunitaria.","ACCESO A LA JUSTICIA",null,null,null,130,199,206,265,44000000,64000000,66000000,85000000,259000000,1,0,0,0,0,"Bajo","Bajo",9.306503772906935E-2,0,0,null,null,null,0,"2021_1",130,130,0,0,0,0,0,0,0,0,0,0,0,"",null,null,null,41854000,41854000,0,0,0,null,0,0,0,0,null,null,0,0,0,"",null,null,null,null,null,{"$f":"VLOOKUP(AG325,'Anexo ODS'!$G$3:$P$86,5,0)","v":2},{"$f":"VLOOKUP(AG325,'Anexo ODS'!$G$3:$P$86,6,0)","v":"La Paz"},{"$f":"VLOOKUP(AG325,'Anexo ODS'!$G$3:$P$86,7,0)","v":16},{"$f":"VLOOKUP(AG325,'Anexo ODS'!$G$3:$P$86,8,0)","v":"Paz, justicia e instituciones sólidas"},{"$f":"VLOOKUP(AG325,'Anexo ODS'!$G$3:$P$86,9,0)","v":"16.3"},{"$f":"VLOOKUP(AG325,'Anexo ODS'!$G$3:$P$86,10,0)","v":"Promover el estado de derecho en los planos nacional e internacional y garantizar la igualdad de acceso a la justicia para todos"},null,null,null,null,null,null,null,null,800]
[325,5,"Usme",3,"Inspirar confianza y legitimidad para vivir sin miedo y ser epicentro de cultura ciudadana, paz y reconciliación.",48,"Plataforma institucional para la seguridad y justicia",null,null,null,null,325,"Implementar 2 estrategia local de acciones pedagógicas del Código Nacional de Seguridad y Convivencia Ciudadana en la localidad.",1825,"Acceso a la justicia para el desarrollo social y cultural del siglo XXI","ACCIONES PEDAGÓGICAS","Suma",null,"Implementar",2,"Estrategias","local de acciones pedagógicas del Código Nacional de Seguridad y Convivencia Ciudadana en la localidad.","Implementar 2 estrategia local de acciones pedagógicas del Código Nacional de Seguridad y Convivencia Ciudadana en la localidad.",{"$f":"VLOOKUP(AG326,'Anexo PMR'!$B$4:$G$87,6,0)","v":"2_Presupuestos Participativos 50%"},7,"Desarrollo social y cultural","Acceso a la Justicia.",102,"SEGURIDAD, CONVIVENCIA Y JUSTICIA",27,"Prevención, atención y gestión del conflicto en la localidad.",64,"Estrategia local de acciones pedagógicas del Código Nacional de Seguridad y Convivencia Ciudadana implementada en la localidad.","ACCESO A LA JUSTICIA",null,null,null,1,0.7,0,0.3,92000000,98000000,0,18000000,208000000,1,0,0,0,0,"Bajo","Bajo",7.4739489759252611E-2,0,0,null,null,null,0,"2021_1",1,1,0,0,0,0,0,0,0,0,0,0,0,"",null,null,null,87511000,87511000,0,0,0,null,0,0,0,0,null,null,0,0,0,"",null,null,null,null,null,{"$f":"VLOOKUP(AG326,'Anexo ODS'!$G$3:$P$86,5,0)","v":2},{"$f":"VLOOKUP(AG326,'Anexo ODS'!$G$3:$P$86,6,0)","v":"La Paz"},{"$f":"VLOOKUP(AG326,'Anexo ODS'!$G$3:$P$86,7,0)","v":16},{"$f":"VLOOKUP(AG326,'Anexo ODS'!$G$3:$P$86,8,0)","v":"Paz, justicia e instituciones sólidas"},{"$f":"VLOOKUP(AG326,'Anexo ODS'!$G$3:$P$86,9,0)","v":"16.3"},{"$f":"VLOOKUP(AG326,'Anexo ODS'!$G$3:$P$86,10,0)","v":"Promover el estado de derecho en los planos nacional e internacional y garantizar la igualdad de acceso a la justicia para todos"},null,null,null,null,null,null,null,null,2]
[330,5,"Usme",3,"Inspirar confianza y legitimidad para vivir sin miedo y ser epicentro de cultura ciudadana, paz y reconciliación.",48,"Plataforma institucional para la seguridad y justicia",null,null,null,null,330,"Suministrar 4 dotaciones tecnológicas a organismos de seguridad.",1846,"Usme comprometida con la segurdad","DOTACIÓN","Suma",null,"Suministrar",4,"Dotaciones","tecnológicas a organismos de seguridad.","Suministrar 4 dotaciones tecnológicas a organismos de seguridad.",{"$f":"VLOOKUP(AG331,'Anexo PMR'!$B$4:$G$87,6,0)","v":"2_Presupuestos Participativos 50%"},7,"Desarrollo social y cultural","Dotación para instancias de seguridad.",102,"SEGURIDAD, CONVIVENCIA Y JUSTICIA",30,"Infraestructura y dotaciones para seguridad.",65,"Dotaciones tecnológicas suministradas a organismos de seguridad.","DOTACIÓN EN SEGURIDAD",null,null,null,1,1,1,1,89000000,111000000,114000000,135000000,449000000,1,0,0,0,0,"Bajo","Bajo",0.16133668702838663,0,0,null,null,null,0,"2021_1",1,1,0,0,0,0,0,0,0,0,0,0,0,"",null,null,null,84657000,84657000,0,0,0,null,0,0,0,0,null,null,0,0,0,"Se contrató personal por este proyecto,estos no afectan meta",null,null,null,null,null,{"$f":"VLOOKUP(AG331,'Anexo ODS'!$G$3:$P$86,5,0)","v":2},{"$f":"VLOOKUP(AG331,'Anexo ODS'!$G$3:$P$86,6,0)","v":"La Paz"},{"$f":"VLOOKUP(AG331,'Anexo ODS'!$G$3:$P$86,7,0)","v":16},{"$f":"VLOOKUP(AG331,'Anexo ODS'!$G$3:$P$86,8,0)","v":"Paz, justicia e instituciones sólidas"},{"$f":"VLOOKUP(AG331,'Anexo ODS'!$G$3:$P$86,9,0)","v":"16.a"},{"$f":"VLOOKUP(AG331,'Anexo ODS'!$G$3:$P$86,10,0)","v":"Fortalecer las instituciones nacionales pertinentes, incluso mediante la cooperación internacional, para crear a todos los niveles, particularmente en los países en desarrollo, la capacidad de prevenir la violencia y combatir el terrorismo y la delincuencia"},null,null,null,null,null,null,null,null,4]
[335,5,"Usme",4,"Hacer de Bogotá-región un modelo de movilidad, creatividad y productividad incluyente y sostenible",49,"Movilidad segura, sostenible y accesible",null,null,null,null,335,"Intervenir 6000 metros lineales de Ciclo-infraestructura con acciones de construcción y/o conservación.",1847,"movilidad local sostenible","CICLO INFRAESTRUCTURA","Suma",null,"Intervenir",6000,"Metros","lineales de Ciclo-infraestructura con acciones de construcción y/o conservación.","Intervenir 6000 metros lineales de Ciclo-infraestructura con acciones de construcción y/o conservación.",{"$f":"VLOOKUP(AG336,'Anexo PMR'!$B$4:$G$87,6,0)","v":"2_Presupuestos Participativos 50%"},6,"Infraestructura","Diseño, construcción y conservación de ciclo-infraestructura.",95,"MOVILIDAD",33,"Ciclo infraestructura construida y/o conservada.",73,"Metros lineales construidos y/o conservados de Ciclo-infraestructura","CICLO-INFRAESTRUCTURA",null,null,null,364,2627,3009,0,300000000,2062000000,2362000000,0,4724000000,1,0,0,0,0,"Bajo","Bajo",0.29842072015161086,0,0,null,null,null,0,"2021_1",364,364,0,0,0,0,0,0,0,0,0,0,0,"",null,null,null,285363000,285363000,0,0,0,null,0,0,0,0,null,null,0,0,0,"",null,null,null,null,null,{"$f":"VLOOKUP(AG336,'Anexo ODS'!$G$3:$P$86,5,0)","v":3},{"$f":"VLOOKUP(AG336,'Anexo ODS'!$G$3:$P$86,6,0)","v":"La Prosperidad"},{"$f":"VLOOKUP(AG336,'Anexo ODS'!$G$3:$P$86,7,0)","v":11},{"$f":"VLOOKUP(AG336,'Anexo ODS'!$G$3:$P$86,8,0)","v":"Ciudades y comunidades sostenibles"},{"$f":"VLOOKUP(AG336,'Anexo ODS'!$G$3:$P$86,9,0)","v":"11.2"},{"$f":"VLOOKUP(AG336,'Anexo ODS'!$G$3:$P$86,10,0)","v":" De aquí a 2030, proporcionar acceso a sistemas de transporte seguros, asequibles, accesibles y sostenibles para todos y mejorar la seguridad vial, en particular mediante la ampliación del transporte público, prestando especial atención a las necesidades de las personas en situación de vulnerabilidad, las mujeres, los niños, las personas con discapacidad y las personas de edad"},null,null,null,null,null,null,null,null,6000]
[340,5,"Usme",5,"Construir Bogotá-región con gobierno abierto, transparente y ciudadanía consciente.",55,"Fortalecimiento de Cultura Ciudadana y su institucionalidad",null,null,null,null,340,"Fortalecer 300 Organizaciones, JAC e Instancias de participación ciudadana.",1854,"Intervención, dotación de salones comunales para el fortalecimiento de la participación ciudadana","FORTALECIMIENTO ORGANIZATIVO","Suma",null,"Fortalecer",300,"Organizaciones",", JAC e Instancias de participación ciudadana.","Fortalecer 300 Organizaciones, JAC e Instancias de participación ciudadana.",{"$f":"VLOOKUP(AG341,'Anexo PMR'!$B$4:$G$87,6,0)","v":"2_Presupuestos Participativos 50%"},7,"Desarrollo social y cultural","Fortalecimiento de organizaciones sociales, comunitarias, comunales, propiedad horizontal e instancias y mecanismos de participación, con énfasis en jóvenes y asociatividad productiva.",98,"GOBIERNO",35,"Espacios y procesos de participación ciudadana fortalecidos. ",79,"Número de Organizaciones, JAC e Instancias de participación ciudadana fortalecidas.","FORTALECIMIENTO ORGANIZATIVO",null,null,null,69,75,77,79,1484000000,1530000000,1578000000,1629000000,6221000000,1,0,0,0,0,"Bajo","Bajo",0.49463306034825477,0,0,null,null,null,0,"2021_1",69,69,0,0,0,0,0,0,0,0,0,0,0,"",null,null,null,1411598000,1411598000,0,0,0,null,0,0,0,0,null,null,0,0,0,"",null,null,null,null,null,{"$f":"VLOOKUP(AG341,'Anexo ODS'!$G$3:$P$86,5,0)","v":2},{"$f":"VLOOKUP(AG341,'Anexo ODS'!$G$3:$P$86,6,0)","v":"La Paz"},{"$f":"VLOOKUP(AG341,'Anexo ODS'!$G$3:$P$86,7,0)","v":16},{"$f":"VLOOKUP(AG341,'Anexo ODS'!$G$3:$P$86,8,0)","v":"Paz, justicia e instituciones sólidas"},{"$f":"VLOOKUP(AG341,'Anexo ODS'!$G$3:$P$86,9,0)","v":"16.7"},{"$f":"VLOOKUP(AG341,'Anexo ODS'!$G$3:$P$86,10,0)","v":"Garantizar la adopción en todos los niveles de decisiones inclusivas, participativas y representativas que respondan a las necesidades"},null,null,null,null,null,null,null,null,300]
[341,5,"Usme",5,"Construir Bogotá-región con gobierno abierto, transparente y ciudadanía consciente.",55,"Fortalecimiento de Cultura Ciudadana y su institucionalidad",null,null,null,null,341,"Intervenir 40 sedes de salones comunales.",1854,"Intervención, dotación de salones comunales para el fortalecimiento de la participación ciudadana","INTERVENCIÓN","Suma",null,"Intervenir",40,"Sedes","de salones comunales.","Intervenir 40 sedes de salones comunales.",{"$f":"VLOOKUP(AG342,'Anexo PMR'!$B$4:$G$87,6,0)","v":"2_Presupuestos Participativos 50%"},6,"Infraestructura","Intervención y dotación de salones comunales.",98,"GOBIERNO",35,"Espacios y procesos de participación ciudadana fortalecidos. ",75,"Sedes intervenidas de salones comunales.","SALONES COMUNALES",null,null,null,9,10,10,11,678000000,698000000,721000000,743000000,2840000000,1,0,0,0,0,"Bajo","Bajo",0.22580901645861493,0,0,null,null,null,0,"2021_1",9,9,0,0,0,0,0,0,0,0,0,0,0,"",null,null,null,644922000,644922000,0,0,0,null,0,0,0,0,null,null,0,0,0,"",null,null,null,null,null,{"$f":"VLOOKUP(AG342,'Anexo ODS'!$G$3:$P$86,5,0)","v":3},{"$f":"VLOOKUP(AG342,'Anexo ODS'!$G$3:$P$86,6,0)","v":"La Prosperidad"},{"$f":"VLOOKUP(AG342,'Anexo ODS'!$G$3:$P$86,7,0)","v":11},{"$f":"VLOOKUP(AG342,'Anexo ODS'!$G$3:$P$86,8,0)","v":"Ciudades y comunidades sostenibles"},{"$f":"VLOOKUP(AG342,'Anexo ODS'!$G$3:$P$86,9,0)","v":"11.3"},{"$f":"VLOOKUP(AG342,'Anexo ODS'!$G$3:$P$86,10,0)","v":"De aquí a 2030, aumentar la urbanización inclusiva y sostenible y la capacidad para la planificación y la gestión participativas, integradas y sostenibles de los asentamientos humanos en todos los países"},null,null,null,null,null,null,null,null,40]
[346,6,"Tunjuelito",1,"Hacer un nuevo contrato social con igualdad de oportunidades para la inclusión social, productiva y política",1,"Subsidios y transferencias para la equidad",null,null,null,null,346,"Beneficiar 1.624 personas mayores con apoyo económico tipo C.",1874,"Tunjuelito un contrato social por la Inclusión","SUBSIDIO TIPO C","Constante",null,"Beneficiar",1624,"Personas","mayores con apoyo económico tipo C.","Beneficiar 1.624 personas mayores con apoyo económico tipo C.",{"$f":"VLOOKUP(AG347,'Anexo PMR'!$B$4:$G$87,6,0)","v":"1_Inflexible 45%"},3,"Sistema Bogotá Solidaria (20%)","Subsidio tipo C adulto mayor.",92,"INTEGRACIÓN SOCIAL",1,"Protección integral a personas y familias en situación de vulneración.",2,"Número de personas mayores con apoyo económico tipo C","SUBSIDIO TIPO C",null,null,null,1624,1624,1624,1624,2960000000,3066000000,3475000000,4392000000,13893000000,1,406,0.25,406,0.25,"Bajo","Bajo",0.63563160543532959,0.1589079013588324,0.1589079013588324,null,null,null,0,"2021_1",1624,1624,0,0,0,1624,0,0,0,1624,0,0,0,"Incompleto",null,null,null,2859000000,2859000000,0,0,0,1330000000,0,0,0,1330000000,407000000,407000000,0,0,0,"En el primer trimestre se hanentregado de forma constante los 1624 apoyos económicos tipo c a personas mayores de la localidad.",null,null,null,null,null,{"$f":"VLOOKUP(AG347,'Anexo ODS'!$G$3:$P$86,5,0)","v":1},{"$f":"VLOOKUP(AG347,'Anexo ODS'!$G$3:$P$86,6,0)","v":"Las Personas"},{"$f":"VLOOKUP(AG347,'Anexo ODS'!$G$3:$P$86,7,0)","v":1},{"$f":"VLOOKUP(AG347,'Anexo ODS'!$G$3:$P$86,8,0)","v":"Fin de la pobreza"},{"$f":"VLOOKUP(AG347,'Anexo ODS'!$G$3:$P$86,9,0)","v":"1.2"},{"$f":"VLOOKUP(AG347,'Anexo ODS'!$G$3:$P$86,10,0)","v":"De aquí a 2030, reducir al menos a la mitad la proporción de hombres, mujeres y niños de todas las edades que viven en la pobreza en todas sus dimensiones con arreglo a las definiciones nacionales"},null,null,null,null,null,null,null,null,1624]
[351,6,"Tunjuelito",1,"Hacer un nuevo contrato social con igualdad de oportunidades para la inclusión social, productiva y política",6,"Sistema Distrital de Cuidado",null,null,null,null,351,"Dotar 1 Centro de Desarrollo Comunitario.",1914,"Tunjuelito fortalece la atención a la primera infancia","DOTACIÓN CDC","Suma",null,"Dotar",1,"Centros","de Desarrollo comunitario","Dotar 1 Centro de Desarrollo Comunitario.",{"$f":"VLOOKUP(AG352,'Anexo PMR'!$B$4:$G$87,6,0)","v":"2_Presupuestos Participativos 50%"},6,"Infraestructura","Dotación Centros de Desarrollo Comunitario.",92,"INTEGRACIÓN SOCIAL",5,"Dotación para la atención y la prestación de los servicios en la infraestructura del sector Integración Social.",27,"Sedes de Centros de Desarrollo comunitarios dotados","CENTROS DE DESARROLLO COMUNITARIO",null,null,null,0.5,0,0,0.5,200000000,0,0,522000000,722000000,1,0,0,0,0,"Bajo","Bajo",4.174616941312518E-2,0,0,null,null,null,0,"2021_1",0.5,0.5,0,0,0,0,0,0,0,0,0,0,0,"",null,null,null,193000000,193000000,0,0,0,null,0,0,0,0,null,null,0,0,0,"",null,null,null,null,null,{"$f":"VLOOKUP(AG352,'Anexo ODS'!$G$3:$P$86,5,0)","v":3},{"$f":"VLOOKUP(AG352,'Anexo ODS'!$G$3:$P$86,6,0)","v":"La Prosperidad"},{"$f":"VLOOKUP(AG352,'Anexo ODS'!$G$3:$P$86,7,0)","v":10},{"$f":"VLOOKUP(AG352,'Anexo ODS'!$G$3:$P$86,8,0)","v":"Reducción de las desigualdades "},{"$f":"VLOOKUP(AG352,'Anexo ODS'!$G$3:$P$86,9,0)","v":"10.2"},{"$f":"VLOOKUP(AG352,'Anexo ODS'!$G$3:$P$86,10,0)","v":"De aquí a 2030, potenciar y promover la inclusión social, económica y política de todas las personas, independientemente de su edad, sexo, discapacidad, raza, etnia, origen, religión o situación económica u otra condición"},null,null,null,null,null,null,null,null,1]
[356,6,"Tunjuelito",1,"Hacer un nuevo contrato social con igualdad de oportunidades para la inclusión social, productiva y política",6,"Sistema Distrital de Cuidado",null,null,null,null,356,"Vincular 120 personas en acciones complementarias de la estrategia territorial de salud.",1916,"Tunjuelito territorio saludable","ESTRATEGIA TERRITORIAL DE SALUD","Suma",null,"Vincular",120,"Personas","en acciones complementarias de la estrategia territorial de salud.","Vincular 120 personas en acciones complementarias de la estrategia territorial de salud.",{"$f":"VLOOKUP(AG357,'Anexo PMR'!$B$4:$G$87,6,0)","v":"3_Flexible 5%"},11,"Condiciones de salud","Coinversión en la estrategia territorial de salud.",91,"SALUD",16,"Promoción, prevención e intervención en salud.",36,"Número de personas vinculadas en las acciones complementarias de la estrategia territorial de salud.","ESTRATEGIA TERRITORIAL DE SALUD",null,null,null,30,30,30,30,34000000,35000000,36000000,39000000,144000000,1,0,0,0,0,"Bajo","Bajo",8.3261058109280143E-3,0,0,null,null,null,0,"2021_1",30,30,0,0,0,0,0,0,0,0,0,0,0,"",null,null,null,32000000,32000000,0,0,0,null,0,0,0,0,null,null,0,0,0,"",null,null,null,null,null,{"$f":"VLOOKUP(AG357,'Anexo ODS'!$G$3:$P$86,5,0)","v":1},{"$f":"VLOOKUP(AG357,'Anexo ODS'!$G$3:$P$86,6,0)","v":"Las Personas"},{"$f":"VLOOKUP(AG357,'Anexo ODS'!$G$3:$P$86,7,0)","v":3},{"$f":"VLOOKUP(AG357,'Anexo ODS'!$G$3:$P$86,8,0)","v":"Salud y Bienestar"},{"$f":"VLOOKUP(AG357,'Anexo ODS'!$G$3:$P$86,9,0)","v":"3.8"},{"$f":"VLOOKUP(AG357,'Anexo ODS'!$G$3:$P$86,10,0)","v":"Lograr la cobertura sanitaria universal, incluida la protección contra los riesgos financieros, el acceso a servicios de salud esenciales de calidad y el acceso a medicamentos y vacunas inocuos, eficaces, asequibles y de calidad para todos"},null,null,null,null,null,null,null,null,120]
[357,6,"Tunjuelito",1,"Hacer un nuevo contrato social con igualdad de oportunidades para la inclusión social, productiva y política",6,"Sistema Distrital de Cuidado",null,null,null,null,357,"Vincular 200 personas a las acciones y estrategias de reconocimiento de los saberes ancestrales en medicina.",1916,"Tunjuelito territorio saludable","SABERES ANCESTRALES","Suma",null,"Vincular",200,"Personas","a las acciones y estrategias de reconocimiento de los saberes ancestrales en medicina.","Vincular 200 personas a las acciones y estrategias de reconocimiento de los saberes ancestrales en medicina.",{"$f":"VLOOKUP(AG358,'Anexo PMR'!$B$4:$G$87,6,0)","v":"3_Flexible 5%"},11,"Condiciones de salud","Reconocimiento de los saberes ancestrales en medicina.",91,"SALUD",16,"Promoción, prevención e intervención en salud.",34,"Número de personas vinculadas a las acciones y estrategias de reconocimiento de los saberes ancestrales en medicina.","SABERES ANCESTRALES",null,null,null,50,50,50,50,70000000,72000000,74000000,77000000,293000000,1,0,0,0,0,"Bajo","Bajo",1.6941312518068807E-2,0,0,null,null,null,0,"2021_1",50,50,0,0,0,0,0,0,0,0,0,0,0,"",null,null,null,67000000,67000000,0,0,0,null,0,0,0,0,null,null,0,0,0,"",null,null,null,null,null,{"$f":"VLOOKUP(AG358,'Anexo ODS'!$G$3:$P$86,5,0)","v":1},{"$f":"VLOOKUP(AG358,'Anexo ODS'!$G$3:$P$86,6,0)","v":"Las Personas"},{"$f":"VLOOKUP(AG358,'Anexo ODS'!$G$3:$P$86,7,0)","v":3},{"$f":"VLOOKUP(AG358,'Anexo ODS'!$G$3:$P$86,8,0)","v":"Salud y Bienestar"},{"$f":"VLOOKUP(AG358,'Anexo ODS'!$G$3:$P$86,9,0)","v":"3.b"},{"$f":"VLOOKUP(AG358,'Anexo ODS'!$G$3:$P$86,10,0)","v":"Apoyar las actividades de investigación y desarrollo de vacunas y medicamentos contra las enfermedades transmisibles y no transmisibles que afectan primordialmente a los países en desarrollo y facilitar el acceso a medicamentos y vacunas esenciales asequibles de conformidad con la Declaración relativa al Acuerdo sobre los Aspectos de los Derechos de Propiedad Intelectual Relacionados con el Comercio y la Salud Pública, en la que se afirma el derecho de los países en desarrollo a utilizar al máximo las disposiciones del Acuerdo sobre los Aspectos de los Derechos de Propiedad Intelectual Relacionados con el Comercio respecto a la flexibilidad para proteger la salud pública y, en particular, proporcionar acceso a los medicamentos para todos"},null,null,null,null,null,null,null,null,200]
[362,6,"Tunjuelito",1,"Hacer un nuevo contrato social con igualdad de oportunidades para la inclusión social, productiva y política",12,"Educación inicial: Bases sólidas para la vida",null,null,null,null,362,"Implementar 12 Proyectos para el desarrollo integral de la primera infancia y la relación escuela, familia y comunidad.",1909,"Tunjuelito comprometida con el desarrollo Integral de la primera Infancia","EDUCACIÓN INICIAL","Suma",null,"Implementar",12,"Proyectos","para el desarrollo integral de la primera infancia y la relación escuela, familia y comunidad.","Implementar 12 Proyectos para el desarrollo integral de la primera infancia y la relación escuela, familia y comunidad.",{"$f":"VLOOKUP(AG363,'Anexo PMR'!$B$4:$G$87,6,0)","v":"1_Inflexible 45%"},4,"Educación superior y primera infancia (10%)","Apoyo para educación inicial.",90,"EDUCACIÓN",2,"Protección integral a niños y niñas y adolescentes.",3,"Proyectos para el desarrollo integral de la primera infancia y la relación escuela, familia y comunidad.","PROYECTOS PRIMERA INFANCIA",null,null,null,3,3,3,3,575000000,594000000,613000000,633000000,2415000000,1,0,0,0,0,"Bajo","Bajo",1,0,0,null,null,null,0,"2021_1",3,3,0,0,0,0,0,0,0,0,0,0,0,"No mueve meta",null,null,null,555000000,555000000,0,0,0,72000000,0,0,0,72000000,0,0,0,0,0,"Los CRP reportados no mueven la meta, corresponden a contratación de personal por prestación de servicios del FDLT",null,null,null,null,null,{"$f":"VLOOKUP(AG363,'Anexo ODS'!$G$3:$P$86,5,0)","v":1},{"$f":"VLOOKUP(AG363,'Anexo ODS'!$G$3:$P$86,6,0)","v":"Las Personas"},{"$f":"VLOOKUP(AG363,'Anexo ODS'!$G$3:$P$86,7,0)","v":4},{"$f":"VLOOKUP(AG363,'Anexo ODS'!$G$3:$P$86,8,0)","v":"Educación de calidad"},{"$f":"VLOOKUP(AG363,'Anexo ODS'!$G$3:$P$86,9,0)","v":"4.2"},{"$f":"VLOOKUP(AG363,'Anexo ODS'!$G$3:$P$86,10,0)","v":"De aquí a 2030, asegurar que todas las niñas y todos los niños tengan acceso a servicios de atención y desarrollo en la primera infancia y educación preescolar de calidad, a fin de que estén preparados para la enseñanza primaria."},null,null,null,null,null,null,null,null,12]
[367,6,"Tunjuelito",1,"Hacer un nuevo contrato social con igualdad de oportunidades para la inclusión social, productiva y política",20,"Bogotá, referente en cultura, deporte, recreación y actividad física, con parques para el desarrollo y la salud",null,null,null,null,367,"Vincular 1.400 personas en actividades recreo- deportivas comunitarias.",2037,"Por el bienestar recreo-deportivo de Tunjuelito","EVENTOS","Suma",null,"Vincular",1400,"Personas","en actividades recreo- deportivas comunitarias.","Vincular 1.400 personas en actividades recreo- deportivas comunitarias.",{"$f":"VLOOKUP(AG368,'Anexo PMR'!$B$4:$G$87,6,0)","v":"2_Presupuestos Participativos 50%"},7,"Desarrollo social y cultural","Eventos recreo-deportivos.",93,"CULTURA, RECREACIÓN Y DEPORTE",7,"Eventos y actividades recreativas y deportivas.",10,"Personas vinculadas en actividades recreo-deportivas comunitarias","ACTIVIDAD DEPORTIVA",null,null,null,350,350,350,350,300000000,315000000,330000000,339000000,1284000000,1,0,0,0,0,"Bajo","Bajo",0.54268808114961964,0,0,null,null,null,0,"2021_1",350,350,0,0,0,0,0,0,0,0,0,0,0,"",null,null,null,289000000,289000000,0,0,0,null,0,0,0,0,null,null,0,0,0,"",null,null,null,null,null,{"$f":"VLOOKUP(AG368,'Anexo ODS'!$G$3:$P$86,5,0)","v":1},{"$f":"VLOOKUP(AG368,'Anexo ODS'!$G$3:$P$86,6,0)","v":"Las Personas"},{"$f":"VLOOKUP(AG368,'Anexo ODS'!$G$3:$P$86,7,0)","v":3},{"$f":"VLOOKUP(AG368,'Anexo ODS'!$G$3:$P$86,8,0)","v":"Salud y Bienestar"},{"$f":"VLOOKUP(AG368,'Anexo ODS'!$G$3:$P$86,9,0)","v":"3.d"},{"$f":"VLOOKUP(AG368,'Anexo ODS'!$G$3:$P$86,10,0)","v":"Reforzar la capacidad de todos los países, en particular los países en desarrollo, en materia de alerta temprana,  reducción de riesgos y gestión de los riesgos para la salud nacional y mundial"},null,null,null,null,null,null,null,null,1400]
[372,6,"Tunjuelito",1,"Hacer un nuevo contrato social con igualdad de oportunidades para la inclusión social, productiva y política",24,"Bogotá región emprendedora e innovadora",null,null,null,null,372,"Implementar 8 acciones de fomento para la agricultura urbana.",1912,"Cultivando nuestro territorio","AGRICULTURA URBANA","Suma",null,"Implementar",8,"Acciones","de fomento para la agricultura urbana.","Implementar 8 acciones de fomento para la agricultura urbana.",{"$f":"VLOOKUP(AG373,'Anexo PMR'!$B$4:$G$87,6,0)","v":"2_Presupuestos Participativos 50%"},8,"Inversiones ambientales sostenibles","Agricultura urbana.",94,"AMBIENTE",13,"Servicios de asesoría, asistencia técnica integral y dotación de infraestructura productiva para la Agricultura urbana y periurbana.",19,"Número acciones de fomento para la agricultura urbana","AGRICULTURA URBANA",null,null,null,2,2,2,2,230000000,237000000,248000000,253000000,968000000,1,0,0,0,0,"Bajo","Bajo",0.40672268907563025,0,0,null,null,null,0,"2021_1",2,2,0,0,0,0,0,0,0,0,0,0,0,"",null,null,null,222000000,222000000,0,0,0,null,0,0,0,0,null,null,0,0,0,"",null,null,null,null,null,{"$f":"VLOOKUP(AG373,'Anexo ODS'!$G$3:$P$86,5,0)","v":4},{"$f":"VLOOKUP(AG373,'Anexo ODS'!$G$3:$P$86,6,0)","v":"El Planeta"},{"$f":"VLOOKUP(AG373,'Anexo ODS'!$G$3:$P$86,7,0)","v":12},{"$f":"VLOOKUP(AG373,'Anexo ODS'!$G$3:$P$86,8,0)","v":"Producción y consumo responsables"},{"$f":"VLOOKUP(AG373,'Anexo ODS'!$G$3:$P$86,9,0)","v":"12.2"},{"$f":"VLOOKUP(AG373,'Anexo ODS'!$G$3:$P$86,10,0)","v":"De aquí a 2030, lograr la gestión sostenible y el uso eficiente\nde los recursos naturales"},null,null,null,null,null,null,null,null,8]
[373,6,"Tunjuelito",1,"Hacer un nuevo contrato social con igualdad de oportunidades para la inclusión social, productiva y política",24,"Bogotá región emprendedora e innovadora",null,null,null,null,373,"Financiar 48 proyectos del sector cultural y creativo.",2050,"Industria cultural en la nueva Tunjuelito","FORTALECIMIENTO INDUSTRIA CULTURAL","Suma",null,"Financiar",48,"Proyectos","del sector cultural y creativo.","Financiar 48 proyectos del sector cultural y creativo.",{"$f":"VLOOKUP(AG374,'Anexo PMR'!$B$4:$G$87,6,0)","v":"2_Presupuestos Participativos 50%"},7,"Desarrollo social y cultural","Apoyo y fortalecimiento a las industrias culturales y creativas en las localidades",93,"CULTURA, RECREACIÓN Y DEPORTE",9,"Servicio de apoyo financiero para el desarrollo de prácticas artísticas y culturales en el Distrito de Bogotá.",20,"Número de proyectos financiados y acompañados del sector cultural y creativo.","ACTIVIDAD CULTURAL",null,null,null,12,12,12,12,320000000,358000000,360000000,374000000,1412000000,1,0,0,0,0,"Bajo","Bajo",0.59327731092436975,0,0,null,null,null,0,"2021_1",12,12,0,0,0,0,0,0,0,0,0,0,0,"",null,null,null,309000000,309000000,0,0,0,null,0,0,0,0,null,null,0,0,0,"",null,null,null,null,null,{"$f":"VLOOKUP(AG374,'Anexo ODS'!$G$3:$P$86,5,0)","v":3},{"$f":"VLOOKUP(AG374,'Anexo ODS'!$G$3:$P$86,6,0)","v":"La Prosperidad"},{"$f":"VLOOKUP(AG374,'Anexo ODS'!$G$3:$P$86,7,0)","v":8},{"$f":"VLOOKUP(AG374,'Anexo ODS'!$G$3:$P$86,8,0)","v":"Trabajo decente y crecimiento económico"},{"$f":"VLOOKUP(AG374,'Anexo ODS'!$G$3:$P$86,9,0)","v":"8.3"},{"$f":"VLOOKUP(AG374,'Anexo ODS'!$G$3:$P$86,10,0)","v":"Promover políticas orientadas al desarrollo que apoyen las actividades productivas, la creación de puestos de trabajo decentes, el emprendimiento, la creatividad y la innovación, y fomentar la formalización y el crecimiento de las microempresas y las pequeñas y medianas empresas, incluso mediante el acceso a servicios financieros"},null,null,null,null,null,null,null,null,48]
[378,6,"Tunjuelito",2,"Cambiar nuestros hábitos de vida para reverdecer a Bogotá y adaptarnos y mitigar el cambio climático.",30,"Eficiencia en la atención de emergencias",null,null,null,null,378,"Realizar 2 acciones efectivas para el fortalecimiento de las capacidades locales para la respuesta a emergencias y desastres.",0,0,"MANEJO DE EMERGENCIAS, CALAMIDADES Y DESASTRES","Suma",null,"Realizar",2,"Acciones","efectivas para el fortalecimiento de las capacidades locales para la respuesta a emergencias y desastres.","Realizar 2 acciones efectivas para el fortalecimiento de las capacidades locales para la respuesta a emergencias y desastres.",{"$f":"VLOOKUP(AG379,'Anexo PMR'!$B$4:$G$87,6,0)","v":"2_Presupuestos Participativos 50%"},8,"Inversiones ambientales sostenibles","Manejo de emergencias y desastres.",94,"AMBIENTE",18,"Gestión para la prevención y mitigación del riesgo.",42,"Acciones efectivas para el fortalecimiento de las capacidades locales para la respuesta a emergencias y desastres","REDUCCIÓN DEL RIESGO",null,null,null,0,1,1,0,0,273000000,250000000,0,523000000,1,0,0,0,0,"Bajo","Bajo",0.65293383270911365,0,0,null,null,null,0,"2021_1",0,0,0,0,0,0,0,0,0,0,0,0,0,"",null,null,null,0,0,0,0,0,null,0,0,0,0,null,null,0,0,0,"",null,null,null,null,null,{"$f":"VLOOKUP(AG379,'Anexo ODS'!$G$3:$P$86,5,0)","v":3},{"$f":"VLOOKUP(AG379,'Anexo ODS'!$G$3:$P$86,6,0)","v":"La Prosperidad"},{"$f":"VLOOKUP(AG379,'Anexo ODS'!$G$3:$P$86,7,0)","v":11},{"$f":"VLOOKUP(AG379,'Anexo ODS'!$G$3:$P$86,8,0)","v":"Ciudades y comunidades sostenibles"},{"$f":"VLOOKUP(AG379,'Anexo ODS'!$G$3:$P$86,9,0)","v":"11.5"},{"$f":"VLOOKUP(AG379,'Anexo ODS'!$G$3:$P$86,10,0)","v":"De aquí a 2030, reducir significativamente el número de muertes causadas por los desastres, incluidos los relacionados con el agua, y de personas afectadas por ellos, y reducir considerablemente las pérdidas económicas directas provocadas por los desastres en comparación con el producto interno bruto mundial, haciendo especial hincapié en la protección de los pobres y las personas en situaciones de vulnerabilidad"},null,null,null,null,null,null,null,null,2]
[383,6,"Tunjuelito",2,"Cambiar nuestros hábitos de vida para reverdecer a Bogotá y adaptarnos y mitigar el cambio climático.",38,"Ecoeficiencia, reciclaje, manejo de residuos e inclusión de la población recicladora",null,null,null,null,383,"Capacitar 2.000 personas en separación en la fuente y reciclaje.",1923,"Cambio de hábitos para una Tunjuelito sostenible","HÁBITOS DE CONSUMO","Suma",null,"Capacitar",2000,"Personas","en separación en la fuente y reciclaje.","Capacitar 2.000 personas en separación en la fuente y reciclaje.",{"$f":"VLOOKUP(AG384,'Anexo PMR'!$B$4:$G$87,6,0)","v":"2_Presupuestos Participativos 50%"},8,"Inversiones ambientales sostenibles","Cambios de hábitos de consumo, separación en la fuente y reciclaje.",96,"HÁBITAT",23,"Manejo integral de residuos sólidos. ",50,"Personas capacitadas en separación en la fuente y reciclaje","RECICLAJE",null,null,null,500,500,500,500,480000000,495000000,501000000,516000000,1992000000,1,0,0,0,0,"Bajo","Bajo",1,0,0,null,null,null,0,"2021_1",500,500,0,0,0,0,0,0,0,0,0,0,0,"No mueve meta",null,null,null,463000000,463000000,0,0,0,107000000,0,0,0,107000000,4466667,4466667,0,0,0,"Los CRP reportados no mueven la meta, corresponden a contratación de personal por prestación de servicios del FDLT.",null,null,null,null,null,{"$f":"VLOOKUP(AG384,'Anexo ODS'!$G$3:$P$86,5,0)","v":4},{"$f":"VLOOKUP(AG384,'Anexo ODS'!$G$3:$P$86,6,0)","v":"El Planeta"},{"$f":"VLOOKUP(AG384,'Anexo ODS'!$G$3:$P$86,7,0)","v":12},{"$f":"VLOOKUP(AG384,'Anexo ODS'!$G$3:$P$86,8,0)","v":"Producción y consumo responsables"},{"$f":"VLOOKUP(AG384,'Anexo ODS'!$G$3:$P$86,9,0)","v":"12.5"},{"$f":"VLOOKUP(AG384,'Anexo ODS'!$G$3:$P$86,10,0)","v":"De aquí a 2030, reducir considerablemente la generación de desechos mediante actividades de prevención, reducción, reciclado y reutilización"},null,null,null,null,null,null,null,null,2000]
[388,6,"Tunjuelito",3,"Inspirar confianza y legitimidad para vivir sin miedo y ser epicentro de cultura ciudadana, paz y reconciliación.",43,"Cultura ciudadana para la confianza, la convivencia y la participación desde la vida cotidiana",null,null,null,null,388,"Incluir 250 personas en actividades de educación para la resiliencia y la prevención de hechos delictivos.",2058,"Convivencia y participación ciudadana en Tunjuelito","PREVENCIÓN","Suma",null,"Incluir",250,"Personas","en actividades de educación para la resiliencia y la prevención de hechos delictivos.","Incluir 250 personas en actividades de educación para la resiliencia y la prevención de hechos delictivos.",{"$f":"VLOOKUP(AG389,'Anexo PMR'!$B$4:$G$87,6,0)","v":"2_Presupuestos Participativos 50%"},7,"Desarrollo social y cultural","Promoción de la convivencia ciudadana.",102,"SEGURIDAD, CONVIVENCIA Y JUSTICIA",27,"Prevención, atención y gestión del conflicto en la localidad.",57,"Personas incluidas en actividades de educación para la resiliencia y la prevención de hechos delictivos. ","ACCIONES DE CONVIVENCIA",null,null,null,0,0,250,0,0,0,268000000,0,268000000,1,0,0,0,0,"Bajo","Bajo",0.23344947735191637,0,0,null,null,null,0,"2021_1",0,0,0,0,0,0,0,0,0,0,0,0,0,"",null,null,null,0,0,0,0,0,null,0,0,0,0,null,null,0,0,0,"",null,null,null,null,null,{"$f":"VLOOKUP(AG389,'Anexo ODS'!$G$3:$P$86,5,0)","v":2},{"$f":"VLOOKUP(AG389,'Anexo ODS'!$G$3:$P$86,6,0)","v":"La Paz"},{"$f":"VLOOKUP(AG389,'Anexo ODS'!$G$3:$P$86,7,0)","v":16},{"$f":"VLOOKUP(AG389,'Anexo ODS'!$G$3:$P$86,8,0)","v":"Paz, justicia e instituciones sólidas"},{"$f":"VLOOKUP(AG389,'Anexo ODS'!$G$3:$P$86,9,0)","v":"16.1"},{"$f":"VLOOKUP(AG389,'Anexo ODS'!$G$3:$P$86,10,0)","v":"Reducir significativamente todas las formas de violencia y las correspondientes tasas de mortalidad en todo el mundo"},null,null,null,null,null,null,null,null,250]
[389,6,"Tunjuelito",3,"Inspirar confianza y legitimidad para vivir sin miedo y ser epicentro de cultura ciudadana, paz y reconciliación.",45,"Espacio público más seguro y construido colectivamente",null,null,null,null,389,"Realizar 4 acuerdos para el uso del EP con fines culturales, deportivos, recreacionales o de mercados temporales.",2055,"Organización del espacio público en el marco del contrato social y ambiental","ACUERDOS CIUDADANOS","Suma",null,"Realizar",4,"Acuerdos","para el uso del EP con fines culturales, deportivos, recreacionales o de mercados temporales.","Realizar 4 acuerdos para el uso del EP con fines culturales, deportivos, recreacionales o de mercados temporales.",{"$f":"VLOOKUP(AG390,'Anexo PMR'!$B$4:$G$87,6,0)","v":"2_Presupuestos Participativos 50%"},7,"Desarrollo social y cultural","Acuerdos para el uso, acceso y aprovechamiento del espacio público.",98,"GOBIERNO",28,"Acuerdos ciudadanos suscritos.",58,"Acuerdos realizados para el uso del EP con fines culturales, deportivos, recreacionales o de mercados temporales.","\nACUERDOS DE ESPACIO PÚBLICO",null,null,null,0,2,0,2,0,285000000,0,290000000,575000000,1,0,0,0,0,"Bajo","Bajo",0.37386215864759426,0,0,null,null,null,0,"2021_1",0,0,0,0,0,0,0,0,0,0,0,0,0,"",null,null,null,0,0,0,0,0,null,0,0,0,0,null,null,0,0,0,"",null,null,null,null,null,{"$f":"VLOOKUP(AG390,'Anexo ODS'!$G$3:$P$86,5,0)","v":2},{"$f":"VLOOKUP(AG390,'Anexo ODS'!$G$3:$P$86,6,0)","v":"La Paz"},{"$f":"VLOOKUP(AG390,'Anexo ODS'!$G$3:$P$86,7,0)","v":16},{"$f":"VLOOKUP(AG390,'Anexo ODS'!$G$3:$P$86,8,0)","v":"Paz, justicia e instituciones sólidas"},{"$f":"VLOOKUP(AG390,'Anexo ODS'!$G$3:$P$86,9,0)","v":"16.1"},{"$f":"VLOOKUP(AG390,'Anexo ODS'!$G$3:$P$86,10,0)","v":"Reducir significativamente todas las formas de violencia y las correspondientes tasas de mortalidad en todo el mundo"},null,null,null,null,null,null,null,null,4]
[394,6,"Tunjuelito",3,"Inspirar confianza y legitimidad para vivir sin miedo y ser epicentro de cultura ciudadana, paz y reconciliación.",48,"Plataforma institucional para la seguridad y justicia",null,null,null,null,394,"Suministrar 1 dotaciones tecnológicas a organismos de seguridad.",2066,"Tunjuelito fortalece la seguridad y la justicia","DOTACIÓN","Suma",null,"Suministrar",1,"Dotaciones","tecnológicas a organismos de seguridad.","Suministrar 1 dotaciones tecnológicas a organismos de seguridad.",{"$f":"VLOOKUP(AG395,'Anexo PMR'!$B$4:$G$87,6,0)","v":"2_Presupuestos Participativos 50%"},7,"Desarrollo social y cultural","Dotación para instancias de seguridad.",102,"SEGURIDAD, CONVIVENCIA Y JUSTICIA",30,"Infraestructura y dotaciones para seguridad.",65,"Dotaciones tecnológicas suministradas a organismos de seguridad.","DOTACIÓN EN SEGURIDAD",null,null,null,0,1,0,0,0,497000000,0,0,497000000,1,0,0,0,0,"Bajo","Bajo",0.2940828402366864,0,0,null,null,null,0,"2021_1",0,0,0,0,0,0,0,0,0,0,0,0,0,"",null,null,null,0,0,0,0,0,null,0,0,0,0,null,null,0,0,0,"",null,null,null,null,null,{"$f":"VLOOKUP(AG395,'Anexo ODS'!$G$3:$P$86,5,0)","v":2},{"$f":"VLOOKUP(AG395,'Anexo ODS'!$G$3:$P$86,6,0)","v":"La Paz"},{"$f":"VLOOKUP(AG395,'Anexo ODS'!$G$3:$P$86,7,0)","v":16},{"$f":"VLOOKUP(AG395,'Anexo ODS'!$G$3:$P$86,8,0)","v":"Paz, justicia e instituciones sólidas"},{"$f":"VLOOKUP(AG395,'Anexo ODS'!$G$3:$P$86,9,0)","v":"16.a"},{"$f":"VLOOKUP(AG395,'Anexo ODS'!$G$3:$P$86,10,0)","v":"Fortalecer las instituciones nacionales pertinentes, incluso mediante la cooperación internacional, para crear a todos los niveles, particularmente en los países en desarrollo, la capacidad de prevenir la violencia y combatir el terrorismo y la delincuencia"},null,null,null,null,null,null,null,null,1]
[399,6,"Tunjuelito",5,"Construir Bogotá-región con gobierno abierto, transparente y ciudadanía consciente.",55,"Fortalecimiento de Cultura Ciudadana y su institucionalidad",null,null,null,null,399,"Capacitar 960 personas a través de procesos de formación para la participación de manera virtual y presencial.",2069,"Fortaleciendo a Tunjuelito desde lo social","FORMACIÓN","Suma",null,"Capacitar",960,"Personas","a través de procesos de formación para la participación de manera virtual y presencial.","Capacitar 960 personas a través de procesos de formación para la participación de manera virtual y presencial.",{"$f":"VLOOKUP(AG400,'Anexo PMR'!$B$4:$G$87,6,0)","v":"2_Presupuestos Participativos 50%"},7,"Desarrollo social y cultural","Escuelas y procesos de formación para la participación ciudadana y/u organizaciones para los procesos de presupuestos participativos.",98,"GOBIERNO",35,"Espacios y procesos de participación ciudadana fortalecidos. ",78,"Número de Personas capacitadas a través de procesos de formación para la participación de manera virtual y presencial.","FORMACIÓN CIUDADANA",null,null,null,240,240,240,240,297000000,305000000,310000000,314000000,1226000000,1,0,0,0,0,"Bajo","Bajo",0.24792719919110212,0,0,null,null,null,0,"2021_1",240,240,0,0,0,0,0,0,0,0,0,0,0,"No mueve meta",null,null,null,287000000,287000000,0,0,0,88200000,0,0,0,88200000,4200000,4200000,0,0,0,"Los CRP reportados no mueven la meta, corresponden a contratación de personal por prestación de servicios del FDLT.",null,null,null,null,null,{"$f":"VLOOKUP(AG400,'Anexo ODS'!$G$3:$P$86,5,0)","v":2},{"$f":"VLOOKUP(AG400,'Anexo ODS'!$G$3:$P$86,6,0)","v":"La Paz"},{"$f":"VLOOKUP(AG400,'Anexo ODS'!$G$3:$P$86,7,0)","v":16},{"$f":"VLOOKUP(AG400,'Anexo ODS'!$G$3:$P$86,8,0)","v":"Paz, justicia e instituciones sólidas"},{"$f":"VLOOKUP(AG400,'Anexo ODS'!$G$3:$P$86,9,0)","v":"16.7"},{"$f":"VLOOKUP(AG400,'Anexo ODS'!$G$3:$P$86,10,0)","v":"Garantizar la adopción en todos los niveles de decisiones inclusivas, participativas y representativas que respondan a las necesidades"},null,null,null,null,null,null,null,null,960]
[404,6,"Tunjuelito",5,"Construir Bogotá-región con gobierno abierto, transparente y ciudadanía consciente.",57,"Gestión Pública Local",null,null,null,null,404,"Realizar 1 rendición de cuentas anuales.",2071,"Transparencia y fortalecimiento institucional para la Tunjuelito del siglo XXI","TRANSPARENCIA Y CONTROL SOCIAL","Constante",null,"Realizar",1,"Rendicion de cuenta","anuales.","Realizar 1 rendición de cuentas anual.",{"$f":"VLOOKUP(AG405,'Anexo PMR'!$B$4:$G$87,6,0)","v":"3_Flexible 5%"},10,"Participación\nCiudadana y\nconstrucción de\nconfianza.","Transparencia, control social y rendición de cuentas del Gobierno Local.",98,"GOBIERNO",35,"Espacios y procesos de participación ciudadana fortalecidos. ",83,"Número de Rendiciones de cuentas anuales.","TRANSPARENCIA Y CONTROL SOCIAL",null,null,null,1,1,1,1,30000000,31000000,32000000,33000000,126000000,1,0,0,0,0,"Bajo","Bajo",8.1164648286524092E-3,0,0,null,null,null,0,"2021_1",1,1,0,0,0,0,0,0,0,0,0,0,0,"",null,null,null,29000000,29000000,0,0,0,null,0,0,0,0,null,null,0,0,0,"",null,null,null,null,null,{"$f":"VLOOKUP(AG405,'Anexo ODS'!$G$3:$P$86,5,0)","v":2},{"$f":"VLOOKUP(AG405,'Anexo ODS'!$G$3:$P$86,6,0)","v":"La Paz"},{"$f":"VLOOKUP(AG405,'Anexo ODS'!$G$3:$P$86,7,0)","v":16},{"$f":"VLOOKUP(AG405,'Anexo ODS'!$G$3:$P$86,8,0)","v":"Paz, justicia e instituciones sólidas"},{"$f":"VLOOKUP(AG405,'Anexo ODS'!$G$3:$P$86,9,0)","v":"16.6"},{"$f":"VLOOKUP(AG405,'Anexo ODS'!$G$3:$P$86,10,0)","v":"Garantizar el acceso público a la información y proteger las libertades fundamentales, de conformidad con las leyes nacionales y los acuerdos internacionales"},null,null,null,null,null,null,null,null,1]
[405,6,"Tunjuelito",5,"Construir Bogotá-región con gobierno abierto, transparente y ciudadanía consciente.",57,"Gestión Pública Local",null,null,null,null,405,"Realizar 4 estrategias de fortalecimiento institucional.",2071,"Transparencia y fortalecimiento institucional para la Tunjuelito del siglo XXI","FORTALECIMIENTO LOCAL","Suma",null,"Realizar",4,"Estrategias","de fortalecimiento institucional.","Realizar 4 estrategias de fortalecimiento institucional.",{"$f":"VLOOKUP(AG406,'Anexo PMR'!$B$4:$G$87,6,0)","v":"1_Inflexible 45%"},1,"Gestión pública local","Fortalecimiento institucional.",98,"GOBIERNO",37,"Fortalecimiento institucional.",82,"Estrategias de fortalecimiento institucional realizadas","FORTALECIMIENTO LOCAL",null,null,null,1,1,1,1,2000000000,3000000000,3100000000,3150000000,11250000000,1,1,0.25,1,0.25,"Bajo","Bajo",0.72468435970110801,0.181171089925277,0.181171089925277,null,null,null,0,"2021_1",1,1,0,0,0,1,0,0,0,1,0,0,0,"Incompleto",null,null,null,1947864000,1947864000,0,0,0,1664970700,0,0,0,1664970700,48389033,48389033,0,0,0,"Los CRP corresponden al personal por prestación de servicios del FDLT contratados a la fecha de corte, aún quedan recursos por comprometer.",null,null,null,null,null,{"$f":"VLOOKUP(AG406,'Anexo ODS'!$G$3:$P$86,5,0)","v":2},{"$f":"VLOOKUP(AG406,'Anexo ODS'!$G$3:$P$86,6,0)","v":"La Paz"},{"$f":"VLOOKUP(AG406,'Anexo ODS'!$G$3:$P$86,7,0)","v":16},{"$f":"VLOOKUP(AG406,'Anexo ODS'!$G$3:$P$86,8,0)","v":"Paz, justicia e instituciones sólidas"},{"$f":"VLOOKUP(AG406,'Anexo ODS'!$G$3:$P$86,9,0)","v":"16.6"},{"$f":"VLOOKUP(AG406,'Anexo ODS'!$G$3:$P$86,10,0)","v":"Garantizar el acceso público a la información y proteger las libertades fundamentales, de conformidad con las leyes nacionales y los acuerdos internacionales"},null,null,null,null,null,null,null,null,4]
[410,7,"Bosa",1,"Hacer un nuevo contrato social con igualdad de oportunidades para la inclusión social, productiva y política",6,"Sistema Distrital de Cuidado",null,null,null,null,410,"Vincular 1000 personas con discapacidad, cuidadores y cuidadoras, en actividades alternativas de salud.",1690,"Bosa cuida a una ciudadanía imparable","ACCIONES COMPLEMENTARIAS ","Suma",null,"Vincular",1000,"Personas","con discapacidad, cuidadores y cuidadoras, en actividades alternativas de salud.","Vincular 1000 personas con discapacidad, cuidadores y cuidadoras, en actividades alternativas de salud.",{"$f":"VLOOKUP(AG411,'Anexo PMR'!$B$4:$G$87,6,0)","v":"3_Flexible 5%"},11,"Condiciones de salud","Acciones complementarias para personas en condición de discapacidad y sus cuidadores.",91,"SALUD",16,"Promoción, prevención e intervención en salud.",31,"Número de personas con discapacidad, cuidadadores y cuidadoras, vinculados en actividades alernativas de salud.","ATENCIÓN  A LA DISCAPACIDAD Y SUS CUIDADORES",null,null,null,239,246,254,261,478000000,492000000,507000000,522000000,1999000000,1,0,0,0,0,"Bajo","Bajo",4.2913571765918167E-2,0,0,null,null,null,0,"2021_1",239,239,0,0,0,0,0,0,0,0,0,0,0,"",null,null,null,478100000,478100000,0,0,0,null,0,0,0,0,null,null,0,0,0,null,null,null,null,null,null,{"$f":"VLOOKUP(AG411,'Anexo ODS'!$G$3:$P$86,5,0)","v":1},{"$f":"VLOOKUP(AG411,'Anexo ODS'!$G$3:$P$86,6,0)","v":"Las Personas"},{"$f":"VLOOKUP(AG411,'Anexo ODS'!$G$3:$P$86,7,0)","v":3},{"$f":"VLOOKUP(AG411,'Anexo ODS'!$G$3:$P$86,8,0)","v":"Salud y Bienestar"},{"$f":"VLOOKUP(AG411,'Anexo ODS'!$G$3:$P$86,9,0)","v":"3.4"},{"$f":"VLOOKUP(AG411,'Anexo ODS'!$G$3:$P$86,10,0)","v":"De aquí a 2030, reducir en un tercio la mortalidad prematura por enfermedades no transmisibles mediante su prevención y tratamiento, y promover la salud mental y el\nbienestar"},null,null,null,null,null,null,null,null,1000]
[415,7,"Bosa",1,"Hacer un nuevo contrato social con igualdad de oportunidades para la inclusión social, productiva y política",6,"Sistema Distrital de Cuidado",null,null,null,null,415,"Dotar 1 centro de atención especializado para fortalecer el desarrollo de competencias de personas con discapacidad.",1746,"Bosa cuida y protege","DOTACIÓN CENTROS DE ATENCIÓN ESPECIALIZADOS","Suma",null,"Dotar",1,"Centros","de atención especializado para fortalecer el desarrollo de competencias de personas con discapacidad.","Dotar 1 centro de atención especializado para fortalecer el desarrollo de competencias de personas con discapacidad.",{"$f":"VLOOKUP(AG416,'Anexo PMR'!$B$4:$G$87,6,0)","v":"2_Presupuestos Participativos 50%"},6,"Infraestructura","Dotación a Centros Crecer, Renacer.",92,"INTEGRACIÓN SOCIAL",5,"Dotación para la atención y la prestación de los servicios en la infraestructura del sector Integración Social.",26,"Centros de atención especializada dotados","CENTROS DE ATENCIÓN ESPECIALIZADOS",null,null,null,0,1,0,0,0,200000000,0,0,200000000,1,0,0,0,0,"Bajo","Bajo",4.2935039285560946E-3,0,0,null,null,null,0,"2021_1",0,0,0,0,0,0,0,0,0,0,0,0,0,"",null,null,null,0,0,0,0,0,null,0,0,0,0,null,null,0,0,0,null,null,null,null,null,null,{"$f":"VLOOKUP(AG416,'Anexo ODS'!$G$3:$P$86,5,0)","v":3},{"$f":"VLOOKUP(AG416,'Anexo ODS'!$G$3:$P$86,6,0)","v":"La Prosperidad"},{"$f":"VLOOKUP(AG416,'Anexo ODS'!$G$3:$P$86,7,0)","v":10},{"$f":"VLOOKUP(AG416,'Anexo ODS'!$G$3:$P$86,8,0)","v":"Reducción de las desigualdades "},{"$f":"VLOOKUP(AG416,'Anexo ODS'!$G$3:$P$86,9,0)","v":"10.2"},{"$f":"VLOOKUP(AG416,'Anexo ODS'!$G$3:$P$86,10,0)","v":"De aquí a 2030, potenciar y promover la inclusión social, económica y política de todas las personas, independientemente de su edad, sexo, discapacidad, raza, etnia, origen, religión o situación económica u otra condición"},null,null,null,null,null,null,null,null,1]
[420,7,"Bosa",1,"Hacer un nuevo contrato social con igualdad de oportunidades para la inclusión social, productiva y política",6,"Sistema Distrital de Cuidado",null,null,null,null,420,"Apoyar 262 MiPymes y/o emprendimientos culturales y creativos de forma técnica, financiera y/o promocional.",1820,"Bosa emprendedora, productiva y resiliente","FORTALECIMIENTO MIPYMES","Suma",null,"Apoyar",262,"Mipymes","y/o emprendimientos culturales y creativos de forma técnica, financiera y/o promocional.","Apoyar 262 MiPymes y/o emprendimientos culturales y creativos de forma técnica, financiera y/o promocional.",{"$f":"VLOOKUP(AG421,'Anexo PMR'!$B$4:$G$87,6,0)","v":"2_Presupuestos Participativos 50%"},5,"Desarrollo de la Economía Local","Apoyo a industrias culturales y creativas.",89,"DESARROLLO ECONÓMICO, INDUSTRIA Y TURISMO",14,"Servicios de asesoría, asistencia técnica integral, dotación y/o apoyo financiero a Mipymes y/o emprendimientos.",21,"Número de Mipymes y/o emprendimientos culturales y creativos apoyados","DESARROLLO DE LA ECONOMÍA LOCAL",null,null,null,95,0,99,68,1856000000,0,1911000000,1254000000,5021000000,1,0,0,0,0,"Bajo","Bajo",0.10778841612640075,0,0,null,null,null,0,"2021_1",95,95,0,0,0,0,0,0,0,0,0,0,0,"",null,null,null,1855500000,1855500000,0,0,0,null,0,0,0,0,null,null,0,0,0,null,null,null,null,null,null,{"$f":"VLOOKUP(AG421,'Anexo ODS'!$G$3:$P$86,5,0)","v":3},{"$f":"VLOOKUP(AG421,'Anexo ODS'!$G$3:$P$86,6,0)","v":"La Prosperidad"},{"$f":"VLOOKUP(AG421,'Anexo ODS'!$G$3:$P$86,7,0)","v":8},{"$f":"VLOOKUP(AG421,'Anexo ODS'!$G$3:$P$86,8,0)","v":"Trabajo decente y crecimiento económico"},{"$f":"VLOOKUP(AG421,'Anexo ODS'!$G$3:$P$86,9,0)","v":"8.3"},{"$f":"VLOOKUP(AG421,'Anexo ODS'!$G$3:$P$86,10,0)","v":"Promover políticas orientadas al desarrollo que apoyen las actividades productivas, la creación de puestos de trabajo decentes, el emprendimiento, la creatividad y la innovación, y fomentar la formalización y el crecimiento de las microempresas y las pequeñas y medianas empresas, incluso mediante el acceso a servicios financieros"},null,null,null,null,null,null,null,null,262]
[421,7,"Bosa",1,"Hacer un nuevo contrato social con igualdad de oportunidades para la inclusión social, productiva y política",6,"Sistema Distrital de Cuidado",null,null,null,null,421,"Promover 334 MiPymes y/o emprendimientos y/o unidades productivas en procesos de reconversión hacia actividades sostenibles, de forma técnica, financiera y/o formativa.",1820,"Bosa emprendedora, productiva y resiliente","REACTIVACIÓN","Suma",null,"Promover",334,"Mipymes","y/o emprendimientos y/o unidades productivas en procesos de reconversión hacia actividades sostenibles, de forma técnica, financiera y/o formativa.","Promover 334 MiPymes y/o emprendimientos y/o unidades productivas en procesos de reconversión hacia actividades sostenibles, de forma técnica, financiera y/o formativa.",{"$f":"VLOOKUP(AG422,'Anexo PMR'!$B$4:$G$87,6,0)","v":"2_Presupuestos Participativos 50%"},5,"Desarrollo de la Economía Local","Reactivación y reconversión verde",89,"DESARROLLO ECONÓMICO, INDUSTRIA Y TURISMO",14,"Servicios de asesoría, asistencia técnica integral, dotación y/o apoyo financiero a Mipymes y/o emprendimientos.",22,"Número de Mipymes y/o emprendimientos con procesos de reconversión hacia actividades sostenibles","DESARROLLO DE LA ECONOMÍA LOCAL",null,null,null,212,90,0,32,1975000000,842000000,0,300000000,3117000000,1,0,0,0,0,"Bajo","Bajo",6.691425872654673E-2,0,0,null,null,null,0,"2021_1",212,212,0,0,0,0,0,0,0,0,0,0,0,"",null,null,null,1974676000,1974676000,0,0,0,null,0,0,0,0,null,null,0,0,0,null,null,null,null,null,null,{"$f":"VLOOKUP(AG422,'Anexo ODS'!$G$3:$P$86,5,0)","v":3},{"$f":"VLOOKUP(AG422,'Anexo ODS'!$G$3:$P$86,6,0)","v":"La Prosperidad"},{"$f":"VLOOKUP(AG422,'Anexo ODS'!$G$3:$P$86,7,0)","v":8},{"$f":"VLOOKUP(AG422,'Anexo ODS'!$G$3:$P$86,8,0)","v":"Trabajo decente y crecimiento económico"},{"$f":"VLOOKUP(AG422,'Anexo ODS'!$G$3:$P$86,9,0)","v":"8.3"},{"$f":"VLOOKUP(AG422,'Anexo ODS'!$G$3:$P$86,10,0)","v":"Promover políticas orientadas al desarrollo que apoyen las actividades productivas, la creación de puestos de trabajo decentes, el emprendimiento, la creatividad y la innovación, y fomentar la formalización y el crecimiento de las microempresas y las pequeñas y medianas empresas, incluso mediante el acceso a servicios financieros"},null,null,null,null,null,null,null,null,334]
[426,7,"Bosa",1,"Hacer un nuevo contrato social con igualdad de oportunidades para la inclusión social, productiva y política",14,"Formación integral: más y mejor tiempo en los colegios",null,null,null,null,426,"Dotar 29 sedes educativas urbanas para fortalecer el nuevo contrato social y ambiental en Bosa.",1800,"Bosa con colegios sólidos e incluyentes.","DOTACIÓN","Suma",null,"Dotar",29,"Sedes","educativas urbanas para fortalecer el nuevo contrato social y ambiental en Bosa.","Dotar 29 sedes educativas urbanas para fortalecer el nuevo contrato social y ambiental en Bosa.",{"$f":"VLOOKUP(AG427,'Anexo PMR'!$B$4:$G$87,6,0)","v":"2_Presupuestos Participativos 50%"},6,"Infraestructura","Dotación pedagógica a colegios.",90,"EDUCACIÓN",3,"Infraestructura y dotación escolar.",4,"Sedes educativas urbanas y rurales dotadas","SEDES EDUCATIVAS",null,null,null,7,6,9,7,490000000,400000000,580000000,491000000,1961000000,1,0,0,0,0,"Bajo","Bajo",1,0,0,null,null,null,0,"2021_1",7,7,0,0,0,0,0,0,0,0,0,0,0,"",null,null,null,490250000,490250000,0,0,0,null,0,0,0,0,null,null,0,0,0,null,null,null,null,null,null,{"$f":"VLOOKUP(AG427,'Anexo ODS'!$G$3:$P$86,5,0)","v":1},{"$f":"VLOOKUP(AG427,'Anexo ODS'!$G$3:$P$86,6,0)","v":"Las Personas"},{"$f":"VLOOKUP(AG427,'Anexo ODS'!$G$3:$P$86,7,0)","v":4},{"$f":"VLOOKUP(AG427,'Anexo ODS'!$G$3:$P$86,8,0)","v":"Educación de calidad"},{"$f":"VLOOKUP(AG427,'Anexo ODS'!$G$3:$P$86,9,0)","v":"4.7"},{"$f":"VLOOKUP(AG427,'Anexo ODS'!$G$3:$P$86,10,0)","v":"De aquí a 2030, asegurar que todos los alumnos adquieran los conocimientos teóricos y prácticos necesarios para promover el desarrollo sostenible, entre otras cosas mediante la educación para el desarrollo sostenible y los estilos de vida sostenibles, los derechos humanos, la igualdad de género, la promoción de una cultura de paz y no violencia, la ciudadanía mundial y la valoración de la diversidad cultural y la contribución de la cultura al desarrollo sostenible"},null,null,null,null,null,null,null,null,29]
[431,7,"Bosa",1,"Hacer un nuevo contrato social con igualdad de oportunidades para la inclusión social, productiva y política",20,"Bogotá, referente en cultura, deporte, recreación y actividad física, con parques para el desarrollo y la salud",null,null,null,null,431,"Capacitar 5.250 personas en los campos deportivos.",1804,"Bosa se la juega por el deporte.","FORMACIÓN DEPORTIVA","Suma",null,"Capacitar",5250,"Personas","en los campos deportivos","Capacitar 5.250 personas en los campos deportivos.",{"$f":"VLOOKUP(AG432,'Anexo PMR'!$B$4:$G$87,6,0)","v":"2_Presupuestos Participativos 50%"},7,"Desarrollo social y cultural","Procesos de formación y dotación de insumos para los campos artísticos, interculturales, culturales, patrimoniales y deportivos.",93,"CULTURA, RECREACIÓN Y DEPORTE",7,"Eventos y actividades recreativas y deportivas.",11,"Personas capacitadas en los campos deportivos","FORMACIÓN DEPORTIVA",null,null,null,1000,1333,1333,1584,300000000,400000000,400000000,475000000,1575000000,1,0,0,0,0,"Bajo","Bajo",0.18654506691934147,0,0,null,null,null,0,"2021_1",1000,1000,0,0,0,0,0,0,0,0,0,0,0,"",null,null,null,300000000,300000000,0,0,0,null,0,0,0,0,null,null,0,0,0,null,null,null,null,null,null,{"$f":"VLOOKUP(AG432,'Anexo ODS'!$G$3:$P$86,5,0)","v":1},{"$f":"VLOOKUP(AG432,'Anexo ODS'!$G$3:$P$86,6,0)","v":"Las Personas"},{"$f":"VLOOKUP(AG432,'Anexo ODS'!$G$3:$P$86,7,0)","v":4},{"$f":"VLOOKUP(AG432,'Anexo ODS'!$G$3:$P$86,8,0)","v":"Educación de calidad"},{"$f":"VLOOKUP(AG432,'Anexo ODS'!$G$3:$P$86,9,0)","v":"4.7"},{"$f":"VLOOKUP(AG432,'Anexo ODS'!$G$3:$P$86,10,0)","v":"De aquí a 2030, asegurar que todos los alumnos adquieran los conocimientos teóricos y prácticos necesarios para promover el desarrollo sostenible, entre otras cosas mediante la educación para el desarrollo sostenible y los estilos de vida sostenibles, los derechos humanos, la igualdad de género, la promoción de una cultura de paz y no violencia, la ciudadanía mundial y la valoración de la diversidad cultural y la contribución de la cultura al desarrollo sostenible"},null,null,null,null,null,null,null,null,5250]
[436,7,"Bosa",1,"Hacer un nuevo contrato social con igualdad de oportunidades para la inclusión social, productiva y política",21,"Creación y vida cotidiana: Apropiación ciudadana del arte, la cultura y el patrimonio, para la democracia cultural",null,null,null,null,436,"Realizar 58 eventos de promoción de actividades culturales  con todos los grupos poblaciones de la Localidad.",1807,"BosARTE para vivir la cultura local.","EVENTOS","Suma",null,"Realizar",58,"Eventos","de promoción de actividades culturales  con todos los grupos poblaciones de la Localidad.","Realizar 58 eventos de promoción de actividades culturales con todos los grupos poblaciones de la Localidad.",{"$f":"VLOOKUP(AG437,'Anexo PMR'!$B$4:$G$87,6,0)","v":"2_Presupuestos Participativos 50%"},7,"Desarrollo social y cultural","Circulación y apropiación de prácticas artísticas, interculturales, culturales y patrimoniales.",93,"CULTURA, RECREACIÓN Y DEPORTE",8,"Espacios artísticos y culturales.",13,"Eventos de promoción de actividades culturales realizadas","ACTIVIDAD CULTURAL",null,null,null,14,15,18,11,700000000,777000000,900000000,600000000,2977000000,1,0,0,0,0,"Bajo","Bajo",0.25743687305430646,0,0,null,null,null,0,"2021_1",14,14,0,0,0,0,0,0,0,0,0,0,0,"",null,null,null,700000000,700000000,0,0,0,null,0,0,0,0,null,null,0,0,0,null,null,null,null,null,null,{"$f":"VLOOKUP(AG437,'Anexo ODS'!$G$3:$P$86,5,0)","v":3},{"$f":"VLOOKUP(AG437,'Anexo ODS'!$G$3:$P$86,6,0)","v":"La Prosperidad"},{"$f":"VLOOKUP(AG437,'Anexo ODS'!$G$3:$P$86,7,0)","v":11},{"$f":"VLOOKUP(AG437,'Anexo ODS'!$G$3:$P$86,8,0)","v":"Ciudades y comunidades sostenibles"},{"$f":"VLOOKUP(AG437,'Anexo ODS'!$G$3:$P$86,9,0)","v":"11.4"},{"$f":"VLOOKUP(AG437,'Anexo ODS'!$G$3:$P$86,10,0)","v":"Redoblar los esfuerzos para proteger y salvaguardar el patrimonio cultural y natural del mundo"},null,null,null,null,null,null,null,null,58]
[437,7,"Bosa",1,"Hacer un nuevo contrato social con igualdad de oportunidades para la inclusión social, productiva y política",24,"Bogotá región emprendedora e innovadora",null,null,null,null,437,"Implementar 60 acciones de fomento para la agricultura urbana.",1742," Bosa Siembra Vida y esperanza. Una apuesta por la seguridad alimentaria.","AGRICULTURA URBANA","Suma",null,"Implementar",60,"Acciones","de fomento para la agricultura urbana.","Implementar 60 acciones de fomento para la agricultura urbana.",{"$f":"VLOOKUP(AG438,'Anexo PMR'!$B$4:$G$87,6,0)","v":"2_Presupuestos Participativos 50%"},8,"Inversiones ambientales sostenibles","Agricultura urbana.",94,"AMBIENTE",13,"Servicios de asesoría, asistencia técnica integral y dotación de infraestructura productiva para la Agricultura urbana y periurbana.",19,"Número acciones de fomento para la agricultura urbana","AGRICULTURA URBANA",null,null,null,14,15,15,16,1145000000,1190000000,1225000000,1272000000,4832000000,1,0,0,0,0,"Bajo","Bajo",0.57750687223616592,0,0,null,null,null,0,"2021_1",14,14,0,0,0,0,0,0,0,0,0,0,0,"",null,null,null,1144979000,1144979000,0,0,0,null,0,0,0,0,null,null,0,0,0,null,null,null,null,null,null,{"$f":"VLOOKUP(AG438,'Anexo ODS'!$G$3:$P$86,5,0)","v":4},{"$f":"VLOOKUP(AG438,'Anexo ODS'!$G$3:$P$86,6,0)","v":"El Planeta"},{"$f":"VLOOKUP(AG438,'Anexo ODS'!$G$3:$P$86,7,0)","v":12},{"$f":"VLOOKUP(AG438,'Anexo ODS'!$G$3:$P$86,8,0)","v":"Producción y consumo responsables"},{"$f":"VLOOKUP(AG438,'Anexo ODS'!$G$3:$P$86,9,0)","v":"12.2"},{"$f":"VLOOKUP(AG438,'Anexo ODS'!$G$3:$P$86,10,0)","v":"De aquí a 2030, lograr la gestión sostenible y el uso eficiente\nde los recursos naturales"},null,null,null,null,null,null,null,null,60]
[442,7,"Bosa",2,"Cambiar nuestros hábitos de vida para reverdecer a Bogotá y adaptarnos y mitigar el cambio climático.",28,"Bogotá protectora de sus recursos naturales",null,null,null,null,442,"Intervenir 8 hectáreas con procesos de restauración, rehabilitación o recuperación ecológica.",1733,"Bosa piensa verde, actúa verde, evoluciona verde.","RESTAURACIÓN ECOLÓGICA","Suma",null,"Intervenir",8,"Hectáreas","con procesos de restauración, rehabilitación o recuperación ecológica.","Intervenir 8 hectáreas con procesos de restauración, rehabilitación o recuperación ecológica.",{"$f":"VLOOKUP(AG443,'Anexo PMR'!$B$4:$G$87,6,0)","v":"2_Presupuestos Participativos 50%"},8,"Inversiones ambientales sostenibles","Restauración ecológica urbana y/o rural.",94,"AMBIENTE",17,"Calidad ambiental y preservación del patrimonio natural.",41,"Hectáreas en restauración, rehabilitación o recuperación ecológica y mantenimiento ","INTERVENCIONES VERDES",null,null,null,2,2,2,2,962000000,990000000,1020000000,1051000000,4023000000,1,0,0,0,0,"Bajo","Bajo",1,0,0,null,null,null,0,"2021_1",2,2,0,0,0,0,0,0,0,0,0,0,0,"",null,null,null,961606000,961606000,0,0,0,null,0,0,0,0,null,null,0,0,0,null,null,null,null,null,null,{"$f":"VLOOKUP(AG443,'Anexo ODS'!$G$3:$P$86,5,0)","v":4},{"$f":"VLOOKUP(AG443,'Anexo ODS'!$G$3:$P$86,6,0)","v":"El Planeta"},{"$f":"VLOOKUP(AG443,'Anexo ODS'!$G$3:$P$86,7,0)","v":15},{"$f":"VLOOKUP(AG443,'Anexo ODS'!$G$3:$P$86,8,0)","v":"Vida de ecosistemas terrestres"},{"$f":"VLOOKUP(AG443,'Anexo ODS'!$G$3:$P$86,9,0)","v":"15.1"},{"$f":"VLOOKUP(AG443,'Anexo ODS'!$G$3:$P$86,10,0)","v":"De aquí a 2020, asegurar la conservación, el restablecimiento y el uso sostenible de los ecosistemas terrestres y los ecosistemas interiores de agua dulce y sus servicios, en particular los bosques, los humedales, las montañas y las zonas áridas, en consonancia con las obligaciones contraídas en virtud de acuerdos\ninternacionales"},null,null,null,null,null,null,null,null,8]
[447,7,"Bosa",2,"Cambiar nuestros hábitos de vida para reverdecer a Bogotá y adaptarnos y mitigar el cambio climático.",33,"Más árboles y más y mejor espacio público ",null,null,null,null,447,"Construir 8070  metros cuadrados de parques vecinales  y/o de bolsillo.",1837,"Bosa vive los parques.","CONSTRUCCIÓN","Suma",null,"Construir",8070,"Metros cuadrados","de parques vecinales  y/o de bolsillo.","Construir 8070 metros cuadrados de parques vecinales y/o de bolsillo.",{"$f":"VLOOKUP(AG448,'Anexo PMR'!$B$4:$G$87,6,0)","v":"2_Presupuestos Participativos 50%"},6,"Infraestructura","Construcción, mantenimiento y dotación de parques vecinales y/o de bolsillo.",93,"CULTURA, RECREACIÓN Y DEPORTE",20,"Parques y escenarios deportivos.",46,"m2 de Parques vecinales y/o de bolsillo construidos y dotados","PARQUES",null,null,null,1705,1527,2038,2800,971000000,869000000,1160000000,1594000000,4594000000,1,0,0,0,0,"Bajo","Bajo",0.52762145400252669,0,0,null,null,null,0,"2021_1",1705,1705,0,0,0,0,0,0,0,0,0,0,0,"",null,null,null,970669000,970669000,0,0,0,null,0,0,0,0,null,null,0,0,0,null,null,null,null,null,null,{"$f":"VLOOKUP(AG448,'Anexo ODS'!$G$3:$P$86,5,0)","v":3},{"$f":"VLOOKUP(AG448,'Anexo ODS'!$G$3:$P$86,6,0)","v":"La Prosperidad"},{"$f":"VLOOKUP(AG448,'Anexo ODS'!$G$3:$P$86,7,0)","v":11},{"$f":"VLOOKUP(AG448,'Anexo ODS'!$G$3:$P$86,8,0)","v":"Ciudades y comunidades sostenibles"},{"$f":"VLOOKUP(AG448,'Anexo ODS'!$G$3:$P$86,9,0)","v":"11.7"},{"$f":"VLOOKUP(AG448,'Anexo ODS'!$G$3:$P$86,10,0)","v":"De aquí a 2030, proporcionar acceso universal a zonas verdes y espacios públicos seguros, inclusivos y accesibles, en particular para las mujeres y los niños, las personas de edad y las personas con discapacidad"},null,null,null,null,null,null,null,null,8070]
[452,7,"Bosa",3,"Inspirar confianza y legitimidad para vivir sin miedo y ser epicentro de cultura ciudadana, paz y reconciliación.",40,"Más mujeres viven una vida libre de violencias, se sienten seguras y acceden con confianza al sistema de justicia",null,null,null,null,452,"Capacitar 5236 personas para la construcción de ciudadanía y desarrollo de capacidades para el ejercicio de derechos de las mujeres.",1749,"Bosa incondicional con las mujeres.","DESARROLLO DE CAPACIDADES","Suma",null,"Capacitar",5236,"Personas","para la construcción de ciudadanía y desarrollo de capacidades para el ejercicio de derechos de las mujeres.","Capacitar 5236 personas para la construcción de ciudadanía y desarrollo de capacidades para el ejercicio de derechos de las mujeres.",{"$f":"VLOOKUP(AG453,'Anexo PMR'!$B$4:$G$87,6,0)","v":"2_Presupuestos Participativos 50%"},7,"Desarrollo social y cultural","Construcción de ciudadanía y desarrollo de capacidades para el ejercicio de derechos de las mujeres.",100,"MUJERES",26,"Servicios de promoción y capacitación para la construcción de ciudadanía y desarrollo de capacidades para el ejercicio de derechos de las mujeres.",53,"Personas capacitadas para la construcción de ciudadanía y desarrollo de capacidades para el ejercicio de derechos de las mujeres.","DERECHOS DE LA MUJER",null,null,null,955,1466,1527,1288,600000000,922000000,960000000,810000000,3292000000,1,0,0,0,0,"Bajo","Bajo",0.36116291826659352,0,0,null,null,null,0,"2021_1",955,955,0,0,0,0,0,0,0,0,0,0,0,"",null,null,null,600000000,600000000,0,0,0,null,0,0,0,0,null,null,0,0,0,null,null,null,null,null,null,{"$f":"VLOOKUP(AG453,'Anexo ODS'!$G$3:$P$86,5,0)","v":1},{"$f":"VLOOKUP(AG453,'Anexo ODS'!$G$3:$P$86,6,0)","v":"Las Personas"},{"$f":"VLOOKUP(AG453,'Anexo ODS'!$G$3:$P$86,7,0)","v":5},{"$f":"VLOOKUP(AG453,'Anexo ODS'!$G$3:$P$86,8,0)","v":"Igualdad de género"},{"$f":"VLOOKUP(AG453,'Anexo ODS'!$G$3:$P$86,9,0)","v":"5.c"},{"$f":"VLOOKUP(AG453,'Anexo ODS'!$G$3:$P$86,10,0)","v":"Aprobar y fortalecer políticas acertadas y leyes aplicables para promover la igualdad de género y el empoderamiento de todas las mujeres y las niñas a todos los niveles"},null,null,null,null,null,null,null,null,5236]
[453,7,"Bosa",3,"Inspirar confianza y legitimidad para vivir sin miedo y ser epicentro de cultura ciudadana, paz y reconciliación.",40,"Más mujeres viven una vida libre de violencias, se sienten seguras y acceden con confianza al sistema de justicia",null,null,null,null,453,"Vincular 8.700 personas en acciones para la prevención del feminicidio y la violencia contra la mujer.",1749,"Bosa incondicional con las mujeres.","PREVENCIÓN","Suma",null,"Vincular",8700,"Personas","en acciones para la prevención del feminicidio y la violencia contra la mujer.","Vincular 8.700 personas en acciones para la prevención del feminicidio y la violencia contra la mujer.",{"$f":"VLOOKUP(AG454,'Anexo PMR'!$B$4:$G$87,6,0)","v":"2_Presupuestos Participativos 50%"},7,"Desarrollo social y cultural","Prevención del feminicidio y la violencia contra la mujer.",100,"MUJERES",27,"Prevención, atención y gestión del conflicto en la localidad.",54,"Número de Personas vinculadas en acciones para la prevención del feminicidio y la violencia contra la mujer","PREVENCIÓN DE LA VIOLENCIA",null,null,null,2080,1551,2504,2565,1392000000,1038000000,1676000000,1717000000,5823000000,1,0,0,0,0,"Bajo","Bajo",0.63883708173340648,0,0,null,null,null,0,"2021_1",2080,2080,0,0,0,0,0,0,0,0,0,0,0,"",null,null,null,1392000000,1392000000,0,0,0,null,0,0,0,0,null,null,0,0,0,null,null,null,null,null,null,{"$f":"VLOOKUP(AG454,'Anexo ODS'!$G$3:$P$86,5,0)","v":1},{"$f":"VLOOKUP(AG454,'Anexo ODS'!$G$3:$P$86,6,0)","v":"Las Personas"},{"$f":"VLOOKUP(AG454,'Anexo ODS'!$G$3:$P$86,7,0)","v":5},{"$f":"VLOOKUP(AG454,'Anexo ODS'!$G$3:$P$86,8,0)","v":"Igualdad de género"},{"$f":"VLOOKUP(AG454,'Anexo ODS'!$G$3:$P$86,9,0)","v":"5.2"},{"$f":"VLOOKUP(AG454,'Anexo ODS'!$G$3:$P$86,10,0)","v":"Eliminar todas las formas de violencia contra todas las mujeres y las niñas en los ámbitos público y privado, incluidas la trata y la explotación sexual y otros tipos de explotación"},null,null,null,null,null,null,null,null,8700]
[458,7,"Bosa",3,"Inspirar confianza y legitimidad para vivir sin miedo y ser epicentro de cultura ciudadana, paz y reconciliación.",45,"Espacio público más seguro y construido colectivamente",null,null,null,null,458,"Realizar 4  acuerdos para la promover la formalización de vendedores informales a círculos económicos productivos de la ciudad.",1840,"Acuerdos para La Bosa del siglo XXI.","ACUERDOS CIUDADANOS","Suma",null,"Realizar",4,"Acuerdos","para la promover la formalización de vendedores informales a círculos económicos productivos de la ciudad.","Realizar 4 acuerdos para la promover la formalización de vendedores informales a círculos económicos productivos de la ciudad.",{"$f":"VLOOKUP(AG459,'Anexo PMR'!$B$4:$G$87,6,0)","v":"2_Presupuestos Participativos 50%"},7,"Desarrollo social y cultural","Acuerdos para fortalecer la formalidad.",98,"GOBIERNO",28,"Acuerdos ciudadanos suscritos.",59,"Acuerdos realizados para la promover la formalización de vendedores informales a circulos económicos productivos de la ciudad","\nACUERDOS DE ESPACIO PÚBLICO",null,null,null,1,1,1,1,300000000,345000000,345000000,390000000,1380000000,1,0,0,0,0,"Bajo","Bajo",0.38547486033519551,0,0,null,null,null,0,"2021_1",1,1,0,0,0,0,0,0,0,0,0,0,0,"",null,null,null,300000000,300000000,0,0,0,null,0,0,0,0,null,null,0,0,0,null,null,null,null,null,null,{"$f":"VLOOKUP(AG459,'Anexo ODS'!$G$3:$P$86,5,0)","v":2},{"$f":"VLOOKUP(AG459,'Anexo ODS'!$G$3:$P$86,6,0)","v":"La Paz"},{"$f":"VLOOKUP(AG459,'Anexo ODS'!$G$3:$P$86,7,0)","v":16},{"$f":"VLOOKUP(AG459,'Anexo ODS'!$G$3:$P$86,8,0)","v":"Paz, justicia e instituciones sólidas"},{"$f":"VLOOKUP(AG459,'Anexo ODS'!$G$3:$P$86,9,0)","v":"16.1"},{"$f":"VLOOKUP(AG459,'Anexo ODS'!$G$3:$P$86,10,0)","v":"Reducir significativamente todas las formas de violencia y las correspondientes tasas de mortalidad en todo el mundo"},null,null,null,null,null,null,null,null,4]
[463,7,"Bosa",3,"Inspirar confianza y legitimidad para vivir sin miedo y ser epicentro de cultura ciudadana, paz y reconciliación.",48,"Plataforma institucional para la seguridad y justicia",null,null,null,null,463,"Suministrar 4 dotaciones tecnológicas a organismos de seguridad.",1831,"Bosa Más Segura con mejores elementos para cuidar a la gente.","DOTACIÓN","Suma",null,"Suministrar",4,"Dotaciones","tecnológicas a organismos de seguridad.","Suministrar 4 dotaciones tecnológicas a organismos de seguridad.",{"$f":"VLOOKUP(AG464,'Anexo PMR'!$B$4:$G$87,6,0)","v":"2_Presupuestos Participativos 50%"},7,"Desarrollo social y cultural","Dotación para instancias de seguridad.",102,"SEGURIDAD, CONVIVENCIA Y JUSTICIA",30,"Infraestructura y dotaciones para seguridad.",65,"Dotaciones tecnológicas suministradas a organismos de seguridad.","DOTACIÓN EN SEGURIDAD",null,null,null,1,0,1,2,250000000,0,250000000,500000000,1000000000,1,0,0,0,0,"Bajo","Bajo",0.15852885225110971,0,0,null,null,null,0,"2021_1",1,1,0,0,0,0,0,0,0,0,0,0,0,"",null,null,null,250000000,250000000,0,0,0,null,0,0,0,0,null,null,0,0,0,null,null,null,null,null,null,{"$f":"VLOOKUP(AG464,'Anexo ODS'!$G$3:$P$86,5,0)","v":2},{"$f":"VLOOKUP(AG464,'Anexo ODS'!$G$3:$P$86,6,0)","v":"La Paz"},{"$f":"VLOOKUP(AG464,'Anexo ODS'!$G$3:$P$86,7,0)","v":16},{"$f":"VLOOKUP(AG464,'Anexo ODS'!$G$3:$P$86,8,0)","v":"Paz, justicia e instituciones sólidas"},{"$f":"VLOOKUP(AG464,'Anexo ODS'!$G$3:$P$86,9,0)","v":"16.a"},{"$f":"VLOOKUP(AG464,'Anexo ODS'!$G$3:$P$86,10,0)","v":"Fortalecer las instituciones nacionales pertinentes, incluso mediante la cooperación internacional, para crear a todos los niveles, particularmente en los países en desarrollo, la capacidad de prevenir la violencia y combatir el terrorismo y la delincuencia"},null,null,null,null,null,null,null,null,4]
[468,7,"Bosa",4,"Hacer de Bogotá-región un modelo de movilidad, creatividad y productividad incluyente y sostenible",49,"Movilidad segura, sostenible y accesible",null,null,null,null,468,"Intervenir 3.000 metros cuadrados de elementos del sistema de espacio público peatonal con acciones de construcción y/o conservación",1828,"Bosa; más tiempo para vivir, menos tiempo en el trancón.","CONSTRUCCIÓN Y CONSERVACIÓN ","Suma",null,"Intervenir",3000,"Metros cuadrados","de elementos del sistema de espacio público peatonal con acciones de construcción y/o conservación.","Intervenir 3.000 metros cuadrados de elementos del sistema de espacio público peatonal con acciones de construcción y/o conservación",{"$f":"VLOOKUP(AG469,'Anexo PMR'!$B$4:$G$87,6,0)","v":"2_Presupuestos Participativos 50%"},6,"Infraestructura","Construcción y/o conservación de elementos del sistema de espacio público peatonal.",95,"MOVILIDAD",31," Espacio público.",69,"Metros cuadrados construidos y/o conservados de elementos del sistema de espacio público peatonal.","ESPACIO PÚBLICO",null,null,null,750,548,1049,653,743000000,543000000,1040000000,647000000,2973000000,1,0,0,0,0,"Bajo","Bajo",0.19458079717258983,0,0,null,null,null,0,"2021_1",750,750,0,0,0,0,0,0,0,0,0,0,0,"",null,null,null,743000000,743000000,0,0,0,null,0,0,0,0,null,null,0,0,0,null,null,null,null,null,null,{"$f":"VLOOKUP(AG469,'Anexo ODS'!$G$3:$P$86,5,0)","v":3},{"$f":"VLOOKUP(AG469,'Anexo ODS'!$G$3:$P$86,6,0)","v":"La Prosperidad"},{"$f":"VLOOKUP(AG469,'Anexo ODS'!$G$3:$P$86,7,0)","v":11},{"$f":"VLOOKUP(AG469,'Anexo ODS'!$G$3:$P$86,8,0)","v":"Ciudades y comunidades sostenibles"},{"$f":"VLOOKUP(AG469,'Anexo ODS'!$G$3:$P$86,9,0)","v":"11.7"},{"$f":"VLOOKUP(AG469,'Anexo ODS'!$G$3:$P$86,10,0)","v":" De aquí a 2030, proporcionar acceso universal a zonas verdes y espacios públicos seguros, inclusivos y accesibles, en particular para las mujeres y los niños, las personas de edad y las personas con discapacidad"},null,null,null,null,null,null,null,null,3000]
[469,7,"Bosa",4,"Hacer de Bogotá-región un modelo de movilidad, creatividad y productividad incluyente y sostenible",49,"Movilidad segura, sostenible y accesible",null,null,null,null,469,"Intervenir 4,5 kilómetros de malla vial local",1828,"Bosa; más tiempo para vivir, menos tiempo en el trancón.","INTERVENCIÓN MALLA VIAL LOCAL","Suma",null,"Intervenir",4.5,"Kilómetros","de malla vial local","Intervenir 4,5 kilómetros de malla vial local",{"$f":"VLOOKUP(AG470,'Anexo PMR'!$B$4:$G$87,6,0)","v":"2_Presupuestos Participativos 50%"},6,"Infraestructura","Diseño, construcción y conservación (mantenimiento y rehabilitación) de la malla vial local e intermedia urbana o rural.",95,"MOVILIDAD",32,"Vías locales.",71,"Kilómetros-carril construidos y/o conservados de malla vial urbana (local y/o intermedia)","MALLA VIAL",null,null,null,1.1000000000000001,1.2,1.1000000000000001,1.1000000000000001,1900000000,1929000000,1929000000,1958000000,7716000000,1,0,0,0,0,"Bajo","Bajo",0.50500687217749851,0,0,null,null,null,0,"2021_1",1.1000000000000001,1.1000000000000001,0,0,0,0,0,0,0,0,0,0,0,"",null,null,null,2314827000,2314827000,0,0,0,null,0,0,0,0,null,null,0,0,0,null,null,null,null,null,null,{"$f":"VLOOKUP(AG470,'Anexo ODS'!$G$3:$P$86,5,0)","v":3},{"$f":"VLOOKUP(AG470,'Anexo ODS'!$G$3:$P$86,6,0)","v":"La Prosperidad"},{"$f":"VLOOKUP(AG470,'Anexo ODS'!$G$3:$P$86,7,0)","v":9},{"$f":"VLOOKUP(AG470,'Anexo ODS'!$G$3:$P$86,8,0)","v":"Industria, innovación e infraestructura"},{"$f":"VLOOKUP(AG470,'Anexo ODS'!$G$3:$P$86,9,0)","v":"9.1"},{"$f":"VLOOKUP(AG470,'Anexo ODS'!$G$3:$P$86,10,0)","v":"Desarrollar infraestructuras fiables, sostenibles, resilientes y de calidad, incluidas infraestructuras regionales y transfronterizas, para apoyar el desarrollo económico y el bienestar humano, haciendo especial hincapié en el acceso asequible y equitativo para todos"},null,null,null,null,null,null,null,null,4.5]
[474,7,"Bosa",5,"Construir Bogotá-región con gobierno abierto, transparente y ciudadanía consciente.",55,"Fortalecimiento de Cultura Ciudadana y su institucionalidad",null,null,null,null,474,"Dotar 42 sedes de salones comunales.",1814,"Espacios activos de participación: insumos para que la ciudadanía haga parte de un gobierno abierto.","DOTACIÓN","Suma",null,"Dotar",42,"Sedes","de salones comunales.","Dotar 42 sedes de salones comunales.",{"$f":"VLOOKUP(AG475,'Anexo PMR'!$B$4:$G$87,6,0)","v":"2_Presupuestos Participativos 50%"},6,"Infraestructura","Intervención y dotación de salones comunales.",98,"GOBIERNO",35,"Espacios y procesos de participación ciudadana fortalecidos. ",76,"Sedes dotadas de salones comunales.","SALONES COMUNALES",null,null,null,0,20,0,22,0,240000000,0,262000000,502000000,1,0,0,0,0,"Bajo","Bajo",3.1016373185047883E-2,0,0,null,null,null,0,"2021_1",0,0,0,0,0,0,0,0,0,0,0,0,0,"",null,null,null,0,0,0,0,0,null,0,0,0,0,null,null,0,0,0,null,null,null,null,null,null,{"$f":"VLOOKUP(AG475,'Anexo ODS'!$G$3:$P$86,5,0)","v":3},{"$f":"VLOOKUP(AG475,'Anexo ODS'!$G$3:$P$86,6,0)","v":"La Prosperidad"},{"$f":"VLOOKUP(AG475,'Anexo ODS'!$G$3:$P$86,7,0)","v":11},{"$f":"VLOOKUP(AG475,'Anexo ODS'!$G$3:$P$86,8,0)","v":"Ciudades y comunidades sostenibles"},{"$f":"VLOOKUP(AG475,'Anexo ODS'!$G$3:$P$86,9,0)","v":"11.3"},{"$f":"VLOOKUP(AG475,'Anexo ODS'!$G$3:$P$86,10,0)","v":"De aquí a 2030, aumentar la urbanización inclusiva y sostenible y la capacidad para la planificación y la gestión participativas, integradas y sostenibles de los asentamientos humanos en todos los países"},null,null,null,null,null,null,null,null,42]
[479,7,"Bosa",5,"Construir Bogotá-región con gobierno abierto, transparente y ciudadanía consciente.",57,"Gestión Pública Local",null,null,null,null,479,"Realizar 4 estrategias de fortalecimiento institucional.",1839,"Cuentas claras en Bosa: Fortalecimiento de la capacidad institucional con una gestión pública eficiente y transparente","FORTALECIMIENTO LOCAL","Suma",null,"Realizar",4,"Estrategias","de fortalecimiento institucional.","Realizar 4 estrategias de fortalecimiento institucional.",{"$f":"VLOOKUP(AG480,'Anexo PMR'!$B$4:$G$87,6,0)","v":"1_Inflexible 45%"},1,"Gestión pública local","Fortalecimiento institucional.",98,"GOBIERNO",37,"Fortalecimiento institucional.",82,"Estrategias de fortalecimiento institucional realizadas","FORTALECIMIENTO LOCAL",null,null,null,1,1,1,1,8216000000,8558000000,8921000000,9300000000,34995000000,1,1,0.25,1,0.25,"Bajo","Bajo",0.74379901804501691,0.18594975451125423,0.18594975451125423,null,null,null,0,"2021_1",1,1,0,0,0,1,0,0,0,1,0,0,0,"Incompleto",null,null,null,8216000000,8216000000,0,0,0,7119222797,0,0,0,7119222797,210363662,210363662,0,0,0,null,null,null,null,null,null,{"$f":"VLOOKUP(AG480,'Anexo ODS'!$G$3:$P$86,5,0)","v":2},{"$f":"VLOOKUP(AG480,'Anexo ODS'!$G$3:$P$86,6,0)","v":"La Paz"},{"$f":"VLOOKUP(AG480,'Anexo ODS'!$G$3:$P$86,7,0)","v":16},{"$f":"VLOOKUP(AG480,'Anexo ODS'!$G$3:$P$86,8,0)","v":"Paz, justicia e instituciones sólidas"},{"$f":"VLOOKUP(AG480,'Anexo ODS'!$G$3:$P$86,9,0)","v":"16.6"},{"$f":"VLOOKUP(AG480,'Anexo ODS'!$G$3:$P$86,10,0)","v":"Garantizar el acceso público a la información y proteger las libertades fundamentales, de conformidad con las leyes nacionales y los acuerdos internacionales"},null,null,null,null,null,null,null,null,4]
[484,8,"Kennedy",1,"Hacer un nuevo contrato social con igualdad de oportunidades para la inclusión social, productiva y política",6,"Sistema Distrital de Cuidado",null,null,null,null,484,"Promover en 1700 MiPymes y/o emprendimientos la transformación empresarial y/o productiva.",2061,"Kennedy Productiva","TRANSFORMACIÓN PRODUCTIVA","Suma",null,"Promover",1700,"Mipymes","y/o emprendimientos la transformación empresarial y/o productiva.","Promover en 1700 MiPymes y/o emprendimientos la transformación empresarial y/o productiva.",{"$f":"VLOOKUP(AG485,'Anexo PMR'!$B$4:$G$87,6,0)","v":"2_Presupuestos Participativos 50%"},5,"Desarrollo de la Economía Local","Transformación productiva y formación de capacidades",89,"DESARROLLO ECONÓMICO, INDUSTRIA Y TURISMO",14,"Servicios de asesoría, asistencia técnica integral, dotación y/o apoyo financiero a Mipymes y/o emprendimientos.",23,"Número de Mipymes y/o emprendimientos con transformacion empresarial y/o productiva","DESARROLLO DE LA ECONOMÍA LOCAL",null,null,null,400,500,500,300,2178000000,2044000000,2316000000,2389000000,8927000000,1,0,0,0,0,"Bajo","Bajo",0.18369068685954154,0,0,null,null,null,0,"2021_1",400,400,0,0,0,0,0,0,0,0,0,0,0,"",null,null,null,2221562000,2221562000,0,0,0,154793334,0,0,0,154793334,0,0,0,0,0,"Corte 31 de marzo 2021: Los recursos contratado no contribuyen al avance de la meta.",null,null,null,null,null,{"$f":"VLOOKUP(AG485,'Anexo ODS'!$G$3:$P$86,5,0)","v":3},{"$f":"VLOOKUP(AG485,'Anexo ODS'!$G$3:$P$86,6,0)","v":"La Prosperidad"},{"$f":"VLOOKUP(AG485,'Anexo ODS'!$G$3:$P$86,7,0)","v":8},{"$f":"VLOOKUP(AG485,'Anexo ODS'!$G$3:$P$86,8,0)","v":"Trabajo decente y crecimiento económico"},{"$f":"VLOOKUP(AG485,'Anexo ODS'!$G$3:$P$86,9,0)","v":"8.3"},{"$f":"VLOOKUP(AG485,'Anexo ODS'!$G$3:$P$86,10,0)","v":"Promover políticas orientadas al desarrollo que apoyen las actividades productivas, la creación de puestos de trabajo decentes, el emprendimiento, la creatividad y la innovación, y fomentar la formalización y el crecimiento de las microempresas y las pequeñas y medianas empresas, incluso mediante el acceso a servicios financieros"},null,null,null,null,null,null,null,null,1700]
[485,8,"Kennedy",1,"Hacer un nuevo contrato social con igualdad de oportunidades para la inclusión social, productiva y política",6,"Sistema Distrital de Cuidado",null,null,null,null,485,"Revitalizar 1100 MiPymes y/o emprendimientos potencializadas dentro de las aglomeraciones económicas que fomentan el empleo y/o nuevas actividades económicas.",2061,"Kennedy Productiva","REVITALIZACIÓN","Suma",null,"Revitalizar",1100,"Mipymes","y/o emprendimientos potencializadas dentro de las aglomeraciones económicas que fomentan el empleo y/o nuevas actividades económicas.","Revitalizar 1100 MiPymes y/o emprendimientos potencializadas dentro de las aglomeraciones económicas que fomentan el empleo y/o nuevas actividades económicas.",{"$f":"VLOOKUP(AG486,'Anexo PMR'!$B$4:$G$87,6,0)","v":"2_Presupuestos Participativos 50%"},5,"Desarrollo de la Economía Local","Revitalización del corazón productivo de las localidades",89,"DESARROLLO ECONÓMICO, INDUSTRIA Y TURISMO",14,"Servicios de asesoría, asistencia técnica integral, dotación y/o apoyo financiero a Mipymes y/o emprendimientos.",24,"Número de Mipymes  y/o emprendimientos revitalizadas o potencializadas dentro de las aglomeraciones económicas que fomentan el empleo y/o nuevas actividades económicas","DESARROLLO DE LA ECONOMÍA LOCAL",null,null,null,200,300,400,200,1397000000,1440000000,1486000000,1533000000,5856000000,1,0,0,0,0,"Bajo","Bajo",0.12049878595826989,0,0,null,null,null,0,"2021_1",200,200,0,0,0,0,0,0,0,0,0,0,0,"",null,null,null,1425148000,1425148000,0,0,0,null,0,0,0,0,null,null,0,0,0,"",null,null,null,null,null,{"$f":"VLOOKUP(AG486,'Anexo ODS'!$G$3:$P$86,5,0)","v":3},{"$f":"VLOOKUP(AG486,'Anexo ODS'!$G$3:$P$86,6,0)","v":"La Prosperidad"},{"$f":"VLOOKUP(AG486,'Anexo ODS'!$G$3:$P$86,7,0)","v":8},{"$f":"VLOOKUP(AG486,'Anexo ODS'!$G$3:$P$86,8,0)","v":"Trabajo decente y crecimiento económico"},{"$f":"VLOOKUP(AG486,'Anexo ODS'!$G$3:$P$86,9,0)","v":"8.3"},{"$f":"VLOOKUP(AG486,'Anexo ODS'!$G$3:$P$86,10,0)","v":"Promover políticas orientadas al desarrollo que apoyen las actividades productivas, la creación de puestos de trabajo decentes, el emprendimiento, la creatividad y la innovación, y fomentar la formalización y el crecimiento de las microempresas y las pequeñas y medianas empresas, incluso mediante el acceso a servicios financieros"},null,null,null,null,null,null,null,null,1100]
[490,8,"Kennedy",1,"Hacer un nuevo contrato social con igualdad de oportunidades para la inclusión social, productiva y política",6,"Sistema Distrital de Cuidado",null,null,null,null,490,"Vincular 4500 mujeres cuidadoras a estrategias de cuidado.",2079,"Kennedy Cuidadora","ESTRATEGIAS DE CUIDADO","Suma",null,"Vincular",4500,"Mujeres","cuidadoras a estrategias de cuidado.","Vincular 4500 mujeres cuidadoras a estrategias de cuidado.",{"$f":"VLOOKUP(AG491,'Anexo PMR'!$B$4:$G$87,6,0)","v":"2_Presupuestos Participativos 50%"},7,"Desarrollo social y cultural","Estrategias de cuidado para cuidadoras, cuidadores y a personas con discapacidad",100,"MUJERES",15,"Estrategias del cuidado para cuidadoras.",30,"Mujeres cuidadoras vinculadas a estrategias de cuidado","ESTRATEGIAS DE CUIDADO",null,null,null,1000,1200,1200,1100,893000000,920000000,949000000,979000000,3741000000,1,0,0,0,0,"Bajo","Bajo",7.6978476480513605E-2,0,0,null,null,null,0,"2021_1",1000,1000,0,0,0,0,0,0,0,0,0,0,0,"",null,null,null,910367000,910367000,0,0,0,null,0,0,0,0,null,null,0,0,0,"",null,null,null,null,null,{"$f":"VLOOKUP(AG491,'Anexo ODS'!$G$3:$P$86,5,0)","v":1},{"$f":"VLOOKUP(AG491,'Anexo ODS'!$G$3:$P$86,6,0)","v":"Las Personas"},{"$f":"VLOOKUP(AG491,'Anexo ODS'!$G$3:$P$86,7,0)","v":5},{"$f":"VLOOKUP(AG491,'Anexo ODS'!$G$3:$P$86,8,0)","v":"Igualdad de género"},{"$f":"VLOOKUP(AG491,'Anexo ODS'!$G$3:$P$86,9,0)","v":"5.4"},{"$f":"VLOOKUP(AG491,'Anexo ODS'!$G$3:$P$86,10,0)","v":"Reconocer y valorar los cuidados y el trabajo doméstico no remunerados mediante servicios públicos, infraestructuras y políticas de protección social, y promoviendo la responsabilidad compartida en el hogar y la familia, según proceda en cada país"},null,null,null,null,null,null,null,null,4500]
[495,8,"Kennedy",1,"Hacer un nuevo contrato social con igualdad de oportunidades para la inclusión social, productiva y política",17,"Jóvenes con capacidades: Proyecto de vida para la ciudadanía, la innovación y el trabajo del siglo XXI",null,null,null,null,495,"Beneficiar 500 personas con apoyo para la educación superior.",2039,"Kennedy, territorio de oportunidades para los jóvenes","APOYO EDUCACIÓN SUPERIOR","Suma",null,"Beneficiar",500,"Personas","con apoyo para la educación superior.","Beneficiar 500 personas con apoyo para la educación superior.",{"$f":"VLOOKUP(AG496,'Anexo PMR'!$B$4:$G$87,6,0)","v":"1_Inflexible 45%"},4,"Educación superior y primera infancia (10%)","Apoyo para educación superior.",90,"EDUCACIÓN",4,"Apoyo a la educación superior.",5,"Personas beneficiadas con  apoyo para la educación superior","EDUCACIÓN SUPERIOR",null,null,null,100,130,170,100,8016000000,8262000000,8523000000,8794000000,33595000000,1,0,0,0,0,"Bajo","Bajo",0.98660832280990274,0,0,null,null,null,0,"2021_1",100,100,0,0,0,0,0,0,0,0,0,0,0,"",null,null,null,8175885000,8175885000,0,0,0,157220000,0,0,0,157220000,2800000,2800000,0,0,0,"Corte 31 de marzo 2021: Los recursos contratado no contribuyen al avance de la meta.",null,null,null,null,null,{"$f":"VLOOKUP(AG496,'Anexo ODS'!$G$3:$P$86,5,0)","v":1},{"$f":"VLOOKUP(AG496,'Anexo ODS'!$G$3:$P$86,6,0)","v":"Las Personas"},{"$f":"VLOOKUP(AG496,'Anexo ODS'!$G$3:$P$86,7,0)","v":4},{"$f":"VLOOKUP(AG496,'Anexo ODS'!$G$3:$P$86,8,0)","v":"Educación de calidad"},{"$f":"VLOOKUP(AG496,'Anexo ODS'!$G$3:$P$86,9,0)","v":"4.3"},{"$f":"VLOOKUP(AG496,'Anexo ODS'!$G$3:$P$86,10,0)","v":"De aquí a 2030, asegurar el acceso igualitario de todos los hombres y las mujeres a una formación técnica, profesional y superior de calidad, incluida la enseñanza universitaria."},null,null,null,null,null,null,null,null,500]
[500,8,"Kennedy",1,"Hacer un nuevo contrato social con igualdad de oportunidades para la inclusión social, productiva y política",21,"Creación y vida cotidiana: Apropiación ciudadana del arte, la cultura y el patrimonio, para la democracia cultural",null,null,null,null,500,"Intervenir 1 sedes culturales con dotación y/o adecuación.",2054,"Kennedy, cultura en mi barrio","FORTALECIMIENTO INFRAESTRUCTURA","Suma",null,"Intervenir",1,"Sedes","culturales con dotación y/o adecuación.","Intervenir 1 sedes culturales con dotación y/o adecuación.",{"$f":"VLOOKUP(AG501,'Anexo PMR'!$B$4:$G$87,6,0)","v":"2_Presupuestos Participativos 50%"},6,"Infraestructura","Dotación e infraestructura cultural.",93,"CULTURA, RECREACIÓN Y DEPORTE",11,"Infraestructura y dotación a centros artísticos y culturales.",16,"Sedes dotadas/Sedes adecuadas","SEDES CULTURALES",null,null,null,0.25,0.25,0.25,0.25,924000000,952000000,982000000,1013000000,3871000000,1,0,0,0,0,"Bajo","Bajo",0.2547883893898506,0,0,null,null,null,0,"2021_1",0.25,0.25,0,0,0,0,0,0,0,0,0,0,0,"",null,null,null,942071000,942071000,0,0,0,null,0,0,0,0,null,null,0,0,0,"",null,null,null,null,null,{"$f":"VLOOKUP(AG501,'Anexo ODS'!$G$3:$P$86,5,0)","v":3},{"$f":"VLOOKUP(AG501,'Anexo ODS'!$G$3:$P$86,6,0)","v":"La Prosperidad"},{"$f":"VLOOKUP(AG501,'Anexo ODS'!$G$3:$P$86,7,0)","v":9},{"$f":"VLOOKUP(AG501,'Anexo ODS'!$G$3:$P$86,8,0)","v":"Industria, innovación e infraestructura"},{"$f":"VLOOKUP(AG501,'Anexo ODS'!$G$3:$P$86,9,0)","v":"9.1"},{"$f":"VLOOKUP(AG501,'Anexo ODS'!$G$3:$P$86,10,0)","v":"Desarrollar infraestructuras fiables, sostenibles, resilientes y de calidad, incluidas infraestructuras regionales y transfronterizas, para apoyar el desarrollo económico y el bienestar humano, haciendo especial hincapié en el acceso asequible y equitativo para todos"},null,null,null,null,null,null,null,null,1]
[501,8,"Kennedy",1,"Hacer un nuevo contrato social con igualdad de oportunidades para la inclusión social, productiva y política",21,"Creación y vida cotidiana: Apropiación ciudadana del arte, la cultura y el patrimonio, para la democracia cultural",null,null,null,null,501,"Otorgar 200 estímulos de apoyo al sector artístico y cultural.",2054,"Kennedy, cultura en mi barrio","ESTÍMULOS","Suma",null,"Otorgar",200,"Estímulos","de apoyo al sector artístico y cultural.","Otorgar 200 estímulos de apoyo al sector artístico y cultural.",{"$f":"VLOOKUP(AG502,'Anexo PMR'!$B$4:$G$87,6,0)","v":"2_Presupuestos Participativos 50%"},7,"Desarrollo social y cultural","Iniciativas de interés cultural, artístico, patrimonial y recreo deportivas.",93,"CULTURA, RECREACIÓN Y DEPORTE",9,"Servicio de apoyo financiero para el desarrollo de prácticas artísticas y culturales en el Distrito de Bogotá.",14,"Estímulos otorgados de apoyo al sector artístico y cultural ","ESTIMULOS CULTURALES",null,null,null,50,50,50,50,1263000000,1302000000,1343000000,1385000000,5293000000,1,0,0,0,0,"Bajo","Bajo",0.34838412426775489,0,0,null,null,null,0,"2021_1",50,50,0,0,0,0,0,0,0,0,0,0,0,"",null,null,null,1288109000,1288109000,0,0,0,null,0,0,0,0,null,null,0,0,0,"",null,null,null,null,null,{"$f":"VLOOKUP(AG502,'Anexo ODS'!$G$3:$P$86,5,0)","v":3},{"$f":"VLOOKUP(AG502,'Anexo ODS'!$G$3:$P$86,6,0)","v":"La Prosperidad"},{"$f":"VLOOKUP(AG502,'Anexo ODS'!$G$3:$P$86,7,0)","v":11},{"$f":"VLOOKUP(AG502,'Anexo ODS'!$G$3:$P$86,8,0)","v":"Ciudades y comunidades sostenibles"},{"$f":"VLOOKUP(AG502,'Anexo ODS'!$G$3:$P$86,9,0)","v":"11.4"},{"$f":"VLOOKUP(AG502,'Anexo ODS'!$G$3:$P$86,10,0)","v":"Redoblar los esfuerzos para proteger y salvaguardar el patrimonio cultural y natural del mundo"},null,null,null,null,null,null,null,null,200]
[506,8,"Kennedy",2,"Cambiar nuestros hábitos de vida para reverdecer a Bogotá y adaptarnos y mitigar el cambio climático.",27,"Cambio cultural para la gestión de la crisis climática",null,null,null,null,506,"Implementar 60 PROCEDAS.",2124,"Kennedy Eco-urbana","EDUCACIÓN AMBIENTAL","Suma",null,"Implementar",60,"PROCEDAS",null,"Implementar 60 PROCEDAS.",{"$f":"VLOOKUP(AG507,'Anexo PMR'!$B$4:$G$87,6,0)","v":"2_Presupuestos Participativos 50%"},8,"Inversiones ambientales sostenibles","Educación ambiental.",94,"AMBIENTE",17,"Calidad ambiental y preservación del patrimonio natural.",38,"Número de PROCEDAS implementados ","PROCEDAS",null,null,null,15,15,15,15,1101000000,1032000000,1064000000,1098000000,4295000000,1,0,0,0,0,"Bajo","Bajo",0.58475153165418647,0,0,null,null,null,0,"2021_1",15,15,0,0,0,0,0,0,0,0,0,0,0,"",null,null,null,1020915000,1020915000,0,0,0,55260000,0,0,0,55260000,0,0,0,0,0,"Corte 31 marzo 2021: Los contratos asociados no contribuyen al avance de la meta.",null,null,null,null,null,{"$f":"VLOOKUP(AG507,'Anexo ODS'!$G$3:$P$86,5,0)","v":4},{"$f":"VLOOKUP(AG507,'Anexo ODS'!$G$3:$P$86,6,0)","v":"El Planeta"},{"$f":"VLOOKUP(AG507,'Anexo ODS'!$G$3:$P$86,7,0)","v":13},{"$f":"VLOOKUP(AG507,'Anexo ODS'!$G$3:$P$86,8,0)","v":"Acción por el Clima"},{"$f":"VLOOKUP(AG507,'Anexo ODS'!$G$3:$P$86,9,0)","v":"13.3"},{"$f":"VLOOKUP(AG507,'Anexo ODS'!$G$3:$P$86,10,0)","v":"Mejorar la educación, la sensibilización y la capacidad humana e institucional respecto de la mitigación del cambio climático, la adaptación a él, la reducción de sus efectos y la alerta temprana"},null,null,null,null,null,null,null,null,60]
[511,8,"Kennedy",2,"Cambiar nuestros hábitos de vida para reverdecer a Bogotá y adaptarnos y mitigar el cambio climático.",33,"Más árboles y más y mejor espacio público ",null,null,null,null,511,"Mantener 11.100  árboles urbanos y/o rurales.",2177,"Kennedy reverdece","ARBORIZACIÓN","Suma",null,"Mantener",11100,"Árboles","urbanos y/o rurales.","Mantener 11.100  árboles urbanos y/o rurales.",{"$f":"VLOOKUP(AG512,'Anexo PMR'!$B$4:$G$87,6,0)","v":"2_Presupuestos Participativos 50%"},8,"Inversiones ambientales sostenibles","Arbolado urbano y/o rural.",94,"AMBIENTE",19,"Plantación y mantenimiento de árboles, jardines y especies vegetales. ",44,"Número de árboles mantenidos","ARBOLADO",null,null,null,2000,3500,3500,2100,467000000,481000000,496000000,512000000,1956000000,1,0,0,0,0,"Bajo","Bajo",0.15221789883268483,0,0,null,null,null,0,"2021_1",2000,2000,0,0,0,0,0,0,0,0,0,0,0,"",null,null,null,476272000,476272000,0,0,0,201900,0,0,0,201900,201900,201900,0,0,0,"Corte 31 marzo 2021: Los contratos asociados no contribuyen al avance de la meta.",null,null,null,null,null,{"$f":"VLOOKUP(AG512,'Anexo ODS'!$G$3:$P$86,5,0)","v":4},{"$f":"VLOOKUP(AG512,'Anexo ODS'!$G$3:$P$86,6,0)","v":"El Planeta"},{"$f":"VLOOKUP(AG512,'Anexo ODS'!$G$3:$P$86,7,0)","v":15},{"$f":"VLOOKUP(AG512,'Anexo ODS'!$G$3:$P$86,8,0)","v":"Vida de ecosistemas terrestres"},{"$f":"VLOOKUP(AG512,'Anexo ODS'!$G$3:$P$86,9,0)","v":"15.1"},{"$f":"VLOOKUP(AG512,'Anexo ODS'!$G$3:$P$86,10,0)","v":"De aquí a 2020, asegurar la conservación, el restablecimiento y el uso sostenible de los ecosistemas terrestres y los ecosistemas interiores de agua dulce y sus servicios, en particular los bosques, los humedales, las montañas y las zonas áridas, en consonancia con las obligaciones contraídas en virtud de acuerdos internacionales"},null,null,null,null,null,null,null,null,11100]
[516,8,"Kennedy",2,"Cambiar nuestros hábitos de vida para reverdecer a Bogotá y adaptarnos y mitigar el cambio climático.",38,"Ecoeficiencia, reciclaje, manejo de residuos e inclusión de la población recicladora",null,null,null,null,516,"Capacitar 6500 personas en separación en la fuente y reciclaje.",2119,"Kennedy Recicla","HÁBITOS DE CONSUMO","Suma",null,"Capacitar",6500,"Personas","en separación en la fuente y reciclaje.","Capacitar 6500 personas en separación en la fuente y reciclaje.",{"$f":"VLOOKUP(AG517,'Anexo PMR'!$B$4:$G$87,6,0)","v":"2_Presupuestos Participativos 50%"},8,"Inversiones ambientales sostenibles","Cambios de hábitos de consumo, separación en la fuente y reciclaje.",96,"HÁBITAT",23,"Manejo integral de residuos sólidos. ",50,"Personas capacitadas en separación en la fuente y reciclaje","RECICLAJE",null,null,null,1500,1800,1800,1400,1718000000,1774000000,1834000000,2297000000,7623000000,1,0,0,0,0,"Bajo","Bajo",1,0,0,null,null,null,0,"2021_1",1500,1500,0,0,0,0,0,0,0,0,0,0,0,"",null,null,null,1752089000,1752089000,0,0,0,null,0,0,0,0,null,null,0,0,0,"",null,null,null,null,null,{"$f":"VLOOKUP(AG517,'Anexo ODS'!$G$3:$P$86,5,0)","v":4},{"$f":"VLOOKUP(AG517,'Anexo ODS'!$G$3:$P$86,6,0)","v":"El Planeta"},{"$f":"VLOOKUP(AG517,'Anexo ODS'!$G$3:$P$86,7,0)","v":12},{"$f":"VLOOKUP(AG517,'Anexo ODS'!$G$3:$P$86,8,0)","v":"Producción y consumo responsables"},{"$f":"VLOOKUP(AG517,'Anexo ODS'!$G$3:$P$86,9,0)","v":"12.5"},{"$f":"VLOOKUP(AG517,'Anexo ODS'!$G$3:$P$86,10,0)","v":"De aquí a 2030, reducir considerablemente la generación de desechos mediante actividades de prevención, reducción, reciclado y reutilización"},null,null,null,null,null,null,null,null,6500]
[517,8,"Kennedy",3,"Inspirar confianza y legitimidad para vivir sin miedo y ser epicentro de cultura ciudadana, paz y reconciliación.",39,"Bogotá territorio de paz y atención integral a las víctimas del conflicto armado",null,null,null,null,517,"Vincular 1200 personas a procesos de construcción de memoria, verdad, reparación integral a víctimas, paz y reconciliación.",2106,"Kennedy con Paz, memoria y Reconciliación","ENERGÍAS ALTERNATIVAS","Suma",null,"Vincular",1200,"Personas","a procesos de construcción de memoria, verdad, reparación integral a víctimas, paz y reconciliación.","Vincular 1200 personas a procesos de construcción de memoria, verdad, reparación integral a víctimas, paz y reconciliación.",{"$f":"VLOOKUP(AG518,'Anexo PMR'!$B$4:$G$87,6,0)","v":"2_Presupuestos Participativos 50%"},7,"Desarrollo social y cultural","Construcción de memoria, verdad, reparación, víctimas, paz y reconciliación.",85,"GESTIÓN PÚBLICA",25,"Servicio de apoyo y fortalecimiento a los procesos de construcción de memoria, verdad, reparación integral a víctimas, paz y reconciliación.",52,"Personas vinculadas a procesos de construcción de memoria, verdad, reparación integral a víctimas, paz y reconciliación","PAZ, MEMORIA Y RECONCILIACIÓN",null,null,null,300,300,300,300,805000000,830000000,856000000,884000000,3375000000,1,0,0,0,0,"Bajo","Bajo",1,0,0,null,null,null,0,"2021_1",300,300,0,0,0,0,0,0,0,0,0,0,0,"",null,null,null,821547000,821547000,0,0,0,88134801,0,0,0,88134801,734800,734800,0,0,0,"Corte 31 de marzo 2021: Los recursos contratado no contribuyen al avance de la meta.",null,null,null,null,null,{"$f":"VLOOKUP(AG518,'Anexo ODS'!$G$3:$P$86,5,0)","v":2},{"$f":"VLOOKUP(AG518,'Anexo ODS'!$G$3:$P$86,6,0)","v":"La Paz"},{"$f":"VLOOKUP(AG518,'Anexo ODS'!$G$3:$P$86,7,0)","v":16},{"$f":"VLOOKUP(AG518,'Anexo ODS'!$G$3:$P$86,8,0)","v":"Paz, justicia e instituciones sólidas"},{"$f":"VLOOKUP(AG518,'Anexo ODS'!$G$3:$P$86,9,0)","v":"16.3"},{"$f":"VLOOKUP(AG518,'Anexo ODS'!$G$3:$P$86,10,0)","v":"Promover el estado de derecho en los planos nacional e internacional y garantizar la igualdad en el acceso a la justicia para todos"},null,null,null,null,null,null,null,null,1200]
[522,8,"Kennedy",3,"Inspirar confianza y legitimidad para vivir sin miedo y ser epicentro de cultura ciudadana, paz y reconciliación.",43,"Cultura ciudadana para la confianza, la convivencia y la participación desde la vida cotidiana",null,null,null,null,522,"Incluir 2500 personas en actividades de educación para la resiliencia y la prevención de hechos delictivos.",2181,"Kennedy con convivencia ciudadana","PREVENCIÓN","Suma",null,"Incluir",2500,"Personas","en actividades de educación para la resiliencia y la prevención de hechos delictivos.","Incluir 2500 personas en actividades de educación para la resiliencia y la prevención de hechos delictivos.",{"$f":"VLOOKUP(AG523,'Anexo PMR'!$B$4:$G$87,6,0)","v":"2_Presupuestos Participativos 50%"},7,"Desarrollo social y cultural","Promoción de la convivencia ciudadana.",102,"SEGURIDAD, CONVIVENCIA Y JUSTICIA",27,"Prevención, atención y gestión del conflicto en la localidad.",57,"Personas incluidas en actividades de educación para la resiliencia y la prevención de hechos delictivos. ","ACCIONES DE CONVIVENCIA",null,null,null,500,700,700,600,409000000,422000000,435000000,449000000,1715000000,1,0,0,0,0,"Bajo","Bajo",0.33333333333333331,0,0,null,null,null,0,"2021_1",500,500,0,0,0,0,0,0,0,0,0,0,0,"",null,null,null,417377000,417377000,0,0,0,109952200,0,0,0,109952200,2492200,2492200,0,0,0,"Corte 31 marzo 2021: Los contratos asociados no contribuyen al avance de la meta.",null,null,null,null,null,{"$f":"VLOOKUP(AG523,'Anexo ODS'!$G$3:$P$86,5,0)","v":2},{"$f":"VLOOKUP(AG523,'Anexo ODS'!$G$3:$P$86,6,0)","v":"La Paz"},{"$f":"VLOOKUP(AG523,'Anexo ODS'!$G$3:$P$86,7,0)","v":16},{"$f":"VLOOKUP(AG523,'Anexo ODS'!$G$3:$P$86,8,0)","v":"Paz, justicia e instituciones sólidas"},{"$f":"VLOOKUP(AG523,'Anexo ODS'!$G$3:$P$86,9,0)","v":"16.1"},{"$f":"VLOOKUP(AG523,'Anexo ODS'!$G$3:$P$86,10,0)","v":"Reducir significativamente todas las formas de violencia y las correspondientes tasas de mortalidad en todo el mundo"},null,null,null,null,null,null,null,null,2500]
[527,8,"Kennedy",3,"Inspirar confianza y legitimidad para vivir sin miedo y ser epicentro de cultura ciudadana, paz y reconciliación.",48,"Plataforma institucional para la seguridad y justicia",null,null,null,null,527,"Suministrar 4 dotaciones del parque automotor a organismos de seguridad.",2127,"Kennedy más segura","DOTACIÓN","Suma",null,"Suministrar",4,"Dotaciones","del parque automotor a organismos de seguridad.","Suministrar 4 dotaciones del parque automotor a organismos de seguridad.",{"$f":"VLOOKUP(AG528,'Anexo PMR'!$B$4:$G$87,6,0)","v":"2_Presupuestos Participativos 50%"},7,"Desarrollo social y cultural","Dotación para instancias de seguridad.",102,"SEGURIDAD, CONVIVENCIA Y JUSTICIA",30,"Infraestructura y dotaciones para seguridad.",68,"Dotación del parque automotor suministrada a organismos de seguridad.","DOTACIÓN EN SEGURIDAD",null,null,null,1,1,1,1,416000000,429000000,442000000,456000000,1743000000,1,0,0,0,0,"Bajo","Bajo",0.25910509885535898,0,0,null,null,null,0,"2021_1",1,1,0,0,0,0,0,0,0,0,0,0,0,"",null,null,null,424157000,424157000,0,0,0,null,0,0,0,0,null,null,0,0,0,"",null,null,null,null,null,{"$f":"VLOOKUP(AG528,'Anexo ODS'!$G$3:$P$86,5,0)","v":2},{"$f":"VLOOKUP(AG528,'Anexo ODS'!$G$3:$P$86,6,0)","v":"La Paz"},{"$f":"VLOOKUP(AG528,'Anexo ODS'!$G$3:$P$86,7,0)","v":16},{"$f":"VLOOKUP(AG528,'Anexo ODS'!$G$3:$P$86,8,0)","v":"Paz, justicia e instituciones sólidas"},{"$f":"VLOOKUP(AG528,'Anexo ODS'!$G$3:$P$86,9,0)","v":"16.a"},{"$f":"VLOOKUP(AG528,'Anexo ODS'!$G$3:$P$86,10,0)","v":"Fortalecer las instituciones nacionales pertinentes, incluso mediante la cooperación internacional, para crear a todos los niveles, particularmente en los países en desarrollo, la capacidad de prevenir la violencia y combatir el terrorismo y la delincuencia"},null,null,null,null,null,null,null,null,4]
[532,8,"Kennedy",3,"Inspirar confianza y legitimidad para vivir sin miedo y ser epicentro de cultura ciudadana, paz y reconciliación.",48,"Plataforma institucional para la seguridad y justicia",null,null,null,null,532,"Implementar 4 estrategia local de acciones pedagógicas del Código Nacional de Seguridad y Convivencia Ciudadana en la localidad.",2150,"Kennedy con acceso a la justicia","ACCIONES PEDAGÓGICAS","Suma",null,"Implementar",4,"Estrategias","local de acciones pedagógicas del Código Nacional de Seguridad y Convivencia Ciudadana en la localidad.","Implementar 4 estrategia local de acciones pedagógicas del Código Nacional de Seguridad y Convivencia Ciudadana en la localidad.",{"$f":"VLOOKUP(AG533,'Anexo PMR'!$B$4:$G$87,6,0)","v":"2_Presupuestos Participativos 50%"},7,"Desarrollo social y cultural","Acceso a la Justicia.",102,"SEGURIDAD, CONVIVENCIA Y JUSTICIA",27,"Prevención, atención y gestión del conflicto en la localidad.",64,"Estrategia local de acciones pedagógicas del Código Nacional de Seguridad y Convivencia Ciudadana implementada en la localidad.","ACCESO A LA JUSTICIA",null,null,null,1,1,1,1,193000000,199000000,206000000,212000000,810000000,1,0,0,0,0,"Bajo","Bajo",0.12041028690352312,0,0,null,null,null,0,"2021_1",1,1,0,0,0,0,0,0,0,0,0,0,0,"",null,null,null,197235000,197235000,0,0,0,null,0,0,0,0,null,null,0,0,0,"",null,null,null,null,null,{"$f":"VLOOKUP(AG533,'Anexo ODS'!$G$3:$P$86,5,0)","v":2},{"$f":"VLOOKUP(AG533,'Anexo ODS'!$G$3:$P$86,6,0)","v":"La Paz"},{"$f":"VLOOKUP(AG533,'Anexo ODS'!$G$3:$P$86,7,0)","v":16},{"$f":"VLOOKUP(AG533,'Anexo ODS'!$G$3:$P$86,8,0)","v":"Paz, justicia e instituciones sólidas"},{"$f":"VLOOKUP(AG533,'Anexo ODS'!$G$3:$P$86,9,0)","v":"16.3"},{"$f":"VLOOKUP(AG533,'Anexo ODS'!$G$3:$P$86,10,0)","v":"Promover el estado de derecho en los planos nacional e internacional y garantizar la igualdad de acceso a la justicia para todos"},null,null,null,null,null,null,null,null,4]
[533,8,"Kennedy",3,"Inspirar confianza y legitimidad para vivir sin miedo y ser epicentro de cultura ciudadana, paz y reconciliación.",48,"Plataforma institucional para la seguridad y justicia",null,null,null,null,533,"Vincular 42 Instituciones educativas al programa pedagógico de resolución de conflictos en la comunidad escolar.",2150,"Kennedy con acceso a la justicia","RESOLUCIÓN DE CONFLICTOS ESCOLARES","Suma",null,"Vincular",42,"Instituciones"," educativas al programa pedagógico de resolución de conflictos en la comunidad escolar.","Vincular 42 Instituciones educativas al programa pedagógico de resolución de conflictos en la comunidad escolar.",{"$f":"VLOOKUP(AG534,'Anexo PMR'!$B$4:$G$87,6,0)","v":"2_Presupuestos Participativos 50%"},7,"Desarrollo social y cultural","Acceso a la Justicia.",102,"SEGURIDAD, CONVIVENCIA Y JUSTICIA",27,"Prevención, atención y gestión del conflicto en la localidad.",63,"Instituciones educativas vinculadas al programa pedagógico de resolución de conflictos en la comunidad escolar.","ACCESO A LA JUSTICIA",null,null,null,10,11,11,10,193000000,199000000,206000000,212000000,810000000,1,0,0,0,0,"Bajo","Bajo",0.12041028690352312,0,0,null,null,null,0,"2021_1",10,10,0,0,0,0,0,0,0,0,0,0,0,"",null,null,null,197235000,197235000,0,0,0,null,0,0,0,0,null,null,0,0,0,"",null,null,null,null,null,{"$f":"VLOOKUP(AG534,'Anexo ODS'!$G$3:$P$86,5,0)","v":2},{"$f":"VLOOKUP(AG534,'Anexo ODS'!$G$3:$P$86,6,0)","v":"La Paz"},{"$f":"VLOOKUP(AG534,'Anexo ODS'!$G$3:$P$86,7,0)","v":16},{"$f":"VLOOKUP(AG534,'Anexo ODS'!$G$3:$P$86,8,0)","v":"Paz, justicia e instituciones sólidas"},{"$f":"VLOOKUP(AG534,'Anexo ODS'!$G$3:$P$86,9,0)","v":"16.3"},{"$f":"VLOOKUP(AG534,'Anexo ODS'!$G$3:$P$86,10,0)","v":"Promover el estado de derecho en los planos nacional e internacional y garantizar la igualdad de acceso a la justicia para todos"},null,null,null,null,null,null,null,null,42]
[538,8,"Kennedy",5,"Construir Bogotá-región con gobierno abierto, transparente y ciudadanía consciente.",55,"Fortalecimiento de Cultura Ciudadana y su institucionalidad",null,null,null,null,538,"Capacitar 1800 personas a través de procesos de formación para la participación de manera virtual y presencial.",2173,"Kennedy fortalece la participación ciudadana","FORMACIÓN","Suma",null,"Capacitar",1800,"Personas","a través de procesos de formación para la participación de manera virtual y presencial.","Capacitar 1800 personas a través de procesos de formación para la participación de manera virtual y presencial.",{"$f":"VLOOKUP(AG539,'Anexo PMR'!$B$4:$G$87,6,0)","v":"2_Presupuestos Participativos 50%"},7,"Desarrollo social y cultural","Escuelas y procesos de formación para la participación ciudadana y/u organizaciones para los procesos de presupuestos participativos.",98,"GOBIERNO",35,"Espacios y procesos de participación ciudadana fortalecidos. ",78,"Número de Personas capacitadas a través de procesos de formación para la participación de manera virtual y presencial.","FORMACIÓN CIUDADANA",null,null,null,400,500,500,400,858000000,885000000,913000000,942000000,3598000000,1,0,0,0,0,"Bajo","Bajo",0.25041759465478841,0,0,null,null,null,0,"2021_1",400,400,0,0,0,0,0,0,0,0,0,0,0,"",null,null,null,875430000,875430000,0,0,0,null,0,0,0,0,null,null,0,0,0,"",null,null,null,null,null,{"$f":"VLOOKUP(AG539,'Anexo ODS'!$G$3:$P$86,5,0)","v":2},{"$f":"VLOOKUP(AG539,'Anexo ODS'!$G$3:$P$86,6,0)","v":"La Paz"},{"$f":"VLOOKUP(AG539,'Anexo ODS'!$G$3:$P$86,7,0)","v":16},{"$f":"VLOOKUP(AG539,'Anexo ODS'!$G$3:$P$86,8,0)","v":"Paz, justicia e instituciones sólidas"},{"$f":"VLOOKUP(AG539,'Anexo ODS'!$G$3:$P$86,9,0)","v":"16.7"},{"$f":"VLOOKUP(AG539,'Anexo ODS'!$G$3:$P$86,10,0)","v":"Garantizar la adopción en todos los niveles de decisiones inclusivas, participativas y representativas que respondan a las necesidades"},null,null,null,null,null,null,null,null,1800]
[543,8,"Kennedy",5,"Construir Bogotá-región con gobierno abierto, transparente y ciudadanía consciente.",56,"Gestión pública efectiva",null,null,null,null,543,"Construir 1 sedes administrativas locales.",2175,"Sede Administrativa de Kennedy","SEDE ADMINISTRATIVA","Suma",null,"Construir",1,"Sedes","administrativas locales.","Construir 1 sedes administrativas locales.",{"$f":"VLOOKUP(AG544,'Anexo PMR'!$B$4:$G$87,6,0)","v":"1_Inflexible 45%"},1,"Gestión pública local","Terminación de infraestructuras (sedes administrativas locales).",98,"GOBIERNO",36,"Infraestructura para la atención de servicio al ciudadano.",81,"Sedes administrativas locales construidas.","FORTALECIMIENTO ORGANIZATIVO",null,null,null,1,0,0,0,200000000,0,0,0,200000000,1,0,0,0,0,"Bajo","Bajo",1,0,0,null,null,null,0,"2021_1",1,1,0,0,0,0,0,0,0,0,0,0,0,"",null,null,null,203995000,203995000,0,0,0,null,0,0,0,0,null,null,0,0,0,"",null,null,null,null,null,{"$f":"VLOOKUP(AG544,'Anexo ODS'!$G$3:$P$86,5,0)","v":3},{"$f":"VLOOKUP(AG544,'Anexo ODS'!$G$3:$P$86,6,0)","v":"La Prosperidad"},{"$f":"VLOOKUP(AG544,'Anexo ODS'!$G$3:$P$86,7,0)","v":9},{"$f":"VLOOKUP(AG544,'Anexo ODS'!$G$3:$P$86,8,0)","v":"Industria, innovación e infraestructura"},{"$f":"VLOOKUP(AG544,'Anexo ODS'!$G$3:$P$86,9,0)","v":"9.1"},{"$f":"VLOOKUP(AG544,'Anexo ODS'!$G$3:$P$86,10,0)","v":"Desarrollar infraestructuras fiables, sostenibles, resilientes y de calidad, incluidas infraestructuras regionales y transfronterizas, para apoyar el desarrollo económico y el bienestar humano, haciendo especial hincapié en el acceso asequible y equitativo para todos"},null,null,null,null,null,null,null,null,1]
[548,9,"Fontibón",1,"Hacer un nuevo contrato social con igualdad de oportunidades para la inclusión social, productiva y política",1,"Subsidios y transferencias para la equidad",null,null,null,null,548,"Beneficiar 980 personas mayores anualmente con apoyo económico tipo C.",1752,"Un nuevo contrato para garantizar el ingreso mínimo en Fontibón","SUBSIDIO TIPO C","Constante",null,"Beneficiar",980,"personas mayores","anualmente con apoyo económico tipo C.","Beneficiar  980 personas mayores anualmente con apoyo económico tipo C.",{"$f":"VLOOKUP(AG549,'Anexo PMR'!$B$4:$G$87,6,0)","v":"1_Inflexible 45%"},3,"Sistema Bogotá Solidaria (20%)","Subsidio tipo C adulto mayor.",92,"INTEGRACIÓN SOCIAL",1,"Protección integral a personas y familias en situación de vulneración.",2,"Número de personas mayores con apoyo económico tipo C","SUBSIDIO TIPO C",null,null,null,980,980,980,980,1776000000,1840000000,2087000000,2639000000,8342000000,1,245,0.25,245,0.25,"Bajo","Bajo",0.34108844093715501,8.5272110234288753E-2,8.5272110234288753E-2,null,null,null,0,"2021_1",980,980,0,0,0,980,0,0,0,980,0,0,0,"Incompleto",null,null,null,1649751000,1649751000,0,0,0,814268817,0,0,0,814268817,252505434,252505434,0,0,0,"",null,null,null,null,null,{"$f":"VLOOKUP(AG549,'Anexo ODS'!$G$3:$P$86,5,0)","v":1},{"$f":"VLOOKUP(AG549,'Anexo ODS'!$G$3:$P$86,6,0)","v":"Las Personas"},{"$f":"VLOOKUP(AG549,'Anexo ODS'!$G$3:$P$86,7,0)","v":1},{"$f":"VLOOKUP(AG549,'Anexo ODS'!$G$3:$P$86,8,0)","v":"Fin de la pobreza"},{"$f":"VLOOKUP(AG549,'Anexo ODS'!$G$3:$P$86,9,0)","v":"1.2"},{"$f":"VLOOKUP(AG549,'Anexo ODS'!$G$3:$P$86,10,0)","v":"De aquí a 2030, reducir al menos a la mitad la proporción de hombres, mujeres y niños de todas las edades que viven en la pobreza en todas sus dimensiones con arreglo a las definiciones nacionales"},null,null,null,null,null,null,null,null,980]
[549,9,"Fontibón",1,"Hacer un nuevo contrato social con igualdad de oportunidades para la inclusión social, productiva y política",6,"Sistema Distrital de Cuidado",null,null,null,null,549,"Apoyar 160 Mipymes y emprendimientos culturales y creativos durante el cuatrienio",1761,"Un nuevo contrato para la reactivación económica de Fontibón","FORTALECIMIENTO MIPYMES","Suma",null,"Apoyar",160,"Mipymes","y emprendimientos culturales y creativos durante el cuatrienio","Apoyar 160 Mipymes y emprendimientos culturales y creativos durante el cuatrienio",{"$f":"VLOOKUP(AG550,'Anexo PMR'!$B$4:$G$87,6,0)","v":"2_Presupuestos Participativos 50%"},5,"Desarrollo de la Economía Local","Apoyo a industrias culturales y creativas.",89,"DESARROLLO ECONÓMICO, INDUSTRIA Y TURISMO",14,"Servicios de asesoría, asistencia técnica integral, dotación y/o apoyo financiero a Mipymes y/o emprendimientos.",21,"Número de Mipymes y/o emprendimientos culturales y creativos apoyados","DESARROLLO DE LA ECONOMÍA LOCAL",null,null,null,40,40,40,40,521000000,537000000,554000000,572000000,2184000000,1,0,0,0,0,"Bajo","Bajo",0.12889518413597734,0,0,null,null,null,0,"2021_1",40,40,0,0,0,0,0,0,0,0,0,0,0,"",null,null,null,484336000,484336000,0,0,0,51055000,0,0,0,51055000,1300000,1300000,0,0,0,"Corte 31 marzo 2021: Los contratos asociados no contribuyen al avance de la meta.",null,null,null,null,null,{"$f":"VLOOKUP(AG550,'Anexo ODS'!$G$3:$P$86,5,0)","v":3},{"$f":"VLOOKUP(AG550,'Anexo ODS'!$G$3:$P$86,6,0)","v":"La Prosperidad"},{"$f":"VLOOKUP(AG550,'Anexo ODS'!$G$3:$P$86,7,0)","v":8},{"$f":"VLOOKUP(AG550,'Anexo ODS'!$G$3:$P$86,8,0)","v":"Trabajo decente y crecimiento económico"},{"$f":"VLOOKUP(AG550,'Anexo ODS'!$G$3:$P$86,9,0)","v":"8.3"},{"$f":"VLOOKUP(AG550,'Anexo ODS'!$G$3:$P$86,10,0)","v":"Promover políticas orientadas al desarrollo que apoyen las actividades productivas, la creación de puestos de trabajo decentes, el emprendimiento, la creatividad y la innovación, y fomentar la formalización y el crecimiento de las microempresas y las pequeñas y medianas empresas, incluso mediante el acceso a servicios financieros"},null,null,null,null,null,null,null,null,160]
[554,9,"Fontibón",1,"Hacer un nuevo contrato social con igualdad de oportunidades para la inclusión social, productiva y política",6,"Sistema Distrital de Cuidado",null,null,null,null,554,"Dotar 6 sede de atención a la primera infancia y/o adolescencia (jardines infantiles y centros Amar) durante el cuatrienio",1762,"Un nuevo contrato para dotación social, prevención y atención de la violencia intrafamiliar y sexual en Fontibón","DOTACIÓN JARDINES IFANTILES Y CENTROS AMAR","Suma",null,"Dotar",6,"Sedes","de atención a la primera infancia y/o adolescencia (jardines infantiles y centros Amar) durante el cuatrienio","Dotar 6 sede de atención a la primera infancia y/o adolescencia (jardines infantiles y centros Amar) durante el cuatrienio",{"$f":"VLOOKUP(AG555,'Anexo PMR'!$B$4:$G$87,6,0)","v":"2_Presupuestos Participativos 50%"},6,"Infraestructura","Dotación a Jardines Infantiles, Centros Amar y Forjar.",92,"INTEGRACIÓN SOCIAL",2,"Protección integral a niños y niñas y adolescentes.",28,"Sedes de atención a la primera infancia y/o adolescencia dotadas.","JARDINES INFANTILES Y CENTROS AMAR",null,null,null,2,2,2,0,200000000,228000000,309000000,0,737000000,1,0,0,0,0,"Bajo","Bajo",4.3496222851746931E-2,0,0,null,null,null,0,"2021_1",2,2,0,0,0,0,0,0,0,0,0,0,0,"",null,null,null,185783000,185783000,0,0,0,null,0,0,0,0,null,null,0,0,0,"",null,null,null,null,null,{"$f":"VLOOKUP(AG555,'Anexo ODS'!$G$3:$P$86,5,0)","v":1},{"$f":"VLOOKUP(AG555,'Anexo ODS'!$G$3:$P$86,6,0)","v":"Las Personas"},{"$f":"VLOOKUP(AG555,'Anexo ODS'!$G$3:$P$86,7,0)","v":1},{"$f":"VLOOKUP(AG555,'Anexo ODS'!$G$3:$P$86,8,0)","v":"Fin de la Pobreza"},{"$f":"VLOOKUP(AG555,'Anexo ODS'!$G$3:$P$86,9,0)","v":"1.2"},{"$f":"VLOOKUP(AG555,'Anexo ODS'!$G$3:$P$86,10,0)","v":"De aquí a 2030, reducir al menos a la mitad la proporción de hombres, mujeres y niños de todas las edades que viven en la pobreza en todas sus dimensiones con arreglo a las definiciones nacionales"},null,null,null,null,null,null,null,null,6]
[559,9,"Fontibón",1,"Hacer un nuevo contrato social con igualdad de oportunidades para la inclusión social, productiva y política",6,"Sistema Distrital de Cuidado",null,null,null,null,559,"Contribuir al proceso nutricional de 4.000 niños y niñas de cero a cinco años de los hogares de bienestar familiar del ICBF de la localidad de Fontibón",1764,"Un nuevo contrato para la salud en Fontibón","MINUTAS NUTRICIONALES","Constante",null,"Contribuir al proceso nutricional de",4000,"niños y niñas ","de cero a cinco años de los hogares de bienestar familiar del ICBF de la localidad de Fontibón","Contribuir al proceso nutricional de 4.000 niños y niñas de cero a cinco años de los hogares de bienestar familiar del ICBF de la localidad de Fontibón",{"$f":"VLOOKUP(AG560,'Anexo PMR'!$B$4:$G$87,6,0)","v":{"$error":"#N/A"}},"NO APLICA","NO APLICA","NO APLICA",92,"INTEGRACIÓN SOCIAL","NO APLICA","NO APLICA",86,"Niños y niñas de cero a cinco años de los hogares de bienestar familiar del ICBF de la localidad de Fontibón con contribución en sus procesos nutricionales","NO APLICA",null,null,null,4000,4000,4000,4000,225000000,225000000,225000000,225000000,900000000,1,0,0,0,0,"Bajo","Bajo",5.3116147308781871E-2,0,0,null,null,null,0,"2021_1",4000,4000,0,0,0,0,0,0,0,0,0,0,0,"",null,null,null,209442000,209442000,0,0,0,null,0,0,0,0,null,null,0,0,0,"",null,null,null,null,null,{"$f":"VLOOKUP(AG560,'Anexo ODS'!$G$3:$P$86,5,0)","v":{"$error":"#N/A"}},{"$f":"VLOOKUP(AG560,'Anexo ODS'!$G$3:$P$86,6,0)","v":{"$error":"#N/A"}},{"$f":"VLOOKUP(AG560,'Anexo ODS'!$G$3:$P$86,7,0)","v":{"$error":"#N/A"}},{"$f":"VLOOKUP(AG560,'Anexo ODS'!$G$3:$P$86,8,0)","v":{"$error":"#N/A"}},{"$f":"VLOOKUP(AG560,'Anexo ODS'!$G$3:$P$86,9,0)","v":{"$error":"#N/A"}},{"$f":"VLOOKUP(AG560,'Anexo ODS'!$G$3:$P$86,10,0)","v":{"$error":"#N/A"}},null,null,null,null,null,null,null,null,4000]
[564,9,"Fontibón",1,"Hacer un nuevo contrato social con igualdad de oportunidades para la inclusión social, productiva y política",6,"Sistema Distrital de Cuidado",null,null,null,null,564,"Vincular anualmente 127 personas en acciones complementarias de la estrategia territorial de salud",1764,"Un nuevo contrato para la salud en Fontibón","ESTRATEGIA TERRITORIAL DE SALUD","Constante",null,"Vincular",127,"personas"," en acciones complementarias de la estrategia territorial de salud anualmente","Vincular anualmente 127 personas en acciones complementarias de la estrategia territorial de salud",{"$f":"VLOOKUP(AG565,'Anexo PMR'!$B$4:$G$87,6,0)","v":"3_Flexible 5%"},11,"Condiciones de salud","Coinversión en la estrategia territorial de salud.",91,"SALUD",16,"Promoción, prevención e intervención en salud.",36,"Número de personas vinculadas en las acciones complementarias de la estrategia territorial de salud.","ESTRATEGIA TERRITORIAL DE SALUD",null,null,null,127,127,127,127,132000000,132000000,132000000,132000000,528000000,1,0,0,0,0,"Bajo","Bajo",3.1161473087818695E-2,0,0,null,null,null,0,"2021_1",127,127,0,0,0,0,0,0,0,0,0,0,0,"",null,null,null,92891000,92891000,0,0,0,null,0,0,0,0,null,null,0,0,0,"",null,null,null,null,null,{"$f":"VLOOKUP(AG565,'Anexo ODS'!$G$3:$P$86,5,0)","v":1},{"$f":"VLOOKUP(AG565,'Anexo ODS'!$G$3:$P$86,6,0)","v":"Las Personas"},{"$f":"VLOOKUP(AG565,'Anexo ODS'!$G$3:$P$86,7,0)","v":3},{"$f":"VLOOKUP(AG565,'Anexo ODS'!$G$3:$P$86,8,0)","v":"Salud y Bienestar"},{"$f":"VLOOKUP(AG565,'Anexo ODS'!$G$3:$P$86,9,0)","v":"3.8"},{"$f":"VLOOKUP(AG565,'Anexo ODS'!$G$3:$P$86,10,0)","v":"Lograr la cobertura sanitaria universal, incluida la protección contra los riesgos financieros, el acceso a servicios de salud esenciales de calidad y el acceso a medicamentos y vacunas inocuos, eficaces, asequibles y de calidad para todos"},null,null,null,null,null,null,null,null,508,null,null,{"$f":"T565*4","v":508}]
[565,9,"Fontibón",1,"Hacer un nuevo contrato social con igualdad de oportunidades para la inclusión social, productiva y política",8,"Prevención y atención de maternidad temprana",null,null,null,null,565,"Vincular 700 personas a las acciones y estrategias para la prevención del embarazo adolescente en el cuatrienio",1765,"Un nuevo contrato para la prevención del  embarazo en adolescentes en Fontibón.","PREVENCIÓN","Suma",null,"Vincular",700,"personas","a las acciones y estrategias para la prevención del embarazo adolescente en el cuatrienio","Vincular 700 personas a las acciones y estrategias para la prevención del embarazo adolescente en el cuatrienio",{"$f":"VLOOKUP(AG566,'Anexo PMR'!$B$4:$G$87,6,0)","v":"3_Flexible 5%"},11,"Condiciones de salud","Prevención del embarazo en adolescentes.",91,"SALUD",16,"Promoción, prevención e intervención en salud.",37,"Número de personas vinculadas a las acciones y estrategias para la prevención del embarazo adolescente","PREVENCIÓN DEL EMBARAZO",null,null,null,210,200,190,100,219000000,196000000,195000000,103000000,713000000,1,0,0,0,0,"Bajo","Bajo",1,0,0,null,null,null,0,"2021_1",210,210,0,0,0,0,0,0,0,0,0,0,0,"",null,null,null,203432000,203432000,0,0,0,null,0,0,0,0,null,null,0,0,0,"",null,null,null,null,null,{"$f":"VLOOKUP(AG566,'Anexo ODS'!$G$3:$P$86,5,0)","v":1},{"$f":"VLOOKUP(AG566,'Anexo ODS'!$G$3:$P$86,6,0)","v":"Las Personas"},{"$f":"VLOOKUP(AG566,'Anexo ODS'!$G$3:$P$86,7,0)","v":3},{"$f":"VLOOKUP(AG566,'Anexo ODS'!$G$3:$P$86,8,0)","v":"Salud y Bienestar"},{"$f":"VLOOKUP(AG566,'Anexo ODS'!$G$3:$P$86,9,0)","v":"3.7"},{"$f":"VLOOKUP(AG566,'Anexo ODS'!$G$3:$P$86,10,0)","v":"De aquí a 2030, garantizar el acceso universal a los servicios de salud sexual y reproductiva, incluidos los de planificación familiar, información y educación, y la integración de la salud reproductiva en las estrategias y los programas nacionales"},null,null,null,null,null,null,null,null,700]
[570,9,"Fontibón",1,"Hacer un nuevo contrato social con igualdad de oportunidades para la inclusión social, productiva y política",17,"Jóvenes con capacidades: Proyecto de vida para la ciudadanía, la innovación y el trabajo del siglo XXI",null,null,null,null,570,"Dotar 1 Sedes de Casas de juventud durante el cuatrienio",1756,"Un nuevo contrato para los jóvenes en Fontibón","DOTACIÓN","Suma",null,"Dotar",1,"Sedes"," de Casas de juventud durante el cuatrienio","Dotar 1 Sedes de Casas de juventud durante el cuatrienio",{"$f":"VLOOKUP(AG571,'Anexo PMR'!$B$4:$G$87,6,0)","v":"2_Presupuestos Participativos 50%"},6,"Infraestructura","Dotación Casas de Juventud.",92,"INTEGRACIÓN SOCIAL",5,"Dotación para la atención y la prestación de los servicios en la infraestructura del sector Integración Social.",7,"Sedes de Casas de juventud dotadas","CASAS DE JUVENTUD",null,null,null,0,1,0,0,0,415000000,0,0,415000000,1,0,0,0,0,"Bajo","Bajo",4.6244706931134388E-2,0,0,null,null,null,0,"2021_1",0,0,0,0,0,0,0,0,0,0,0,0,0,"",null,null,null,0,0,0,0,0,null,0,0,0,0,null,null,0,0,0,"",null,null,null,null,null,{"$f":"VLOOKUP(AG571,'Anexo ODS'!$G$3:$P$86,5,0)","v":1},{"$f":"VLOOKUP(AG571,'Anexo ODS'!$G$3:$P$86,6,0)","v":"Las Personas"},{"$f":"VLOOKUP(AG571,'Anexo ODS'!$G$3:$P$86,7,0)","v":1},{"$f":"VLOOKUP(AG571,'Anexo ODS'!$G$3:$P$86,8,0)","v":"Fin de la Pobreza"},{"$f":"VLOOKUP(AG571,'Anexo ODS'!$G$3:$P$86,9,0)","v":"1.2"},{"$f":"VLOOKUP(AG571,'Anexo ODS'!$G$3:$P$86,10,0)","v":"De aquí a 2030, reducir al menos a la mitad la proporción de hombres, mujeres y niños de todas las edades que viven en la pobreza en todas sus dimensiones con arreglo a las definiciones nacionales"},null,null,null,null,null,null,null,null,1]
[575,9,"Fontibón",1,"Hacer un nuevo contrato social con igualdad de oportunidades para la inclusión social, productiva y política",21,"Creación y vida cotidiana: Apropiación ciudadana del arte, la cultura y el patrimonio, para la democracia cultural",null,null,null,null,575,"Intervenir 8 sedes culturales con dotación y/o adecuación en el cuatrienio",1758,"Un nuevo contrato para la cultura en Fontibón","FORTALECIMIENTO INFRAESTRUCTURA","Suma",null,"Intervenir",8,"Sedes","culturales con dotación y/o adecuación en el cuatrienio","Intervenir 8 sedes culturales con dotación y/o adecuación en el cuatrienio",{"$f":"VLOOKUP(AG576,'Anexo PMR'!$B$4:$G$87,6,0)","v":"2_Presupuestos Participativos 50%"},6,"Infraestructura","Dotación e infraestructura cultural.",93,"CULTURA, RECREACIÓN Y DEPORTE",11,"Infraestructura y dotación a centros artísticos y culturales.",16,"Sedes dotadas/Sedes adecuadas","SEDES CULTURALES",null,null,null,2,2,2,2,575000000,592000000,611000000,631000000,2409000000,1,0,0,0,0,"Bajo","Bajo",0.30347694633408917,0,0,null,null,null,0,"2021_1",2,2,0,0,0,0,0,0,0,0,0,0,0,"",null,null,null,533754000,533754000,0,0,0,null,0,0,0,0,null,null,0,0,0,"",null,null,null,null,null,{"$f":"VLOOKUP(AG576,'Anexo ODS'!$G$3:$P$86,5,0)","v":3},{"$f":"VLOOKUP(AG576,'Anexo ODS'!$G$3:$P$86,6,0)","v":"La Prosperidad"},{"$f":"VLOOKUP(AG576,'Anexo ODS'!$G$3:$P$86,7,0)","v":9},{"$f":"VLOOKUP(AG576,'Anexo ODS'!$G$3:$P$86,8,0)","v":"Industria, innovación e infraestructura"},{"$f":"VLOOKUP(AG576,'Anexo ODS'!$G$3:$P$86,9,0)","v":"9.1"},{"$f":"VLOOKUP(AG576,'Anexo ODS'!$G$3:$P$86,10,0)","v":"Desarrollar infraestructuras fiables, sostenibles, resilientes y de calidad, incluidas infraestructuras regionales y transfronterizas, para apoyar el desarrollo económico y el bienestar humano, haciendo especial hincapié en el acceso asequible y equitativo para todos"},null,null,null,null,null,null,null,null,8]
[580,9,"Fontibón",2,"Cambiar nuestros hábitos de vida para reverdecer a Bogotá y adaptarnos y mitigar el cambio climático.",27,"Cambio cultural para la gestión de la crisis climática",null,null,null,null,580,"Construir 360 m2 de muros y techos verdes durante el cuatrienio",1766,"Un nuevo contrato para reverceder Fontibón","MUROS VERDES","Suma",null,"Construir",360,"Metros cuadrados","de muros y techos verdes durante el cuatrienio","Construir 360 m2 de muros y techos verdes durante el cuatrienio",{"$f":"VLOOKUP(AG581,'Anexo PMR'!$B$4:$G$87,6,0)","v":"2_Presupuestos Participativos 50%"},8,"Inversiones ambientales sostenibles","Eco-urbanismo.",94,"AMBIENTE",17,"Calidad ambiental y preservación del patrimonio natural.",39,"m2 de muros y techos verdes","INTERVENCIONES VERDES",null,null,null,360,0,0,0,268000000,0,0,0,268000000,1,0,0,0,0,"Bajo","Bajo",7.5684834792431516E-2,0,0,null,null,null,0,"2021_1",360,360,0,0,0,0,0,0,0,0,0,0,0,"",null,null,null,248949000,248949000,0,0,0,null,0,0,0,0,null,null,0,0,0,"",null,null,null,null,null,{"$f":"VLOOKUP(AG581,'Anexo ODS'!$G$3:$P$86,5,0)","v":3},{"$f":"VLOOKUP(AG581,'Anexo ODS'!$G$3:$P$86,6,0)","v":"La Prosperidad"},{"$f":"VLOOKUP(AG581,'Anexo ODS'!$G$3:$P$86,7,0)","v":11},{"$f":"VLOOKUP(AG581,'Anexo ODS'!$G$3:$P$86,8,0)","v":"Ciudades y comunidades sostenibles"},{"$f":"VLOOKUP(AG581,'Anexo ODS'!$G$3:$P$86,9,0)","v":"11.3"},{"$f":"VLOOKUP(AG581,'Anexo ODS'!$G$3:$P$86,10,0)","v":"De aquí a 2030, aumentar la urbanización inclusiva y sostenible y la capacidad para la planificación y la gestión participativas, integradas y sostenibles de los asentamientos"},null,null,null,null,null,null,null,null,360]
[583,9,"Fontibón",2,"Cambiar nuestros hábitos de vida para reverdecer a Bogotá y adaptarnos y mitigar el cambio climático.",28,"Bogotá protectora de sus recursos naturales",null,null,null,null,583,"Intervenir 15 hectáreas con procesos de restauración, rehabilitación o recuperación ecológica durante el cuatrienio.",1767,"Un nuevo contrato para la restauración de la Estructura Ecologica de Fontibón.","RESTAURACIÓN ECOLÓGICA","Suma",null,"Intervenir",15,"Hectáreas","con procesos de restauración, rehabilitación o recuperación ecológica durante el cuatrienio.","Intervenir 15 hectáreas con procesos de restauración, rehabilitación o recuperación ecológica durante el cuatrienio.",{"$f":"VLOOKUP(AG584,'Anexo PMR'!$B$4:$G$87,6,0)","v":"2_Presupuestos Participativos 50%"},8,"Inversiones ambientales sostenibles","Restauración ecológica urbana y/o rural.",94,"AMBIENTE",17,"Calidad ambiental y preservación del patrimonio natural.",41,"Hectáreas en restauración, rehabilitación o recuperación ecológica y mantenimiento ","INTERVENCIONES VERDES",null,null,null,4,4,4,3,238000000,242000000,261000000,263000000,1004000000,1,0,0,0,0,"Bajo","Bajo",1,0,0,null,null,null,0,"2021_1",4,4,0,0,0,0,0,0,0,0,0,0,0,"",null,null,null,221081000,221081000,0,0,0,null,0,0,0,0,null,null,0,0,0,"",null,null,null,null,null,{"$f":"VLOOKUP(AG584,'Anexo ODS'!$G$3:$P$86,5,0)","v":4},{"$f":"VLOOKUP(AG584,'Anexo ODS'!$G$3:$P$86,6,0)","v":"El Planeta"},{"$f":"VLOOKUP(AG584,'Anexo ODS'!$G$3:$P$86,7,0)","v":15},{"$f":"VLOOKUP(AG584,'Anexo ODS'!$G$3:$P$86,8,0)","v":"Vida de ecosistemas terrestres"},{"$f":"VLOOKUP(AG584,'Anexo ODS'!$G$3:$P$86,9,0)","v":"15.1"},{"$f":"VLOOKUP(AG584,'Anexo ODS'!$G$3:$P$86,10,0)","v":"De aquí a 2020, asegurar la conservación, el restablecimiento y el uso sostenible de los ecosistemas terrestres y los ecosistemas interiores de agua dulce y sus servicios, en particular los bosques, los humedales, las montañas y las zonas áridas, en consonancia con las obligaciones contraídas en virtud de acuerdos\ninternacionales"},null,null,null,null,null,null,null,null,15]
[585,9,"Fontibón",2,"Cambiar nuestros hábitos de vida para reverdecer a Bogotá y adaptarnos y mitigar el cambio climático.",30,"Eficiencia en la atención de emergencias",null,null,null,null,585,"Realizar 3 Acciones efectivas para el fortalecimiento de las capacidades locales para la respuesta a emergencias y desastres durante el cuatrienio",1768,"Un nuevo contrato para prevenir y atender riesgos en Fontibón","MANEJO DE EMERGENCIAS, CALAMIDADES Y DESASTRES","Suma",null,"Realizar",3,"Acciones","efectivas para el fortalecimiento de las capacidades locales para la respuesta a emergencias y desastres durante el cuatrienio","Realizar 3 Acciones efectivas para el fortalecimiento de las capacidades locales para la respuesta a emergencias y desastres durante el cuatrienio",{"$f":"VLOOKUP(AG586,'Anexo PMR'!$B$4:$G$87,6,0)","v":"2_Presupuestos Participativos 50%"},8,"Inversiones ambientales sostenibles","Manejo de emergencias y desastres.",94,"AMBIENTE",18,"Gestión para la prevención y mitigación del riesgo.",42,"Acciones efectivas para el fortalecimiento de las capacidades locales para la respuesta a emergencias y desastres","REDUCCIÓN DEL RIESGO",null,null,null,1,0,1,1,229000000,0,244000000,251000000,724000000,1,0,0,0,0,"Bajo","Bajo",0.70291262135922328,0,0,null,null,null,0,"2021_1",1,1,0,0,0,0,0,0,0,0,0,0,0,"",null,null,null,212721000,212721000,0,0,0,46800000,0,0,0,46800000,0,0,0,0,0,"Corte 31 marzo 2021: Los contratos asociados no contribuyen al avance de la meta.",null,null,null,null,null,{"$f":"VLOOKUP(AG586,'Anexo ODS'!$G$3:$P$86,5,0)","v":3},{"$f":"VLOOKUP(AG586,'Anexo ODS'!$G$3:$P$86,6,0)","v":"La Prosperidad"},{"$f":"VLOOKUP(AG586,'Anexo ODS'!$G$3:$P$86,7,0)","v":11},{"$f":"VLOOKUP(AG586,'Anexo ODS'!$G$3:$P$86,8,0)","v":"Ciudades y comunidades sostenibles"},{"$f":"VLOOKUP(AG586,'Anexo ODS'!$G$3:$P$86,9,0)","v":"11.5"},{"$f":"VLOOKUP(AG586,'Anexo ODS'!$G$3:$P$86,10,0)","v":"De aquí a 2030, reducir significativamente el número de muertes causadas por los desastres, incluidos los relacionados con el agua, y de personas afectadas por ellos, y reducir considerablemente las pérdidas económicas directas provocadas por los desastres en comparación con el producto interno bruto mundial, haciendo especial hincapié en la protección de los pobres y las personas en situaciones de vulnerabilidad"},null,null,null,null,null,null,null,null,3]
[590,9,"Fontibón",2,"Cambiar nuestros hábitos de vida para reverdecer a Bogotá y adaptarnos y mitigar el cambio climático.",38,"Ecoeficiencia, reciclaje, manejo de residuos e inclusión de la población recicladora",null,null,null,null,590,"Capacitar 1900 personas en separación en la fuente y reciclaje durante el cuatrienio",1772,"Un nuevo contrato para cambiar habitos de consumo en Fontibón","HÁBITOS DE CONSUMO","Suma",null,"Capacitar",1900,"Personas","en separación en la fuente y reciclaje.","Capacitar 1900 personas en separación en la fuente y reciclaje durante el cuatrienio",{"$f":"VLOOKUP(AG591,'Anexo PMR'!$B$4:$G$87,6,0)","v":"2_Presupuestos Participativos 50%"},8,"Inversiones ambientales sostenibles","Cambios de hábitos de consumo, separación en la fuente y reciclaje.",96,"HÁBITAT",23,"Manejo integral de residuos sólidos. ",50,"Personas capacitadas en separación en la fuente y reciclaje","RECICLAJE",null,null,null,475,475,475,475,359000000,369000000,382000000,394000000,1504000000,1,0,0,0,0,"Bajo","Bajo",1,0,0,null,null,null,0,"2021_1",475,475,0,0,0,0,0,0,0,0,0,0,0,"",null,null,null,333108000,333108000,0,0,0,null,0,0,0,0,null,null,0,0,0,"",null,null,null,null,null,{"$f":"VLOOKUP(AG591,'Anexo ODS'!$G$3:$P$86,5,0)","v":4},{"$f":"VLOOKUP(AG591,'Anexo ODS'!$G$3:$P$86,6,0)","v":"El Planeta"},{"$f":"VLOOKUP(AG591,'Anexo ODS'!$G$3:$P$86,7,0)","v":12},{"$f":"VLOOKUP(AG591,'Anexo ODS'!$G$3:$P$86,8,0)","v":"Producción y consumo responsables"},{"$f":"VLOOKUP(AG591,'Anexo ODS'!$G$3:$P$86,9,0)","v":"12.5"},{"$f":"VLOOKUP(AG591,'Anexo ODS'!$G$3:$P$86,10,0)","v":"De aquí a 2030, reducir considerablemente la generación de desechos mediante actividades de prevención, reducción, reciclado y reutilización"},null,null,null,null,null,null,null,null,1900]
[595,9,"Fontibón",3,"Inspirar confianza y legitimidad para vivir sin miedo y ser epicentro de cultura ciudadana, paz y reconciliación.",43,"Cultura ciudadana para la confianza, la convivencia y la participación desde la vida cotidiana",null,null,null,null,595,"Implementar 3 estrategias de atención de movilizaciones y aglomeraciones en el territorio a través de equipos de gestores de convivencia bajo el direccionamiento estratégico de la Secretaria de Seguridad, Convivencia y Justicia en el cuatrienio",1775,"Un nuevo contrato para la seguridad y convivencia en Fontibón","GESTORES DE CONVIVENCIA","Suma",null,"Implementar",3,"Estrategias","de atención de movilizaciones y aglomeraciones en el territorio a través de equipos de gestores de convivencia bajo el direccionamiento estratégico de la Secretaria de Seguridad, Convivencia y Justicia.","Implementar 3 estrategias de atención de movilizaciones y aglomeraciones en el territorio a través de equipos de gestores de convivencia bajo el direccionamiento estratégico de la Secretaria de Seguridad, Convivencia y Justicia en el cuatrienio",{"$f":"VLOOKUP(AG596,'Anexo PMR'!$B$4:$G$87,6,0)","v":"2_Presupuestos Participativos 50%"},7,"Desarrollo social y cultural","Promoción de la convivencia ciudadana.",102,"SEGURIDAD, CONVIVENCIA Y JUSTICIA",27,"Prevención, atención y gestión del conflicto en la localidad.",55,"Estrategia de atención de movilizaciones y aglomeraciones en el territorio implementada a traves de equipos de gestores de convivencia bajo el direccionamiento estrategico de la Secretaria de Seguridad, Convivencia y Justicia","ACCIONES DE CONVIVENCIA",null,null,null,1,0,1,1,256000000,0,273000000,281000000,810000000,1,0,0,0,0,"Bajo","Bajo",0.49150485436893204,0,0,null,null,null,0,"2021_1",1,1,0,0,0,0,0,0,0,0,0,0,0,"",null,null,null,238173000,238173000,0,0,0,23574400,0,0,0,23574400,2106200,2106200,0,0,0,"Corte 31 marzo 2021: Los contratos asociados no contribuyen al avance de la meta.",null,null,null,null,null,{"$f":"VLOOKUP(AG596,'Anexo ODS'!$G$3:$P$86,5,0)","v":2},{"$f":"VLOOKUP(AG596,'Anexo ODS'!$G$3:$P$86,6,0)","v":"La Paz"},{"$f":"VLOOKUP(AG596,'Anexo ODS'!$G$3:$P$86,7,0)","v":16},{"$f":"VLOOKUP(AG596,'Anexo ODS'!$G$3:$P$86,8,0)","v":"Paz, justicia e instituciones sólidas"},{"$f":"VLOOKUP(AG596,'Anexo ODS'!$G$3:$P$86,9,0)","v":"16.1"},{"$f":"VLOOKUP(AG596,'Anexo ODS'!$G$3:$P$86,10,0)","v":"Reducir significativamente todas las formas de violencia y las correspondientes tasas de mortalidad en todo el mundo"},null,null,null,null,null,null,null,null,3]
[596,9,"Fontibón",3,"Inspirar confianza y legitimidad para vivir sin miedo y ser epicentro de cultura ciudadana, paz y reconciliación.",43,"Cultura ciudadana para la confianza, la convivencia y la participación desde la vida cotidiana",null,null,null,null,596,"Incluir 1000 personas en actividades de educación para la resiliencia y la prevención de hechos delictivos durante el cuatrienio",1775,"Un nuevo contrato para la seguridad y convivencia en Fontibón","PREVENCIÓN","Suma",null,"Incluir",1000,"Personas","en actividades de educación para la resiliencia y la prevención de hechos delictivos durante el cuatrienio","Incluir 1000 personas en actividades de educación para la resiliencia y la prevención de hechos delictivos durante el cuatrienio",{"$f":"VLOOKUP(AG597,'Anexo PMR'!$B$4:$G$87,6,0)","v":"2_Presupuestos Participativos 50%"},7,"Desarrollo social y cultural","Promoción de la convivencia ciudadana.",102,"SEGURIDAD, CONVIVENCIA Y JUSTICIA",27,"Prevención, atención y gestión del conflicto en la localidad.",57,"Personas incluidas en actividades de educación para la resiliencia y la prevención de hechos delictivos. ","ACCIONES DE CONVIVENCIA",null,null,null,0,500,0,500,0,206000000,0,219000000,425000000,1,0,0,0,0,"Bajo","Bajo",0.25788834951456313,0,0,null,null,null,0,"2021_1",0,0,0,0,0,0,0,0,0,0,0,0,0,"",null,null,null,0,0,0,0,0,null,0,0,0,0,null,null,0,0,0,"",null,null,null,null,null,{"$f":"VLOOKUP(AG597,'Anexo ODS'!$G$3:$P$86,5,0)","v":2},{"$f":"VLOOKUP(AG597,'Anexo ODS'!$G$3:$P$86,6,0)","v":"La Paz"},{"$f":"VLOOKUP(AG597,'Anexo ODS'!$G$3:$P$86,7,0)","v":16},{"$f":"VLOOKUP(AG597,'Anexo ODS'!$G$3:$P$86,8,0)","v":"Paz, justicia e instituciones sólidas"},{"$f":"VLOOKUP(AG597,'Anexo ODS'!$G$3:$P$86,9,0)","v":"16.1"},{"$f":"VLOOKUP(AG597,'Anexo ODS'!$G$3:$P$86,10,0)","v":"Reducir significativamente todas las formas de violencia y las correspondientes tasas de mortalidad en todo el mundo"},null,null,null,null,null,null,null,null,1000]
[601,9,"Fontibón",3,"Inspirar confianza y legitimidad para vivir sin miedo y ser epicentro de cultura ciudadana, paz y reconciliación.",48,"Plataforma institucional para la seguridad y justicia",null,null,null,null,601,"Suministrar 1 Dotaciones logísticas a organismos de seguridad en el cuatrienio.",1779,"Un nuevo contrato para dotación de seguridad en Fontibón","DOTACIÓN","Suma",null,"Suministrar",1,"Dotaciones","logísticas a organismos de seguridad en el cuatrienio.","Suministrar 1 Dotaciones logísticas a organismos de seguridad en el cuatrienio.",{"$f":"VLOOKUP(AG602,'Anexo PMR'!$B$4:$G$87,6,0)","v":"2_Presupuestos Participativos 50%"},7,"Desarrollo social y cultural","Dotación para instancias de seguridad.",102,"SEGURIDAD, CONVIVENCIA Y JUSTICIA",30,"Infraestructura y dotaciones para seguridad.",66,"Dotaciones logísticas suministradas a organismos de seguridad.","DOTACIÓN EN SEGURIDAD",null,null,null,0,1,0,0,0,206000000,0,0,206000000,1,0,0,0,0,"Bajo","Bajo",0.15981380915438323,0,0,null,null,null,0,"2021_1",0,0,0,0,0,0,0,0,0,0,0,0,0,"",null,null,null,0,0,0,0,0,null,0,0,0,0,null,null,0,0,0,"",null,null,null,null,null,{"$f":"VLOOKUP(AG602,'Anexo ODS'!$G$3:$P$86,5,0)","v":2},{"$f":"VLOOKUP(AG602,'Anexo ODS'!$G$3:$P$86,6,0)","v":"La Paz"},{"$f":"VLOOKUP(AG602,'Anexo ODS'!$G$3:$P$86,7,0)","v":16},{"$f":"VLOOKUP(AG602,'Anexo ODS'!$G$3:$P$86,8,0)","v":"Paz, justicia e instituciones sólidas"},{"$f":"VLOOKUP(AG602,'Anexo ODS'!$G$3:$P$86,9,0)","v":"16.a"},{"$f":"VLOOKUP(AG602,'Anexo ODS'!$G$3:$P$86,10,0)","v":"Fortalecer las instituciones nacionales pertinentes, incluso mediante la cooperación internacional, para crear a todos los niveles, particularmente en los países en desarrollo, la capacidad de prevenir la violencia y combatir el terrorismo y la delincuencia"},null,null,null,null,null,null,null,null,1]
[606,9,"Fontibón",4,"Hacer de Bogotá-región un modelo de movilidad, creatividad y productividad incluyente y sostenible",49,"Movilidad segura, sostenible y accesible",null,null,null,null,606,"Intervenir 2420 metros lineales de Ciclo-infraestructura con acciones de construcción y/o conservación durante el cuatrienio.",1780,"Un nuevo contrato para movilidad en Fontibón","CICLO INFRAESTRUCTURA","Suma",null,"Intervenir",2420,"Metros","lineales de Ciclo-infraestructura con acciones de construcción y/o conservación durante el cuatrienio.","Intervenir 2420 metros lineales de Ciclo-infraestructura con acciones de construcción y/o conservación durante el cuatrienio.",{"$f":"VLOOKUP(AG607,'Anexo PMR'!$B$4:$G$87,6,0)","v":"2_Presupuestos Participativos 50%"},6,"Infraestructura","Diseño, construcción y conservación de ciclo-infraestructura.",95,"MOVILIDAD",33,"Ciclo infraestructura construida y/o conservada.",73,"Metros lineales construidos y/o conservados de Ciclo-infraestructura","CICLO-INFRAESTRUCTURA",null,null,null,605,605,605,605,281000000,290000000,299000000,309000000,1179000000,1,0,0,0,0,"Bajo","Bajo",0.17209166545029922,0,0,null,null,null,0,"2021_1",605,605,0,0,0,0,0,0,0,0,0,0,0,"",null,null,null,261303000,261303000,0,0,0,null,0,0,0,0,null,null,0,0,0,"",null,null,null,null,null,{"$f":"VLOOKUP(AG607,'Anexo ODS'!$G$3:$P$86,5,0)","v":3},{"$f":"VLOOKUP(AG607,'Anexo ODS'!$G$3:$P$86,6,0)","v":"La Prosperidad"},{"$f":"VLOOKUP(AG607,'Anexo ODS'!$G$3:$P$86,7,0)","v":11},{"$f":"VLOOKUP(AG607,'Anexo ODS'!$G$3:$P$86,8,0)","v":"Ciudades y comunidades sostenibles"},{"$f":"VLOOKUP(AG607,'Anexo ODS'!$G$3:$P$86,9,0)","v":"11.2"},{"$f":"VLOOKUP(AG607,'Anexo ODS'!$G$3:$P$86,10,0)","v":" De aquí a 2030, proporcionar acceso a sistemas de transporte seguros, asequibles, accesibles y sostenibles para todos y mejorar la seguridad vial, en particular mediante la ampliación del transporte público, prestando especial atención a las necesidades de las personas en situación de vulnerabilidad, las mujeres, los niños, las personas con discapacidad y las personas de edad"},null,null,null,null,null,null,null,null,2420]
[611,9,"Fontibón",5,"Construir Bogotá-región con gobierno abierto, transparente y ciudadanía consciente.",55,"Fortalecimiento de Cultura Ciudadana y su institucionalidad",null,null,null,null,611,"Fortalecer 223 Organizaciones, JAC e Instancias de participación ciudadana durante el cuatrienio",1782,"Un nuevo contrato para la participación ciudadana en Fontibón","FORTALECIMIENTO ORGANIZATIVO","Suma",null,"Fortalecer",223,"Organizaciones",", JAC e Instancias de participación ciudadana durante el cuatrienio","Fortalecer 223 Organizaciones, JAC e Instancias de participación ciudadana durante el cuatrienio",{"$f":"VLOOKUP(AG612,'Anexo PMR'!$B$4:$G$87,6,0)","v":"2_Presupuestos Participativos 50%"},7,"Desarrollo social y cultural","Fortalecimiento de organizaciones sociales, comunitarias, comunales, propiedad horizontal e instancias y mecanismos de participación, con énfasis en jóvenes y asociatividad productiva.",98,"GOBIERNO",35,"Espacios y procesos de participación ciudadana fortalecidos. ",79,"Número de Organizaciones, JAC e Instancias de participación ciudadana fortalecidas.","FORTALECIMIENTO ORGANIZATIVO",null,null,null,47,55,65,56,743000000,887000000,1033000000,944000000,3607000000,1,0,0,0,0,"Bajo","Bajo",0.59063369903389551,0,0,null,null,null,0,"2021_1",47,47,0,0,0,0,0,0,0,0,0,0,0,"",null,null,null,690183000,690183000,0,0,0,103498000,0,0,0,103498000,0,0,0,0,0,"Corte 31 marzo 2021: Los contratos asociados no contribuyen al avance de la meta.",null,null,null,null,null,{"$f":"VLOOKUP(AG612,'Anexo ODS'!$G$3:$P$86,5,0)","v":2},{"$f":"VLOOKUP(AG612,'Anexo ODS'!$G$3:$P$86,6,0)","v":"La Paz"},{"$f":"VLOOKUP(AG612,'Anexo ODS'!$G$3:$P$86,7,0)","v":16},{"$f":"VLOOKUP(AG612,'Anexo ODS'!$G$3:$P$86,8,0)","v":"Paz, justicia e instituciones sólidas"},{"$f":"VLOOKUP(AG612,'Anexo ODS'!$G$3:$P$86,9,0)","v":"16.7"},{"$f":"VLOOKUP(AG612,'Anexo ODS'!$G$3:$P$86,10,0)","v":"Garantizar la adopción en todos los niveles de decisiones inclusivas, participativas y representativas que respondan a las necesidades"},null,null,null,null,null,null,null,null,223]
[612,9,"Fontibón",5,"Construir Bogotá-región con gobierno abierto, transparente y ciudadanía consciente.",55,"Fortalecimiento de Cultura Ciudadana y su institucionalidad",null,null,null,null,612,"Intervenir 12 sedes de salones comunales durante el cuatrienio",1782,"Un nuevo contrato para la participación ciudadana en Fontibón","INTERVENCIÓN","Suma",null,"Intervenir",12,"Sedes","de salones comunales durante el cuatrienio","Intervenir 12 sedes de salones comunales durante el cuatrienio",{"$f":"VLOOKUP(AG613,'Anexo PMR'!$B$4:$G$87,6,0)","v":"2_Presupuestos Participativos 50%"},6,"Infraestructura","Intervención y dotación de salones comunales.",98,"GOBIERNO",35,"Espacios y procesos de participación ciudadana fortalecidos. ",75,"Sedes intervenidas de salones comunales.","SALONES COMUNALES",null,null,null,4,4,4,0,261000000,269000000,277000000,0,807000000,1,0,0,0,0,"Bajo","Bajo",0.13214344195185854,0,0,null,null,null,0,"2021_1",4,4,0,0,0,0,0,0,0,0,0,0,0,"",null,null,null,241982000,241982000,0,0,0,null,0,0,0,0,null,null,0,0,0,"",null,null,null,null,null,{"$f":"VLOOKUP(AG613,'Anexo ODS'!$G$3:$P$86,5,0)","v":3},{"$f":"VLOOKUP(AG613,'Anexo ODS'!$G$3:$P$86,6,0)","v":"La Prosperidad"},{"$f":"VLOOKUP(AG613,'Anexo ODS'!$G$3:$P$86,7,0)","v":11},{"$f":"VLOOKUP(AG613,'Anexo ODS'!$G$3:$P$86,8,0)","v":"Ciudades y comunidades sostenibles"},{"$f":"VLOOKUP(AG613,'Anexo ODS'!$G$3:$P$86,9,0)","v":"11.3"},{"$f":"VLOOKUP(AG613,'Anexo ODS'!$G$3:$P$86,10,0)","v":"De aquí a 2030, aumentar la urbanización inclusiva y sostenible y la capacidad para la planificación y la gestión participativas, integradas y sostenibles de los asentamientos humanos en todos los países"},null,null,null,null,null,null,null,null,12]
[617,10,"Engativá",1,"Hacer un nuevo contrato social con igualdad de oportunidades para la inclusión social, productiva y política",1,"Subsidios y transferencias para la equidad",null,null,null,null,617,"Beneficiar 2.150 personas mayores con apoyo económico tipo C.",1584,"Subsidios y transferencias para la equidad en Engativá","SUBSIDIO TIPO C","Constante",null,"Beneficiar",2150,"Personas","mayores con apoyo económico tipo C.","Beneficiar 2.150 personas mayores con apoyo económico tipo C.",{"$f":"VLOOKUP(AG618,'Anexo PMR'!$B$4:$G$87,6,0)","v":"1_Inflexible 45%"},3,"Sistema Bogotá Solidaria (20%)","Subsidio tipo C adulto mayor.",92,"INTEGRACIÓN SOCIAL",1,"Protección integral a personas y familias en situación de vulneración.",2,"Número de personas mayores con apoyo económico tipo C","SUBSIDIO TIPO C",null,null,null,2150,2150,2150,2150,3860000000,3999000000,4540000000,5753000000,18152000000,1,537.5,0.25,537.5,0.25,"Bajo","Bajo",0.40018518926784102,0.10004629731696026,0.10004629731696026,null,null,null,0,"2021_1",2150,2150,0,0,0,2150,0,0,0,2150,0,0,0,"Incompleto",null,null,null,3810042000,3810042000,0,0,0,1916020000,0,0,0,1916020000,809722620,809722620,0,0,0,"",null,null,null,null,null,{"$f":"VLOOKUP(AG618,'Anexo ODS'!$G$3:$P$86,5,0)","v":1},{"$f":"VLOOKUP(AG618,'Anexo ODS'!$G$3:$P$86,6,0)","v":"Las Personas"},{"$f":"VLOOKUP(AG618,'Anexo ODS'!$G$3:$P$86,7,0)","v":1},{"$f":"VLOOKUP(AG618,'Anexo ODS'!$G$3:$P$86,8,0)","v":"Fin de la pobreza"},{"$f":"VLOOKUP(AG618,'Anexo ODS'!$G$3:$P$86,9,0)","v":"1.2"},{"$f":"VLOOKUP(AG618,'Anexo ODS'!$G$3:$P$86,10,0)","v":"De aquí a 2030, reducir al menos a la mitad la proporción de hombres, mujeres y niños de todas las edades que viven en la pobreza en todas sus dimensiones con arreglo a las definiciones nacionales"},null,null,null,null,null,null,null,null,2150]
[622,10,"Engativá",1,"Hacer un nuevo contrato social con igualdad de oportunidades para la inclusión social, productiva y política",6,"Sistema Distrital de Cuidado",null,null,null,null,622,"Dotar 1 Centro de Desarrollo comunitario.",1599,"Desarrollo integral para la transformación social","DOTACIÓN CDC","Suma",null,"Dotar",1,"Centros","de Desarrollo comunitario","Dotar 1 Centro de Desarrollo comunitario.",{"$f":"VLOOKUP(AG623,'Anexo PMR'!$B$4:$G$87,6,0)","v":"2_Presupuestos Participativos 50%"},6,"Infraestructura","Dotación Centros de Desarrollo Comunitario.",92,"INTEGRACIÓN SOCIAL",5,"Dotación para la atención y la prestación de los servicios en la infraestructura del sector Integración Social.",27,"Sedes de Centros de Desarrollo comunitarios dotados","CENTROS DE DESARROLLO COMUNITARIO",null,null,null,0,0,0,1,0,0,0,200000000,200000000,1,0,0,0,0,"Bajo","Bajo",7.5202105658958452E-3,0,0,null,null,null,0,"2021_1",0,0,0,0,0,0,0,0,0,0,0,0,0,"",null,null,null,0,0,0,0,0,null,0,0,0,0,null,null,0,0,0,"",null,null,null,null,null,{"$f":"VLOOKUP(AG623,'Anexo ODS'!$G$3:$P$86,5,0)","v":3},{"$f":"VLOOKUP(AG623,'Anexo ODS'!$G$3:$P$86,6,0)","v":"La Prosperidad"},{"$f":"VLOOKUP(AG623,'Anexo ODS'!$G$3:$P$86,7,0)","v":10},{"$f":"VLOOKUP(AG623,'Anexo ODS'!$G$3:$P$86,8,0)","v":"Reducción de las desigualdades "},{"$f":"VLOOKUP(AG623,'Anexo ODS'!$G$3:$P$86,9,0)","v":"10.2"},{"$f":"VLOOKUP(AG623,'Anexo ODS'!$G$3:$P$86,10,0)","v":"De aquí a 2030, potenciar y promover la inclusión social, económica y política de todas las personas, independientemente de su edad, sexo, discapacidad, raza, etnia, origen, religión o situación económica u otra condición"},null,null,null,null,null,null,null,null,1]
[627,10,"Engativá",1,"Hacer un nuevo contrato social con igualdad de oportunidades para la inclusión social, productiva y política",6,"Sistema Distrital de Cuidado",null,null,null,null,627,"Beneficiar 278 personas con discapacidad a través de Dispositivos de Asistencia Personal - Ayudas Técnicas (no incluidas en los Planes de Beneficios).",1601,"Promoción de la inclusión social de las personas con discapacidad en las diferentes acciones de la vida cotidiana","DISPOSITIVOS DE ASISTENCIA PERSONAL","Suma",null,"Beneficiar",278,"Personas","con discapacidad a través de Dispositivos de Asistencia Personal - Ayudas Técnicas (no incluidas en los Planes de Beneficios).","Beneficiar 278 personas con discapacidad a través de Dispositivos de Asistencia Personal - Ayudas Técnicas (no incluidas en los Planes de Beneficios).",{"$f":"VLOOKUP(AG628,'Anexo PMR'!$B$4:$G$87,6,0)","v":"3_Flexible 5%"},11,"Condiciones de salud","Dispositivos de asistencia personal -DAP- Ayudas técnicas a personas con discapacidad (No incluidas en el POS).",91,"SALUD",16,"Promoción, prevención e intervención en salud.",33,"Número de personas con discapacidad beneficiadas con Dispostivos de Asistencia Personal - Ayudas Técnicas (no incluidas en los Planes de Beneficios).","ATENCIÓN  A LA DISCAPACIDAD Y SUS CUIDADORES",null,null,null,69,69,70,70,189000000,196000000,204000000,211000000,800000000,1,0,0,0,0,"Bajo","Bajo",3.0080842263583381E-2,0,0,null,null,null,0,"2021_1",69,69,0,0,0,0,0,0,0,0,0,0,0,"",null,null,null,186554000,186554000,0,0,0,null,0,0,0,0,null,null,0,0,0,"",null,null,null,null,null,{"$f":"VLOOKUP(AG628,'Anexo ODS'!$G$3:$P$86,5,0)","v":3},{"$f":"VLOOKUP(AG628,'Anexo ODS'!$G$3:$P$86,6,0)","v":"La Prosperidad"},{"$f":"VLOOKUP(AG628,'Anexo ODS'!$G$3:$P$86,7,0)","v":10},{"$f":"VLOOKUP(AG628,'Anexo ODS'!$G$3:$P$86,8,0)","v":"Reducción de las desigualdades "},{"$f":"VLOOKUP(AG628,'Anexo ODS'!$G$3:$P$86,9,0)","v":"10.2"},{"$f":"VLOOKUP(AG628,'Anexo ODS'!$G$3:$P$86,10,0)","v":"De aquí a 2030, potenciar y promover la inclusión social, económica y política de todas las personas, independientemente de su edad, sexo, discapacidad, raza, etnia, origen, religión o situación económica u otra condición"},null,null,null,null,null,null,null,null,278]
[628,10,"Engativá",1,"Hacer un nuevo contrato social con igualdad de oportunidades para la inclusión social, productiva y política",12,"Educación inicial: Bases sólidas para la vida",null,null,null,null,628,"Implementar 33 Proyectos para el desarrollo integral de la primera infancia y la relación escuela, familia y comunidad.",1588,"Educación Inicial: Bases Solidas para La Vida en Engativá","EDUCACIÓN INICIAL","Suma",null,"Implementar",33,"Proyectos","para el desarrollo integral de la primera infancia y la relación escuela, familia y comunidad.","Implementar 33 Proyectos para el desarrollo integral de la primera infancia y la relación escuela, familia y comunidad.",{"$f":"VLOOKUP(AG629,'Anexo PMR'!$B$4:$G$87,6,0)","v":"1_Inflexible 45%"},4,"Educación superior y primera infancia (10%)","Apoyo para educación inicial.",90,"EDUCACIÓN",2,"Protección integral a niños y niñas y adolescentes.",3,"Proyectos para el desarrollo integral de la primera infancia y la relación escuela, familia y comunidad.","PROYECTOS PRIMERA INFANCIA",null,null,null,8,8,8,9,1299000000,1339000000,1381000000,1425000000,5444000000,1,0,0,0,0,"Bajo","Bajo",1,0,0,null,null,null,0,"2021_1",8,8,0,0,0,0,0,0,0,0,0,0,0,"",null,null,null,1282188000,1282188000,0,0,0,null,0,0,0,0,null,null,0,0,0,"",null,null,null,null,null,{"$f":"VLOOKUP(AG629,'Anexo ODS'!$G$3:$P$86,5,0)","v":1},{"$f":"VLOOKUP(AG629,'Anexo ODS'!$G$3:$P$86,6,0)","v":"Las Personas"},{"$f":"VLOOKUP(AG629,'Anexo ODS'!$G$3:$P$86,7,0)","v":4},{"$f":"VLOOKUP(AG629,'Anexo ODS'!$G$3:$P$86,8,0)","v":"Educación de calidad"},{"$f":"VLOOKUP(AG629,'Anexo ODS'!$G$3:$P$86,9,0)","v":"4.2"},{"$f":"VLOOKUP(AG629,'Anexo ODS'!$G$3:$P$86,10,0)","v":"De aquí a 2030, asegurar que todas las niñas y todos los niños tengan acceso a servicios de atención y desarrollo en la primera infancia y educación preescolar de calidad, a fin de que estén preparados para la enseñanza primaria."},null,null,null,null,null,null,null,null,33]
[633,10,"Engativá",1,"Hacer un nuevo contrato social con igualdad de oportunidades para la inclusión social, productiva y política",20,"Bogotá, referente en cultura, deporte, recreación y actividad física, con parques para el desarrollo y la salud",null,null,null,null,633,"Capacitar 1.260 personas en los campos deportivos.",1594,"Engativá siempre activa con el deporte, la recreación y la actividad física","FORMACIÓN DEPORTIVA","Suma",null,"Capacitar",1260,"Personas","en los campos deportivos","Capacitar 1.260 personas en los campos deportivos.",{"$f":"VLOOKUP(AG634,'Anexo PMR'!$B$4:$G$87,6,0)","v":"2_Presupuestos Participativos 50%"},7,"Desarrollo social y cultural","Procesos de formación y dotación de insumos para los campos artísticos, interculturales, culturales, patrimoniales y deportivos.",93,"CULTURA, RECREACIÓN Y DEPORTE",7,"Eventos y actividades recreativas y deportivas.",11,"Personas capacitadas en los campos deportivos","FORMACIÓN DEPORTIVA",null,null,null,314,315,315,316,568000000,586000000,604000000,623000000,2381000000,1,0,0,0,0,"Bajo","Bajo",0.37343161856963614,0,0,null,null,null,0,"2021_1",314,314,0,0,0,0,0,0,0,0,0,0,0,"",null,null,null,560649000,560649000,0,0,0,106960000,0,0,0,106960000,1500000,1500000,0,0,0,"Corte 31 marzo 2021: La contratación reportada no contribuye al avance de la magnitud de la meta.",null,null,null,null,null,{"$f":"VLOOKUP(AG634,'Anexo ODS'!$G$3:$P$86,5,0)","v":1},{"$f":"VLOOKUP(AG634,'Anexo ODS'!$G$3:$P$86,6,0)","v":"Las Personas"},{"$f":"VLOOKUP(AG634,'Anexo ODS'!$G$3:$P$86,7,0)","v":4},{"$f":"VLOOKUP(AG634,'Anexo ODS'!$G$3:$P$86,8,0)","v":"Educación de calidad"},{"$f":"VLOOKUP(AG634,'Anexo ODS'!$G$3:$P$86,9,0)","v":"4.7"},{"$f":"VLOOKUP(AG634,'Anexo ODS'!$G$3:$P$86,10,0)","v":"De aquí a 2030, asegurar que todos los alumnos adquieran los conocimientos teóricos y prácticos necesarios para promover el desarrollo sostenible, entre otras cosas mediante la educación para el desarrollo sostenible y los estilos de vida sostenibles, los derechos humanos, la igualdad de género, la promoción de una cultura de paz y no violencia, la ciudadanía mundial y la valoración de la diversidad cultural y la contribución de la cultura al desarrollo sostenible"},null,null,null,null,null,null,null,null,1260]
[638,10,"Engativá",1,"Hacer un nuevo contrato social con igualdad de oportunidades para la inclusión social, productiva y política",21,"Creación y vida cotidiana: Apropiación ciudadana del arte, la cultura y el patrimonio, para la democracia cultural",null,null,null,null,638,"Realizar 29 eventos de promoción de actividades culturales.",1595,"Cultura, arte y patrimonio para transformar a Engativá","EVENTOS","Suma",null,"Realizar",29,"Eventos","de promoción de actividades culturales.","Realizar 29 eventos de promoción de actividades culturales.",{"$f":"VLOOKUP(AG639,'Anexo PMR'!$B$4:$G$87,6,0)","v":"2_Presupuestos Participativos 50%"},7,"Desarrollo social y cultural","Circulación y apropiación de prácticas artísticas, interculturales, culturales y patrimoniales.",93,"CULTURA, RECREACIÓN Y DEPORTE",8,"Espacios artísticos y culturales.",13,"Eventos de promoción de actividades culturales realizadas","ACTIVIDAD CULTURAL",null,null,null,7,7,7,8,434000000,448000000,462000000,477000000,1821000000,1,0,0,0,0,"Bajo","Bajo",0.1818091054313099,0,0,null,null,null,0,"2021_1",7,7,0,0,0,0,0,0,0,0,0,0,0,"",null,null,null,428383000,428383000,0,0,0,null,0,0,0,0,null,null,0,0,0,"",null,null,null,null,null,{"$f":"VLOOKUP(AG639,'Anexo ODS'!$G$3:$P$86,5,0)","v":3},{"$f":"VLOOKUP(AG639,'Anexo ODS'!$G$3:$P$86,6,0)","v":"La Prosperidad"},{"$f":"VLOOKUP(AG639,'Anexo ODS'!$G$3:$P$86,7,0)","v":11},{"$f":"VLOOKUP(AG639,'Anexo ODS'!$G$3:$P$86,8,0)","v":"Ciudades y comunidades sostenibles"},{"$f":"VLOOKUP(AG639,'Anexo ODS'!$G$3:$P$86,9,0)","v":"11.4"},{"$f":"VLOOKUP(AG639,'Anexo ODS'!$G$3:$P$86,10,0)","v":"Redoblar los esfuerzos para proteger y salvaguardar el patrimonio cultural y natural del mundo"},null,null,null,null,null,null,null,null,29]
[643,10,"Engativá",2,"Cambiar nuestros hábitos de vida para reverdecer a Bogotá y adaptarnos y mitigar el cambio climático.",28,"Bogotá protectora de sus recursos naturales",null,null,null,null,643,"Intervenir 3 hectáreas con procesos de restauración, rehabilitación o recuperación ecológica.",1603,"Engativá protectora de sus recursos naturales","RESTAURACIÓN ECOLÓGICA","Suma",null,"Intervenir",3,"Hectáreas","con procesos de restauración, rehabilitación o recuperación ecológica.","Intervenir 3 hectáreas con procesos de restauración, rehabilitación o recuperación ecológica.",{"$f":"VLOOKUP(AG644,'Anexo PMR'!$B$4:$G$87,6,0)","v":"2_Presupuestos Participativos 50%"},8,"Inversiones ambientales sostenibles","Restauración ecológica urbana y/o rural.",94,"AMBIENTE",17,"Calidad ambiental y preservación del patrimonio natural.",41,"Hectáreas en restauración, rehabilitación o recuperación ecológica y mantenimiento ","INTERVENCIONES VERDES",null,null,null,0.75,0.75,0.75,0.75,676000000,695000000,717000000,740000000,2828000000,1,0,0,0,0,"Bajo","Bajo",1,0,0,null,null,null,0,"2021_1",0.75,0.75,0,0,0,0,0,0,0,0,0,0,0,"",null,null,null,667251000,667251000,0,0,0,96920000,0,0,0,96920000,0,0,0,0,0,"Corte 31 marzo 2021: La contratación reportada no contribuye al avance de la magnitud de la meta.",null,null,null,null,null,{"$f":"VLOOKUP(AG644,'Anexo ODS'!$G$3:$P$86,5,0)","v":4},{"$f":"VLOOKUP(AG644,'Anexo ODS'!$G$3:$P$86,6,0)","v":"El Planeta"},{"$f":"VLOOKUP(AG644,'Anexo ODS'!$G$3:$P$86,7,0)","v":15},{"$f":"VLOOKUP(AG644,'Anexo ODS'!$G$3:$P$86,8,0)","v":"Vida de ecosistemas terrestres"},{"$f":"VLOOKUP(AG644,'Anexo ODS'!$G$3:$P$86,9,0)","v":"15.1"},{"$f":"VLOOKUP(AG644,'Anexo ODS'!$G$3:$P$86,10,0)","v":"De aquí a 2020, asegurar la conservación, el restablecimiento y el uso sostenible de los ecosistemas terrestres y los ecosistemas interiores de agua dulce y sus servicios, en particular los bosques, los humedales, las montañas y las zonas áridas, en consonancia con las obligaciones contraídas en virtud de acuerdos\ninternacionales"},null,null,null,null,null,null,null,null,3]
[644,10,"Engativá",2,"Cambiar nuestros hábitos de vida para reverdecer a Bogotá y adaptarnos y mitigar el cambio climático.",30,"Eficiencia en la atención de emergencias",null,null,null,null,644,"Desarrollar 3 intervenciones físicas para la reducción del riesgo y adaptación al cambio climático.",1604,"Prevención del riesgo y atención de emergencias","REDUCCIÓN DEL RIESGO Y ADAPTACIÓN AL CAMBIO CLIMÁTICO","Suma",null,"Desarrollar",3,"Intervenciones","para la reducción del riesgo y adaptación al cambio climático.","Desarrollar 3 intervenciones físicas para la reducción del riesgo y adaptación al cambio climático.",{"$f":"VLOOKUP(AG645,'Anexo PMR'!$B$4:$G$87,6,0)","v":"2_Presupuestos Participativos 50%"},8,"Inversiones ambientales sostenibles","Mitigación del riesgo. ",94,"AMBIENTE",18,"Gestión para la prevención y mitigación del riesgo.",43,"Intervenciones para la reducción del riesgo y adaptación al cambio climático","REDUCCIÓN DEL RIESGO",null,null,null,1,1,1,0,200000000,246000000,308000000,0,754000000,1,0,0,0,0,"Bajo","Bajo",0.47812301838934684,0,0,null,null,null,0,"2021_1",1,1,0,0,0,0,0,0,0,0,0,0,0,"",null,null,null,197412000,197412000,0,0,0,65700000,0,0,0,65700000,0,0,0,0,0,"Corte 31 marzo 2021: La contratación reportada no contribuye al avance de la magnitud de la meta.",null,null,null,null,null,{"$f":"VLOOKUP(AG645,'Anexo ODS'!$G$3:$P$86,5,0)","v":4},{"$f":"VLOOKUP(AG645,'Anexo ODS'!$G$3:$P$86,6,0)","v":"El Planeta"},{"$f":"VLOOKUP(AG645,'Anexo ODS'!$G$3:$P$86,7,0)","v":13},{"$f":"VLOOKUP(AG645,'Anexo ODS'!$G$3:$P$86,8,0)","v":"Acción por el clima"},{"$f":"VLOOKUP(AG645,'Anexo ODS'!$G$3:$P$86,9,0)","v":"13.1"},{"$f":"VLOOKUP(AG645,'Anexo ODS'!$G$3:$P$86,10,0)","v":"Fortalecer la resiliencia y la capacidad de adaptación a los riesgos relacionados con el clima y los desastres naturales en todos los países"},null,null,null,null,null,null,null,null,3]
[649,10,"Engativá",2,"Cambiar nuestros hábitos de vida para reverdecer a Bogotá y adaptarnos y mitigar el cambio climático.",34,"Bogotá protectora de los animales",null,null,null,null,649,"Atender 15.688 animales en urgencias, brigadas médico veterinarias, acciones de esterilización, educación y adopción.",1613,"Engativá protectora de los animales","BIENESTAR ANIMAL","Suma",null,"Atender",15688,"Animales","en urgencias, brigadas médico veterinarias, acciones de esterilización, educación y adopción.","Atender 15.688 animales en urgencias, brigadas médico veterinarias, acciones de esterilización, educación y adopción.",{"$f":"VLOOKUP(AG650,'Anexo PMR'!$B$4:$G$87,6,0)","v":"2_Presupuestos Participativos 50%"},8,"Inversiones ambientales sostenibles","Acuerdos con las redes locales de proteccionistas de animales para urgencias, brigadas médico veterinarias, acciones de esterilización, educación y adopción  ",94,"AMBIENTE",21,"Servicios de protección y bienestar animal.",48,"Número de animales atendidos","PROTECCIÓN ANIMAL",null,null,null,3919,3917,3923,3929,744000000,766000000,790000000,815000000,3115000000,1,0,0,0,0,"Bajo","Bajo",1,0,0,null,null,null,0,"2021_1",3919,3919,0,0,0,0,0,0,0,0,0,0,0,"",null,null,null,734371000,734371000,0,0,0,78960000,0,0,0,78960000,0,0,0,0,0,"Corte 31 marzo 2021: La contratación reportada no contribuye al avance de la magnitud de la meta.",null,null,null,null,null,{"$f":"VLOOKUP(AG650,'Anexo ODS'!$G$3:$P$86,5,0)","v":3},{"$f":"VLOOKUP(AG650,'Anexo ODS'!$G$3:$P$86,6,0)","v":"La Prosperidad"},{"$f":"VLOOKUP(AG650,'Anexo ODS'!$G$3:$P$86,7,0)","v":11},{"$f":"VLOOKUP(AG650,'Anexo ODS'!$G$3:$P$86,8,0)","v":"Ciudades y comunidades sostenibles"},{"$f":"VLOOKUP(AG650,'Anexo ODS'!$G$3:$P$86,9,0)","v":"11.3"},{"$f":"VLOOKUP(AG650,'Anexo ODS'!$G$3:$P$86,10,0)","v":"De aquí a 2030, aumentar la urbanización inclusiva y sostenible y la capacidad para la planificación y la gestión participativas, integradas y sostenibles de los asentamientos\nhumanos en todos los países"},null,null,null,null,null,null,null,null,15688]
[654,10,"Engativá",3,"Inspirar confianza y legitimidad para vivir sin miedo y ser epicentro de cultura ciudadana, paz y reconciliación.",43,"Cultura ciudadana para la confianza, la convivencia y la participación desde la vida cotidiana",null,null,null,null,654,"Implementar 70 estrategias de atención de movilizaciones y aglomeraciones en el territorio a través de equipos de gestores de convivencia bajo el direccionamiento estratégico de la Secretaria de Seguridad, Convivencia y Justicia.",1617,"Cultura Ciudadana para la Confianza, la Convivencia y la Participación desde la Vida Cotidiana en Engativá","GESTORES DE CONVIVENCIA","Suma",null,"Implementar",70,"Estrategias","de atención de movilizaciones y aglomeraciones en el territorio a través de equipos de gestores de convivencia bajo el direccionamiento estratégico de la Secretaria de Seguridad, Convivencia y Justicia.","Implementar 70 estrategias de atención de movilizaciones y aglomeraciones en el territorio a través de equipos de gestores de convivencia bajo el direccionamiento estratégico de la Secretaria de Seguridad, Convivencia y Justicia.",{"$f":"VLOOKUP(AG655,'Anexo PMR'!$B$4:$G$87,6,0)","v":"2_Presupuestos Participativos 50%"},7,"Desarrollo social y cultural","Promoción de la convivencia ciudadana.",102,"SEGURIDAD, CONVIVENCIA Y JUSTICIA",27,"Prevención, atención y gestión del conflicto en la localidad.",55,"Estrategia de atención de movilizaciones y aglomeraciones en el territorio implementada a traves de equipos de gestores de convivencia bajo el direccionamiento estrategico de la Secretaria de Seguridad, Convivencia y Justicia","ACCIONES DE CONVIVENCIA",null,null,null,17,17,18,18,624000000,644000000,664000000,685000000,2617000000,1,0,0,0,0,"Bajo","Bajo",0.70010700909577317,0,0,null,null,null,0,"2021_1",17,17,0,0,0,0,0,0,0,0,0,0,0,"",null,null,null,615924000,615924000,0,0,0,283500000,0,0,0,283500000,0,0,0,0,0,"Corte 31 marzo 2021: La contratación reportada no contribuye al avance de la magnitud de la meta.",null,null,null,null,null,{"$f":"VLOOKUP(AG655,'Anexo ODS'!$G$3:$P$86,5,0)","v":2},{"$f":"VLOOKUP(AG655,'Anexo ODS'!$G$3:$P$86,6,0)","v":"La Paz"},{"$f":"VLOOKUP(AG655,'Anexo ODS'!$G$3:$P$86,7,0)","v":16},{"$f":"VLOOKUP(AG655,'Anexo ODS'!$G$3:$P$86,8,0)","v":"Paz, justicia e instituciones sólidas"},{"$f":"VLOOKUP(AG655,'Anexo ODS'!$G$3:$P$86,9,0)","v":"16.1"},{"$f":"VLOOKUP(AG655,'Anexo ODS'!$G$3:$P$86,10,0)","v":"Reducir significativamente todas las formas de violencia y las correspondientes tasas de mortalidad en todo el mundo"},null,null,null,null,null,null,null,null,70]
[659,10,"Engativá",3,"Inspirar confianza y legitimidad para vivir sin miedo y ser epicentro de cultura ciudadana, paz y reconciliación.",48,"Plataforma institucional para la seguridad y justicia",null,null,null,null,659,"Implementar 3 estrategias locales de acciones afirmativas y pedagógicas del Código Nacional de Seguridad y Convivencia Ciudadana en la localidad.",1619,"Fomento de la seguridad ciudadana integral y transformación de conflictos sociales","ACCIONES PEDAGÓGICAS","Suma",null,"Implementar",3,"Estrategias","local de acciones pedagógicas del Código Nacional de Seguridad y Convivencia Ciudadana en la localidad.","Implementar 3 estrategias locales de acciones afirmativas y pedagógicas del Código Nacional de Seguridad y Convivencia Ciudadana en la localidad.",{"$f":"VLOOKUP(AG660,'Anexo PMR'!$B$4:$G$87,6,0)","v":"2_Presupuestos Participativos 50%"},7,"Desarrollo social y cultural","Acceso a la Justicia.",102,"SEGURIDAD, CONVIVENCIA Y JUSTICIA",27,"Prevención, atención y gestión del conflicto en la localidad.",64,"Estrategia local de acciones pedagógicas del Código Nacional de Seguridad y Convivencia Ciudadana implementada en la localidad.","ACCESO A LA JUSTICIA",null,null,null,1,1,0,1,253000000,261000000,0,546000000,1060000000,1,0,0,0,0,"Bajo","Bajo",0.27158595951831926,0,0,null,null,null,0,"2021_1",1,1,0,0,0,0,0,0,0,0,0,0,0,"",null,null,null,249726000,249726000,0,0,0,128420000,0,0,0,128420000,3466667,3466667,0,0,0,"Corte 31 marzo 2021: La contratación reportada no contribuye al avance de la magnitud de la meta.",null,null,null,null,null,{"$f":"VLOOKUP(AG660,'Anexo ODS'!$G$3:$P$86,5,0)","v":2},{"$f":"VLOOKUP(AG660,'Anexo ODS'!$G$3:$P$86,6,0)","v":"La Paz"},{"$f":"VLOOKUP(AG660,'Anexo ODS'!$G$3:$P$86,7,0)","v":16},{"$f":"VLOOKUP(AG660,'Anexo ODS'!$G$3:$P$86,8,0)","v":"Paz, justicia e instituciones sólidas"},{"$f":"VLOOKUP(AG660,'Anexo ODS'!$G$3:$P$86,9,0)","v":"16.3"},{"$f":"VLOOKUP(AG660,'Anexo ODS'!$G$3:$P$86,10,0)","v":"Promover el estado de derecho en los planos nacional e internacional y garantizar la igualdad de acceso a la justicia para todos"},null,null,null,null,null,null,null,null,3]
[660,10,"Engativá",3,"Inspirar confianza y legitimidad para vivir sin miedo y ser epicentro de cultura ciudadana, paz y reconciliación.",48,"Plataforma institucional para la seguridad y justicia",null,null,null,null,660,"Suministrar 1.290 dotaciones logísticas a organismos de seguridad.",1620,"Fortalecimiento a los organismos de seguridad","DOTACIÓN","Suma",null,"Suministrar",1290,"Dotaciones","logísticas a organismos de seguridad.","Suministrar 1.290 dotaciones logísticas a organismos de seguridad.",{"$f":"VLOOKUP(AG661,'Anexo PMR'!$B$4:$G$87,6,0)","v":"2_Presupuestos Participativos 50%"},7,"Desarrollo social y cultural","Dotación para instancias de seguridad.",102,"SEGURIDAD, CONVIVENCIA Y JUSTICIA",30,"Infraestructura y dotaciones para seguridad.",66,"Dotaciones logísticas suministradas a organismos de seguridad.","DOTACIÓN EN SEGURIDAD",null,null,null,323,323,323,321,272000000,280000000,289000000,297000000,1138000000,1,0,0,0,0,"Bajo","Bajo",0.29157058672815783,0,0,null,null,null,0,"2021_1",323,323,0,0,0,0,0,0,0,0,0,0,0,"",null,null,null,268480000,268480000,0,0,0,null,0,0,0,0,null,null,0,0,0,"",null,null,null,null,null,{"$f":"VLOOKUP(AG661,'Anexo ODS'!$G$3:$P$86,5,0)","v":2},{"$f":"VLOOKUP(AG661,'Anexo ODS'!$G$3:$P$86,6,0)","v":"La Paz"},{"$f":"VLOOKUP(AG661,'Anexo ODS'!$G$3:$P$86,7,0)","v":16},{"$f":"VLOOKUP(AG661,'Anexo ODS'!$G$3:$P$86,8,0)","v":"Paz, justicia e instituciones sólidas"},{"$f":"VLOOKUP(AG661,'Anexo ODS'!$G$3:$P$86,9,0)","v":"16.a"},{"$f":"VLOOKUP(AG661,'Anexo ODS'!$G$3:$P$86,10,0)","v":"Fortalecer las instituciones nacionales pertinentes, incluso mediante la cooperación internacional, para crear a todos los niveles, particularmente en los países en desarrollo, la capacidad de prevenir la violencia y combatir el terrorismo y la delincuencia"},null,null,null,null,null,null,null,null,1290]
[665,10,"Engativá",4,"Hacer de Bogotá-región un modelo de movilidad, creatividad y productividad incluyente y sostenible",49,"Movilidad segura, sostenible y accesible",null,null,null,null,665,"Intervenir 32 Kilómetros-carril de malla vial urbana (local y/o intermedia) con acciones de construcción y/o conservación.",1621,"Movilidad segura, sostenible y accesible en Engativá","INTERVENCIÓN MALLA VIAL LOCAL","Suma",null,"Intervenir",32,"Kilómetros-carril","de malla vial urbana (local y/o intermedia) con acciones de construcción y/o conservación","Intervenir 32 Kilómetros-carril de malla vial urbana (local y/o intermedia) con acciones de construcción y/o conservación.",{"$f":"VLOOKUP(AG666,'Anexo PMR'!$B$4:$G$87,6,0)","v":"2_Presupuestos Participativos 50%"},6,"Infraestructura","Diseño, construcción y conservación (mantenimiento y rehabilitación) de la malla vial local e intermedia urbana o rural.",95,"MOVILIDAD",32,"Vías locales.",71,"Kilómetros-carril construidos y/o conservados de malla vial urbana (local y/o intermedia)","MALLA VIAL",null,null,null,12,11,8,1,2892000000,2871000000,2030000000,207000000,8000000000,1,0,0,0,0,"Bajo","Bajo",0.58858151854031782,0,0,null,null,null,0,"2021_1",12,12,0,0,0,0,0,0,0,0,0,0,0,"",null,null,null,2854571000,2854571000,0,0,0,772200000,0,0,0,772200000,0,0,0,0,0,"Corte 31 marzo 2021: La contratación reportada no contribuye al avance de la magnitud de la meta.",null,null,null,null,null,{"$f":"VLOOKUP(AG666,'Anexo ODS'!$G$3:$P$86,5,0)","v":3},{"$f":"VLOOKUP(AG666,'Anexo ODS'!$G$3:$P$86,6,0)","v":"La Prosperidad"},{"$f":"VLOOKUP(AG666,'Anexo ODS'!$G$3:$P$86,7,0)","v":9},{"$f":"VLOOKUP(AG666,'Anexo ODS'!$G$3:$P$86,8,0)","v":"Industria, innovación e infraestructura"},{"$f":"VLOOKUP(AG666,'Anexo ODS'!$G$3:$P$86,9,0)","v":"9.1"},{"$f":"VLOOKUP(AG666,'Anexo ODS'!$G$3:$P$86,10,0)","v":"Desarrollar infraestructuras fiables, sostenibles, resilientes y de calidad, incluidas infraestructuras regionales y transfronterizas, para apoyar el desarrollo económico y el bienestar humano, haciendo especial hincapié en el acceso asequible y equitativo para todos"},null,null,null,null,null,null,null,null,32]
[670,10,"Engativá",5,"Construir Bogotá-región con gobierno abierto, transparente y ciudadanía consciente.",57,"Gestión Pública Local",null,null,null,null,670,"Realizar 1 rendición de cuentas anuales.",1623,"Gestión pública y control social","TRANSPARENCIA Y CONTROL SOCIAL","Constante",null,"Realizar",1,"Rendicion de cuenta","anuales.","Realizar 1 rendición de cuentas anuales.",{"$f":"VLOOKUP(AG671,'Anexo PMR'!$B$4:$G$87,6,0)","v":"3_Flexible 5%"},10,"Participación\nCiudadana y\nconstrucción de\nconfianza.","Transparencia, control social y rendición de cuentas del Gobierno Local.",98,"GOBIERNO",35,"Espacios y procesos de participación ciudadana fortalecidos. ",83,"Número de Rendiciones de cuentas anuales.","TRANSPARENCIA Y CONTROL SOCIAL",null,null,null,1,1,1,1,50000000,50000000,50000000,50000000,200000000,1,0.25,0.25,0.25,0.25,"Bajo","Bajo",4.4884310689198587E-3,1.1221077672299647E-3,1.1221077672299647E-3,null,null,null,0,"2021_1",1,1,0,0,0,1,0,0,0,1,0,0,0,"Incompleto",null,null,null,49353000,49353000,0,0,0,null,0,0,0,0,null,null,0,0,0,"",null,null,null,null,null,{"$f":"VLOOKUP(AG671,'Anexo ODS'!$G$3:$P$86,5,0)","v":2},{"$f":"VLOOKUP(AG671,'Anexo ODS'!$G$3:$P$86,6,0)","v":"La Paz"},{"$f":"VLOOKUP(AG671,'Anexo ODS'!$G$3:$P$86,7,0)","v":16},{"$f":"VLOOKUP(AG671,'Anexo ODS'!$G$3:$P$86,8,0)","v":"Paz, justicia e instituciones sólidas"},{"$f":"VLOOKUP(AG671,'Anexo ODS'!$G$3:$P$86,9,0)","v":"16.6"},{"$f":"VLOOKUP(AG671,'Anexo ODS'!$G$3:$P$86,10,0)","v":"Garantizar el acceso público a la información y proteger las libertades fundamentales, de conformidad con las leyes nacionales y los acuerdos internacionales"},null,null,null,null,null,null,null,null,1]
[675,11,"Suba",1,"Hacer un nuevo contrato social con igualdad de oportunidades para la inclusión social, productiva y política",6,"Sistema Distrital de Cuidado",null,null,null,null,675,"Apoyar 1000 MiPymes y/o emprendimientos culturales y creativos.",1966,"Fortaleciendo el tejido económico Local","FORTALECIMIENTO MIPYMES","Suma",1,"Apoyar",1000,"Mipymes","y/o emprendimientos culturales y creativos.","Apoyar 1000 MiPymes y/o emprendimientos culturales y creativos.",{"$f":"VLOOKUP(AG676,'Anexo PMR'!$B$4:$G$87,6,0)","v":"2_Presupuestos Participativos 50%"},5,"Desarrollo de la Economía Local","Apoyo a industrias culturales y creativas.",89,"DESARROLLO ECONÓMICO, INDUSTRIA Y TURISMO",14,"Servicios de asesoría, asistencia técnica integral, dotación y/o apoyo financiero a Mipymes y/o emprendimientos.",21,"Número de Mipymes y/o emprendimientos culturales y creativos apoyados","DESARROLLO DE LA ECONOMÍA LOCAL",null,null,null,250,250,250,250,1411000000,1455000000,1498000000,1542000000,5906000000,1,0,0,0,0,"Bajo","Bajo",0.13135828829429949,0,0,null,null,null,0,"2021_1",250,250,0,0,0,0,0,0,0,0,0,0,0,"",null,null,null,1425023000,1425023000,0,0,0,null,0,0,0,0,null,null,0,0,0,"",null,null,null,null,null,{"$f":"VLOOKUP(AG676,'Anexo ODS'!$G$3:$P$86,5,0)","v":3},{"$f":"VLOOKUP(AG676,'Anexo ODS'!$G$3:$P$86,6,0)","v":"La Prosperidad"},{"$f":"VLOOKUP(AG676,'Anexo ODS'!$G$3:$P$86,7,0)","v":8},{"$f":"VLOOKUP(AG676,'Anexo ODS'!$G$3:$P$86,8,0)","v":"Trabajo decente y crecimiento económico"},{"$f":"VLOOKUP(AG676,'Anexo ODS'!$G$3:$P$86,9,0)","v":"8.3"},{"$f":"VLOOKUP(AG676,'Anexo ODS'!$G$3:$P$86,10,0)","v":"Promover políticas orientadas al desarrollo que apoyen las actividades productivas, la creación de puestos de trabajo decentes, el emprendimiento, la creatividad y la innovación, y fomentar la formalización y el crecimiento de las microempresas y las pequeñas y medianas empresas, incluso mediante el acceso a servicios financieros"},null,null,null,null,null,null,null,null,1000]
[676,11,"Suba",1,"Hacer un nuevo contrato social con igualdad de oportunidades para la inclusión social, productiva y política",6,"Sistema Distrital de Cuidado",null,null,null,null,676,"Promover en 1.400 MiPymes y/o emprendimientos la transformación empresarial y/o productiva.",1966,"Fortaleciendo el tejido económico Local","TRANSFORMACIÓN PRODUCTIVA","Suma",3,"Promover",1400,"Mipymes","y/o emprendimientos la transformación empresarial y/o productiva.","Promover en 1.400 MiPymes y/o emprendimientos la transformación empresarial y/o productiva.",{"$f":"VLOOKUP(AG677,'Anexo PMR'!$B$4:$G$87,6,0)","v":"2_Presupuestos Participativos 50%"},5,"Desarrollo de la Economía Local","Transformación productiva y formación de capacidades",89,"DESARROLLO ECONÓMICO, INDUSTRIA Y TURISMO",14,"Servicios de asesoría, asistencia técnica integral, dotación y/o apoyo financiero a Mipymes y/o emprendimientos.",23,"Número de Mipymes y/o emprendimientos con transformacion empresarial y/o productiva","DESARROLLO DE LA ECONOMÍA LOCAL",null,null,null,350,350,350,350,1660000000,1720000000,1782000000,1848000000,7010000000,1,0,0,0,0,"Bajo","Bajo",0.15591290229309845,0,0,null,null,null,0,"2021_1",350,350,0,0,0,0,0,0,0,0,0,0,0,"No mueve meta",null,null,null,1676498000,1676498000,0,0,0,85400000,0,0,0,85400000,5835667,5835667,0,0,0,"Obedece a la contratación del talento humano para la formulación",null,null,null,null,null,{"$f":"VLOOKUP(AG677,'Anexo ODS'!$G$3:$P$86,5,0)","v":3},{"$f":"VLOOKUP(AG677,'Anexo ODS'!$G$3:$P$86,6,0)","v":"La Prosperidad"},{"$f":"VLOOKUP(AG677,'Anexo ODS'!$G$3:$P$86,7,0)","v":8},{"$f":"VLOOKUP(AG677,'Anexo ODS'!$G$3:$P$86,8,0)","v":"Trabajo decente y crecimiento económico"},{"$f":"VLOOKUP(AG677,'Anexo ODS'!$G$3:$P$86,9,0)","v":"8.3"},{"$f":"VLOOKUP(AG677,'Anexo ODS'!$G$3:$P$86,10,0)","v":"Promover políticas orientadas al desarrollo que apoyen las actividades productivas, la creación de puestos de trabajo decentes, el emprendimiento, la creatividad y la innovación, y fomentar la formalización y el crecimiento de las microempresas y las pequeñas y medianas empresas, incluso mediante el acceso a servicios financieros"},null,null,null,null,null,null,null,null,1400]
[681,11,"Suba",1,"Hacer un nuevo contrato social con igualdad de oportunidades para la inclusión social, productiva y política",6,"Sistema Distrital de Cuidado",null,null,null,null,681,"Vincular 1800 personas con discapacidad, cuidadores y cuidadoras, en actividades alternativas de salud.",1967,"Suba Saludable y sin barreras","ACCIONES COMPLEMENTARIAS","Suma",1,"Vincular",1800,"Personas","con discapacidad, cuidadores y cuidadoras, en actividades alternativas de salud.","Vincular 1800 personas con discapacidad, cuidadores y cuidadoras, en actividades alternativas de salud.",{"$f":"VLOOKUP(AG682,'Anexo PMR'!$B$4:$G$87,6,0)","v":"3_Flexible 5%"},11,"Condiciones de salud","Acciones complementarias para personas en condición de discapacidad y sus cuidadores.",91,"SALUD",16,"Promoción, prevención e intervención en salud.",31,"Número de personas con discapacidad, cuidadadores y cuidadoras, vinculados en actividades alernativas de salud.","ATENCIÓN  A LA DISCAPACIDAD Y SUS CUIDADORES",null,null,null,465,445,445,445,945000000,972000000,1001000000,1032000000,3950000000,1,0,0,0,0,"Bajo","Bajo",8.785391783990569E-2,0,0,null,null,null,0,"2021_1",465,465,0,0,0,0,0,0,0,0,0,0,0,"No mueve meta",null,null,null,984392000,984392000,0,0,0,75200000,0,0,0,75200000,0,0,0,0,0,"Obedece a la contratación del talento humano para la formulación",null,null,null,null,null,{"$f":"VLOOKUP(AG682,'Anexo ODS'!$G$3:$P$86,5,0)","v":1},{"$f":"VLOOKUP(AG682,'Anexo ODS'!$G$3:$P$86,6,0)","v":"Las Personas"},{"$f":"VLOOKUP(AG682,'Anexo ODS'!$G$3:$P$86,7,0)","v":3},{"$f":"VLOOKUP(AG682,'Anexo ODS'!$G$3:$P$86,8,0)","v":"Salud y Bienestar"},{"$f":"VLOOKUP(AG682,'Anexo ODS'!$G$3:$P$86,9,0)","v":"3.4"},{"$f":"VLOOKUP(AG682,'Anexo ODS'!$G$3:$P$86,10,0)","v":"De aquí a 2030, reducir en un tercio la mortalidad prematura por enfermedades no transmisibles mediante su prevención y tratamiento, y promover la salud mental y el\nbienestar"},null,null,null,null,null,null,null,null,1800]
[686,11,"Suba",1,"Hacer un nuevo contrato social con igualdad de oportunidades para la inclusión social, productiva y política",6,"Sistema Distrital de Cuidado",null,null,null,null,686,"Dotar 1 centro de atención especializado Crecer",2034,"Suba entorno protector","DOTACIÓN CENTROS DE ATENCIÓN ESPECIALIZADOS","Suma",2,"Dotar",1,"Centros","de atención especializado Crecer","Dotar 1 centro de atención especializado Crecer",{"$f":"VLOOKUP(AG687,'Anexo PMR'!$B$4:$G$87,6,0)","v":"2_Presupuestos Participativos 50%"},6,"Infraestructura","Dotación a Centros Crecer, Renacer.",92,"INTEGRACIÓN SOCIAL",5,"Dotación para la atención y la prestación de los servicios en la infraestructura del sector Integración Social.",26,"Centros de atención especializada dotados","CENTROS DE ATENCIÓN ESPECIALIZADOS",null,null,null,1,0,0,0,200000000,0,0,0,200000000,1,0,0,0,0,"Bajo","Bajo",4.4482996374635795E-3,0,0,null,null,null,0,"2021_1",1,1,0,0,0,0,0,0,0,0,0,0,0,"",null,null,null,201988000,201988000,0,0,0,null,0,0,0,0,null,null,0,0,0,"",null,null,null,null,null,{"$f":"VLOOKUP(AG687,'Anexo ODS'!$G$3:$P$86,5,0)","v":3},{"$f":"VLOOKUP(AG687,'Anexo ODS'!$G$3:$P$86,6,0)","v":"La Prosperidad"},{"$f":"VLOOKUP(AG687,'Anexo ODS'!$G$3:$P$86,7,0)","v":10},{"$f":"VLOOKUP(AG687,'Anexo ODS'!$G$3:$P$86,8,0)","v":"Reducción de las desigualdades "},{"$f":"VLOOKUP(AG687,'Anexo ODS'!$G$3:$P$86,9,0)","v":"10.2"},{"$f":"VLOOKUP(AG687,'Anexo ODS'!$G$3:$P$86,10,0)","v":"De aquí a 2030, potenciar y promover la inclusión social, económica y política de todas las personas, independientemente de su edad, sexo, discapacidad, raza, etnia, origen, religión o situación económica u otra condición"},null,null,null,null,null,null,null,null,1]
[691,11,"Suba",1,"Hacer un nuevo contrato social con igualdad de oportunidades para la inclusión social, productiva y política",14,"Formación integral: más y mejor tiempo en los colegios",null,null,null,null,691,"Dotar 29 sedes educativas urbanas y rurales.",2000,"Herramientas para Educar","DOTACIÓN","Suma",1,"Dotar",29,"Sedes","educativas urbanas y rurales.","Dotar 29 sedes educativas urbanas y rurales.",{"$f":"VLOOKUP(AG692,'Anexo PMR'!$B$4:$G$87,6,0)","v":"2_Presupuestos Participativos 50%"},6,"Infraestructura","Dotación pedagógica a colegios.",90,"EDUCACIÓN",3,"Infraestructura y dotación escolar.",4,"Sedes educativas urbanas y rurales dotadas","SEDES EDUCATIVAS",null,null,null,7,7,7,8,871000000,900000000,933000000,966000000,3670000000,1,0,0,0,0,"Bajo","Bajo",1,0,0,null,null,null,0,"2021_1",7,7,0,0,0,0,0,0,0,0,0,0,0,"",null,null,null,879656000,879656000,0,0,0,null,0,0,0,0,null,null,0,0,0,"",null,null,null,null,null,{"$f":"VLOOKUP(AG692,'Anexo ODS'!$G$3:$P$86,5,0)","v":1},{"$f":"VLOOKUP(AG692,'Anexo ODS'!$G$3:$P$86,6,0)","v":"Las Personas"},{"$f":"VLOOKUP(AG692,'Anexo ODS'!$G$3:$P$86,7,0)","v":4},{"$f":"VLOOKUP(AG692,'Anexo ODS'!$G$3:$P$86,8,0)","v":"Educación de calidad"},{"$f":"VLOOKUP(AG692,'Anexo ODS'!$G$3:$P$86,9,0)","v":"4.7"},{"$f":"VLOOKUP(AG692,'Anexo ODS'!$G$3:$P$86,10,0)","v":"De aquí a 2030, asegurar que todos los alumnos adquieran los conocimientos teóricos y prácticos necesarios para promover el desarrollo sostenible, entre otras cosas mediante la educación para el desarrollo sostenible y los estilos de vida sostenibles, los derechos humanos, la igualdad de género, la promoción de una cultura de paz y no violencia, la ciudadanía mundial y la valoración de la diversidad cultural y la contribución de la cultura al desarrollo sostenible"},null,null,null,null,null,null,null,null,29]
[692,11,"Suba",1,"Hacer un nuevo contrato social con igualdad de oportunidades para la inclusión social, productiva y política",17,"Jóvenes con capacidades: Proyecto de vida para la ciudadanía, la innovación y el trabajo del siglo XXI",null,null,null,null,692,"Dotar 1 sedes de atención a adolescentes y jóvenes vinculados al sistema de responsabilidad penal adolescente (Centros Forjar).",1958,"Instrumentos que garantizan el desarrollo de la Juventud","DOTACIÓN","Suma",2,"Dotar",1,"Sedes","de atención a adolescentes y jóvenes vinculados al sistema de responsabilidad penal adolescente (Centros Forjar).","Dotar 1 sedes de atención a adolescentes y jóvenes vinculados al sistema de responsabilidad penal adolescente (Centros Forjar).",{"$f":"VLOOKUP(AG693,'Anexo PMR'!$B$4:$G$87,6,0)","v":"2_Presupuestos Participativos 50%"},6,"Infraestructura","Dotación a Jardines Infantiles, Centros Amar y Forjar.",92,"INTEGRACIÓN SOCIAL",2,"Protección integral a niños y niñas y adolescentes.",8,"Sedes de atención a adolescentes y jovenes vinculados al sistema de responsabilidad penal adolescente dotados.","SEDES ATENCIÓN A JÓVENES",null,null,null,1,0,0,0,202000000,0,0,0,202000000,1,0,0,0,0,"Bajo","Bajo",8.3353965503012301E-3,0,0,null,null,null,0,"2021_1",1,1,0,0,0,0,0,0,0,0,0,0,0,"",null,null,null,204008000,204008000,0,0,0,null,0,0,0,0,null,null,0,0,0,"",null,null,null,null,null,{"$f":"VLOOKUP(AG693,'Anexo ODS'!$G$3:$P$86,5,0)","v":2},{"$f":"VLOOKUP(AG693,'Anexo ODS'!$G$3:$P$86,6,0)","v":"La Paz"},{"$f":"VLOOKUP(AG693,'Anexo ODS'!$G$3:$P$86,7,0)","v":16},{"$f":"VLOOKUP(AG693,'Anexo ODS'!$G$3:$P$86,8,0)","v":"Paz, justicia e instituciones sólidas"},{"$f":"VLOOKUP(AG693,'Anexo ODS'!$G$3:$P$86,9,0)","v":"16.3"},{"$f":"VLOOKUP(AG693,'Anexo ODS'!$G$3:$P$86,10,0)","v":"Promover el estado de derecho en los planos nacional e internacional y garantizar la igualdad de acceso a la justicia para todos"},null,null,null,null,null,null,null,null,1]
[697,11,"Suba",1,"Hacer un nuevo contrato social con igualdad de oportunidades para la inclusión social, productiva y política",20,"Bogotá, referente en cultura, deporte, recreación y actividad física, con parques para el desarrollo y la salud",null,null,null,null,697,"Beneficiar 6000 Personas con artículos deportivos entregados.",1963,"Suba, una comunidad que se mueve","DOTACIÓN","Suma",3,"Beneficiar",6000,"Personas","con artículos deportivos entregados.","Beneficiar 6000 Personas con artículos deportivos entregados.",{"$f":"VLOOKUP(AG698,'Anexo PMR'!$B$4:$G$87,6,0)","v":"2_Presupuestos Participativos 50%"},7,"Desarrollo social y cultural","Procesos de formación y dotación de insumos para los campos artísticos, interculturales, culturales, patrimoniales y deportivos.",93,"CULTURA, RECREACIÓN Y DEPORTE",7,"Eventos y actividades recreativas y deportivas.",12,"Personas beneficiadas con artículos entregados.","ACTIVIDAD DEPORTIVA",null,null,null,1500,1500,1500,1500,214000000,222000000,231000000,241000000,908000000,1,0,0,0,0,"Bajo","Bajo",0.13809885931558935,0,0,null,null,null,0,"2021_1",1500,1500,0,0,0,0,0,0,0,0,0,0,0,"",null,null,null,216127000,216127000,0,0,0,null,0,0,0,0,null,null,0,0,0,"",null,null,null,null,null,{"$f":"VLOOKUP(AG698,'Anexo ODS'!$G$3:$P$86,5,0)","v":1},{"$f":"VLOOKUP(AG698,'Anexo ODS'!$G$3:$P$86,6,0)","v":"Las Personas"},{"$f":"VLOOKUP(AG698,'Anexo ODS'!$G$3:$P$86,7,0)","v":3},{"$f":"VLOOKUP(AG698,'Anexo ODS'!$G$3:$P$86,8,0)","v":"Salud y Bienestar"},{"$f":"VLOOKUP(AG698,'Anexo ODS'!$G$3:$P$86,9,0)","v":"3.d"},{"$f":"VLOOKUP(AG698,'Anexo ODS'!$G$3:$P$86,10,0)","v":"Reforzar la capacidad de todos los países, en particular los países en desarrollo, en materia de alerta temprana, reducción de riesgos y gestión de los riesgos para la salud\nnacional y mundial"},null,null,null,null,null,null,null,null,6000]
[702,11,"Suba",1,"Hacer un nuevo contrato social con igualdad de oportunidades para la inclusión social, productiva y política",21,"Creación y vida cotidiana: Apropiación ciudadana del arte, la cultura y el patrimonio, para la democracia cultural",null,null,null,null,702,"Otorgar 150 estímulos de apoyo al sector artístico, cultural y recreo deportivos",2016,"Suba Cultural y Creativa","ESTÍMULOS","Suma",2,"Otorgar",150,"Estímulos","de apoyo al sector artístico, cultural y recreo deportivos","Otorgar 150 estímulos de apoyo al sector artístico, cultural y recreo deportivos",{"$f":"VLOOKUP(AG703,'Anexo PMR'!$B$4:$G$87,6,0)","v":"2_Presupuestos Participativos 50%"},7,"Desarrollo social y cultural","Iniciativas de interés cultural, artístico, patrimonial y recreo deportivas.",93,"CULTURA, RECREACIÓN Y DEPORTE",9,"Servicio de apoyo financiero para el desarrollo de prácticas artísticas y culturales en el Distrito de Bogotá.",14,"Estímulos otorgados de apoyo al sector artístico y cultural ","ESTIMULOS CULTURALES",null,null,null,35,36,39,40,802000000,827000000,853000000,880000000,3362000000,1,0,0,0,0,"Bajo","Bajo",0.32796800312164665,0,0,null,null,null,0,"2021_1",35,35,0,0,0,0,0,0,0,0,0,0,0,"",null,null,null,809971000,809971000,0,0,0,null,0,0,0,0,null,null,0,0,0,"",null,null,null,null,null,{"$f":"VLOOKUP(AG703,'Anexo ODS'!$G$3:$P$86,5,0)","v":3},{"$f":"VLOOKUP(AG703,'Anexo ODS'!$G$3:$P$86,6,0)","v":"La Prosperidad"},{"$f":"VLOOKUP(AG703,'Anexo ODS'!$G$3:$P$86,7,0)","v":11},{"$f":"VLOOKUP(AG703,'Anexo ODS'!$G$3:$P$86,8,0)","v":"Ciudades y comunidades sostenibles"},{"$f":"VLOOKUP(AG703,'Anexo ODS'!$G$3:$P$86,9,0)","v":"11.4"},{"$f":"VLOOKUP(AG703,'Anexo ODS'!$G$3:$P$86,10,0)","v":"Redoblar los esfuerzos para proteger y salvaguardar el patrimonio cultural y natural del mundo"},null,null,null,null,null,null,null,null,150]
[707,11,"Suba",1,"Hacer un nuevo contrato social con igualdad de oportunidades para la inclusión social, productiva y política",24,"Bogotá región emprendedora e innovadora",null,null,null,null,707,"Implementar 750 acciones de fomento para la agricultura urbana.",1995,"Sembrando emprendimiento Urbano","AGRICULTURA URBANA","Suma",1,"Implementar",750,"Acciones","de fomento para la agricultura urbana.","Implementar 750 acciones de fomento para la agricultura urbana.",{"$f":"VLOOKUP(AG708,'Anexo PMR'!$B$4:$G$87,6,0)","v":"2_Presupuestos Participativos 50%"},8,"Inversiones ambientales sostenibles","Agricultura urbana.",94,"AMBIENTE",13,"Servicios de asesoría, asistencia técnica integral y dotación de infraestructura productiva para la Agricultura urbana y periurbana.",19,"Número acciones de fomento para la agricultura urbana","AGRICULTURA URBANA","no aplica",null,null,184,186,189,191,865000000,899000000,934000000,970000000,3668000000,1,0,0,0,0,"Bajo","Bajo",0.5904700579523503,0,0,null,null,null,0,"2021_1",184,184,0,0,0,0,0,0,0,0,0,0,0,"",null,null,null,873597000,873597000,0,0,0,null,0,0,0,0,null,null,0,0,0,"",null,null,null,null,null,{"$f":"VLOOKUP(AG708,'Anexo ODS'!$G$3:$P$86,5,0)","v":4},{"$f":"VLOOKUP(AG708,'Anexo ODS'!$G$3:$P$86,6,0)","v":"El Planeta"},{"$f":"VLOOKUP(AG708,'Anexo ODS'!$G$3:$P$86,7,0)","v":12},{"$f":"VLOOKUP(AG708,'Anexo ODS'!$G$3:$P$86,8,0)","v":"Producción y consumo responsables"},{"$f":"VLOOKUP(AG708,'Anexo ODS'!$G$3:$P$86,9,0)","v":"12.2"},{"$f":"VLOOKUP(AG708,'Anexo ODS'!$G$3:$P$86,10,0)","v":"De aquí a 2030, lograr la gestión sostenible y el uso eficiente\nde los recursos naturales"},null,null,null,null,null,null,null,null,750]
[708,11,"Suba",2,"Cambiar nuestros hábitos de vida para reverdecer a Bogotá y adaptarnos y mitigar el cambio climático.",27,"Cambio cultural para la gestión de la crisis climática",null,null,null,null,708,"Implementar 50 PROCEDAS.",1997,"Suba Reverdece","EDUCACIÓN AMBIENTAL","Suma",1,"Implementar",50,"PROCEDAS",null,"Implementar 50 PROCEDAS.",{"$f":"VLOOKUP(AG709,'Anexo PMR'!$B$4:$G$87,6,0)","v":"2_Presupuestos Participativos 50%"},8,"Inversiones ambientales sostenibles","Educación ambiental.",94,"AMBIENTE",17,"Calidad ambiental y preservación del patrimonio natural.",38,"Número de PROCEDAS implementados ","PROCEDAS",null,null,null,12,12,12,14,730000000,730000000,730000000,960000000,3150000000,1,0,0,0,0,"Bajo","Bajo",0.70532915360501569,0,0,null,null,null,0,"2021_1",12,12,0,0,0,0,0,0,0,0,0,0,0,"No mueve meta",null,null,null,737255000,737255000,0,0,0,63800000,0,0,0,63800000,0,0,0,0,0,"Obedece a la contratación del talento humano para la formulación",null,null,null,null,null,{"$f":"VLOOKUP(AG709,'Anexo ODS'!$G$3:$P$86,5,0)","v":4},{"$f":"VLOOKUP(AG709,'Anexo ODS'!$G$3:$P$86,6,0)","v":"El Planeta"},{"$f":"VLOOKUP(AG709,'Anexo ODS'!$G$3:$P$86,7,0)","v":13},{"$f":"VLOOKUP(AG709,'Anexo ODS'!$G$3:$P$86,8,0)","v":"Acción por el Clima"},{"$f":"VLOOKUP(AG709,'Anexo ODS'!$G$3:$P$86,9,0)","v":"13.3"},{"$f":"VLOOKUP(AG709,'Anexo ODS'!$G$3:$P$86,10,0)","v":"Mejorar la educación, la sensibilización y la capacidad humana e institucional respecto de la mitigación del cambio climático, la adaptación a él, la reducción de sus efectos y la alerta temprana"},null,null,null,null,null,null,null,null,50]
[713,11,"Suba",2,"Cambiar nuestros hábitos de vida para reverdecer a Bogotá y adaptarnos y mitigar el cambio climático.",33,"Más árboles y más y mejor espacio público ",null,null,null,null,713,"Mantener 3000 árboles urbanos y/o rurales.",1969,"Mas arboles mas vida","ARBORIZACIÓN","Suma",1,"Mantener",3000,"Árboles","urbanos y/o rurales.","Mantener 3000 árboles urbanos y/o rurales.",{"$f":"VLOOKUP(AG714,'Anexo PMR'!$B$4:$G$87,6,0)","v":"2_Presupuestos Participativos 50%"},8,"Inversiones ambientales sostenibles","Arbolado urbano y/o rural.",94,"AMBIENTE",19,"Plantación y mantenimiento de árboles, jardines y especies vegetales. ",44,"Número de árboles mantenidos","ARBOLADO",null,null,null,600,800,800,800,400000000,685000000,697000000,711000000,2493000000,1,0,0,0,0,"Bajo","Bajo",0.31568950234266174,0,0,null,null,null,0,"2021_1",600,600,0,0,0,0,0,0,0,0,0,0,0,"No mueve meta",null,null,null,403975000,403975000,0,0,0,66990000,0,0,0,66990000,3402667,3402667,0,0,0,"Obedece a la contratación del talento humano para la formulación",null,null,null,null,null,{"$f":"VLOOKUP(AG714,'Anexo ODS'!$G$3:$P$86,5,0)","v":4},{"$f":"VLOOKUP(AG714,'Anexo ODS'!$G$3:$P$86,6,0)","v":"El Planeta"},{"$f":"VLOOKUP(AG714,'Anexo ODS'!$G$3:$P$86,7,0)","v":15},{"$f":"VLOOKUP(AG714,'Anexo ODS'!$G$3:$P$86,8,0)","v":"Vida de ecosistemas terrestres"},{"$f":"VLOOKUP(AG714,'Anexo ODS'!$G$3:$P$86,9,0)","v":"15.1"},{"$f":"VLOOKUP(AG714,'Anexo ODS'!$G$3:$P$86,10,0)","v":"De aquí a 2020, asegurar la conservación, el restablecimiento y el uso sostenible de los ecosistemas terrestres y los ecosistemas interiores de agua dulce y sus servicios, en particular los bosques, los humedales, las montañas y las zonas áridas, en consonancia con las obligaciones contraídas en virtud de acuerdos internacionales"},null,null,null,null,null,null,null,null,3000]
[718,11,"Suba",2,"Cambiar nuestros hábitos de vida para reverdecer a Bogotá y adaptarnos y mitigar el cambio climático.",38,"Ecoeficiencia, reciclaje, manejo de residuos e inclusión de la población recicladora",null,null,null,null,718,"Fortalecer 20 organizaciones de recicladores en materia organizativa y operacional.",2014,"Suba promueve el reciclaje y las energías alternativas","HÁBITOS DE CONSUMO","Suma",2,"Fortalecer",20,"Organizaciones","de recicladores en materia organizativa y operacional.","Fortalecer 20 organizaciones de recicladores en materia organizativa y operacional.",{"$f":"VLOOKUP(AG719,'Anexo PMR'!$B$4:$G$87,6,0)","v":"2_Presupuestos Participativos 50%"},8,"Inversiones ambientales sostenibles","Cambios de hábitos de consumo, separación en la fuente y reciclaje.",96,"HÁBITAT",23,"Manejo integral de residuos sólidos. ",50,"Personas capacitadas en separación en la fuente y reciclaje","RECICLAJE",null,null,null,5,5,5,5,224000000,233000000,243000000,254000000,954000000,1,0,0,0,0,"Bajo","Bajo",0.14990571967316155,0,0,null,null,null,0,"2021_1",5,5,0,0,0,0,0,0,0,0,0,0,0,"",null,null,null,226226000,226226000,0,0,0,null,0,0,0,0,null,null,0,0,0,"",null,null,null,null,null,{"$f":"VLOOKUP(AG719,'Anexo ODS'!$G$3:$P$86,5,0)","v":4},{"$f":"VLOOKUP(AG719,'Anexo ODS'!$G$3:$P$86,6,0)","v":"El Planeta"},{"$f":"VLOOKUP(AG719,'Anexo ODS'!$G$3:$P$86,7,0)","v":12},{"$f":"VLOOKUP(AG719,'Anexo ODS'!$G$3:$P$86,8,0)","v":"Producción y consumo responsables"},{"$f":"VLOOKUP(AG719,'Anexo ODS'!$G$3:$P$86,9,0)","v":"12.5"},{"$f":"VLOOKUP(AG719,'Anexo ODS'!$G$3:$P$86,10,0)","v":"De aquí a 2030, reducir considerablemente la generación de desechos mediante actividades de prevención, reducción, reciclado y reutilización"},null,null,null,null,null,null,null,null,20]
[723,11,"Suba",3,"Inspirar confianza y legitimidad para vivir sin miedo y ser epicentro de cultura ciudadana, paz y reconciliación.",40,"Más mujeres viven una vida libre de violencias, se sienten seguras y acceden con confianza al sistema de justicia",null,null,null,null,723,"Vincular 6800 personas en acciones para la prevención del feminicidio y la violencia contra la mujer.",1974,"Mujeres libres, seguras y sin miedo","PREVENCIÓN","Suma",2,"Vincular",6800,"Personas","en acciones para la prevención del feminicidio y la violencia contra la mujer.","Vincular 6800 personas en acciones para la prevención del feminicidio y la violencia contra la mujer.",{"$f":"VLOOKUP(AG724,'Anexo PMR'!$B$4:$G$87,6,0)","v":"2_Presupuestos Participativos 50%"},7,"Desarrollo social y cultural","Prevención del feminicidio y la violencia contra la mujer.",100,"MUJERES",27,"Prevención, atención y gestión del conflicto en la localidad.",54,"Número de Personas vinculadas en acciones para la prevención del feminicidio y la violencia contra la mujer","PREVENCIÓN DE LA VIOLENCIA",null,null,null,1700,1700,1700,1700,1137000000,1179000000,1224000000,1272000000,4812000000,1,0,0,0,0,"Bajo","Bajo",0.63751987281399047,0,0,null,null,null,0,"2021_1",1700,1700,0,0,0,0,0,0,0,0,0,0,0,"",null,null,null,1148300000,1148300000,0,0,0,null,0,0,0,0,null,null,0,0,0,"",null,null,null,null,null,{"$f":"VLOOKUP(AG724,'Anexo ODS'!$G$3:$P$86,5,0)","v":1},{"$f":"VLOOKUP(AG724,'Anexo ODS'!$G$3:$P$86,6,0)","v":"Las Personas"},{"$f":"VLOOKUP(AG724,'Anexo ODS'!$G$3:$P$86,7,0)","v":5},{"$f":"VLOOKUP(AG724,'Anexo ODS'!$G$3:$P$86,8,0)","v":"Igualdad de género"},{"$f":"VLOOKUP(AG724,'Anexo ODS'!$G$3:$P$86,9,0)","v":"5.2"},{"$f":"VLOOKUP(AG724,'Anexo ODS'!$G$3:$P$86,10,0)","v":"Eliminar todas las formas de violencia contra todas las mujeres y las niñas en los ámbitos público y privado, incluidas la trata y la explotación sexual y otros tipos de explotación"},null,null,null,null,null,null,null,null,6800]
[724,11,"Suba",3,"Inspirar confianza y legitimidad para vivir sin miedo y ser epicentro de cultura ciudadana, paz y reconciliación.",43,"Cultura ciudadana para la confianza, la convivencia y la participación desde la vida cotidiana",null,null,null,null,724,"Formar 2000 personas en la escuela de seguridad.",2032,"Suba convive con seguridad y tranquilidad","ESCUELA DE SEGURIDAD","Suma",2,"Formar",2000,"Personas","en la escuela de seguridad.","Formar 2000 personas en la escuela de seguridad.",{"$f":"VLOOKUP(AG725,'Anexo PMR'!$B$4:$G$87,6,0)","v":"2_Presupuestos Participativos 50%"},7,"Desarrollo social y cultural","Promoción de la convivencia ciudadana.",102,"SEGURIDAD, CONVIVENCIA Y JUSTICIA",27,"Prevención, atención y gestión del conflicto en la localidad.",56,"Número de personas formadas en la escuela de seguridad","ACCIONES DE CONVIVENCIA",null,null,null,500,500,500,500,234000000,240000000,254000000,268000000,996000000,1,0,0,0,0,"Bajo","Bajo",0.19128096792778951,0,0,null,null,null,0,"2021_1",500,500,0,0,0,0,0,0,0,0,0,0,0,"",null,null,null,236326000,236326000,0,0,0,null,0,0,0,0,null,null,0,0,0,"",null,null,null,null,null,{"$f":"VLOOKUP(AG725,'Anexo ODS'!$G$3:$P$86,5,0)","v":2},{"$f":"VLOOKUP(AG725,'Anexo ODS'!$G$3:$P$86,6,0)","v":"La Paz"},{"$f":"VLOOKUP(AG725,'Anexo ODS'!$G$3:$P$86,7,0)","v":16},{"$f":"VLOOKUP(AG725,'Anexo ODS'!$G$3:$P$86,8,0)","v":"Paz, justicia e instituciones sólidas"},{"$f":"VLOOKUP(AG725,'Anexo ODS'!$G$3:$P$86,9,0)","v":"16.1"},{"$f":"VLOOKUP(AG725,'Anexo ODS'!$G$3:$P$86,10,0)","v":"Reducir significativamente todas las formas de violencia y las correspondientes tasas de mortalidad en todo el mundo"},null,null,null,null,null,null,null,null,2000]
[729,11,"Suba",3,"Inspirar confianza y legitimidad para vivir sin miedo y ser epicentro de cultura ciudadana, paz y reconciliación.",45,"Espacio público más seguro y construido colectivamente",null,null,null,null,729,"Realizar 4 acuerdos para la vinculación de la ciudadanía en los programas adelantados por el IDRD y acuerdos con vendedores informales o estacionarios.",1998,"Espacio Público un lugar de encuentro libre y democrático","ACUERDOS CIUDADANOS","Suma",2,"Realizar",4,"Acuerdos","para la vinculación de la ciudadanía en los programas adelantados por el IDRD y acuerdos con vendedores informales o estacionarios","Realizar 4 acuerdos para la vinculación de la ciudadanía en los programas adelantados por el IDRD y acuerdos con vendedores informales o estacionarios.",{"$f":"VLOOKUP(AG730,'Anexo PMR'!$B$4:$G$87,6,0)","v":"2_Presupuestos Participativos 50%"},7,"Desarrollo social y cultural","Acuerdos para mejorar el uso de medios de transporte no motorizados.",98,"GOBIERNO",28,"Acuerdos ciudadanos suscritos.",60,"Acuerdos realizados para la vinculación de la ciudadanía en los programas adelantados por el IDRD y acuerdos con vendedores informales o estacionarios ","\nACUERDOS DE ESPACIO PÚBLICO",null,null,null,1,1,1,1,261000000,270000000,280000000,289000000,1100000000,1,0,0,0,0,"Bajo","Bajo",0.30726256983240224,0,0,null,null,null,0,"2021_1",1,1,0,0,0,0,0,0,0,0,0,0,0,"",null,null,null,330250000,330250000,0,0,0,null,0,0,0,0,null,null,0,0,0,"",null,null,null,null,null,{"$f":"VLOOKUP(AG730,'Anexo ODS'!$G$3:$P$86,5,0)","v":2},{"$f":"VLOOKUP(AG730,'Anexo ODS'!$G$3:$P$86,6,0)","v":"La Paz"},{"$f":"VLOOKUP(AG730,'Anexo ODS'!$G$3:$P$86,7,0)","v":16},{"$f":"VLOOKUP(AG730,'Anexo ODS'!$G$3:$P$86,8,0)","v":"Paz, justicia e instituciones sólidas"},{"$f":"VLOOKUP(AG730,'Anexo ODS'!$G$3:$P$86,9,0)","v":"16.1"},{"$f":"VLOOKUP(AG730,'Anexo ODS'!$G$3:$P$86,10,0)","v":"Reducir significativamente todas las formas de violencia y las correspondientes tasas de mortalidad en todo el mundo"},null,null,null,null,null,null,null,null,4]
[734,11,"Suba",4,"Hacer de Bogotá-región un modelo de movilidad, creatividad y productividad incluyente y sostenible",49,"Movilidad segura, sostenible y accesible",null,null,null,null,734,"Intervenir 11000 metros lineales de Ciclo-infraestructura con acciones de construcción y/o conservación.",1999,"Mejor infraestructura para la movilidad en Suba","CICLO INFRAESTRUCTURA","Suma",4,"Intervenir",11000,"Metros","lineales de Ciclo-infraestructura con acciones de construcción y/o conservación.","Intervenir 11000 metros lineales de Ciclo-infraestructura con acciones de construcción y/o conservación.",{"$f":"VLOOKUP(AG735,'Anexo PMR'!$B$4:$G$87,6,0)","v":"2_Presupuestos Participativos 50%"},6,"Infraestructura","Diseño, construcción y conservación de ciclo-infraestructura.",95,"MOVILIDAD",33,"Ciclo infraestructura construida y/o conservada.",73,"Metros lineales construidos y/o conservados de Ciclo-infraestructura","CICLO-INFRAESTRUCTURA",null,null,null,1875,2416,2416,4293,566000000,730000000,730000000,1297000000,3323000000,1,0,0,0,0,"Bajo","Bajo",0.15474527335382324,0,0,null,null,null,0,"2021_1",1875,1875,0,0,0,0,0,0,0,0,0,0,0,"",null,null,null,571625000,571625000,0,0,0,null,0,0,0,0,null,null,0,0,0,"",null,null,null,null,null,{"$f":"VLOOKUP(AG735,'Anexo ODS'!$G$3:$P$86,5,0)","v":3},{"$f":"VLOOKUP(AG735,'Anexo ODS'!$G$3:$P$86,6,0)","v":"La Prosperidad"},{"$f":"VLOOKUP(AG735,'Anexo ODS'!$G$3:$P$86,7,0)","v":11},{"$f":"VLOOKUP(AG735,'Anexo ODS'!$G$3:$P$86,8,0)","v":"Ciudades y comunidades sostenibles"},{"$f":"VLOOKUP(AG735,'Anexo ODS'!$G$3:$P$86,9,0)","v":"11.2"},{"$f":"VLOOKUP(AG735,'Anexo ODS'!$G$3:$P$86,10,0)","v":" De aquí a 2030, proporcionar acceso a sistemas de transporte seguros, asequibles, accesibles y sostenibles para todos y mejorar la seguridad vial, en particular mediante la ampliación del transporte público, prestando especial atención a las necesidades de las personas en situación de vulnerabilidad, las mujeres, los niños, las personas con discapacidad y las personas de edad"},null,null,null,null,null,null,null,null,11000]
[739,11,"Suba",5,"Construir Bogotá-región con gobierno abierto, transparente y ciudadanía consciente.",55,"Fortalecimiento de Cultura Ciudadana y su institucionalidad",null,null,null,null,739,"Dotar 70 sedes de salones comunales.",1977,"Suba participa, incide y reconstruye la confianza ciudadana.","DOTACIÓN","Suma",2,"Dotar",70,"Sedes","de salones comunales.","Dotar 70 sedes de salones comunales.",{"$f":"VLOOKUP(AG740,'Anexo PMR'!$B$4:$G$87,6,0)","v":"2_Presupuestos Participativos 50%"},6,"Infraestructura","Intervención y dotación de salones comunales.",98,"GOBIERNO",35,"Espacios y procesos de participación ciudadana fortalecidos. ",76,"Sedes dotadas de salones comunales.","SALONES COMUNALES",null,null,null,16,17,18,19,357000000,362000000,370000000,382000000,1471000000,1,0,0,0,0,"Bajo","Bajo",0.10989093082324818,0,0,null,null,null,0,"2021_1",16,16,0,0,0,0,0,0,0,0,0,0,0,"",null,null,null,360548000,360548000,0,0,0,null,0,0,0,0,null,null,0,0,0,"",null,null,null,null,null,{"$f":"VLOOKUP(AG740,'Anexo ODS'!$G$3:$P$86,5,0)","v":3},{"$f":"VLOOKUP(AG740,'Anexo ODS'!$G$3:$P$86,6,0)","v":"La Prosperidad"},{"$f":"VLOOKUP(AG740,'Anexo ODS'!$G$3:$P$86,7,0)","v":11},{"$f":"VLOOKUP(AG740,'Anexo ODS'!$G$3:$P$86,8,0)","v":"Ciudades y comunidades sostenibles"},{"$f":"VLOOKUP(AG740,'Anexo ODS'!$G$3:$P$86,9,0)","v":"11.3"},{"$f":"VLOOKUP(AG740,'Anexo ODS'!$G$3:$P$86,10,0)","v":"De aquí a 2030, aumentar la urbanización inclusiva y sostenible y la capacidad para la planificación y la gestión participativas, integradas y sostenibles de los asentamientos humanos en todos los países"},null,null,null,null,null,null,null,null,70]
[740,11,"Suba",5,"Construir Bogotá-región con gobierno abierto, transparente y ciudadanía consciente.",55,"Fortalecimiento de Cultura Ciudadana y su institucionalidad",null,null,null,null,740,"Formar 2.000 personas a través de procesos para la participación de manera virtual y presencial.",1977,"Suba participa, incide y reconstruye la confianza ciudadana.","FORMACIÓN","Suma",3,"Capacitar",2000,"Personas","a través de procesos de formación para la participación de manera virtual y presencial.","Formar 2.000 personas a través de procesos para la participación de manera virtual y presencial.",{"$f":"VLOOKUP(AG741,'Anexo PMR'!$B$4:$G$87,6,0)","v":"2_Presupuestos Participativos 50%"},7,"Desarrollo social y cultural","Escuelas y procesos de formación para la participación ciudadana y/u organizaciones para los procesos de presupuestos participativos.",98,"GOBIERNO",35,"Espacios y procesos de participación ciudadana fortalecidos. ",78,"Número de Personas capacitadas a través de procesos de formación para la participación de manera virtual y presencial.","FORMACIÓN CIUDADANA",null,null,null,500,500,500,500,675000000,698000000,722000000,745000000,2840000000,1,0,0,0,0,"Bajo","Bajo",0.21216196025698492,0,0,null,null,null,0,"2021_1",500,500,0,0,0,0,0,0,0,0,0,0,0,"No mueve meta",null,null,null,681709000,681709000,0,0,0,150200000,0,0,0,150200000,0,0,0,0,0,"Obedece a la contratación del talento humano para la formulación",null,null,null,null,null,{"$f":"VLOOKUP(AG741,'Anexo ODS'!$G$3:$P$86,5,0)","v":2},{"$f":"VLOOKUP(AG741,'Anexo ODS'!$G$3:$P$86,6,0)","v":"La Paz"},{"$f":"VLOOKUP(AG741,'Anexo ODS'!$G$3:$P$86,7,0)","v":16},{"$f":"VLOOKUP(AG741,'Anexo ODS'!$G$3:$P$86,8,0)","v":"Paz, justicia e instituciones sólidas"},{"$f":"VLOOKUP(AG741,'Anexo ODS'!$G$3:$P$86,9,0)","v":"16.7"},{"$f":"VLOOKUP(AG741,'Anexo ODS'!$G$3:$P$86,10,0)","v":"Garantizar la adopción en todos los niveles de decisiones inclusivas, participativas y representativas que respondan a las necesidades"},null,null,null,null,null,null,null,null,2000]
[745,11,"Suba",5,"Construir Bogotá-región con gobierno abierto, transparente y ciudadanía consciente.",57,"Gestión Pública Local",null,null,null,null,745,"Realizar 4 acciones de inspección, vigilancia y control.",1979,"Inspección vigilancia y control mas eficiente","IVC","Suma",1,"Realizar",4,"Acciones","de inspección, vigilancia y control","Realizar 4 acciones de inspección, vigilancia y control.",{"$f":"VLOOKUP(AG746,'Anexo PMR'!$B$4:$G$87,6,0)","v":"1_Inflexible 45%"},2,"Inspección, vigilancia y control","Inspección, vigilancia y control.",98,"GOBIERNO",38,"Inspección, vigilancia y control (IVC).",84,"Acciones de inspección, vigilancia y control realizadas","IVC",null,null,null,1,1,1,1,3750000000,3865000000,3988000000,4114000000,15717000000,1,1,0.25,1,0.25,"Bajo","Bajo",0.33225520040588535,8.3063800101471338E-2,8.3063800101471338E-2,null,null,null,0,"2021_1",1,1,0,0,0,1,0,0,0,1,0,0,0,"Incompleto",null,null,null,4279796000,4279796000,0,0,0,2608160000,0,0,0,2608160000,174565666,174565666,0,0,0,"Contratación de recurso humano para el desarrollo de las actividades de la meta",null,null,null,null,null,{"$f":"VLOOKUP(AG746,'Anexo ODS'!$G$3:$P$86,5,0)","v":2},{"$f":"VLOOKUP(AG746,'Anexo ODS'!$G$3:$P$86,6,0)","v":"La Paz"},{"$f":"VLOOKUP(AG746,'Anexo ODS'!$G$3:$P$86,7,0)","v":16},{"$f":"VLOOKUP(AG746,'Anexo ODS'!$G$3:$P$86,8,0)","v":"Paz, justicia e instituciones sólidas"},{"$f":"VLOOKUP(AG746,'Anexo ODS'!$G$3:$P$86,9,0)","v":"16.6"},{"$f":"VLOOKUP(AG746,'Anexo ODS'!$G$3:$P$86,10,0)","v":"Garantizar el acceso público a la información y proteger las libertades fundamentales, de conformidad con las leyes nacionales y los acuerdos internacionales"},null,null,null,null,null,null,null,null,4]
[750,12,"Barrios Unidos",1,"Hacer un nuevo contrato social con igualdad de oportunidades para la inclusión social, productiva y política",6,"Sistema Distrital de Cuidado",null,null,null,null,750,"Dotar 6 Sedes de atención a la primera infancia y/o adolescencia (jardines infantiles y Centros Amar)",2062,"Sistema Local de Cuidado","DOTACIÓN JARDINES IFANTILES Y CENTROS AMAR","Suma",null,"Dotar",6,"Sedes","de atención a la primera infancia y/o adolescencia (jardines infantiles y Centros Amar).","Dotar 6 Sedes de atención a la primera infancia y/o adolescencia (jardines infantiles y Centros Amar)",{"$f":"VLOOKUP(AG751,'Anexo PMR'!$B$4:$G$87,6,0)","v":"2_Presupuestos Participativos 50%"},6,"Infraestructura","Dotación a Jardines Infantiles, Centros Amar y Forjar.",92,"INTEGRACIÓN SOCIAL",2,"Protección integral a niños y niñas y adolescentes.",28,"Sedes de atención a la primera infancia y/o adolescencia dotadas.","JARDINES INFANTILES Y CENTROS AMAR",null,null,null,0,0,0,6,0,0,0,347000000,347000000,1,0,0,0,0,"Bajo","Bajo",2.3788304654829642E-2,0,0,null,null,null,0,"2021_1",0,0,0,0,0,0,0,0,0,0,0,0,0,"",null,null,null,0,0,0,0,0,null,0,0,0,0,null,null,0,0,0,"",null,null,null,null,null,{"$f":"VLOOKUP(AG751,'Anexo ODS'!$G$3:$P$86,5,0)","v":1},{"$f":"VLOOKUP(AG751,'Anexo ODS'!$G$3:$P$86,6,0)","v":"Las Personas"},{"$f":"VLOOKUP(AG751,'Anexo ODS'!$G$3:$P$86,7,0)","v":1},{"$f":"VLOOKUP(AG751,'Anexo ODS'!$G$3:$P$86,8,0)","v":"Fin de la Pobreza"},{"$f":"VLOOKUP(AG751,'Anexo ODS'!$G$3:$P$86,9,0)","v":"1.2"},{"$f":"VLOOKUP(AG751,'Anexo ODS'!$G$3:$P$86,10,0)","v":"De aquí a 2030, reducir al menos a la mitad la proporción de hombres, mujeres y niños de todas las edades que viven en la pobreza en todas sus dimensiones con arreglo a las definiciones nacionales"},null,null,null,null,null,null,null,null,6]
[755,12,"Barrios Unidos",1,"Hacer un nuevo contrato social con igualdad de oportunidades para la inclusión social, productiva y política",6,"Sistema Distrital de Cuidado",null,null,null,null,755,"Apoyar 380 Mipymes y/o emprendimientos culturales y creativos.",2135,"Impulsemos Economía Local","FORTALECIMIENTO MIPYMES","Suma",null,"Apoyar",380,"Mipymes","y/o emprendimientos culturales y creativos.","Apoyar 380 Mipymes y/o emprendimientos culturales y creativos.",{"$f":"VLOOKUP(AG756,'Anexo PMR'!$B$4:$G$87,6,0)","v":"2_Presupuestos Participativos 50%"},5,"Desarrollo de la Economía Local","Apoyo a industrias culturales y creativas.",89,"DESARROLLO ECONÓMICO, INDUSTRIA Y TURISMO",14,"Servicios de asesoría, asistencia técnica integral, dotación y/o apoyo financiero a Mipymes y/o emprendimientos.",21,"Número de Mipymes y/o emprendimientos culturales y creativos apoyados","DESARROLLO DE LA ECONOMÍA LOCAL",null,null,null,95,120,100,65,517000000,775000000,646000000,216000000,2154000000,1,0,0,0,0,"Bajo","Bajo",0.14766572975937478,0,0,null,null,null,0,"2021_1",95,95,0,0,0,0,0,0,0,0,0,0,0,"No Aplica",null,null,null,493854000,493854000,0,0,0,34884000,0,0,0,34884000,0,0,0,0,0,"La contratación no contribuye al avance de la meta",null,null,null,null,null,{"$f":"VLOOKUP(AG756,'Anexo ODS'!$G$3:$P$86,5,0)","v":3},{"$f":"VLOOKUP(AG756,'Anexo ODS'!$G$3:$P$86,6,0)","v":"La Prosperidad"},{"$f":"VLOOKUP(AG756,'Anexo ODS'!$G$3:$P$86,7,0)","v":8},{"$f":"VLOOKUP(AG756,'Anexo ODS'!$G$3:$P$86,8,0)","v":"Trabajo decente y crecimiento económico"},{"$f":"VLOOKUP(AG756,'Anexo ODS'!$G$3:$P$86,9,0)","v":"8.3"},{"$f":"VLOOKUP(AG756,'Anexo ODS'!$G$3:$P$86,10,0)","v":"Promover políticas orientadas al desarrollo que apoyen las actividades productivas, la creación de puestos de trabajo decentes, el emprendimiento, la creatividad y la innovación, y fomentar la formalización y el crecimiento de las microempresas y las pequeñas y medianas empresas, incluso mediante el acceso a servicios financieros"},null,null,null,null,null,null,null,null,380]
[756,12,"Barrios Unidos",1,"Hacer un nuevo contrato social con igualdad de oportunidades para la inclusión social, productiva y política",6,"Sistema Distrital de Cuidado",null,null,null,null,756,"Promover en 145 Mipymes y/o emprendimientos procesos de reconversión hacia actividades sostenibles.",2135,"Impulsemos Economía Local","REACTIVACIÓN","Suma",null,"Promover",145,"Mipymes","y/o emprendimientos procesos de reconversión hacia actividades sostenibles.","Promover en 145 Mipymes y/o emprendimientos procesos de reconversión hacia actividades sostenibles.",{"$f":"VLOOKUP(AG757,'Anexo PMR'!$B$4:$G$87,6,0)","v":"2_Presupuestos Participativos 50%"},5,"Desarrollo de la Economía Local","Reactivación y reconversión verde",89,"DESARROLLO ECONÓMICO, INDUSTRIA Y TURISMO",14,"Servicios de asesoría, asistencia técnica integral, dotación y/o apoyo financiero a Mipymes y/o emprendimientos.",22,"Número de Mipymes y/o emprendimientos con procesos de reconversión hacia actividades sostenibles","DESARROLLO DE LA ECONOMÍA LOCAL",null,null,null,36,50,45,14,466000000,805000000,635000000,212000000,2118000000,1,0,0,0,0,"Bajo","Bajo",0.14519777884417631,0,0,null,null,null,0,"2021_1",36,36,0,0,0,0,0,0,0,0,0,0,0,"No Aplica",null,null,null,445137000,445137000,0,0,0,34884000,0,0,0,34884000,0,0,0,0,0,"La contratación no contribuye al avance de la meta",null,null,null,null,null,{"$f":"VLOOKUP(AG757,'Anexo ODS'!$G$3:$P$86,5,0)","v":3},{"$f":"VLOOKUP(AG757,'Anexo ODS'!$G$3:$P$86,6,0)","v":"La Prosperidad"},{"$f":"VLOOKUP(AG757,'Anexo ODS'!$G$3:$P$86,7,0)","v":8},{"$f":"VLOOKUP(AG757,'Anexo ODS'!$G$3:$P$86,8,0)","v":"Trabajo decente y crecimiento económico"},{"$f":"VLOOKUP(AG757,'Anexo ODS'!$G$3:$P$86,9,0)","v":"8.3"},{"$f":"VLOOKUP(AG757,'Anexo ODS'!$G$3:$P$86,10,0)","v":"Promover políticas orientadas al desarrollo que apoyen las actividades productivas, la creación de puestos de trabajo decentes, el emprendimiento, la creatividad y la innovación, y fomentar la formalización y el crecimiento de las microempresas y las pequeñas y medianas empresas, incluso mediante el acceso a servicios financieros"},null,null,null,null,null,null,null,null,145]
[761,12,"Barrios Unidos",1,"Hacer un nuevo contrato social con igualdad de oportunidades para la inclusión social, productiva y política",14,"Formación integral: más y mejor tiempo en los colegios",null,null,null,null,761,"Dotar 9 sedes educativas urbanas",2029,"Herramientas para educar","DOTACIÓN","Suma",null,"Dotar",9,"Sedes","educativas urbanas","Dotar 9 sedes educativas urbanas",{"$f":"VLOOKUP(AG762,'Anexo PMR'!$B$4:$G$87,6,0)","v":"2_Presupuestos Participativos 50%"},6,"Infraestructura","Dotación pedagógica a colegios.",90,"EDUCACIÓN",3,"Infraestructura y dotación escolar.",4,"Sedes educativas urbanas y rurales dotadas","SEDES EDUCATIVAS",null,null,null,0,0,0,9,0,0,0,978000000,978000000,1,0,0,0,0,"Bajo","Bajo",1,0,0,null,null,null,0,"2021_1",0,0,0,0,0,0,0,0,0,0,0,0,0,"",null,null,null,0,0,0,0,0,null,0,0,0,0,null,null,0,0,0,"",null,null,null,null,null,{"$f":"VLOOKUP(AG762,'Anexo ODS'!$G$3:$P$86,5,0)","v":1},{"$f":"VLOOKUP(AG762,'Anexo ODS'!$G$3:$P$86,6,0)","v":"Las Personas"},{"$f":"VLOOKUP(AG762,'Anexo ODS'!$G$3:$P$86,7,0)","v":4},{"$f":"VLOOKUP(AG762,'Anexo ODS'!$G$3:$P$86,8,0)","v":"Educación de calidad"},{"$f":"VLOOKUP(AG762,'Anexo ODS'!$G$3:$P$86,9,0)","v":"4.7"},{"$f":"VLOOKUP(AG762,'Anexo ODS'!$G$3:$P$86,10,0)","v":"De aquí a 2030, asegurar que todos los alumnos adquieran los conocimientos teóricos y prácticos necesarios para promover el desarrollo sostenible, entre otras cosas mediante la educación para el desarrollo sostenible y los estilos de vida sostenibles, los derechos humanos, la igualdad de género, la promoción de una cultura de paz y no violencia, la ciudadanía mundial y la valoración de la diversidad cultural y la contribución de la cultura al desarrollo sostenible"},null,null,null,null,null,null,null,null,9]
[766,12,"Barrios Unidos",1,"Hacer un nuevo contrato social con igualdad de oportunidades para la inclusión social, productiva y política",20,"Bogotá, referente en cultura, deporte, recreación y actividad física, con parques para el desarrollo y la salud",null,null,null,null,766,"Vincular 4.500 personas en actividades recreo-deportivas comunitarias.",2044,"Deporte y recreación para el desarrollo social","EVENTOS","Suma",null,"Vincular",4500,"Personas","en actividades recreo-deportivas comunitarias.","Vincular 4.500 personas en actividades recreo-deportivas comunitarias.",{"$f":"VLOOKUP(AG767,'Anexo PMR'!$B$4:$G$87,6,0)","v":"2_Presupuestos Participativos 50%"},7,"Desarrollo social y cultural","Eventos recreo-deportivos.",93,"CULTURA, RECREACIÓN Y DEPORTE",7,"Eventos y actividades recreativas y deportivas.",10,"Personas vinculadas en actividades recreo-deportivas comunitarias","ACTIVIDAD DEPORTIVA",null,null,null,1125,1125,1125,1125,216000000,216000000,504000000,504000000,1440000000,1,0,0,0,0,"Bajo","Bajo",0.81632653061224492,0,0,null,null,null,0,"2021_1",1125,1125,0,0,0,0,0,0,0,0,0,0,0,"",null,null,null,206330000,206330000,0,0,0,null,0,0,0,0,null,null,0,0,0,"",null,null,null,null,null,{"$f":"VLOOKUP(AG767,'Anexo ODS'!$G$3:$P$86,5,0)","v":1},{"$f":"VLOOKUP(AG767,'Anexo ODS'!$G$3:$P$86,6,0)","v":"Las Personas"},{"$f":"VLOOKUP(AG767,'Anexo ODS'!$G$3:$P$86,7,0)","v":3},{"$f":"VLOOKUP(AG767,'Anexo ODS'!$G$3:$P$86,8,0)","v":"Salud y Bienestar"},{"$f":"VLOOKUP(AG767,'Anexo ODS'!$G$3:$P$86,9,0)","v":"3.d"},{"$f":"VLOOKUP(AG767,'Anexo ODS'!$G$3:$P$86,10,0)","v":"Reforzar la capacidad de todos los países, en particular los países en desarrollo, en materia de alerta temprana,  reducción de riesgos y gestión de los riesgos para la salud nacional y mundial"},null,null,null,null,null,null,null,null,4500]
[771,12,"Barrios Unidos",1,"Hacer un nuevo contrato social con igualdad de oportunidades para la inclusión social, productiva y política",24,"Bogotá región emprendedora e innovadora",null,null,null,null,771,"Financiar 40 proyectos del sector cultural y creativo.",2017,"Emprendimiento cultural para el desarrollo social","FORTALECIMIENTO INDUSTRIA CULTURAL","Suma",null,"Financiar",40,"Proyectos","del sector cultural y creativo.","Financiar 40 proyectos del sector cultural y creativo.",{"$f":"VLOOKUP(AG772,'Anexo PMR'!$B$4:$G$87,6,0)","v":"2_Presupuestos Participativos 50%"},7,"Desarrollo social y cultural","Apoyo y fortalecimiento a las industrias culturales y creativas en las localidades",93,"CULTURA, RECREACIÓN Y DEPORTE",9,"Servicio de apoyo financiero para el desarrollo de prácticas artísticas y culturales en el Distrito de Bogotá.",20,"Número de proyectos financiados y acompañados del sector cultural y creativo.","ACTIVIDAD CULTURAL",null,null,null,10,10,10,10,270000000,278000000,287000000,296000000,1131000000,1,0,0,0,0,"Bajo","Bajo",0.4444007858546169,0,0,null,null,null,0,"2021_1",10,10,0,0,0,0,0,0,0,0,0,0,0,"",null,null,null,257912000,257912000,0,0,0,null,0,0,0,0,null,null,0,0,0,"",null,null,null,null,null,{"$f":"VLOOKUP(AG772,'Anexo ODS'!$G$3:$P$86,5,0)","v":3},{"$f":"VLOOKUP(AG772,'Anexo ODS'!$G$3:$P$86,6,0)","v":"La Prosperidad"},{"$f":"VLOOKUP(AG772,'Anexo ODS'!$G$3:$P$86,7,0)","v":8},{"$f":"VLOOKUP(AG772,'Anexo ODS'!$G$3:$P$86,8,0)","v":"Trabajo decente y crecimiento económico"},{"$f":"VLOOKUP(AG772,'Anexo ODS'!$G$3:$P$86,9,0)","v":"8.3"},{"$f":"VLOOKUP(AG772,'Anexo ODS'!$G$3:$P$86,10,0)","v":"Promover políticas orientadas al desarrollo que apoyen las actividades productivas, la creación de puestos de trabajo decentes, el emprendimiento, la creatividad y la innovación, y fomentar la formalización y el crecimiento de las microempresas y las pequeñas y medianas empresas, incluso mediante el acceso a servicios financieros"},null,null,null,null,null,null,null,null,40]
[772,12,"Barrios Unidos",1,"Hacer un nuevo contrato social con igualdad de oportunidades para la inclusión social, productiva y política",24,"Bogotá región emprendedora e innovadora",null,null,null,null,772,"Implementar 100 acciones de fomento para la agricultura urbana",2073,"Reverdecer el urbanismo","AGRICULTURA URBANA","Suma",null,"Implementar",100,"Acciones","fomento para la agricultura urbana","Implementar 100 acciones de fomento para la agricultura urbana",{"$f":"VLOOKUP(AG773,'Anexo PMR'!$B$4:$G$87,6,0)","v":"2_Presupuestos Participativos 50%"},8,"Inversiones ambientales sostenibles","Agricultura urbana.",94,"AMBIENTE",13,"Servicios de asesoría, asistencia técnica integral y dotación de infraestructura productiva para la Agricultura urbana y periurbana.",19,"Número acciones de fomento para la agricultura urbana","AGRICULTURA URBANA",null,null,null,25,0,25,50,337000000,0,359000000,718000000,1414000000,1,0,0,0,0,"Bajo","Bajo",0.55559921414538316,0,0,null,null,null,0,"2021_1",25,25,0,0,0,0,0,0,0,0,0,0,0,"",null,null,null,321913000,321913000,0,0,0,null,0,0,0,0,null,null,0,0,0,"",null,null,null,null,null,{"$f":"VLOOKUP(AG773,'Anexo ODS'!$G$3:$P$86,5,0)","v":4},{"$f":"VLOOKUP(AG773,'Anexo ODS'!$G$3:$P$86,6,0)","v":"El Planeta"},{"$f":"VLOOKUP(AG773,'Anexo ODS'!$G$3:$P$86,7,0)","v":12},{"$f":"VLOOKUP(AG773,'Anexo ODS'!$G$3:$P$86,8,0)","v":"Producción y consumo responsables"},{"$f":"VLOOKUP(AG773,'Anexo ODS'!$G$3:$P$86,9,0)","v":"12.2"},{"$f":"VLOOKUP(AG773,'Anexo ODS'!$G$3:$P$86,10,0)","v":"De aquí a 2030, lograr la gestión sostenible y el uso eficiente\nde los recursos naturales"},null,null,null,null,null,null,null,null,100]
[777,12,"Barrios Unidos",2,"Cambiar nuestros hábitos de vida para reverdecer a Bogotá y adaptarnos y mitigar el cambio climático.",30,"Eficiencia en la atención de emergencias",null,null,null,null,777,"Realizar 4 acción efectiva para el fortalecimiento de las capacidades locales para la respuesta a emergencias y desastres.",2103,"Acciones efectivas para prevenir","MANEJO DE EMERGENCIAS, CALAMIDADES Y DESASTRES","Suma",null,"Realizar",4,"Acciones","efectivas para el fortalecimiento de las capacidades locales para la respuesta a emergencias y desastres.","Realizar 4 acción efectiva para el fortalecimiento de las capacidades locales para la respuesta a emergencias y desastres.",{"$f":"VLOOKUP(AG778,'Anexo PMR'!$B$4:$G$87,6,0)","v":"2_Presupuestos Participativos 50%"},8,"Inversiones ambientales sostenibles","Manejo de emergencias y desastres.",94,"AMBIENTE",18,"Gestión para la prevención y mitigación del riesgo.",42,"Acciones efectivas para el fortalecimiento de las capacidades locales para la respuesta a emergencias y desastres","REDUCCIÓN DEL RIESGO",null,null,null,1,1,1,1,106000000,110000000,113000000,117000000,446000000,1,1,0.25,1,0.25,"Bajo","Bajo",1,0.25,0.25,null,null,null,0,"2021_1",1,1,0,0,0,1,0,0,0,1,0,0,0,"Incompleto",null,null,null,101254000,101254000,0,0,0,47380000,0,0,0,47380000,0,0,0,0,0,"",null,null,null,null,null,{"$f":"VLOOKUP(AG778,'Anexo ODS'!$G$3:$P$86,5,0)","v":3},{"$f":"VLOOKUP(AG778,'Anexo ODS'!$G$3:$P$86,6,0)","v":"La Prosperidad"},{"$f":"VLOOKUP(AG778,'Anexo ODS'!$G$3:$P$86,7,0)","v":11},{"$f":"VLOOKUP(AG778,'Anexo ODS'!$G$3:$P$86,8,0)","v":"Ciudades y comunidades sostenibles"},{"$f":"VLOOKUP(AG778,'Anexo ODS'!$G$3:$P$86,9,0)","v":"11.5"},{"$f":"VLOOKUP(AG778,'Anexo ODS'!$G$3:$P$86,10,0)","v":"De aquí a 2030, reducir significativamente el número de muertes causadas por los desastres, incluidos los relacionados con el agua, y de personas afectadas por ellos, y reducir considerablemente las pérdidas económicas directas provocadas por los desastres en comparación con el producto interno bruto mundial, haciendo especial hincapié en la protección de los pobres y las personas en situaciones de vulnerabilidad"},null,null,null,null,null,null,null,null,4]
[782,12,"Barrios Unidos",2,"Cambiar nuestros hábitos de vida para reverdecer a Bogotá y adaptarnos y mitigar el cambio climático.",38,"Ecoeficiencia, reciclaje, manejo de residuos e inclusión de la población recicladora",null,null,null,null,782,"Capacitar 1.600 personas en separación en la fuente y reciclaje.",2082,"Barrios Unidos contra el cabio climático","HÁBITOS DE CONSUMO","Suma",null,"Capacitar",1600,"Personas","en separación en la fuente y reciclaje.","Capacitar 1.600 personas en separación en la fuente y reciclaje.",{"$f":"VLOOKUP(AG783,'Anexo PMR'!$B$4:$G$87,6,0)","v":"2_Presupuestos Participativos 50%"},8,"Inversiones ambientales sostenibles","Cambios de hábitos de consumo, separación en la fuente y reciclaje.",96,"HÁBITAT",23,"Manejo integral de residuos sólidos. ",50,"Personas capacitadas en separación en la fuente y reciclaje","RECICLAJE",null,null,null,400,0,200,1000,438000000,0,181000000,941000000,1560000000,1,0,0,0,0,"Bajo","Bajo",1,0,0,null,null,null,0,"2021_1",400,400,0,0,0,0,0,0,0,0,0,0,0,"No Aplica",null,null,null,418391000,418391000,0,0,0,32704000,0,0,0,32704000,0,0,0,0,0,"La contratación no contribuye al avance de la meta",null,null,null,null,null,{"$f":"VLOOKUP(AG783,'Anexo ODS'!$G$3:$P$86,5,0)","v":4},{"$f":"VLOOKUP(AG783,'Anexo ODS'!$G$3:$P$86,6,0)","v":"El Planeta"},{"$f":"VLOOKUP(AG783,'Anexo ODS'!$G$3:$P$86,7,0)","v":12},{"$f":"VLOOKUP(AG783,'Anexo ODS'!$G$3:$P$86,8,0)","v":"Producción y consumo responsables"},{"$f":"VLOOKUP(AG783,'Anexo ODS'!$G$3:$P$86,9,0)","v":"12.5"},{"$f":"VLOOKUP(AG783,'Anexo ODS'!$G$3:$P$86,10,0)","v":"De aquí a 2030, reducir considerablemente la generación de desechos mediante actividades de prevención, reducción, reciclado y reutilización"},null,null,null,null,null,null,null,null,1600]
[787,12,"Barrios Unidos",3,"Inspirar confianza y legitimidad para vivir sin miedo y ser epicentro de cultura ciudadana, paz y reconciliación.",43,"Cultura ciudadana para la confianza, la convivencia y la participación desde la vida cotidiana",null,null,null,null,787,"Implementar 1 estrategia de atención de movilizaciones y aglomeraciones en el territorio a través de equipos de gestores de convivencia bajo el direccionamiento estratégico de la Secretaría de Seguridad, Convivencia y Justicia",2149,"Por una localidad segura y resiliente","GESTORES DE CONVIVENCIA","Constante",null,"Implementar",1,"Estrategias","de atención de movilizaciones y aglomeraciones en el territorio a través de equipos de gestores de convivencia bajo el direccionamiento estratégico de la Secretaria de Seguridad, Convivencia y Justicia.","Implementar 1 estrategia de atención de movilizaciones y aglomeraciones en el territorio a través de equipos de gestores de convivencia bajo el direccionamiento estratégico de la Secretaría de Seguridad, Convivencia y Justicia",{"$f":"VLOOKUP(AG788,'Anexo PMR'!$B$4:$G$87,6,0)","v":"2_Presupuestos Participativos 50%"},7,"Desarrollo social y cultural","Promoción de la convivencia ciudadana.",102,"SEGURIDAD, CONVIVENCIA Y JUSTICIA",27,"Prevención, atención y gestión del conflicto en la localidad.",55,"Estrategia de atención de movilizaciones y aglomeraciones en el territorio implementada a traves de equipos de gestores de convivencia bajo el direccionamiento estrategico de la Secretaria de Seguridad, Convivencia y Justicia","ACCIONES DE CONVIVENCIA",null,null,null,1,1,1,1,168000000,174000000,179000000,185000000,706000000,1,0.25,0.25,0.25,0.25,"Bajo","Bajo",0.7478813559322034,0.18697033898305085,0.18697033898305085,null,null,null,0,"2021_1",1,1,0,0,0,1,0,0,0,1,0,0,0,"Incompleto",null,null,null,160479000,160479000,0,0,0,125955000,0,0,0,125955000,0,0,0,0,0,"",null,null,null,null,null,{"$f":"VLOOKUP(AG788,'Anexo ODS'!$G$3:$P$86,5,0)","v":2},{"$f":"VLOOKUP(AG788,'Anexo ODS'!$G$3:$P$86,6,0)","v":"La Paz"},{"$f":"VLOOKUP(AG788,'Anexo ODS'!$G$3:$P$86,7,0)","v":16},{"$f":"VLOOKUP(AG788,'Anexo ODS'!$G$3:$P$86,8,0)","v":"Paz, justicia e instituciones sólidas"},{"$f":"VLOOKUP(AG788,'Anexo ODS'!$G$3:$P$86,9,0)","v":"16.1"},{"$f":"VLOOKUP(AG788,'Anexo ODS'!$G$3:$P$86,10,0)","v":"Reducir significativamente todas las formas de violencia y las correspondientes tasas de mortalidad en todo el mundo"},null,null,null,null,null,null,null,null,4]
[788,12,"Barrios Unidos",3,"Inspirar confianza y legitimidad para vivir sin miedo y ser epicentro de cultura ciudadana, paz y reconciliación.",43,"Cultura ciudadana para la confianza, la convivencia y la participación desde la vida cotidiana",null,null,null,null,788,"Incluir 1.000 personas en actividades de educación para la resiliencia y la prevención de hechos delictivos",2149,"Por una localidad segura y resiliente","PREVENCIÓN","Suma",null,"Incluir",1000,"Personas","en actividades de educación para la resiliencia y la prevención de hechos delictivos","Incluir 1.000 personas en actividades de educación para la resiliencia y la prevención de hechos delictivos",{"$f":"VLOOKUP(AG789,'Anexo PMR'!$B$4:$G$87,6,0)","v":"2_Presupuestos Participativos 50%"},7,"Desarrollo social y cultural","Promoción de la convivencia ciudadana.",102,"SEGURIDAD, CONVIVENCIA Y JUSTICIA",27,"Prevención, atención y gestión del conflicto en la localidad.",57,"Personas incluidas en actividades de educación para la resiliencia y la prevención de hechos delictivos. ","ACCIONES DE CONVIVENCIA",null,null,null,0,0,1000,0,0,0,119000000,0,119000000,1,0,0,0,0,"Bajo","Bajo",0.1260593220338983,0,0,null,null,null,0,"2021_1",0,0,0,0,0,0,0,0,0,0,0,0,0,"",null,null,null,0,0,0,0,0,null,0,0,0,0,null,null,0,0,0,"",null,null,null,null,null,{"$f":"VLOOKUP(AG789,'Anexo ODS'!$G$3:$P$86,5,0)","v":2},{"$f":"VLOOKUP(AG789,'Anexo ODS'!$G$3:$P$86,6,0)","v":"La Paz"},{"$f":"VLOOKUP(AG789,'Anexo ODS'!$G$3:$P$86,7,0)","v":16},{"$f":"VLOOKUP(AG789,'Anexo ODS'!$G$3:$P$86,8,0)","v":"Paz, justicia e instituciones sólidas"},{"$f":"VLOOKUP(AG789,'Anexo ODS'!$G$3:$P$86,9,0)","v":"16.1"},{"$f":"VLOOKUP(AG789,'Anexo ODS'!$G$3:$P$86,10,0)","v":"Reducir significativamente todas las formas de violencia y las correspondientes tasas de mortalidad en todo el mundo"},null,null,null,null,null,null,null,null,1000]
[793,12,"Barrios Unidos",3,"Inspirar confianza y legitimidad para vivir sin miedo y ser epicentro de cultura ciudadana, paz y reconciliación.",48,"Plataforma institucional para la seguridad y justicia",null,null,null,null,793,"Suministrar 1 dotaciones de equipos especiales de protección a organismos de seguridad",2153,"Instituciones fuertes y efectivas","DOTACIÓN","Suma",null,"Suministrar",1,"Dotaciones","de equipos especiales de protección a organismos de seguridad.","Suministrar 1 dotaciones de equipos especiales de protección a organismos de seguridad",{"$f":"VLOOKUP(AG794,'Anexo PMR'!$B$4:$G$87,6,0)","v":"2_Presupuestos Participativos 50%"},7,"Desarrollo social y cultural","Dotación para instancias de seguridad.",102,"SEGURIDAD, CONVIVENCIA Y JUSTICIA",30,"Infraestructura y dotaciones para seguridad.",67,"Dotaciones de equipos especiales de protección  suministradas a organismos de seguridad.","DOTACIÓN EN SEGURIDAD",null,null,null,0,0,0,1,0,0,0,304000000,304000000,1,0,0,0,0,"Bajo","Bajo",0.17521613832853025,0,0,null,null,null,0,"2021_1",0,0,0,0,0,0,0,0,0,0,0,0,0,"",null,null,null,0,0,0,0,0,null,0,0,0,0,null,null,0,0,0,"",null,null,null,null,null,{"$f":"VLOOKUP(AG794,'Anexo ODS'!$G$3:$P$86,5,0)","v":2},{"$f":"VLOOKUP(AG794,'Anexo ODS'!$G$3:$P$86,6,0)","v":"La Paz"},{"$f":"VLOOKUP(AG794,'Anexo ODS'!$G$3:$P$86,7,0)","v":16},{"$f":"VLOOKUP(AG794,'Anexo ODS'!$G$3:$P$86,8,0)","v":"Paz, justicia e instituciones sólidas"},{"$f":"VLOOKUP(AG794,'Anexo ODS'!$G$3:$P$86,9,0)","v":"16.a"},{"$f":"VLOOKUP(AG794,'Anexo ODS'!$G$3:$P$86,10,0)","v":"Fortalecer las instituciones nacionales pertinentes, incluso mediante la cooperación internacional, para crear a todos los niveles, particularmente en los países en desarrollo, la capacidad de prevenir la violencia y combatir el terrorismo y la delincuencia"},null,null,null,null,null,null,null,null,1]
[798,12,"Barrios Unidos",4,"Hacer de Bogotá-región un modelo de movilidad, creatividad y productividad incluyente y sostenible",49,"Movilidad segura, sostenible y accesible",null,null,null,null,798,"Intervenir 1.895 metros lineales de Cicloinfraestructura con acciones de construcción y/o conservación",2022,"Mejores vías para una mejor calidad de vida","CICLO INFRAESTRUCTURA","Suma",null,"Intervenir",1895,"Metros","lineales de Ciclo-infraestructura con acciones de construcción y/o conservación.","Intervenir 1.895 metros lineales de Cicloinfraestructura con acciones de construcción y/o conservación",{"$f":"VLOOKUP(AG799,'Anexo PMR'!$B$4:$G$87,6,0)","v":"2_Presupuestos Participativos 50%"},6,"Infraestructura","Diseño, construcción y conservación de ciclo-infraestructura.",95,"MOVILIDAD",33,"Ciclo infraestructura construida y/o conservada.",73,"Metros lineales construidos y/o conservados de Ciclo-infraestructura","CICLO-INFRAESTRUCTURA",null,null,null,1895,0,0,0,674000000,0,0,0,674000000,1,0,0,0,0,"Bajo","Bajo",0.12669172932330827,0,0,null,null,null,0,"2021_1",1895,1895,0,0,0,0,0,0,0,0,0,0,0,"No Aplica",null,null,null,1111892000,1111892000,0,0,0,165780000,0,0,0,165780000,0,0,0,0,0,"La contratación no contribuye al avance de la meta",null,null,null,null,null,{"$f":"VLOOKUP(AG799,'Anexo ODS'!$G$3:$P$86,5,0)","v":3},{"$f":"VLOOKUP(AG799,'Anexo ODS'!$G$3:$P$86,6,0)","v":"La Prosperidad"},{"$f":"VLOOKUP(AG799,'Anexo ODS'!$G$3:$P$86,7,0)","v":11},{"$f":"VLOOKUP(AG799,'Anexo ODS'!$G$3:$P$86,8,0)","v":"Ciudades y comunidades sostenibles"},{"$f":"VLOOKUP(AG799,'Anexo ODS'!$G$3:$P$86,9,0)","v":"11.2"},{"$f":"VLOOKUP(AG799,'Anexo ODS'!$G$3:$P$86,10,0)","v":" De aquí a 2030, proporcionar acceso a sistemas de transporte seguros, asequibles, accesibles y sostenibles para todos y mejorar la seguridad vial, en particular mediante la ampliación del transporte público, prestando especial atención a las necesidades de las personas en situación de vulnerabilidad, las mujeres, los niños, las personas con discapacidad y las personas de edad"},null,null,null,null,null,null,null,null,1895]
[803,12,"Barrios Unidos",5,"Construir Bogotá-región con gobierno abierto, transparente y ciudadanía consciente.",55,"Fortalecimiento de Cultura Ciudadana y su institucionalidad",null,null,null,null,803,"Fortalecer 60 Organizaciones, JAC e Instancias de participación ciudadana.",2141,"Diálogos para crecer y participar","FORTALECIMIENTO ORGANIZATIVO","Suma",null,"Fortalecer",60,"Organizaciones",", JAC e Instancias de participación ciudadana.","Fortalecer 60 Organizaciones, JAC e Instancias de participación ciudadana.",{"$f":"VLOOKUP(AG804,'Anexo PMR'!$B$4:$G$87,6,0)","v":"2_Presupuestos Participativos 50%"},7,"Desarrollo social y cultural","Fortalecimiento de organizaciones sociales, comunitarias, comunales, propiedad horizontal e instancias y mecanismos de participación, con énfasis en jóvenes y asociatividad productiva.",98,"GOBIERNO",35,"Espacios y procesos de participación ciudadana fortalecidos. ",79,"Número de Organizaciones, JAC e Instancias de participación ciudadana fortalecidas.","FORTALECIMIENTO ORGANIZATIVO",null,null,null,15,15,15,15,283000000,292000000,301000000,310000000,1186000000,1,0,0,0,0,"Bajo","Bajo",0.3814731424895465,0,0,null,null,null,0,"2021_1",15,15,0,0,0,0,0,0,0,0,0,0,0,"",null,null,null,270330000,270330000,0,0,0,null,0,0,0,0,null,null,0,0,0,"",null,null,null,null,null,{"$f":"VLOOKUP(AG804,'Anexo ODS'!$G$3:$P$86,5,0)","v":2},{"$f":"VLOOKUP(AG804,'Anexo ODS'!$G$3:$P$86,6,0)","v":"La Paz"},{"$f":"VLOOKUP(AG804,'Anexo ODS'!$G$3:$P$86,7,0)","v":16},{"$f":"VLOOKUP(AG804,'Anexo ODS'!$G$3:$P$86,8,0)","v":"Paz, justicia e instituciones sólidas"},{"$f":"VLOOKUP(AG804,'Anexo ODS'!$G$3:$P$86,9,0)","v":"16.7"},{"$f":"VLOOKUP(AG804,'Anexo ODS'!$G$3:$P$86,10,0)","v":"Garantizar la adopción en todos los niveles de decisiones inclusivas, participativas y representativas que respondan a las necesidades"},null,null,null,null,null,null,null,null,60]
[804,12,"Barrios Unidos",5,"Construir Bogotá-región con gobierno abierto, transparente y ciudadanía consciente.",55,"Fortalecimiento de Cultura Ciudadana y su institucionalidad",null,null,null,null,804,"Intervenir 14 sedes de salones comunales",2141,"Diálogos para crecer y participar","INTERVENCIÓN","Suma",null,"Intervenir",14,"Sedes","de salones comunales.","Intervenir 14 sedes de salones comunales",{"$f":"VLOOKUP(AG805,'Anexo PMR'!$B$4:$G$87,6,0)","v":"2_Presupuestos Participativos 50%"},6,"Infraestructura","Intervención y dotación de salones comunales.",98,"GOBIERNO",35,"Espacios y procesos de participación ciudadana fortalecidos. ",75,"Sedes intervenidas de salones comunales.","SALONES COMUNALES",null,null,null,0,0,14,0,0,0,1000000000,0,1000000000,1,0,0,0,0,"Bajo","Bajo",0.32164683177870695,0,0,null,null,null,0,"2021_1",0,0,0,0,0,0,0,0,0,0,0,0,0,"",null,null,null,0,0,0,0,0,null,0,0,0,0,null,null,0,0,0,"",null,null,null,null,null,{"$f":"VLOOKUP(AG805,'Anexo ODS'!$G$3:$P$86,5,0)","v":3},{"$f":"VLOOKUP(AG805,'Anexo ODS'!$G$3:$P$86,6,0)","v":"La Prosperidad"},{"$f":"VLOOKUP(AG805,'Anexo ODS'!$G$3:$P$86,7,0)","v":11},{"$f":"VLOOKUP(AG805,'Anexo ODS'!$G$3:$P$86,8,0)","v":"Ciudades y comunidades sostenibles"},{"$f":"VLOOKUP(AG805,'Anexo ODS'!$G$3:$P$86,9,0)","v":"11.3"},{"$f":"VLOOKUP(AG805,'Anexo ODS'!$G$3:$P$86,10,0)","v":"De aquí a 2030, aumentar la urbanización inclusiva y sostenible y la capacidad para la planificación y la gestión participativas, integradas y sostenibles de los asentamientos humanos en todos los países"},null,null,null,null,null,null,null,null,14]
[809,13,"Teusaquillo",1,"Hacer un nuevo contrato social con igualdad de oportunidades para la inclusión social, productiva y política",1,"Subsidios y transferencias para la equidad",null,null,null,null,809,"Atender 2773 hogares con apoyos que contribuyan al ingreso mínimo garantizado",2045,"Teusaquillo con un nuevo contrato social con igualdad de oportunidades para la inclusión social","INGRESO MÍNIMO","Suma",2,"Atender",2773,"Hogares","con apoyos que contribuyan al ingreso mínimo garantizado.","Atender 2773 hogares con apoyos que contribuyan al ingreso mínimo garantizado.",{"$f":"VLOOKUP(AG810,'Anexo PMR'!$B$4:$G$87,6,0)","v":"1_Inflexible 45%"},3,"Sistema Bogotá Solidaria (20%)","Ingreso mínimo garantizado",92,"INTEGRACIÓN SOCIAL",1,"Protección integral a personas y familias en situación de vulneración.",1,"Hogares atendidos con apoyos que contribuyan al ingreso mínimo garantizado","INGRESO MÍNIMO",null,null,null,693,693,693,694,2445000000,2521600000,2552400000,2504000000,10023000000,1,0,0,0,0,"Bajo","Bajo",{"$f":"AT810/SUMIF($F$810:$F$863,F810,$AT$810:$AT$863)","v":0.81680384646728055},0,0,null,null,null,0,"2021_1",693,693,0,0,0,0,0,0,0,0,0,0,0,"No mueve meta",null,null,null,2224268000,2224268000,0,0,0,55000000,0,0,0,55000000,916667,916667,0,0,0,"se hizo la contratacion del profesional para el tema",null,null,null,null,null,{"$f":"VLOOKUP(AG810,'Anexo ODS'!$G$3:$P$86,5,0)","v":1},{"$f":"VLOOKUP(AG810,'Anexo ODS'!$G$3:$P$86,6,0)","v":"Las Personas"},{"$f":"VLOOKUP(AG810,'Anexo ODS'!$G$3:$P$86,7,0)","v":1},{"$f":"VLOOKUP(AG810,'Anexo ODS'!$G$3:$P$86,8,0)","v":"Fin de la pobreza"},{"$f":"VLOOKUP(AG810,'Anexo ODS'!$G$3:$P$86,9,0)","v":"1.2"},{"$f":"VLOOKUP(AG810,'Anexo ODS'!$G$3:$P$86,10,0)","v":"De aquí a 2030, reducir al menos a la mitad la proporción de hombres, mujeres y niños de todas las edades que viven en la pobreza en todas sus dimensiones con arreglo a las definiciones nacionales"},null,null,null,null,null,null,null,null,2773]
[814,13,"Teusaquillo",1,"Hacer un nuevo contrato social con igualdad de oportunidades para la inclusión social, productiva y política",6,"Sistema Distrital de Cuidado",null,null,null,null,814,"Promover en 279 Mipymes y/o emprendimientos procesos de reconversión hacia actividades sostenibles",2094,"Teusaquillo construyendo acciones para el fortalecimiento de capacidades de la gente, la reactivación economica y el impulso empresarial e industrial de la localidad","REACTIVACIÓN","Suma",2,"Promover",279,"Mipymes","y/o emprendimientos procesos de reconversión hacia actividades sostenibles","Promover en 279 Mipymes y/o emprendimientos procesos de reconversión hacia actividades sostenibles.",{"$f":"VLOOKUP(AG815,'Anexo PMR'!$B$4:$G$87,6,0)","v":"2_Presupuestos Participativos 50%"},5,"Desarrollo de la Economía Local","Reactivación y reconversión verde",89,"DESARROLLO ECONÓMICO, INDUSTRIA Y TURISMO",14,"Servicios de asesoría, asistencia técnica integral, dotación y/o apoyo financiero a Mipymes y/o emprendimientos.",22,"Número de Mipymes y/o emprendimientos con procesos de reconversión hacia actividades sostenibles","DESARROLLO DE LA ECONOMÍA LOCAL",null,null,null,0,120,0,159,0,578058000,0,706515000,1284573000,1,0,0,0,0,"Bajo","Bajo",0.16924851835179952,0,0,null,null,null,0,"2021_1",0,0,0,0,0,0,0,0,0,0,0,0,0,"",null,null,null,0,0,0,0,0,null,0,0,0,0,null,null,0,0,0,"",null,null,null,null,null,{"$f":"VLOOKUP(AG815,'Anexo ODS'!$G$3:$P$86,5,0)","v":3},{"$f":"VLOOKUP(AG815,'Anexo ODS'!$G$3:$P$86,6,0)","v":"La Prosperidad"},{"$f":"VLOOKUP(AG815,'Anexo ODS'!$G$3:$P$86,7,0)","v":8},{"$f":"VLOOKUP(AG815,'Anexo ODS'!$G$3:$P$86,8,0)","v":"Trabajo decente y crecimiento económico"},{"$f":"VLOOKUP(AG815,'Anexo ODS'!$G$3:$P$86,9,0)","v":"8.3"},{"$f":"VLOOKUP(AG815,'Anexo ODS'!$G$3:$P$86,10,0)","v":"Promover políticas orientadas al desarrollo que apoyen las actividades productivas, la creación de puestos de trabajo decentes, el emprendimiento, la creatividad y la innovación, y fomentar la formalización y el crecimiento de las microempresas y las pequeñas y medianas empresas, incluso mediante el acceso a servicios financieros"},null,null,null,null,null,null,null,null,279]
[819,13,"Teusaquillo",1,"Hacer un nuevo contrato social con igualdad de oportunidades para la inclusión social, productiva y política",6,"Sistema Distrital de Cuidado",null,null,null,null,819,"Beneficiar 300 personas con discapacidad a través de Dispositivos de Asistencia Personal - Ayudas Técnicas (no incluidas en los Planes de Beneficios).",2113,"Teusaquillo incluyente para las personas con discapacidad y la disminución de factores de riesgo frente al consumo de sustancias psicoactivas","DISPOSITIVOS DE ASISTENCIA PERSONAL","Suma",1,"Beneficiar",300,"Personas","con discapacidad a través de Dispositivos de Asistencia Personal - Ayudas Técnicas (no incluidas en los Planes de Beneficios).","Beneficiar 300 personas con discapacidad a través de Dispositivos de Asistencia Personal - Ayudas Técnicas (no incluidas en los Planes de Beneficios).",{"$f":"VLOOKUP(AG820,'Anexo PMR'!$B$4:$G$87,6,0)","v":"3_Flexible 5%"},11,"Condiciones de salud","Dispositivos de asistencia personal -DAP- Ayudas técnicas a personas con discapacidad (No incluidas en el POS).",91,"SALUD",16,"Promoción, prevención e intervención en salud.",33,"Número de personas con discapacidad beneficiadas con Dispostivos de Asistencia Personal - Ayudas Técnicas (no incluidas en los Planes de Beneficios).","ATENCIÓN  A LA DISCAPACIDAD Y SUS CUIDADORES",null,null,null,75,75,75,75,188000000,188000000,188000000,188000000,752000000,1,0,0,0,0,"Bajo","Bajo",9.9079527438731191E-2,0,0,null,null,null,0,"2021_1",75,75,0,0,0,0,0,0,0,0,0,0,0,"No mueve meta",null,null,null,171028000,171028000,0,0,0,22000000,0,0,0,22000000,458333,458333,0,0,0,"se efectuo contrato de la persona que va a manejar el proyecto",null,null,null,null,null,{"$f":"VLOOKUP(AG820,'Anexo ODS'!$G$3:$P$86,5,0)","v":3},{"$f":"VLOOKUP(AG820,'Anexo ODS'!$G$3:$P$86,6,0)","v":"La Prosperidad"},{"$f":"VLOOKUP(AG820,'Anexo ODS'!$G$3:$P$86,7,0)","v":10},{"$f":"VLOOKUP(AG820,'Anexo ODS'!$G$3:$P$86,8,0)","v":"Reducción de las desigualdades "},{"$f":"VLOOKUP(AG820,'Anexo ODS'!$G$3:$P$86,9,0)","v":"10.2"},{"$f":"VLOOKUP(AG820,'Anexo ODS'!$G$3:$P$86,10,0)","v":"De aquí a 2030, potenciar y promover la inclusión social, económica y política de todas las personas, independientemente de su edad, sexo, discapacidad, raza, etnia, origen, religión o situación económica u otra condición"},null,null,null,null,null,null,null,null,300]
[820,13,"Teusaquillo",1,"Hacer un nuevo contrato social con igualdad de oportunidades para la inclusión social, productiva y política",6,"Sistema Distrital de Cuidado",null,null,null,null,820,"Vincular 480 personas a las acciones desarrolladas desde los dispositivos de base comunitaria en respuesta al consumo de SPA.",2113,"Teusaquillo incluyente para las personas con discapacidad y la disminución de factores de riesgo frente al consumo de sustancias psicoactivas","DISMINUCIÓN FACTORES DE RIESGO SPA","Suma",2,"Vincular",480,"Personas","a las acciones desarrolladas desde los dispositivos de base comunitaria en respuesta al consumo de SPA.","Vincular 480 personas a las acciones desarrolladas desde los dispositivos de base comunitaria en respuesta al consumo de SPA.",{"$f":"VLOOKUP(AG821,'Anexo PMR'!$B$4:$G$87,6,0)","v":"3_Flexible 5%"},11,"Condiciones de salud","Acciones para la disminución de los factores de riesgo frente al consumo de sustancias psicoactivas.",91,"SALUD",16,"Promoción, prevención e intervención en salud.",32,"Números de personas vinculadas a las acciones desarrolladas desde los dispositivos de base comunitaria en respuesta al consumo de SPA.","SPA",null,null,null,120,120,120,120,95000000,105000000,115000000,126000000,441000000,1,0,0,0,0,"Bajo","Bajo",5.8103818617660175E-2,0,0,null,null,null,0,"2021_1",120,120,0,0,0,0,0,0,0,0,0,0,0,"No mueve meta",null,null,null,86423000,86423000,0,0,0,22000000,0,0,0,22000000,458334,458334,0,0,0,"se realizo el contrato de la persona que va a realizar el proyecto",null,null,null,null,null,{"$f":"VLOOKUP(AG821,'Anexo ODS'!$G$3:$P$86,5,0)","v":1},{"$f":"VLOOKUP(AG821,'Anexo ODS'!$G$3:$P$86,6,0)","v":"Las Personas"},{"$f":"VLOOKUP(AG821,'Anexo ODS'!$G$3:$P$86,7,0)","v":3},{"$f":"VLOOKUP(AG821,'Anexo ODS'!$G$3:$P$86,8,0)","v":"Salud y Bienestar"},{"$f":"VLOOKUP(AG821,'Anexo ODS'!$G$3:$P$86,9,0)","v":"3.5"},{"$f":"VLOOKUP(AG821,'Anexo ODS'!$G$3:$P$86,10,0)","v":"Fortalecer la prevención y el tratamiento del abuso de sustancias adictivas, incluido el uso indebido de estupefacientes y el consumo nocivo de alcohol"},null,null,null,null,null,null,null,null,480]
[825,13,"Teusaquillo",1,"Hacer un nuevo contrato social con igualdad de oportunidades para la inclusión social, productiva y política",20,"Bogotá, referente en cultura, deporte, recreación y actividad física, con parques para el desarrollo y la salud",null,null,null,null,825,"Beneficiar 1000 Personas con artículos deportivos entregados.",2072,"Teusaquillo referente en deporte, recreación y actividad física","DOTACIÓN","Suma",1,"Beneficiar",1000,"Personas","con artículos deportivos entregados.","Beneficiar 1000 Personas con artículos deportivos entregados.",{"$f":"VLOOKUP(AG826,'Anexo PMR'!$B$4:$G$87,6,0)","v":"2_Presupuestos Participativos 50%"},7,"Desarrollo social y cultural","Procesos de formación y dotación de insumos para los campos artísticos, interculturales, culturales, patrimoniales y deportivos.",93,"CULTURA, RECREACIÓN Y DEPORTE",7,"Eventos y actividades recreativas y deportivas.",12,"Personas beneficiadas con artículos entregados.","ACTIVIDAD DEPORTIVA",null,null,null,1000,0,0,0,349000000,0,0,0,349000000,1,0,0,0,0,"Bajo","Bajo",0.34585753874878605,0,0,null,null,null,0,"2021_1",0,0,0,0,0,0,0,0,0,0,0,0,0,"No mueve meta",null,null,null,0,0,0,0,0,34000000,0,0,0,34000000,2975000,2975000,0,0,0,"se efectuo el contrato de la persona que va a manejar el proyecto",null,null,null,null,null,{"$f":"VLOOKUP(AG826,'Anexo ODS'!$G$3:$P$86,5,0)","v":1},{"$f":"VLOOKUP(AG826,'Anexo ODS'!$G$3:$P$86,6,0)","v":"Las Personas"},{"$f":"VLOOKUP(AG826,'Anexo ODS'!$G$3:$P$86,7,0)","v":3},{"$f":"VLOOKUP(AG826,'Anexo ODS'!$G$3:$P$86,8,0)","v":"Salud y Bienestar"},{"$f":"VLOOKUP(AG826,'Anexo ODS'!$G$3:$P$86,9,0)","v":"3.d"},{"$f":"VLOOKUP(AG826,'Anexo ODS'!$G$3:$P$86,10,0)","v":"Reforzar la capacidad de todos los países, en particular los países en desarrollo, en materia de alerta temprana, reducción de riesgos y gestión de los riesgos para la salud\nnacional y mundial"},null,null,null,null,null,null,null,null,1000]
[830,13,"Teusaquillo",1,"Hacer un nuevo contrato social con igualdad de oportunidades para la inclusión social, productiva y política",21,"Creación y vida cotidiana: Apropiación ciudadana del arte, la cultura y el patrimonio, para la democracia cultural",null,null,null,null,830,"Realizar 12 eventos de promoción de actividades culturales.",2078,"Teusaquillo promotora del arte, la cultura y el patrimonio","EVENTOS","Suma",1,"Realizar",12,"Eventos","de promoción de actividades culturales.","Realizar 12 eventos de promoción de actividades culturales.",{"$f":"VLOOKUP(AG831,'Anexo PMR'!$B$4:$G$87,6,0)","v":"2_Presupuestos Participativos 50%"},7,"Desarrollo social y cultural","Circulación y apropiación de prácticas artísticas, interculturales, culturales y patrimoniales.",93,"CULTURA, RECREACIÓN Y DEPORTE",8,"Espacios artísticos y culturales.",13,"Eventos de promoción de actividades culturales realizadas","ACTIVIDAD CULTURAL",null,null,null,0,6,0,6,0,269838999,0,329803000,599641999,1,0,0,0,0,"Bajo","Bajo",0.19467581383941468,0,0,null,null,null,0,"2021_1",0,0,0,0,0,0,0,0,0,0,0,0,0,"",null,null,null,0,0,0,0,0,null,0,0,0,0,null,null,0,0,0,"",null,null,null,null,null,{"$f":"VLOOKUP(AG831,'Anexo ODS'!$G$3:$P$86,5,0)","v":3},{"$f":"VLOOKUP(AG831,'Anexo ODS'!$G$3:$P$86,6,0)","v":"La Prosperidad"},{"$f":"VLOOKUP(AG831,'Anexo ODS'!$G$3:$P$86,7,0)","v":11},{"$f":"VLOOKUP(AG831,'Anexo ODS'!$G$3:$P$86,8,0)","v":"Ciudades y comunidades sostenibles"},{"$f":"VLOOKUP(AG831,'Anexo ODS'!$G$3:$P$86,9,0)","v":"11.4"},{"$f":"VLOOKUP(AG831,'Anexo ODS'!$G$3:$P$86,10,0)","v":"Redoblar los esfuerzos para proteger y salvaguardar el patrimonio cultural y natural del mundo"},null,null,null,null,null,null,null,null,12]
[835,13,"Teusaquillo",2,"Cambiar nuestros hábitos de vida para reverdecer a Bogotá y adaptarnos y mitigar el cambio climático.",28,"Bogotá protectora de sus recursos naturales",null,null,null,null,835,"Intervenir 2 hectáreas con procesos de restauración, rehabilitación o recuperación ecológica",2120,"Teusaquillo recupera ecosistemas","RESTAURACIÓN ECOLÓGICA","Suma",1,"Intervenir",2,"Hectáreas","con procesos de restauración, rehabilitación o recuperación ecológica.","Intervenir 2 hectáreas con procesos de restauración, rehabilitación o recuperación ecológica.",{"$f":"VLOOKUP(AG836,'Anexo PMR'!$B$4:$G$87,6,0)","v":"2_Presupuestos Participativos 50%"},8,"Inversiones ambientales sostenibles","Restauración ecológica urbana y/o rural.",94,"AMBIENTE",17,"Calidad ambiental y preservación del patrimonio natural.",41,"Hectáreas en restauración, rehabilitación o recuperación ecológica y mantenimiento ","INTERVENCIONES VERDES",null,null,null,0,1,0,1,0,387892999,0,474091000,861983999,1,0,0,0,0,"Bajo","Bajo",1,0,0,null,null,null,0,"2021_1",0,0,0,0,0,0,0,0,0,0,0,0,0,"",null,null,null,0,0,0,0,0,null,0,0,0,0,null,null,0,0,0,"",null,null,null,null,null,{"$f":"VLOOKUP(AG836,'Anexo ODS'!$G$3:$P$86,5,0)","v":4},{"$f":"VLOOKUP(AG836,'Anexo ODS'!$G$3:$P$86,6,0)","v":"El Planeta"},{"$f":"VLOOKUP(AG836,'Anexo ODS'!$G$3:$P$86,7,0)","v":15},{"$f":"VLOOKUP(AG836,'Anexo ODS'!$G$3:$P$86,8,0)","v":"Vida de ecosistemas terrestres"},{"$f":"VLOOKUP(AG836,'Anexo ODS'!$G$3:$P$86,9,0)","v":"15.1"},{"$f":"VLOOKUP(AG836,'Anexo ODS'!$G$3:$P$86,10,0)","v":"De aquí a 2020, asegurar la conservación, el restablecimiento y el uso sostenible de los ecosistemas terrestres y los ecosistemas interiores de agua dulce y sus servicios, en particular los bosques, los humedales, las montañas y las zonas áridas, en consonancia con las obligaciones contraídas en virtud de acuerdos\ninternacionales"},null,null,null,null,null,null,null,null,2]
[836,13,"Teusaquillo",2,"Cambiar nuestros hábitos de vida para reverdecer a Bogotá y adaptarnos y mitigar el cambio climático.",30,"Eficiencia en la atención de emergencias",null,null,null,null,836,"Desarrollar 1 intervención para la reducción del riesgo y adaptación al cambio climático",2125,"Teusaquillo se previene y se prepara para las emergencias","REDUCCIÓN DEL RIESGO Y ADAPTACIÓN AL CAMBIO CLIMÁTICO","Suma",2,"Desarrollar",1,"Intervenciones","para la reducción del riesgo y adaptación al cambio climático.","Desarrollar 1 intervención para la reducción del riesgo y adaptación al cambio climático.",{"$f":"VLOOKUP(AG837,'Anexo PMR'!$B$4:$G$87,6,0)","v":"2_Presupuestos Participativos 50%"},8,"Inversiones ambientales sostenibles","Mitigación del riesgo.",94,"AMBIENTE",18,"Gestión para la prevención y mitigación del riesgo.",43,"Intervenciones para la reducción del riesgo y adaptación al cambio climático","REDUCCIÓN DEL RIESGO",null,null,null,0,1,0,0,0,211000000,0,0,211000000,1,0,0,0,0,"Bajo","Bajo",0.4310520939734423,0,0,null,null,null,0,"2021_1",0,0,0,0,0,0,0,0,0,0,0,0,0,"",null,null,null,0,0,0,0,0,null,0,0,0,0,null,null,0,0,0,"",null,null,null,null,null,{"$f":"VLOOKUP(AG837,'Anexo ODS'!$G$3:$P$86,5,0)","v":4},{"$f":"VLOOKUP(AG837,'Anexo ODS'!$G$3:$P$86,6,0)","v":"El Planeta"},{"$f":"VLOOKUP(AG837,'Anexo ODS'!$G$3:$P$86,7,0)","v":13},{"$f":"VLOOKUP(AG837,'Anexo ODS'!$G$3:$P$86,8,0)","v":"Acción por el clima"},{"$f":"VLOOKUP(AG837,'Anexo ODS'!$G$3:$P$86,9,0)","v":"13.1"},{"$f":"VLOOKUP(AG837,'Anexo ODS'!$G$3:$P$86,10,0)","v":"Fortalecer la resiliencia y la capacidad de adaptación a los riesgos relacionados con el clima y los desastres naturales en todos los países"},null,null,null,null,null,null,null,null,1]
[841,13,"Teusaquillo",2,"Cambiar nuestros hábitos de vida para reverdecer a Bogotá y adaptarnos y mitigar el cambio climático.",34,"Bogotá protectora de los animales",null,null,null,null,841,"Atender 4000 animales en urgencias, brigadas médico veterinarias, acciones de esterilización, educación y adopción",2142,"Teusaquillo respira bienestar por los animales","BIENESTAR ANIMAL","Suma",1,"Atender",4000,"Animales","en urgencias, brigadas médico veterinarias, acciones de esterilización, educación y adopción.","Atender 4000 animales en urgencias, brigadas médico veterinarias, acciones de esterilización, educación y adopción.",{"$f":"VLOOKUP(AG842,'Anexo PMR'!$B$4:$G$87,6,0)","v":"2_Presupuestos Participativos 50%"},8,"Inversiones ambientales sostenibles","Acuerdos con las redes locales de proteccionistas de animales para urgencias, brigadas médico veterinarias, acciones de esterilización, educación y adopción",94,"AMBIENTE",21,"Servicios de protección y bienestar animal.",48,"Número de animales atendidos","PROTECCIÓN ANIMAL",null,null,null,2000,2000,0,0,558000000,558000000,0,0,1116000000,1,0,0,0,0,"Bajo","Bajo",{"$f":"AT842/SUMIF($F$810:$F$863,F842,$AT$810:$AT$863)","v":1},0,0,null,null,null,0,"2021_1",2000,2000,0,0,0,0,0,0,0,0,0,0,0,"No mueve meta",null,null,null,507851000,507851000,0,0,0,43610000,0,0,0,43610000,0,0,0,0,0,"se realizo el contrato de la persona que va a realizar el proyecto",null,null,null,null,null,{"$f":"VLOOKUP(AG842,'Anexo ODS'!$G$3:$P$86,5,0)","v":3},{"$f":"VLOOKUP(AG842,'Anexo ODS'!$G$3:$P$86,6,0)","v":"La Prosperidad"},{"$f":"VLOOKUP(AG842,'Anexo ODS'!$G$3:$P$86,7,0)","v":11},{"$f":"VLOOKUP(AG842,'Anexo ODS'!$G$3:$P$86,8,0)","v":"Ciudades y comunidades sostenibles"},{"$f":"VLOOKUP(AG842,'Anexo ODS'!$G$3:$P$86,9,0)","v":"11.3"},{"$f":"VLOOKUP(AG842,'Anexo ODS'!$G$3:$P$86,10,0)","v":"De aquí a 2030, aumentar la urbanización inclusiva y sostenible y la capacidad para la planificación y la gestión participativas, integradas y sostenibles de los asentamientos\nhumanos en todos los países"},null,null,null,null,null,null,null,null,4000]
[846,13,"Teusaquillo",3,"Inspirar confianza y legitimidad para vivir sin miedo y ser epicentro de cultura ciudadana, paz y reconciliación.",43,"Cultura ciudadana para la confianza, la convivencia y la participación desde la vida cotidiana",null,null,null,null,846,"Implementar 2 estrategias de atención de movilizaciones y aglomeraciones en el territorio a través de equipos de gestores de convivencia bajo el direccionamiento estratégico de la Secretaria de Seguridad, Convivencia y Justicia",2164,"Teusaquillo respira confianza y seguridad ciudadana","GESTORES DE CONVIVENCIA","Suma",1,"Implementar",2,"Estrategias","de atención de movilizaciones y aglomeraciones en el territorio a través de equipos de gestores de convivencia bajo el direccionamiento estratégico de la Secretaria de Seguridad, Convivencia y Justicia.","Implementar 2 estrategias de atención de movilizaciones y aglomeraciones en el territorio a través de equipos de gestores de convivencia bajo el direccionamiento estratégico de la Secretaria de Seguridad, Convivencia y Justicia.",{"$f":"VLOOKUP(AG847,'Anexo PMR'!$B$4:$G$87,6,0)","v":"2_Presupuestos Participativos 50%"},7,"Desarrollo social y cultural","Promoción de la convivencia ciudadana.",102,"SEGURIDAD, CONVIVENCIA Y JUSTICIA",27,"Prevención, atención y gestión del conflicto en la localidad.",55,"Estrategia de atención de movilizaciones y aglomeraciones en el territorio implementada a traves de equipos de gestores de convivencia bajo el direccionamiento estrategico de la Secretaria de Seguridad, Convivencia y Justicia","ACCIONES DE CONVIVENCIA",null,null,null,1,0,1,0,330000000,0,328724999,0,658724999,1,1,0.5,0,0,"Medio","Bajo",1,0.5,0,null,null,null,0,"2021_1",1,1,0,0,0,1,0,0,0,0,0,0,0,"Incompleto",null,null,null,300208000,300208000,0,0,0,300146667,0,0,0,300146667,1856667,1856667,0,0,0,"las personas contratadas son gestores de convivencia",null,null,null,null,null,{"$f":"VLOOKUP(AG847,'Anexo ODS'!$G$3:$P$86,5,0)","v":2},{"$f":"VLOOKUP(AG847,'Anexo ODS'!$G$3:$P$86,6,0)","v":"La Paz"},{"$f":"VLOOKUP(AG847,'Anexo ODS'!$G$3:$P$86,7,0)","v":16},{"$f":"VLOOKUP(AG847,'Anexo ODS'!$G$3:$P$86,8,0)","v":"Paz, justicia e instituciones sólidas"},{"$f":"VLOOKUP(AG847,'Anexo ODS'!$G$3:$P$86,9,0)","v":"16.1"},{"$f":"VLOOKUP(AG847,'Anexo ODS'!$G$3:$P$86,10,0)","v":"Reducir significativamente todas las formas de violencia y las correspondientes tasas de mortalidad en todo el mundo"},null,null,null,null,null,null,null,null,2]
[851,13,"Teusaquillo",3,"Inspirar confianza y legitimidad para vivir sin miedo y ser epicentro de cultura ciudadana, paz y reconciliación.",48,"Plataforma institucional para la seguridad y justicia",null,null,null,null,851,"Suministrar 2 dotaciones tecnológicas a organismos de seguridad",2148,"Teusaquillo una localidad para la paz, la concertación y el cuidado","DOTACIÓN","Suma",1,"Suministrar",2,"Dotaciones","tecnológicas a organismos de seguridad.","Suministrar 2 dotaciones tecnológicas a organismos de seguridad.",{"$f":"VLOOKUP(AG852,'Anexo PMR'!$B$4:$G$87,6,0)","v":"2_Presupuestos Participativos 50%"},7,"Desarrollo social y cultural","Dotación para instancias de seguridad.",102,"SEGURIDAD, CONVIVENCIA Y JUSTICIA",30,"Infraestructura y dotaciones para seguridad.",65,"Dotaciones tecnológicas suministradas a organismos de seguridad.","DOTACIÓN EN SEGURIDAD",null,null,null,1,0,1,0,201000000,0,200900000,0,401900000,1,0,0,0,0,"Bajo","Bajo",0.28165954166374657,0,0,null,null,null,0,"2021_1",1,1,0,0,0,0,0,0,0,0,0,0,0,"",null,null,null,182763000,182763000,0,0,0,null,0,0,0,0,null,null,0,0,0,"",null,null,null,null,null,{"$f":"VLOOKUP(AG852,'Anexo ODS'!$G$3:$P$86,5,0)","v":2},{"$f":"VLOOKUP(AG852,'Anexo ODS'!$G$3:$P$86,6,0)","v":"La Paz"},{"$f":"VLOOKUP(AG852,'Anexo ODS'!$G$3:$P$86,7,0)","v":16},{"$f":"VLOOKUP(AG852,'Anexo ODS'!$G$3:$P$86,8,0)","v":"Paz, justicia e instituciones sólidas"},{"$f":"VLOOKUP(AG852,'Anexo ODS'!$G$3:$P$86,9,0)","v":"16.a"},{"$f":"VLOOKUP(AG852,'Anexo ODS'!$G$3:$P$86,10,0)","v":"Fortalecer las instituciones nacionales pertinentes, incluso mediante la cooperación internacional, para crear a todos los niveles, particularmente en los países en desarrollo, la capacidad de prevenir la violencia y combatir el terrorismo y la delincuencia"},null,null,null,null,null,null,null,null,2]
[852,13,"Teusaquillo",3,"Inspirar confianza y legitimidad para vivir sin miedo y ser epicentro de cultura ciudadana, paz y reconciliación.",48,"Plataforma institucional para la seguridad y justicia",null,null,null,null,852,"Atender 500 personas en estrategias de acceso a la justicia integral en la ciudad",2167,"Teusaquillo Localidad accesible y justa","JUECES DE PAZ","Suma",1,"Atender",500,"Personas","acceso a la justicia integral en la ciudad","Atender 500 personas en estrategias de acceso a la justicia integral en la ciudad.",{"$f":"VLOOKUP(AG853,'Anexo PMR'!$B$4:$G$87,6,0)","v":"2_Presupuestos Participativos 50%"},7,"Desarrollo social y cultural","Acceso a la Justicia.",102,"SEGURIDAD, CONVIVENCIA Y JUSTICIA",29,"Bienes y  servicios de apoyo para el fortalecimiento de la justicia comunitaria y la justicia integral en la ciudad.",62,"Personas atendidas en estrategias de acceso a la justicia integral en la ciudad.","ACCESO A LA JUSTICIA",null,null,null,0,0,250,250,0,0,249000000,374100000,623100000,1,0,0,0,0,"Bajo","Bajo",0.43668091667250686,0,0,null,null,null,0,"2021_1",0,0,0,0,0,0,0,0,0,0,0,0,0,"",null,null,null,0,0,0,0,0,null,0,0,0,0,null,null,0,0,0,"",null,null,null,null,null,{"$f":"VLOOKUP(AG853,'Anexo ODS'!$G$3:$P$86,5,0)","v":2},{"$f":"VLOOKUP(AG853,'Anexo ODS'!$G$3:$P$86,6,0)","v":"La Paz"},{"$f":"VLOOKUP(AG853,'Anexo ODS'!$G$3:$P$86,7,0)","v":16},{"$f":"VLOOKUP(AG853,'Anexo ODS'!$G$3:$P$86,8,0)","v":"Paz, justicia e instituciones sólidas"},{"$f":"VLOOKUP(AG853,'Anexo ODS'!$G$3:$P$86,9,0)","v":"16.3"},{"$f":"VLOOKUP(AG853,'Anexo ODS'!$G$3:$P$86,10,0)","v":"Promover el estado de derecho en los planos nacional e internacional y garantizar la igualdad de acceso a la justicia para todos"},null,null,null,null,null,null,null,null,500]
[857,13,"Teusaquillo",5,"Construir Bogotá-región con gobierno abierto, transparente y ciudadanía consciente.",55,"Fortalecimiento de Cultura Ciudadana y su institucionalidad",null,null,null,null,857,"Capacitar 500 personas a través de procesos de formación para la participación de manera virtual y presencial.",2158,"Teusaquillo, un nuevo contrato social para la Participación","FORMACIÓN","Suma",2,"Capacitar",500,"Personas","a través de procesos de formación para la participación de manera virtual y presencial.","Capacitar 500 personas a través de procesos de formación para la participación de manera virtual y presencial.",{"$f":"VLOOKUP(AG858,'Anexo PMR'!$B$4:$G$87,6,0)","v":"2_Presupuestos Participativos 50%"},7,"Desarrollo social y cultural","Escuelas y procesos de formación para la participación ciudadana y/u organizaciones para los procesos de presupuestos participativos.",98,"GOBIERNO",35,"Espacios y procesos de participación ciudadana fortalecidos. ",78,"Número de Personas capacitadas a través de procesos de formación para la participación de manera virtual y presencial.","FORMACIÓN CIUDADANA",null,null,null,250,0,250,0,252000000,0,252000000,0,504000000,1,0,0,0,0,"Bajo","Bajo",0.25477642623225422,0,0,null,null,null,0,"2021_1",250,250,0,0,0,0,0,0,0,0,0,0,0,"No mueve meta",null,null,null,229250000,229250000,0,0,0,114074633,0,0,0,114074633,1012500,1012500,0,0,0,"se realizo el contrato de las personas que van a realizar el proyecto",null,null,null,null,null,{"$f":"VLOOKUP(AG858,'Anexo ODS'!$G$3:$P$86,5,0)","v":2},{"$f":"VLOOKUP(AG858,'Anexo ODS'!$G$3:$P$86,6,0)","v":"La Paz"},{"$f":"VLOOKUP(AG858,'Anexo ODS'!$G$3:$P$86,7,0)","v":16},{"$f":"VLOOKUP(AG858,'Anexo ODS'!$G$3:$P$86,8,0)","v":"Paz, justicia e instituciones sólidas"},{"$f":"VLOOKUP(AG858,'Anexo ODS'!$G$3:$P$86,9,0)","v":"16.7"},{"$f":"VLOOKUP(AG858,'Anexo ODS'!$G$3:$P$86,10,0)","v":"Garantizar la adopción en todos los niveles de decisiones inclusivas, participativas y representativas que respondan a las necesidades"},null,null,null,null,null,null,null,null,500]
[862,13,"Teusaquillo",5,"Construir Bogotá-región con gobierno abierto, transparente y ciudadanía consciente.",57,"Gestión Pública Local",null,null,null,null,862,"Realizar 4 acciones de inspección, vigilancia y control.",2172,"Teusaquillo con acciones de IVC transparentes","IVC","Suma",1,"Realizar",4,"Acciones","de inspección, vigilancia y control","Realizar 4 acciones de inspección, vigilancia y control.",{"$f":"VLOOKUP(AG863,'Anexo PMR'!$B$4:$G$87,6,0)","v":"1_Inflexible 45%"},2,"Inspección, vigilancia y control","Inspección, vigilancia y control.",98,"GOBIERNO",38,"Inspección, vigilancia y control (IVC).",84,"Acciones de inspección, vigilancia y control realizadas","IVC",null,null,null,1,1,1,1,924000000,946400000,969400000,993300000,3833100000,1,1,0.25,1,0.25,"Bajo","Bajo",0.34606946488384899,8.6517366220962247E-2,8.6517366220962247E-2,null,null,null,0,"2021_1",1,1,0,0,0,1,0,0,0,1,0,0,0,"Incompleto",null,null,null,840946000,840946000,0,0,0,536480000,0,0,0,536480000,16971867,16971867,0,0,0,"la contratacion adelantada hace parte del desarrollo de ivc",null,null,null,null,null,{"$f":"VLOOKUP(AG863,'Anexo ODS'!$G$3:$P$86,5,0)","v":2},{"$f":"VLOOKUP(AG863,'Anexo ODS'!$G$3:$P$86,6,0)","v":"La Paz"},{"$f":"VLOOKUP(AG863,'Anexo ODS'!$G$3:$P$86,7,0)","v":16},{"$f":"VLOOKUP(AG863,'Anexo ODS'!$G$3:$P$86,8,0)","v":"Paz, justicia e instituciones sólidas"},{"$f":"VLOOKUP(AG863,'Anexo ODS'!$G$3:$P$86,9,0)","v":"16.6"},{"$f":"VLOOKUP(AG863,'Anexo ODS'!$G$3:$P$86,10,0)","v":"Garantizar el acceso público a la información y proteger las libertades fundamentales, de conformidad con las leyes nacionales y los acuerdos internacionales"},null,null,null,null,null,null,null,null,4]
[867,14,"Los Mártires",1,"Hacer un nuevo contrato social con igualdad de oportunidades para la inclusión social, productiva y política",6,"Sistema Distrital de Cuidado",null,null,null,null,867,"Apoyar 140 MiPymes y/o emprendimientos con transformación empresarial y/o productiva",2060,"Localidad emprendedora y sostenible","TRANSFORMACIÓN PRODUCTIVA","Suma",null,"Apoyar",140,"Mipymes","y/o emprendimientos con transformación empresarial y/o productiva","Apoyar 140 MiPymes y/o emprendimientos con transformación empresarial y/o productiva",{"$f":"VLOOKUP(AG868,'Anexo PMR'!$B$4:$G$87,6,0)","v":"2_Presupuestos Participativos 50%"},5,"Desarrollo de la Economía Local","Transformación productiva y formación de capacidades",89,"DESARROLLO ECONÓMICO, INDUSTRIA Y TURISMO",14,"Servicios de asesoría, asistencia técnica integral, dotación y/o apoyo financiero a Mipymes y/o emprendimientos.",23,"Número de Mipymes y/o emprendimientos con transformacion empresarial y/o productiva","DESARROLLO DE LA ECONOMÍA LOCAL",null,null,null,40,40,40,20,360000000,360000000,350000000,363000000,1433000000,1,0,0,0,0,"Bajo","Bajo",0.12701648643857472,0,0,null,null,null,0,"2021_1",40,40,0,0,0,0,0,0,0,0,0,0,0,"",null,null,null,324438000,324438000,0,0,0,null,0,0,0,0,null,null,0,0,0,"",null,null,null,null,null,{"$f":"VLOOKUP(AG868,'Anexo ODS'!$G$3:$P$86,5,0)","v":3},{"$f":"VLOOKUP(AG868,'Anexo ODS'!$G$3:$P$86,6,0)","v":"La Prosperidad"},{"$f":"VLOOKUP(AG868,'Anexo ODS'!$G$3:$P$86,7,0)","v":8},{"$f":"VLOOKUP(AG868,'Anexo ODS'!$G$3:$P$86,8,0)","v":"Trabajo decente y crecimiento económico"},{"$f":"VLOOKUP(AG868,'Anexo ODS'!$G$3:$P$86,9,0)","v":"8.3"},{"$f":"VLOOKUP(AG868,'Anexo ODS'!$G$3:$P$86,10,0)","v":"Promover políticas orientadas al desarrollo que apoyen las actividades productivas, la creación de puestos de trabajo decentes, el emprendimiento, la creatividad y la innovación, y fomentar la formalización y el crecimiento de las microempresas y las pequeñas y medianas empresas, incluso mediante el acceso a servicios financieros"},null,null,null,null,null,null,null,null,140]
[868,14,"Los Mártires",1,"Hacer un nuevo contrato social con igualdad de oportunidades para la inclusión social, productiva y política",6,"Sistema Distrital de Cuidado",null,null,null,null,868,"Apoyar 170 MiPymes y/o emprendimientos culturales y creativos",2060,"Localidad emprendedora y sostenible","FORTALECIMIENTO MIPYMES","Suma",null,"Apoyar",170,"Mipymes","y/o emprendimientos culturales y creativos","Apoyar 170 MiPymes y/o emprendimientos culturales y creativos",{"$f":"VLOOKUP(AG869,'Anexo PMR'!$B$4:$G$87,6,0)","v":"2_Presupuestos Participativos 50%"},5,"Desarrollo de la Economía Local","Apoyo a industrias culturales y creativas.",89,"DESARROLLO ECONÓMICO, INDUSTRIA Y TURISMO",14,"Servicios de asesoría, asistencia técnica integral, dotación y/o apoyo financiero a Mipymes y/o emprendimientos.",21,"Número de Mipymes y/o emprendimientos culturales y creativos apoyados","DESARROLLO DE LA ECONOMÍA LOCAL",null,null,null,50,50,50,20,341000000,481000000,408000000,470000000,1700000000,1,0,0,0,0,"Bajo","Bajo",0.15068250310228684,0,0,null,null,null,0,"2021_1",50,50,0,0,0,0,0,0,0,0,0,0,0,"",null,null,null,307314000,307314000,0,0,0,null,0,0,0,0,null,null,0,0,0,"",null,null,null,null,null,{"$f":"VLOOKUP(AG869,'Anexo ODS'!$G$3:$P$86,5,0)","v":3},{"$f":"VLOOKUP(AG869,'Anexo ODS'!$G$3:$P$86,6,0)","v":"La Prosperidad"},{"$f":"VLOOKUP(AG869,'Anexo ODS'!$G$3:$P$86,7,0)","v":8},{"$f":"VLOOKUP(AG869,'Anexo ODS'!$G$3:$P$86,8,0)","v":"Trabajo decente y crecimiento económico"},{"$f":"VLOOKUP(AG869,'Anexo ODS'!$G$3:$P$86,9,0)","v":"8.3"},{"$f":"VLOOKUP(AG869,'Anexo ODS'!$G$3:$P$86,10,0)","v":"Promover políticas orientadas al desarrollo que apoyen las actividades productivas, la creación de puestos de trabajo decentes, el emprendimiento, la creatividad y la innovación, y fomentar la formalización y el crecimiento de las microempresas y las pequeñas y medianas empresas, incluso mediante el acceso a servicios financieros"},null,null,null,null,null,null,null,null,170]
[873,14,"Los Mártires",1,"Hacer un nuevo contrato social con igualdad de oportunidades para la inclusión social, productiva y política",6,"Sistema Distrital de Cuidado",null,null,null,null,873,"Vincular 400 personas a las acciones desarrolladas desde los dispositivos de base comunitaria en respuesta al consumo de SPA.",2065,"Mártires cuidadora","DISMINUCIÓN FACTORES DE RIESGO SPA","Suma",null,"Vincular",400,"Personas","a las acciones desarrolladas desde los dispositivos de base comunitaria en respuesta al consumo de SPA.","Vincular 400 personas a las acciones desarrolladas desde los dispositivos de base comunitaria en respuesta al consumo de SPA.",{"$f":"VLOOKUP(AG874,'Anexo PMR'!$B$4:$G$87,6,0)","v":"3_Flexible 5%"},11,"Condiciones de salud","Acciones para la disminución de los factores de riesgo frente al consumo de sustancias psicoactivas.",91,"SALUD",16,"Promoción, prevención e intervención en salud.",32,"Números de personas vinculadas a las acciones desarrolladas desde los dispositivos de base comunitaria en respuesta al consumo de SPA.","SPA",null,null,null,100,100,100,100,138000000,127000000,117000000,108000000,490000000,1,0,0,0,0,"Bajo","Bajo",4.3432015600070907E-2,0,0,null,null,null,0,"2021_1",100,100,0,0,0,0,0,0,0,0,0,0,0,"",null,null,null,60000000,60000000,0,0,0,null,0,0,0,0,null,null,0,0,0,"",null,null,null,null,null,{"$f":"VLOOKUP(AG874,'Anexo ODS'!$G$3:$P$86,5,0)","v":1},{"$f":"VLOOKUP(AG874,'Anexo ODS'!$G$3:$P$86,6,0)","v":"Las Personas"},{"$f":"VLOOKUP(AG874,'Anexo ODS'!$G$3:$P$86,7,0)","v":3},{"$f":"VLOOKUP(AG874,'Anexo ODS'!$G$3:$P$86,8,0)","v":"Salud y Bienestar"},{"$f":"VLOOKUP(AG874,'Anexo ODS'!$G$3:$P$86,9,0)","v":"3.5"},{"$f":"VLOOKUP(AG874,'Anexo ODS'!$G$3:$P$86,10,0)","v":"Fortalecer la prevención y el tratamiento del abuso de sustancias adictivas, incluido el uso indebido de estupefacientes y el consumo nocivo de alcohol"},null,null,null,null,null,null,null,null,400]
[878,14,"Los Mártires",1,"Hacer un nuevo contrato social con igualdad de oportunidades para la inclusión social, productiva y política",12,"Educación inicial: Bases sólidas para la vida",null,null,null,null,878,"Implementar 8 Proyectos para el desarrollo integral de la primera infancia y la relación escuela, familia y comunidad.",2047,"Educación inicial para el desarrollo integral","EDUCACIÓN INICIAL","Constante",null,"Implementar",8,"Proyectos","para el desarrollo integral de la primera infancia y la relación escuela, familia y comunidad.","Implementar 8 Proyectos para el desarrollo integral de la primera infancia y la relación escuela, familia y comunidad.",{"$f":"VLOOKUP(AG879,'Anexo PMR'!$B$4:$G$87,6,0)","v":"1_Inflexible 45%"},4,"Educación superior y primera infancia (10%)","Apoyo para educación inicial.",90,"EDUCACIÓN",2,"Protección integral a niños y niñas y adolescentes.",3,"Proyectos para el desarrollo integral de la primera infancia y la relación escuela, familia y comunidad.","PROYECTOS PRIMERA INFANCIA",null,null,null,8,8,8,8,523000000,539000000,556000000,574000000,2192000000,1,0,0,0,0,"Bajo","Bajo",1,0,0,null,null,null,0,"2021_1",8,8,0,0,0,0,0,0,0,0,0,0,0,"",null,null,null,471336000,471336000,0,0,0,null,0,0,0,0,null,null,0,0,0,"",null,null,null,null,null,{"$f":"VLOOKUP(AG879,'Anexo ODS'!$G$3:$P$86,5,0)","v":1},{"$f":"VLOOKUP(AG879,'Anexo ODS'!$G$3:$P$86,6,0)","v":"Las Personas"},{"$f":"VLOOKUP(AG879,'Anexo ODS'!$G$3:$P$86,7,0)","v":4},{"$f":"VLOOKUP(AG879,'Anexo ODS'!$G$3:$P$86,8,0)","v":"Educación de calidad"},{"$f":"VLOOKUP(AG879,'Anexo ODS'!$G$3:$P$86,9,0)","v":"4.2"},{"$f":"VLOOKUP(AG879,'Anexo ODS'!$G$3:$P$86,10,0)","v":"De aquí a 2030, asegurar que todas las niñas y todos los niños tengan acceso a servicios de atención y desarrollo en la primera infancia y educación preescolar de calidad, a fin de que estén preparados para la enseñanza primaria."},null,null,null,null,null,null,null,null,8]
[883,14,"Los Mártires",1,"Hacer un nuevo contrato social con igualdad de oportunidades para la inclusión social, productiva y política",20,"Bogotá, referente en cultura, deporte, recreación y actividad física, con parques para el desarrollo y la salud",null,null,null,null,883,"Beneficiar 60 Personas con artículos deportivos entregados.",2075,"Recreación y deporte para una vida más sana","DOTACIÓN","Suma",null,"Beneficiar",60,"Personas","con artículos deportivos entregados.","Beneficiar 60 Personas con artículos entregados.",{"$f":"VLOOKUP(AG884,'Anexo PMR'!$B$4:$G$87,6,0)","v":"2_Presupuestos Participativos 50%"},7,"Desarrollo social y cultural","Procesos de formación y dotación de insumos para los campos artísticos, interculturales, culturales, patrimoniales y deportivos.",93,"CULTURA, RECREACIÓN Y DEPORTE",7,"Eventos y actividades recreativas y deportivas.",12,"Personas beneficiadas con artículos entregados.","ACTIVIDAD DEPORTIVA",null,null,null,30,0,0,30,291000000,0,0,291000000,582000000,1,0,0,0,0,"Bajo","Bajo",0.27806975633062592,0,0,null,null,null,0,"2021_1",30,30,0,0,0,0,0,0,0,0,0,0,0,"",null,null,null,240000000,240000000,0,0,0,null,0,0,0,0,null,null,0,0,0,"",null,null,null,null,null,{"$f":"VLOOKUP(AG884,'Anexo ODS'!$G$3:$P$86,5,0)","v":1},{"$f":"VLOOKUP(AG884,'Anexo ODS'!$G$3:$P$86,6,0)","v":"Las Personas"},{"$f":"VLOOKUP(AG884,'Anexo ODS'!$G$3:$P$86,7,0)","v":3},{"$f":"VLOOKUP(AG884,'Anexo ODS'!$G$3:$P$86,8,0)","v":"Salud y Bienestar"},{"$f":"VLOOKUP(AG884,'Anexo ODS'!$G$3:$P$86,9,0)","v":"3.d"},{"$f":"VLOOKUP(AG884,'Anexo ODS'!$G$3:$P$86,10,0)","v":"Reforzar la capacidad de todos los países, en particular los países en desarrollo, en materia de alerta temprana, reducción de riesgos y gestión de los riesgos para la salud\nnacional y mundial"},null,null,null,null,null,null,null,null,60]
[884,14,"Los Mártires",1,"Hacer un nuevo contrato social con igualdad de oportunidades para la inclusión social, productiva y política",20,"Bogotá, referente en cultura, deporte, recreación y actividad física, con parques para el desarrollo y la salud",null,null,null,null,884,"Capacitar 200 Personas en los campos deportivos",2075,"Recreación y deporte para una vida más sana","DOTACIÓN","Suma",null,"Capacitar",200,"Personas","en los campos deportivos","Capacitar 200 Personas en los campos deportivos",{"$f":"VLOOKUP(AG885,'Anexo PMR'!$B$4:$G$87,6,0)","v":"2_Presupuestos Participativos 50%"},7,"Desarrollo social y cultural","Procesos de formación y dotación de insumos para los campos artísticos, interculturales, culturales, patrimoniales y deportivos.",93,"CULTURA, RECREACIÓN Y DEPORTE",7,"Eventos y actividades recreativas y deportivas.",12,"Personas beneficiadas con artículos entregados.","ACTIVIDAD DEPORTIVA",null,null,null,0,0,0,200,0,0,0,355000000,355000000,1,0,0,0,0,"Bajo","Bajo",0.16961299569995222,0,0,null,null,null,0,"2021_1",0,0,0,0,0,0,0,0,0,0,0,0,0,"",null,null,null,0,0,0,0,0,null,0,0,0,0,null,null,0,0,0,"",null,null,null,null,null,{"$f":"VLOOKUP(AG885,'Anexo ODS'!$G$3:$P$86,5,0)","v":1},{"$f":"VLOOKUP(AG885,'Anexo ODS'!$G$3:$P$86,6,0)","v":"Las Personas"},{"$f":"VLOOKUP(AG885,'Anexo ODS'!$G$3:$P$86,7,0)","v":3},{"$f":"VLOOKUP(AG885,'Anexo ODS'!$G$3:$P$86,8,0)","v":"Salud y Bienestar"},{"$f":"VLOOKUP(AG885,'Anexo ODS'!$G$3:$P$86,9,0)","v":"3.d"},{"$f":"VLOOKUP(AG885,'Anexo ODS'!$G$3:$P$86,10,0)","v":"Reforzar la capacidad de todos los países, en particular los países en desarrollo, en materia de alerta temprana, reducción de riesgos y gestión de los riesgos para la salud\nnacional y mundial"},null,null,null,null,null,null,null,null,200]
[889,14,"Los Mártires",1,"Hacer un nuevo contrato social con igualdad de oportunidades para la inclusión social, productiva y política",21,"Creación y vida cotidiana: Apropiación ciudadana del arte, la cultura y el patrimonio, para la democracia cultural",null,null,null,null,889,"Realizar 15 eventos de promoción de actividades culturales",2070,"Promoción de la democracia local por medio del arte y la cultura","EVENTOS","Suma",null,"Realizar",15,"Eventos","de promoción de actividades culturales.","Realizar 15 eventos de promoción de actividades culturales",{"$f":"VLOOKUP(AG890,'Anexo PMR'!$B$4:$G$87,6,0)","v":"2_Presupuestos Participativos 50%"},7,"Desarrollo social y cultural","Circulación y apropiación de prácticas artísticas, interculturales, culturales y patrimoniales.",93,"CULTURA, RECREACIÓN Y DEPORTE",8,"Espacios artísticos y culturales.",13,"Eventos de promoción de actividades culturales realizadas","ACTIVIDAD CULTURAL",null,null,null,0,5,5,5,0,257000000,257000000,257000000,771000000,1,0,0,0,0,"Bajo","Bajo",0.24648337595907929,0,0,null,null,null,0,"2021_1",0,0,0,0,0,0,0,0,0,0,0,0,0,"",null,null,null,0,0,0,0,0,null,0,0,0,0,null,null,0,0,0,"",null,null,null,null,null,{"$f":"VLOOKUP(AG890,'Anexo ODS'!$G$3:$P$86,5,0)","v":3},{"$f":"VLOOKUP(AG890,'Anexo ODS'!$G$3:$P$86,6,0)","v":"La Prosperidad"},{"$f":"VLOOKUP(AG890,'Anexo ODS'!$G$3:$P$86,7,0)","v":11},{"$f":"VLOOKUP(AG890,'Anexo ODS'!$G$3:$P$86,8,0)","v":"Ciudades y comunidades sostenibles"},{"$f":"VLOOKUP(AG890,'Anexo ODS'!$G$3:$P$86,9,0)","v":"11.4"},{"$f":"VLOOKUP(AG890,'Anexo ODS'!$G$3:$P$86,10,0)","v":"Redoblar los esfuerzos para proteger y salvaguardar el patrimonio cultural y natural del mundo"},null,null,null,null,null,null,null,null,15]
[894,14,"Los Mártires",2,"Cambiar nuestros hábitos de vida para reverdecer a Bogotá y adaptarnos y mitigar el cambio climático.",27,"Cambio cultural para la gestión de la crisis climática",null,null,null,null,894,"Intervenir 800 m2 de jardinería y coberturas verdes",2086,"Gestión ante la crisis climática","JARDINERÍA","Suma",null,"Intervenir",800,"Metros cuadrados","de jardinería y coberturas verdes.","Intervenir 800 m2 de jardinería y coberturas verdes",{"$f":"VLOOKUP(AG895,'Anexo PMR'!$B$4:$G$87,6,0)","v":"2_Presupuestos Participativos 50%"},8,"Inversiones ambientales sostenibles","Eco-urbanismo.",94,"AMBIENTE",17,"Calidad ambiental y preservación del patrimonio natural.",40,"m2 de jardinería y coberturas verdes","INTERVENCIONES VERDES",null,null,null,0,500,0,300,0,120000000,0,107000000,227000000,1,0,0,0,0,"Bajo","Bajo",0.19484978540772532,0,0,null,null,null,0,"2021_1",0,0,0,0,0,0,0,0,0,0,0,0,0,"",null,null,null,0,0,0,0,0,null,0,0,0,0,null,null,0,0,0,"",null,null,null,null,null,{"$f":"VLOOKUP(AG895,'Anexo ODS'!$G$3:$P$86,5,0)","v":3},{"$f":"VLOOKUP(AG895,'Anexo ODS'!$G$3:$P$86,6,0)","v":"La Prosperidad"},{"$f":"VLOOKUP(AG895,'Anexo ODS'!$G$3:$P$86,7,0)","v":11},{"$f":"VLOOKUP(AG895,'Anexo ODS'!$G$3:$P$86,8,0)","v":"Ciudades y comunidades sostenibles"},{"$f":"VLOOKUP(AG895,'Anexo ODS'!$G$3:$P$86,9,0)","v":"11.3"},{"$f":"VLOOKUP(AG895,'Anexo ODS'!$G$3:$P$86,10,0)","v":"De aquí a 2030, aumentar la urbanización inclusiva y sostenible y la capacidad para la planificación y la gestión participativas, integradas y sostenibles de los asentamientos"},null,null,null,null,null,null,null,null,800]
[899,14,"Los Mártires",2,"Cambiar nuestros hábitos de vida para reverdecer a Bogotá y adaptarnos y mitigar el cambio climático.",33,"Más árboles y más y mejor espacio público ",null,null,null,null,899,"Intervenir 700 m2 de Parques vecinales y/o de bolsillo construidos y dotados",2092,"Mártires reverdece","INTERVENCIÓN","Suma",null,"Intervenir",700,"Metros cuadrados","de Parques vecinales y/o de bolsillo construidos y dotados","Intervenir 700 m2 de Parques vecinales y/o de bolsillo construidos y dotados",{"$f":"VLOOKUP(AG900,'Anexo PMR'!$B$4:$G$87,6,0)","v":"2_Presupuestos Participativos 50%"},6,"Infraestructura","Construcción, mantenimiento y dotación de parques vecinales y/o de bolsillo.",93,"CULTURA, RECREACIÓN Y DEPORTE",20,"Parques y escenarios deportivos.",47,"Número de Parques vecinales y/o de bolsillo intervenidos en mejoramiento, mantenimiento y/o dotación","PARQUES",null,null,null,0,0,350,350,0,0,250000000,300000000,550000000,1,0,0,0,0,"Bajo","Bajo",0.27735753908219868,0,0,null,null,null,0,"2021_1",0,0,0,0,0,0,0,0,0,0,0,0,0,"",null,null,null,0,0,0,0,0,null,0,0,0,0,null,null,0,0,0,"",null,null,null,null,null,{"$f":"VLOOKUP(AG900,'Anexo ODS'!$G$3:$P$86,5,0)","v":3},{"$f":"VLOOKUP(AG900,'Anexo ODS'!$G$3:$P$86,6,0)","v":"La Prosperidad"},{"$f":"VLOOKUP(AG900,'Anexo ODS'!$G$3:$P$86,7,0)","v":11},{"$f":"VLOOKUP(AG900,'Anexo ODS'!$G$3:$P$86,8,0)","v":"Ciudades y comunidades sostenibles"},{"$f":"VLOOKUP(AG900,'Anexo ODS'!$G$3:$P$86,9,0)","v":"11.7"},{"$f":"VLOOKUP(AG900,'Anexo ODS'!$G$3:$P$86,10,0)","v":"De aquí a 2030, proporcionar acceso universal a zonas verdes y espacios públicos seguros, inclusivos y accesibles, en particular para las mujeres y los niños, las personas de edad y las personas con discapacidad"},null,null,null,null,null,null,null,null,700]
[900,14,"Los Mártires",2,"Cambiar nuestros hábitos de vida para reverdecer a Bogotá y adaptarnos y mitigar el cambio climático.",33,"Más árboles y más y mejor espacio público ",null,null,null,null,900,"Mantener 4000 árboles urbanos",2092,"Mártires reverdece","ARBORIZACIÓN","Suma",null,"Mantener",4000,"Árboles","urbanos","Mantener 4000 árboles urbanos",{"$f":"VLOOKUP(AG901,'Anexo PMR'!$B$4:$G$87,6,0)","v":"2_Presupuestos Participativos 50%"},8,"Inversiones ambientales sostenibles","Arbolado urbano y/o rural.",94,"AMBIENTE",19,"Plantación y mantenimiento de árboles, jardines y especies vegetales. ",44,"Número de árboles mantenidos","ARBOLADO",null,null,null,0,0,2000,2000,0,0,240000000,260000000,500000000,1,0,0,0,0,"Bajo","Bajo",0.25214321734745337,0,0,null,null,null,0,"2021_1",0,0,0,0,0,0,0,0,0,0,0,0,0,"",null,null,null,0,0,0,0,0,null,0,0,0,0,null,null,0,0,0,"",null,null,null,null,null,{"$f":"VLOOKUP(AG901,'Anexo ODS'!$G$3:$P$86,5,0)","v":4},{"$f":"VLOOKUP(AG901,'Anexo ODS'!$G$3:$P$86,6,0)","v":"El Planeta"},{"$f":"VLOOKUP(AG901,'Anexo ODS'!$G$3:$P$86,7,0)","v":15},{"$f":"VLOOKUP(AG901,'Anexo ODS'!$G$3:$P$86,8,0)","v":"Vida de ecosistemas terrestres"},{"$f":"VLOOKUP(AG901,'Anexo ODS'!$G$3:$P$86,9,0)","v":"15.1"},{"$f":"VLOOKUP(AG901,'Anexo ODS'!$G$3:$P$86,10,0)","v":"De aquí a 2020, asegurar la conservación, el restablecimiento y el uso sostenible de los ecosistemas terrestres y los ecosistemas interiores de agua dulce y sus servicios, en particular los bosques, los humedales, las montañas y las zonas áridas, en consonancia con las obligaciones contraídas en virtud de acuerdos internacionales"},null,null,null,null,null,null,null,null,4000]
[905,14,"Los Mártires",3,"Inspirar confianza y legitimidad para vivir sin miedo y ser epicentro de cultura ciudadana, paz y reconciliación.",40,"Más mujeres viven una vida libre de violencias, se sienten seguras y acceden con confianza al sistema de justicia",null,null,null,null,905,"Capacitar 800 Personas para la construcción de ciudadanía y desarrollo de capacidades para el ejercicio de derechos de las mujeres.",2089,"Mártires libre de violencias","DESARROLLO DE CAPACIDADES","Suma",null,"Capacitar",800,"Personas","para la construcción de ciudadanía y desarrollo de capacidades para el ejercicio de derechos de las mujeres.","Capacitar 800 Personas para la construcción de ciudadanía y desarrollo de capacidades para el ejercicio de derechos de las mujeres.",{"$f":"VLOOKUP(AG906,'Anexo PMR'!$B$4:$G$87,6,0)","v":"2_Presupuestos Participativos 50%"},7,"Desarrollo social y cultural","Construcción de ciudadanía y desarrollo de capacidades para el ejercicio de derechos de las mujeres.",100,"MUJERES",26,"Servicios de promoción y capacitación para la construcción de ciudadanía y desarrollo de capacidades para el ejercicio de derechos de las mujeres.",53,"Personas capacitadas para la construcción de ciudadanía y desarrollo de capacidades para el ejercicio de derechos de las mujeres.","DERECHOS DE LA MUJER",null,null,null,200,200,200,200,235000000,230000000,230000000,230000000,925000000,1,0,0,0,0,"Bajo","Bajo",0.39445628997867804,0,0,null,null,null,0,"2021_1",200,200,0,0,0,0,0,0,0,0,0,0,0,"",null,null,null,211786000,211786000,0,0,0,null,0,0,0,0,null,null,0,0,0,"",null,null,null,null,null,{"$f":"VLOOKUP(AG906,'Anexo ODS'!$G$3:$P$86,5,0)","v":1},{"$f":"VLOOKUP(AG906,'Anexo ODS'!$G$3:$P$86,6,0)","v":"Las Personas"},{"$f":"VLOOKUP(AG906,'Anexo ODS'!$G$3:$P$86,7,0)","v":5},{"$f":"VLOOKUP(AG906,'Anexo ODS'!$G$3:$P$86,8,0)","v":"Igualdad de género"},{"$f":"VLOOKUP(AG906,'Anexo ODS'!$G$3:$P$86,9,0)","v":"5.c"},{"$f":"VLOOKUP(AG906,'Anexo ODS'!$G$3:$P$86,10,0)","v":"Aprobar y fortalecer políticas acertadas y leyes aplicables para promover la igualdad de género y el empoderamiento de todas las mujeres y las niñas a todos los niveles"},null,null,null,null,null,null,null,null,800]
[910,14,"Los Mártires",3,"Inspirar confianza y legitimidad para vivir sin miedo y ser epicentro de cultura ciudadana, paz y reconciliación.",45,"Espacio público más seguro y construido colectivamente",null,null,null,null,910,"Realizar 8 Acuerdos para el uso del EP con fines culturales, deportivos, recreacionales o de mercados temporales.",2080,"Paisaje urbano amigable y seguro","ACUERDOS CIUDADANOS","Suma",null,"Realizar",8,"Acuerdos","para el uso del EP con fines culturales, deportivos, recreacionales o de mercados temporales.","Realizar 8 Acuerdos para el uso del EP con fines culturales, deportivos, recreacionales o de mercados temporales.",{"$f":"VLOOKUP(AG911,'Anexo PMR'!$B$4:$G$87,6,0)","v":"2_Presupuestos Participativos 50%"},7,"Desarrollo social y cultural","Acuerdos para el uso, acceso y aprovechamiento del espacio público.",98,"GOBIERNO",28,"Acuerdos ciudadanos suscritos.",58,"Acuerdos realizados para el uso del EP con fines culturales, deportivos, recreacionales o de mercados temporales.","\nACUERDOS DE ESPACIO PÚBLICO",null,null,null,2,3,3,0,253000000,250000000,251000000,0,754000000,1,0,0,0,0,"Bajo","Bajo",0.46144430844553241,0,0,null,null,null,0,"2021_1",2,2,0,0,0,0,0,0,0,0,0,0,0,"",null,null,null,228008000,228008000,0,0,0,null,0,0,0,0,null,null,0,0,0,"",null,null,null,null,null,{"$f":"VLOOKUP(AG911,'Anexo ODS'!$G$3:$P$86,5,0)","v":2},{"$f":"VLOOKUP(AG911,'Anexo ODS'!$G$3:$P$86,6,0)","v":"La Paz"},{"$f":"VLOOKUP(AG911,'Anexo ODS'!$G$3:$P$86,7,0)","v":16},{"$f":"VLOOKUP(AG911,'Anexo ODS'!$G$3:$P$86,8,0)","v":"Paz, justicia e instituciones sólidas"},{"$f":"VLOOKUP(AG911,'Anexo ODS'!$G$3:$P$86,9,0)","v":"16.1"},{"$f":"VLOOKUP(AG911,'Anexo ODS'!$G$3:$P$86,10,0)","v":"Reducir significativamente todas las formas de violencia y las correspondientes tasas de mortalidad en todo el mundo"},null,null,null,null,null,null,null,null,8]
[913,14,"Los Mártires",3,"Inspirar confianza y legitimidad para vivir sin miedo y ser epicentro de cultura ciudadana, paz y reconciliación.",48,"Plataforma institucional para la seguridad y justicia",null,null,null,null,913,"Suministrar 1 dotación de equipos especiales de protección a organismos de seguridad.",2098,"Seguridad y justicia comunitaria","DOTACIÓN","Suma",null,"Suministrar",1,"Dotaciones","de equipos especiales de protección a organismos de seguridad.","Suministrar 1 dotación de equipos especiales de protección a organismos de seguridad.",{"$f":"VLOOKUP(AG914,'Anexo PMR'!$B$4:$G$87,6,0)","v":"2_Presupuestos Participativos 50%"},7,"Desarrollo social y cultural","Dotación para instancias de seguridad.",102,"SEGURIDAD, CONVIVENCIA Y JUSTICIA",30,"Infraestructura y dotaciones para seguridad.",67,"Dotaciones de equipos especiales de protección  suministradas a organismos de seguridad.","DOTACIÓN EN SEGURIDAD",null,null,null,0,1,0,0,0,149000000,0,0,149000000,1,0,0,0,0,"Bajo","Bajo",9.6191091026468695E-2,0,0,null,null,null,0,"2021_1",0,0,0,0,0,0,0,0,0,0,0,0,0,"",null,null,null,0,0,0,0,0,null,0,0,0,0,null,null,0,0,0,"",null,null,null,null,null,{"$f":"VLOOKUP(AG914,'Anexo ODS'!$G$3:$P$86,5,0)","v":2},{"$f":"VLOOKUP(AG914,'Anexo ODS'!$G$3:$P$86,6,0)","v":"La Paz"},{"$f":"VLOOKUP(AG914,'Anexo ODS'!$G$3:$P$86,7,0)","v":16},{"$f":"VLOOKUP(AG914,'Anexo ODS'!$G$3:$P$86,8,0)","v":"Paz, justicia e instituciones sólidas"},{"$f":"VLOOKUP(AG914,'Anexo ODS'!$G$3:$P$86,9,0)","v":"16.a"},{"$f":"VLOOKUP(AG914,'Anexo ODS'!$G$3:$P$86,10,0)","v":"Fortalecer las instituciones nacionales pertinentes, incluso mediante la cooperación internacional, para crear a todos los niveles, particularmente en los países en desarrollo, la capacidad de prevenir la violencia y combatir el terrorismo y la delincuencia"},null,null,null,null,null,null,null,null,1]
[915,14,"Los Mártires",3,"Inspirar confianza y legitimidad para vivir sin miedo y ser epicentro de cultura ciudadana, paz y reconciliación.",48,"Plataforma institucional para la seguridad y justicia",null,null,null,null,915,"Suministrar 1 dotación logística a organismos de seguridad.",2098,"Seguridad y justicia comunitaria","DOTACIÓN","Suma",null,"Suministrar",1,"Dotaciones","logísticas a organismos de seguridad.","Suministrar 1 dotación logística a organismos de seguridad.",{"$f":"VLOOKUP(AG916,'Anexo PMR'!$B$4:$G$87,6,0)","v":"2_Presupuestos Participativos 50%"},7,"Desarrollo social y cultural","Dotación para instancias de seguridad.",102,"SEGURIDAD, CONVIVENCIA Y JUSTICIA",30,"Infraestructura y dotaciones para seguridad.",66,"Dotaciones logísticas suministradas a organismos de seguridad.","DOTACIÓN EN SEGURIDAD",null,null,null,0,1,0,0,0,100000000,0,0,100000000,1,0,0,0,0,"Bajo","Bajo",6.4557779212395097E-2,0,0,null,null,null,0,"2021_1",0,0,0,0,0,0,0,0,0,0,0,0,0,"",null,null,null,0,0,0,0,0,null,0,0,0,0,null,null,0,0,0,"",null,null,null,null,null,{"$f":"VLOOKUP(AG916,'Anexo ODS'!$G$3:$P$86,5,0)","v":2},{"$f":"VLOOKUP(AG916,'Anexo ODS'!$G$3:$P$86,6,0)","v":"La Paz"},{"$f":"VLOOKUP(AG916,'Anexo ODS'!$G$3:$P$86,7,0)","v":16},{"$f":"VLOOKUP(AG916,'Anexo ODS'!$G$3:$P$86,8,0)","v":"Paz, justicia e instituciones sólidas"},{"$f":"VLOOKUP(AG916,'Anexo ODS'!$G$3:$P$86,9,0)","v":"16.a"},{"$f":"VLOOKUP(AG916,'Anexo ODS'!$G$3:$P$86,10,0)","v":"Fortalecer las instituciones nacionales pertinentes, incluso mediante la cooperación internacional, para crear a todos los niveles, particularmente en los países en desarrollo, la capacidad de prevenir la violencia y combatir el terrorismo y la delincuencia"},null,null,null,null,null,null,null,null,1]
[920,14,"Los Mártires",4,"Hacer de Bogotá-región un modelo de movilidad, creatividad y productividad incluyente y sostenible",49,"Movilidad segura, sostenible y accesible",null,null,null,null,920,"Intervenir 900 metros lineales de Ciclo-infraestructura con acciones de construcción y/o conservación.",2097,"Movilidad segura y sostenible","CICLO INFRAESTRUCTURA","Suma",null,"Intervenir",900,"Metros","lineales de Ciclo-infraestructura con acciones de construcción y/o conservación.","Intervenir 900 metros lineales de Ciclo-infraestructura con acciones de construcción y/o conservación.",{"$f":"VLOOKUP(AG921,'Anexo PMR'!$B$4:$G$87,6,0)","v":"2_Presupuestos Participativos 50%"},6,"Infraestructura","Diseño, construcción y conservación de ciclo-infraestructura.",95,"MOVILIDAD",33,"Ciclo infraestructura construida y/o conservada.",73,"Metros lineales construidos y/o conservados de Ciclo-infraestructura","CICLO-INFRAESTRUCTURA",null,null,null,300,300,300,0,250000000,250000000,287000000,0,787000000,1,0,0,0,0,"Bajo","Bajo",0.25039770919503657,0,0,null,null,null,0,"2021_1",300,300,0,0,0,0,0,0,0,0,0,0,0,"No Aplica",null,null,null,236055000,236055000,0,0,0,21226666,0,0,0,21226666,19600,19600,0,0,0,"En etapa de formualción, la contratación no mueven el avance de la meta.",null,null,null,null,null,{"$f":"VLOOKUP(AG921,'Anexo ODS'!$G$3:$P$86,5,0)","v":3},{"$f":"VLOOKUP(AG921,'Anexo ODS'!$G$3:$P$86,6,0)","v":"La Prosperidad"},{"$f":"VLOOKUP(AG921,'Anexo ODS'!$G$3:$P$86,7,0)","v":11},{"$f":"VLOOKUP(AG921,'Anexo ODS'!$G$3:$P$86,8,0)","v":"Ciudades y comunidades sostenibles"},{"$f":"VLOOKUP(AG921,'Anexo ODS'!$G$3:$P$86,9,0)","v":"11.2"},{"$f":"VLOOKUP(AG921,'Anexo ODS'!$G$3:$P$86,10,0)","v":" De aquí a 2030, proporcionar acceso a sistemas de transporte seguros, asequibles, accesibles y sostenibles para todos y mejorar la seguridad vial, en particular mediante la ampliación del transporte público, prestando especial atención a las necesidades de las personas en situación de vulnerabilidad, las mujeres, los niños, las personas con discapacidad y las personas de edad"},null,null,null,null,null,null,null,null,900]
[925,14,"Los Mártires",5,"Construir Bogotá-región con gobierno abierto, transparente y ciudadanía consciente.",56,"Gestión pública efectiva",null,null,null,null,925,"Construir 1 sede administrativa local.",2099,"Gestión pública eficiente y transparente","SEDE ADMINISTRATIVA","Suma",null,"Construir",1,"Sedes","administrativa local.","Construir 1 sede administrativa local.",{"$f":"VLOOKUP(AG926,'Anexo PMR'!$B$4:$G$87,6,0)","v":"1_Inflexible 45%"},1,"Gestión pública local","Terminación de infraestructuras (sedes administrativas locales).",98,"GOBIERNO",36,"Infraestructura para la atención de servicio al ciudadano.",81,"Sedes administrativas locales construidas.","FORTALECIMIENTO ORGANIZATIVO",null,null,null,0,0,0,0,0,0,0,0,0,1,0,0,0,0,"Bajo","Bajo",0,0,0,null,null,null,0,"2021_1",0,0,0,0,0,0,0,0,0,0,0,0,0,"",null,null,null,0,0,0,0,0,null,0,0,0,0,null,null,0,0,0,"",null,null,null,null,null,{"$f":"VLOOKUP(AG926,'Anexo ODS'!$G$3:$P$86,5,0)","v":3},{"$f":"VLOOKUP(AG926,'Anexo ODS'!$G$3:$P$86,6,0)","v":"La Prosperidad"},{"$f":"VLOOKUP(AG926,'Anexo ODS'!$G$3:$P$86,7,0)","v":9},{"$f":"VLOOKUP(AG926,'Anexo ODS'!$G$3:$P$86,8,0)","v":"Industria, innovación e infraestructura"},{"$f":"VLOOKUP(AG926,'Anexo ODS'!$G$3:$P$86,9,0)","v":"9.1"},{"$f":"VLOOKUP(AG926,'Anexo ODS'!$G$3:$P$86,10,0)","v":"Desarrollar infraestructuras fiables, sostenibles, resilientes y de calidad, incluidas infraestructuras regionales y transfronterizas, para apoyar el desarrollo económico y el bienestar humano, haciendo especial hincapié en el acceso asequible y equitativo para todos"},null,null,null,null,null,null,null,null,1]
[930,15,"Antonio Nariño",1,"Hacer un nuevo contrato social con igualdad de oportunidades para la inclusión social, productiva y política",1,"Subsidios y transferencias para la equidad",null,null,null,null,930,"Beneficiar 700 personas mayores con apoyo económico tipo C",1851,"Acciones de atención para población vulnerable","SUBSIDIO TIPO C","Constante",null,"Beneficiar",700,"Personas","mayores con apoyo económico tipo C.","Beneficiar 700 personas mayores con apoyo económico tipo C.",{"$f":"VLOOKUP(AG931,'Anexo PMR'!$B$4:$G$87,6,0)","v":"1_Inflexible 45%"},3,"Sistema Bogotá Solidaria (20%)","Subsidio tipo C adulto mayor.",92,"INTEGRACIÓN SOCIAL",1,"Protección integral a personas y familias en situación de vulneración.",2,"Número de personas mayores con apoyo económico tipo C","SUBSIDIO TIPO C",null,null,null,700,700,700,700,1340000000,1388000000,1577000000,2000000000,6305000000,1,175,0.25,175,0.25,"Bajo","Bajo",0.48421780201213427,0.12105445050303357,0.12105445050303357,null,null,null,0,"2021_1",700,700,0,0,0,700,0,0,0,700,0,0,0,"Incompleto",null,null,null,1273000000,1273000000,0,0,0,352092900,0,0,0,352092900,0,0,0,0,0,"Resolución 118 del 23 de diciembre del 2020 (Del 1 de enero al 31 de marzo del 2021), y resolución 40 del 25 de marzo del 2021 (del 1 de abril al 30 de junio del 2021).",null,null,null,null,null,{"$f":"VLOOKUP(AG931,'Anexo ODS'!$G$3:$P$86,5,0)","v":1},{"$f":"VLOOKUP(AG931,'Anexo ODS'!$G$3:$P$86,6,0)","v":"Las Personas"},{"$f":"VLOOKUP(AG931,'Anexo ODS'!$G$3:$P$86,7,0)","v":1},{"$f":"VLOOKUP(AG931,'Anexo ODS'!$G$3:$P$86,8,0)","v":"Fin de la pobreza"},{"$f":"VLOOKUP(AG931,'Anexo ODS'!$G$3:$P$86,9,0)","v":"1.2"},{"$f":"VLOOKUP(AG931,'Anexo ODS'!$G$3:$P$86,10,0)","v":"De aquí a 2030, reducir al menos a la mitad la proporción de hombres, mujeres y niños de todas las edades que viven en la pobreza en todas sus dimensiones con arreglo a las definiciones nacionales"},null,null,null,null,null,null,null,null,700]
[931,15,"Antonio Nariño",1,"Hacer un nuevo contrato social con igualdad de oportunidades para la inclusión social, productiva y política",6,"Sistema Distrital de Cuidado",null,null,null,null,931,"Apoyar 100 Mipymes y/o emprendimientos culturales y creativos.",2191,"Acciones integrales para la productividad y el emprendimiento","FORTALECIMIENTO MIPYMES","Suma",null,"Apoyar",100,"Mipymes","y/o emprendimientos culturales y creativos.","Apoyar 100 Mipymes y/o emprendimientos culturales y creativos.",{"$f":"VLOOKUP(AG932,'Anexo PMR'!$B$4:$G$87,6,0)","v":"2_Presupuestos Participativos 50%"},5,"Desarrollo de la Economía Local","Apoyo a industrias culturales y creativas.",89,"DESARROLLO ECONÓMICO, INDUSTRIA Y TURISMO",14,"Servicios de asesoría, asistencia técnica integral, dotación y/o apoyo financiero a Mipymes y/o emprendimientos.",21,"Número de Mipymes y/o emprendimientos culturales y creativos apoyados","DESARROLLO DE LA ECONOMÍA LOCAL",null,null,null,25,25,25,25,170000000,150000000,160000000,160000000,640000000,1,0,0,0,0,"Bajo","Bajo",8.7122243397767488E-2,0,0,null,null,null,0,"2021_1",25,25,0,0,0,0,0,0,0,0,0,0,0,"",null,null,null,162000000,162000000,0,0,0,null,0,0,0,0,null,null,0,0,0,"",null,null,null,null,null,{"$f":"VLOOKUP(AG932,'Anexo ODS'!$G$3:$P$86,5,0)","v":3},{"$f":"VLOOKUP(AG932,'Anexo ODS'!$G$3:$P$86,6,0)","v":"La Prosperidad"},{"$f":"VLOOKUP(AG932,'Anexo ODS'!$G$3:$P$86,7,0)","v":8},{"$f":"VLOOKUP(AG932,'Anexo ODS'!$G$3:$P$86,8,0)","v":"Trabajo decente y crecimiento económico"},{"$f":"VLOOKUP(AG932,'Anexo ODS'!$G$3:$P$86,9,0)","v":"8.3"},{"$f":"VLOOKUP(AG932,'Anexo ODS'!$G$3:$P$86,10,0)","v":"Promover políticas orientadas al desarrollo que apoyen las actividades productivas, la creación de puestos de trabajo decentes, el emprendimiento, la creatividad y la innovación, y fomentar la formalización y el crecimiento de las microempresas y las pequeñas y medianas empresas, incluso mediante el acceso a servicios financieros"},null,null,null,null,null,null,null,null,100]
[936,15,"Antonio Nariño",1,"Hacer un nuevo contrato social con igualdad de oportunidades para la inclusión social, productiva y política",6,"Sistema Distrital de Cuidado",null,null,null,null,936,"Formar 420 personas en prevención de violencia intrafamiliar y/o violencia sexual.",2192,"Acciones de atención a primera infancia y prevención de violencias","PREVENCIÓN DE VIOLENCIAS","Suma",null,"Formar",420,"Personas","en prevención de violencia intrafamiliar y/o violencia sexual.","Formar 420 personas en prevención de violencia intrafamiliar y/o violencia sexual.",{"$f":"VLOOKUP(AG937,'Anexo PMR'!$B$4:$G$87,6,0)","v":"2_Presupuestos Participativos 50%"},7,"Desarrollo social y cultural","Prevención y atención de violencia intrafamiliar y sexual para poblaciones en situaciones de riesgo y vulneración de derechos.",92,"INTEGRACIÓN SOCIAL",2,"Protección integral a niños y niñas y adolescentes.",25,"Número de Personas formadas u orientadas o sensibilizadas en prevención de violencia intrafamiliar y/o violencia sexual.            ","PREVENCIÓN DE LA VIOLENCIA",null,null,null,105,105,105,105,100000000,100000000,100000000,52000000,352000000,1,0,0,0,0,"Bajo","Bajo",4.791723386877212E-2,0,0,null,null,null,0,"2021_1",105,105,0,0,0,0,0,0,0,0,0,0,0,"",null,null,null,95000000,95000000,0,0,0,null,0,0,0,0,null,null,0,0,0,"",null,null,null,null,null,{"$f":"VLOOKUP(AG937,'Anexo ODS'!$G$3:$P$86,5,0)","v":2},{"$f":"VLOOKUP(AG937,'Anexo ODS'!$G$3:$P$86,6,0)","v":"La Paz"},{"$f":"VLOOKUP(AG937,'Anexo ODS'!$G$3:$P$86,7,0)","v":16},{"$f":"VLOOKUP(AG937,'Anexo ODS'!$G$3:$P$86,8,0)","v":"Paz, justicia e instituciones sólidas"},{"$f":"VLOOKUP(AG937,'Anexo ODS'!$G$3:$P$86,9,0)","v":"16.1"},{"$f":"VLOOKUP(AG937,'Anexo ODS'!$G$3:$P$86,10,0)","v":"Reducir significativamente todas las formas de violencia y las correspondientes tasas de mortalidad en todo el mundo"},null,null,null,null,null,null,null,null,420]
[941,15,"Antonio Nariño",1,"Hacer un nuevo contrato social con igualdad de oportunidades para la inclusión social, productiva y política",6,"Sistema Distrital de Cuidado",null,null,null,null,941,"Vincular 200 personas a las acciones y estrategias de reconocimiento de los saberes ancestrales en medicina.",2194,"Acciones de fomento y promoción de las condiciones de salud","SABERES ANCESTRALES","Suma",null,"Vincular",200,"Personas","a las acciones y estrategias de reconocimiento de los saberes ancestrales en medicina.","Vincular 200 personas a las acciones y estrategias de reconocimiento de los saberes ancestrales en medicina.",{"$f":"VLOOKUP(AG942,'Anexo PMR'!$B$4:$G$87,6,0)","v":"3_Flexible 5%"},11,"Condiciones de salud","Reconocimiento de los saberes ancestrales en medicina.",91,"SALUD",16,"Promoción, prevención e intervención en salud.",34,"Número de personas vinculadas a las acciones y estrategias de reconocimiento de los saberes ancestrales en medicina.","SABERES ANCESTRALES",null,null,null,50,50,50,50,80000000,82000000,85000000,88000000,335000000,1,0,0,0,0,"Bajo","Bajo",4.5603049278518923E-2,0,0,null,null,null,0,"2021_1",50,50,0,0,0,0,0,0,0,0,0,0,0,"",null,null,null,76000000,76000000,0,0,0,null,0,0,0,0,null,null,0,0,0,"",null,null,null,null,null,{"$f":"VLOOKUP(AG942,'Anexo ODS'!$G$3:$P$86,5,0)","v":1},{"$f":"VLOOKUP(AG942,'Anexo ODS'!$G$3:$P$86,6,0)","v":"Las Personas"},{"$f":"VLOOKUP(AG942,'Anexo ODS'!$G$3:$P$86,7,0)","v":3},{"$f":"VLOOKUP(AG942,'Anexo ODS'!$G$3:$P$86,8,0)","v":"Salud y Bienestar"},{"$f":"VLOOKUP(AG942,'Anexo ODS'!$G$3:$P$86,9,0)","v":"3.b"},{"$f":"VLOOKUP(AG942,'Anexo ODS'!$G$3:$P$86,10,0)","v":"Apoyar las actividades de investigación y desarrollo de vacunas y medicamentos contra las enfermedades transmisibles y no transmisibles que afectan primordialmente a los países en desarrollo y facilitar el acceso a medicamentos y vacunas esenciales asequibles de conformidad con la Declaración relativa al Acuerdo sobre los Aspectos de los Derechos de Propiedad Intelectual Relacionados con el Comercio y la Salud Pública, en la que se afirma el derecho de los países en desarrollo a utilizar al máximo las disposiciones del Acuerdo sobre los Aspectos de los Derechos de Propiedad Intelectual Relacionados con el Comercio respecto a la flexibilidad para proteger la salud pública y, en particular, proporcionar acceso a los medicamentos para todos"},null,null,null,null,null,null,null,null,200]
[946,15,"Antonio Nariño",1,"Hacer un nuevo contrato social con igualdad de oportunidades para la inclusión social, productiva y política",14,"Formación integral: más y mejor tiempo en los colegios",null,null,null,null,946,"Dotar 5 Sedes educativas urbanas",2196,"Dotaciones a instituciones educativas","DOTACIÓN","Suma",null,"Dotar",5,"Sedes","educativas urbanas","Dotar cinco (5) sedes educativas urbanas.",{"$f":"VLOOKUP(AG947,'Anexo PMR'!$B$4:$G$87,6,0)","v":"2_Presupuestos Participativos 50%"},6,"Infraestructura","Dotación pedagógica a colegios.",90,"EDUCACIÓN",3,"Infraestructura y dotación escolar.",4,"Sedes educativas urbanas y rurales dotadas","SEDES EDUCATIVAS",null,null,null,1,1,1,2,120000000,160000000,140000000,140000000,560000000,1,0,0,0,0,"Bajo","Bajo",1,0,0,null,null,null,0,"2021_1",1,1,0,0,0,0,0,0,0,0,0,0,0,"",null,null,null,114000000,114000000,0,0,0,null,0,0,0,0,null,null,0,0,0,"",null,null,null,null,null,{"$f":"VLOOKUP(AG947,'Anexo ODS'!$G$3:$P$86,5,0)","v":1},{"$f":"VLOOKUP(AG947,'Anexo ODS'!$G$3:$P$86,6,0)","v":"Las Personas"},{"$f":"VLOOKUP(AG947,'Anexo ODS'!$G$3:$P$86,7,0)","v":4},{"$f":"VLOOKUP(AG947,'Anexo ODS'!$G$3:$P$86,8,0)","v":"Educación de calidad"},{"$f":"VLOOKUP(AG947,'Anexo ODS'!$G$3:$P$86,9,0)","v":"4.7"},{"$f":"VLOOKUP(AG947,'Anexo ODS'!$G$3:$P$86,10,0)","v":"De aquí a 2030, asegurar que todos los alumnos adquieran los conocimientos teóricos y prácticos necesarios para promover el desarrollo sostenible, entre otras cosas mediante la educación para el desarrollo sostenible y los estilos de vida sostenibles, los derechos humanos, la igualdad de género, la promoción de una cultura de paz y no violencia, la ciudadanía mundial y la valoración de la diversidad cultural y la contribución de la cultura al desarrollo sostenible"},null,null,null,null,null,null,null,null,5]
[947,15,"Antonio Nariño",1,"Hacer un nuevo contrato social con igualdad de oportunidades para la inclusión social, productiva y política",17,"Jóvenes con capacidades: Proyecto de vida para la ciudadanía, la innovación y el trabajo del siglo XXI",null,null,null,null,947,"Beneficiar 92 personas con apoyo para la educación superior",2048,"Acciones de promoción para la educación superior","APOYO EDUCACIÓN SUPERIOR","Suma",null,"Beneficiar",92,"Personas","con apoyo para la educación superior.","Beneficiar 92 personas con apoyo para la educación superior",{"$f":"VLOOKUP(AG948,'Anexo PMR'!$B$4:$G$87,6,0)","v":"1_Inflexible 45%"},4,"Educación superior y primera infancia (10%)","Apoyo para educación superior.",90,"EDUCACIÓN",4,"Apoyo a la educación superior.",5,"Personas beneficiadas con  apoyo para la educación superior","EDUCACIÓN SUPERIOR",null,null,null,23,23,23,23,1442000000,1398000000,1487000000,1534000000,5861000000,1,0,0,0,0,"Bajo","Bajo",0.92357390482193513,0,0,null,null,null,0,"2021_1",23,23,0,0,0,0,0,0,0,0,0,0,0,"No mueve meta",null,null,null,1339124000,1339124000,0,0,0,28044000,0,0,0,28044000,0,0,0,0,0,"El rp generado no mueve meta. Corresponde a contratación de personal.",null,null,null,null,null,{"$f":"VLOOKUP(AG948,'Anexo ODS'!$G$3:$P$86,5,0)","v":1},{"$f":"VLOOKUP(AG948,'Anexo ODS'!$G$3:$P$86,6,0)","v":"Las Personas"},{"$f":"VLOOKUP(AG948,'Anexo ODS'!$G$3:$P$86,7,0)","v":4},{"$f":"VLOOKUP(AG948,'Anexo ODS'!$G$3:$P$86,8,0)","v":"Educación de calidad"},{"$f":"VLOOKUP(AG948,'Anexo ODS'!$G$3:$P$86,9,0)","v":"4.3"},{"$f":"VLOOKUP(AG948,'Anexo ODS'!$G$3:$P$86,10,0)","v":"De aquí a 2030, asegurar el acceso igualitario de todos los hombres y las mujeres a una formación técnica, profesional y superior de calidad, incluida la enseñanza universitaria."},null,null,null,null,null,null,null,null,92]
[952,15,"Antonio Nariño",1,"Hacer un nuevo contrato social con igualdad de oportunidades para la inclusión social, productiva y política",21,"Creación y vida cotidiana: Apropiación ciudadana del arte, la cultura y el patrimonio, para la democracia cultural",null,null,null,null,952,"Capacitar 600 personas en los campos artísticos interculturales, culturales y/o patrimoniales",2201,"Acciones de fomento y promoción de actividades artísticas, interculturales, culturales y/o patrimoniales","FORMACIÓN","Suma",null,"Capacitar",600,"Personas","en los campos artísticos interculturales, culturales y/o patrimoniales","Capacitar 600 personas en los campos artísticos, interculturales, culturales y/o patrimoniales.",{"$f":"VLOOKUP(AG953,'Anexo PMR'!$B$4:$G$87,6,0)","v":"2_Presupuestos Participativos 50%"},7,"Desarrollo social y cultural","Procesos de formación y dotación de insumos para los campos artísticos, interculturales, culturales, patrimoniales y deportivos.",93,"CULTURA, RECREACIÓN Y DEPORTE",10,"Formación artística y cultural.",15,"Personas capacitadas en los campos artísticos, interculturales, culturales y/o patrimoniales","FORMACIÓN CULTURAL",null,null,null,150,150,150,150,200000000,200000000,200000000,140000000,740000000,1,0,0,0,0,"Bajo","Bajo",0.13479052823315119,0,0,null,null,null,0,"2021_1",150,150,0,0,0,0,0,0,0,0,0,0,0,"",null,null,null,190000000,190000000,0,0,0,null,0,0,0,0,null,null,0,0,0,"",null,null,null,null,null,{"$f":"VLOOKUP(AG953,'Anexo ODS'!$G$3:$P$86,5,0)","v":3},{"$f":"VLOOKUP(AG953,'Anexo ODS'!$G$3:$P$86,6,0)","v":"La Prosperidad"},{"$f":"VLOOKUP(AG953,'Anexo ODS'!$G$3:$P$86,7,0)","v":11},{"$f":"VLOOKUP(AG953,'Anexo ODS'!$G$3:$P$86,8,0)","v":"Ciudades y comunidades sostenibles"},{"$f":"VLOOKUP(AG953,'Anexo ODS'!$G$3:$P$86,9,0)","v":"11.4"},{"$f":"VLOOKUP(AG953,'Anexo ODS'!$G$3:$P$86,10,0)","v":"Redoblar los esfuerzos para proteger y salvaguardar el patrimonio cultural y natural del mundo"},null,null,null,null,null,null,null,null,600]
[957,15,"Antonio Nariño",1,"Hacer un nuevo contrato social con igualdad de oportunidades para la inclusión social, productiva y política",24,"Bogotá región emprendedora e innovadora",null,null,null,null,957,"Implementar 4 acciones de fomento para la agricultura urbana",2203,"Acciones que promueven la agricultura urbana","AGRICULTURA URBANA","Suma",null,"Implementar",4,"Acciones","fomento para la agricultura urbana","Implementar 4 acciones de fomento para la agricultura urbana.",{"$f":"VLOOKUP(AG958,'Anexo PMR'!$B$4:$G$87,6,0)","v":"2_Presupuestos Participativos 50%"},8,"Inversiones ambientales sostenibles","Agricultura urbana.",94,"AMBIENTE",13,"Servicios de asesoría, asistencia técnica integral y dotación de infraestructura productiva para la Agricultura urbana y periurbana.",19,"Número acciones de fomento para la agricultura urbana","AGRICULTURA URBANA",null,null,null,1,1,1,1,50000000,50000000,50000000,50000000,200000000,1,0,0,0,0,"Bajo","Bajo",0.25,0,0,null,null,null,0,"2021_1",1,1,0,0,0,0,0,0,0,0,0,0,0,"No mueve meta",null,null,null,48000000,48000000,0,0,0,8724000,0,0,0,8724000,0,0,0,0,0,"El rp generado no mueve meta. Corresponde a contratación de personal.",null,null,null,null,null,{"$f":"VLOOKUP(AG958,'Anexo ODS'!$G$3:$P$86,5,0)","v":4},{"$f":"VLOOKUP(AG958,'Anexo ODS'!$G$3:$P$86,6,0)","v":"El Planeta"},{"$f":"VLOOKUP(AG958,'Anexo ODS'!$G$3:$P$86,7,0)","v":12},{"$f":"VLOOKUP(AG958,'Anexo ODS'!$G$3:$P$86,8,0)","v":"Producción y consumo responsables"},{"$f":"VLOOKUP(AG958,'Anexo ODS'!$G$3:$P$86,9,0)","v":"12.2"},{"$f":"VLOOKUP(AG958,'Anexo ODS'!$G$3:$P$86,10,0)","v":"De aquí a 2030, lograr la gestión sostenible y el uso eficiente\nde los recursos naturales"},null,null,null,null,null,null,null,null,4]
[962,15,"Antonio Nariño",2,"Cambiar nuestros hábitos de vida para reverdecer a Bogotá y adaptarnos y mitigar el cambio climático.",30,"Eficiencia en la atención de emergencias",null,null,null,null,962,"Realizar 2 acciones efectivas para el fortalecimiento de las capacidades locales para la respuesta a emergencias y desastres.",2205,"Acciones de mitigación del riesgo y fortalecimiento de capacidades de reacción","MANEJO DE EMERGENCIAS, CALAMIDADES Y DESASTRES","Suma",null,"Realizar",2,"Acciones","efectivas para el fortalecimiento de las capacidades locales para la respuesta a emergencias y desastres.","Realizar 2 acciones efectivas para el fortalecimiento de las capacidades locales para la respuesta a emergencias y desastres.",{"$f":"VLOOKUP(AG963,'Anexo PMR'!$B$4:$G$87,6,0)","v":"2_Presupuestos Participativos 50%"},8,"Inversiones ambientales sostenibles","Manejo de emergencias y desastres.",94,"AMBIENTE",18,"Gestión para la prevención y mitigación del riesgo.",42,"Acciones efectivas para el fortalecimiento de las capacidades locales para la respuesta a emergencias y desastres","REDUCCIÓN DEL RIESGO",null,null,null,1,0.2,0.3,0.5,50000000,50000000,50000000,50000000,200000000,1,0,0,0,0,"Bajo","Bajo",0.55555555555555558,{"$f":"BB963*AW963","v":0},{"$f":"BB963*AY963","v":0},null,null,null,0,"2021_1",1,1,0,0,0,0,0,0,0,0,0,0,0,"No mueve meta",null,null,null,48000000,48000000,0,0,0,8724000,0,0,0,{"$f":"SUM(CF963:CI963)","v":8724000},0,0,0,0,0,"El rp generado no mueve meta. Corresponde a contratación de personal.",null,null,null,null,null,{"$f":"VLOOKUP(AG963,'Anexo ODS'!$G$3:$P$86,5,0)","v":3},{"$f":"VLOOKUP(AG963,'Anexo ODS'!$G$3:$P$86,6,0)","v":"La Prosperidad"},{"$f":"VLOOKUP(AG963,'Anexo ODS'!$G$3:$P$86,7,0)","v":11},{"$f":"VLOOKUP(AG963,'Anexo ODS'!$G$3:$P$86,8,0)","v":"Ciudades y comunidades sostenibles"},{"$f":"VLOOKUP(AG963,'Anexo ODS'!$G$3:$P$86,9,0)","v":"11.5"},{"$f":"VLOOKUP(AG963,'Anexo ODS'!$G$3:$P$86,10,0)","v":"De aquí a 2030, reducir significativamente el número de muertes causadas por los desastres, incluidos los relacionados con el agua, y de personas afectadas por ellos, y reducir considerablemente las pérdidas económicas directas provocadas por los desastres en comparación con el producto interno bruto mundial, haciendo especial hincapié en la protección de los pobres y las personas en situaciones de vulnerabilidad"},null,null,null,null,null,null,null,null,2]
[963,15,"Antonio Nariño",2,"Cambiar nuestros hábitos de vida para reverdecer a Bogotá y adaptarnos y mitigar el cambio climático.",33,"Más árboles y más y mejor espacio público ",null,null,null,null,963,"Mantener 800 árboles urbanos.",2206,"Acciones ambientales para reverdecer la localidad","ARBORIZACIÓN","Suma",null,"Mantener",800,"Árboles","urbanos","Mantener 800 árboles urbanos y/o rurales.",{"$f":"VLOOKUP(AG964,'Anexo PMR'!$B$4:$G$87,6,0)","v":"2_Presupuestos Participativos 50%"},8,"Inversiones ambientales sostenibles","Arbolado urbano y/o rural.",94,"AMBIENTE",19,"Plantación y mantenimiento de árboles, jardines y especies vegetales. ",44,"Número de árboles mantenidos","ARBOLADO",null,null,null,200,200,200,200,50000000,34000000,40000000,30000000,154000000,1,0,0,0,0,"Bajo","Bajo",5.1367578385590397E-2,0,0,null,null,null,0,"2021_1",200,200,0,0,0,0,0,0,0,0,0,0,0,"",null,null,null,48000000,48000000,0,0,0,null,0,0,0,0,null,null,0,0,0,"",null,null,null,null,null,{"$f":"VLOOKUP(AG964,'Anexo ODS'!$G$3:$P$86,5,0)","v":4},{"$f":"VLOOKUP(AG964,'Anexo ODS'!$G$3:$P$86,6,0)","v":"El Planeta"},{"$f":"VLOOKUP(AG964,'Anexo ODS'!$G$3:$P$86,7,0)","v":15},{"$f":"VLOOKUP(AG964,'Anexo ODS'!$G$3:$P$86,8,0)","v":"Vida de ecosistemas terrestres"},{"$f":"VLOOKUP(AG964,'Anexo ODS'!$G$3:$P$86,9,0)","v":"15.1"},{"$f":"VLOOKUP(AG964,'Anexo ODS'!$G$3:$P$86,10,0)","v":"De aquí a 2020, asegurar la conservación, el restablecimiento y el uso sostenible de los ecosistemas terrestres y los ecosistemas interiores de agua dulce y sus servicios, en particular los bosques, los humedales, las montañas y las zonas áridas, en consonancia con las obligaciones contraídas en virtud de acuerdos internacionales"},null,null,null,null,null,null,null,null,800]
[968,15,"Antonio Nariño",2,"Cambiar nuestros hábitos de vida para reverdecer a Bogotá y adaptarnos y mitigar el cambio climático.",38,"Ecoeficiencia, reciclaje, manejo de residuos e inclusión de la población recicladora",null,null,null,null,968,"Capacitar 800 personas en separación en la fuente y reciclaje, garantizando acciones efectivas de separación en la fuente y reciclaje dentro del territorio local.",2210,"Acciones que fomentan el cambio de hábitos y mejoramiento de las condiciones ambientales","HÁBITOS DE CONSUMO","Suma",null,"Capacitar",800,"Personas","en separación en la fuente y reciclaje.","Capacitar 800 personas en separación en la fuente y reciclaje.",{"$f":"VLOOKUP(AG969,'Anexo PMR'!$B$4:$G$87,6,0)","v":"2_Presupuestos Participativos 50%"},8,"Inversiones ambientales sostenibles","Cambios de hábitos de consumo, separación en la fuente y reciclaje.",96,"HÁBITAT",23,"Manejo integral de residuos sólidos. ",50,"Personas capacitadas en separación en la fuente y reciclaje","RECICLAJE",null,null,null,200,200,200,200,100000000,100000000,100000000,100000000,400000000,1,0,0,0,0,"Bajo","Bajo",1,0,0,null,null,null,0,"2021_1",200,200,0,0,0,0,0,0,0,0,0,0,0,"",null,null,null,95000000,95000000,0,0,0,null,0,0,0,0,null,null,0,0,0,"",null,null,null,null,null,{"$f":"VLOOKUP(AG969,'Anexo ODS'!$G$3:$P$86,5,0)","v":4},{"$f":"VLOOKUP(AG969,'Anexo ODS'!$G$3:$P$86,6,0)","v":"El Planeta"},{"$f":"VLOOKUP(AG969,'Anexo ODS'!$G$3:$P$86,7,0)","v":12},{"$f":"VLOOKUP(AG969,'Anexo ODS'!$G$3:$P$86,8,0)","v":"Producción y consumo responsables"},{"$f":"VLOOKUP(AG969,'Anexo ODS'!$G$3:$P$86,9,0)","v":"12.5"},{"$f":"VLOOKUP(AG969,'Anexo ODS'!$G$3:$P$86,10,0)","v":"De aquí a 2030, reducir considerablemente la generación de desechos mediante actividades de prevención, reducción, reciclado y reutilización"},null,null,null,null,null,null,null,null,800]
[973,15,"Antonio Nariño",3,"Inspirar confianza y legitimidad para vivir sin miedo y ser epicentro de cultura ciudadana, paz y reconciliación.",45,"Espacio público más seguro y construido colectivamente",null,null,null,null,973,"Realizar 2 acuerdos para el uso del EP con fines culturales, deportivos, recreacionales o de mercados temporales.",2183,"Acciones para establecer acuerdos ciudadanos","ACUERDOS CIUDADANOS","Suma",null,"Realizar",2,"Acuerdos","para el uso del EP con fines culturales, deportivos, recreacionales o de mercados temporales.","Realizar 2 acuerdos para el uso del EP con fines culturales, deportivos, recreacionales o de mercados temporales.",{"$f":"VLOOKUP(AG974,'Anexo PMR'!$B$4:$G$87,6,0)","v":"2_Presupuestos Participativos 50%"},7,"Desarrollo social y cultural","Acuerdos para el uso, acceso y aprovechamiento del espacio público.",98,"GOBIERNO",28,"Acuerdos ciudadanos suscritos.",58,"Acuerdos realizados para el uso del EP con fines culturales, deportivos, recreacionales o de mercados temporales.","\nACUERDOS DE ESPACIO PÚBLICO",null,null,null,1,1,0,0,100000000,100000000,0,0,200000000,1,0,0,0,0,"Bajo","Bajo",0.19627085377821393,0,0,null,null,null,0,"2021_1",1,1,0,0,0,0,0,0,0,0,0,0,0,"No mueve meta",null,null,null,95000000,95000000,0,0,0,17448000,0,0,0,17448000,0,0,0,0,0,"El rp generado no mueve meta. Corresponde a contratación de personal.",null,null,null,null,null,{"$f":"VLOOKUP(AG974,'Anexo ODS'!$G$3:$P$86,5,0)","v":2},{"$f":"VLOOKUP(AG974,'Anexo ODS'!$G$3:$P$86,6,0)","v":"La Paz"},{"$f":"VLOOKUP(AG974,'Anexo ODS'!$G$3:$P$86,7,0)","v":16},{"$f":"VLOOKUP(AG974,'Anexo ODS'!$G$3:$P$86,8,0)","v":"Paz, justicia e instituciones sólidas"},{"$f":"VLOOKUP(AG974,'Anexo ODS'!$G$3:$P$86,9,0)","v":"16.1"},{"$f":"VLOOKUP(AG974,'Anexo ODS'!$G$3:$P$86,10,0)","v":"Reducir significativamente todas las formas de violencia y las correspondientes tasas de mortalidad en todo el mundo"},null,null,null,null,null,null,null,null,2]
[978,15,"Antonio Nariño",4,"Hacer de Bogotá-región un modelo de movilidad, creatividad y productividad incluyente y sostenible",49,"Movilidad segura, sostenible y accesible",null,null,null,null,978,"Intervenir 10.000 metros cuadrados de elementos del sistema de espacio público peatonal con acciones de construcción y/o conservación.",2186,"Acciones de mejoramiento de la malla vial y el espacio público","CONSTRUCCIÓN Y CONSERVACIÓN ","Suma",null,"Intervenir",10000,"Metros cuadrados","de elementos del sistema de espacio público peatonal con acciones de construcción y/o conservación.","Intervenir 10.000 metros cuadrados de elementos del sistema de espacio público peatonal con acciones de construcción y/o conservación.",{"$f":"VLOOKUP(AG979,'Anexo PMR'!$B$4:$G$87,6,0)","v":"2_Presupuestos Participativos 50%"},6,"Infraestructura","Construcción y/o conservación de elementos del sistema de espacio público peatonal.",95,"MOVILIDAD",31," Espacio público.",69,"Metros cuadrados construidos y/o conservados de elementos del sistema de espacio público peatonal.","ESPACIO PÚBLICO",null,null,null,2500,2500,2500,2500,850000000,750000000,650000000,950000000,3200000000,1,0,0,0,0,"Bajo","Bajo",0.4137039431157078,0,0,null,null,null,0,"2021_1",2500,2500,0,0,0,0,0,0,0,0,0,0,0,"No mueve meta",null,null,null,837300000,837300000,0,0,0,105377000,0,0,0,105377000,5177000,5177000,0,0,0,"Los rps generados no mueven meta. Corresponden a contratación de personal.",null,null,null,null,null,{"$f":"VLOOKUP(AG979,'Anexo ODS'!$G$3:$P$86,5,0)","v":3},{"$f":"VLOOKUP(AG979,'Anexo ODS'!$G$3:$P$86,6,0)","v":"La Prosperidad"},{"$f":"VLOOKUP(AG979,'Anexo ODS'!$G$3:$P$86,7,0)","v":11},{"$f":"VLOOKUP(AG979,'Anexo ODS'!$G$3:$P$86,8,0)","v":"Ciudades y comunidades sostenibles"},{"$f":"VLOOKUP(AG979,'Anexo ODS'!$G$3:$P$86,9,0)","v":"11.7"},{"$f":"VLOOKUP(AG979,'Anexo ODS'!$G$3:$P$86,10,0)","v":" De aquí a 2030, proporcionar acceso universal a zonas verdes y espacios públicos seguros, inclusivos y accesibles, en particular para las mujeres y los niños, las personas de edad y las personas con discapacidad"},null,null,null,null,null,null,null,null,10000]
[979,15,"Antonio Nariño",4,"Hacer de Bogotá-región un modelo de movilidad, creatividad y productividad incluyente y sostenible",49,"Movilidad segura, sostenible y accesible",null,null,null,null,979,"Intervenir 450 metros lineales de Ciclo-infraestructura con acciones de construcción y/o conservación.",2186,"Acciones de mejoramiento de la malla vial y el espacio público","CICLO INFRAESTRUCTURA","Suma",null,"Intervenir",450,"Metros","lineales de Ciclo-infraestructura con acciones de construcción y/o conservación.","Intervenir 450 metros lineales de ciclo-infraestructura con acciones de construcción y/o conservación",{"$f":"VLOOKUP(AG980,'Anexo PMR'!$B$4:$G$87,6,0)","v":"2_Presupuestos Participativos 50%"},6,"Infraestructura","Diseño, construcción y conservación de ciclo-infraestructura.",95,"MOVILIDAD",33,"Ciclo infraestructura construida y/o conservada.",73,"Metros lineales construidos y/o conservados de Ciclo-infraestructura","CICLO-INFRAESTRUCTURA",null,null,null,0,0,450,0,0,0,322000000,0,322000000,1,0,0,0,0,"Bajo","Bajo",4.1628959276018097E-2,0,0,null,null,null,0,"2021_1",0,0,0,0,0,0,0,0,0,0,0,0,0,"",null,null,null,0,0,0,0,0,null,0,0,0,0,null,null,0,0,0,"",null,null,null,null,null,{"$f":"VLOOKUP(AG980,'Anexo ODS'!$G$3:$P$86,5,0)","v":3},{"$f":"VLOOKUP(AG980,'Anexo ODS'!$G$3:$P$86,6,0)","v":"La Prosperidad"},{"$f":"VLOOKUP(AG980,'Anexo ODS'!$G$3:$P$86,7,0)","v":11},{"$f":"VLOOKUP(AG980,'Anexo ODS'!$G$3:$P$86,8,0)","v":"Ciudades y comunidades sostenibles"},{"$f":"VLOOKUP(AG980,'Anexo ODS'!$G$3:$P$86,9,0)","v":"11.2"},{"$f":"VLOOKUP(AG980,'Anexo ODS'!$G$3:$P$86,10,0)","v":" De aquí a 2030, proporcionar acceso a sistemas de transporte seguros, asequibles, accesibles y sostenibles para todos y mejorar la seguridad vial, en particular mediante la ampliación del transporte público, prestando especial atención a las necesidades de las personas en situación de vulnerabilidad, las mujeres, los niños, las personas con discapacidad y las personas de edad"},null,null,null,null,null,null,null,null,450]
[984,15,"Antonio Nariño",5,"Construir Bogotá-región con gobierno abierto, transparente y ciudadanía consciente.",55,"Fortalecimiento de Cultura Ciudadana y su institucionalidad",null,null,null,null,984,"Fortalecer 70 Organizaciones, JAC e Instancias de participación ciudadana.",2190,"Acciones de fomento y fortalecimiento de procesos participativos","FORTALECIMIENTO ORGANIZATIVO","Suma",null,"Fortalecer",70,"Organizaciones",", JAC e Instancias de participación ciudadana.","Fortalecer 70 organizaciones, JAC e instancias de participación ciudadana",{"$f":"VLOOKUP(AG985,'Anexo PMR'!$B$4:$G$87,6,0)","v":"2_Presupuestos Participativos 50%"},7,"Desarrollo social y cultural","Fortalecimiento de organizaciones sociales, comunitarias, comunales, propiedad horizontal e instancias y mecanismos de participación, con énfasis en jóvenes y asociatividad productiva.",98,"GOBIERNO",35,"Espacios y procesos de participación ciudadana fortalecidos. ",79,"Número de Organizaciones, JAC e Instancias de participación ciudadana fortalecidas.","FORTALECIMIENTO ORGANIZATIVO",null,null,null,17,18,18,17,315000000,320000000,320000000,335000000,1290000000,1,0,0,0,0,"Bajo","Bajo",0.4795539033457249,0,0,null,null,null,0,"2021_1",17,17,0,0,0,0,0,0,0,0,0,0,0,"",null,null,null,299000000,299000000,0,0,0,null,0,0,0,0,null,null,0,0,0,"",null,null,null,null,null,{"$f":"VLOOKUP(AG985,'Anexo ODS'!$G$3:$P$86,5,0)","v":2},{"$f":"VLOOKUP(AG985,'Anexo ODS'!$G$3:$P$86,6,0)","v":"La Paz"},{"$f":"VLOOKUP(AG985,'Anexo ODS'!$G$3:$P$86,7,0)","v":16},{"$f":"VLOOKUP(AG985,'Anexo ODS'!$G$3:$P$86,8,0)","v":"Paz, justicia e instituciones sólidas"},{"$f":"VLOOKUP(AG985,'Anexo ODS'!$G$3:$P$86,9,0)","v":"16.7"},{"$f":"VLOOKUP(AG985,'Anexo ODS'!$G$3:$P$86,10,0)","v":"Garantizar la adopción en todos los niveles de decisiones inclusivas, participativas y representativas que respondan a las necesidades"},null,null,null,null,null,null,null,null,70]
[989,16,"Puente Aranda",1,"Hacer un nuevo contrato social con igualdad de oportunidades para la inclusión social, productiva y política",1,"Subsidios y transferencias para la equidad",null,null,null,null,989,"Atender 2.000 hogares con apoyos que contribuyan al ingreso mínimo garantizado.",1881,"Puente Aranda cuidadora y protectora de la población vulnerable","INGRESO MÍNIMO","Suma",null,"Atender",2000,"Hogares","con apoyos que contribuyan al ingreso mínimo garantizado.","Atender 2.000 hogares con apoyos que contribuyan al ingreso mínimo garantizado.",{"$f":"VLOOKUP(AG990,'Anexo PMR'!$B$4:$G$87,6,0)","v":"1_Inflexible 45%"},3,"Sistema Bogotá Solidaria (20%)","Ingreso mínimo garantizado",92,"INTEGRACIÓN SOCIAL",1,"Protección integral a personas y familias en situación de vulneración.",1,"Hogares atendidos con apoyos que contribuyan al ingreso mínimo garantizado","INGRESO MÍNIMO",null,null,null,500,500,500,500,3813000000,3737000000,3880000000,3750000000,15180000000,1,500,0.25,0,0,"Bajo","Bajo",{"$f":"AT990/SUMIF($F$990:$F$1054,F990,$AT$990:$AT$1054)","v":0.67034665489070433},0.16758666372267608,0,null,null,null,0,"2021_1",500,500,0,0,0,500,0,0,0,0,0,0,0,"Incompleto",null,null,null,3696453000,3696453000,0,0,0,2956920000,0,0,0,2956920000,2956920000,2956920000,0,0,0,"Está en ajuste la resolución y está en espera el proceso de dispersión.",null,null,null,null,null,{"$f":"VLOOKUP(AG990,'Anexo ODS'!$G$3:$P$86,5,0)","v":1},{"$f":"VLOOKUP(AG990,'Anexo ODS'!$G$3:$P$86,6,0)","v":"Las Personas"},{"$f":"VLOOKUP(AG990,'Anexo ODS'!$G$3:$P$86,7,0)","v":1},{"$f":"VLOOKUP(AG990,'Anexo ODS'!$G$3:$P$86,8,0)","v":"Fin de la pobreza"},{"$f":"VLOOKUP(AG990,'Anexo ODS'!$G$3:$P$86,9,0)","v":"1.2"},{"$f":"VLOOKUP(AG990,'Anexo ODS'!$G$3:$P$86,10,0)","v":"De aquí a 2030, reducir al menos a la mitad la proporción de hombres, mujeres y niños de todas las edades que viven en la pobreza en todas sus dimensiones con arreglo a las definiciones nacionales"},null,null,null,null,null,null,null,null,2000]
[994,16,"Puente Aranda",1,"Hacer un nuevo contrato social con igualdad de oportunidades para la inclusión social, productiva y política",6,"Sistema Distrital de Cuidado",null,null,null,null,994,"Revitalizar 2.000 Mipymes y/o emprendimientos potencializadas dentro de las aglomeraciones económicas que fomentan el empleo y/o nuevas actividades económicas.",1893,"Empleo y productividad, una apuesta del contrato social para Puente Aranda","REVITALIZACIÓN","Suma",null,"Revitalizar",2000,"Mipymes","y/o emprendimientos potencializadas dentro de las aglomeraciones económicas que fomentan el empleo y/o nuevas actividades económicas.","Revitalizar 2.000 Mipymes y/o emprendimientos potencializadas dentro de las aglomeraciones económicas que fomentan el empleo y/o nuevas actividades económicas.",{"$f":"VLOOKUP(AG995,'Anexo PMR'!$B$4:$G$87,6,0)","v":"2_Presupuestos Participativos 50%"},5,"Desarrollo de la Economía Local","Revitalización del corazón productivo de las localidades",89,"DESARROLLO ECONÓMICO, INDUSTRIA Y TURISMO",14,"Servicios de asesoría, asistencia técnica integral, dotación y/o apoyo financiero a Mipymes y/o emprendimientos.",24,"Número de Mipymes  y/o emprendimientos revitalizadas o potencializadas dentro de las aglomeraciones económicas que fomentan el empleo y/o nuevas actividades económicas","DESARROLLO DE LA ECONOMÍA LOCAL",null,null,null,500,500,500,500,772000000,600000000,400000000,400000000,2172000000,1,0,0,0,0,"Bajo","Bajo",0.12180349932705249,0,0,null,null,null,0,"2021_1",500,500,0,0,0,0,0,0,0,0,0,0,0,"",null,null,null,748403000,748403000,0,0,0,null,0,0,0,0,null,null,0,0,0,"",null,null,null,null,null,{"$f":"VLOOKUP(AG995,'Anexo ODS'!$G$3:$P$86,5,0)","v":3},{"$f":"VLOOKUP(AG995,'Anexo ODS'!$G$3:$P$86,6,0)","v":"La Prosperidad"},{"$f":"VLOOKUP(AG995,'Anexo ODS'!$G$3:$P$86,7,0)","v":8},{"$f":"VLOOKUP(AG995,'Anexo ODS'!$G$3:$P$86,8,0)","v":"Trabajo decente y crecimiento económico"},{"$f":"VLOOKUP(AG995,'Anexo ODS'!$G$3:$P$86,9,0)","v":"8.3"},{"$f":"VLOOKUP(AG995,'Anexo ODS'!$G$3:$P$86,10,0)","v":"Promover políticas orientadas al desarrollo que apoyen las actividades productivas, la creación de puestos de trabajo decentes, el emprendimiento, la creatividad y la innovación, y fomentar la formalización y el crecimiento de las microempresas y las pequeñas y medianas empresas, incluso mediante el acceso a servicios financieros"},null,null,null,null,null,null,null,null,2000]
[995,16,"Puente Aranda",1,"Hacer un nuevo contrato social con igualdad de oportunidades para la inclusión social, productiva y política",6,"Sistema Distrital de Cuidado",null,null,null,null,995,"Dotar 1 centro de atención especializado",1894,"Puente Aranda sin violencias","DOTACIÓN CENTROS DE ATENCIÓN ESPECIALIZADOS","Suma",null,"Dotart",1," centro","de atención especializado","Dotar 1 centro de atención especializado",{"$f":"VLOOKUP(AG996,'Anexo PMR'!$B$4:$G$87,6,0)","v":"2_Presupuestos Participativos 50%"},6,"Infraestructura","Dotación a Centros Crecer, Renacer.",92,"INTEGRACIÓN SOCIAL",5,"Dotación para la atención y la prestación de los servicios en la infraestructura del sector Integración Social.",26,"Centros de atención especializada dotados","CENTROS DE ATENCIÓN ESPECIALIZADOS",null,null,null,0,0,1,0,0,0,200000000,0,200000000,1,0,0,0,0,"Bajo","Bajo",1.1215791834903545E-2,0,0,null,null,null,0,"2021_1",0,0,0,0,0,0,0,0,0,0,0,0,0,"",null,null,null,0,0,0,0,0,null,0,0,0,0,null,null,0,0,0,"",null,null,null,null,null,{"$f":"VLOOKUP(AG996,'Anexo ODS'!$G$3:$P$86,5,0)","v":3},{"$f":"VLOOKUP(AG996,'Anexo ODS'!$G$3:$P$86,6,0)","v":"La Prosperidad"},{"$f":"VLOOKUP(AG996,'Anexo ODS'!$G$3:$P$86,7,0)","v":10},{"$f":"VLOOKUP(AG996,'Anexo ODS'!$G$3:$P$86,8,0)","v":"Reducción de las desigualdades "},{"$f":"VLOOKUP(AG996,'Anexo ODS'!$G$3:$P$86,9,0)","v":"10.2"},{"$f":"VLOOKUP(AG996,'Anexo ODS'!$G$3:$P$86,10,0)","v":"De aquí a 2030, potenciar y promover la inclusión social, económica y política de todas las personas, independientemente de su edad, sexo, discapacidad, raza, etnia, origen, religión o situación económica u otra condición"},null,null,null,null,null,null,null,null,1]
[1000,16,"Puente Aranda",1,"Hacer un nuevo contrato social con igualdad de oportunidades para la inclusión social, productiva y política",6,"Sistema Distrital de Cuidado",null,null,null,null,1000,"Beneficiar 500 personas con discapacidad a través de Dispositivos de Asistencia Personal - Ayudas Técnicas (no incluidas en los Planes de Beneficios).",1897,"Puente Aranda con salud","DISPOSITIVOS DE ASISTENCIA PERSONAL","Suma",null,"Beneficiar",500,"Personas","con discapacidad a través de Dispositivos de Asistencia Personal - Ayudas Técnicas (no incluidas en los Planes de Beneficios).","Beneficiar 500 personas con discapacidad a través de Dispositivos de Asistencia Personal - Ayudas Técnicas (no incluidas en los Planes de Beneficios).",{"$f":"VLOOKUP(AG1001,'Anexo PMR'!$B$4:$G$87,6,0)","v":"3_Flexible 5%"},11,"Condiciones de salud","Dispositivos de asistencia personal -DAP- Ayudas técnicas a personas con discapacidad (No incluidas en el POS).",91,"SALUD",16,"Promoción, prevención e intervención en salud.",33,"Número de personas con discapacidad beneficiadas con Dispostivos de Asistencia Personal - Ayudas Técnicas (no incluidas en los Planes de Beneficios).","ATENCIÓN  A LA DISCAPACIDAD Y SUS CUIDADORES",null,null,null,125,125,125,125,400000000,400000000,400000000,400000000,1600000000,1,0,0,0,0,"Bajo","Bajo",8.9726334679228359E-2,0,0,null,null,null,0,"2021_1",125,125,0,0,0,0,0,0,0,0,0,0,0,"",null,null,null,387774000,387774000,0,0,0,null,0,0,0,0,null,null,0,0,0,"",null,null,null,null,null,{"$f":"VLOOKUP(AG1001,'Anexo ODS'!$G$3:$P$86,5,0)","v":3},{"$f":"VLOOKUP(AG1001,'Anexo ODS'!$G$3:$P$86,6,0)","v":"La Prosperidad"},{"$f":"VLOOKUP(AG1001,'Anexo ODS'!$G$3:$P$86,7,0)","v":10},{"$f":"VLOOKUP(AG1001,'Anexo ODS'!$G$3:$P$86,8,0)","v":"Reducción de las desigualdades "},{"$f":"VLOOKUP(AG1001,'Anexo ODS'!$G$3:$P$86,9,0)","v":"10.2"},{"$f":"VLOOKUP(AG1001,'Anexo ODS'!$G$3:$P$86,10,0)","v":"De aquí a 2030, potenciar y promover la inclusión social, económica y política de todas las personas, independientemente de su edad, sexo, discapacidad, raza, etnia, origen, religión o situación económica u otra condición"},null,null,null,null,null,null,null,null,500]
[1005,16,"Puente Aranda",1,"Hacer un nuevo contrato social con igualdad de oportunidades para la inclusión social, productiva y política",8,"Prevención y atención de maternidad temprana",null,null,null,null,1005,"Vincular 2000 personas a las acciones y estrategias para la prevención del embarazo adolescente.",1899,"Puente Aranda educada en prevención de embarazo","PREVENCIÓN","Suma",null,"Vincular",2000,"Personas","a las acciones y estrategias para la prevención del embarazo adolescente.","Vincular 2000 personas a las acciones y estrategias para la prevención del embarazo adolescente.",{"$f":"VLOOKUP(AG1006,'Anexo PMR'!$B$4:$G$87,6,0)","v":"3_Flexible 5%"},11,"Condiciones de salud","Prevención del embarazo en adolescentes.",91,"SALUD",16,"Promoción, prevención e intervención en salud.",37,"Número de personas vinculadas a las acciones y estrategias para la prevención del embarazo adolescente","PREVENCIÓN DEL EMBARAZO",null,null,null,0,1000,0,1000,0,300000000,0,300000000,600000000,1,0,0,0,0,"Bajo","Bajo",1,0,0,null,null,null,0,"2021_1",0,0,0,0,0,0,0,0,0,0,0,0,0,"",null,null,null,0,0,0,0,0,null,0,0,0,0,null,null,0,0,0,"",null,null,null,null,null,{"$f":"VLOOKUP(AG1006,'Anexo ODS'!$G$3:$P$86,5,0)","v":1},{"$f":"VLOOKUP(AG1006,'Anexo ODS'!$G$3:$P$86,6,0)","v":"Las Personas"},{"$f":"VLOOKUP(AG1006,'Anexo ODS'!$G$3:$P$86,7,0)","v":3},{"$f":"VLOOKUP(AG1006,'Anexo ODS'!$G$3:$P$86,8,0)","v":"Salud y Bienestar"},{"$f":"VLOOKUP(AG1006,'Anexo ODS'!$G$3:$P$86,9,0)","v":"3.7"},{"$f":"VLOOKUP(AG1006,'Anexo ODS'!$G$3:$P$86,10,0)","v":"De aquí a 2030, garantizar el acceso universal a los servicios de salud sexual y reproductiva, incluidos los de planificación familiar, información y educación, y la integración de la salud reproductiva en las estrategias y los programas nacionales"},null,null,null,null,null,null,null,null,2000]
[1010,16,"Puente Aranda",1,"Hacer un nuevo contrato social con igualdad de oportunidades para la inclusión social, productiva y política",20,"Bogotá, referente en cultura, deporte, recreación y actividad física, con parques para el desarrollo y la salud",null,null,null,null,1010,"Beneficiar 2.000 Personas con artículos deportivos entregados.",1887,"Puente Aranda referente en cultura, deporte y recreación","DOTACIÓN","Suma",null,"Beneficiar",2000,"Personas","con artículos deportivos entregados.","Beneficiar 2.000 Personas con artículos deportivos entregados.",{"$f":"VLOOKUP(AG1011,'Anexo PMR'!$B$4:$G$87,6,0)","v":"2_Presupuestos Participativos 50%"},7,"Desarrollo social y cultural","Procesos de formación y dotación de insumos para los campos artísticos, interculturales, culturales, patrimoniales y deportivos.",93,"CULTURA, RECREACIÓN Y DEPORTE",7,"Eventos y actividades recreativas y deportivas.",12,"Personas beneficiadas con artículos entregados.","ACTIVIDAD DEPORTIVA",null,null,null,2000,0,0,0,200000000,0,0,0,200000000,1,0,0,0,0,"Bajo","Bajo",4.2744176106005553E-2,0,0,null,null,null,0,"2021_1",2000,2000,0,0,0,0,0,0,0,0,0,0,0,"",null,null,null,193887000,193887000,0,0,0,null,0,0,0,0,null,null,0,0,0,"",null,null,null,null,null,{"$f":"VLOOKUP(AG1011,'Anexo ODS'!$G$3:$P$86,5,0)","v":1},{"$f":"VLOOKUP(AG1011,'Anexo ODS'!$G$3:$P$86,6,0)","v":"Las Personas"},{"$f":"VLOOKUP(AG1011,'Anexo ODS'!$G$3:$P$86,7,0)","v":3},{"$f":"VLOOKUP(AG1011,'Anexo ODS'!$G$3:$P$86,8,0)","v":"Salud y Bienestar"},{"$f":"VLOOKUP(AG1011,'Anexo ODS'!$G$3:$P$86,9,0)","v":"3.d"},{"$f":"VLOOKUP(AG1011,'Anexo ODS'!$G$3:$P$86,10,0)","v":"Reforzar la capacidad de todos los países, en particular los países en desarrollo, en materia de alerta temprana, reducción de riesgos y gestión de los riesgos para la salud\nnacional y mundial"},null,null,null,null,null,null,null,null,2000]
[1011,16,"Puente Aranda",1,"Hacer un nuevo contrato social con igualdad de oportunidades para la inclusión social, productiva y política",20,"Bogotá, referente en cultura, deporte, recreación y actividad física, con parques para el desarrollo y la salud",null,null,null,null,1011,"Capacitar 4.000 personas en los campos deportivos.",1887,"Puente Aranda referente en cultura, deporte y recreación","FORMACIÓN DEPORTIVA","Suma",null,"Capacitar",4000,"Personas","en los campos deportivos","Capacitar 4.000 personas en los campos deportivos.",{"$f":"VLOOKUP(AG1012,'Anexo PMR'!$B$4:$G$87,6,0)","v":"2_Presupuestos Participativos 50%"},7,"Desarrollo social y cultural","Procesos de formación y dotación de insumos para los campos artísticos, interculturales, culturales, patrimoniales y deportivos.",93,"CULTURA, RECREACIÓN Y DEPORTE",7,"Eventos y actividades recreativas y deportivas.",11,"Personas capacitadas en los campos deportivos","FORMACIÓN DEPORTIVA",null,null,null,1000,1000,1000,1000,220000000,235000000,250000000,267000000,972000000,1,1000,0.25,0,0,"Bajo","Bajo",0.20773669587518701,5.1934173968796751E-2,0,null,null,null,0,"2021_1",1000,1000,0,0,0,1000,0,0,0,0,0,0,0,"Incompleto",null,null,null,213276000,213276000,0,0,0,166635000,0,0,0,166635000,0,0,0,0,0,"",null,null,null,null,null,{"$f":"VLOOKUP(AG1012,'Anexo ODS'!$G$3:$P$86,5,0)","v":1},{"$f":"VLOOKUP(AG1012,'Anexo ODS'!$G$3:$P$86,6,0)","v":"Las Personas"},{"$f":"VLOOKUP(AG1012,'Anexo ODS'!$G$3:$P$86,7,0)","v":4},{"$f":"VLOOKUP(AG1012,'Anexo ODS'!$G$3:$P$86,8,0)","v":"Educación de calidad"},{"$f":"VLOOKUP(AG1012,'Anexo ODS'!$G$3:$P$86,9,0)","v":"4.7"},{"$f":"VLOOKUP(AG1012,'Anexo ODS'!$G$3:$P$86,10,0)","v":"De aquí a 2030, asegurar que todos los alumnos adquieran los conocimientos teóricos y prácticos necesarios para promover el desarrollo sostenible, entre otras cosas mediante la educación para el desarrollo sostenible y los estilos de vida sostenibles, los derechos humanos, la igualdad de género, la promoción de una cultura de paz y no violencia, la ciudadanía mundial y la valoración de la diversidad cultural y la contribución de la cultura al desarrollo sostenible"},null,null,null,null,null,null,null,null,4000]
[1016,16,"Puente Aranda",1,"Hacer un nuevo contrato social con igualdad de oportunidades para la inclusión social, productiva y política",21,"Creación y vida cotidiana: Apropiación ciudadana del arte, la cultura y el patrimonio, para la democracia cultural",null,null,null,null,1016,"Realizar 8 eventos de promoción de actividades culturales.",1890,"Arte, cultura y patrimonio, un nuevo pacto social para Puente Aranda","EVENTOS","Suma",null,"Realizar",8,"Eventos","de promoción de actividades culturales.","Realizar 8 eventos de promoción de actividades culturales.",{"$f":"VLOOKUP(AG1017,'Anexo PMR'!$B$4:$G$87,6,0)","v":"2_Presupuestos Participativos 50%"},7,"Desarrollo social y cultural","Circulación y apropiación de prácticas artísticas, interculturales, culturales y patrimoniales.",93,"CULTURA, RECREACIÓN Y DEPORTE",8,"Espacios artísticos y culturales.",13,"Eventos de promoción de actividades culturales realizadas","ACTIVIDAD CULTURAL",null,null,null,2,2,2,2,210000000,221000000,232000000,243000000,906000000,1,0,0,0,0,"Bajo","Bajo",0.30995552514539854,0,0,null,null,null,0,"2021_1",2,2,0,0,0,0,0,0,0,0,0,0,0,"",null,null,null,203581000,203581000,0,0,0,null,0,0,0,0,null,null,0,0,0,"",null,null,null,null,null,{"$f":"VLOOKUP(AG1017,'Anexo ODS'!$G$3:$P$86,5,0)","v":3},{"$f":"VLOOKUP(AG1017,'Anexo ODS'!$G$3:$P$86,6,0)","v":"La Prosperidad"},{"$f":"VLOOKUP(AG1017,'Anexo ODS'!$G$3:$P$86,7,0)","v":11},{"$f":"VLOOKUP(AG1017,'Anexo ODS'!$G$3:$P$86,8,0)","v":"Ciudades y comunidades sostenibles"},{"$f":"VLOOKUP(AG1017,'Anexo ODS'!$G$3:$P$86,9,0)","v":"11.4"},{"$f":"VLOOKUP(AG1017,'Anexo ODS'!$G$3:$P$86,10,0)","v":"Redoblar los esfuerzos para proteger y salvaguardar el patrimonio cultural y natural del mundo"},null,null,null,null,null,null,null,null,8]
[1021,16,"Puente Aranda",2,"Cambiar nuestros hábitos de vida para reverdecer a Bogotá y adaptarnos y mitigar el cambio climático.",27,"Cambio cultural para la gestión de la crisis climática",null,null,null,null,1021,"Intervenir 300 m2 de jardinería y coberturas verdes. ",2001,"Educación ambiental y eco urbanismo en Puente Aranda","JARDINERÍA","Suma",null,"Intervenir",300,"Metros cuadrados","de jardinería y coberturas verdes.","Intervenir 300 m2 de jardinería y coberturas verdes.",{"$f":"VLOOKUP(AG1022,'Anexo PMR'!$B$4:$G$87,6,0)","v":"2_Presupuestos Participativos 50%"},8,"Inversiones ambientales sostenibles","Eco-urbanismo.",94,"AMBIENTE",17,"Calidad ambiental y preservación del patrimonio natural.",40,"m2 de jardinería y coberturas verdes","INTERVENCIONES VERDES",null,null,null,0,0,0,300,0,0,0,200000000,200000000,1,0,0,0,0,"Bajo","Bajo",{"$f":"AT1022/SUMIF($F$990:$F$1054,F1022,$AT$990:$AT$1054)","v":0.13908205841446453},0,0,null,null,null,0,"2021_1",0,0,0,0,0,0,0,0,0,0,0,0,0,"",null,null,null,0,0,0,0,0,null,0,0,0,0,null,null,0,0,0,"",null,null,null,null,null,{"$f":"VLOOKUP(AG1022,'Anexo ODS'!$G$3:$P$86,5,0)","v":3},{"$f":"VLOOKUP(AG1022,'Anexo ODS'!$G$3:$P$86,6,0)","v":"La Prosperidad"},{"$f":"VLOOKUP(AG1022,'Anexo ODS'!$G$3:$P$86,7,0)","v":11},{"$f":"VLOOKUP(AG1022,'Anexo ODS'!$G$3:$P$86,8,0)","v":"Ciudades y comunidades sostenibles"},{"$f":"VLOOKUP(AG1022,'Anexo ODS'!$G$3:$P$86,9,0)","v":"11.3"},{"$f":"VLOOKUP(AG1022,'Anexo ODS'!$G$3:$P$86,10,0)","v":"De aquí a 2030, aumentar la urbanización inclusiva y sostenible y la capacidad para la planificación y la gestión participativas, integradas y sostenibles de los asentamientos"},null,null,null,null,null,null,null,null,300]
[1026,16,"Puente Aranda",2,"Cambiar nuestros hábitos de vida para reverdecer a Bogotá y adaptarnos y mitigar el cambio climático.",33,"Más árboles y más y mejor espacio público ",null,null,null,null,1026,"Plantar 500 árboles urbanos.",2003,"Arbolado para Puente Aranda","ARBORIZACIÓN","Suma",null,"Plantar",500,"Árboles","urbanos","Plantar 500 árboles urbanos y/o rurales.",{"$f":"VLOOKUP(AG1027,'Anexo PMR'!$B$4:$G$87,6,0)","v":"2_Presupuestos Participativos 50%"},8,"Inversiones ambientales sostenibles","Arbolado urbano y/o rural.",94,"AMBIENTE",19,"Plantación y mantenimiento de árboles, jardines y especies vegetales. ",45,"Número de árboles plantados","ARBOLADO",null,null,null,250,0,250,0,350000000,0,448000000,0,798000000,1,0,0,0,0,"Bajo","Bajo",0.2498434564809017,{"$f":"BB1027*AW1027","v":0},{"$f":"BB1027*AY1027","v":0},null,null,null,0,"2021_1",250,250,0,0,0,0,0,0,0,0,0,0,0,"No mueve meta",null,null,null,339302000,339302000,0,0,0,29328000,0,0,0,{"$f":"SUM(CF1027:CI1027)","v":29328000},0,0,0,0,0,"La contratqación del corte no mueve meta.",null,null,null,null,null,{"$f":"VLOOKUP(AG1027,'Anexo ODS'!$G$3:$P$86,5,0)","v":4},{"$f":"VLOOKUP(AG1027,'Anexo ODS'!$G$3:$P$86,6,0)","v":"El Planeta"},{"$f":"VLOOKUP(AG1027,'Anexo ODS'!$G$3:$P$86,7,0)","v":15},{"$f":"VLOOKUP(AG1027,'Anexo ODS'!$G$3:$P$86,8,0)","v":"Vida de ecosistemas terrestres"},{"$f":"VLOOKUP(AG1027,'Anexo ODS'!$G$3:$P$86,9,0)","v":"15.1"},{"$f":"VLOOKUP(AG1027,'Anexo ODS'!$G$3:$P$86,10,0)","v":"De aquí a 2020, asegurar la conservación, el restablecimiento y el uso sostenible de los ecosistemas terrestres y los ecosistemas interiores de agua dulce y sus servicios, en particular los bosques, los humedales, las montañas y las zonas áridas, en consonancia con las obligaciones contraídas en virtud de acuerdos internacionales"},null,null,null,null,null,null,null,null,500]
[1027,16,"Puente Aranda",2,"Cambiar nuestros hábitos de vida para reverdecer a Bogotá y adaptarnos y mitigar el cambio climático.",33,"Más árboles y más y mejor espacio público",null,null,null,null,1027,"\"Intervenir 8 parques vecinales y/o de bolsillo con acciones de mejoramiento, mantenimiento y/o dotación\"",2215,"Parques para puente aranda","INTERVENCIÓN","Suma",null,"Intervenir ",8,"parques vecinales y/o de bolsillo","con acciones de mejoramiento, mantenimiento y/o dotación\"","\"Intervenir 8 parques vecinales y/o de bolsillo con acciones de mejoramiento, mantenimiento y/o dotación\"",{"$f":"VLOOKUP(AG1028,'Anexo PMR'!$B$4:$G$87,6,0)","v":"2_Presupuestos Participativos 50%"},6,"Infraestructura","Construcción, mantenimiento y dotación de parques vecinales y/o de bolsillo.",93,"CULTURA, RECREACIÓN Y DEPORTE",20,"Parques y escenarios deportivos.",47,"Número de Parques vecinales y/o de bolsillo intervenidos en mejoramiento, mantenimiento y/o dotación","PARQUES",null,null,null,0,0,0,8,0,0,0,1798000000,1798000000,1,0,0,0,0,"Bajo","Bajo",0.56293049467752032,0,0,null,null,null,0,"2021_1",0,0,0,0,0,0,0,0,0,0,0,0,0,"",null,null,null,0,0,0,0,0,null,0,0,0,0,null,null,0,0,0,"",null,null,null,null,null,{"$f":"VLOOKUP(AG1028,'Anexo ODS'!$G$3:$P$86,5,0)","v":3},{"$f":"VLOOKUP(AG1028,'Anexo ODS'!$G$3:$P$86,6,0)","v":"La Prosperidad"},{"$f":"VLOOKUP(AG1028,'Anexo ODS'!$G$3:$P$86,7,0)","v":11},{"$f":"VLOOKUP(AG1028,'Anexo ODS'!$G$3:$P$86,8,0)","v":"Ciudades y comunidades sostenibles"},{"$f":"VLOOKUP(AG1028,'Anexo ODS'!$G$3:$P$86,9,0)","v":"11.7"},{"$f":"VLOOKUP(AG1028,'Anexo ODS'!$G$3:$P$86,10,0)","v":"De aquí a 2030, proporcionar acceso universal a zonas verdes y espacios públicos seguros, inclusivos y accesibles, en particular para las mujeres y los niños, las personas de edad y las personas con discapacidad"},null,null,null,null,null,null,null,null,8]
[1032,16,"Puente Aranda",3,"Inspirar confianza y legitimidad para vivir sin miedo y ser epicentro de cultura ciudadana, paz y reconciliación.",40,"Más mujeres viven una vida libre de violencias, se sienten seguras y acceden con confianza al sistema de justicia",null,null,null,null,1032,"Vincular 2.000 personas en acciones para la prevención del feminicidio y la violencia contra la mujer.",1901,"Mujeres libres y seguras en Puente Aranda","PREVENCIÓN","Suma",null,"Vincular",2000,"Personas","en acciones para la prevención del feminicidio y la violencia contra la mujer.","Vincular 2.000 personas en acciones para la prevención del feminicidio y la violencia contra la mujer.",{"$f":"VLOOKUP(AG1033,'Anexo PMR'!$B$4:$G$87,6,0)","v":"2_Presupuestos Participativos 50%"},7,"Desarrollo social y cultural","Prevención del feminicidio y la violencia contra la mujer.",100,"MUJERES",27,"Prevención, atención y gestión del conflicto en la localidad.",54,"Número de Personas vinculadas en acciones para la prevención del feminicidio y la violencia contra la mujer","PREVENCIÓN DE LA VIOLENCIA",null,null,null,500,500,500,500,410000000,415000000,420000000,430000000,1675000000,1,0,0,0,0,"Bajo","Bajo",0.68591318591318595,0,0,null,null,null,0,"2021_1",500,500,0,0,0,0,0,0,0,0,0,0,0,"",null,null,null,397468000,397468000,0,0,0,null,0,0,0,0,null,null,0,0,0,"",null,null,null,null,null,{"$f":"VLOOKUP(AG1033,'Anexo ODS'!$G$3:$P$86,5,0)","v":1},{"$f":"VLOOKUP(AG1033,'Anexo ODS'!$G$3:$P$86,6,0)","v":"Las Personas"},{"$f":"VLOOKUP(AG1033,'Anexo ODS'!$G$3:$P$86,7,0)","v":5},{"$f":"VLOOKUP(AG1033,'Anexo ODS'!$G$3:$P$86,8,0)","v":"Igualdad de género"},{"$f":"VLOOKUP(AG1033,'Anexo ODS'!$G$3:$P$86,9,0)","v":"5.2"},{"$f":"VLOOKUP(AG1033,'Anexo ODS'!$G$3:$P$86,10,0)","v":"Eliminar todas las formas de violencia contra todas las mujeres y las niñas en los ámbitos público y privado, incluidas la trata y la explotación sexual y otros tipos de explotación"},null,null,null,null,null,null,null,null,2000]
[1037,16,"Puente Aranda",3,"Inspirar confianza y legitimidad para vivir sin miedo y ser epicentro de cultura ciudadana, paz y reconciliación.",45,"Espacio público más seguro y construido colectivamente",null,null,null,null,1037,"Realizar 2 acuerdos para la vinculación de la ciudadanía en los programas adelantados por el IDRD y acuerdos con vendedores informales o estacionarios",1903,"Acuerdos para el espacio público en el marco del contrato social para Puente Aranda","ACUERDOS CIUDADANOS","Suma",null,"Realizar",2,"Acuerdos","para la vinculación de la ciudadanía en los programas adelantados por el IDRD y acuerdos con vendedores informales o estacionarios","Realizar 2 acuerdos para la vinculación de la ciudadanía en los programas adelantados por el IDRD y acuerdos con vendedores informales o estacionarios",{"$f":"VLOOKUP(AG1038,'Anexo PMR'!$B$4:$G$87,6,0)","v":"2_Presupuestos Participativos 50%"},7,"Desarrollo social y cultural","Acuerdos para mejorar el uso de medios de transporte no motorizados.",98,"GOBIERNO",28,"Acuerdos ciudadanos suscritos.",60,"Acuerdos realizados para la vinculación de la ciudadanía en los programas adelantados por el IDRD y acuerdos con vendedores informales o estacionarios ","\nACUERDOS DE ESPACIO PÚBLICO",null,null,null,0,0,2,0,0,0,224000000,0,224000000,1,0,0,0,0,"Bajo","Bajo",0.13068844807467911,0,0,null,null,null,0,"2021_1",0,0,0,0,0,0,0,0,0,0,0,0,0,"",null,null,null,0,0,0,0,0,null,0,0,0,0,null,null,0,0,0,"",null,null,null,null,null,{"$f":"VLOOKUP(AG1038,'Anexo ODS'!$G$3:$P$86,5,0)","v":2},{"$f":"VLOOKUP(AG1038,'Anexo ODS'!$G$3:$P$86,6,0)","v":"La Paz"},{"$f":"VLOOKUP(AG1038,'Anexo ODS'!$G$3:$P$86,7,0)","v":16},{"$f":"VLOOKUP(AG1038,'Anexo ODS'!$G$3:$P$86,8,0)","v":"Paz, justicia e instituciones sólidas"},{"$f":"VLOOKUP(AG1038,'Anexo ODS'!$G$3:$P$86,9,0)","v":"16.1"},{"$f":"VLOOKUP(AG1038,'Anexo ODS'!$G$3:$P$86,10,0)","v":"Reducir significativamente todas las formas de violencia y las correspondientes tasas de mortalidad en todo el mundo"},null,null,null,null,null,null,null,null,2]
[1042,16,"Puente Aranda",3,"Inspirar confianza y legitimidad para vivir sin miedo y ser epicentro de cultura ciudadana, paz y reconciliación.",48,"Plataforma institucional para la seguridad y justicia",null,null,null,null,1042,"Suministrar 1 dotación tecnológica a organismos de seguridad.",2217,"Dotación en seguridad para Puente Aranda","DOTACIÓN","Suma",null,"Suministrar",1,"Dotaciones","tecnológicas a organismos de seguridad.","Suministrar 1 dotación tecnológica a organismos de seguridad.",{"$f":"VLOOKUP(AG1043,'Anexo PMR'!$B$4:$G$87,6,0)","v":"2_Presupuestos Participativos 50%"},7,"Desarrollo social y cultural","Dotación para instancias de seguridad.",102,"SEGURIDAD, CONVIVENCIA Y JUSTICIA",30,"Infraestructura y dotaciones para seguridad.",65,"Dotaciones tecnológicas suministradas a organismos de seguridad.","DOTACIÓN EN SEGURIDAD",null,null,null,0,0,1,0,0,0,1349000000,0,1349000000,1,0,0,0,0,"Bajo","Bajo",0.40474047404740476,0,0,null,null,null,0,"2021_1",0,0,0,0,0,0,0,0,0,0,0,0,0,"",null,null,null,0,0,0,0,0,null,0,0,0,0,null,null,0,0,0,"",null,null,null,null,null,{"$f":"VLOOKUP(AG1043,'Anexo ODS'!$G$3:$P$86,5,0)","v":2},{"$f":"VLOOKUP(AG1043,'Anexo ODS'!$G$3:$P$86,6,0)","v":"La Paz"},{"$f":"VLOOKUP(AG1043,'Anexo ODS'!$G$3:$P$86,7,0)","v":16},{"$f":"VLOOKUP(AG1043,'Anexo ODS'!$G$3:$P$86,8,0)","v":"Paz, justicia e instituciones sólidas"},{"$f":"VLOOKUP(AG1043,'Anexo ODS'!$G$3:$P$86,9,0)","v":"16.a"},{"$f":"VLOOKUP(AG1043,'Anexo ODS'!$G$3:$P$86,10,0)","v":"Fortalecer las instituciones nacionales pertinentes, incluso mediante la cooperación internacional, para crear a todos los niveles, particularmente en los países en desarrollo, la capacidad de prevenir la violencia y combatir el terrorismo y la delincuencia"},null,null,null,null,null,null,null,null,1]
[1043,16,"Puente Aranda",4,"Hacer de Bogotá-región un modelo de movilidad, creatividad y productividad incluyente y sostenible",49,"Movilidad segura, sostenible y accesible",null,null,null,null,1043,"Intervenir 11.000 metros cuadrados de elementos del sistema de espacio público peatonal con acciones de construcción y/o conservación.",1905,"Movilidad segura, sostenible y accesible para Puente Aranda","CONSTRUCCIÓN Y CONSERVACIÓN ","Suma",null,"Intervenir",11000,"Metros cuadrados","de elementos del sistema de espacio público peatonal con acciones de construcción y/o conservación.","Intervenir 11.000 metros cuadrados de elementos del sistema de espacio público peatonal con acciones de construcción y/o conservación.",{"$f":"VLOOKUP(AG1044,'Anexo PMR'!$B$4:$G$87,6,0)","v":"2_Presupuestos Participativos 50%"},6,"Infraestructura","Construcción y/o conservación de elementos del sistema de espacio público peatonal.",95,"MOVILIDAD",31," Espacio público.",69,"Metros cuadrados construidos y/o conservados de elementos del sistema de espacio público peatonal.","ESPACIO PÚBLICO",null,null,null,11000,0,0,0,1294000000,0,0,0,1294000000,1,0,0,0,0,"Bajo","Bajo",0.16560020476068596,0,0,null,null,null,0,"2021_1",11000,11000,0,0,0,0,0,0,0,0,0,0,0,"No mueve meta",null,null,null,1254448000,1254448000,0,0,0,155792000,0,0,0,155792000,10670399,10670399,0,0,0,"la contratación del corte no mueve meta.",null,null,null,null,null,{"$f":"VLOOKUP(AG1044,'Anexo ODS'!$G$3:$P$86,5,0)","v":3},{"$f":"VLOOKUP(AG1044,'Anexo ODS'!$G$3:$P$86,6,0)","v":"La Prosperidad"},{"$f":"VLOOKUP(AG1044,'Anexo ODS'!$G$3:$P$86,7,0)","v":11},{"$f":"VLOOKUP(AG1044,'Anexo ODS'!$G$3:$P$86,8,0)","v":"Ciudades y comunidades sostenibles"},{"$f":"VLOOKUP(AG1044,'Anexo ODS'!$G$3:$P$86,9,0)","v":"11.7"},{"$f":"VLOOKUP(AG1044,'Anexo ODS'!$G$3:$P$86,10,0)","v":" De aquí a 2030, proporcionar acceso universal a zonas verdes y espacios públicos seguros, inclusivos y accesibles, en particular para las mujeres y los niños, las personas de edad y las personas con discapacidad"},null,null,null,null,null,null,null,null,11000]
[1048,16,"Puente Aranda",5,"Construir Bogotá-región con gobierno abierto, transparente y ciudadanía consciente.",55,"Fortalecimiento de Cultura Ciudadana y su institucionalidad",null,null,null,null,1048,"Construir 2 sedes de salones comunales",1906,"Fortalecimiento de la participación ciudadana en Puente Aranda","CONSTRUCCIÓN","Suma",null,"Construir",2,"Sedes","de salones comunales","Construir 2 sedes de salones comunales",{"$f":"VLOOKUP(AG1049,'Anexo PMR'!$B$4:$G$87,6,0)","v":"2_Presupuestos Participativos 50%"},6,"Infraestructura","Intervención y dotación de salones comunales.",98,"GOBIERNO",35,"Espacios y procesos de participación ciudadana fortalecidos. ",77,"Sedes construidas de salones comunales","SALONES COMUNALES",null,null,null,2,0,0,0,765000000,0,0,0,765000000,1,0,0,0,0,"Bajo","Bajo",0.15130537974683544,0,0,null,null,null,0,"2021_1",2,2,0,0,0,0,0,0,0,0,0,0,0,"",null,null,null,741617000,741617000,0,0,0,null,0,0,0,0,null,null,0,0,0,"",null,null,null,null,null,{"$f":"VLOOKUP(AG1049,'Anexo ODS'!$G$3:$P$86,5,0)","v":3},{"$f":"VLOOKUP(AG1049,'Anexo ODS'!$G$3:$P$86,6,0)","v":"La Prosperidad"},{"$f":"VLOOKUP(AG1049,'Anexo ODS'!$G$3:$P$86,7,0)","v":11},{"$f":"VLOOKUP(AG1049,'Anexo ODS'!$G$3:$P$86,8,0)","v":"Ciudades y comunidades sostenibles"},{"$f":"VLOOKUP(AG1049,'Anexo ODS'!$G$3:$P$86,9,0)","v":"11.3"},{"$f":"VLOOKUP(AG1049,'Anexo ODS'!$G$3:$P$86,10,0)","v":"De aquí a 2030, aumentar la urbanización inclusiva y sostenible y la capacidad para la planificación y la gestión participativas, integradas y sostenibles de los asentamientos humanos en todos los países"},null,null,null,null,null,null,null,null,2]
[1053,16,"Puente Aranda",5,"Construir Bogotá-región con gobierno abierto, transparente y ciudadanía consciente.",57,"Gestión Pública Local",null,null,null,null,1053,"Realizar 4 acciones de inspección, vigilancia y control.",1908,"Inspección, vigilancia y control","IVC","Suma",null,"Realizar",4,"Acciones","de inspección, vigilancia y control","Realizar 4 acciones de inspección, vigilancia y control.",{"$f":"VLOOKUP(AG1054,'Anexo PMR'!$B$4:$G$87,6,0)","v":"1_Inflexible 45%"},2,"Inspección, vigilancia y control","Inspección, vigilancia y control.",98,"GOBIERNO",38,"Inspección, vigilancia y control (IVC).",84,"Acciones de inspección, vigilancia y control realizadas","IVC",null,null,null,1,1,1,1,352000000,377000000,409000000,446000000,1584000000,1,1,0.25,1,0.25,"Bajo","Bajo",9.2609915809167442E-2,2.3152478952291861E-2,2.3152478952291861E-2,null,null,null,0,"2021_1",1,1,0,0,0,1,0,0,0,1,0,0,0,"Incompleto",null,null,null,341241000,341241000,0,0,0,243680000,0,0,0,243680000,6194933,6194933,0,0,0,"",null,null,null,null,null,{"$f":"VLOOKUP(AG1054,'Anexo ODS'!$G$3:$P$86,5,0)","v":2},{"$f":"VLOOKUP(AG1054,'Anexo ODS'!$G$3:$P$86,6,0)","v":"La Paz"},{"$f":"VLOOKUP(AG1054,'Anexo ODS'!$G$3:$P$86,7,0)","v":16},{"$f":"VLOOKUP(AG1054,'Anexo ODS'!$G$3:$P$86,8,0)","v":"Paz, justicia e instituciones sólidas"},{"$f":"VLOOKUP(AG1054,'Anexo ODS'!$G$3:$P$86,9,0)","v":"16.6"},{"$f":"VLOOKUP(AG1054,'Anexo ODS'!$G$3:$P$86,10,0)","v":"Garantizar el acceso público a la información y proteger las libertades fundamentales, de conformidad con las leyes nacionales y los acuerdos internacionales"},null,null,null,null,null,null,null,null,4]
[1058,17,"La Candelaria",1,"Hacer un nuevo contrato social con igualdad de oportunidades para la inclusión social, productiva y política",6,"Sistema Distrital de Cuidado",null,null,null,null,1058,"Promover en 75 Mipymes y/o emprendimientos procesos de reconversión hacia actividades sostenibles, incluyendo la asesoría, acompañamiento técnico y/o apoyo económico.",1628,"La Candelaria productiva y resiliente","REACTIVACIÓN","Suma",null,"Promover",75,"Mipymes","y/o emprendimientos procesos de reconversión hacia actividades sostenibles, incluyendo la asesoría, acompañamiento técnico y/o apoyo económico.","Promover en 75 Mipymes y/o emprendimientos procesos de reconversión hacia actividades sostenibles, incluyendo la asesoría, acompañamiento técnico y/o apoyo económico.",{"$f":"VLOOKUP(AG1059,'Anexo PMR'!$B$4:$G$87,6,0)","v":"2_Presupuestos Participativos 50%"},5,"Desarrollo de la Economía Local","Reactivación y reconversión verde",89,"DESARROLLO ECONÓMICO, INDUSTRIA Y TURISMO",14,"Servicios de asesoría, asistencia técnica integral, dotación y/o apoyo financiero a Mipymes y/o emprendimientos.",22,"Número de Mipymes y/o emprendimientos con procesos de reconversión hacia actividades sostenibles","DESARROLLO DE LA ECONOMÍA LOCAL",null,null,null,35,0,40,0,244000000,0,244000000,0,488000000,1,0,0,0,0,"Bajo","Bajo",8.6142983230361875E-2,0,0,null,null,null,0,"2021_1",35,35,0,0,0,0,0,0,0,0,0,0,0,"No mueve meta",null,null,null,213614000,213614000,0,0,0,51120000,0,0,0,51120000,0,0,0,0,0,"",null,null,null,null,null,{"$f":"VLOOKUP(AG1059,'Anexo ODS'!$G$3:$P$86,5,0)","v":3},{"$f":"VLOOKUP(AG1059,'Anexo ODS'!$G$3:$P$86,6,0)","v":"La Prosperidad"},{"$f":"VLOOKUP(AG1059,'Anexo ODS'!$G$3:$P$86,7,0)","v":8},{"$f":"VLOOKUP(AG1059,'Anexo ODS'!$G$3:$P$86,8,0)","v":"Trabajo decente y crecimiento económico"},{"$f":"VLOOKUP(AG1059,'Anexo ODS'!$G$3:$P$86,9,0)","v":"8.3"},{"$f":"VLOOKUP(AG1059,'Anexo ODS'!$G$3:$P$86,10,0)","v":"Promover políticas orientadas al desarrollo que apoyen las actividades productivas, la creación de puestos de trabajo decentes, el emprendimiento, la creatividad y la innovación, y fomentar la formalización y el crecimiento de las microempresas y las pequeñas y medianas empresas, incluso mediante el acceso a servicios financieros"},null,null,null,null,null,null,null,null,75]
[1059,17,"La Candelaria",1,"Hacer un nuevo contrato social con igualdad de oportunidades para la inclusión social, productiva y política",6,"Sistema Distrital de Cuidado",null,null,null,null,1059,"Revitalizar 100 Mipymes y/o emprendimientos, potencializadas dentro de las aglomeraciones económicas que fomentan el empleo y/o nuevas actividades económicas incluyendo la asesoría, acompañamiento técnico y/o apoyo económico.",1628,"La Candelaria productiva y resiliente","REVITALIZACIÓN","Suma",null,"Revitalizar",100,"Mipymes","y/o emprendimientos, potencializadas dentro de las aglomeraciones económicas que fomentan el empleo y/o nuevas actividades económicas incluyendo la asesoría, acompañamiento técnico y/o apoyo económico.","Revitalizar 100 Mipymes y/o emprendimientos, potencializadas dentro de las aglomeraciones económicas que fomentan el empleo y/o nuevas actividades económicas incluyendo la asesoría, acompañamiento técnico y/o apoyo económico.",{"$f":"VLOOKUP(AG1060,'Anexo PMR'!$B$4:$G$87,6,0)","v":"2_Presupuestos Participativos 50%"},5,"Desarrollo de la Economía Local","Revitalización del corazón productivo de las localidades",89,"DESARROLLO ECONÓMICO, INDUSTRIA Y TURISMO",14,"Servicios de asesoría, asistencia técnica integral, dotación y/o apoyo financiero a Mipymes y/o emprendimientos.",24,"Número de Mipymes  y/o emprendimientos revitalizadas o potencializadas dentro de las aglomeraciones económicas que fomentan el empleo y/o nuevas actividades económicas","DESARROLLO DE LA ECONOMÍA LOCAL",null,null,null,30,35,35,0,358000000,358000000,360000000,0,1076000000,1,0,0,0,0,"Bajo","Bajo",0.18993821712268313,0,0,null,null,null,0,"2021_1",30,30,0,0,0,0,0,0,0,0,0,0,0,"No mueve meta",null,null,null,313417000,313417000,0,0,0,58215000,0,0,0,58215000,2233600,2233600,0,0,0,"",null,null,null,null,null,{"$f":"VLOOKUP(AG1060,'Anexo ODS'!$G$3:$P$86,5,0)","v":3},{"$f":"VLOOKUP(AG1060,'Anexo ODS'!$G$3:$P$86,6,0)","v":"La Prosperidad"},{"$f":"VLOOKUP(AG1060,'Anexo ODS'!$G$3:$P$86,7,0)","v":8},{"$f":"VLOOKUP(AG1060,'Anexo ODS'!$G$3:$P$86,8,0)","v":"Trabajo decente y crecimiento económico"},{"$f":"VLOOKUP(AG1060,'Anexo ODS'!$G$3:$P$86,9,0)","v":"8.3"},{"$f":"VLOOKUP(AG1060,'Anexo ODS'!$G$3:$P$86,10,0)","v":"Promover políticas orientadas al desarrollo que apoyen las actividades productivas, la creación de puestos de trabajo decentes, el emprendimiento, la creatividad y la innovación, y fomentar la formalización y el crecimiento de las microempresas y las pequeñas y medianas empresas, incluso mediante el acceso a servicios financieros"},null,null,null,null,null,null,null,null,100]
[1064,17,"La Candelaria",1,"Hacer un nuevo contrato social con igualdad de oportunidades para la inclusión social, productiva y política",6,"Sistema Distrital de Cuidado",null,null,null,null,1064,"Vincular 200 personas a las acciones y estrategias de reconocimiento de los saberes ancestrales en medicina.",1664,"La Candelaria incluyente y ancestral","SABERES ANCESTRALES","Suma",null,"Vincular",200,"Personas","a las acciones y estrategias de reconocimiento de los saberes ancestrales en medicina.","Vincular 200 personas a las acciones y estrategias de reconocimiento de los saberes ancestrales en medicina.",{"$f":"VLOOKUP(AG1065,'Anexo PMR'!$B$4:$G$87,6,0)","v":"3_Flexible 5%"},11,"Condiciones de salud","Reconocimiento de los saberes ancestrales en medicina.",91,"SALUD",16,"Promoción, prevención e intervención en salud.",34,"Número de personas vinculadas a las acciones y estrategias de reconocimiento de los saberes ancestrales en medicina.","SABERES ANCESTRALES",null,null,null,107,0,93,0,100000000,0,77000000,0,177000000,1,0,0,0,0,"Bajo","Bajo",3.1244483671668138E-2,0,0,null,null,null,0,"2021_1",107,107,0,0,0,0,0,0,0,0,0,0,0,"No Aplica",null,null,null,87547000,87547000,0,0,0,null,0,0,0,0,null,null,0,0,0,"",null,null,null,null,null,{"$f":"VLOOKUP(AG1065,'Anexo ODS'!$G$3:$P$86,5,0)","v":1},{"$f":"VLOOKUP(AG1065,'Anexo ODS'!$G$3:$P$86,6,0)","v":"Las Personas"},{"$f":"VLOOKUP(AG1065,'Anexo ODS'!$G$3:$P$86,7,0)","v":3},{"$f":"VLOOKUP(AG1065,'Anexo ODS'!$G$3:$P$86,8,0)","v":"Salud y Bienestar"},{"$f":"VLOOKUP(AG1065,'Anexo ODS'!$G$3:$P$86,9,0)","v":"3.b"},{"$f":"VLOOKUP(AG1065,'Anexo ODS'!$G$3:$P$86,10,0)","v":"Apoyar las actividades de investigación y desarrollo de vacunas y medicamentos contra las enfermedades transmisibles y no transmisibles que afectan primordialmente a los países en desarrollo y facilitar el acceso a medicamentos y vacunas esenciales asequibles de conformidad con la Declaración relativa al Acuerdo sobre los Aspectos de los Derechos de Propiedad Intelectual Relacionados con el Comercio y la Salud Pública, en la que se afirma el derecho de los países en desarrollo a utilizar al máximo las disposiciones del Acuerdo sobre los Aspectos de los Derechos de Propiedad Intelectual Relacionados con el Comercio respecto a la flexibilidad para proteger la salud pública y, en particular, proporcionar acceso a los medicamentos para todos"},null,null,null,null,null,null,null,null,200]
[1069,17,"La Candelaria",1,"Hacer un nuevo contrato social con igualdad de oportunidades para la inclusión social, productiva y política",17,"Jóvenes con capacidades: Proyecto de vida para la ciudadanía, la innovación y el trabajo del siglo XXI",null,null,null,null,1069,"Dotar 1 sedes de casas de juventud.",1609,"La Candelaria para los jóvenes: dotación de la casa de la juventud","DOTACIÓN","Suma",null,"Dotar",1,"Sedes","de casas de juventud.","Dotar 1 sede de casa de juventud",{"$f":"VLOOKUP(AG1070,'Anexo PMR'!$B$4:$G$87,6,0)","v":"2_Presupuestos Participativos 50%"},6,"Infraestructura","Dotación Casas de Juventud.",92,"INTEGRACIÓN SOCIAL",5,"Dotación para la atención y la prestación de los servicios en la infraestructura del sector Integración Social.",7,"Sedes de Casas de juventud dotadas","CASAS DE JUVENTUD",null,null,null,0,1,0,0,0,456000000,0,0,456000000,1,0,0,0,0,"Bajo","Bajo",9.3827160493827166E-2,0,0,null,null,null,0,"2021_1",0,0,0,0,0,0,0,0,0,0,0,0,0,"No Aplica",null,null,null,0,0,0,0,0,null,0,0,0,0,null,null,0,0,0,"",null,null,null,null,null,{"$f":"VLOOKUP(AG1070,'Anexo ODS'!$G$3:$P$86,5,0)","v":1},{"$f":"VLOOKUP(AG1070,'Anexo ODS'!$G$3:$P$86,6,0)","v":"Las Personas"},{"$f":"VLOOKUP(AG1070,'Anexo ODS'!$G$3:$P$86,7,0)","v":1},{"$f":"VLOOKUP(AG1070,'Anexo ODS'!$G$3:$P$86,8,0)","v":"Fin de la Pobreza"},{"$f":"VLOOKUP(AG1070,'Anexo ODS'!$G$3:$P$86,9,0)","v":"1.2"},{"$f":"VLOOKUP(AG1070,'Anexo ODS'!$G$3:$P$86,10,0)","v":"De aquí a 2030, reducir al menos a la mitad la proporción de hombres, mujeres y niños de todas las edades que viven en la pobreza en todas sus dimensiones con arreglo a las definiciones nacionales"},null,null,null,null,null,null,null,null,1]
[1074,17,"La Candelaria",1,"Hacer un nuevo contrato social con igualdad de oportunidades para la inclusión social, productiva y política",21,"Creación y vida cotidiana: Apropiación ciudadana del arte, la cultura y el patrimonio, para la democracia cultural",null,null,null,null,1074,"Realizar 3 eventos de promoción de actividades culturales, priorizando las fiestas tradicionales definidas mediante acuerdo local.",1625,"La Candelaria cultural, artística y patrimonial","EVENTOS","Suma",null,"Realizar",3,"Eventos","de promoción de actividades culturales, priorizando las fiestas tradicionales definidas mediante acuerdo local.","Realizar 3 eventos de promoción de actividades culturales, priorizando las fiestas tradicionales definidas mediante acuerdo local .",{"$f":"VLOOKUP(AG1075,'Anexo PMR'!$B$4:$G$87,6,0)","v":"2_Presupuestos Participativos 50%"},7,"Desarrollo social y cultural","Circulación y apropiación de prácticas artísticas, interculturales, culturales y patrimoniales.",93,"CULTURA, RECREACIÓN Y DEPORTE",8,"Espacios artísticos y culturales.",13,"Eventos de promoción de actividades culturales realizadas","ACTIVIDAD CULTURAL",null,null,null,1,1,1,0,331000000,331000000,330000000,0,992000000,1,0,0,0,0,"Bajo","Bajo",0.26333952747544465,0,0,null,null,null,0,"2021_1",1,1,0,0,0,0,0,0,0,0,0,0,0,"No Aplica",null,null,null,289779000,289779000,0,0,0,null,0,0,0,0,null,null,0,0,0,"",null,null,null,null,null,{"$f":"VLOOKUP(AG1075,'Anexo ODS'!$G$3:$P$86,5,0)","v":3},{"$f":"VLOOKUP(AG1075,'Anexo ODS'!$G$3:$P$86,6,0)","v":"La Prosperidad"},{"$f":"VLOOKUP(AG1075,'Anexo ODS'!$G$3:$P$86,7,0)","v":11},{"$f":"VLOOKUP(AG1075,'Anexo ODS'!$G$3:$P$86,8,0)","v":"Ciudades y comunidades sostenibles"},{"$f":"VLOOKUP(AG1075,'Anexo ODS'!$G$3:$P$86,9,0)","v":"11.4"},{"$f":"VLOOKUP(AG1075,'Anexo ODS'!$G$3:$P$86,10,0)","v":"Redoblar los esfuerzos para proteger y salvaguardar el patrimonio cultural y natural del mundo"},null,null,null,null,null,null,null,null,3]
[1075,17,"La Candelaria",1,"Hacer un nuevo contrato social con igualdad de oportunidades para la inclusión social, productiva y política",24,"Bogotá región emprendedora e innovadora",null,null,null,null,1075,"Implementar 4 acciones de fomento para la agricultura urbana (capacitación, implementación, fortalecimiento y encadenamiento productivo) teniendo en cuenta su sostenibilidad en el tiempo.",1626,"La Candelaria sostenible: agricultura urbana","AGRICULTURA URBANA","Suma",null,"Implementar",4,"Acciones","de fomento para la agricultura urbana (capacitación, implementación, fortalecimiento y encadenamiento productivo) teniendo en cuenta su sostenibilidad en el tiempo.","Implementar 4 acciones de fomento para la agricultura urbana (capacitación, implementación, fortalecimiento y encadenamiento productivo) teniendo en cuenta su sostenibilidad en el tiempo .",{"$f":"VLOOKUP(AG1076,'Anexo PMR'!$B$4:$G$87,6,0)","v":"2_Presupuestos Participativos 50%"},8,"Inversiones ambientales sostenibles","Agricultura urbana.",94,"AMBIENTE",13,"Servicios de asesoría, asistencia técnica integral y dotación de infraestructura productiva para la Agricultura urbana y periurbana.",19,"Número acciones de fomento para la agricultura urbana","AGRICULTURA URBANA",null,null,null,2,0,1,1,286000000,0,243000000,200000000,729000000,1,0,0,0,0,"Bajo","Bajo",0.4895903290799194,0,0,null,null,null,0,"2021_1",2,2,0,0,0,0,0,0,0,0,0,0,0,"No mueve meta",null,null,null,250383000,250383000,0,0,0,80190000,0,0,0,80190000,2726400,2726400,0,0,0,"",null,null,null,null,null,{"$f":"VLOOKUP(AG1076,'Anexo ODS'!$G$3:$P$86,5,0)","v":4},{"$f":"VLOOKUP(AG1076,'Anexo ODS'!$G$3:$P$86,6,0)","v":"El Planeta"},{"$f":"VLOOKUP(AG1076,'Anexo ODS'!$G$3:$P$86,7,0)","v":12},{"$f":"VLOOKUP(AG1076,'Anexo ODS'!$G$3:$P$86,8,0)","v":"Producción y consumo responsables"},{"$f":"VLOOKUP(AG1076,'Anexo ODS'!$G$3:$P$86,9,0)","v":"12.2"},{"$f":"VLOOKUP(AG1076,'Anexo ODS'!$G$3:$P$86,10,0)","v":"De aquí a 2030, lograr la gestión sostenible y el uso eficiente\nde los recursos naturales"},null,null,null,null,null,null,null,null,4]
[1080,17,"La Candelaria",2,"Cambiar nuestros hábitos de vida para reverdecer a Bogotá y adaptarnos y mitigar el cambio climático.",28,"Bogotá protectora de sus recursos naturales",null,null,null,null,1080,"Intervenir 0,01 hectáreas con procesos de restauración, rehabilitación o recuperación ecológica.",1701,"La Candelaria Sostenible: protectora de sus recursos naturales","RESTAURACIÓN ECOLÓGICA","Suma",null,"Intervenir",0.01,"Hectáreas","con procesos de restauración, rehabilitación o recuperación ecológica.","Intervenir 0,01 hectáreas con procesos de restauración, rehabilitación o recuperación ecológica.",{"$f":"VLOOKUP(AG1081,'Anexo PMR'!$B$4:$G$87,6,0)","v":"2_Presupuestos Participativos 50%"},8,"Inversiones ambientales sostenibles","Restauración ecológica urbana y/o rural.",94,"AMBIENTE",17,"Calidad ambiental y preservación del patrimonio natural.",41,"Hectáreas en restauración, rehabilitación o recuperación ecológica y mantenimiento ","INTERVENCIONES VERDES",null,null,null,0,0,0,0,0,0,0,318000000,318000000,1,0,0,0,0,"Bajo","Bajo",1,0,0,null,null,null,0,"2021_1",0,0,0,0,0,0,0,0,0,0,0,0,0,"No Aplica",null,null,null,0,0,0,0,0,null,0,0,0,0,null,null,0,0,0,"",null,null,null,null,null,{"$f":"VLOOKUP(AG1081,'Anexo ODS'!$G$3:$P$86,5,0)","v":4},{"$f":"VLOOKUP(AG1081,'Anexo ODS'!$G$3:$P$86,6,0)","v":"El Planeta"},{"$f":"VLOOKUP(AG1081,'Anexo ODS'!$G$3:$P$86,7,0)","v":15},{"$f":"VLOOKUP(AG1081,'Anexo ODS'!$G$3:$P$86,8,0)","v":"Vida de ecosistemas terrestres"},{"$f":"VLOOKUP(AG1081,'Anexo ODS'!$G$3:$P$86,9,0)","v":"15.1"},{"$f":"VLOOKUP(AG1081,'Anexo ODS'!$G$3:$P$86,10,0)","v":"De aquí a 2020, asegurar la conservación, el restablecimiento y el uso sostenible de los ecosistemas terrestres y los ecosistemas interiores de agua dulce y sus servicios, en particular los bosques, los humedales, las montañas y las zonas áridas, en consonancia con las obligaciones contraídas en virtud de acuerdos\ninternacionales"},null,null,null,null,null,null,null,null,0.01]
[1085,17,"La Candelaria",2,"Cambiar nuestros hábitos de vida para reverdecer a Bogotá y adaptarnos y mitigar el cambio climático.",33,"Más árboles y más y mejor espacio público ",null,null,null,null,1085,"Construir 30 m2 de Parques de bolsillo (la construcción incluye su dotación).",1706,"La Candelaria recreativa: parques para la vida","CONSTRUCCIÓN","Suma",null,"Construir",30,"Metros cuadrados","de Parques de bolsillo (la construcción incluye su dotación).","Construir 30 m2 de Parques de bolsillo (la construcción incluye su dotación).",{"$f":"VLOOKUP(AG1086,'Anexo PMR'!$B$4:$G$87,6,0)","v":"2_Presupuestos Participativos 50%"},6,"Infraestructura","Construcción, mantenimiento y dotación de parques vecinales y/o de bolsillo.",93,"CULTURA, RECREACIÓN Y DEPORTE",20,"Parques y escenarios deportivos.",46,"m2 de Parques vecinales y/o de bolsillo construidos y dotados","PARQUES",null,null,null,0,30,0,0,0,250000000,0,0,250000000,1,0,0,0,0,"Bajo","Bajo",0.28669724770642202,0,0,null,null,null,0,"2021_1",0,0,0,0,0,0,0,0,0,0,0,0,0,"No Aplica",null,null,null,0,0,0,0,0,null,0,0,0,0,null,null,0,0,0,"",null,null,null,null,null,{"$f":"VLOOKUP(AG1086,'Anexo ODS'!$G$3:$P$86,5,0)","v":3},{"$f":"VLOOKUP(AG1086,'Anexo ODS'!$G$3:$P$86,6,0)","v":"La Prosperidad"},{"$f":"VLOOKUP(AG1086,'Anexo ODS'!$G$3:$P$86,7,0)","v":11},{"$f":"VLOOKUP(AG1086,'Anexo ODS'!$G$3:$P$86,8,0)","v":"Ciudades y comunidades sostenibles"},{"$f":"VLOOKUP(AG1086,'Anexo ODS'!$G$3:$P$86,9,0)","v":"11.7"},{"$f":"VLOOKUP(AG1086,'Anexo ODS'!$G$3:$P$86,10,0)","v":"De aquí a 2030, proporcionar acceso universal a zonas verdes y espacios públicos seguros, inclusivos y accesibles, en particular para las mujeres y los niños, las personas de edad y las personas con discapacidad"},null,null,null,null,null,null,null,null,30]
[1090,17,"La Candelaria",3,"Inspirar confianza y legitimidad para vivir sin miedo y ser epicentro de cultura ciudadana, paz y reconciliación.",40,"Más mujeres viven una vida libre de violencias, se sienten seguras y acceden con confianza al sistema de justicia",null,null,null,null,1090,"Capacitar 300 personas para la construcción de ciudadanía y desarrollo de capacidades para el ejercicio de derechos de las mujeres teniendo en cuenta los procesos organizativos de base comunitaria, con enfoque de género y diferencial, en el marco de los 8 derechos priorizados por la Política Pública Distrital de Mujer y Género.",1781,"La Candelaria segura: mujeres libres de violencias","DESARROLLO DE CAPACIDADES","Suma",null,"Capacitar",300,"Personas","para la construcción de ciudadanía y desarrollo de capacidades para el ejercicio de derechos de las mujeres teniendo en cuenta los procesos organizativos de base comunitaria, con enfoque de género y diferencial, en el marco de los 8 derechos priorizados por la Política Pública Distrital de Mujer y Género.","Capacitar 300 personas para la construcción de ciudadanía y desarrollo de capacidades para el ejercicio de derechos de las mujeres teniendo en cuenta los procesos organizativos de base comunitaria, con enfoque de género y diferencial, en el marco de los 8 derechos priorizados por la Política Pública Distrital de Mujer y  Género.",{"$f":"VLOOKUP(AG1091,'Anexo PMR'!$B$4:$G$87,6,0)","v":"2_Presupuestos Participativos 50%"},7,"Desarrollo social y cultural","Construcción de ciudadanía y desarrollo de capacidades para el ejercicio de derechos de las mujeres.",100,"MUJERES",26,"Servicios de promoción y capacitación para la construcción de ciudadanía y desarrollo de capacidades para el ejercicio de derechos de las mujeres.",53,"Personas capacitadas para la construcción de ciudadanía y desarrollo de capacidades para el ejercicio de derechos de las mujeres.","DERECHOS DE LA MUJER",null,null,null,0,0,150,150,0,0,221000000,221000000,442000000,1,0,0,0,0,"Bajo","Bajo",0.37521222410865873,{"$f":"BB1091*AW1091","v":0},{"$f":"BB1091*AY1091","v":0},null,null,null,0,"2021_1",0,0,0,0,0,0,0,0,0,0,0,0,0,"No Aplica",null,null,null,0,0,0,0,0,null,0,0,0,{"$f":"SUM(CF1091:CI1091)","v":0},null,null,0,0,0,"",null,null,null,null,null,{"$f":"VLOOKUP(AG1091,'Anexo ODS'!$G$3:$P$86,5,0)","v":1},{"$f":"VLOOKUP(AG1091,'Anexo ODS'!$G$3:$P$86,6,0)","v":"Las Personas"},{"$f":"VLOOKUP(AG1091,'Anexo ODS'!$G$3:$P$86,7,0)","v":5},{"$f":"VLOOKUP(AG1091,'Anexo ODS'!$G$3:$P$86,8,0)","v":"Igualdad de género"},{"$f":"VLOOKUP(AG1091,'Anexo ODS'!$G$3:$P$86,9,0)","v":"5.c"},{"$f":"VLOOKUP(AG1091,'Anexo ODS'!$G$3:$P$86,10,0)","v":"Aprobar y fortalecer políticas acertadas y leyes aplicables para promover la igualdad de género y el empoderamiento de todas las mujeres y las niñas a todos los niveles"},null,null,null,null,null,null,null,null,300]
[1091,17,"La Candelaria",3,"Inspirar confianza y legitimidad para vivir sin miedo y ser epicentro de cultura ciudadana, paz y reconciliación.",40,"Más mujeres viven una vida libre de violencias, se sienten seguras y acceden con confianza al sistema de justicia",null,null,null,null,1091,"Vincular 200 personas en acciones para la prevención del feminicidio y la violencia contra la mujer, principalmente aquellas mujeres víctimas de violencias y/o riesgo de feminicidio y a las mujeres que ejercen trabajos sexuales en La Candelaria.",1781,"La Candelaria segura: mujeres libres de violencias","PREVENCIÓN","Suma",null,"Vincular",200,"Personas","en acciones para la prevención del feminicidio y la violencia contra la mujer, principalmente aquellas mujeres víctimas de violencias y/o riesgo de feminicidio y a las mujeres que ejercen trabajos sexuales en La Candelaria.","Vincular 200 personas en acciones para la prevención del feminicidio y la violencia contra la mujer, principalmente aquellas mujeres víctimas de violencias y/o riesgo de feminicidio y a las mujeres que ejercen trabajos sexuales en La Candelaria.",{"$f":"VLOOKUP(AG1092,'Anexo PMR'!$B$4:$G$87,6,0)","v":"2_Presupuestos Participativos 50%"},7,"Desarrollo social y cultural","Prevención del feminicidio y la violencia contra la mujer.",100,"MUJERES",27,"Prevención, atención y gestión del conflicto en la localidad.",54,"Número de Personas vinculadas en acciones para la prevención del feminicidio y la violencia contra la mujer","PREVENCIÓN DE LA VIOLENCIA",null,null,null,60,70,70,0,245000000,245000000,246000000,0,736000000,1,0,0,0,0,"Bajo","Bajo",0.62478777589134127,0,0,null,null,null,0,"2021_1",60,60,0,0,0,0,0,0,0,0,0,0,0,"No mueve meta",null,null,null,214489000,214489000,0,0,0,51120000,0,0,0,51120000,0,0,0,0,0,"",null,null,null,null,null,{"$f":"VLOOKUP(AG1092,'Anexo ODS'!$G$3:$P$86,5,0)","v":1},{"$f":"VLOOKUP(AG1092,'Anexo ODS'!$G$3:$P$86,6,0)","v":"Las Personas"},{"$f":"VLOOKUP(AG1092,'Anexo ODS'!$G$3:$P$86,7,0)","v":5},{"$f":"VLOOKUP(AG1092,'Anexo ODS'!$G$3:$P$86,8,0)","v":"Igualdad de género"},{"$f":"VLOOKUP(AG1092,'Anexo ODS'!$G$3:$P$86,9,0)","v":"5.2"},{"$f":"VLOOKUP(AG1092,'Anexo ODS'!$G$3:$P$86,10,0)","v":"Eliminar todas las formas de violencia contra todas las mujeres y las niñas en los ámbitos público y privado, incluidas la trata y la explotación sexual y otros tipos de explotación"},null,null,null,null,null,null,null,null,200]
[1096,17,"La Candelaria",3,"Inspirar confianza y legitimidad para vivir sin miedo y ser epicentro de cultura ciudadana, paz y reconciliación.",48,"Plataforma institucional para la seguridad y justicia",null,null,null,null,1096,"Atender 50 personas en estrategias de acceso a la justicia integral en la ciudad.",1787,"La Candelaria segura: acceso a la justicia integral","JUECES DE PAZ","Suma",null,"Atender",50,"Personas","acceso a la justicia integral en la ciudad","Atender 50 personas en estrategias de acceso a la justicia integral en la ciudad.",{"$f":"VLOOKUP(AG1097,'Anexo PMR'!$B$4:$G$87,6,0)","v":"2_Presupuestos Participativos 50%"},7,"Desarrollo social y cultural","Acceso a la Justicia.",102,"SEGURIDAD, CONVIVENCIA Y JUSTICIA",29,"Bienes y  servicios de apoyo para el fortalecimiento de la justicia comunitaria y la justicia integral en la ciudad.",62,"Personas atendidas en estrategias de acceso a la justicia integral en la ciudad.","ACCESO A LA JUSTICIA",null,null,null,0,0,0,50,0,0,0,279000000,279000000,1,0,0,0,0,"Bajo","Bajo",0.58246346555323592,0,0,null,null,null,0,"2021_1",0,0,0,0,0,0,0,0,0,0,0,0,0,"No Aplica",null,null,null,0,0,0,0,0,null,0,0,0,0,null,null,0,0,0,"",null,null,null,null,null,{"$f":"VLOOKUP(AG1097,'Anexo ODS'!$G$3:$P$86,5,0)","v":2},{"$f":"VLOOKUP(AG1097,'Anexo ODS'!$G$3:$P$86,6,0)","v":"La Paz"},{"$f":"VLOOKUP(AG1097,'Anexo ODS'!$G$3:$P$86,7,0)","v":16},{"$f":"VLOOKUP(AG1097,'Anexo ODS'!$G$3:$P$86,8,0)","v":"Paz, justicia e instituciones sólidas"},{"$f":"VLOOKUP(AG1097,'Anexo ODS'!$G$3:$P$86,9,0)","v":"16.3"},{"$f":"VLOOKUP(AG1097,'Anexo ODS'!$G$3:$P$86,10,0)","v":"Promover el estado de derecho en los planos nacional e internacional y garantizar la igualdad de acceso a la justicia para todos"},null,null,null,null,null,null,null,null,50]
[1101,17,"La Candelaria",4,"Hacer de Bogotá-región un modelo de movilidad, creatividad y productividad incluyente y sostenible",49,"Movilidad segura, sostenible y accesible",null,null,null,null,1101,"Intervenir 600 metros cuadrados de elementos del sistema de espacio público peatonal con acciones de conservación que fomente el acceso de las personas con discapacidad.",2020,"La Candelaria sostenible: espacio público e infraestructura para la movilidad","CONSTRUCCIÓN Y CONSERVACIÓN ","Suma",null,"Intervenir",600,"Metros cuadrados","de elementos del sistema de espacio público peatonal con acciones de conservación que fomente el acceso de las personas con discapacidad.","Intervenir 600 metros cuadrados de elementos del sistema de espacio público peatonal con acciones de conservación que fomente el acceso de las personas con discapacidad.",{"$f":"VLOOKUP(AG1102,'Anexo PMR'!$B$4:$G$87,6,0)","v":"2_Presupuestos Participativos 50%"},6,"Infraestructura","Construcción y/o conservación de elementos del sistema de espacio público peatonal.",95,"MOVILIDAD",31," Espacio público.",69,"Metros cuadrados construidos y/o conservados de elementos del sistema de espacio público peatonal.","ESPACIO PÚBLICO",null,null,null,0,600,0,0,0,753000000,0,0,753000000,1,0,0,0,0,"Bajo","Bajo",0.35569201700519604,0,0,null,null,null,0,"2021_1",0,0,0,0,0,0,0,0,0,0,0,0,0,"No Aplica",null,null,null,0,0,0,0,0,null,0,0,0,0,null,null,0,0,0,"",null,null,null,null,null,{"$f":"VLOOKUP(AG1102,'Anexo ODS'!$G$3:$P$86,5,0)","v":3},{"$f":"VLOOKUP(AG1102,'Anexo ODS'!$G$3:$P$86,6,0)","v":"La Prosperidad"},{"$f":"VLOOKUP(AG1102,'Anexo ODS'!$G$3:$P$86,7,0)","v":11},{"$f":"VLOOKUP(AG1102,'Anexo ODS'!$G$3:$P$86,8,0)","v":"Ciudades y comunidades sostenibles"},{"$f":"VLOOKUP(AG1102,'Anexo ODS'!$G$3:$P$86,9,0)","v":"11.7"},{"$f":"VLOOKUP(AG1102,'Anexo ODS'!$G$3:$P$86,10,0)","v":" De aquí a 2030, proporcionar acceso universal a zonas verdes y espacios públicos seguros, inclusivos y accesibles, en particular para las mujeres y los niños, las personas de edad y las personas con discapacidad"},null,null,null,null,null,null,null,null,600]
[1106,17,"La Candelaria",5,"Construir Bogotá-región con gobierno abierto, transparente y ciudadanía consciente.",57,"Gestión Pública Local",null,null,null,null,1106,"Realizar 4 acciones de inspección, vigilancia y control.",2023,"La Candelaria segura: inspección, vigilancia y control","IVC","Suma",null,"Realizar",4,"Acciones","de inspección, vigilancia y control","Realizar 4 acciones de inspección, vigilancia y control.",{"$f":"VLOOKUP(AG1107,'Anexo PMR'!$B$4:$G$87,6,0)","v":"1_Inflexible 45%"},2,"Inspección, vigilancia y control","Inspección, vigilancia y control.",98,"GOBIERNO",38,"Inspección, vigilancia y control (IVC).",84,"Acciones de inspección, vigilancia y control realizadas","IVC",null,null,null,1,1,1,1,541000000,540000000,540000000,540000000,2161000000,1,1,0.25,1,0.25,"Bajo","Bajo",0.25049263938796801,6.2623159846992002E-2,6.2623159846992002E-2,null,null,null,0,"2021_1",1,1,0,0,0,1,0,0,0,1,0,0,0,"Incompleto",null,null,null,473627000,473627000,0,0,0,236376000,0,0,0,236376000,23897300,23897300,0,0,0,"La acción de inspección, vigilancia y control corresponde a la conformación de los equipos internos de trabajo del área de Gestión Policiva, los cuales fueron contratados mediante contratos de prestación de servicios para garantizar la ejecución de proces",null,null,null,null,null,{"$f":"VLOOKUP(AG1107,'Anexo ODS'!$G$3:$P$86,5,0)","v":2},{"$f":"VLOOKUP(AG1107,'Anexo ODS'!$G$3:$P$86,6,0)","v":"La Paz"},{"$f":"VLOOKUP(AG1107,'Anexo ODS'!$G$3:$P$86,7,0)","v":16},{"$f":"VLOOKUP(AG1107,'Anexo ODS'!$G$3:$P$86,8,0)","v":"Paz, justicia e instituciones sólidas"},{"$f":"VLOOKUP(AG1107,'Anexo ODS'!$G$3:$P$86,9,0)","v":"16.6"},{"$f":"VLOOKUP(AG1107,'Anexo ODS'!$G$3:$P$86,10,0)","v":"Garantizar el acceso público a la información y proteger las libertades fundamentales, de conformidad con las leyes nacionales y los acuerdos internacionales"},null,null,null,null,null,null,null,null,4]
[1308,17,"La Candelaria",5,"Construir Bogotá-región con gobierno abierto, transparente y ciudadanía consciente.",56,"Gestión pública efectiva",null,null,null,null,1308,"Construir 1 sedes administrativas locales. (Estudios y diseños) según la disponibilidad de recursos de la Administración Distrital para la construcción.",0,null,"SEDE ADMINISTRATIVA","Suma",null,"Construir",1,"Sedes","administrativa local. (Estudios y diseños) según la disponibilidad de recursos de la Administración Distrital para la construcción.","Construir 1 sedes administrativas locales. (Estudios y diseños) según la disponibilidad de recursos de la Administración Distrital para la construcción.",{"$f":"VLOOKUP(AG1108,'Anexo PMR'!$B$4:$G$87,6,0)","v":"1_Inflexible 45%"},1,"Gestión pública local","Terminación de infraestructuras (sedes administrativas locales).",98,"GOBIERNO",36,"Infraestructura para la atención de servicio al ciudadano.",81,"Sedes administrativas locales construidas.","FORTALECIMIENTO ORGANIZATIVO",null,null,null,0,0,1,0,0,0,200000000,0,200000000,1,0,0,0,0,"Bajo","Bajo",1,0,0,null,null,null,0,"2021_1",0,0,0,0,0,0,0,0,0,0,0,0,0,null,null,null,null,0,0,0,0,0,0,0,0,0,0,0,0,0,0,0,null,null,null,null,null,null,{"$f":"VLOOKUP(AG1108,'Anexo ODS'!$G$3:$P$86,5,0)","v":3},{"$f":"VLOOKUP(AG1108,'Anexo ODS'!$G$3:$P$86,6,0)","v":"La Prosperidad"},{"$f":"VLOOKUP(AG1108,'Anexo ODS'!$G$3:$P$86,7,0)","v":9},{"$f":"VLOOKUP(AG1108,'Anexo ODS'!$G$3:$P$86,8,0)","v":"Industria, innovación e infraestructura"},{"$f":"VLOOKUP(AG1108,'Anexo ODS'!$G$3:$P$86,9,0)","v":"9.1"},{"$f":"VLOOKUP(AG1108,'Anexo ODS'!$G$3:$P$86,10,0)","v":"Desarrollar infraestructuras fiables, sostenibles, resilientes y de calidad, incluidas infraestructuras regionales y transfronterizas, para apoyar el desarrollo económico y el bienestar humano, haciendo especial hincapié en el acceso asequible y equitativo para todos"},null,null,null,null,null,null,null,null,1]
[1111,18,"Rafael Uribe Uribe",1,"Hacer un nuevo contrato social con igualdad de oportunidades para la inclusión social, productiva y política",6,"Sistema Distrital de Cuidado",null,null,null,null,1111,"Promover en 445 Mipymes y/o emprendimientos la transformación empresarial y/o productiva.",1653,"Oportunidades para el desarrollo económico cultural y creativo en Rafael Uribe Uribe","TRANSFORMACIÓN PRODUCTIVA","Suma",null,"Promover",445,"Mipymes","y/o emprendimientos la transformación empresarial y/o productiva.","Promover en 445 Mipymes y/o emprendimientos la transformación empresarial y/o productiva.",{"$f":"VLOOKUP(AG1113,'Anexo PMR'!$B$4:$G$87,6,0)","v":"2_Presupuestos Participativos 50%"},5,"Desarrollo de la Economía Local","Transformación productiva y formación de capacidades",89,"DESARROLLO ECONÓMICO, INDUSTRIA Y TURISMO",14,"Servicios de asesoría, asistencia técnica integral, dotación y/o apoyo financiero a Mipymes y/o emprendimientos.",23,"Número de Mipymes y/o emprendimientos con transformacion empresarial y/o productiva","DESARROLLO DE LA ECONOMÍA LOCAL",null,null,null,100,105,100,140,1048000000,998000000,1000000000,1402000000,4448000000,1,0,0,0,0,"Bajo","Bajo",0.1809969481180061,0,0,null,null,null,0,"2021_1",100,100,0,0,0,0,0,0,0,0,0,0,0,"",null,null,null,1050835000,1050835000,0,0,0,null,0,0,0,0,null,null,0,0,0,"",null,null,null,null,null,{"$f":"VLOOKUP(AG1113,'Anexo ODS'!$G$3:$P$86,5,0)","v":3},{"$f":"VLOOKUP(AG1113,'Anexo ODS'!$G$3:$P$86,6,0)","v":"La Prosperidad"},{"$f":"VLOOKUP(AG1113,'Anexo ODS'!$G$3:$P$86,7,0)","v":8},{"$f":"VLOOKUP(AG1113,'Anexo ODS'!$G$3:$P$86,8,0)","v":"Trabajo decente y crecimiento económico"},{"$f":"VLOOKUP(AG1113,'Anexo ODS'!$G$3:$P$86,9,0)","v":"8.3"},{"$f":"VLOOKUP(AG1113,'Anexo ODS'!$G$3:$P$86,10,0)","v":"Promover políticas orientadas al desarrollo que apoyen las actividades productivas, la creación de puestos de trabajo decentes, el emprendimiento, la creatividad y la innovación, y fomentar la formalización y el crecimiento de las microempresas y las pequeñas y medianas empresas, incluso mediante el acceso a servicios financieros"},null,null,null,null,null,null,null,null,445]
[1116,18,"Rafael Uribe Uribe",1,"Hacer un nuevo contrato social con igualdad de oportunidades para la inclusión social, productiva y política",6,"Sistema Distrital de Cuidado",null,null,null,null,1116,"Vincular 1400 personas cuidadoras a estrategias de cuidado.",1657,"Autocuidado y bienestar de la comunidad en Rafael Uribe Uribe","ESTRATEGIAS DE CUIDADO","Suma",null,"Vincular",1400,"Personas","cuidadoras a estrategias de cuidado.","Vincular 1400 personas cuidadoras a estrategias de cuidado.",{"$f":"VLOOKUP(AG1118,'Anexo PMR'!$B$4:$G$87,6,0)","v":"2_Presupuestos Participativos 50%"},7,"Desarrollo social y cultural","Estrategias de cuidado para cuidadoras, cuidadores y a personas con discapacidad",100,"MUJERES",15,"Estrategias del cuidado para cuidadoras.",30,"Mujeres cuidadoras vinculadas a estrategias de cuidado","ESTRATEGIAS DE CUIDADO",null,null,null,350,350,350,350,616000000,617000000,617000000,617000000,2467000000,1,0,0,0,0,"Bajo","Bajo",0.10038657171922685,0,0,null,null,null,0,"2021_1",350,350,0,0,0,0,0,0,0,0,0,0,0,"",null,null,null,617666000,617666000,0,0,0,null,0,0,0,0,null,null,0,0,0,"",null,null,null,null,null,{"$f":"VLOOKUP(AG1118,'Anexo ODS'!$G$3:$P$86,5,0)","v":1},{"$f":"VLOOKUP(AG1118,'Anexo ODS'!$G$3:$P$86,6,0)","v":"Las Personas"},{"$f":"VLOOKUP(AG1118,'Anexo ODS'!$G$3:$P$86,7,0)","v":5},{"$f":"VLOOKUP(AG1118,'Anexo ODS'!$G$3:$P$86,8,0)","v":"Igualdad de género"},{"$f":"VLOOKUP(AG1118,'Anexo ODS'!$G$3:$P$86,9,0)","v":"5.4"},{"$f":"VLOOKUP(AG1118,'Anexo ODS'!$G$3:$P$86,10,0)","v":"Reconocer y valorar los cuidados y el trabajo doméstico no remunerados mediante servicios públicos, infraestructuras y políticas de protección social, y promoviendo la responsabilidad compartida en el hogar y la familia, según proceda en cada país"},null,null,null,null,null,null,null,null,1400]
[1121,18,"Rafael Uribe Uribe",1,"Hacer un nuevo contrato social con igualdad de oportunidades para la inclusión social, productiva y política",8,"Prevención y atención de maternidad temprana",null,null,null,null,1121,"Vincular 600 personas a las acciones y estrategias para la prevención del embarazo adolescente.",1659,"Prevención de la maternidad temprana en Rafael Uribe Uribe","PREVENCIÓN","Suma",null,"Vincular",600,"Personas","a las acciones y estrategias para la prevención del embarazo adolescente.","Vincular 600 personas a las acciones y estrategias para la prevención del embarazo adolescente.",{"$f":"VLOOKUP(AG1123,'Anexo PMR'!$B$4:$G$87,6,0)","v":"3_Flexible 5%"},11,"Condiciones de salud","Prevención del embarazo en adolescentes.",91,"SALUD",16,"Promoción, prevención e intervención en salud.",37,"Número de personas vinculadas a las acciones y estrategias para la prevención del embarazo adolescente","PREVENCIÓN DEL EMBARAZO",null,null,null,300,300,0,0,296000000,310000000,0,0,606000000,1,0,0,0,0,"Bajo","Bajo",1,0,0,null,null,null,0,"2021_1",300,300,0,0,0,0,0,0,0,0,0,0,0,"",null,null,null,302028000,302028000,0,0,0,null,0,0,0,0,null,null,0,0,0,"",null,null,null,null,null,{"$f":"VLOOKUP(AG1123,'Anexo ODS'!$G$3:$P$86,5,0)","v":1},{"$f":"VLOOKUP(AG1123,'Anexo ODS'!$G$3:$P$86,6,0)","v":"Las Personas"},{"$f":"VLOOKUP(AG1123,'Anexo ODS'!$G$3:$P$86,7,0)","v":3},{"$f":"VLOOKUP(AG1123,'Anexo ODS'!$G$3:$P$86,8,0)","v":"Salud y Bienestar"},{"$f":"VLOOKUP(AG1123,'Anexo ODS'!$G$3:$P$86,9,0)","v":"3.7"},{"$f":"VLOOKUP(AG1123,'Anexo ODS'!$G$3:$P$86,10,0)","v":"De aquí a 2030, garantizar el acceso universal a los servicios de salud sexual y reproductiva, incluidos los de planificación familiar, información y educación, y la integración de la salud reproductiva en las estrategias y los programas nacionales"},null,null,null,null,null,null,null,null,600]
[1122,18,"Rafael Uribe Uribe",1,"Hacer un nuevo contrato social con igualdad de oportunidades para la inclusión social, productiva y política",12,"Educación inicial: Bases sólidas para la vida",null,null,null,null,1122,"Implementar 100 proyectos para el desarrollo integral de la primera infancia y la relación escuela, familia y comunidad.",1639,"Educación integral para la primera infancia en Rafael Uribe Uribe","EDUCACIÓN INICIAL","Suma",null,"Implementar",100,"Proyectos","para el desarrollo integral de la primera infancia y la relación escuela, familia y comunidad.","Implementar 100 proyectos para el desarrollo integral de la primera infancia y la relación escuela, familia y comunidad.",{"$f":"VLOOKUP(AG1124,'Anexo PMR'!$B$4:$G$87,6,0)","v":"1_Inflexible 45%"},4,"Educación superior y primera infancia (10%)","Apoyo para educación inicial.",90,"EDUCACIÓN",2,"Protección integral a niños y niñas y adolescentes.",3,"Proyectos para el desarrollo integral de la primera infancia y la relación escuela, familia y comunidad.","PROYECTOS PRIMERA INFANCIA",null,null,null,25,25,25,25,2872000000,2912000000,2956000000,2999000000,11739000000,1,0,0,0,0,"Bajo","Bajo",1,0,0,null,null,null,0,"2021_1",25,25,0,0,0,0,0,0,0,0,0,0,0,"",null,null,null,2872000000,2872000000,0,0,0,null,0,0,0,0,null,null,0,0,0,"",null,null,null,null,null,{"$f":"VLOOKUP(AG1124,'Anexo ODS'!$G$3:$P$86,5,0)","v":1},{"$f":"VLOOKUP(AG1124,'Anexo ODS'!$G$3:$P$86,6,0)","v":"Las Personas"},{"$f":"VLOOKUP(AG1124,'Anexo ODS'!$G$3:$P$86,7,0)","v":4},{"$f":"VLOOKUP(AG1124,'Anexo ODS'!$G$3:$P$86,8,0)","v":"Educación de calidad"},{"$f":"VLOOKUP(AG1124,'Anexo ODS'!$G$3:$P$86,9,0)","v":"4.2"},{"$f":"VLOOKUP(AG1124,'Anexo ODS'!$G$3:$P$86,10,0)","v":"De aquí a 2030, asegurar que todas las niñas y todos los niños tengan acceso a servicios de atención y desarrollo en la primera infancia y educación preescolar de calidad, a fin de que estén preparados para la enseñanza primaria."},null,null,null,null,null,null,null,null,100]
[1127,18,"Rafael Uribe Uribe",1,"Hacer un nuevo contrato social con igualdad de oportunidades para la inclusión social, productiva y política",17,"Jóvenes con capacidades: Proyecto de vida para la ciudadanía, la innovación y el trabajo del siglo XXI",null,null,null,null,1127,"Dotar 1 sede de casa de juventud.",1644,"Desarrollo de capacidades y fortalecimiento de habilidades en los y las adolescentes y jóvenes de Rafael Uribe Uribe","DOTACIÓN","Suma",null,"Dotar",1,"Sedes","de la casa de juventud.","Dotar 1 sede de casa de juventud.",{"$f":"VLOOKUP(AG1129,'Anexo PMR'!$B$4:$G$87,6,0)","v":"2_Presupuestos Participativos 50%"},6,"Infraestructura","Dotación Casas de Juventud.",92,"INTEGRACIÓN SOCIAL",5,"Dotación para la atención y la prestación de los servicios en la infraestructura del sector Integración Social.",7,"Sedes de Casas de juventud dotadas","CASAS DE JUVENTUD",null,null,null,0,0,1,0,0,0,485000000,0,485000000,1,0,0,0,0,"Bajo","Bajo",4.2056885189039196E-2,0,0,null,null,null,0,"2021_1",0,0,0,0,0,0,0,0,0,0,0,0,0,"",null,null,null,0,0,0,0,0,null,0,0,0,0,null,null,0,0,0,"",null,null,null,null,null,{"$f":"VLOOKUP(AG1129,'Anexo ODS'!$G$3:$P$86,5,0)","v":1},{"$f":"VLOOKUP(AG1129,'Anexo ODS'!$G$3:$P$86,6,0)","v":"Las Personas"},{"$f":"VLOOKUP(AG1129,'Anexo ODS'!$G$3:$P$86,7,0)","v":1},{"$f":"VLOOKUP(AG1129,'Anexo ODS'!$G$3:$P$86,8,0)","v":"Fin de la Pobreza"},{"$f":"VLOOKUP(AG1129,'Anexo ODS'!$G$3:$P$86,9,0)","v":"1.2"},{"$f":"VLOOKUP(AG1129,'Anexo ODS'!$G$3:$P$86,10,0)","v":"De aquí a 2030, reducir al menos a la mitad la proporción de hombres, mujeres y niños de todas las edades que viven en la pobreza en todas sus dimensiones con arreglo a las definiciones nacionales"},null,null,null,null,null,null,null,null,1]
[1132,18,"Rafael Uribe Uribe",1,"Hacer un nuevo contrato social con igualdad de oportunidades para la inclusión social, productiva y política",21,"Creación y vida cotidiana: Apropiación ciudadana del arte, la cultura y el patrimonio, para la democracia cultural",null,null,null,null,1132,"Realizar 24 eventos de promoción de actividades culturales.",1647,"Apropiación del arte, la cultura y el patrimonio en Rafael Uribe Uribe","EVENTOS","Suma",null,"Realizar",24,"Eventos","de promoción de actividades culturales.","Realizar 24 eventos de promoción de actividades culturales.",{"$f":"VLOOKUP(AG1134,'Anexo PMR'!$B$4:$G$87,6,0)","v":"2_Presupuestos Participativos 50%"},7,"Desarrollo social y cultural","Circulación y apropiación de prácticas artísticas, interculturales, culturales y patrimoniales.",93,"CULTURA, RECREACIÓN Y DEPORTE",8,"Espacios artísticos y culturales.",13,"Eventos de promoción de actividades culturales realizadas","ACTIVIDAD CULTURAL",null,null,null,6,6,6,6,300000000,300000000,300000000,324000000,1224000000,1,0,0,0,0,"Bajo","Bajo",0.14020618556701031,0,0,null,null,null,0,"2021_1",6,6,0,0,0,0,0,0,0,0,0,0,0,"",null,null,null,300812000,300812000,0,0,0,null,0,0,0,0,null,null,0,0,0,"",null,null,null,null,null,{"$f":"VLOOKUP(AG1134,'Anexo ODS'!$G$3:$P$86,5,0)","v":3},{"$f":"VLOOKUP(AG1134,'Anexo ODS'!$G$3:$P$86,6,0)","v":"La Prosperidad"},{"$f":"VLOOKUP(AG1134,'Anexo ODS'!$G$3:$P$86,7,0)","v":11},{"$f":"VLOOKUP(AG1134,'Anexo ODS'!$G$3:$P$86,8,0)","v":"Ciudades y comunidades sostenibles"},{"$f":"VLOOKUP(AG1134,'Anexo ODS'!$G$3:$P$86,9,0)","v":"11.4"},{"$f":"VLOOKUP(AG1134,'Anexo ODS'!$G$3:$P$86,10,0)","v":"Redoblar los esfuerzos para proteger y salvaguardar el patrimonio cultural y natural del mundo"},null,null,null,null,null,null,null,null,24]
[1137,18,"Rafael Uribe Uribe",2,"Cambiar nuestros hábitos de vida para reverdecer a Bogotá y adaptarnos y mitigar el cambio climático.",28,"Bogotá protectora de sus recursos naturales",null,null,null,null,1137,"Intervenir 4 hectáreas con procesos de restauración, rehabilitación o recuperación ecológica.",1661,"Restauración ecológica en Rafael Uribe Uribe","RESTAURACIÓN ECOLÓGICA","Suma",null,"Intervenir",4,"Hectáreas","con procesos de restauración, rehabilitación o recuperación ecológica.","Intervenir 4 hectáreas con procesos de restauración, rehabilitación o recuperación ecológica.",{"$f":"VLOOKUP(AG1139,'Anexo PMR'!$B$4:$G$87,6,0)","v":"2_Presupuestos Participativos 50%"},8,"Inversiones ambientales sostenibles","Restauración ecológica urbana y/o rural.",94,"AMBIENTE",17,"Calidad ambiental y preservación del patrimonio natural.",41,"Hectáreas en restauración, rehabilitación o recuperación ecológica y mantenimiento ","INTERVENCIONES VERDES",null,null,null,1,1,1,1,494000000,500000000,530000000,530000000,2054000000,1,0,0,0,0,"Bajo","Bajo",1,0,0,null,null,null,0,"2021_1",1,1,0,0,0,0,0,0,0,0,0,0,0,"",null,null,null,495336000,495336000,0,0,0,null,0,0,0,0,null,null,0,0,0,"",null,null,null,null,null,{"$f":"VLOOKUP(AG1139,'Anexo ODS'!$G$3:$P$86,5,0)","v":4},{"$f":"VLOOKUP(AG1139,'Anexo ODS'!$G$3:$P$86,6,0)","v":"El Planeta"},{"$f":"VLOOKUP(AG1139,'Anexo ODS'!$G$3:$P$86,7,0)","v":15},{"$f":"VLOOKUP(AG1139,'Anexo ODS'!$G$3:$P$86,8,0)","v":"Vida de ecosistemas terrestres"},{"$f":"VLOOKUP(AG1139,'Anexo ODS'!$G$3:$P$86,9,0)","v":"15.1"},{"$f":"VLOOKUP(AG1139,'Anexo ODS'!$G$3:$P$86,10,0)","v":"De aquí a 2020, asegurar la conservación, el restablecimiento y el uso sostenible de los ecosistemas terrestres y los ecosistemas interiores de agua dulce y sus servicios, en particular los bosques, los humedales, las montañas y las zonas áridas, en consonancia con las obligaciones contraídas en virtud de acuerdos\ninternacionales"},null,null,null,null,null,null,null,null,4]
[1138,18,"Rafael Uribe Uribe",2,"Cambiar nuestros hábitos de vida para reverdecer a Bogotá y adaptarnos y mitigar el cambio climático.",30,"Eficiencia en la atención de emergencias",null,null,null,null,1138,"Desarrollar 1 intervención para la reducción del riesgo y adaptación al cambio climático.",1665,"Reducción de riesgos por emergencias y desastres en Rafael Uribe Uribe","REDUCCIÓN DEL RIESGO Y ADAPTACIÓN AL CAMBIO CLIMÁTICO","Suma",null,"Desarrollar",1,"Intervenciones","para la reducción del riesgo y adaptación al cambio climático.","Desarrollar 1 intervención para la reducción del riesgo y adaptación al cambio climático.",{"$f":"VLOOKUP(AG1140,'Anexo PMR'!$B$4:$G$87,6,0)","v":"2_Presupuestos Participativos 50%"},8,"Inversiones ambientales sostenibles","Mitigación del riesgo. ",94,"AMBIENTE",18,"Gestión para la prevención y mitigación del riesgo.",43,"Intervenciones para la reducción del riesgo y adaptación al cambio climático","REDUCCIÓN DEL RIESGO",null,null,null,1,0,0,0,2346000000,0,0,0,2346000000,1,0,0,0,0,"Bajo","Bajo",0.61061946902654862,0,0,null,null,null,0,"2021_1",1,1,0,0,0,0,0,0,0,0,0,0,0,"",null,null,null,2352346000,2352346000,0,0,0,null,0,0,0,0,null,null,0,0,0,"",null,null,null,null,null,{"$f":"VLOOKUP(AG1140,'Anexo ODS'!$G$3:$P$86,5,0)","v":4},{"$f":"VLOOKUP(AG1140,'Anexo ODS'!$G$3:$P$86,6,0)","v":"El Planeta"},{"$f":"VLOOKUP(AG1140,'Anexo ODS'!$G$3:$P$86,7,0)","v":13},{"$f":"VLOOKUP(AG1140,'Anexo ODS'!$G$3:$P$86,8,0)","v":"Acción por el clima"},{"$f":"VLOOKUP(AG1140,'Anexo ODS'!$G$3:$P$86,9,0)","v":"13.1"},{"$f":"VLOOKUP(AG1140,'Anexo ODS'!$G$3:$P$86,10,0)","v":"Fortalecer la resiliencia y la capacidad de adaptación a los riesgos relacionados con el clima y los desastres naturales en todos los países"},null,null,null,null,null,null,null,null,1]
[1143,18,"Rafael Uribe Uribe",2,"Cambiar nuestros hábitos de vida para reverdecer a Bogotá y adaptarnos y mitigar el cambio climático.",34,"Bogotá protectora de los animales",null,null,null,null,1143,"Atender 18200 animales en urgencias, brigadas médico veterinarias, acciones de esterilización, educación y adopción.",1673,"Acciones responsables para la protección y cuidado animal en Rafael Uribe Uribe","BIENESTAR ANIMAL","Suma",null,"Atender",18200,"Animales","en urgencias, brigadas médico veterinarias, acciones de esterilización, educación y adopción.","Atender 18200 animales en urgencias, brigadas médico veterinarias, acciones de esterilización, educación y adopción.",{"$f":"VLOOKUP(AG1145,'Anexo PMR'!$B$4:$G$87,6,0)","v":"2_Presupuestos Participativos 50%"},8,"Inversiones ambientales sostenibles","Acuerdos con las redes locales de proteccionistas de animales para urgencias, brigadas médico veterinarias, acciones de esterilización, educación y adopción  ",94,"AMBIENTE",21,"Servicios de protección y bienestar animal.",48,"Número de animales atendidos","PROTECCIÓN ANIMAL",null,null,null,4000,4200,5000,5000,835000000,1011000000,1041000000,1090000000,3977000000,1,0,0,0,0,"Bajo","Bajo",1,0,0,null,null,null,0,"2021_1",4000,4000,0,0,0,0,0,0,0,0,0,0,0,"",null,null,null,837259000,837259000,0,0,0,null,0,0,0,0,null,null,0,0,0,"",null,null,null,null,null,{"$f":"VLOOKUP(AG1145,'Anexo ODS'!$G$3:$P$86,5,0)","v":3},{"$f":"VLOOKUP(AG1145,'Anexo ODS'!$G$3:$P$86,6,0)","v":"La Prosperidad"},{"$f":"VLOOKUP(AG1145,'Anexo ODS'!$G$3:$P$86,7,0)","v":11},{"$f":"VLOOKUP(AG1145,'Anexo ODS'!$G$3:$P$86,8,0)","v":"Ciudades y comunidades sostenibles"},{"$f":"VLOOKUP(AG1145,'Anexo ODS'!$G$3:$P$86,9,0)","v":"11.3"},{"$f":"VLOOKUP(AG1145,'Anexo ODS'!$G$3:$P$86,10,0)","v":"De aquí a 2030, aumentar la urbanización inclusiva y sostenible y la capacidad para la planificación y la gestión participativas, integradas y sostenibles de los asentamientos\nhumanos en todos los países"},null,null,null,null,null,null,null,null,18200]
[1148,18,"Rafael Uribe Uribe",3,"Inspirar confianza y legitimidad para vivir sin miedo y ser epicentro de cultura ciudadana, paz y reconciliación.",43,"Cultura ciudadana para la confianza, la convivencia y la participación desde la vida cotidiana",null,null,null,null,1148,"Formar 1000 personas en la escuela de seguridad.",1680,"Ciudadanos más seguros y con confianza en la justicia en Rafael Uribe Uribe","ESCUELA DE SEGURIDAD","Suma",null,"Formar",1000,"Personas","en la escuela de seguridad.","Formar 1000 personas en la escuela de seguridad.",{"$f":"VLOOKUP(AG1150,'Anexo PMR'!$B$4:$G$87,6,0)","v":"2_Presupuestos Participativos 50%"},7,"Desarrollo social y cultural","Promoción de la convivencia ciudadana.",102,"SEGURIDAD, CONVIVENCIA Y JUSTICIA",27,"Prevención, atención y gestión del conflicto en la localidad.",56,"Número de personas formadas en la escuela de seguridad","ACCIONES DE CONVIVENCIA",null,null,null,250,250,250,250,100000000,100000000,100000000,103000000,403000000,1,0,0,0,0,"Bajo","Bajo",0.14848931466470155,0,0,null,null,null,0,"2021_1",250,250,0,0,0,0,0,0,0,0,0,0,0,"",null,null,null,60271000,60271000,0,0,0,null,0,0,0,0,null,null,0,0,0,"",null,null,null,null,null,{"$f":"VLOOKUP(AG1150,'Anexo ODS'!$G$3:$P$86,5,0)","v":2},{"$f":"VLOOKUP(AG1150,'Anexo ODS'!$G$3:$P$86,6,0)","v":"La Paz"},{"$f":"VLOOKUP(AG1150,'Anexo ODS'!$G$3:$P$86,7,0)","v":16},{"$f":"VLOOKUP(AG1150,'Anexo ODS'!$G$3:$P$86,8,0)","v":"Paz, justicia e instituciones sólidas"},{"$f":"VLOOKUP(AG1150,'Anexo ODS'!$G$3:$P$86,9,0)","v":"16.1"},{"$f":"VLOOKUP(AG1150,'Anexo ODS'!$G$3:$P$86,10,0)","v":"Reducir significativamente todas las formas de violencia y las correspondientes tasas de mortalidad en todo el mundo"},null,null,null,null,null,null,null,null,1000]
[1153,18,"Rafael Uribe Uribe",3,"Inspirar confianza y legitimidad para vivir sin miedo y ser epicentro de cultura ciudadana, paz y reconciliación.",45,"Espacio público más seguro y construido colectivamente",null,null,null,null,1153,"Realizar 4 acuerdos para la vinculación de la ciudadanía en los programas adelantados por el IDRD y acuerdos con vendedores informales o estacionarios",1681,"Cultura ciudadana y uso optimo del espacio público en Rafael Uribe Uribe","ACUERDOS CIUDADANOS","Suma",null,"Realizar",4,"Acuerdos","para la vinculación de la ciudadanía en los programas adelantados por el IDRD y acuerdos con vendedores informales o estacionarios","Realizar 4 acuerdos para la vinculación de la ciudadanía en los programas adelantados por el IDRD y acuerdos con vendedores informales o estacionarios",{"$f":"VLOOKUP(AG1155,'Anexo PMR'!$B$4:$G$87,6,0)","v":"2_Presupuestos Participativos 50%"},7,"Desarrollo social y cultural","Acuerdos para mejorar el uso de medios de transporte no motorizados.",98,"GOBIERNO",28,"Acuerdos ciudadanos suscritos.",60,"Acuerdos realizados para la vinculación de la ciudadanía en los programas adelantados por el IDRD y acuerdos con vendedores informales o estacionarios ","\nACUERDOS DE ESPACIO PÚBLICO",null,null,null,1,1,1,1,206000000,206000000,206000000,206000000,824000000,1,0,0,0,0,"Bajo","Bajo",0.29985443959243085,{"$f":"BB1155*AW1155","v":0},{"$f":"BB1155*AY1155","v":0},null,null,null,0,"2021_1",1,1,0,0,0,0,0,0,0,0,0,0,0,"",null,null,null,206557000,206557000,0,0,0,null,0,0,0,{"$f":"SUM(CF1155:CI1155)","v":0},null,null,0,0,0,"",null,null,null,null,null,{"$f":"VLOOKUP(AG1155,'Anexo ODS'!$G$3:$P$86,5,0)","v":2},{"$f":"VLOOKUP(AG1155,'Anexo ODS'!$G$3:$P$86,6,0)","v":"La Paz"},{"$f":"VLOOKUP(AG1155,'Anexo ODS'!$G$3:$P$86,7,0)","v":16},{"$f":"VLOOKUP(AG1155,'Anexo ODS'!$G$3:$P$86,8,0)","v":"Paz, justicia e instituciones sólidas"},{"$f":"VLOOKUP(AG1155,'Anexo ODS'!$G$3:$P$86,9,0)","v":"16.1"},{"$f":"VLOOKUP(AG1155,'Anexo ODS'!$G$3:$P$86,10,0)","v":"Reducir significativamente todas las formas de violencia y las correspondientes tasas de mortalidad en todo el mundo"},null,null,null,null,null,null,null,null,4]
[1154,18,"Rafael Uribe Uribe",3,"Inspirar confianza y legitimidad para vivir sin miedo y ser epicentro de cultura ciudadana, paz y reconciliación.",48,"Plataforma institucional para la seguridad y justicia",null,null,null,null,1154,"Atender 400 personas en estrategias de acceso a la justicia integral en la ciudad.",1682,"Confianza ciudadana en la red institucional de justicia en Rafael Uribe Uribe","JUECES DE PAZ","Suma",null,"Atender",400,"Personas","acceso a la justicia integral en la ciudad","Atender 400 personas en estrategias de acceso a la justicia integral en la ciudad.",{"$f":"VLOOKUP(AG1156,'Anexo PMR'!$B$4:$G$87,6,0)","v":"2_Presupuestos Participativos 50%"},7,"Desarrollo social y cultural","Acceso a la Justicia.",102,"SEGURIDAD, CONVIVENCIA Y JUSTICIA",29,"Bienes y  servicios de apoyo para el fortalecimiento de la justicia comunitaria y la justicia integral en la ciudad.",62,"Personas atendidas en estrategias de acceso a la justicia integral en la ciudad.","ACCESO A LA JUSTICIA",null,null,null,100,100,100,100,104000000,104000000,104000000,104000000,416000000,1,0,0,0,0,"Bajo","Bajo",8.8210347752332482E-2,0,0,null,null,null,0,"2021_1",100,100,0,0,0,0,0,0,0,0,0,0,0,"",null,null,null,104281000,104281000,0,0,0,null,0,0,0,0,null,null,0,0,0,"",null,null,null,null,null,{"$f":"VLOOKUP(AG1156,'Anexo ODS'!$G$3:$P$86,5,0)","v":2},{"$f":"VLOOKUP(AG1156,'Anexo ODS'!$G$3:$P$86,6,0)","v":"La Paz"},{"$f":"VLOOKUP(AG1156,'Anexo ODS'!$G$3:$P$86,7,0)","v":16},{"$f":"VLOOKUP(AG1156,'Anexo ODS'!$G$3:$P$86,8,0)","v":"Paz, justicia e instituciones sólidas"},{"$f":"VLOOKUP(AG1156,'Anexo ODS'!$G$3:$P$86,9,0)","v":"16.3"},{"$f":"VLOOKUP(AG1156,'Anexo ODS'!$G$3:$P$86,10,0)","v":"Promover el estado de derecho en los planos nacional e internacional y garantizar la igualdad de acceso a la justicia para todos"},null,null,null,null,null,null,null,null,400]
[1159,18,"Rafael Uribe Uribe",3,"Inspirar confianza y legitimidad para vivir sin miedo y ser epicentro de cultura ciudadana, paz y reconciliación.",48,"Plataforma institucional para la seguridad y justicia",null,null,null,null,1159,"Vincular 60 Instituciones educativas al programa pedagógico de resolución de conflictos en la comunidad escolar.",1682,"Confianza ciudadana en la red institucional de justicia en Rafael Uribe Uribe","RESOLUCIÓN DE CONFLICTOS ESCOLARES","Suma",null,"Vincular",60,"Instituciones"," educativas al programa pedagógico de resolución de conflictos en la comunidad escolar.","Vincular 60 Instituciones educativas al programa pedagógico de resolución de conflictos en la comunidad escolar.",{"$f":"VLOOKUP(AG1161,'Anexo PMR'!$B$4:$G$87,6,0)","v":"2_Presupuestos Participativos 50%"},7,"Desarrollo social y cultural","Acceso a la Justicia.",102,"SEGURIDAD, CONVIVENCIA Y JUSTICIA",27,"Prevención, atención y gestión del conflicto en la localidad.",63,"Instituciones educativas vinculadas al programa pedagógico de resolución de conflictos en la comunidad escolar.","ACCESO A LA JUSTICIA",null,null,null,15,15,15,15,104000000,103000000,104000000,104000000,415000000,1,0,0,0,0,"Bajo","Bajo",8.7998303647158604E-2,0,0,null,null,null,0,"2021_1",15,15,0,0,0,0,0,0,0,0,0,0,0,"",null,null,null,104281000,104281000,0,0,0,null,0,0,0,0,null,null,0,0,0,"",null,null,null,null,null,{"$f":"VLOOKUP(AG1161,'Anexo ODS'!$G$3:$P$86,5,0)","v":2},{"$f":"VLOOKUP(AG1161,'Anexo ODS'!$G$3:$P$86,6,0)","v":"La Paz"},{"$f":"VLOOKUP(AG1161,'Anexo ODS'!$G$3:$P$86,7,0)","v":16},{"$f":"VLOOKUP(AG1161,'Anexo ODS'!$G$3:$P$86,8,0)","v":"Paz, justicia e instituciones sólidas"},{"$f":"VLOOKUP(AG1161,'Anexo ODS'!$G$3:$P$86,9,0)","v":"16.3"},{"$f":"VLOOKUP(AG1161,'Anexo ODS'!$G$3:$P$86,10,0)","v":"Promover el estado de derecho en los planos nacional e internacional y garantizar la igualdad de acceso a la justicia para todos"},null,null,null,null,null,null,null,null,60]
[1164,18,"Rafael Uribe Uribe",5,"Construir Bogotá-región con gobierno abierto, transparente y ciudadanía consciente.",55,"Fortalecimiento de Cultura Ciudadana y su institucionalidad",null,null,null,null,1164,"Capacitar 1600 personas a través de procesos de formación para la participación de manera virtual y presencial.",1689,"Participación ciudadana organizada y solidaria en Rafael Uribe Uribe","FORMACIÓN","Suma",null,"Capacitar",1600,"Personas","a través de procesos de formación para la participación de manera virtual y presencial.","Capacitar 1600 personas a través de procesos de formación para la participación de manera virtual y presencial.",{"$f":"VLOOKUP(AG1166,'Anexo PMR'!$B$4:$G$87,6,0)","v":"2_Presupuestos Participativos 50%"},7,"Desarrollo social y cultural","Escuelas y procesos de formación para la participación ciudadana y/u organizaciones para los procesos de presupuestos participativos.",98,"GOBIERNO",35,"Espacios y procesos de participación ciudadana fortalecidos. ",78,"Número de Personas capacitadas a través de procesos de formación para la participación de manera virtual y presencial.","FORMACIÓN CIUDADANA",null,null,null,400,400,400,400,600000000,630000000,663000000,710000000,2603000000,1,0,0,0,0,"Bajo","Bajo",0.15960512600404683,0,0,null,null,null,0,"2021_1",400,400,0,0,0,0,0,0,0,0,0,0,0,"",null,null,null,601623000,601623000,0,0,0,null,0,0,0,0,null,null,0,0,0,"",null,null,null,null,null,{"$f":"VLOOKUP(AG1166,'Anexo ODS'!$G$3:$P$86,5,0)","v":2},{"$f":"VLOOKUP(AG1166,'Anexo ODS'!$G$3:$P$86,6,0)","v":"La Paz"},{"$f":"VLOOKUP(AG1166,'Anexo ODS'!$G$3:$P$86,7,0)","v":16},{"$f":"VLOOKUP(AG1166,'Anexo ODS'!$G$3:$P$86,8,0)","v":"Paz, justicia e instituciones sólidas"},{"$f":"VLOOKUP(AG1166,'Anexo ODS'!$G$3:$P$86,9,0)","v":"16.7"},{"$f":"VLOOKUP(AG1166,'Anexo ODS'!$G$3:$P$86,10,0)","v":"Garantizar la adopción en todos los niveles de decisiones inclusivas, participativas y representativas que respondan a las necesidades"},null,null,null,null,null,null,null,null,1600]
[1169,18,"Rafael Uribe Uribe",5,"Construir Bogotá-región con gobierno abierto, transparente y ciudadanía consciente.",57,"Gestión Pública Local",null,null,null,null,1169,"Realizar 1 rendición de cuentas anuales.",1697,"Gestión pública transparente y que rinde cuentas a la ciudadanía en Rafael Uribe Uribe","TRANSPARENCIA Y CONTROL SOCIAL","Constante",null,"Realizar",1,"Rendicion de cuenta","anuales.","Realizar 1 rendición de cuentas anuales.",{"$f":"VLOOKUP(AG1171,'Anexo PMR'!$B$4:$G$87,6,0)","v":"3_Flexible 5%"},10,"Participación\nCiudadana y\nconstrucción de\nconfianza.","Transparencia, control social y rendición de cuentas del Gobierno Local.",98,"GOBIERNO",35,"Espacios y procesos de participación ciudadana fortalecidos. ",83,"Número de Rendiciones de cuentas anuales.","TRANSPARENCIA Y CONTROL SOCIAL",null,null,null,1,1,1,1,50000000,50000000,50000000,50000000,200000000,1,0,0,0,0,"Bajo","Bajo",6.3289136419733549E-3,0,0,null,null,null,0,"2021_1",1,1,0,0,0,0,0,0,0,0,0,0,0,"",null,null,null,55226000,55226000,0,0,0,null,0,0,0,0,null,null,0,0,0,"",null,null,null,null,null,{"$f":"VLOOKUP(AG1171,'Anexo ODS'!$G$3:$P$86,5,0)","v":2},{"$f":"VLOOKUP(AG1171,'Anexo ODS'!$G$3:$P$86,6,0)","v":"La Paz"},{"$f":"VLOOKUP(AG1171,'Anexo ODS'!$G$3:$P$86,7,0)","v":16},{"$f":"VLOOKUP(AG1171,'Anexo ODS'!$G$3:$P$86,8,0)","v":"Paz, justicia e instituciones sólidas"},{"$f":"VLOOKUP(AG1171,'Anexo ODS'!$G$3:$P$86,9,0)","v":"16.6"},{"$f":"VLOOKUP(AG1171,'Anexo ODS'!$G$3:$P$86,10,0)","v":"Garantizar el acceso público a la información y proteger las libertades fundamentales, de conformidad con las leyes nacionales y los acuerdos internacionales"},null,null,null,null,null,null,null,null,1]
[1170,18,"Rafael Uribe Uribe",5,"Construir Bogotá-región con gobierno abierto, transparente y ciudadanía consciente.",57,"Gestión Pública Local",null,null,null,null,1170,"Realizar 4 estrategias de fortalecimiento institucional.",1697,"Gestión pública transparente y que rinde cuentas a la ciudadanía en Rafael Uribe Uribe","FORTALECIMIENTO LOCAL","Suma",null,"Realizar",4,"Estrategias","de fortalecimiento institucional.","Realizar 4 estrategias de fortalecimiento institucional.",{"$f":"VLOOKUP(AG1172,'Anexo PMR'!$B$4:$G$87,6,0)","v":"1_Inflexible 45%"},1,"Gestión pública local","Fortalecimiento institucional.",98,"GOBIERNO",37,"Fortalecimiento institucional.",82,"Estrategias de fortalecimiento institucional realizadas","FORTALECIMIENTO LOCAL",null,null,null,1,1,1,1,5658000000,5832000000,6016000000,4460000000,21966000000,1,1,0.25,1,0.25,"Bajo","Bajo",0.69510458529793362,0.1737761463244834,0.1737761463244834,null,null,null,0,"2021_1",1,1,0,0,0,1,0,0,0,1,0,0,0,"Incompleto",null,null,null,5673306000,5673306000,0,0,0,4852152800,0,0,0,4852152800,248242799,248242799,0,0,0,"Corte 31 marzo 2021: La contratación reportada no contribuye al avance de la magnitud de la meta.",null,null,null,null,null,{"$f":"VLOOKUP(AG1172,'Anexo ODS'!$G$3:$P$86,5,0)","v":2},{"$f":"VLOOKUP(AG1172,'Anexo ODS'!$G$3:$P$86,6,0)","v":"La Paz"},{"$f":"VLOOKUP(AG1172,'Anexo ODS'!$G$3:$P$86,7,0)","v":16},{"$f":"VLOOKUP(AG1172,'Anexo ODS'!$G$3:$P$86,8,0)","v":"Paz, justicia e instituciones sólidas"},{"$f":"VLOOKUP(AG1172,'Anexo ODS'!$G$3:$P$86,9,0)","v":"16.6"},{"$f":"VLOOKUP(AG1172,'Anexo ODS'!$G$3:$P$86,10,0)","v":"Garantizar el acceso público a la información y proteger las libertades fundamentales, de conformidad con las leyes nacionales y los acuerdos internacionales"},null,null,null,null,null,null,null,null,4]
[1175,19,"Ciudad Bolívar",1,"Hacer un nuevo contrato social con igualdad de oportunidades para la inclusión social, productiva y política",6,"Sistema Distrital de Cuidado",null,null,null,null,1175,"Capacitar 1.000 personas en procesos de formación para el trabajo y desarrollo humano.",1884,"Revitalización y Transformación Productiva en la localidad de Ciudad Bolívar","#N/A","Suma",null,"Capacitar",1000,"Personas","en procesos de formación para el trabajo y desarrollo humano.","Capacitar 1.000 personas en procesos de formación para el trabajo y desarrollo humano.","2_Presupuestos Participativos 50%",5,"Desarrollo de la Economía Local","NO APLICA",89,"DESARROLLO ECONÓMICO, INDUSTRIA Y TURISMO","NO APLICA","NO APLICA",85,"NO APLICA","NO APLICA",null,null,null,543,263,101,93,3110000000,1507000000,579000000,530000000,5726000000,1,0,0,0,0,"Bajo","Bajo",0.11097114285160566,0,0,null,null,null,0,"2021_1",543,543,0,0,0,0,0,0,0,0,0,0,0,"",null,null,null,3155580000,3155580000,0,0,0,null,0,0,0,0,null,null,0,0,0,"",null,null,null,null,null,{"$f":"VLOOKUP(AG1177,'Anexo ODS'!$G$3:$P$86,5,0)","v":{"$error":"#N/A"}},{"$f":"VLOOKUP(AG1177,'Anexo ODS'!$G$3:$P$86,6,0)","v":{"$error":"#N/A"}},{"$f":"VLOOKUP(AG1177,'Anexo ODS'!$G$3:$P$86,7,0)","v":{"$error":"#N/A"}},{"$f":"VLOOKUP(AG1177,'Anexo ODS'!$G$3:$P$86,8,0)","v":{"$error":"#N/A"}},{"$f":"VLOOKUP(AG1177,'Anexo ODS'!$G$3:$P$86,9,0)","v":{"$error":"#N/A"}},{"$f":"VLOOKUP(AG1177,'Anexo ODS'!$G$3:$P$86,10,0)","v":{"$error":"#N/A"}},null,null,null,null,null,null,null,null,1000]
[1180,19,"Ciudad Bolívar",1,"Hacer un nuevo contrato social con igualdad de oportunidades para la inclusión social, productiva y política",6,"Sistema Distrital de Cuidado",null,null,null,null,1180,"Dotar 280 Sedes de atención a la primera infancia y/o adolescencia (Jardines infantiles, Hogares Comunitarios ICBF y Centros Amar).",1886,"Ciudad Bolívar un nuevo contrato Social desde la gestación hasta la adolescencia","DOTACIÓN JARDINES IFANTILES Y CENTROS AMAR","Suma",null,"Dotar",280,"Sedes","de atención a la primera infancia y/o adolescencia (Jardines infantiles, Hogares Comunitarios ICBF y Centros Amar).","Dotar 280 Sedes de atención a la primera infancia y/o adolescencia (Jardines infantiles, Hogares Comunitarios ICBF y Centros Amar).",{"$f":"VLOOKUP(AG1182,'Anexo PMR'!$B$4:$G$87,6,0)","v":"2_Presupuestos Participativos 50%"},6,"Infraestructura","Dotación a Jardines Infantiles, Centros Amar y Forjar.",92,"INTEGRACIÓN SOCIAL",2,"Protección integral a niños y niñas y adolescentes.",28,"Sedes de atención a la primera infancia y/o adolescencia dotadas.","JARDINES INFANTILES Y CENTROS AMAR",null,null,null,0,95,95,90,0,300000000,300000000,312000000,912000000,1,0,0,0,0,"Bajo","Bajo",1.7674761138781761E-2,0,0,null,null,null,0,"2021_1",0,0,0,0,0,0,0,0,0,0,0,0,0,"",null,null,null,0,0,0,0,0,null,0,0,0,0,null,null,0,0,0,"",null,null,null,null,null,{"$f":"VLOOKUP(AG1182,'Anexo ODS'!$G$3:$P$86,5,0)","v":1},{"$f":"VLOOKUP(AG1182,'Anexo ODS'!$G$3:$P$86,6,0)","v":"Las Personas"},{"$f":"VLOOKUP(AG1182,'Anexo ODS'!$G$3:$P$86,7,0)","v":1},{"$f":"VLOOKUP(AG1182,'Anexo ODS'!$G$3:$P$86,8,0)","v":"Fin de la Pobreza"},{"$f":"VLOOKUP(AG1182,'Anexo ODS'!$G$3:$P$86,9,0)","v":"1.2"},{"$f":"VLOOKUP(AG1182,'Anexo ODS'!$G$3:$P$86,10,0)","v":"De aquí a 2030, reducir al menos a la mitad la proporción de hombres, mujeres y niños de todas las edades que viven en la pobreza en todas sus dimensiones con arreglo a las definiciones nacionales"},null,null,null,null,null,null,null,null,280]
[1185,19,"Ciudad Bolívar",1,"Hacer un nuevo contrato social con igualdad de oportunidades para la inclusión social, productiva y política",6,"Sistema Distrital de Cuidado",null,null,null,null,1185,"Vincular 2.400 personas a las acciones desarrolladas desde los dispositivos de base comunitaria en respuesta al consumo de SPA.",1892,"Ciudad Bolívar, un nuevo contrato social en salud con igualdad de oportunidades","DISMINUCIÓN FACTORES DE RIESGO SPA","Suma",null,"Vincular",2400,"Personas","a las acciones desarrolladas desde los dispositivos de base comunitaria en respuesta al consumo de SPA.","Vincular 2.400 personas a las acciones desarrolladas desde los dispositivos de base comunitaria en respuesta al consumo de SPA.",{"$f":"VLOOKUP(AG1187,'Anexo PMR'!$B$4:$G$87,6,0)","v":"3_Flexible 5%"},11,"Condiciones de salud","Acciones para la disminución de los factores de riesgo frente al consumo de sustancias psicoactivas.",91,"SALUD",16,"Promoción, prevención e intervención en salud.",32,"Números de personas vinculadas a las acciones desarrolladas desde los dispositivos de base comunitaria en respuesta al consumo de SPA.","SPA",null,null,null,600,600,600,600,600000000,650000000,700000000,730000000,2680000000,1,0,0,0,0,"Bajo","Bajo",5.193899106571833E-2,0,0,null,null,null,0,"2021_1",600,600,0,0,0,0,0,0,0,0,0,0,0,"",null,null,null,608793000,608793000,0,0,0,null,0,0,0,0,null,null,0,0,0,"",null,null,null,null,null,{"$f":"VLOOKUP(AG1187,'Anexo ODS'!$G$3:$P$86,5,0)","v":1},{"$f":"VLOOKUP(AG1187,'Anexo ODS'!$G$3:$P$86,6,0)","v":"Las Personas"},{"$f":"VLOOKUP(AG1187,'Anexo ODS'!$G$3:$P$86,7,0)","v":3},{"$f":"VLOOKUP(AG1187,'Anexo ODS'!$G$3:$P$86,8,0)","v":"Salud y Bienestar"},{"$f":"VLOOKUP(AG1187,'Anexo ODS'!$G$3:$P$86,9,0)","v":"3.5"},{"$f":"VLOOKUP(AG1187,'Anexo ODS'!$G$3:$P$86,10,0)","v":"Fortalecer la prevención y el tratamiento del abuso de sustancias adictivas, incluido el uso indebido de estupefacientes y el consumo nocivo de alcohol"},null,null,null,null,null,null,null,null,2400]
[1186,19,"Ciudad Bolívar",1,"Hacer un nuevo contrato social con igualdad de oportunidades para la inclusión social, productiva y política",6,"Sistema Distrital de Cuidado",null,null,null,null,1186,"Vincular 2.500 personas en acciones complementarias de la estrategia territorial de salud.",1892,"Ciudad Bolívar, un nuevo contrato social en salud con igualdad de oportunidades","ESTRATEGIA TERRITORIAL DE SALUD","Suma",null,"Vincular",2500,"Personas","en acciones complementarias de la estrategia territorial de salud.","Vincular 2.500 personas en acciones complementarias de la estrategia territorial de salud.",{"$f":"VLOOKUP(AG1188,'Anexo PMR'!$B$4:$G$87,6,0)","v":"3_Flexible 5%"},11,"Condiciones de salud","Coinversión en la estrategia territorial de salud.",91,"SALUD",16,"Promoción, prevención e intervención en salud.",36,"Número de personas vinculadas en las acciones complementarias de la estrategia territorial de salud.","ESTRATEGIA TERRITORIAL DE SALUD",null,null,null,625,625,625,625,496000000,528000000,619000000,734000000,2377000000,1,0,0,0,0,"Bajo","Bajo",4.6066784240004655E-2,0,0,null,null,null,0,"2021_1",625,625,0,0,0,0,0,0,0,0,0,0,0,"",null,null,null,503269000,503269000,0,0,0,null,0,0,0,0,null,null,0,0,0,"",null,null,null,null,null,{"$f":"VLOOKUP(AG1188,'Anexo ODS'!$G$3:$P$86,5,0)","v":1},{"$f":"VLOOKUP(AG1188,'Anexo ODS'!$G$3:$P$86,6,0)","v":"Las Personas"},{"$f":"VLOOKUP(AG1188,'Anexo ODS'!$G$3:$P$86,7,0)","v":3},{"$f":"VLOOKUP(AG1188,'Anexo ODS'!$G$3:$P$86,8,0)","v":"Salud y Bienestar"},{"$f":"VLOOKUP(AG1188,'Anexo ODS'!$G$3:$P$86,9,0)","v":"3.8"},{"$f":"VLOOKUP(AG1188,'Anexo ODS'!$G$3:$P$86,10,0)","v":"Lograr la cobertura sanitaria universal, incluida la protección contra los riesgos financieros, el acceso a servicios de salud esenciales de calidad y el acceso a medicamentos y vacunas inocuos, eficaces, asequibles y de calidad para todos"},null,null,null,null,null,null,null,null,2500]
[1191,19,"Ciudad Bolívar",1,"Hacer un nuevo contrato social con igualdad de oportunidades para la inclusión social, productiva y política",14,"Formación integral: más y mejor tiempo en los colegios",null,null,null,null,1191,"Dotar 46 colegios educativos urbanas y rurales.",1875,"Dotación pedagógica a IED","DOTACIÓN","Suma",null,"Dotar",46,"Colegios","educativos urbanas y rurales.","Dotar 46 colegios educativos urbanas y rurales.",{"$f":"VLOOKUP(AG1193,'Anexo PMR'!$B$4:$G$87,6,0)","v":"2_Presupuestos Participativos 50%"},6,"Infraestructura","Dotación pedagógica a colegios.",90,"EDUCACIÓN",3,"Infraestructura y dotación escolar.",4,"Sedes educativas urbanas y rurales dotadas","SEDES EDUCATIVAS",null,null,null,12,12,12,10,1000000000,1000000000,1986000000,1938000000,5924000000,1,0,0,0,0,"Bajo","Bajo",1,0,0,null,null,null,0,"2021_1",12,12,0,0,0,0,0,0,0,0,0,0,0,"",null,null,null,1014655000,1014655000,0,0,0,null,0,0,0,0,null,null,0,0,0,"",null,null,null,null,null,{"$f":"VLOOKUP(AG1193,'Anexo ODS'!$G$3:$P$86,5,0)","v":1},{"$f":"VLOOKUP(AG1193,'Anexo ODS'!$G$3:$P$86,6,0)","v":"Las Personas"},{"$f":"VLOOKUP(AG1193,'Anexo ODS'!$G$3:$P$86,7,0)","v":4},{"$f":"VLOOKUP(AG1193,'Anexo ODS'!$G$3:$P$86,8,0)","v":"Educación de calidad"},{"$f":"VLOOKUP(AG1193,'Anexo ODS'!$G$3:$P$86,9,0)","v":"4.7"},{"$f":"VLOOKUP(AG1193,'Anexo ODS'!$G$3:$P$86,10,0)","v":"De aquí a 2030, asegurar que todos los alumnos adquieran los conocimientos teóricos y prácticos necesarios para promover el desarrollo sostenible, entre otras cosas mediante la educación para el desarrollo sostenible y los estilos de vida sostenibles, los derechos humanos, la igualdad de género, la promoción de una cultura de paz y no violencia, la ciudadanía mundial y la valoración de la diversidad cultural y la contribución de la cultura al desarrollo sostenible"},null,null,null,null,null,null,null,null,46]
[1196,19,"Ciudad Bolívar",1,"Hacer un nuevo contrato social con igualdad de oportunidades para la inclusión social, productiva y política",19,"Vivienda y entornos dignos en el territorio urbano y rural",null,null,null,null,1196,"Mejorar 90 viviendas rurales.",1878,"Mejoramiento en la calidad de vida en los habitantes rurales de la localidad de Ciudad Bolívar","MEJORAMIENTO DE VIVIENDA","Suma",null,"Mejorar",90,"Viviendas","rurales","Mejorar 90 viviendas rurales.",{"$f":"VLOOKUP(AG1198,'Anexo PMR'!$B$4:$G$87,6,0)","v":"2_Presupuestos Participativos 50%"},9,"Ruralidad","Mejoramiento de vivienda rural.",96,"HÁBITAT",6,"Viviendas de interés social rural mejoradas.",9,"Viviendas de interés social rurales mejoradas ","VIVIENDA RURAL",null,null,null,0,30,30,30,0,913000000,913000000,914000000,2740000000,1,0,0,0,0,"Bajo","Bajo",1,0,0,null,null,null,0,"2021_1",0,0,0,0,0,0,0,0,0,0,0,0,0,"",null,null,null,0,0,0,0,0,null,0,0,0,0,null,null,0,0,0,"",null,null,null,null,null,{"$f":"VLOOKUP(AG1198,'Anexo ODS'!$G$3:$P$86,5,0)","v":3},{"$f":"VLOOKUP(AG1198,'Anexo ODS'!$G$3:$P$86,6,0)","v":"La Prosperidad"},{"$f":"VLOOKUP(AG1198,'Anexo ODS'!$G$3:$P$86,7,0)","v":11},{"$f":"VLOOKUP(AG1198,'Anexo ODS'!$G$3:$P$86,8,0)","v":"Ciudades y comunidades sostenibles"},{"$f":"VLOOKUP(AG1198,'Anexo ODS'!$G$3:$P$86,9,0)","v":"11.1"},{"$f":"VLOOKUP(AG1198,'Anexo ODS'!$G$3:$P$86,10,0)","v":"De aquí a 2030, asegurar el acceso de todas las personas a viviendas y servicios básicos adecuados, seguros y asequibles y mejorar los barrios marginales"},null,null,null,null,null,null,null,null,90]
[1201,19,"Ciudad Bolívar",1,"Hacer un nuevo contrato social con igualdad de oportunidades para la inclusión social, productiva y política",21,"Creación y vida cotidiana: Apropiación ciudadana del arte, la cultura y el patrimonio, para la democracia cultural",null,null,null,null,1201,"Intervenir 8 sedes culturales con dotación y/o adecuación.",1879,"Un nuevo contrato social por la cultura, el arte y patrimonio de Ciudad Bolívar","FORTALECIMIENTO INFRAESTRUCTURA","Suma",null,"Intervenir",8,"Sedes","culturales con dotación y/o adecuación.","Intervenir 8 sedes culturales con dotación y/o adecuación.",{"$f":"VLOOKUP(AG1203,'Anexo PMR'!$B$4:$G$87,6,0)","v":"2_Presupuestos Participativos 50%"},6,"Infraestructura","Dotación e infraestructura cultural.",93,"CULTURA, RECREACIÓN Y DEPORTE",11,"Infraestructura y dotación a centros artísticos y culturales.",16,"Sedes dotadas/Sedes adecuadas","SEDES CULTURALES",null,null,null,1,3,3,1,800000000,963000000,800000000,200000000,2763000000,1,0,0,0,0,"Bajo","Bajo",0.18334439283344392,0,0,null,null,null,0,"2021_1",1,1,0,0,0,0,0,0,0,0,0,0,0,"",null,null,null,811725000,811725000,0,0,0,null,0,0,0,0,null,null,0,0,0,"",null,null,null,null,null,{"$f":"VLOOKUP(AG1203,'Anexo ODS'!$G$3:$P$86,5,0)","v":3},{"$f":"VLOOKUP(AG1203,'Anexo ODS'!$G$3:$P$86,6,0)","v":"La Prosperidad"},{"$f":"VLOOKUP(AG1203,'Anexo ODS'!$G$3:$P$86,7,0)","v":9},{"$f":"VLOOKUP(AG1203,'Anexo ODS'!$G$3:$P$86,8,0)","v":"Industria, innovación e infraestructura"},{"$f":"VLOOKUP(AG1203,'Anexo ODS'!$G$3:$P$86,9,0)","v":"9.1"},{"$f":"VLOOKUP(AG1203,'Anexo ODS'!$G$3:$P$86,10,0)","v":"Desarrollar infraestructuras fiables, sostenibles, resilientes y de calidad, incluidas infraestructuras regionales y transfronterizas, para apoyar el desarrollo económico y el bienestar humano, haciendo especial hincapié en el acceso asequible y equitativo para todos"},null,null,null,null,null,null,null,null,8]
[1202,19,"Ciudad Bolívar",1,"Hacer un nuevo contrato social con igualdad de oportunidades para la inclusión social, productiva y política",21,"Creación y vida cotidiana: Apropiación ciudadana del arte, la cultura y el patrimonio, para la democracia cultural",null,null,null,null,1202,"Otorgar 320 estímulos de apoyo al sector artístico y cultural.",1879,"Un nuevo contrato social por la cultura, el arte y patrimonio de Ciudad Bolívar","ESTÍMULOS","Suma",null,"Otorgar",320,"Estímulos","de apoyo al sector artístico y cultural.","Otorgar 320 estímulos de apoyo al sector artístico y cultural.",{"$f":"VLOOKUP(AG1204,'Anexo PMR'!$B$4:$G$87,6,0)","v":"2_Presupuestos Participativos 50%"},7,"Desarrollo social y cultural","Iniciativas de interés cultural, artístico, patrimonial y recreo deportivas.",93,"CULTURA, RECREACIÓN Y DEPORTE",9,"Servicio de apoyo financiero para el desarrollo de prácticas artísticas y culturales en el Distrito de Bogotá.",14,"Estímulos otorgados de apoyo al sector artístico y cultural ","ESTIMULOS CULTURALES",null,null,null,50,50,110,110,1000000000,1000000000,2132000000,2133000000,6265000000,1,0,0,0,0,"Bajo","Bajo",0.41572660915726611,0,0,null,null,null,0,"2021_1",50,50,0,0,0,0,0,0,0,0,0,0,0,"",null,null,null,1014656000,1014656000,0,0,0,null,0,0,0,0,null,null,0,0,0,"",null,null,null,null,null,{"$f":"VLOOKUP(AG1204,'Anexo ODS'!$G$3:$P$86,5,0)","v":3},{"$f":"VLOOKUP(AG1204,'Anexo ODS'!$G$3:$P$86,6,0)","v":"La Prosperidad"},{"$f":"VLOOKUP(AG1204,'Anexo ODS'!$G$3:$P$86,7,0)","v":11},{"$f":"VLOOKUP(AG1204,'Anexo ODS'!$G$3:$P$86,8,0)","v":"Ciudades y comunidades sostenibles"},{"$f":"VLOOKUP(AG1204,'Anexo ODS'!$G$3:$P$86,9,0)","v":"11.4"},{"$f":"VLOOKUP(AG1204,'Anexo ODS'!$G$3:$P$86,10,0)","v":"Redoblar los esfuerzos para proteger y salvaguardar el patrimonio cultural y natural del mundo"},null,null,null,null,null,null,null,null,320]
[1207,19,"Ciudad Bolívar",1,"Hacer un nuevo contrato social con igualdad de oportunidades para la inclusión social, productiva y política",24,"Bogotá región emprendedora e innovadora",null,null,null,null,1207,"Financiar 50 proyectos del sector cultural y creativo.",1883,"Cultura en Ciudad Bolívar: un camino de inclusión y emprendimiento.","FORTALECIMIENTO INDUSTRIA CULTURAL","Suma",null,"Financiar",50,"Proyectos","del sector cultural y creativo.","Financiar 50 proyectos del sector cultural y creativo.",{"$f":"VLOOKUP(AG1209,'Anexo PMR'!$B$4:$G$87,6,0)","v":"2_Presupuestos Participativos 50%"},7,"Desarrollo social y cultural","Apoyo y fortalecimiento a las industrias culturales y creativas en las localidades",93,"CULTURA, RECREACIÓN Y DEPORTE",9,"Servicio de apoyo financiero para el desarrollo de prácticas artísticas y culturales en el Distrito de Bogotá.",20,"Número de proyectos financiados y acompañados del sector cultural y creativo.","ACTIVIDAD CULTURAL",null,null,null,0,0,25,25,0,0,1159000000,1159000000,2318000000,1,0,0,0,0,"Bajo","Bajo",0.29252902574457346,0,0,null,null,null,0,"2021_1",0,0,0,0,0,0,0,0,0,0,0,0,0,"",null,null,null,0,0,0,0,0,null,0,0,0,0,null,null,0,0,0,"",null,null,null,null,null,{"$f":"VLOOKUP(AG1209,'Anexo ODS'!$G$3:$P$86,5,0)","v":3},{"$f":"VLOOKUP(AG1209,'Anexo ODS'!$G$3:$P$86,6,0)","v":"La Prosperidad"},{"$f":"VLOOKUP(AG1209,'Anexo ODS'!$G$3:$P$86,7,0)","v":8},{"$f":"VLOOKUP(AG1209,'Anexo ODS'!$G$3:$P$86,8,0)","v":"Trabajo decente y crecimiento económico"},{"$f":"VLOOKUP(AG1209,'Anexo ODS'!$G$3:$P$86,9,0)","v":"8.3"},{"$f":"VLOOKUP(AG1209,'Anexo ODS'!$G$3:$P$86,10,0)","v":"Promover políticas orientadas al desarrollo que apoyen las actividades productivas, la creación de puestos de trabajo decentes, el emprendimiento, la creatividad y la innovación, y fomentar la formalización y el crecimiento de las microempresas y las pequeñas y medianas empresas, incluso mediante el acceso a servicios financieros"},null,null,null,null,null,null,null,null,50]
[1212,19,"Ciudad Bolívar",2,"Cambiar nuestros hábitos de vida para reverdecer a Bogotá y adaptarnos y mitigar el cambio climático.",30,"Eficiencia en la atención de emergencias",null,null,null,null,1212,"Generar 100 acciones efectivas que garanticen el fortalecimiento de las capacidades de organizaciones locales para la respuesta a emergencias y desastres.",1928,"Acciones de mejoramiento, gestión de riesgo, manejo de emergencias y desastres de los eventos y fenómenos relacionados con los escenarios de\namenaza que se presentan","MANEJO DE EMERGENCIAS, CALAMIDADES Y DESASTRES","Suma",null,"Generar",100,"Acciones","efectivas que garanticen el fortalecimiento de las capacidades de organizaciones locales para la respuesta a emergencias y desastres.","Generar 100 acciones efectivas que garanticen el fortalecimiento de las capacidades de organizaciones locales para la respuesta a emergencias y desastres.",{"$f":"VLOOKUP(AG1214,'Anexo PMR'!$B$4:$G$87,6,0)","v":"2_Presupuestos Participativos 50%"},8,"Inversiones ambientales sostenibles","Manejo de emergencias y desastres.",94,"AMBIENTE",18,"Gestión para la prevención y mitigación del riesgo.",42,"Acciones efectivas para el fortalecimiento de las capacidades locales para la respuesta a emergencias y desastres","REDUCCIÓN DEL RIESGO",null,null,null,25,25,25,25,341000000,342000000,342000000,341000000,1366000000,1,0,0,0,0,"Bajo","Bajo",0.35619295958279007,0,0,null,null,null,0,"2021_1",25,25,0,0,0,0,0,0,0,0,0,0,0,"",null,null,null,345998000,345998000,0,0,0,null,0,0,0,0,null,null,0,0,0,"",null,null,null,null,null,{"$f":"VLOOKUP(AG1214,'Anexo ODS'!$G$3:$P$86,5,0)","v":3},{"$f":"VLOOKUP(AG1214,'Anexo ODS'!$G$3:$P$86,6,0)","v":"La Prosperidad"},{"$f":"VLOOKUP(AG1214,'Anexo ODS'!$G$3:$P$86,7,0)","v":11},{"$f":"VLOOKUP(AG1214,'Anexo ODS'!$G$3:$P$86,8,0)","v":"Ciudades y comunidades sostenibles"},{"$f":"VLOOKUP(AG1214,'Anexo ODS'!$G$3:$P$86,9,0)","v":"11.5"},{"$f":"VLOOKUP(AG1214,'Anexo ODS'!$G$3:$P$86,10,0)","v":"De aquí a 2030, reducir significativamente el número de muertes causadas por los desastres, incluidos los relacionados con el agua, y de personas afectadas por ellos, y reducir considerablemente las pérdidas económicas directas provocadas por los desastres en comparación con el producto interno bruto mundial, haciendo especial hincapié en la protección de los pobres y las personas en situaciones de vulnerabilidad"},null,null,null,null,null,null,null,null,100]
[1217,19,"Ciudad Bolívar",2,"Cambiar nuestros hábitos de vida para reverdecer a Bogotá y adaptarnos y mitigar el cambio climático.",34,"Bogotá protectora de los animales",null,null,null,null,1217,"Atender 40.000 animales en urgencias, brigadas médico veterinarias, acciones de esterilización, educación y adopción.",1931,"Ciudad Bolívar, Protectora de los Animales","BIENESTAR ANIMAL","Suma",null,"Atender",40000,"Animales","en urgencias, brigadas médico veterinarias, acciones de esterilización, educación y adopción.","Atender 40.000 animales en urgencias, brigadas médico veterinarias, acciones de esterilización, educación y adopción.",{"$f":"VLOOKUP(AG1219,'Anexo PMR'!$B$4:$G$87,6,0)","v":"2_Presupuestos Participativos 50%"},8,"Inversiones ambientales sostenibles","Acuerdos con las redes locales de proteccionistas de animales para urgencias, brigadas médico veterinarias, acciones de esterilización, educación y adopción  ",94,"AMBIENTE",21,"Servicios de protección y bienestar animal.",48,"Número de animales atendidos","PROTECCIÓN ANIMAL",null,null,null,10000,6000,9250,14750,1330000000,800000000,1230000000,1961000000,5321000000,1,0,0,0,0,"Bajo","Bajo",1,{"$f":"BB1219*AW1219","v":0},{"$f":"BB1219*AY1219","v":0},null,null,null,0,"2021_1",10000,10000,0,0,0,0,0,0,0,0,0,0,0,"",null,null,null,1349492000,1349492000,0,0,0,null,0,0,0,{"$f":"SUM(CF1219:CI1219)","v":0},null,null,0,0,0,"",null,null,null,null,null,{"$f":"VLOOKUP(AG1219,'Anexo ODS'!$G$3:$P$86,5,0)","v":3},{"$f":"VLOOKUP(AG1219,'Anexo ODS'!$G$3:$P$86,6,0)","v":"La Prosperidad"},{"$f":"VLOOKUP(AG1219,'Anexo ODS'!$G$3:$P$86,7,0)","v":11},{"$f":"VLOOKUP(AG1219,'Anexo ODS'!$G$3:$P$86,8,0)","v":"Ciudades y comunidades sostenibles"},{"$f":"VLOOKUP(AG1219,'Anexo ODS'!$G$3:$P$86,9,0)","v":"11.3"},{"$f":"VLOOKUP(AG1219,'Anexo ODS'!$G$3:$P$86,10,0)","v":"De aquí a 2030, aumentar la urbanización inclusiva y sostenible y la capacidad para la planificación y la gestión participativas, integradas y sostenibles de los asentamientos\nhumanos en todos los países"},null,null,null,null,null,null,null,null,40000]
[1218,19,"Ciudad Bolívar",2,"Cambiar nuestros hábitos de vida para reverdecer a Bogotá y adaptarnos y mitigar el cambio climático.",37,"Provisión y mejoramiento de servicios públicos",null,null,null,null,1218,"Fortalecer 6 acueductos veredales con asistencia, intervenir técnica u organizativa.",1934,"Ciudad Bolívar mejorando la provisión y calidad de servicios de agua a la comunidad rural","ACUEDUCTOS VEREDALES","Suma",null,"Fortalecer",6,"Acueductos","veredales con asistencia, intervenir técnica u organizativa","Fortalecer 6 acueductos veredales con asistencia, intervenir técnica u organizativa.",{"$f":"VLOOKUP(AG1220,'Anexo PMR'!$B$4:$G$87,6,0)","v":"2_Presupuestos Participativos 50%"},9,"Ruralidad","Acueductos veredales y saneamiento básico.",96,"HÁBITAT",22,"Acueductos y alcantarillados.",49,"Número de acueductos verdales asistidos o intervenidos técnica u organizacionalmente.","ACUEDUCTOS VEREDALES",null,null,null,1,2,2,1,787000000,1143000000,1244000000,1400000000,4574000000,1,0,0,0,0,"Bajo","Bajo",1,0,0,null,null,null,0,"2021_1",1,1,0,0,0,0,0,0,0,0,0,0,0,"",null,null,null,798534000,798534000,0,0,0,null,0,0,0,0,null,null,0,0,0,"",null,null,null,null,null,{"$f":"VLOOKUP(AG1220,'Anexo ODS'!$G$3:$P$86,5,0)","v":4},{"$f":"VLOOKUP(AG1220,'Anexo ODS'!$G$3:$P$86,6,0)","v":"El Planeta"},{"$f":"VLOOKUP(AG1220,'Anexo ODS'!$G$3:$P$86,7,0)","v":6},{"$f":"VLOOKUP(AG1220,'Anexo ODS'!$G$3:$P$86,8,0)","v":"Agua y saneamiento"},{"$f":"VLOOKUP(AG1220,'Anexo ODS'!$G$3:$P$86,9,0)","v":"6.b"},{"$f":"VLOOKUP(AG1220,'Anexo ODS'!$G$3:$P$86,10,0)","v":"Apoyar y fortalecer la participación de las comunidades locales en la mejora de la gestión del agua y el saneamiento"},null,null,null,null,null,null,null,null,6]
[1223,19,"Ciudad Bolívar",3,"Inspirar confianza y legitimidad para vivir sin miedo y ser epicentro de cultura ciudadana, paz y reconciliación.",40,"Más mujeres viven una vida libre de violencias, se sienten seguras y acceden con confianza al sistema de justicia",null,null,null,null,1223,"Vincular 5.600 personas en acciones para la prevención del feminicidio y la violencia contra la mujer.",1938,"Un nuevo contrato social por las mujeres de Ciudad Bolívar","PREVENCIÓN","Suma",null,"Vincular",5600,"Personas","en acciones para la prevención del feminicidio y la violencia contra la mujer.","Vincular 5.600 personas en acciones para la prevención del feminicidio y la violencia contra la mujer.",{"$f":"VLOOKUP(AG1225,'Anexo PMR'!$B$4:$G$87,6,0)","v":"2_Presupuestos Participativos 50%"},7,"Desarrollo social y cultural","Prevención del feminicidio y la violencia contra la mujer.",100,"MUJERES",27,"Prevención, atención y gestión del conflicto en la localidad.",54,"Número de Personas vinculadas en acciones para la prevención del feminicidio y la violencia contra la mujer","PREVENCIÓN DE LA VIOLENCIA",null,null,null,1400,1000,1400,1800,1403000000,1000000000,1404000000,1807000000,5614000000,1,0,0,0,0,"Bajo","Bajo",0.54680042855751432,0,0,null,null,null,0,"2021_1",1400,1400,0,0,0,0,0,0,0,0,0,0,0,"",null,null,null,1423562000,1423562000,0,0,0,null,0,0,0,0,null,null,0,0,0,"",null,null,null,null,null,{"$f":"VLOOKUP(AG1225,'Anexo ODS'!$G$3:$P$86,5,0)","v":1},{"$f":"VLOOKUP(AG1225,'Anexo ODS'!$G$3:$P$86,6,0)","v":"Las Personas"},{"$f":"VLOOKUP(AG1225,'Anexo ODS'!$G$3:$P$86,7,0)","v":5},{"$f":"VLOOKUP(AG1225,'Anexo ODS'!$G$3:$P$86,8,0)","v":"Igualdad de género"},{"$f":"VLOOKUP(AG1225,'Anexo ODS'!$G$3:$P$86,9,0)","v":"5.2"},{"$f":"VLOOKUP(AG1225,'Anexo ODS'!$G$3:$P$86,10,0)","v":"Eliminar todas las formas de violencia contra todas las mujeres y las niñas en los ámbitos público y privado, incluidas la trata y la explotación sexual y otros tipos de explotación"},null,null,null,null,null,null,null,null,5600]
[1228,19,"Ciudad Bolívar",3,"Inspirar confianza y legitimidad para vivir sin miedo y ser epicentro de cultura ciudadana, paz y reconciliación.",45,"Espacio público más seguro y construido colectivamente",null,null,null,null,1228,"Realizar 4 acuerdos para la vinculación de la ciudadanía en los programas adelantados por el IDRD y acuerdos con vendedores informales o estacionarios.",1980,"Un nuevo contrato social y ambiental por un espacio público amigable con la comunidad de Ciudad Bolívar","ACUERDOS CIUDADANOS","Suma",null,"Realizar",4,"Acuerdos","para la vinculación de la ciudadanía en los programas adelantados por el IDRD y acuerdos con vendedores informales o estacionarios","Realizar 4 acuerdos para la vinculación de la ciudadanía en los programas adelantados por el IDRD y acuerdos con vendedores informales o estacionarios.",{"$f":"VLOOKUP(AG1230,'Anexo PMR'!$B$4:$G$87,6,0)","v":"2_Presupuestos Participativos 50%"},7,"Desarrollo social y cultural","Acuerdos para mejorar el uso de medios de transporte no motorizados.",98,"GOBIERNO",28,"Acuerdos ciudadanos suscritos.",60,"Acuerdos realizados para la vinculación de la ciudadanía en los programas adelantados por el IDRD y acuerdos con vendedores informales o estacionarios ","\nACUERDOS DE ESPACIO PÚBLICO",null,null,null,1,1,1,1,262000000,262000000,262000000,262000000,1048000000,1,0,0,0,0,"Bajo","Bajo",0.31125631125631126,0,0,null,null,null,0,"2021_1",1,1,0,0,0,0,0,0,0,0,0,0,0,"",null,null,null,265840000,265840000,0,0,0,null,0,0,0,0,null,null,0,0,0,"",null,null,null,null,null,{"$f":"VLOOKUP(AG1230,'Anexo ODS'!$G$3:$P$86,5,0)","v":2},{"$f":"VLOOKUP(AG1230,'Anexo ODS'!$G$3:$P$86,6,0)","v":"La Paz"},{"$f":"VLOOKUP(AG1230,'Anexo ODS'!$G$3:$P$86,7,0)","v":16},{"$f":"VLOOKUP(AG1230,'Anexo ODS'!$G$3:$P$86,8,0)","v":"Paz, justicia e instituciones sólidas"},{"$f":"VLOOKUP(AG1230,'Anexo ODS'!$G$3:$P$86,9,0)","v":"16.1"},{"$f":"VLOOKUP(AG1230,'Anexo ODS'!$G$3:$P$86,10,0)","v":"Reducir significativamente todas las formas de violencia y las correspondientes tasas de mortalidad en todo el mundo"},null,null,null,null,null,null,null,null,4]
[1233,19,"Ciudad Bolívar",3,"Inspirar confianza y legitimidad para vivir sin miedo y ser epicentro de cultura ciudadana, paz y reconciliación.",48,"Plataforma institucional para la seguridad y justicia",null,null,null,null,1233,"Suministrar 1 dotaciones tecnológicas a organismos de seguridad.",1982,"Tecnologica, segura y en paz en ciudad bolívar","DOTACIÓN","Suma",null,"Suministrar",1,"Dotaciones","tecnológicas a organismos de seguridad.","Suministrar 1 dotaciones tecnológicas a organismos de seguridad.",{"$f":"VLOOKUP(AG1235,'Anexo PMR'!$B$4:$G$87,6,0)","v":"2_Presupuestos Participativos 50%"},7,"Desarrollo social y cultural","Dotación para instancias de seguridad.",102,"SEGURIDAD, CONVIVENCIA Y JUSTICIA",30,"Infraestructura y dotaciones para seguridad.",65,"Dotaciones tecnológicas suministradas a organismos de seguridad.","DOTACIÓN EN SEGURIDAD",null,null,null,0,0,0,1,0,0,0,800000000,800000000,1,0,0,0,0,"Bajo","Bajo",0.13522650439486139,0,0,null,null,null,0,"2021_1",0,0,0,0,0,0,0,0,0,0,0,0,0,"",null,null,null,0,0,0,0,0,null,0,0,0,0,null,null,0,0,0,"",null,null,null,null,null,{"$f":"VLOOKUP(AG1235,'Anexo ODS'!$G$3:$P$86,5,0)","v":2},{"$f":"VLOOKUP(AG1235,'Anexo ODS'!$G$3:$P$86,6,0)","v":"La Paz"},{"$f":"VLOOKUP(AG1235,'Anexo ODS'!$G$3:$P$86,7,0)","v":16},{"$f":"VLOOKUP(AG1235,'Anexo ODS'!$G$3:$P$86,8,0)","v":"Paz, justicia e instituciones sólidas"},{"$f":"VLOOKUP(AG1235,'Anexo ODS'!$G$3:$P$86,9,0)","v":"16.a"},{"$f":"VLOOKUP(AG1235,'Anexo ODS'!$G$3:$P$86,10,0)","v":"Fortalecer las instituciones nacionales pertinentes, incluso mediante la cooperación internacional, para crear a todos los niveles, particularmente en los países en desarrollo, la capacidad de prevenir la violencia y combatir el terrorismo y la delincuencia"},null,null,null,null,null,null,null,null,1]
[1234,19,"Ciudad Bolívar",4,"Hacer de Bogotá-región un modelo de movilidad, creatividad y productividad incluyente y sostenible",49,"Movilidad segura, sostenible y accesible",null,null,null,null,1234,"Intervenir 1.500 metros lineales de Ciclo-infraestructura con acciones de construcción y/o conservación.",1983,"Movilidad segura, sostenible y accesible en Ciudad Bolívar ","CICLO INFRAESTRUCTURA","Suma",null,"Intervenir",1500,"Metros","lineales de Ciclo-infraestructura con acciones de construcción y/o conservación.","Intervenir 1.500 metros lineales de Ciclo-infraestructura con acciones de construcción y/o conservación.",{"$f":"VLOOKUP(AG1236,'Anexo PMR'!$B$4:$G$87,6,0)","v":"2_Presupuestos Participativos 50%"},6,"Infraestructura","Diseño, construcción y conservación de ciclo-infraestructura.",95,"MOVILIDAD",33,"Ciclo infraestructura construida y/o conservada.",73,"Metros lineales construidos y/o conservados de Ciclo-infraestructura","CICLO-INFRAESTRUCTURA",null,null,null,1500,0,0,0,1843000000,0,0,0,1843000000,1,0,0,0,0,"Bajo","Bajo",6.2192076668691365E-2,0,0,null,null,null,0,"2021_1",1500,1500,0,0,0,0,0,0,0,0,0,0,0,"",null,null,null,1870011000,1870011000,0,0,0,null,0,0,0,0,null,null,0,0,0,"",null,null,null,null,null,{"$f":"VLOOKUP(AG1236,'Anexo ODS'!$G$3:$P$86,5,0)","v":3},{"$f":"VLOOKUP(AG1236,'Anexo ODS'!$G$3:$P$86,6,0)","v":"La Prosperidad"},{"$f":"VLOOKUP(AG1236,'Anexo ODS'!$G$3:$P$86,7,0)","v":11},{"$f":"VLOOKUP(AG1236,'Anexo ODS'!$G$3:$P$86,8,0)","v":"Ciudades y comunidades sostenibles"},{"$f":"VLOOKUP(AG1236,'Anexo ODS'!$G$3:$P$86,9,0)","v":"11.2"},{"$f":"VLOOKUP(AG1236,'Anexo ODS'!$G$3:$P$86,10,0)","v":" De aquí a 2030, proporcionar acceso a sistemas de transporte seguros, asequibles, accesibles y sostenibles para todos y mejorar la seguridad vial, en particular mediante la ampliación del transporte público, prestando especial atención a las necesidades de las personas en situación de vulnerabilidad, las mujeres, los niños, las personas con discapacidad y las personas de edad"},null,null,null,null,null,null,null,null,1500]
[1239,19,"Ciudad Bolívar",5,"Construir Bogotá-región con gobierno abierto, transparente y ciudadanía consciente.",54,"Transformación digital y gestión de TIC para un territorio inteligente",null,null,null,null,1239,"Operativizar 15 Centros de Acceso Comunitario en zonas rurales y/o apartadas.",1984,"Ciudad Bolívar con conectividad rural ","CONECTIVIDAD","Suma",null,"Operativizar",15,"Centros","de Acceso Comunitario en zonas rurales y/o apartadas.","Operativizar 15 Centros de Acceso Comunitario en zonas rurales y/o apartadas.",{"$f":"VLOOKUP(AG1241,'Anexo PMR'!$B$4:$G$87,6,0)","v":"2_Presupuestos Participativos 50%"},9,"Ruralidad","Conectividad y redes de comunicación.",85,"GESTIÓN PÚBLICA",34,"Servicios de Conectividad y redes de comunicación.",74,"Centros de Acceso Comunitario en zonas rurales y/o apartadas funcionando ","CONECTIVIDAD RURAL",null,null,null,9,2,2,2,1167000000,1000000000,1215000000,1676000000,5058000000,1,6,0.4,6,0.4,"Bajo","Bajo",1,0.4,0.4,null,null,null,0,"2021_1",9,9,0,0,0,6,0,0,0,6,0,0,0,"Incompleto",null,null,null,1184103000,1184103000,0,0,0,221000000,0,0,0,221000000,0,0,0,0,0,"",null,null,null,null,null,{"$f":"VLOOKUP(AG1241,'Anexo ODS'!$G$3:$P$86,5,0)","v":3},{"$f":"VLOOKUP(AG1241,'Anexo ODS'!$G$3:$P$86,6,0)","v":"La Prosperidad"},{"$f":"VLOOKUP(AG1241,'Anexo ODS'!$G$3:$P$86,7,0)","v":9},{"$f":"VLOOKUP(AG1241,'Anexo ODS'!$G$3:$P$86,8,0)","v":"Industria, innovación e infraestructura"},{"$f":"VLOOKUP(AG1241,'Anexo ODS'!$G$3:$P$86,9,0)","v":"9.c"},{"$f":"VLOOKUP(AG1241,'Anexo ODS'!$G$3:$P$86,10,0)","v":"Aumentar significativamente el acceso a la tecnología de la información y las comunicaciones y esforzarse por proporcionar acceso universal y asequible a Internet en los países menos adelantados de aquí a 2020"},null,null,null,null,null,null,null,null,15]
[1244,19,"Ciudad Bolívar",5,"Construir Bogotá-región con gobierno abierto, transparente y ciudadanía consciente.",57,"Gestión Pública Local",null,null,null,null,1244,"Realizar 4 estrategias de fortalecimiento institucional.",1986,"Ciudad Bolívar, una localidad con gobierno abierto y gestión pública transparente y eficiente, adaptada al siglo XXI","FORTALECIMIENTO LOCAL","Suma",null,"Realizar",4,"Estrategias","de fortalecimiento institucional.","Realizar 4 estrategias de fortalecimiento institucional.",{"$f":"VLOOKUP(AG1246,'Anexo PMR'!$B$4:$G$87,6,0)","v":"1_Inflexible 45%"},1,"Gestión pública local","Fortalecimiento institucional.",98,"GOBIERNO",37,"Fortalecimiento institucional.",82,"Estrategias de fortalecimiento institucional realizadas","FORTALECIMIENTO LOCAL",null,null,null,1,1,1,1,10130000000,10179000000,10556000000,10950000000,41815000000,1,1,0.25,1,0.25,"Bajo","Bajo",0.67851753289954075,0.16962938322488519,0.16962938322488519,null,null,null,0,"2021_1",1,1,0,0,0,1,0,0,0,1,0,0,0,"Incompleto",null,null,null,10278464000,10278464000,0,0,0,6734290000,0,0,0,6734290000,407626668,407626668,0,0,0,"",null,null,null,null,null,{"$f":"VLOOKUP(AG1246,'Anexo ODS'!$G$3:$P$86,5,0)","v":2},{"$f":"VLOOKUP(AG1246,'Anexo ODS'!$G$3:$P$86,6,0)","v":"La Paz"},{"$f":"VLOOKUP(AG1246,'Anexo ODS'!$G$3:$P$86,7,0)","v":16},{"$f":"VLOOKUP(AG1246,'Anexo ODS'!$G$3:$P$86,8,0)","v":"Paz, justicia e instituciones sólidas"},{"$f":"VLOOKUP(AG1246,'Anexo ODS'!$G$3:$P$86,9,0)","v":"16.6"},{"$f":"VLOOKUP(AG1246,'Anexo ODS'!$G$3:$P$86,10,0)","v":"Garantizar el acceso público a la información y proteger las libertades fundamentales, de conformidad con las leyes nacionales y los acuerdos internacionales"},null,null,null,null,null,null,null,null,4]
[1246,20,"Sumapaz",1,"Hacer un nuevo contrato social con igualdad de oportunidades para la inclusión social, productiva y política",1,"Subsidios y transferencias para la equidad",null,null,null,null,1246,"Atender 800 hogares con apoyos que contribuyan al ingreso mínimo garantizado.",1583,"Más y mejores oportunidades para la población vulnerable","INGRESO MÍNIMO","Suma",null,"Atender",800,"Hogares"," con apoyos que contribuyan al ingreso mínimo garantizado.","Atender 800 hogares con apoyos que contribuyan al ingreso mínimo",{"$f":"VLOOKUP(AG1248,'Anexo PMR'!$B$4:$G$87,6,0)","v":"1_Inflexible 45%"},3,"Sistema Bogotá Solidaria (20%)","Ingreso mínimo garantizado",92,"INTEGRACIÓN SOCIAL",1,"Protección integral a personas y familias en situación de vulneración.",1,"Hogares atendidos con apoyos que contribuyan al ingreso mínimo garantizado","INGRESO MÍNIMO",null,null,null,200,200,200,200,5861000000,6036000000,6186000000,6261000000,24344000000,1,0,0,0,0,"Bajo","Bajo",{"$f":"AT1248/SUMIF($F$1248:$F$1309,F1248,$AT$1248:$AT$1309)","v":0.90961401935507979},0,0,null,null,null,0,"2021_1",200,200,0,0,0,0,0,0,0,0,0,0,0,"No Aplica",null,null,null,5744260000,5744260000,0,0,0,265935000,0,0,0,265935000,3166667,3166667,0,0,0,"",null,null,null,null,null,{"$f":"VLOOKUP(AG1248,'Anexo ODS'!$G$3:$P$86,5,0)","v":1},{"$f":"VLOOKUP(AG1248,'Anexo ODS'!$G$3:$P$86,6,0)","v":"Las Personas"},{"$f":"VLOOKUP(AG1248,'Anexo ODS'!$G$3:$P$86,7,0)","v":1},{"$f":"VLOOKUP(AG1248,'Anexo ODS'!$G$3:$P$86,8,0)","v":"Fin de la pobreza"},{"$f":"VLOOKUP(AG1248,'Anexo ODS'!$G$3:$P$86,9,0)","v":"1.2"},{"$f":"VLOOKUP(AG1248,'Anexo ODS'!$G$3:$P$86,10,0)","v":"De aquí a 2030, reducir al menos a la mitad la proporción de hombres, mujeres y niños de todas las edades que viven en la pobreza en todas sus dimensiones con arreglo a las definiciones nacionales"},null,null,null,null,null,null,null,null,800]
[1247,20,"Sumapaz",1,"Hacer un nuevo contrato social con igualdad de oportunidades para la inclusión social, productiva y política",1,"Subsidios y transferencias para la equidad",null,null,null,null,1247,"Beneficiar 239 personas mayores con apoyo económico tipo C.",1583,"Más y mejores oportunidades para la población vulnerable","SUBSIDIO TIPO C","Constante",null,"Beneficiar",1226,"Personas","mayores con apoyo económico tipo C.","Beneficiar 239 personas mayores con apoyo económico tipo C",{"$f":"VLOOKUP(AG1249,'Anexo PMR'!$B$4:$G$87,6,0)","v":"1_Inflexible 45%"},3,"Sistema Bogotá Solidaria (20%)","Subsidio tipo C adulto mayor.",92,"INTEGRACIÓN SOCIAL",1,"Protección integral a personas y familias en situación de vulneración.",2,"Número de personas mayores con apoyo económico tipo C","SUBSIDIO TIPO C",null,null,null,239,239,239,239,530000000,544000000,605000000,740000000,2419000000,1,59.75,4.8735725938009788E-2,59.75,4.8735725938009788E-2,"Bajo","Bajo",9.0385980644920219E-2,4.4050263813490888E-3,4.4050263813490888E-3,null,null,null,0,"2021_1",239,239,0,0,0,239,0,0,0,239,0,0,0,"Incompleto",null,null,null,519443000,519443000,0,0,0,278825000,0,0,0,278825000,60245000,60245000,0,0,0,"El reporte corresponde a la entrega de subsidios correspondiente a los meses de (Feb-Mar de 2021)",null,null,null,null,null,{"$f":"VLOOKUP(AG1249,'Anexo ODS'!$G$3:$P$86,5,0)","v":1},{"$f":"VLOOKUP(AG1249,'Anexo ODS'!$G$3:$P$86,6,0)","v":"Las Personas"},{"$f":"VLOOKUP(AG1249,'Anexo ODS'!$G$3:$P$86,7,0)","v":1},{"$f":"VLOOKUP(AG1249,'Anexo ODS'!$G$3:$P$86,8,0)","v":"Fin de la pobreza"},{"$f":"VLOOKUP(AG1249,'Anexo ODS'!$G$3:$P$86,9,0)","v":"1.2"},{"$f":"VLOOKUP(AG1249,'Anexo ODS'!$G$3:$P$86,10,0)","v":"De aquí a 2030, reducir al menos a la mitad la proporción de hombres, mujeres y niños de todas las edades que viven en la pobreza en todas sus dimensiones con arreglo a las definiciones nacionales"},null,null,null,null,null,null,null,null,1226]
[1248,20,"Sumapaz",1,"Hacer un nuevo contrato social con igualdad de oportunidades para la inclusión social, productiva y política",6,"Sistema Distrital de Cuidado",null,null,null,null,1248,"Promover en 20 Mipymes y/o emprendimientos procesos de reconversión hacia actividades sostenibles. apoyando en asesoría administrativa, técnica y jurídica para la constitución de los emprendimientos organizativos y MiPymes",1637,"Revitalización y transformación productiva en la localidad de Sumapaz","REACTIVACIÓN","Suma",null,"Promover",20,"Mipymes","y/o emprendimientos procesos de reconversión hacia actividades sostenibles. apoyando en asesoría administrativa, técnica y jurídica para la constitución de los emprendimientos organizativos y MiPymes","Promover en 20 Mipymes y/o emprendimientos procesos de reconversión hacia actividades sostenibles. apoyando en asesoría administrativa, técnica y jurídica para la constitución de los emprendimientos organizativos y MiPymes",{"$f":"VLOOKUP(AG1250,'Anexo PMR'!$B$4:$G$87,6,0)","v":"2_Presupuestos Participativos 50%"},5,"Desarrollo de la Economía Local","Reactivación y reconversión verde",89,"DESARROLLO ECONÓMICO, INDUSTRIA Y TURISMO",14,"Servicios de asesoría, asistencia técnica integral, dotación y/o apoyo financiero a Mipymes y/o emprendimientos.",22,"Número de Mipymes y/o emprendimientos con procesos de reconversión hacia actividades sostenibles","DESARROLLO DE LA ECONOMÍA LOCAL",null,null,null,0,0,20,0,0,0,304000000,0,304000000,1,0,0,0,0,"Bajo","Bajo",3.5895619317510924E-2,0,0,null,null,null,0,"2021_1",0,0,0,0,0,0,0,0,0,0,0,0,0,"",null,null,null,0,0,0,0,0,null,0,0,0,0,null,null,0,0,0,"",null,null,null,null,null,{"$f":"VLOOKUP(AG1250,'Anexo ODS'!$G$3:$P$86,5,0)","v":3},{"$f":"VLOOKUP(AG1250,'Anexo ODS'!$G$3:$P$86,6,0)","v":"La Prosperidad"},{"$f":"VLOOKUP(AG1250,'Anexo ODS'!$G$3:$P$86,7,0)","v":8},{"$f":"VLOOKUP(AG1250,'Anexo ODS'!$G$3:$P$86,8,0)","v":"Trabajo decente y crecimiento económico"},{"$f":"VLOOKUP(AG1250,'Anexo ODS'!$G$3:$P$86,9,0)","v":"8.3"},{"$f":"VLOOKUP(AG1250,'Anexo ODS'!$G$3:$P$86,10,0)","v":"Promover políticas orientadas al desarrollo que apoyen las actividades productivas, la creación de puestos de trabajo decentes, el emprendimiento, la creatividad y la innovación, y fomentar la formalización y el crecimiento de las microempresas y las pequeñas y medianas empresas, incluso mediante el acceso a servicios financieros"},null,null,null,null,null,null,null,null,20]
[1249,20,"Sumapaz",1,"Hacer un nuevo contrato social con igualdad de oportunidades para la inclusión social, productiva y política",6,"Sistema Distrital de Cuidado",null,null,null,null,1249,"Promover en 50 Mipymes y/o emprendimientos la transformación empresarial y/o productiva. apoyando en asesoría administrativa, técnica y jurídica para la constitución de los emprendimientos organizativos y MiPymes",1637,"Revitalización y transformación productiva en la localidad de Sumapaz","TRANSFORMACIÓN PRODUCTIVA","Suma",null,"Promover",50,"Mipymes"," y/o emprendimientos la transformación empresarial y/o productiva. apoyando en asesoría administrativa, técnica y jurídica para la constitución de los emprendimientos organizativos y MiPymes","Promover en 50 Mipymes y/o emprendimientos la transformación empresarial y/o productiva. apoyando en asesoría administrativa, técnica y jurídica para la constitución de los emprendimientos organizativos y MiPymes",{"$f":"VLOOKUP(AG1251,'Anexo PMR'!$B$4:$G$87,6,0)","v":"2_Presupuestos Participativos 50%"},5,"Desarrollo de la Economía Local","Transformación productiva y formación de capacidades",89,"DESARROLLO ECONÓMICO, INDUSTRIA Y TURISMO",14,"Servicios de asesoría, asistencia técnica integral, dotación y/o apoyo financiero a Mipymes y/o emprendimientos.",23,"Número de Mipymes y/o emprendimientos con transformacion empresarial y/o productiva","DESARROLLO DE LA ECONOMÍA LOCAL",null,null,null,5,15,20,10,335000000,335000000,335000000,335000000,1340000000,1,0,0,0,0,"Bajo","Bajo",0.15822411146534421,0,0,null,null,null,0,"2021_1",5,5,0,0,0,0,0,0,0,0,0,0,0,"No Aplica",null,null,null,328327000,328327000,0,0,0,57000000,0,0,0,57000000,0,0,0,0,0,"Contrato de prestación de servicios, no contribuye al avance de la meta",null,null,null,null,null,{"$f":"VLOOKUP(AG1251,'Anexo ODS'!$G$3:$P$86,5,0)","v":3},{"$f":"VLOOKUP(AG1251,'Anexo ODS'!$G$3:$P$86,6,0)","v":"La Prosperidad"},{"$f":"VLOOKUP(AG1251,'Anexo ODS'!$G$3:$P$86,7,0)","v":8},{"$f":"VLOOKUP(AG1251,'Anexo ODS'!$G$3:$P$86,8,0)","v":"Trabajo decente y crecimiento económico"},{"$f":"VLOOKUP(AG1251,'Anexo ODS'!$G$3:$P$86,9,0)","v":"8.3"},{"$f":"VLOOKUP(AG1251,'Anexo ODS'!$G$3:$P$86,10,0)","v":"Promover políticas orientadas al desarrollo que apoyen las actividades productivas, la creación de puestos de trabajo decentes, el emprendimiento, la creatividad y la innovación, y fomentar la formalización y el crecimiento de las microempresas y las pequeñas y medianas empresas, incluso mediante el acceso a servicios financieros"},null,null,null,null,null,null,null,null,50]
[1250,20,"Sumapaz",1,"Hacer un nuevo contrato social con igualdad de oportunidades para la inclusión social, productiva y política",6,"Sistema Distrital de Cuidado",null,null,null,null,1250,"Revitalizar 50 Mipymes y/o emprendimientos potencializadas dentro de las aglomeraciones económicas que fomentan el empleo y/o nuevas actividades económicas. apoyando en asesoría administrativa, técnica y jurídica para la constitución de los emprendimientos organizativos y MiPymes",1637,"Revitalización y transformación productiva en la localidad de Sumapaz","REVITALIZACIÓN","Suma",null,"Revitalizar",50,"Mipymes","y/o emprendimientos potencializadas dentro de las aglomeraciones económicas que fomentan el empleo y/o nuevas actividades económicas. apoyando en asesoría administrativa, técnica y jurídica para la constitución de los emprendimientos organizativos y MiPymes","Revitalizar 50 Mipymes y/o emprendimientos potencializadas dentro de las aglomeraciones económicas que fomentan el empleo y/o nuevas actividades económicas. apoyando en asesoría administrativa, técnica y jurídica para la constitución de los emprendimientos organizativos y MiPymes",{"$f":"VLOOKUP(AG1252,'Anexo PMR'!$B$4:$G$87,6,0)","v":"2_Presupuestos Participativos 50%"},5,"Desarrollo de la Economía Local","Revitalización del corazón productivo de las localidades",89,"DESARROLLO ECONÓMICO, INDUSTRIA Y TURISMO",14,"Servicios de asesoría, asistencia técnica integral, dotación y/o apoyo financiero a Mipymes y/o emprendimientos.",24,"Número de Mipymes  y/o emprendimientos revitalizadas o potencializadas dentro de las aglomeraciones económicas que fomentan el empleo y/o nuevas actividades económicas","DESARROLLO DE LA ECONOMÍA LOCAL",null,null,null,10,20,20,0,250000000,250000000,250000000,0,750000000,1,0,0,0,0,"Bajo","Bajo",8.855827134254339E-2,0,0,null,null,null,0,"2021_1",10,10,0,0,0,0,0,0,0,0,0,0,0,"",null,null,null,245020000,245020000,0,0,0,null,0,0,0,0,null,null,0,0,0,"",null,null,null,null,null,{"$f":"VLOOKUP(AG1252,'Anexo ODS'!$G$3:$P$86,5,0)","v":3},{"$f":"VLOOKUP(AG1252,'Anexo ODS'!$G$3:$P$86,6,0)","v":"La Prosperidad"},{"$f":"VLOOKUP(AG1252,'Anexo ODS'!$G$3:$P$86,7,0)","v":8},{"$f":"VLOOKUP(AG1252,'Anexo ODS'!$G$3:$P$86,8,0)","v":"Trabajo decente y crecimiento económico"},{"$f":"VLOOKUP(AG1252,'Anexo ODS'!$G$3:$P$86,9,0)","v":"8.3"},{"$f":"VLOOKUP(AG1252,'Anexo ODS'!$G$3:$P$86,10,0)","v":"Promover políticas orientadas al desarrollo que apoyen las actividades productivas, la creación de puestos de trabajo decentes, el emprendimiento, la creatividad y la innovación, y fomentar la formalización y el crecimiento de las microempresas y las pequeñas y medianas empresas, incluso mediante el acceso a servicios financieros"},null,null,null,null,null,null,null,null,50]
[1251,20,"Sumapaz",1,"Hacer un nuevo contrato social con igualdad de oportunidades para la inclusión social, productiva y política",6,"Sistema Distrital de Cuidado",null,null,null,null,1251,"Dotar 3 Sedes de atención a la primera infancia y/o adolescencia (jardines infantiles y Centros Amar).",1638,"Prevención de violencias y dotación jardines","DOTACIÓN JARDINES IFANTILES Y CENTROS AMAR","Suma",null,"Dotar",3,"Sedes","de atención a la primera infancia y/o adolescencia (jardines infantiles y Centros Amar).","Dotar 3 Sedes de atención a la primera infancia y/o adolescencia (jardines infantiles y Centros Amar).",{"$f":"VLOOKUP(AG1253,'Anexo PMR'!$B$4:$G$87,6,0)","v":"2_Presupuestos Participativos 50%"},6,"Infraestructura","Dotación a Jardines Infantiles, Centros Amar y Forjar.",92,"INTEGRACIÓN SOCIAL",2,"Protección integral a niños y niñas y adolescentes.",28,"Sedes de atención a la primera infancia y/o adolescencia dotadas.","JARDINES INFANTILES Y CENTROS AMAR",null,null,null,0,0,0,3,0,0,0,204000000,204000000,1,0,0,0,0,"Bajo","Bajo",2.4087849805171802E-2,0,0,null,null,null,0,"2021_1",0,0,0,0,0,0,0,0,0,0,0,0,0,"",null,null,null,0,0,0,0,0,null,0,0,0,0,null,null,0,0,0,"",null,null,null,null,null,{"$f":"VLOOKUP(AG1253,'Anexo ODS'!$G$3:$P$86,5,0)","v":1},{"$f":"VLOOKUP(AG1253,'Anexo ODS'!$G$3:$P$86,6,0)","v":"Las Personas"},{"$f":"VLOOKUP(AG1253,'Anexo ODS'!$G$3:$P$86,7,0)","v":1},{"$f":"VLOOKUP(AG1253,'Anexo ODS'!$G$3:$P$86,8,0)","v":"Fin de la Pobreza"},{"$f":"VLOOKUP(AG1253,'Anexo ODS'!$G$3:$P$86,9,0)","v":"1.2"},{"$f":"VLOOKUP(AG1253,'Anexo ODS'!$G$3:$P$86,10,0)","v":"De aquí a 2030, reducir al menos a la mitad la proporción de hombres, mujeres y niños de todas las edades que viven en la pobreza en todas sus dimensiones con arreglo a las definiciones nacionales"},null,null,null,null,null,null,null,null,3]
[1252,20,"Sumapaz",1,"Hacer un nuevo contrato social con igualdad de oportunidades para la inclusión social, productiva y política",6,"Sistema Distrital de Cuidado",null,null,null,null,1252,"Formar 600 personas en prevención de violencia intrafamiliar y/o violencia sexual.",1638,"Prevención de violencias y dotación jardines","PREVENCIÓN DE VIOLENCIAS","Suma",null,"Formar",600,"Personas","en prevención de violencia intrafamiliar y/o violencia sexual.","Formar 600 personas en prevención de violencia intrafamiliar y/o violencia sexual.",{"$f":"VLOOKUP(AG1254,'Anexo PMR'!$B$4:$G$87,6,0)","v":"2_Presupuestos Participativos 50%"},7,"Desarrollo social y cultural","Prevención y atención de violencia intrafamiliar y sexual para poblaciones en situaciones de riesgo y vulneración de derechos.",92,"INTEGRACIÓN SOCIAL",2,"Protección integral a niños y niñas y adolescentes.",25,"Número de Personas formadas u orientadas o sensibilizadas en prevención de violencia intrafamiliar y/o violencia sexual.            ","PREVENCIÓN DE LA VIOLENCIA",null,null,null,150,150,150,150,236000000,235000000,235000000,235000000,941000000,1,0,0,0,0,"Bajo","Bajo",0.1111111111111111,0,0,null,null,null,0,"2021_1",150,150,0,0,0,0,0,0,0,0,0,0,0,"",null,null,null,231299000,231299000,0,0,0,null,0,0,0,0,null,null,0,0,0,"",null,null,null,null,null,{"$f":"VLOOKUP(AG1254,'Anexo ODS'!$G$3:$P$86,5,0)","v":2},{"$f":"VLOOKUP(AG1254,'Anexo ODS'!$G$3:$P$86,6,0)","v":"La Paz"},{"$f":"VLOOKUP(AG1254,'Anexo ODS'!$G$3:$P$86,7,0)","v":16},{"$f":"VLOOKUP(AG1254,'Anexo ODS'!$G$3:$P$86,8,0)","v":"Paz, justicia e instituciones sólidas"},{"$f":"VLOOKUP(AG1254,'Anexo ODS'!$G$3:$P$86,9,0)","v":"16.1"},{"$f":"VLOOKUP(AG1254,'Anexo ODS'!$G$3:$P$86,10,0)","v":"Reducir significativamente todas las formas de violencia y las correspondientes tasas de mortalidad en todo el mundo"},null,null,null,null,null,null,null,null,600]
[1253,20,"Sumapaz",1,"Hacer un nuevo contrato social con igualdad de oportunidades para la inclusión social, productiva y política",6,"Sistema Distrital de Cuidado",null,null,null,null,1253,"Vincular 500 mujeres cuidadoras a estrategias de cuidado.",1641,"Estrategias del cuidado para cuidadoras, cuidadores y a personas con discapacidad","ESTRATEGIAS DE CUIDADO","Suma",null,"Vincular",500,"Mujeres","cuidadoras a estrategias de cuidado.","Vincular 500 mujeres cuidadoras a estrategias de cuidado",{"$f":"VLOOKUP(AG1255,'Anexo PMR'!$B$4:$G$87,6,0)","v":"2_Presupuestos Participativos 50%"},7,"Desarrollo social y cultural","Estrategias de cuidado para cuidadoras, cuidadores y a personas con discapacidad",100,"MUJERES",15,"Estrategias del cuidado para cuidadoras.",30,"Mujeres cuidadoras vinculadas a estrategias de cuidado","ESTRATEGIAS DE CUIDADO",null,null,null,125,125,125,125,551000000,551000000,551000000,551000000,2204000000,1,0,0,0,0,"Bajo","Bajo",0.26024324005195421,0,0,null,null,null,0,"2021_1",125,125,0,0,0,0,0,0,0,0,0,0,0,"",null,null,null,540025000,540025000,0,0,0,null,0,0,0,0,null,null,0,0,0,"",null,null,null,null,null,{"$f":"VLOOKUP(AG1255,'Anexo ODS'!$G$3:$P$86,5,0)","v":1},{"$f":"VLOOKUP(AG1255,'Anexo ODS'!$G$3:$P$86,6,0)","v":"Las Personas"},{"$f":"VLOOKUP(AG1255,'Anexo ODS'!$G$3:$P$86,7,0)","v":5},{"$f":"VLOOKUP(AG1255,'Anexo ODS'!$G$3:$P$86,8,0)","v":"Igualdad de género"},{"$f":"VLOOKUP(AG1255,'Anexo ODS'!$G$3:$P$86,9,0)","v":"5.4"},{"$f":"VLOOKUP(AG1255,'Anexo ODS'!$G$3:$P$86,10,0)","v":"Reconocer y valorar los cuidados y el trabajo doméstico no remunerados mediante servicios públicos, infraestructuras y políticas de protección social, y promoviendo la responsabilidad compartida en el hogar y la familia, según proceda en cada país"},null,null,null,null,null,null,null,null,500]
[1254,20,"Sumapaz",1,"Hacer un nuevo contrato social con igualdad de oportunidades para la inclusión social, productiva y política",6,"Sistema Distrital de Cuidado",null,null,null,null,1254,"Beneficiar 100 personas con discapacidad a través de Dispositivos de Asistencia Personal - Ayudas Técnicas (no incluidas en los Planes de Beneficios).",1643,"Estrategias del cuidado para cuidadoras, cuidadores y a personas con discapacidad","DISPOSITIVOS DE ASISTENCIA PERSONAL","Suma",null,"Beneficiar",100,"Personas","con discapacidad a través de Dispositivos de Asistencia Personal - Ayudas Técnicas (no incluidas en los Planes de Beneficios).","Beneficiar 100 personas con discapacidad a través de Dispositivos de Asistencia Personal - Ayudas Técnicas (no incluidas en los Planes de Beneficios).",{"$f":"VLOOKUP(AG1256,'Anexo PMR'!$B$4:$G$87,6,0)","v":"3_Flexible 5%"},11,"Condiciones de salud","Dispositivos de asistencia personal -DAP- Ayudas técnicas a personas con discapacidad (No incluidas en el POS).",91,"SALUD",16,"Promoción, prevención e intervención en salud.",33,"Número de personas con discapacidad beneficiadas con Dispostivos de Asistencia Personal - Ayudas Técnicas (no incluidas en los Planes de Beneficios).","ATENCIÓN  A LA DISCAPACIDAD Y SUS CUIDADORES",null,null,null,25,25,25,25,125000000,125000000,125000000,125000000,500000000,1,0,0,0,0,"Bajo","Bajo",5.9038847561695598E-2,0,0,null,null,null,0,"2021_1",25,25,0,0,0,0,0,0,0,0,0,0,0,"",null,null,null,122510000,122510000,0,0,0,null,0,0,0,0,null,null,0,0,0,"",null,null,null,null,null,{"$f":"VLOOKUP(AG1256,'Anexo ODS'!$G$3:$P$86,5,0)","v":3},{"$f":"VLOOKUP(AG1256,'Anexo ODS'!$G$3:$P$86,6,0)","v":"La Prosperidad"},{"$f":"VLOOKUP(AG1256,'Anexo ODS'!$G$3:$P$86,7,0)","v":10},{"$f":"VLOOKUP(AG1256,'Anexo ODS'!$G$3:$P$86,8,0)","v":"Reducción de las desigualdades "},{"$f":"VLOOKUP(AG1256,'Anexo ODS'!$G$3:$P$86,9,0)","v":"10.2"},{"$f":"VLOOKUP(AG1256,'Anexo ODS'!$G$3:$P$86,10,0)","v":"De aquí a 2030, potenciar y promover la inclusión social, económica y política de todas las personas, independientemente de su edad, sexo, discapacidad, raza, etnia, origen, religión o situación económica u otra condición"},null,null,null,null,null,null,null,null,100]
[1255,20,"Sumapaz",1,"Hacer un nuevo contrato social con igualdad de oportunidades para la inclusión social, productiva y política",6,"Sistema Distrital de Cuidado",null,null,null,null,1255,"Vincular 100 personas a las acciones y estrategias de reconocimiento de los saberes ancestrales en medicina.",1643,"Mejores condiciones de salud en la Ruralidad","SABERES ANCESTRALES","Suma",null,"Vincular",100,"Personas","a las acciones y estrategias de reconocimiento de los saberes ancestrales en medicina.","Vincular 100 personas a las acciones y estrategias de reconocimiento de los saberes ancestrales en medicina.",{"$f":"VLOOKUP(AG1257,'Anexo PMR'!$B$4:$G$87,6,0)","v":"3_Flexible 5%"},11,"Condiciones de salud","Reconocimiento de los saberes ancestrales en medicina.",91,"SALUD",16,"Promoción, prevención e intervención en salud.",34,"Número de personas vinculadas a las acciones y estrategias de reconocimiento de los saberes ancestrales en medicina.","SABERES ANCESTRALES",null,null,null,25,25,25,25,32000000,32000000,31000000,31000000,126000000,1,0,0,0,0,"Bajo","Bajo",1.487778958554729E-2,0,0,null,null,null,0,"2021_1",25,25,0,0,0,0,0,0,0,0,0,0,0,"",null,null,null,31367000,31367000,0,0,0,null,0,0,0,0,null,null,0,0,0,"",null,null,null,null,null,{"$f":"VLOOKUP(AG1257,'Anexo ODS'!$G$3:$P$86,5,0)","v":1},{"$f":"VLOOKUP(AG1257,'Anexo ODS'!$G$3:$P$86,6,0)","v":"Las Personas"},{"$f":"VLOOKUP(AG1257,'Anexo ODS'!$G$3:$P$86,7,0)","v":3},{"$f":"VLOOKUP(AG1257,'Anexo ODS'!$G$3:$P$86,8,0)","v":"Salud y Bienestar"},{"$f":"VLOOKUP(AG1257,'Anexo ODS'!$G$3:$P$86,9,0)","v":"3.b"},{"$f":"VLOOKUP(AG1257,'Anexo ODS'!$G$3:$P$86,10,0)","v":"Apoyar las actividades de investigación y desarrollo de vacunas y medicamentos contra las enfermedades transmisibles y no transmisibles que afectan primordialmente a los países en desarrollo y facilitar el acceso a medicamentos y vacunas esenciales asequibles de conformidad con la Declaración relativa al Acuerdo sobre los Aspectos de los Derechos de Propiedad Intelectual Relacionados con el Comercio y la Salud Pública, en la que se afirma el derecho de los países en desarrollo a utilizar al máximo las disposiciones del Acuerdo sobre los Aspectos de los Derechos de Propiedad Intelectual Relacionados con el Comercio respecto a la flexibilidad para proteger la salud pública y, en particular, proporcionar acceso a los medicamentos para todos"},null,null,null,null,null,null,null,null,100]
[1256,20,"Sumapaz",1,"Hacer un nuevo contrato social con igualdad de oportunidades para la inclusión social, productiva y política",6,"Sistema Distrital de Cuidado",null,null,null,null,1256,"Vincular 100 personas con discapacidad, cuidadores y cuidadoras, en actividades alternativas de salud.",1643,"Estrategias del cuidado para cuidadoras, cuidadores y a personas con discapacidad","ACCIONES COMPLEMENTARIAS ","Suma",null,"Vincular",100,"Personas","con discapacidad, cuidadores y cuidadoras, en actividades alternativas de salud.","Vincular 100 personas con discapacidad, cuidadores y cuidadoras, en actividades alternativas de salud.",{"$f":"VLOOKUP(AG1258,'Anexo PMR'!$B$4:$G$87,6,0)","v":"3_Flexible 5%"},11,"Condiciones de salud","Acciones complementarias para personas en condición de discapacidad y sus cuidadores.",91,"SALUD",16,"Promoción, prevención e intervención en salud.",31,"Número de personas con discapacidad, cuidadadores y cuidadoras, vinculados en actividades alernativas de salud.","ATENCIÓN  A LA DISCAPACIDAD Y SUS CUIDADORES",null,null,null,25,25,25,25,138000000,138000000,137000000,137000000,550000000,1,0,0,0,0,"Bajo","Bajo",6.4942732317865154E-2,0,0,null,null,null,0,"2021_1",25,25,0,0,0,0,0,0,0,0,0,0,0,"",null,null,null,135251000,135251000,0,0,0,null,0,0,0,0,null,null,0,0,0,"",null,null,null,null,null,{"$f":"VLOOKUP(AG1258,'Anexo ODS'!$G$3:$P$86,5,0)","v":1},{"$f":"VLOOKUP(AG1258,'Anexo ODS'!$G$3:$P$86,6,0)","v":"Las Personas"},{"$f":"VLOOKUP(AG1258,'Anexo ODS'!$G$3:$P$86,7,0)","v":3},{"$f":"VLOOKUP(AG1258,'Anexo ODS'!$G$3:$P$86,8,0)","v":"Salud y Bienestar"},{"$f":"VLOOKUP(AG1258,'Anexo ODS'!$G$3:$P$86,9,0)","v":"3.4"},{"$f":"VLOOKUP(AG1258,'Anexo ODS'!$G$3:$P$86,10,0)","v":"De aquí a 2030, reducir en un tercio la mortalidad prematura por enfermedades no transmisibles mediante su prevención y tratamiento, y promover la salud mental y el\nbienestar"},null,null,null,null,null,null,null,null,100]
[1257,20,"Sumapaz",1,"Hacer un nuevo contrato social con igualdad de oportunidades para la inclusión social, productiva y política",6,"Sistema Distrital de Cuidado",null,null,null,null,1257,"Vincular 1000 personas en acciones complementarias de la estrategia territorial de salud.",1643,"Mejores condiciones de salud en la Ruralidad","ESTRATEGIA TERRITORIAL DE SALUD","Suma",null,"Vincular",1000,"Personas","en acciones complementarias de la estrategia territorial de salud.","Vincular 1000 personas en acciones complementarias de la estrategia territorial de salud.",{"$f":"VLOOKUP(AG1259,'Anexo PMR'!$B$4:$G$87,6,0)","v":"3_Flexible 5%"},11,"Condiciones de salud","Coinversión en la estrategia territorial de salud.",91,"SALUD",16,"Promoción, prevención e intervención en salud.",36,"Número de personas vinculadas en las acciones complementarias de la estrategia territorial de salud.","ESTRATEGIA TERRITORIAL DE SALUD",null,null,null,250,250,250,250,200000000,200000000,200000000,200000000,800000000,1,0,0,0,0,"Bajo","Bajo",9.446215609871296E-2,0,0,null,null,null,0,"2021_1",250,250,0,0,0,0,0,0,0,0,0,0,0,"No Aplica",null,null,null,196016000,196016000,0,0,0,39000000,0,0,0,39000000,2470000,2470000,0,0,0,"Contrato de prestación de servicios, no contribuye al avance de la meta",null,null,null,null,null,{"$f":"VLOOKUP(AG1259,'Anexo ODS'!$G$3:$P$86,5,0)","v":1},{"$f":"VLOOKUP(AG1259,'Anexo ODS'!$G$3:$P$86,6,0)","v":"Las Personas"},{"$f":"VLOOKUP(AG1259,'Anexo ODS'!$G$3:$P$86,7,0)","v":3},{"$f":"VLOOKUP(AG1259,'Anexo ODS'!$G$3:$P$86,8,0)","v":"Salud y Bienestar"},{"$f":"VLOOKUP(AG1259,'Anexo ODS'!$G$3:$P$86,9,0)","v":"3.8"},{"$f":"VLOOKUP(AG1259,'Anexo ODS'!$G$3:$P$86,10,0)","v":"Lograr la cobertura sanitaria universal, incluida la protección contra los riesgos financieros, el acceso a servicios de salud esenciales de calidad y el acceso a medicamentos y vacunas inocuos, eficaces, asequibles y de calidad para todos"},null,null,null,null,null,null,null,null,1000]
[1258,20,"Sumapaz",1,"Hacer un nuevo contrato social con igualdad de oportunidades para la inclusión social, productiva y política",6,"Sistema Distrital de Cuidado",null,null,null,null,1258,"Vincular 300 personas a las acciones desarrolladas desde los dispositivos de base comunitaria en respuesta al consumo de SPA. Las acciones serán concertadas con las comunidades",1643,"Mejores condiciones de salud en la Ruralidad","DISMINUCIÓN FACTORES DE RIESGO SPA","Suma",null,"Vincular",300,"Personas"," a las acciones desarrolladas desde los dispositivos de base comunitaria en respuesta al consumo de SPA. Las acciones serán concertadas con las comunidades","Vincular 300 personas a las acciones desarrolladas desde los dispositivos de base comunitaria en respuesta al consumo de SPA. Las acciones serán concertadas con las comunidades",{"$f":"VLOOKUP(AG1260,'Anexo PMR'!$B$4:$G$87,6,0)","v":"3_Flexible 5%"},11,"Condiciones de salud","Acciones para la disminución de los factores de riesgo frente al consumo de sustancias psicoactivas.",91,"SALUD",16,"Promoción, prevención e intervención en salud.",32,"Números de personas vinculadas a las acciones desarrolladas desde los dispositivos de base comunitaria en respuesta al consumo de SPA.","SPA",null,null,null,75,75,75,75,187000000,187000000,187000000,189000000,750000000,1,0,0,0,0,"Bajo","Bajo",8.855827134254339E-2,0,0,null,null,null,0,"2021_1",75,75,0,0,0,0,0,0,0,0,0,0,0,"",null,null,null,183275000,183275000,0,0,0,null,0,0,0,0,null,null,0,0,0,"",null,null,null,null,null,{"$f":"VLOOKUP(AG1260,'Anexo ODS'!$G$3:$P$86,5,0)","v":1},{"$f":"VLOOKUP(AG1260,'Anexo ODS'!$G$3:$P$86,6,0)","v":"Las Personas"},{"$f":"VLOOKUP(AG1260,'Anexo ODS'!$G$3:$P$86,7,0)","v":3},{"$f":"VLOOKUP(AG1260,'Anexo ODS'!$G$3:$P$86,8,0)","v":"Salud y Bienestar"},{"$f":"VLOOKUP(AG1260,'Anexo ODS'!$G$3:$P$86,9,0)","v":"3.5"},{"$f":"VLOOKUP(AG1260,'Anexo ODS'!$G$3:$P$86,10,0)","v":"Fortalecer la prevención y el tratamiento del abuso de sustancias adictivas, incluido el uso indebido de estupefacientes y el consumo nocivo de alcohol"},null,null,null,null,null,null,null,null,300]
[1259,20,"Sumapaz",1,"Hacer un nuevo contrato social con igualdad de oportunidades para la inclusión social, productiva y política",8,"Prevención y atención de maternidad temprana",null,null,null,null,1259,"Vincular 400 personas a las acciones y estrategias para la prevención del embarazo adolescente. Acciones que serán concertadas en mesas técnicas con el sector",1645,"Estrategia para la prevención del embarazo en la adolescencia de Sumapaz","PREVENCIÓN","Suma",null,"Vincular",400,"Personas","a las acciones y estrategias para la prevención del embarazo adolescente. Acciones que serán concertadas en mesas técnicas con el sector","Vincular 400 personas a las acciones y estrategias para la prevención del embarazo adolescente. Acciones que serán concertadas en mesas técnicas con el sector",{"$f":"VLOOKUP(AG1261,'Anexo PMR'!$B$4:$G$87,6,0)","v":"3_Flexible 5%"},11,"Condiciones de salud","Prevención del embarazo en adolescentes.",91,"SALUD",16,"Promoción, prevención e intervención en salud.",37,"Número de personas vinculadas a las acciones y estrategias para la prevención del embarazo adolescente","PREVENCIÓN DEL EMBARAZO",null,null,null,100,100,100,100,71000000,70000000,70000000,70000000,281000000,1,0,0,0,0,"Bajo","Bajo",1,0,0,null,null,null,0,"2021_1",100,100,0,0,0,0,0,0,0,0,0,0,0,"",null,null,null,69586000,69586000,0,0,0,null,0,0,0,0,null,null,0,0,0,"",null,null,null,null,null,{"$f":"VLOOKUP(AG1261,'Anexo ODS'!$G$3:$P$86,5,0)","v":1},{"$f":"VLOOKUP(AG1261,'Anexo ODS'!$G$3:$P$86,6,0)","v":"Las Personas"},{"$f":"VLOOKUP(AG1261,'Anexo ODS'!$G$3:$P$86,7,0)","v":3},{"$f":"VLOOKUP(AG1261,'Anexo ODS'!$G$3:$P$86,8,0)","v":"Salud y Bienestar"},{"$f":"VLOOKUP(AG1261,'Anexo ODS'!$G$3:$P$86,9,0)","v":"3.7"},{"$f":"VLOOKUP(AG1261,'Anexo ODS'!$G$3:$P$86,10,0)","v":"De aquí a 2030, garantizar el acceso universal a los servicios de salud sexual y reproductiva, incluidos los de planificación familiar, información y educación, y la integración de la salud reproductiva en las estrategias y los programas nacionales"},null,null,null,null,null,null,null,null,400]
[1260,20,"Sumapaz",1,"Hacer un nuevo contrato social con igualdad de oportunidades para la inclusión social, productiva y política",12,"Educación inicial: Bases sólidas para la vida",null,null,null,null,1260,"Implementar 1 proyecto para el desarrollo integral de la primera infancia y la relación escuela, familia y comunidad. Beneficiando a 300 familias de la localidad",1585,"Fortalecimiento de la educación inicial con pertinencia y calidad","EDUCACIÓN INICIAL","Constante",null,"Implementar",1,"Proyectos","para el desarrollo integral de la primera infancia y la relación escuela, familia y comunidad. Beneficiando a 300 familias de la localidad","Implementar 1 proyecto para el desarrollo integral de la primera infancia y la relación escuela, familia y comunidad. Beneficiando a 300 familias de la localidad",{"$f":"VLOOKUP(AG1262,'Anexo PMR'!$B$4:$G$87,6,0)","v":"1_Inflexible 45%"},4,"Educación superior y primera infancia (10%)","Apoyo para educación inicial.",90,"EDUCACIÓN",2,"Protección integral a niños y niñas y adolescentes.",3,"Proyectos para el desarrollo integral de la primera infancia y la relación escuela, familia y comunidad.","PROYECTOS PRIMERA INFANCIA",null,null,null,1,1,1,1,130000000,134000000,138000000,147000000,549000000,1,0,0,0,0,"Bajo","Bajo",1,0,0,null,null,null,0,"2021_1",1,1,0,0,0,0,0,0,0,0,0,0,0,"",null,null,null,127411000,127411000,0,0,0,null,0,0,0,0,null,null,0,0,0,"",null,null,null,null,null,{"$f":"VLOOKUP(AG1262,'Anexo ODS'!$G$3:$P$86,5,0)","v":1},{"$f":"VLOOKUP(AG1262,'Anexo ODS'!$G$3:$P$86,6,0)","v":"Las Personas"},{"$f":"VLOOKUP(AG1262,'Anexo ODS'!$G$3:$P$86,7,0)","v":4},{"$f":"VLOOKUP(AG1262,'Anexo ODS'!$G$3:$P$86,8,0)","v":"Educación de calidad"},{"$f":"VLOOKUP(AG1262,'Anexo ODS'!$G$3:$P$86,9,0)","v":"4.2"},{"$f":"VLOOKUP(AG1262,'Anexo ODS'!$G$3:$P$86,10,0)","v":"De aquí a 2030, asegurar que todas las niñas y todos los niños tengan acceso a servicios de atención y desarrollo en la primera infancia y educación preescolar de calidad, a fin de que estén preparados para la enseñanza primaria."},null,null,null,null,null,null,null,null,4]
[1261,20,"Sumapaz",1,"Hacer un nuevo contrato social con igualdad de oportunidades para la inclusión social, productiva y política",14,"Formación integral: más y mejor tiempo en los colegios",null,null,null,null,1261,"Dotar 18 sedes educativas rurales.",1586,"Dotaciones didácticas y pedagógicas para mejores colegios","DOTACIÓN","Suma",null,"Dotar",18,"Sedes","educativas rurales","Dotar 18 sedes educativas rurales",{"$f":"VLOOKUP(AG1263,'Anexo PMR'!$B$4:$G$87,6,0)","v":"2_Presupuestos Participativos 50%"},6,"Infraestructura","Dotación pedagógica a colegios.",90,"EDUCACIÓN",3,"Infraestructura y dotación escolar.",4,"Sedes educativas urbanas y rurales dotadas","SEDES EDUCATIVAS",null,null,null,5,5,4,4,524000000,524000000,524000000,524000000,2096000000,1,0,0,0,0,"Bajo","Bajo",1,0,0,null,null,null,0,"2021_1",5,5,0,0,0,0,0,0,0,0,0,0,0,"",null,null,null,513562000,513562000,0,0,0,null,0,0,0,0,null,null,0,0,0,"",null,null,null,null,null,{"$f":"VLOOKUP(AG1263,'Anexo ODS'!$G$3:$P$86,5,0)","v":1},{"$f":"VLOOKUP(AG1263,'Anexo ODS'!$G$3:$P$86,6,0)","v":"Las Personas"},{"$f":"VLOOKUP(AG1263,'Anexo ODS'!$G$3:$P$86,7,0)","v":4},{"$f":"VLOOKUP(AG1263,'Anexo ODS'!$G$3:$P$86,8,0)","v":"Educación de calidad"},{"$f":"VLOOKUP(AG1263,'Anexo ODS'!$G$3:$P$86,9,0)","v":"4.7"},{"$f":"VLOOKUP(AG1263,'Anexo ODS'!$G$3:$P$86,10,0)","v":"De aquí a 2030, asegurar que todos los alumnos adquieran los conocimientos teóricos y prácticos necesarios para promover el desarrollo sostenible, entre otras cosas mediante la educación para el desarrollo sostenible y los estilos de vida sostenibles, los derechos humanos, la igualdad de género, la promoción de una cultura de paz y no violencia, la ciudadanía mundial y la valoración de la diversidad cultural y la contribución de la cultura al desarrollo sostenible"},null,null,null,null,null,null,null,null,18]
[1262,20,"Sumapaz",1,"Hacer un nuevo contrato social con igualdad de oportunidades para la inclusión social, productiva y política",17,"Jóvenes con capacidades: Proyecto de vida para la ciudadanía, la innovación y el trabajo del siglo XXI",null,null,null,null,1262,"Beneficiar 160 estudiantes de programas de educación superior con apoyo de sostenimiento para la permanencia. Para egresados de los colegios públicos de la localidad",1587,"Acceso y sostenimiento en la educación superior","SOSTENIMIENTO","Suma",null,"Beneficiar",160,"estudiantes","de programas de educación superior con apoyo de sostenimiento para la permanencia. Para egresados de los colegios públicos de la localidad","Beneficiar 160 estudiantes de programas de educación superior con apoyo de sostenimiento para la permanencia. Para egresados de los colegios públicos de la localidad",{"$f":"VLOOKUP(AG1264,'Anexo PMR'!$B$4:$G$87,6,0)","v":"1_Inflexible 45%"},4,"Educación superior y primera infancia (10%)","Apoyo para educación superior.",90,"EDUCACIÓN",4,"Apoyo a la educación superior.",6,"Número de estudiantes de programas de educación superior con apoyo de sostenimiento para la permanencia.","EDUCACIÓN SUPERIOR",null,null,null,40,40,40,40,925000000,966000000,1008000000,1101000000,4000000000,1,0,0,0,0,"Bajo","Bajo",0.30769230769230771,0,0,null,null,null,0,"2021_1",40,40,0,0,0,0,0,0,0,0,0,0,0,"",null,null,null,906576000,906576000,0,0,0,null,0,0,0,0,null,null,0,0,0,"",null,null,null,null,null,{"$f":"VLOOKUP(AG1264,'Anexo ODS'!$G$3:$P$86,5,0)","v":1},{"$f":"VLOOKUP(AG1264,'Anexo ODS'!$G$3:$P$86,6,0)","v":"Las Personas"},{"$f":"VLOOKUP(AG1264,'Anexo ODS'!$G$3:$P$86,7,0)","v":4},{"$f":"VLOOKUP(AG1264,'Anexo ODS'!$G$3:$P$86,8,0)","v":"Educación de calidad"},{"$f":"VLOOKUP(AG1264,'Anexo ODS'!$G$3:$P$86,9,0)","v":"4.3"},{"$f":"VLOOKUP(AG1264,'Anexo ODS'!$G$3:$P$86,10,0)","v":"De aquí a 2030, asegurar el acceso igualitario de todos los hombres y las mujeres a una formación técnica, profesional y superior de calidad, incluida la enseñanza universitaria."},null,null,null,null,null,null,null,null,160]
[1263,20,"Sumapaz",1,"Hacer un nuevo contrato social con igualdad de oportunidades para la inclusión social, productiva y política",17,"Jóvenes con capacidades: Proyecto de vida para la ciudadanía, la innovación y el trabajo del siglo XXI",null,null,null,null,1263,"Beneficiar 160 personas con apoyo para la educación superior. Para egresados de los colegios públicos de la localidad",1587,"Acceso y sostenimiento en la educación superior","APOYO EDUCACIÓN SUPERIOR","Suma",null,"Beneficiar",160,"Personas","con apoyo para la educación superior. Para egresados de los colegios públicos de la localidad","Beneficiar 160 personas con apoyo para la educación superior. Para egresados de los colegios públicos de la localidad",{"$f":"VLOOKUP(AG1265,'Anexo PMR'!$B$4:$G$87,6,0)","v":"1_Inflexible 45%"},4,"Educación superior y primera infancia (10%)","Apoyo para educación superior.",90,"EDUCACIÓN",4,"Apoyo a la educación superior.",5,"Personas beneficiadas con  apoyo para la educación superior","EDUCACIÓN SUPERIOR",null,null,null,40,40,40,40,2150000000,2193000000,2259000000,2398000000,9000000000,1,0,0,0,0,"Bajo","Bajo",0.69230769230769229,0,0,null,null,null,0,"2021_1",40,40,0,0,0,0,0,0,0,0,0,0,0,"Incompleto",null,null,null,2107176000,2107176000,0,0,0,60000000,0,0,0,60000000,4200000,4200000,0,0,0,"La contratación corresponde a prestación de servios que no mueven o contribuyen al avance de la meta",null,null,null,null,null,{"$f":"VLOOKUP(AG1265,'Anexo ODS'!$G$3:$P$86,5,0)","v":1},{"$f":"VLOOKUP(AG1265,'Anexo ODS'!$G$3:$P$86,6,0)","v":"Las Personas"},{"$f":"VLOOKUP(AG1265,'Anexo ODS'!$G$3:$P$86,7,0)","v":4},{"$f":"VLOOKUP(AG1265,'Anexo ODS'!$G$3:$P$86,8,0)","v":"Educación de calidad"},{"$f":"VLOOKUP(AG1265,'Anexo ODS'!$G$3:$P$86,9,0)","v":"4.3"},{"$f":"VLOOKUP(AG1265,'Anexo ODS'!$G$3:$P$86,10,0)","v":"De aquí a 2030, asegurar el acceso igualitario de todos los hombres y las mujeres a una formación técnica, profesional y superior de calidad, incluida la enseñanza universitaria."},null,null,null,null,null,null,null,null,160]
[1264,20,"Sumapaz",1,"Hacer un nuevo contrato social con igualdad de oportunidades para la inclusión social, productiva y política",19,"Vivienda y entornos dignos en el territorio urbano y rural",null,null,null,null,1264,"Mejorar 150 viviendas de interés social rurales. Con un diagnóstico de saneamiento predial y condiciones físicas para su mejoramiento",1589,"Vivienda y entornos dignos en el territorio rural","MEJORAMIENTO DE VIVIENDA","Suma",null,"Mejorar",150,"Viviendas","de interés social rurales. Con un diagnóstico de saneamiento predial y condiciones físicas para su mejoramiento","Mejorar 150 viviendas de interés social rurales. Con un diagnóstico de saneamiento predial y condiciones físicas para su mejoramiento",{"$f":"VLOOKUP(AG1266,'Anexo PMR'!$B$4:$G$87,6,0)","v":"2_Presupuestos Participativos 50%"},9,"Ruralidad","Mejoramiento de vivienda rural.",96,"HÁBITAT",6,"Viviendas de interés social rural mejoradas.",9,"Viviendas de interés social rurales mejoradas ","VIVIENDA RURAL",null,null,null,38,38,36,38,1000000000,1000000000,1000000000,2372000000,5372000000,1,0,0,0,0,"Bajo","Bajo",1,0,0,null,null,null,0,"2021_1",38,38,0,0,0,0,0,0,0,0,0,0,0,"No Aplica",null,null,null,980081000,980081000,0,0,0,70000000,0,0,0,70000000,0,0,0,0,0,"Corresponde a la contratación de prestación de servicios que no mueven la meta",null,null,null,null,null,{"$f":"VLOOKUP(AG1266,'Anexo ODS'!$G$3:$P$86,5,0)","v":3},{"$f":"VLOOKUP(AG1266,'Anexo ODS'!$G$3:$P$86,6,0)","v":"La Prosperidad"},{"$f":"VLOOKUP(AG1266,'Anexo ODS'!$G$3:$P$86,7,0)","v":11},{"$f":"VLOOKUP(AG1266,'Anexo ODS'!$G$3:$P$86,8,0)","v":"Ciudades y comunidades sostenibles"},{"$f":"VLOOKUP(AG1266,'Anexo ODS'!$G$3:$P$86,9,0)","v":"11.1"},{"$f":"VLOOKUP(AG1266,'Anexo ODS'!$G$3:$P$86,10,0)","v":"De aquí a 2030, asegurar el acceso de todas las personas a viviendas y servicios básicos adecuados, seguros y asequibles y mejorar los barrios marginales"},null,null,null,null,null,null,null,null,150]
[1265,20,"Sumapaz",1,"Hacer un nuevo contrato social con igualdad de oportunidades para la inclusión social, productiva y política",20,"Bogotá, referente en cultura, deporte, recreación y actividad física, con parques para el desarrollo y la salud",null,null,null,null,1265,"Beneficiar 600 Personas con artículos deportivos entregados.",1590,"Recreación y deportes","DOTACIÓN","Suma",null,"Beneficiar",600,"Personas","con artículos deportivos entregados.","Beneficiar 600 Personas con artículos deportivos entregados.",{"$f":"VLOOKUP(AG1267,'Anexo PMR'!$B$4:$G$87,6,0)","v":"2_Presupuestos Participativos 50%"},7,"Desarrollo social y cultural","Procesos de formación y dotación de insumos para los campos artísticos, interculturales, culturales, patrimoniales y deportivos.",93,"CULTURA, RECREACIÓN Y DEPORTE",7,"Eventos y actividades recreativas y deportivas.",12,"Personas beneficiadas con artículos entregados.","ACTIVIDAD DEPORTIVA",null,null,null,150,150,150,150,391000000,390000000,390000000,390000000,1561000000,1,0,0,0,0,"Bajo","Bajo",0.33469125214408235,0,0,null,null,null,0,"2021_1",150,150,0,0,0,0,0,0,0,0,0,0,0,"No Aplica",null,null,null,383212000,383212000,0,0,0,57000000,0,0,0,57000000,1140000,1140000,0,0,0,"Contrato de prestación de servicios, no contribuye al avance de la meta",null,null,null,null,null,{"$f":"VLOOKUP(AG1267,'Anexo ODS'!$G$3:$P$86,5,0)","v":1},{"$f":"VLOOKUP(AG1267,'Anexo ODS'!$G$3:$P$86,6,0)","v":"Las Personas"},{"$f":"VLOOKUP(AG1267,'Anexo ODS'!$G$3:$P$86,7,0)","v":3},{"$f":"VLOOKUP(AG1267,'Anexo ODS'!$G$3:$P$86,8,0)","v":"Salud y Bienestar"},{"$f":"VLOOKUP(AG1267,'Anexo ODS'!$G$3:$P$86,9,0)","v":"3.d"},{"$f":"VLOOKUP(AG1267,'Anexo ODS'!$G$3:$P$86,10,0)","v":"Reforzar la capacidad de todos los países, en particular los países en desarrollo, en materia de alerta temprana, reducción de riesgos y gestión de los riesgos para la salud\nnacional y mundial"},null,null,null,null,null,null,null,null,600]
[1266,20,"Sumapaz",1,"Hacer un nuevo contrato social con igualdad de oportunidades para la inclusión social, productiva y política",20,"Bogotá, referente en cultura, deporte, recreación y actividad física, con parques para el desarrollo y la salud",null,null,null,null,1266,"Capacitar 600 personas en los campos deportivos. Teniendo como referencia diagnósticos participativos que atiendan a realidades culturales de la localidad que sirvan como insumo para la estructuración de proyectos",1590,"Recreación y deportes","FORMACIÓN DEPORTIVA","Suma",null,"Capacitar",600,"Personas","en los campos deportivos. Teniendo como referencia diagnósticos participativos que atiendan a realidades culturales de la localidad que sirvan como insumo para la estructuración de proyectos","Capacitar 600 personas en los campos deportivos. Teniendo como referencia diagnósticos participativos que atiendan a realidades culturales de la localidad que sirvan como insumo para la estructuración de proyectos",{"$f":"VLOOKUP(AG1268,'Anexo PMR'!$B$4:$G$87,6,0)","v":"2_Presupuestos Participativos 50%"},7,"Desarrollo social y cultural","Procesos de formación y dotación de insumos para los campos artísticos, interculturales, culturales, patrimoniales y deportivos.",93,"CULTURA, RECREACIÓN Y DEPORTE",7,"Eventos y actividades recreativas y deportivas.",11,"Personas capacitadas en los campos deportivos","FORMACIÓN DEPORTIVA",null,null,null,150,150,150,150,125000000,125000000,125000000,125000000,500000000,1,0,0,0,0,"Bajo","Bajo",0.1072041166380789,0,0,null,null,null,0,"2021_1",150,150,0,0,0,0,0,0,0,0,0,0,0,"",null,null,null,122510000,122510000,0,0,0,null,0,0,0,0,null,null,0,0,0,"",null,null,null,null,null,{"$f":"VLOOKUP(AG1268,'Anexo ODS'!$G$3:$P$86,5,0)","v":1},{"$f":"VLOOKUP(AG1268,'Anexo ODS'!$G$3:$P$86,6,0)","v":"Las Personas"},{"$f":"VLOOKUP(AG1268,'Anexo ODS'!$G$3:$P$86,7,0)","v":4},{"$f":"VLOOKUP(AG1268,'Anexo ODS'!$G$3:$P$86,8,0)","v":"Educación de calidad"},{"$f":"VLOOKUP(AG1268,'Anexo ODS'!$G$3:$P$86,9,0)","v":"4.7"},{"$f":"VLOOKUP(AG1268,'Anexo ODS'!$G$3:$P$86,10,0)","v":"De aquí a 2030, asegurar que todos los alumnos adquieran los conocimientos teóricos y prácticos necesarios para promover el desarrollo sostenible, entre otras cosas mediante la educación para el desarrollo sostenible y los estilos de vida sostenibles, los derechos humanos, la igualdad de género, la promoción de una cultura de paz y no violencia, la ciudadanía mundial y la valoración de la diversidad cultural y la contribución de la cultura al desarrollo sostenible"},null,null,null,null,null,null,null,null,600]
[1267,20,"Sumapaz",1,"Hacer un nuevo contrato social con igualdad de oportunidades para la inclusión social, productiva y política",20,"Bogotá, referente en cultura, deporte, recreación y actividad física, con parques para el desarrollo y la salud",null,null,null,null,1267,"Vincular 500 personas en actividades recreo-deportivas comunitarias.",1590,"Recreación y deportes","EVENTOS","Suma",null,"Vincular",500,"Personas","en actividades recreo-deportivas comunitarias.","Vincular 500 personas en actividades recreo-deportivas comunitarias.",{"$f":"VLOOKUP(AG1269,'Anexo PMR'!$B$4:$G$87,6,0)","v":"2_Presupuestos Participativos 50%"},7,"Desarrollo social y cultural","Eventos recreo-deportivos.",93,"CULTURA, RECREACIÓN Y DEPORTE",7,"Eventos y actividades recreativas y deportivas.",10,"Personas vinculadas en actividades recreo-deportivas comunitarias","ACTIVIDAD DEPORTIVA",null,null,null,125,125,125,125,651000000,651000000,651000000,650000000,2603000000,1,0,0,0,0,"Bajo","Bajo",0.55810463121783882,0,0,null,null,null,0,"2021_1",125,125,0,0,0,0,0,0,0,0,0,0,0,"",null,null,null,638033000,638033000,0,0,0,null,0,0,0,0,null,null,0,0,0,"",null,null,null,null,null,{"$f":"VLOOKUP(AG1269,'Anexo ODS'!$G$3:$P$86,5,0)","v":1},{"$f":"VLOOKUP(AG1269,'Anexo ODS'!$G$3:$P$86,6,0)","v":"Las Personas"},{"$f":"VLOOKUP(AG1269,'Anexo ODS'!$G$3:$P$86,7,0)","v":3},{"$f":"VLOOKUP(AG1269,'Anexo ODS'!$G$3:$P$86,8,0)","v":"Salud y Bienestar"},{"$f":"VLOOKUP(AG1269,'Anexo ODS'!$G$3:$P$86,9,0)","v":"3.d"},{"$f":"VLOOKUP(AG1269,'Anexo ODS'!$G$3:$P$86,10,0)","v":"Reforzar la capacidad de todos los países, en particular los países en desarrollo, en materia de alerta temprana,  reducción de riesgos y gestión de los riesgos para la salud nacional y mundial"},null,null,null,null,null,null,null,null,500]
[1268,20,"Sumapaz",1,"Hacer un nuevo contrato social con igualdad de oportunidades para la inclusión social, productiva y política",21,"Creación y vida cotidiana: Apropiación ciudadana del arte, la cultura y el patrimonio, para la democracia cultural",null,null,null,null,1268,"Capacitar 600 personas en los campos artísticos, interculturales, culturales y/o patrimoniales.",1633,"Acciones para la promoción de la cultura, tradición y costumbres sumapaceñas","FORMACIÓN","Suma",null,"Capacitar",600,"Personas","en los campos artísticos, interculturales, culturales y/o patrimoniales.","Capacitar 600 personas en los campos artísticos, interculturales, culturales y/o patrimoniales.",{"$f":"VLOOKUP(AG1270,'Anexo PMR'!$B$4:$G$87,6,0)","v":"2_Presupuestos Participativos 50%"},7,"Desarrollo social y cultural","Procesos de formación y dotación de insumos para los campos artísticos, interculturales, culturales, patrimoniales y deportivos.",93,"CULTURA, RECREACIÓN Y DEPORTE",10,"Formación artística y cultural.",15,"Personas capacitadas en los campos artísticos, interculturales, culturales y/o patrimoniales","FORMACIÓN CULTURAL",null,null,null,150,150,150,150,125000000,125000000,125000000,125000000,500000000,1,0,0,0,0,"Bajo","Bajo",0.1122334455667789,0,0,null,null,null,0,"2021_1",150,150,0,0,0,0,0,0,0,0,0,0,0,"",null,null,null,122510000,122510000,0,0,0,null,0,0,0,0,null,null,0,0,0,"",null,null,null,null,null,{"$f":"VLOOKUP(AG1270,'Anexo ODS'!$G$3:$P$86,5,0)","v":3},{"$f":"VLOOKUP(AG1270,'Anexo ODS'!$G$3:$P$86,6,0)","v":"La Prosperidad"},{"$f":"VLOOKUP(AG1270,'Anexo ODS'!$G$3:$P$86,7,0)","v":11},{"$f":"VLOOKUP(AG1270,'Anexo ODS'!$G$3:$P$86,8,0)","v":"Ciudades y comunidades sostenibles"},{"$f":"VLOOKUP(AG1270,'Anexo ODS'!$G$3:$P$86,9,0)","v":"11.4"},{"$f":"VLOOKUP(AG1270,'Anexo ODS'!$G$3:$P$86,10,0)","v":"Redoblar los esfuerzos para proteger y salvaguardar el patrimonio cultural y natural del mundo"},null,null,null,null,null,null,null,null,600]
[1269,20,"Sumapaz",1,"Hacer un nuevo contrato social con igualdad de oportunidades para la inclusión social, productiva y política",21,"Creación y vida cotidiana: Apropiación ciudadana del arte, la cultura y el patrimonio, para la democracia cultural",null,null,null,null,1269,"Intervenir 2 sedes culturales con dotación y/o adecuación.",1633,"Acciones para la promoción de la cultura, tradición y costumbres sumapaceñas","FORTALECIMIENTO INFRAESTRUCTURA","Suma",null,"Intervenir",2,"Sedes","culturales con dotación y/o adecuación.","Intervenir 2 sedes culturales con dotación y/o adecuación.",{"$f":"VLOOKUP(AG1271,'Anexo PMR'!$B$4:$G$87,6,0)","v":"2_Presupuestos Participativos 50%"},6,"Infraestructura","Dotación e infraestructura cultural.",93,"CULTURA, RECREACIÓN Y DEPORTE",11,"Infraestructura y dotación a centros artísticos y culturales.",16,"Sedes dotadas/Sedes adecuadas","SEDES CULTURALES",null,null,null,0,0.5,0.5,1,0,503000000,403000000,1107000000,2013000000,1,0,0,0,0,"Bajo","Bajo",0.45185185185185184,0,0,null,null,null,0,"2021_1",0,0,0,0,0,0,0,0,0,0,0,0,0,"",null,null,null,0,0,0,0,0,null,0,0,0,0,null,null,0,0,0,"",null,null,null,null,null,{"$f":"VLOOKUP(AG1271,'Anexo ODS'!$G$3:$P$86,5,0)","v":3},{"$f":"VLOOKUP(AG1271,'Anexo ODS'!$G$3:$P$86,6,0)","v":"La Prosperidad"},{"$f":"VLOOKUP(AG1271,'Anexo ODS'!$G$3:$P$86,7,0)","v":9},{"$f":"VLOOKUP(AG1271,'Anexo ODS'!$G$3:$P$86,8,0)","v":"Industria, innovación e infraestructura"},{"$f":"VLOOKUP(AG1271,'Anexo ODS'!$G$3:$P$86,9,0)","v":"9.1"},{"$f":"VLOOKUP(AG1271,'Anexo ODS'!$G$3:$P$86,10,0)","v":"Desarrollar infraestructuras fiables, sostenibles, resilientes y de calidad, incluidas infraestructuras regionales y transfronterizas, para apoyar el desarrollo económico y el bienestar humano, haciendo especial hincapié en el acceso asequible y equitativo para todos"},null,null,null,null,null,null,null,null,2]
[1270,20,"Sumapaz",1,"Hacer un nuevo contrato social con igualdad de oportunidades para la inclusión social, productiva y política",21,"Creación y vida cotidiana: Apropiación ciudadana del arte, la cultura y el patrimonio, para la democracia cultural",null,null,null,null,1270,"Otorgar 50 estímulos de apoyo al sector artístico y cultural.",1633,"Acciones para la promoción de la cultura, tradición y costumbres sumapaceñas","ESTÍMULOS","Suma",null,"Otorgar",50,"Estímulos","de apoyo al sector artístico y cultural.","Otorgar 50 estímulos de apoyo al sector artístico y cultural",{"$f":"VLOOKUP(AG1272,'Anexo PMR'!$B$4:$G$87,6,0)","v":"2_Presupuestos Participativos 50%"},7,"Desarrollo social y cultural","Iniciativas de interés cultural, artístico, patrimonial y recreo deportivas.",93,"CULTURA, RECREACIÓN Y DEPORTE",9,"Servicio de apoyo financiero para el desarrollo de prácticas artísticas y culturales en el Distrito de Bogotá.",14,"Estímulos otorgados de apoyo al sector artístico y cultural ","ESTIMULOS CULTURALES",null,null,null,12,12,13,13,281000000,282000000,282000000,281000000,1126000000,1,0,0,0,0,"Bajo","Bajo",0.25274971941638608,0,0,null,null,null,0,"2021_1",12,12,0,0,0,0,0,0,0,0,0,0,0,"",null,null,null,275402000,275402000,0,0,0,null,0,0,0,0,null,null,0,0,0,"",null,null,null,null,null,{"$f":"VLOOKUP(AG1272,'Anexo ODS'!$G$3:$P$86,5,0)","v":3},{"$f":"VLOOKUP(AG1272,'Anexo ODS'!$G$3:$P$86,6,0)","v":"La Prosperidad"},{"$f":"VLOOKUP(AG1272,'Anexo ODS'!$G$3:$P$86,7,0)","v":11},{"$f":"VLOOKUP(AG1272,'Anexo ODS'!$G$3:$P$86,8,0)","v":"Ciudades y comunidades sostenibles"},{"$f":"VLOOKUP(AG1272,'Anexo ODS'!$G$3:$P$86,9,0)","v":"11.4"},{"$f":"VLOOKUP(AG1272,'Anexo ODS'!$G$3:$P$86,10,0)","v":"Redoblar los esfuerzos para proteger y salvaguardar el patrimonio cultural y natural del mundo"},null,null,null,null,null,null,null,null,50]
[1271,20,"Sumapaz",1,"Hacer un nuevo contrato social con igualdad de oportunidades para la inclusión social, productiva y política",21,"Creación y vida cotidiana: Apropiación ciudadana del arte, la cultura y el patrimonio, para la democracia cultural",null,null,null,null,1271,"Realizar 4 eventos de promoción de actividades culturales.",1633,"Acciones para la promoción de la cultura, tradición y costumbres sumapaceñas","EVENTOS","Suma",null,"Realizar",4,"Eventos","de promoción de actividades culturales.","Realizar 4 eventos de promoción de actividades culturales \n",{"$f":"VLOOKUP(AG1273,'Anexo PMR'!$B$4:$G$87,6,0)","v":"2_Presupuestos Participativos 50%"},7,"Desarrollo social y cultural","Circulación y apropiación de prácticas artísticas, interculturales, culturales y patrimoniales.",93,"CULTURA, RECREACIÓN Y DEPORTE",8,"Espacios artísticos y culturales.",13,"Eventos de promoción de actividades culturales realizadas","ACTIVIDAD CULTURAL",null,null,null,1,1,1,1,204000000,204000000,204000000,204000000,816000000,1,0,0,0,0,"Bajo","Bajo",0.18316498316498317,0,0,null,null,null,0,"2021_1",1,1,0,0,0,0,0,0,0,0,0,0,0,"",null,null,null,199936000,199936000,0,0,0,null,0,0,0,0,null,null,0,0,0,"",null,null,null,null,null,{"$f":"VLOOKUP(AG1273,'Anexo ODS'!$G$3:$P$86,5,0)","v":3},{"$f":"VLOOKUP(AG1273,'Anexo ODS'!$G$3:$P$86,6,0)","v":"La Prosperidad"},{"$f":"VLOOKUP(AG1273,'Anexo ODS'!$G$3:$P$86,7,0)","v":11},{"$f":"VLOOKUP(AG1273,'Anexo ODS'!$G$3:$P$86,8,0)","v":"Ciudades y comunidades sostenibles"},{"$f":"VLOOKUP(AG1273,'Anexo ODS'!$G$3:$P$86,9,0)","v":"11.4"},{"$f":"VLOOKUP(AG1273,'Anexo ODS'!$G$3:$P$86,10,0)","v":"Redoblar los esfuerzos para proteger y salvaguardar el patrimonio cultural y natural del mundo"},null,null,null,null,null,null,null,null,4]
[1272,20,"Sumapaz",1,"Hacer un nuevo contrato social con igualdad de oportunidades para la inclusión social, productiva y política",23,"Bogotá rural",null,null,null,null,1272,"Apoyar 600 predios rurales con asistencia técnica agropecuaria y/o ambiental. En ese sentido se impulsarán 600 unidades productivas de la localidad.",1634,"Asistencia técnica agropecuaria y ambiental","ASESORÍA Y ASISTENCIA TÉCNICA ","Suma",null,"Apoyar",600,"Predios","rurales con asistencia técnica agropecuaria y/o ambiental. En ese sentido se impulsarán 600 unidades productivas de la localidad.","Apoyar 600 predios rurales con asistencia técnica agropecuaria y/o ambiental. En ese sentido se impulsarán 600 unidades productivas de la localidad.",{"$f":"VLOOKUP(AG1274,'Anexo PMR'!$B$4:$G$87,6,0)","v":"2_Presupuestos Participativos 50%"},9,"Ruralidad","Asistencia técnica agropecuaria y ambiental y productividad rural.","94-89","AMBIENTE / DESARROLLO ECONÓMICO",12,"Servicios de asistencia técnica agropecuaria y/o ambiental.",17,"Número de Predios rurales con asistencia técnica agropecuaria y/o ambiental","ASISTENCIA TÉCNICA Y COMERCIALIZACIÓN RURAL",null,null,null,150,150,150,150,979000000,978000000,978000000,978000000,3913000000,1,0,0,0,0,"Bajo","Bajo",1,0,0,null,null,null,0,"2021_1",150,150,0,0,0,0,0,0,0,0,0,0,0,"No Aplica",null,null,null,959500000,959500000,0,0,0,141000000,0,0,0,141000000,0,0,0,0,0,"Contrato de prestación de servicios, no contribuye al avance de la meta",null,null,null,null,null,{"$f":"VLOOKUP(AG1274,'Anexo ODS'!$G$3:$P$86,5,0)","v":4},{"$f":"VLOOKUP(AG1274,'Anexo ODS'!$G$3:$P$86,6,0)","v":"El Planeta"},{"$f":"VLOOKUP(AG1274,'Anexo ODS'!$G$3:$P$86,7,0)","v":15},{"$f":"VLOOKUP(AG1274,'Anexo ODS'!$G$3:$P$86,8,0)","v":"Vida de ecosistemas terrestres"},{"$f":"VLOOKUP(AG1274,'Anexo ODS'!$G$3:$P$86,9,0)","v":"15.9"},{"$f":"VLOOKUP(AG1274,'Anexo ODS'!$G$3:$P$86,10,0)","v":"De aquí a 2020, integrar los valores de los ecosistemas y la biodiversidad en la planificación, los procesos de desarrollo, las estrategias de reducción de la pobreza y la contabilidad nacionales y locales"},null,null,null,null,null,null,null,null,600]
[1273,20,"Sumapaz",1,"Hacer un nuevo contrato social con igualdad de oportunidades para la inclusión social, productiva y política",24,"Bogotá región emprendedora e innovadora",null,null,null,null,1273,"Financiar 37 proyectos del sector cultural y creativo.",1635,"Acciones para fortalecer las Industrias culturales y creativas","FORTALECIMIENTO INDUSTRIA CULTURAL","Suma",null,"Financiar",37,"Proyectos","del sector cultural y creativo.","Financiar 37 proyectos del sector cultural y creativo.",{"$f":"VLOOKUP(AG1275,'Anexo PMR'!$B$4:$G$87,6,0)","v":"2_Presupuestos Participativos 50%"},7,"Desarrollo social y cultural","Apoyo y fortalecimiento a las industrias culturales y creativas en las localidades",93,"CULTURA, RECREACIÓN Y DEPORTE",9,"Servicio de apoyo financiero para el desarrollo de prácticas artísticas y culturales en el Distrito de Bogotá.",20,"Número de proyectos financiados y acompañados del sector cultural y creativo.","ACTIVIDAD CULTURAL",null,null,null,0,13,12,12,0,256000000,256000000,256000000,768000000,1,0,0,0,0,"Bajo","Bajo",1,0,0,null,null,null,0,"2021_1",0,0,0,0,0,0,0,0,0,0,0,0,0,"",null,null,null,0,0,0,0,0,null,0,0,0,0,null,null,0,0,0,"",null,null,null,null,null,{"$f":"VLOOKUP(AG1275,'Anexo ODS'!$G$3:$P$86,5,0)","v":3},{"$f":"VLOOKUP(AG1275,'Anexo ODS'!$G$3:$P$86,6,0)","v":"La Prosperidad"},{"$f":"VLOOKUP(AG1275,'Anexo ODS'!$G$3:$P$86,7,0)","v":8},{"$f":"VLOOKUP(AG1275,'Anexo ODS'!$G$3:$P$86,8,0)","v":"Trabajo decente y crecimiento económico"},{"$f":"VLOOKUP(AG1275,'Anexo ODS'!$G$3:$P$86,9,0)","v":"8.3"},{"$f":"VLOOKUP(AG1275,'Anexo ODS'!$G$3:$P$86,10,0)","v":"Promover políticas orientadas al desarrollo que apoyen las actividades productivas, la creación de puestos de trabajo decentes, el emprendimiento, la creatividad y la innovación, y fomentar la formalización y el crecimiento de las microempresas y las pequeñas y medianas empresas, incluso mediante el acceso a servicios financieros"},null,null,null,null,null,null,null,null,37]
[1274,20,"Sumapaz",2,"Cambiar nuestros hábitos de vida para reverdecer a Bogotá y adaptarnos y mitigar el cambio climático.",27,"Cambio cultural para la gestión de la crisis climática",null,null,null,null,1274,"Implementar 4 PROCEDAS. Así mismo trabajando las iniciativas ambientalmente sostenibles formuladas juntamente con las comunidades",1648,"Educación ambiental","EDUCACIÓN AMBIENTAL","Suma",null,"Implementar",4,"PROCEDAS","Así mismo trabajando las iniciativas ambientalmente sostenibles formuladas juntamente con las comunidades","Implementar 4 PROCEDAS. Así mismo trabajando las iniciativas ambientalmente sostenibles formuladas juntamente con las comunidades",{"$f":"VLOOKUP(AG1276,'Anexo PMR'!$B$4:$G$87,6,0)","v":"2_Presupuestos Participativos 50%"},8,"Inversiones ambientales sostenibles","Educación ambiental.",94,"AMBIENTE",17,"Calidad ambiental y preservación del patrimonio natural.",38,"Número de PROCEDAS implementados ","PROCEDAS",null,null,null,1,2,1,0,200000000,291000000,200000000,0,691000000,1,0,0,0,0,"Bajo","Bajo",1,0,0,null,null,null,0,"2021_1",1,1,0,0,0,0,0,0,0,0,0,0,0,"No Aplica",null,null,null,196016000,196016000,0,0,0,43650000,0,0,0,43650000,0,0,0,0,0,"Contrato de prestación de servicios, no contribuye al avance de la meta",null,null,null,null,null,{"$f":"VLOOKUP(AG1276,'Anexo ODS'!$G$3:$P$86,5,0)","v":4},{"$f":"VLOOKUP(AG1276,'Anexo ODS'!$G$3:$P$86,6,0)","v":"El Planeta"},{"$f":"VLOOKUP(AG1276,'Anexo ODS'!$G$3:$P$86,7,0)","v":13},{"$f":"VLOOKUP(AG1276,'Anexo ODS'!$G$3:$P$86,8,0)","v":"Acción por el Clima"},{"$f":"VLOOKUP(AG1276,'Anexo ODS'!$G$3:$P$86,9,0)","v":"13.3"},{"$f":"VLOOKUP(AG1276,'Anexo ODS'!$G$3:$P$86,10,0)","v":"Mejorar la educación, la sensibilización y la capacidad humana e institucional respecto de la mitigación del cambio climático, la adaptación a él, la reducción de sus efectos y la alerta temprana"},null,null,null,null,null,null,null,null,4]
[1275,20,"Sumapaz",2,"Cambiar nuestros hábitos de vida para reverdecer a Bogotá y adaptarnos y mitigar el cambio climático.",28,"Bogotá protectora de sus recursos naturales",null,null,null,null,1275,"Intervenir 8 hectáreas con procesos de restauración, rehabilitación o recuperación ecológica.",1651,"Restauración ecológica urbana y/o rural","RESTAURACIÓN ECOLÓGICA","Suma",null,"Intervenir",8,"Hectáreas","con procesos de restauración, rehabilitación o recuperación ecológica.","Intervenir 8 hectáreas con procesos de restauración, rehabilitación o recuperación ecológica.",{"$f":"VLOOKUP(AG1277,'Anexo PMR'!$B$4:$G$87,6,0)","v":"2_Presupuestos Participativos 50%"},8,"Inversiones ambientales sostenibles","Restauración ecológica urbana y/o rural.",94,"AMBIENTE",17,"Calidad ambiental y preservación del patrimonio natural.",41,"Hectáreas en restauración, rehabilitación o recuperación ecológica y mantenimiento ","INTERVENCIONES VERDES",null,null,null,8,0,0,0,399000000,0,0,0,399000000,1,0,0,0,0,"Bajo","Bajo",1,0,0,null,null,null,0,"2021_1",8,8,0,0,0,0,0,0,0,0,0,0,0,"No Aplica",null,null,null,391053000,391053000,0,0,0,57000000,0,0,0,57000000,0,0,0,0,0,"Contrato de prestación de servicios, no contribuye al avance de la meta",null,null,null,null,null,{"$f":"VLOOKUP(AG1277,'Anexo ODS'!$G$3:$P$86,5,0)","v":4},{"$f":"VLOOKUP(AG1277,'Anexo ODS'!$G$3:$P$86,6,0)","v":"El Planeta"},{"$f":"VLOOKUP(AG1277,'Anexo ODS'!$G$3:$P$86,7,0)","v":15},{"$f":"VLOOKUP(AG1277,'Anexo ODS'!$G$3:$P$86,8,0)","v":"Vida de ecosistemas terrestres"},{"$f":"VLOOKUP(AG1277,'Anexo ODS'!$G$3:$P$86,9,0)","v":"15.1"},{"$f":"VLOOKUP(AG1277,'Anexo ODS'!$G$3:$P$86,10,0)","v":"De aquí a 2020, asegurar la conservación, el restablecimiento y el uso sostenible de los ecosistemas terrestres y los ecosistemas interiores de agua dulce y sus servicios, en particular los bosques, los humedales, las montañas y las zonas áridas, en consonancia con las obligaciones contraídas en virtud de acuerdos\ninternacionales"},null,null,null,null,null,null,null,null,8]
[1276,20,"Sumapaz",2,"Cambiar nuestros hábitos de vida para reverdecer a Bogotá y adaptarnos y mitigar el cambio climático.",30,"Eficiencia en la atención de emergencias",null,null,null,null,1276,"Desarrollar 3 intervenciones  para la reducción del riesgo y adaptación al cambio climático.",1652,"Por una Sumapaz sin riesgos que le aporta y se adopta al cambio climático","REDUCCIÓN DEL RIESGO Y ADAPTACIÓN AL CAMBIO CLIMÁTICO","Suma",null,"Desarrollar",3,"Intervenciones","para la reducción del riesgo y adaptación al cambio climático.","Desarrollar 3 intervenciones  para la reducción del riesgo y adaptación al cambio climático.",{"$f":"VLOOKUP(AG1278,'Anexo PMR'!$B$4:$G$87,6,0)","v":"2_Presupuestos Participativos 50%"},8,"Inversiones ambientales sostenibles","Mitigación del riesgo. ",94,"AMBIENTE",18,"Gestión para la prevención y mitigación del riesgo.",43,"Intervenciones para la reducción del riesgo y adaptación al cambio climático","REDUCCIÓN DEL RIESGO",null,null,null,3,0,0,0,1388000000,0,0,0,1388000000,1,0,0,0,0,"Bajo","Bajo",0.77672076105204257,0,0,null,null,null,0,"2021_1",3,3,0,0,0,0,0,0,0,0,0,0,0,"No Aplica",null,null,null,1360354000,1360354000,0,0,0,114000000,0,0,0,114000000,0,0,0,0,0,"Contrato de prestación de servicios, no contribuye al avance de la meta",null,null,null,null,null,{"$f":"VLOOKUP(AG1278,'Anexo ODS'!$G$3:$P$86,5,0)","v":4},{"$f":"VLOOKUP(AG1278,'Anexo ODS'!$G$3:$P$86,6,0)","v":"El Planeta"},{"$f":"VLOOKUP(AG1278,'Anexo ODS'!$G$3:$P$86,7,0)","v":13},{"$f":"VLOOKUP(AG1278,'Anexo ODS'!$G$3:$P$86,8,0)","v":"Acción por el clima"},{"$f":"VLOOKUP(AG1278,'Anexo ODS'!$G$3:$P$86,9,0)","v":"13.1"},{"$f":"VLOOKUP(AG1278,'Anexo ODS'!$G$3:$P$86,10,0)","v":"Fortalecer la resiliencia y la capacidad de adaptación a los riesgos relacionados con el clima y los desastres naturales en todos los países"},null,null,null,null,null,null,null,null,3]
[1277,20,"Sumapaz",2,"Cambiar nuestros hábitos de vida para reverdecer a Bogotá y adaptarnos y mitigar el cambio climático.",30,"Eficiencia en la atención de emergencias",null,null,null,null,1277,"Realizar 5 acciones efectivas para el fortalecimiento de las capacidades locales para la respuesta a emergencias y desastres.",1652,"Por una Sumapaz sin riesgos que le aporta y se adopta al cambio climático","MANEJO DE EMERGENCIAS, CALAMIDADES Y DESASTRES","Suma",null,"Realizar",5,"Acciones","efectivas para el fortalecimiento de las capacidades locales para la respuesta a emergencias y desastres.","Realizar 5 acciones efectivas para el fortalecimiento de las capacidades locales para la respuesta a emergencias y desastres.",{"$f":"VLOOKUP(AG1279,'Anexo PMR'!$B$4:$G$87,6,0)","v":"2_Presupuestos Participativos 50%"},8,"Inversiones ambientales sostenibles","Manejo de emergencias y desastres.",94,"AMBIENTE",18,"Gestión para la prevención y mitigación del riesgo.",42,"Acciones efectivas para el fortalecimiento de las capacidades locales para la respuesta a emergencias y desastres","REDUCCIÓN DEL RIESGO",null,null,null,0,5,0,0,0,399000000,0,0,399000000,1,0,0,0,0,"Bajo","Bajo",0.22327923894795748,0,0,null,null,null,0,"2021_1",0,0,0,0,0,0,0,0,0,0,0,0,0,"",null,null,null,0,0,0,0,0,null,0,0,0,0,null,null,0,0,0,"",null,null,null,null,null,{"$f":"VLOOKUP(AG1279,'Anexo ODS'!$G$3:$P$86,5,0)","v":3},{"$f":"VLOOKUP(AG1279,'Anexo ODS'!$G$3:$P$86,6,0)","v":"La Prosperidad"},{"$f":"VLOOKUP(AG1279,'Anexo ODS'!$G$3:$P$86,7,0)","v":11},{"$f":"VLOOKUP(AG1279,'Anexo ODS'!$G$3:$P$86,8,0)","v":"Ciudades y comunidades sostenibles"},{"$f":"VLOOKUP(AG1279,'Anexo ODS'!$G$3:$P$86,9,0)","v":"11.5"},{"$f":"VLOOKUP(AG1279,'Anexo ODS'!$G$3:$P$86,10,0)","v":"De aquí a 2030, reducir significativamente el número de muertes causadas por los desastres, incluidos los relacionados con el agua, y de personas afectadas por ellos, y reducir considerablemente las pérdidas económicas directas provocadas por los desastres en comparación con el producto interno bruto mundial, haciendo especial hincapié en la protección de los pobres y las personas en situaciones de vulnerabilidad"},null,null,null,null,null,null,null,null,5]
[1278,20,"Sumapaz",2,"Cambiar nuestros hábitos de vida para reverdecer a Bogotá y adaptarnos y mitigar el cambio climático.",33,"Más árboles y más y mejor espacio público ",null,null,null,null,1278,"Plantar y/o Mantener 950 árboles urbanos y/o rurales.",1654,"Sumapaz también es arbolado","ARBORIZACIÓN","Suma",null,"Plantar",950,"Árboles","y/o Mantener urbanos y/o rurales.","Plantar y/o Mantener 950 árboles urbanos y/o rurales.",{"$f":"VLOOKUP(AG1280,'Anexo PMR'!$B$4:$G$87,6,0)","v":"2_Presupuestos Participativos 50%"},8,"Inversiones ambientales sostenibles","Arbolado urbano y/o rural.",94,"AMBIENTE",19,"Plantación y mantenimiento de árboles, jardines y especies vegetales. ",45,"Número de árboles plantados","ARBOLADO",null,null,null,0,0,950,0,0,0,232000000,0,232000000,1,0,0,0,0,"Bajo","Bajo",{"$f":"AT1280/SUMIF($F$1248:$F$1309,F1280,$AT$1248:$AT$1309)","v":0.16372618207480594},0,0,null,null,null,0,"2021_1",0,0,0,0,0,0,0,0,0,0,0,0,0,"",null,null,null,0,0,0,0,0,null,0,0,0,0,null,null,0,0,0,"",null,null,null,null,null,{"$f":"VLOOKUP(AG1280,'Anexo ODS'!$G$3:$P$86,5,0)","v":4},{"$f":"VLOOKUP(AG1280,'Anexo ODS'!$G$3:$P$86,6,0)","v":"El Planeta"},{"$f":"VLOOKUP(AG1280,'Anexo ODS'!$G$3:$P$86,7,0)","v":15},{"$f":"VLOOKUP(AG1280,'Anexo ODS'!$G$3:$P$86,8,0)","v":"Vida de ecosistemas terrestres"},{"$f":"VLOOKUP(AG1280,'Anexo ODS'!$G$3:$P$86,9,0)","v":"15.1"},{"$f":"VLOOKUP(AG1280,'Anexo ODS'!$G$3:$P$86,10,0)","v":"De aquí a 2020, asegurar la conservación, el restablecimiento y el uso sostenible de los ecosistemas terrestres y los ecosistemas interiores de agua dulce y sus servicios, en particular los bosques, los humedales, las montañas y las zonas áridas, en consonancia con las obligaciones contraídas en virtud de acuerdos internacionales"},null,null,null,null,null,null,null,null,950]
[1279,20,"Sumapaz",2,"Cambiar nuestros hábitos de vida para reverdecer a Bogotá y adaptarnos y mitigar el cambio climático.",33,"Más árboles y más y mejor espacio público ",null,null,null,null,1279,"Construir 1500 m2 de Parque vecinales y/o de bolsillo (la construcción incluye su dotación). (Construir una chancha sintetica de 1500 M2)",1655,"Mas y mejor espacio público","CONSTRUCCIÓN","Suma",null,"Construir",1500,"Metros cuadrados","vecinales y/o de bolsillo (la construcción incluye su dotación). (Construir una chancha sintetica de 1500 M2)","Construir 1500 m2 de Parque vecinales y/o de bolsillo (la construcción incluye su dotación). (Construir una chancha sintetica de 1500 M2)",{"$f":"VLOOKUP(AG1281,'Anexo PMR'!$B$4:$G$87,6,0)","v":"2_Presupuestos Participativos 50%"},6,"Infraestructura","Construcción, mantenimiento y dotación de parques vecinales y/o de bolsillo.",93,"CULTURA, RECREACIÓN Y DEPORTE",20,"Parques y escenarios deportivos.",46,"m2 de Parques vecinales y/o de bolsillo construidos y dotados","PARQUES",null,null,null,0,1500,0,0,0,911000000,0,0,911000000,1,0,0,0,0,"Bajo","Bajo",0.64290755116443188,0,0,null,null,null,0,"2021_1",0,0,0,0,0,0,0,0,0,0,0,0,0,"",null,null,null,0,0,0,0,0,null,0,0,0,0,null,null,0,0,0,"",null,null,null,null,null,{"$f":"VLOOKUP(AG1281,'Anexo ODS'!$G$3:$P$86,5,0)","v":3},{"$f":"VLOOKUP(AG1281,'Anexo ODS'!$G$3:$P$86,6,0)","v":"La Prosperidad"},{"$f":"VLOOKUP(AG1281,'Anexo ODS'!$G$3:$P$86,7,0)","v":11},{"$f":"VLOOKUP(AG1281,'Anexo ODS'!$G$3:$P$86,8,0)","v":"Ciudades y comunidades sostenibles"},{"$f":"VLOOKUP(AG1281,'Anexo ODS'!$G$3:$P$86,9,0)","v":"11.7"},{"$f":"VLOOKUP(AG1281,'Anexo ODS'!$G$3:$P$86,10,0)","v":"De aquí a 2030, proporcionar acceso universal a zonas verdes y espacios públicos seguros, inclusivos y accesibles, en particular para las mujeres y los niños, las personas de edad y las personas con discapacidad"},null,null,null,null,null,null,null,null,1500]
[1280,20,"Sumapaz",2,"Cambiar nuestros hábitos de vida para reverdecer a Bogotá y adaptarnos y mitigar el cambio climático.",33,"Más árboles y más y mejor espacio público ",null,null,null,null,1280,"Intervenir 1 Parques vecinales y/o de bolsillo con acciones de mejoramiento, mantenimiento y/o dotación.",1655,"Mas y mejor espacio público","INTERVENCIÓN","Suma",null,"Intervenir",1,"Parques","vecinales y/o de bolsillo con acciones de mejoramiento, mantenimiento y/o dotación.","Intervenir 1 Parques vecinales y/o de bolsillo con acciones de mejoramiento, mantenimiento y/o dotación.",{"$f":"VLOOKUP(AG1282,'Anexo PMR'!$B$4:$G$87,6,0)","v":"2_Presupuestos Participativos 50%"},6,"Infraestructura","Construcción, mantenimiento y dotación de parques vecinales y/o de bolsillo.",93,"CULTURA, RECREACIÓN Y DEPORTE",20,"Parques y escenarios deportivos.",47,"Número de Parques vecinales y/o de bolsillo intervenidos en mejoramiento, mantenimiento y/o dotación","PARQUES",null,null,null,0,0,1,0,0,0,274000000,0,{"$f":"SUM(AP1282:AS1282)","v":274000000},1,{"$f":"IF(Q1282=\"Constante\",SUM(BO1282:BR1282)/4,IF(Q1282=\"Suma\",SUM(BO1282:BR1282),0))","v":0},{"$f":"AV1282/T1282","v":0},{"$f":"IF(Q1282=\"Constante\",SUM(BS1282:BV1282)/4,IF(Q1282=\"Suma\",SUM(BS1282:BV1282),0))","v":0},{"$f":"AX1282/T1282","v":0},{"$f":"IF(AW1282<=40%,\"Bajo\",IF(AW1282<=70%,\"Medio\",IF(AW1282<=90%,\"Alto\",IF(AW1282>90%,\"Muy Alto\"))))","v":"Bajo"},{"$f":"IF(AY1282<=40%,\"Bajo\",IF(AY1282<=70%,\"Medio\",IF(AY1282<=90%,\"Alto\",IF(AY1282>90%,\"Muy Alto\"))))","v":"Bajo"},0.19336626676076218,0,0,null,null,null,0,"2021_1",0,0,0,0,0,0,0,0,0,0,0,0,0,"",null,null,null,0,0,0,0,0,null,0,0,0,0,null,null,0,0,0,"",null,null,null,null,null,{"$f":"VLOOKUP(AG1282,'Anexo ODS'!$G$3:$P$86,5,0)","v":3},{"$f":"VLOOKUP(AG1282,'Anexo ODS'!$G$3:$P$86,6,0)","v":"La Prosperidad"},{"$f":"VLOOKUP(AG1282,'Anexo ODS'!$G$3:$P$86,7,0)","v":11},{"$f":"VLOOKUP(AG1282,'Anexo ODS'!$G$3:$P$86,8,0)","v":"Ciudades y comunidades sostenibles"},{"$f":"VLOOKUP(AG1282,'Anexo ODS'!$G$3:$P$86,9,0)","v":"11.7"},{"$f":"VLOOKUP(AG1282,'Anexo ODS'!$G$3:$P$86,10,0)","v":"De aquí a 2030, proporcionar acceso universal a zonas verdes y espacios públicos seguros, inclusivos y accesibles, en particular para las mujeres y los niños, las personas de edad y las personas con discapacidad"},null,null,null,null,null,null,null,null,1]
[1281,20,"Sumapaz",2,"Cambiar nuestros hábitos de vida para reverdecer a Bogotá y adaptarnos y mitigar el cambio climático.",34,"Bogotá protectora de los animales",null,null,null,null,1281,"Atender 1000 animales en urgencias, brigadas médico veterinarias, acciones de esterilización, educación y adopción.",1666,"Sumapaz comprometida con el bienestar animal","BIENESTAR ANIMAL","Suma",null,"Atender",1000,"Animales","en urgencias, brigadas médico veterinarias, acciones de esterilización, educación y adopción.","Atender 1000 animales en urgencias, brigadas médico veterinarias, acciones de esterilización, educación y adopción.",{"$f":"VLOOKUP(AG1283,'Anexo PMR'!$B$4:$G$87,6,0)","v":"2_Presupuestos Participativos 50%"},8,"Inversiones ambientales sostenibles","Acuerdos con las redes locales de proteccionistas de animales para urgencias, brigadas médico veterinarias, acciones de esterilización, educación y adopción  ",94,"AMBIENTE",21,"Servicios de protección y bienestar animal.",48,"Número de animales atendidos","PROTECCIÓN ANIMAL",null,null,null,250,250,250,250,426000000,425000000,426000000,426000000,1703000000,1,0,0,0,0,"Bajo","Bajo",1,{"$f":"BB1283*AW1283","v":0},{"$f":"BB1283*AY1283","v":0},null,null,null,0,"2021_1",250,250,0,0,0,0,0,0,0,0,0,0,0,"No Aplica",null,null,null,417515000,417515000,0,0,0,57000000,0,0,0,{"$f":"SUM(CF1283:CI1283)","v":57000000},0,0,0,0,0,"Contrato de prestación de servicios, no contribuye al avance de la meta",null,null,null,null,null,{"$f":"VLOOKUP(AG1283,'Anexo ODS'!$G$3:$P$86,5,0)","v":3},{"$f":"VLOOKUP(AG1283,'Anexo ODS'!$G$3:$P$86,6,0)","v":"La Prosperidad"},{"$f":"VLOOKUP(AG1283,'Anexo ODS'!$G$3:$P$86,7,0)","v":11},{"$f":"VLOOKUP(AG1283,'Anexo ODS'!$G$3:$P$86,8,0)","v":"Ciudades y comunidades sostenibles"},{"$f":"VLOOKUP(AG1283,'Anexo ODS'!$G$3:$P$86,9,0)","v":"11.3"},{"$f":"VLOOKUP(AG1283,'Anexo ODS'!$G$3:$P$86,10,0)","v":"De aquí a 2030, aumentar la urbanización inclusiva y sostenible y la capacidad para la planificación y la gestión participativas, integradas y sostenibles de los asentamientos\nhumanos en todos los países"},null,null,null,null,null,null,null,null,1000]
[1282,20,"Sumapaz",2,"Cambiar nuestros hábitos de vida para reverdecer a Bogotá y adaptarnos y mitigar el cambio climático.",37,"Provisión y mejoramiento de servicios públicos",null,null,null,null,1282,"Fortalecer 4 acueductos veredales con asistencia, intervenir técnica u organizativa. Incluyendo el tratamiento de aguas residuales",1668,"Acueductos veredales y saneamiento básico","ACUEDUCTOS VEREDALES","Suma",null,"Fortalecer",4,"Acueductos","veredales con asistencia, intervenir técnica u organizativa. Incluyendo el tratamiento de aguas residuales","Fortalecer 4 acueductos veredales con asistencia, intervenir técnica u organizativa. Incluyendo el tratamiento de aguas residuales",{"$f":"VLOOKUP(AG1284,'Anexo PMR'!$B$4:$G$87,6,0)","v":"2_Presupuestos Participativos 50%"},9,"Ruralidad","Acueductos veredales y saneamiento básico.",96,"HÁBITAT",22,"Acueductos y alcantarillados.",49,"Número de acueductos verdales asistidos o intervenidos técnica u organizacionalmente.","ACUEDUCTOS VEREDALES",null,null,null,1,1,1,1,526000000,1000000000,1000000000,1000000000,3526000000,1,0,0,0,0,"Bajo","Bajo",1,0,0,null,null,null,0,"2021_1",1,1,0,0,0,0,0,0,0,0,0,0,0,"",null,null,null,515523000,515523000,0,0,0,null,0,0,0,0,null,null,0,0,0,"",null,null,null,null,null,{"$f":"VLOOKUP(AG1284,'Anexo ODS'!$G$3:$P$86,5,0)","v":4},{"$f":"VLOOKUP(AG1284,'Anexo ODS'!$G$3:$P$86,6,0)","v":"El Planeta"},{"$f":"VLOOKUP(AG1284,'Anexo ODS'!$G$3:$P$86,7,0)","v":6},{"$f":"VLOOKUP(AG1284,'Anexo ODS'!$G$3:$P$86,8,0)","v":"Agua y saneamiento"},{"$f":"VLOOKUP(AG1284,'Anexo ODS'!$G$3:$P$86,9,0)","v":"6.b"},{"$f":"VLOOKUP(AG1284,'Anexo ODS'!$G$3:$P$86,10,0)","v":"Apoyar y fortalecer la participación de las comunidades locales en la mejora de la gestión del agua y el saneamiento"},null,null,null,null,null,null,null,null,4]
[1283,20,"Sumapaz",2,"Cambiar nuestros hábitos de vida para reverdecer a Bogotá y adaptarnos y mitigar el cambio climático.",38,"Ecoeficiencia, reciclaje, manejo de residuos e inclusión de la población recicladora",null,null,null,null,1283,"Capacitar 700 personas en separación en la fuente y reciclaje.",1669,"Por una Sumapaz ecoeficiente, alternativa y sostenible","HÁBITOS DE CONSUMO","Suma",null,"Capacitar",700,"Personas","en separación en la fuente y reciclaje.","Capacitar 700 personas en separación en la fuente y reciclaje.",{"$f":"VLOOKUP(AG1285,'Anexo PMR'!$B$4:$G$87,6,0)","v":"2_Presupuestos Participativos 50%"},8,"Inversiones ambientales sostenibles","Cambios de hábitos de consumo, separación en la fuente y reciclaje.",96,"HÁBITAT",23,"Manejo integral de residuos sólidos. ",50,"Personas capacitadas en separación en la fuente y reciclaje","RECICLAJE",null,null,null,250,0,250,200,321000000,0,200000000,200000000,721000000,1,0,0,0,0,"Bajo","Bajo",0.18120130686102034,0,0,null,null,null,0,"2021_1",250,250,0,0,0,0,0,0,0,0,0,0,0,"",null,null,null,314607000,314607000,0,0,0,null,0,0,0,0,null,null,0,0,0,"",null,null,null,null,null,{"$f":"VLOOKUP(AG1285,'Anexo ODS'!$G$3:$P$86,5,0)","v":4},{"$f":"VLOOKUP(AG1285,'Anexo ODS'!$G$3:$P$86,6,0)","v":"El Planeta"},{"$f":"VLOOKUP(AG1285,'Anexo ODS'!$G$3:$P$86,7,0)","v":12},{"$f":"VLOOKUP(AG1285,'Anexo ODS'!$G$3:$P$86,8,0)","v":"Producción y consumo responsables"},{"$f":"VLOOKUP(AG1285,'Anexo ODS'!$G$3:$P$86,9,0)","v":"12.5"},{"$f":"VLOOKUP(AG1285,'Anexo ODS'!$G$3:$P$86,10,0)","v":"De aquí a 2030, reducir considerablemente la generación de desechos mediante actividades de prevención, reducción, reciclado y reutilización"},null,null,null,null,null,null,null,null,700]
[1284,20,"Sumapaz",2,"Cambiar nuestros hábitos de vida para reverdecer a Bogotá y adaptarnos y mitigar el cambio climático.",38,"Ecoeficiencia, reciclaje, manejo de residuos e inclusión de la población recicladora",null,null,null,null,1284,"Implementar 100 acciones enfocadas a consolidar el modelo de energías alternativas sostenible para Sumapaz.",1669,"Por una Sumapaz ecoeficiente, alternativa y sostenible","ENERGÍAS ALTERNATIVAS","Suma",null,"Implementar",100,"Acciones","enfocadas a consolidar el modelo de energías alternativas sostenible para Sumapaz.","Implementar 100 acciones enfocadas a consolidar el modelo de energías alternativas sostenible para Sumapaz.",{"$f":"VLOOKUP(AG1286,'Anexo PMR'!$B$4:$G$87,6,0)","v":"2_Presupuestos Participativos 50%"},9,"Ruralidad","Energías alternativas para el área rural.",96,"HÁBITAT",24,"Fuentes de energías alternativas para el área rural.",51,"Acciones con energías alternativas para el área rural realizadas.","ENERGÍAS ALTERNATIVAS",null,null,null,25,25,25,25,816000000,814000000,814000000,814000000,3258000000,1,0,0,0,0,"Bajo","Bajo",0.81879869313897968,0,0,null,null,null,0,"2021_1",25,25,0,0,0,0,0,0,0,0,0,0,0,"",null,null,null,799747000,799747000,0,0,0,null,0,0,0,0,null,null,0,0,0,"",null,null,null,null,null,{"$f":"VLOOKUP(AG1286,'Anexo ODS'!$G$3:$P$86,5,0)","v":4},{"$f":"VLOOKUP(AG1286,'Anexo ODS'!$G$3:$P$86,6,0)","v":"El Planeta"},{"$f":"VLOOKUP(AG1286,'Anexo ODS'!$G$3:$P$86,7,0)","v":12},{"$f":"VLOOKUP(AG1286,'Anexo ODS'!$G$3:$P$86,8,0)","v":"Producción y consumo responsables"},{"$f":"VLOOKUP(AG1286,'Anexo ODS'!$G$3:$P$86,9,0)","v":"12.5"},{"$f":"VLOOKUP(AG1286,'Anexo ODS'!$G$3:$P$86,10,0)","v":"De aquí a 2030, reducir considerablemente la generación de desechos mediante actividades de prevención, reducción, reciclado y reutilización"},null,null,null,null,null,null,null,null,100]
[1285,20,"Sumapaz",3,"Inspirar confianza y legitimidad para vivir sin miedo y ser epicentro de cultura ciudadana, paz y reconciliación.",39,"Bogotá territorio de paz y atención integral a las víctimas del conflicto armado",null,null,null,null,1285,"Vincular 800 personas a procesos de construcción de memoria, verdad, reparación integral a víctimas, paz y reconciliación.",1672,"Procesos de construcción de memoria, verdad, reparación integral a víctimas, paz y reconciliación","ENERGÍAS ALTERNATIVAS","Suma",null,"Vincular",800,"Personas","a procesos de construcción de memoria, verdad, reparación integral a víctimas, paz y reconciliación.","Vincular 800 personas a procesos de construcción de memoria, verdad, reparación integral a víctimas, paz y reconciliación.",{"$f":"VLOOKUP(AG1287,'Anexo PMR'!$B$4:$G$87,6,0)","v":"2_Presupuestos Participativos 50%"},7,"Desarrollo social y cultural","Construcción de memoria, verdad, reparación, víctimas, paz y reconciliación.",85,"GESTIÓN PÚBLICA",25,"Servicio de apoyo y fortalecimiento a los procesos de construcción de memoria, verdad, reparación integral a víctimas, paz y reconciliación.",52,"Personas vinculadas a procesos de construcción de memoria, verdad, reparación integral a víctimas, paz y reconciliación","PAZ, MEMORIA Y RECONCILIACIÓN",null,null,null,200,200,200,200,425000000,422000000,422000000,422000000,1691000000,1,0,0,0,0,"Bajo","Bajo",1,0,0,null,null,null,0,"2021_1",200,200,0,0,0,0,0,0,0,0,0,0,0,"No Aplica",null,null,null,416535000,416535000,0,0,0,68000000,0,0,0,68000000,0,0,0,0,0,"Contrato de prestación de servicios, no contribuye al avance de la meta",null,null,null,null,null,{"$f":"VLOOKUP(AG1287,'Anexo ODS'!$G$3:$P$86,5,0)","v":2},{"$f":"VLOOKUP(AG1287,'Anexo ODS'!$G$3:$P$86,6,0)","v":"La Paz"},{"$f":"VLOOKUP(AG1287,'Anexo ODS'!$G$3:$P$86,7,0)","v":16},{"$f":"VLOOKUP(AG1287,'Anexo ODS'!$G$3:$P$86,8,0)","v":"Paz, justicia e instituciones sólidas"},{"$f":"VLOOKUP(AG1287,'Anexo ODS'!$G$3:$P$86,9,0)","v":"16.3"},{"$f":"VLOOKUP(AG1287,'Anexo ODS'!$G$3:$P$86,10,0)","v":"Promover el estado de derecho en los planos nacional e internacional y garantizar la igualdad en el acceso a la justicia para todos"},null,null,null,null,null,null,null,null,800]
[1286,20,"Sumapaz",3,"Inspirar confianza y legitimidad para vivir sin miedo y ser epicentro de cultura ciudadana, paz y reconciliación.",40,"Más mujeres viven una vida libre de violencias, se sienten seguras y acceden con confianza al sistema de justicia",null,null,null,null,1286,"Capacitar 1000 personas para la construcción de ciudadanía y desarrollo de capacidades para el ejercicio de derechos de las mujeres. Así mismo se tendrá en cuenta la vinculación a las mujeres en acciones de construcción de ciudadanía y capacidad para el ejercicio del derecho",1674,"Más mujeres viven una vida libre de violencias, se sienten seguras y acceden con confianza al sistema de justicia","DESARROLLO DE CAPACIDADES","Suma",null,"Capacitar",1000,"Personas"," para la construcción de ciudadanía y desarrollo de capacidades para el ejercicio de derechos de las mujeres. Así mismo se tendrá en cuenta la vinculación a las mujeres en acciones de construcción de ciudadanía y capacidad para el ejercicio del derecho","Capacitar 1000 personas para la construcción de ciudadanía y desarrollo de capacidades para el ejercicio de derechos de las mujeres. Así mismo se tendrá en cuenta la vinculación a las mujeres en acciones de construcción de ciudadanía y capacidad para el ejercicio del derecho",{"$f":"VLOOKUP(AG1288,'Anexo PMR'!$B$4:$G$87,6,0)","v":"2_Presupuestos Participativos 50%"},7,"Desarrollo social y cultural","Construcción de ciudadanía y desarrollo de capacidades para el ejercicio de derechos de las mujeres.",100,"MUJERES",26,"Servicios de promoción y capacitación para la construcción de ciudadanía y desarrollo de capacidades para el ejercicio de derechos de las mujeres.",53,"Personas capacitadas para la construcción de ciudadanía y desarrollo de capacidades para el ejercicio de derechos de las mujeres.","DERECHOS DE LA MUJER",null,null,null,250,250,250,250,434000000,431000000,431000000,431000000,1727000000,1,0,0,0,0,"Bajo","Bajo",0.61176053843428979,0,0,null,null,null,0,"2021_1",250,250,0,0,0,0,0,0,0,0,0,0,0,"No Aplica",null,null,null,425356000,425356000,0,0,0,57000000,0,0,0,57000000,1710000,1710000,0,0,0,"Contrato de prestación de servicios, no contribuye al avance de la meta",null,null,null,null,null,{"$f":"VLOOKUP(AG1288,'Anexo ODS'!$G$3:$P$86,5,0)","v":1},{"$f":"VLOOKUP(AG1288,'Anexo ODS'!$G$3:$P$86,6,0)","v":"Las Personas"},{"$f":"VLOOKUP(AG1288,'Anexo ODS'!$G$3:$P$86,7,0)","v":5},{"$f":"VLOOKUP(AG1288,'Anexo ODS'!$G$3:$P$86,8,0)","v":"Igualdad de género"},{"$f":"VLOOKUP(AG1288,'Anexo ODS'!$G$3:$P$86,9,0)","v":"5.c"},{"$f":"VLOOKUP(AG1288,'Anexo ODS'!$G$3:$P$86,10,0)","v":"Aprobar y fortalecer políticas acertadas y leyes aplicables para promover la igualdad de género y el empoderamiento de todas las mujeres y las niñas a todos los niveles"},null,null,null,null,null,null,null,null,1000]
[1287,20,"Sumapaz",3,"Inspirar confianza y legitimidad para vivir sin miedo y ser epicentro de cultura ciudadana, paz y reconciliación.",40,"Más mujeres viven una vida libre de violencias, se sienten seguras y acceden con confianza al sistema de justicia",null,null,null,null,1287,"Vincular 1200 personas en acciones para la prevención del feminicidio y la violencia contra la mujer.",1674,"Más mujeres viven una vida libre de violencias, se sienten seguras y acceden con confianza al sistema de justicia","PREVENCIÓN","Suma",null,"Vincular",1200,"Personas","en acciones para la prevención del feminicidio y la violencia contra la mujer.","Vincular 1200 personas en acciones para la prevención del feminicidio y la violencia contra la mujer.",{"$f":"VLOOKUP(AG1289,'Anexo PMR'!$B$4:$G$87,6,0)","v":"2_Presupuestos Participativos 50%"},7,"Desarrollo social y cultural","Prevención del feminicidio y la violencia contra la mujer.",100,"MUJERES",27,"Prevención, atención y gestión del conflicto en la localidad.",54,"Número de Personas vinculadas en acciones para la prevención del feminicidio y la violencia contra la mujer","PREVENCIÓN DE LA VIOLENCIA",null,null,null,300,300,300,300,274000000,274000000,274000000,274000000,1096000000,1,0,0,0,0,"Bajo","Bajo",0.38823946156571026,0,0,null,null,null,0,"2021_1",300,300,0,0,0,0,0,0,0,0,0,0,0,"",null,null,null,268542000,268542000,0,0,0,null,0,0,0,0,null,null,0,0,0,"",null,null,null,null,null,{"$f":"VLOOKUP(AG1289,'Anexo ODS'!$G$3:$P$86,5,0)","v":1},{"$f":"VLOOKUP(AG1289,'Anexo ODS'!$G$3:$P$86,6,0)","v":"Las Personas"},{"$f":"VLOOKUP(AG1289,'Anexo ODS'!$G$3:$P$86,7,0)","v":5},{"$f":"VLOOKUP(AG1289,'Anexo ODS'!$G$3:$P$86,8,0)","v":"Igualdad de género"},{"$f":"VLOOKUP(AG1289,'Anexo ODS'!$G$3:$P$86,9,0)","v":"5.2"},{"$f":"VLOOKUP(AG1289,'Anexo ODS'!$G$3:$P$86,10,0)","v":"Eliminar todas las formas de violencia contra todas las mujeres y las niñas en los ámbitos público y privado, incluidas la trata y la explotación sexual y otros tipos de explotación"},null,null,null,null,null,null,null,null,1200]
[1288,20,"Sumapaz",3,"Inspirar confianza y legitimidad para vivir sin miedo y ser epicentro de cultura ciudadana, paz y reconciliación.",43,"Cultura ciudadana para la confianza, la convivencia y la participación desde la vida cotidiana",null,null,null,null,1288,"Formar 200 personas en la escuela de seguridad. Garantizando el enfoque de escuela de convivencia comunitaria",1676,"Promoción de la convivencia ciudadana - Escuela de seguridad","ESCUELA DE SEGURIDAD","Suma",null,"Formar",200,"Personas"," en la escuela de seguridad. Garantizando el enfoque de escuela de convivencia comunitaria","Formar 200 personas en la escuela de seguridad. Garantizando el enfoque de escuela de convivencia comunitaria",{"$f":"VLOOKUP(AG1290,'Anexo PMR'!$B$4:$G$87,6,0)","v":"2_Presupuestos Participativos 50%"},7,"Desarrollo social y cultural","Promoción de la convivencia ciudadana.",102,"SEGURIDAD, CONVIVENCIA Y JUSTICIA",27,"Prevención, atención y gestión del conflicto en la localidad.",56,"Número de personas formadas en la escuela de seguridad","ACCIONES DE CONVIVENCIA",null,null,null,200,0,0,0,298000000,0,0,0,298000000,1,0,0,0,0,"Bajo","Bajo",1,0,0,null,null,null,0,"2021_1",200,200,0,0,0,0,0,0,0,0,0,0,0,"",null,null,null,292064000,292064000,0,0,0,null,0,0,0,0,null,null,0,0,0,"",null,null,null,null,null,{"$f":"VLOOKUP(AG1290,'Anexo ODS'!$G$3:$P$86,5,0)","v":2},{"$f":"VLOOKUP(AG1290,'Anexo ODS'!$G$3:$P$86,6,0)","v":"La Paz"},{"$f":"VLOOKUP(AG1290,'Anexo ODS'!$G$3:$P$86,7,0)","v":16},{"$f":"VLOOKUP(AG1290,'Anexo ODS'!$G$3:$P$86,8,0)","v":"Paz, justicia e instituciones sólidas"},{"$f":"VLOOKUP(AG1290,'Anexo ODS'!$G$3:$P$86,9,0)","v":"16.1"},{"$f":"VLOOKUP(AG1290,'Anexo ODS'!$G$3:$P$86,10,0)","v":"Reducir significativamente todas las formas de violencia y las correspondientes tasas de mortalidad en todo el mundo"},null,null,null,null,null,null,null,null,200]
[1289,20,"Sumapaz",3,"Inspirar confianza y legitimidad para vivir sin miedo y ser epicentro de cultura ciudadana, paz y reconciliación.",45,"Espacio público más seguro y construido colectivamente",null,null,null,null,1289,"Realizar 2 acuerdos para la vinculación de la ciudadanía en los programas adelantados por el IDRD y acuerdos con vendedores informales o estacionarios",1677,"Acuerdos para el uso de medios de transporte no motorizados en la Localidad","ACUERDOS CIUDADANOS","Suma",null,"Realizar",2,"Acuerdos","para la vinculación de la ciudadanía en los programas adelantados por el IDRD y acuerdos con vendedores informales o estacionarios","Realizar 2 acuerdos para la vinculación de la ciudadanía en los programas adelantados por el IDRD y acuerdos con vendedores informales o estacionarios",{"$f":"VLOOKUP(AG1291,'Anexo PMR'!$B$4:$G$87,6,0)","v":"2_Presupuestos Participativos 50%"},7,"Desarrollo social y cultural","Acuerdos para mejorar el uso de medios de transporte no motorizados.",98,"GOBIERNO",28,"Acuerdos ciudadanos suscritos.",60,"Acuerdos realizados para la vinculación de la ciudadanía en los programas adelantados por el IDRD y acuerdos con vendedores informales o estacionarios ","\nACUERDOS DE ESPACIO PÚBLICO",null,null,null,1,0,0,1,294000000,0,0,200000000,494000000,1,0,0,0,0,"Bajo","Bajo",1,0,0,null,null,null,0,"2021_1",1,1,0,0,0,0,0,0,0,0,0,0,0,"",null,null,null,288144000,288144000,0,0,0,null,0,0,0,0,null,null,0,0,0,"",null,null,null,null,null,{"$f":"VLOOKUP(AG1291,'Anexo ODS'!$G$3:$P$86,5,0)","v":2},{"$f":"VLOOKUP(AG1291,'Anexo ODS'!$G$3:$P$86,6,0)","v":"La Paz"},{"$f":"VLOOKUP(AG1291,'Anexo ODS'!$G$3:$P$86,7,0)","v":16},{"$f":"VLOOKUP(AG1291,'Anexo ODS'!$G$3:$P$86,8,0)","v":"Paz, justicia e instituciones sólidas"},{"$f":"VLOOKUP(AG1291,'Anexo ODS'!$G$3:$P$86,9,0)","v":"16.1"},{"$f":"VLOOKUP(AG1291,'Anexo ODS'!$G$3:$P$86,10,0)","v":"Reducir significativamente todas las formas de violencia y las correspondientes tasas de mortalidad en todo el mundo"},null,null,null,null,null,null,null,null,2]
[1290,20,"Sumapaz",3,"Inspirar confianza y legitimidad para vivir sin miedo y ser epicentro de cultura ciudadana, paz y reconciliación.",48,"Plataforma institucional para la seguridad y justicia",null,null,null,null,1290,"Atender 200 personas en estrategias de acceso a la justicia integral en la ciudad.",1683,"Acceso a la justicia","JUECES DE PAZ","Suma",null,"Atender",200,"Personas","acceso a la justicia integral en la ciudad","Atender 200 personas en estrategias de acceso a la justicia integral en la ciudad.",{"$f":"VLOOKUP(AG1292,'Anexo PMR'!$B$4:$G$87,6,0)","v":"2_Presupuestos Participativos 50%"},7,"Desarrollo social y cultural","Acceso a la Justicia.",102,"SEGURIDAD, CONVIVENCIA Y JUSTICIA",29,"Bienes y  servicios de apoyo para el fortalecimiento de la justicia comunitaria y la justicia integral en la ciudad.",62,"Personas atendidas en estrategias de acceso a la justicia integral en la ciudad.","ACCESO A LA JUSTICIA",null,null,null,100,0,100,0,100000000,0,88000000,0,188000000,1,0,0,0,0,"Bajo","Bajo",0.16013628620102216,0,0,null,null,null,0,"2021_1",100,100,0,0,0,0,0,0,0,0,0,0,0,"",null,null,null,98008000,98008000,0,0,0,null,0,0,0,0,null,null,0,0,0,"",null,null,null,null,null,{"$f":"VLOOKUP(AG1292,'Anexo ODS'!$G$3:$P$86,5,0)","v":2},{"$f":"VLOOKUP(AG1292,'Anexo ODS'!$G$3:$P$86,6,0)","v":"La Paz"},{"$f":"VLOOKUP(AG1292,'Anexo ODS'!$G$3:$P$86,7,0)","v":16},{"$f":"VLOOKUP(AG1292,'Anexo ODS'!$G$3:$P$86,8,0)","v":"Paz, justicia e instituciones sólidas"},{"$f":"VLOOKUP(AG1292,'Anexo ODS'!$G$3:$P$86,9,0)","v":"16.3"},{"$f":"VLOOKUP(AG1292,'Anexo ODS'!$G$3:$P$86,10,0)","v":"Promover el estado de derecho en los planos nacional e internacional y garantizar la igualdad de acceso a la justicia para todos"},null,null,null,null,null,null,null,null,200]
[1291,20,"Sumapaz",3,"Inspirar confianza y legitimidad para vivir sin miedo y ser epicentro de cultura ciudadana, paz y reconciliación.",48,"Plataforma institucional para la seguridad y justicia",null,null,null,null,1291,"Beneficiar 150 personas a través de estrategias para el fortalecimiento de los mecanismos de justicia comunitaria.",1683,"Acceso a la justicia","JUSTICIA COMUNITARIA","Suma",null,"Beneficiar",150,"Personas","a través de estrategias para el fortalecimiento de los mecanismos de justicia comunitaria.","Beneficiar 150 personas a través de estrategias para el fortalecimiento de los mecanismos de justicia comunitaria.",{"$f":"VLOOKUP(AG1293,'Anexo PMR'!$B$4:$G$87,6,0)","v":"2_Presupuestos Participativos 50%"},7,"Desarrollo social y cultural","Acceso a la Justicia.",102,"SEGURIDAD, CONVIVENCIA Y JUSTICIA",29,"Bienes y  servicios de apoyo para el fortalecimiento de la justicia comunitaria y la justicia integral en la ciudad.",61,"Beneficiarios de las estrategias para el fortalecimiento  de los mecanismos  de justicia comunitaria.","ACCESO A LA JUSTICIA",null,null,null,75,0,75,0,208000000,0,200000000,0,408000000,1,0,0,0,0,"Bajo","Bajo",0.34752981260647359,0,0,null,null,null,0,"2021_1",75,75,0,0,0,0,0,0,0,0,0,0,0,"",null,null,null,203857000,203857000,0,0,0,null,0,0,0,0,null,null,0,0,0,"",null,null,null,null,null,{"$f":"VLOOKUP(AG1293,'Anexo ODS'!$G$3:$P$86,5,0)","v":2},{"$f":"VLOOKUP(AG1293,'Anexo ODS'!$G$3:$P$86,6,0)","v":"La Paz"},{"$f":"VLOOKUP(AG1293,'Anexo ODS'!$G$3:$P$86,7,0)","v":16},{"$f":"VLOOKUP(AG1293,'Anexo ODS'!$G$3:$P$86,8,0)","v":"Paz, justicia e instituciones sólidas"},{"$f":"VLOOKUP(AG1293,'Anexo ODS'!$G$3:$P$86,9,0)","v":"16.3"},{"$f":"VLOOKUP(AG1293,'Anexo ODS'!$G$3:$P$86,10,0)","v":"Promover el estado de derecho en los planos nacional e internacional y garantizar la igualdad de acceso a la justicia para todos"},null,null,null,null,null,null,null,null,150]
[1292,20,"Sumapaz",3,"Inspirar confianza y legitimidad para vivir sin miedo y ser epicentro de cultura ciudadana, paz y reconciliación.",48,"Plataforma institucional para la seguridad y justicia",null,null,null,null,1292,"Suministrar 3 dotaciones del parque automotor a organismos de seguridad. Específicamente para las corregidurías de la localidad de Sumapaz",1686,"Dotación para la seguridad y justicia","DOTACIÓN","Suma",null,"Suministrar",3,"Dotaciones","el parque automotor a organismos de seguridad. Específicamente para las corregidurías de la localidad de Sumapaz","Suministrar 3 dotaciones del parque automotor a organismos de seguridad. Específicamente para las corregidurías de la localidad de Sumapaz",{"$f":"VLOOKUP(AG1294,'Anexo PMR'!$B$4:$G$87,6,0)","v":"2_Presupuestos Participativos 50%"},7,"Desarrollo social y cultural","Dotación para instancias de seguridad.",102,"SEGURIDAD, CONVIVENCIA Y JUSTICIA",30,"Infraestructura y dotaciones para seguridad.",68,"Dotación del parque automotor suministrada a organismos de seguridad.","DOTACIÓN EN SEGURIDAD",null,null,null,0,3,0,0,0,378000000,0,0,378000000,1,0,0,0,0,"Bajo","Bajo",0.3219761499148211,0,0,null,null,null,0,"2021_1",0,0,0,0,0,0,0,0,0,0,0,0,0,"",null,null,null,0,0,0,0,0,null,0,0,0,0,null,null,0,0,0,"",null,null,null,null,null,{"$f":"VLOOKUP(AG1294,'Anexo ODS'!$G$3:$P$86,5,0)","v":2},{"$f":"VLOOKUP(AG1294,'Anexo ODS'!$G$3:$P$86,6,0)","v":"La Paz"},{"$f":"VLOOKUP(AG1294,'Anexo ODS'!$G$3:$P$86,7,0)","v":16},{"$f":"VLOOKUP(AG1294,'Anexo ODS'!$G$3:$P$86,8,0)","v":"Paz, justicia e instituciones sólidas"},{"$f":"VLOOKUP(AG1294,'Anexo ODS'!$G$3:$P$86,9,0)","v":"16.a"},{"$f":"VLOOKUP(AG1294,'Anexo ODS'!$G$3:$P$86,10,0)","v":"Fortalecer las instituciones nacionales pertinentes, incluso mediante la cooperación internacional, para crear a todos los niveles, particularmente en los países en desarrollo, la capacidad de prevenir la violencia y combatir el terrorismo y la delincuencia"},null,null,null,null,null,null,null,null,3]
[1293,20,"Sumapaz",3,"Inspirar confianza y legitimidad para vivir sin miedo y ser epicentro de cultura ciudadana, paz y reconciliación.",48,"Plataforma institucional para la seguridad y justicia",null,null,null,null,1293,"Suministrar 3 dotaciones tecnológicas a organismos de seguridad. Específicamente para las corregidurías de la localidad de Sumapaz",1686,"Dotación para la seguridad y justicia","DOTACIÓN","Suma",null,"Suministrar",3,"Dotaciones","tecnológicas a organismos de seguridad. Específicamente para las corregidurías de la localidad de Sumapaz","Suministrar 3 dotaciones tecnológicas a organismos de seguridad. Específicamente para las corregidurías de la localidad de Sumapaz",{"$f":"VLOOKUP(AG1295,'Anexo PMR'!$B$4:$G$87,6,0)","v":"2_Presupuestos Participativos 50%"},7,"Desarrollo social y cultural","Dotación para instancias de seguridad.",102,"SEGURIDAD, CONVIVENCIA Y JUSTICIA",30,"Infraestructura y dotaciones para seguridad.",65,"Dotaciones tecnológicas suministradas a organismos de seguridad.","DOTACIÓN EN SEGURIDAD",null,null,null,0,0,3,0,0,0,200000000,0,200000000,1,0,0,0,0,"Bajo","Bajo",0.17035775127768313,0,0,null,null,null,0,"2021_1",0,0,0,0,0,0,0,0,0,0,0,0,0,"",null,null,null,0,0,0,0,0,null,0,0,0,0,null,null,0,0,0,"",null,null,null,null,null,{"$f":"VLOOKUP(AG1295,'Anexo ODS'!$G$3:$P$86,5,0)","v":2},{"$f":"VLOOKUP(AG1295,'Anexo ODS'!$G$3:$P$86,6,0)","v":"La Paz"},{"$f":"VLOOKUP(AG1295,'Anexo ODS'!$G$3:$P$86,7,0)","v":16},{"$f":"VLOOKUP(AG1295,'Anexo ODS'!$G$3:$P$86,8,0)","v":"Paz, justicia e instituciones sólidas"},{"$f":"VLOOKUP(AG1295,'Anexo ODS'!$G$3:$P$86,9,0)","v":"16.a"},{"$f":"VLOOKUP(AG1295,'Anexo ODS'!$G$3:$P$86,10,0)","v":"Fortalecer las instituciones nacionales pertinentes, incluso mediante la cooperación internacional, para crear a todos los niveles, particularmente en los países en desarrollo, la capacidad de prevenir la violencia y combatir el terrorismo y la delincuencia"},null,null,null,null,null,null,null,null,3]
[1294,20,"Sumapaz",4,"Hacer de Bogotá-región un modelo de movilidad, creatividad y productividad incluyente y sostenible",49,"Movilidad segura, sostenible y accesible",null,null,null,null,1294,"Intervenir 12800 metros cuadrados de elementos del sistema de espacio público peatonal con acciones de construcción y/o conservación. impactando en los caminos veredales.",1688,"Movilidad segura, sostenible y accesible","CONSTRUCCIÓN Y CONSERVACIÓN ","Suma",null,"Intervenir",12800,"Metros cuadrados","de elementos del sistema de espacio público peatonal con acciones de construcción y/o conservación. impactando en los caminos veredales.","Intervenir 12800 metros cuadrados de elementos del sistema de espacio público peatonal con acciones de construcción y/o conservación. impactando en los caminos veredales.",{"$f":"VLOOKUP(AG1296,'Anexo PMR'!$B$4:$G$87,6,0)","v":"2_Presupuestos Participativos 50%"},6,"Infraestructura","Construcción y/o conservación de elementos del sistema de espacio público peatonal.",95,"MOVILIDAD",31," Espacio público.",69,"Metros cuadrados construidos y/o conservados de elementos del sistema de espacio público peatonal.","ESPACIO PÚBLICO",null,null,null,0,0,12800,0,0,0,387000000,0,387000000,1,0,0,0,0,"Bajo","Bajo",3.8233550681683465E-2,0,0,null,null,null,0,"2021_1",0,0,0,0,0,0,0,0,0,0,0,0,0,"",null,null,null,0,0,0,0,0,null,0,0,0,0,null,null,0,0,0,"",null,null,null,null,null,{"$f":"VLOOKUP(AG1296,'Anexo ODS'!$G$3:$P$86,5,0)","v":3},{"$f":"VLOOKUP(AG1296,'Anexo ODS'!$G$3:$P$86,6,0)","v":"La Prosperidad"},{"$f":"VLOOKUP(AG1296,'Anexo ODS'!$G$3:$P$86,7,0)","v":11},{"$f":"VLOOKUP(AG1296,'Anexo ODS'!$G$3:$P$86,8,0)","v":"Ciudades y comunidades sostenibles"},{"$f":"VLOOKUP(AG1296,'Anexo ODS'!$G$3:$P$86,9,0)","v":"11.7"},{"$f":"VLOOKUP(AG1296,'Anexo ODS'!$G$3:$P$86,10,0)","v":" De aquí a 2030, proporcionar acceso universal a zonas verdes y espacios públicos seguros, inclusivos y accesibles, en particular para las mujeres y los niños, las personas de edad y las personas con discapacidad"},null,null,null,null,null,null,null,null,12800]
[1295,20,"Sumapaz",4,"Hacer de Bogotá-región un modelo de movilidad, creatividad y productividad incluyente y sostenible",49,"Movilidad segura, sostenible y accesible",null,null,null,null,1295,"Intervenir 2,7 Kilómetros-carril de malla vial rural con acciones de construcción y/o conservación",1688,"Movilidad segura, sostenible y accesible","INTERVENCIÓN MALLA VIAL RURAL","Suma",null,"Intervenir",2.7,"Kilómetros-carril","de malla vial rural con acciones de construcción y/o conservación","Intervenir 2,7 Kilómetros-carril de malla vial rural con acciones de construcción y/o conservación.",{"$f":"VLOOKUP(AG1297,'Anexo PMR'!$B$4:$G$87,6,0)","v":"2_Presupuestos Participativos 50%"},6,"Infraestructura","Diseño, construcción y conservación (mantenimiento y rehabilitación) de la malla vial local e intermedia urbana o rural.",95,"MOVILIDAD",32,"Vías locales.",72,"Kilómetros-carril construidos y/o conservados de malla vial rural","MALLA VIAL",null,null,null,1,0.5,0.5,0.7,1764000000,1764000000,1764000000,1766000000,7058000000,1,0,0,0,0,"Bajo","Bajo",0.69729302509385493,0,0,null,null,null,0,"2021_1",1,1,0,0,0,0,0,0,0,0,0,0,0,"No Aplica",null,null,null,1728864000,1728864000,0,0,0,149406603,0,0,0,149406603,2090000,2090000,0,0,0,"Contrato de prestación de servicios, no contribuye al avance de la meta.",null,null,null,null,null,{"$f":"VLOOKUP(AG1297,'Anexo ODS'!$G$3:$P$86,5,0)","v":3},{"$f":"VLOOKUP(AG1297,'Anexo ODS'!$G$3:$P$86,6,0)","v":"La Prosperidad"},{"$f":"VLOOKUP(AG1297,'Anexo ODS'!$G$3:$P$86,7,0)","v":9},{"$f":"VLOOKUP(AG1297,'Anexo ODS'!$G$3:$P$86,8,0)","v":"Industria, innovación e infraestructura"},{"$f":"VLOOKUP(AG1297,'Anexo ODS'!$G$3:$P$86,9,0)","v":"9.1"},{"$f":"VLOOKUP(AG1297,'Anexo ODS'!$G$3:$P$86,10,0)","v":"Desarrollar infraestructuras fiables, sostenibles, resilientes y de calidad, incluidas infraestructuras regionales y transfronterizas, para apoyar el desarrollo económico y el bienestar humano, haciendo especial hincapié en el acceso asequible y equitativo para todos"},null,null,null,null,null,null,null,null,2.7]
[1296,20,"Sumapaz",4,"Hacer de Bogotá-región un modelo de movilidad, creatividad y productividad incluyente y sostenible",49,"Movilidad segura, sostenible y accesible",null,null,null,null,1296,"Intervenir 450 metros cuadrados de Puentes vehiculares y/o peatonales de escala local sobre cuerpos de agua con acciones de construcción y/o conservación.",1688,"Movilidad segura, sostenible y accesible","INTERVENCIÓN PUENTES","Suma",null,"Intervenir",450,"Metros cuadrados","de Puentes vehiculares y/o peatonales de escala local sobre cuerpos de agua con acciones de construcción y/o conservación.","Intervenir 450 metros cuadrados de Puentes vehiculares y/o peatonales de escala local sobre cuerpos de agua con acciones de construcción y/o conservación.",{"$f":"VLOOKUP(AG1298,'Anexo PMR'!$B$4:$G$87,6,0)","v":"2_Presupuestos Participativos 50%"},6,"Infraestructura","Construcción y/o conservación de puentes peatonales y/o vehiculares sobre cuerpos de agua (de escala local: urbana y/o rural).",95,"MOVILIDAD",31," Espacio público.",70,"Metros cuadrados de Puentes vehiculares y/o peatonales de escala local sobre cuerpos de agua construidos y/o intervenidos","PUENTES",null,null,null,150,150,150,0,900000000,900000000,877000000,0,2677000000,1,0,0,0,0,"Bajo","Bajo",0.26447342422446157,0,0,null,null,null,0,"2021_1",150,150,0,0,0,0,0,0,0,0,0,0,0,"",null,null,null,882074000,882074000,0,0,0,null,0,0,0,0,null,null,0,0,0,"",null,null,null,null,null,{"$f":"VLOOKUP(AG1298,'Anexo ODS'!$G$3:$P$86,5,0)","v":3},{"$f":"VLOOKUP(AG1298,'Anexo ODS'!$G$3:$P$86,6,0)","v":"La Prosperidad"},{"$f":"VLOOKUP(AG1298,'Anexo ODS'!$G$3:$P$86,7,0)","v":9},{"$f":"VLOOKUP(AG1298,'Anexo ODS'!$G$3:$P$86,8,0)","v":"Industria, innovación e infraestructura"},{"$f":"VLOOKUP(AG1298,'Anexo ODS'!$G$3:$P$86,9,0)","v":"9.1"},{"$f":"VLOOKUP(AG1298,'Anexo ODS'!$G$3:$P$86,10,0)","v":"Desarrollar infraestructuras fiables, sostenibles, resilientes y de calidad, incluidas infraestructuras regionales y transfronterizas, para apoyar el desarrollo económico y el bienestar humano, haciendo especial hincapié en el acceso asequible y equitativo para todos"},null,null,null,null,null,null,null,null,450]
[1297,20,"Sumapaz",5,"Construir Bogotá-región con gobierno abierto, transparente y ciudadanía consciente.",54,"Transformación digital y gestión de TIC para un territorio inteligente",null,null,null,null,1297,"Operativizar 10 Centros de Acceso Comunitario en zonas rurales y/o apartadas. Garantizando acceso digital en la ruralidad",1692,"Conectividad y redes de comunicación","CONECTIVIDAD","Suma",null,"Operativizar",10,"Centros","de Acceso Comunitario en zonas rurales y/o apartadas. Garantizando acceso digital en la ruralidad","Operativizar 10 Centros de Acceso Comunitario en zonas rurales y/o apartadas. Garantizando acceso digital en la ruralidad",{"$f":"VLOOKUP(AG1299,'Anexo PMR'!$B$4:$G$87,6,0)","v":"2_Presupuestos Participativos 50%"},9,"Ruralidad","Conectividad y redes de comunicación.",85,"GESTIÓN PÚBLICA",34,"Servicios de Conectividad y redes de comunicación.",74,"Centros de Acceso Comunitario en zonas rurales y/o apartadas funcionando ","CONECTIVIDAD RURAL",null,null,null,6,1,1,2,700000000,1293000000,1544000000,2639000000,6176000000,1,5,0.5,5,0.5,"Medio","Medio",1,0.5,0.5,null,null,null,0,"2021_1",6,6,0,0,0,5,0,0,0,5,0,0,0,"Incompleto",null,null,null,686057000,686057000,0,0,0,57000000,0,0,0,57000000,1710000,1710000,0,0,0,"Contrato de prestación de servicios, no contribuye al avance de la meta",null,null,null,null,null,{"$f":"VLOOKUP(AG1299,'Anexo ODS'!$G$3:$P$86,5,0)","v":3},{"$f":"VLOOKUP(AG1299,'Anexo ODS'!$G$3:$P$86,6,0)","v":"La Prosperidad"},{"$f":"VLOOKUP(AG1299,'Anexo ODS'!$G$3:$P$86,7,0)","v":9},{"$f":"VLOOKUP(AG1299,'Anexo ODS'!$G$3:$P$86,8,0)","v":"Industria, innovación e infraestructura"},{"$f":"VLOOKUP(AG1299,'Anexo ODS'!$G$3:$P$86,9,0)","v":"9.c"},{"$f":"VLOOKUP(AG1299,'Anexo ODS'!$G$3:$P$86,10,0)","v":"Aumentar significativamente el acceso a la tecnología de la información y las comunicaciones y esforzarse por proporcionar acceso universal y asequible a Internet en los países menos adelantados de aquí a 2020"},null,null,null,null,null,null,null,null,10]
[1298,20,"Sumapaz",5,"Construir Bogotá-región con gobierno abierto, transparente y ciudadanía consciente.",55,"Fortalecimiento de Cultura Ciudadana y su institucionalidad",null,null,null,null,1298,"Capacitar 500 personas a través de procesos de formación para la participación de manera virtual y presencial.",1691,"Fortalecimiento de cultura ciudadana y su institucionalidad","FORMACIÓN","Suma",null,"Capacitar",500,"Personas","a través de procesos de formación para la participación de manera virtual y presencial.","Capacitar 500 personas a través de procesos de formación para la participación de manera virtual y presencial.",{"$f":"VLOOKUP(AG1300,'Anexo PMR'!$B$4:$G$87,6,0)","v":"2_Presupuestos Participativos 50%"},7,"Desarrollo social y cultural","Escuelas y procesos de formación para la participación ciudadana y/u organizaciones para los procesos de presupuestos participativos.",98,"GOBIERNO",35,"Espacios y procesos de participación ciudadana fortalecidos. ",78,"Número de Personas capacitadas a través de procesos de formación para la participación de manera virtual y presencial.","FORMACIÓN CIUDADANA",null,null,null,125,125,125,125,316000000,315000000,315000000,317000000,1263000000,1,0,0,0,0,"Bajo","Bajo",0.18235633843488305,0,0,null,null,null,0,"2021_1",125,125,0,0,0,0,0,0,0,0,0,0,0,"",null,null,null,309706000,309706000,0,0,0,null,0,0,0,0,null,null,0,0,0,"",null,null,null,null,null,{"$f":"VLOOKUP(AG1300,'Anexo ODS'!$G$3:$P$86,5,0)","v":2},{"$f":"VLOOKUP(AG1300,'Anexo ODS'!$G$3:$P$86,6,0)","v":"La Paz"},{"$f":"VLOOKUP(AG1300,'Anexo ODS'!$G$3:$P$86,7,0)","v":16},{"$f":"VLOOKUP(AG1300,'Anexo ODS'!$G$3:$P$86,8,0)","v":"Paz, justicia e instituciones sólidas"},{"$f":"VLOOKUP(AG1300,'Anexo ODS'!$G$3:$P$86,9,0)","v":"16.7"},{"$f":"VLOOKUP(AG1300,'Anexo ODS'!$G$3:$P$86,10,0)","v":"Garantizar la adopción en todos los niveles de decisiones inclusivas, participativas y representativas que respondan a las necesidades"},null,null,null,null,null,null,null,null,500]
[1299,20,"Sumapaz",5,"Construir Bogotá-región con gobierno abierto, transparente y ciudadanía consciente.",55,"Fortalecimiento de Cultura Ciudadana y su institucionalidad",null,null,null,null,1299,"Construir 3 sedes de salones comunales. Con un diagnóstico de saneamiento predial y condiciones físicas para su construcción.",1691,"Fortalecimiento de cultura ciudadana y su institucionalidad","CONSTRUCCIÓN","Suma",null,"Construir",3,"Sedes","de salones comunales. Con un diagnóstico de saneamiento predial y condiciones físicas para su construcción.","Construir 3 sedes de salones comunales. Con un diagnóstico de saneamiento predial y condiciones físicas para su construcción.",{"$f":"VLOOKUP(AG1301,'Anexo PMR'!$B$4:$G$87,6,0)","v":"2_Presupuestos Participativos 50%"},6,"Infraestructura","Intervención y dotación de salones comunales.",98,"GOBIERNO",35,"Espacios y procesos de participación ciudadana fortalecidos. ",77,"Sedes construidas de salones comunales","SALONES COMUNALES",null,null,null,1,0.5,0.5,1,583000000,490000000,774000000,749000000,2596000000,1,0,0,0,0,"Bajo","Bajo",0.37481952064683799,0,0,null,null,null,0,"2021_1",1,1,0,0,0,0,0,0,0,0,0,0,0,"",null,null,null,571388000,571388000,0,0,0,93102038,0,0,0,93102038,727500,727500,0,0,0,"",null,null,null,null,null,{"$f":"VLOOKUP(AG1301,'Anexo ODS'!$G$3:$P$86,5,0)","v":3},{"$f":"VLOOKUP(AG1301,'Anexo ODS'!$G$3:$P$86,6,0)","v":"La Prosperidad"},{"$f":"VLOOKUP(AG1301,'Anexo ODS'!$G$3:$P$86,7,0)","v":11},{"$f":"VLOOKUP(AG1301,'Anexo ODS'!$G$3:$P$86,8,0)","v":"Ciudades y comunidades sostenibles"},{"$f":"VLOOKUP(AG1301,'Anexo ODS'!$G$3:$P$86,9,0)","v":"11.3"},{"$f":"VLOOKUP(AG1301,'Anexo ODS'!$G$3:$P$86,10,0)","v":"De aquí a 2030, aumentar la urbanización inclusiva y sostenible y la capacidad para la planificación y la gestión participativas, integradas y sostenibles de los asentamientos humanos en todos los países"},null,null,null,null,null,null,null,null,3]
[1300,20,"Sumapaz",5,"Construir Bogotá-región con gobierno abierto, transparente y ciudadanía consciente.",55,"Fortalecimiento de Cultura Ciudadana y su institucionalidad",null,null,null,null,1300,"Dotar 21 sedes de salones comunales.",1691,"Fortalecimiento de cultura ciudadana y su institucionalidad","DOTACIÓN","Suma",null,"Dotar",21,"Sedes","de salones comunales.","Dotar 21 sedes de salones comunales",{"$f":"VLOOKUP(AG1302,'Anexo PMR'!$B$4:$G$87,6,0)","v":"2_Presupuestos Participativos 50%"},6,"Infraestructura","Intervención y dotación de salones comunales.",98,"GOBIERNO",35,"Espacios y procesos de participación ciudadana fortalecidos. ",76,"Sedes dotadas de salones comunales.","SALONES COMUNALES",null,null,null,5,5,5,6,96000000,94000000,94000000,94000000,378000000,1,0,0,0,0,"Bajo","Bajo",5.4576956396188279E-2,0,0,null,null,null,0,"2021_1",5,5,0,0,0,0,0,0,0,0,0,0,0,"",null,null,null,94088000,94088000,0,0,0,null,0,0,0,0,null,null,0,0,0,"",null,null,null,null,null,{"$f":"VLOOKUP(AG1302,'Anexo ODS'!$G$3:$P$86,5,0)","v":3},{"$f":"VLOOKUP(AG1302,'Anexo ODS'!$G$3:$P$86,6,0)","v":"La Prosperidad"},{"$f":"VLOOKUP(AG1302,'Anexo ODS'!$G$3:$P$86,7,0)","v":11},{"$f":"VLOOKUP(AG1302,'Anexo ODS'!$G$3:$P$86,8,0)","v":"Ciudades y comunidades sostenibles"},{"$f":"VLOOKUP(AG1302,'Anexo ODS'!$G$3:$P$86,9,0)","v":"11.3"},{"$f":"VLOOKUP(AG1302,'Anexo ODS'!$G$3:$P$86,10,0)","v":"De aquí a 2030, aumentar la urbanización inclusiva y sostenible y la capacidad para la planificación y la gestión participativas, integradas y sostenibles de los asentamientos humanos en todos los países"},null,null,null,null,null,null,null,null,21]
[1301,20,"Sumapaz",5,"Construir Bogotá-región con gobierno abierto, transparente y ciudadanía consciente.",55,"Fortalecimiento de Cultura Ciudadana y su institucionalidad",null,null,null,null,1301,"Fortalecer 50 Organizaciones, JAC e Instancias de participación ciudadana.",1691,"Fortalecimiento de cultura ciudadana y su institucionalidad","FORTALECIMIENTO ORGANIZATIVO","Suma",null,"Fortalecer",50,"Organizaciones",", JAC e Instancias de participación ciudadana.","Fortalecer 50 Organizaciones, JAC e Instancias de participación ciudadana.",{"$f":"VLOOKUP(AG1303,'Anexo PMR'!$B$4:$G$87,6,0)","v":"2_Presupuestos Participativos 50%"},7,"Desarrollo social y cultural","Fortalecimiento de organizaciones sociales, comunitarias, comunales, propiedad horizontal e instancias y mecanismos de participación, con énfasis en jóvenes y asociatividad productiva.",98,"GOBIERNO",35,"Espacios y procesos de participación ciudadana fortalecidos. ",79,"Número de Organizaciones, JAC e Instancias de participación ciudadana fortalecidas.","FORTALECIMIENTO ORGANIZATIVO",null,null,null,11,12,13,14,489000000,532000000,581000000,625000000,2227000000,1,0,0,0,0,"Bajo","Bajo",0.32154201559341611,0,0,null,null,null,0,"2021_1",11,11,0,0,0,0,0,0,0,0,0,0,0,"",null,null,null,479260000,479260000,0,0,0,81014192,0,0,0,81014192,1520000,1520000,0,0,0,"",null,null,null,null,null,{"$f":"VLOOKUP(AG1303,'Anexo ODS'!$G$3:$P$86,5,0)","v":2},{"$f":"VLOOKUP(AG1303,'Anexo ODS'!$G$3:$P$86,6,0)","v":"La Paz"},{"$f":"VLOOKUP(AG1303,'Anexo ODS'!$G$3:$P$86,7,0)","v":16},{"$f":"VLOOKUP(AG1303,'Anexo ODS'!$G$3:$P$86,8,0)","v":"Paz, justicia e instituciones sólidas"},{"$f":"VLOOKUP(AG1303,'Anexo ODS'!$G$3:$P$86,9,0)","v":"16.7"},{"$f":"VLOOKUP(AG1303,'Anexo ODS'!$G$3:$P$86,10,0)","v":"Garantizar la adopción en todos los niveles de decisiones inclusivas, participativas y representativas que respondan a las necesidades"},null,null,null,null,null,null,null,null,50]
[1302,20,"Sumapaz",5,"Construir Bogotá-región con gobierno abierto, transparente y ciudadanía consciente.",55,"Fortalecimiento de Cultura Ciudadana y su institucionalidad",null,null,null,null,1302,"Intervenir 7 sedes de salones comunales.",1691,"Fortalecimiento de cultura ciudadana y su institucionalidad","INTERVENCIÓN","Suma",null,"Intervenir",7,"Sedes","de salones comunales.","Intervenir 7 sedes de salones comunales",{"$f":"VLOOKUP(AG1304,'Anexo PMR'!$B$4:$G$87,6,0)","v":"2_Presupuestos Participativos 50%"},6,"Infraestructura","Intervención y dotación de salones comunales.",98,"GOBIERNO",35,"Espacios y procesos de participación ciudadana fortalecidos. ",75,"Sedes intervenidas de salones comunales.","SALONES COMUNALES",null,null,null,2,2,2,1,117000000,115000000,115000000,115000000,462000000,1,0,0,0,0,"Bajo","Bajo",6.6705168928674563E-2,0,0,null,null,null,0,"2021_1",2,2,0,0,0,0,0,0,0,0,0,0,0,"",null,null,null,114670000,114670000,0,0,0,null,0,0,0,0,null,null,0,0,0,"",null,null,null,null,null,{"$f":"VLOOKUP(AG1304,'Anexo ODS'!$G$3:$P$86,5,0)","v":3},{"$f":"VLOOKUP(AG1304,'Anexo ODS'!$G$3:$P$86,6,0)","v":"La Prosperidad"},{"$f":"VLOOKUP(AG1304,'Anexo ODS'!$G$3:$P$86,7,0)","v":11},{"$f":"VLOOKUP(AG1304,'Anexo ODS'!$G$3:$P$86,8,0)","v":"Ciudades y comunidades sostenibles"},{"$f":"VLOOKUP(AG1304,'Anexo ODS'!$G$3:$P$86,9,0)","v":"11.3"},{"$f":"VLOOKUP(AG1304,'Anexo ODS'!$G$3:$P$86,10,0)","v":"De aquí a 2030, aumentar la urbanización inclusiva y sostenible y la capacidad para la planificación y la gestión participativas, integradas y sostenibles de los asentamientos humanos en todos los países"},null,null,null,null,null,null,null,null,7]
[1303,20,"Sumapaz",5,"Construir Bogotá-región con gobierno abierto, transparente y ciudadanía consciente.",56,"Gestión pública efectiva",null,null,null,null,1303,"Construir 1 sedes administrativas locales.",1693,"terminación de infraestructuras (sedes administrativas locales)","SEDE ADMINISTRATIVA","Constante",null,"Construir",1,"Sedes","administrativas locales.","Construir 1 sedes administrativas locales.",{"$f":"VLOOKUP(AG1305,'Anexo PMR'!$B$4:$G$87,6,0)","v":"1_Inflexible 45%"},1,"Gestión pública local","Terminación de infraestructuras (sedes administrativas locales).",98,"GOBIERNO",36,"Infraestructura para la atención de servicio al ciudadano.",81,"Sedes administrativas locales construidas.","FORTALECIMIENTO ORGANIZATIVO",null,null,null,1,1,1,1,812000000,863000000,897000000,817000000,3389000000,1,0,0,0,0,"Bajo","Bajo",1,0,0,null,null,null,0,"2021_1",1,1,0,0,0,0,0,0,0,0,0,0,0,"No Aplica",null,null,null,795826000,795826000,0,0,0,52000000,0,0,0,52000000,0,0,0,0,0,"Contrato de prestación de servicios, no contribuye al avance de la meta",null,null,null,null,null,{"$f":"VLOOKUP(AG1305,'Anexo ODS'!$G$3:$P$86,5,0)","v":3},{"$f":"VLOOKUP(AG1305,'Anexo ODS'!$G$3:$P$86,6,0)","v":"La Prosperidad"},{"$f":"VLOOKUP(AG1305,'Anexo ODS'!$G$3:$P$86,7,0)","v":9},{"$f":"VLOOKUP(AG1305,'Anexo ODS'!$G$3:$P$86,8,0)","v":"Industria, innovación e infraestructura"},{"$f":"VLOOKUP(AG1305,'Anexo ODS'!$G$3:$P$86,9,0)","v":"9.1"},{"$f":"VLOOKUP(AG1305,'Anexo ODS'!$G$3:$P$86,10,0)","v":"Desarrollar infraestructuras fiables, sostenibles, resilientes y de calidad, incluidas infraestructuras regionales y transfronterizas, para apoyar el desarrollo económico y el bienestar humano, haciendo especial hincapié en el acceso asequible y equitativo para todos"},null,null,null,null,null,null,null,null,1]
[1304,20,"Sumapaz",5,"Construir Bogotá-región con gobierno abierto, transparente y ciudadanía consciente.",56,"Gestión pública efectiva",null,null,null,null,1304,"Gestionar los recursos para la construcción y/o adecuación de las sedes de la alcaldía local en Sumapaz",1693,"terminación de infraestructuras (sedes administrativas locales)","SEDE ADMINISTRATIVA","Constante",null,"Gestionar",1,"Recursos","para la construcción y/o adecuación de las sedes de la alcaldía local en Sumapaz","Gestionar 1 recursos para la construcción y/o adecuación de las sedes de la alcaldía local en Sumapaz",{"$f":"VLOOKUP(AG1306,'Anexo PMR'!$B$4:$G$87,6,0)","v":"1_Inflexible 45%"},1,"Gestión pública local","Terminación de infraestructuras (sedes administrativas locales).",98,"GOBIERNO",36,"Infraestructura para la atención de servicio al ciudadano.",81,"Sedes administrativas locales construidas.","FORTALECIMIENTO ORGANIZATIVO",null,null,null,1,1,1,1,0,0,0,0,0,1,0,0,0,0,"Bajo","Bajo",0,0,0,null,null,null,0,"2021_1",1,1,0,0,0,0,0,0,0,0,0,0,0,"",null,null,null,0,0,0,0,0,null,0,0,0,0,null,null,0,0,0,"",null,null,null,null,null,{"$f":"VLOOKUP(AG1306,'Anexo ODS'!$G$3:$P$86,5,0)","v":3},{"$f":"VLOOKUP(AG1306,'Anexo ODS'!$G$3:$P$86,6,0)","v":"La Prosperidad"},{"$f":"VLOOKUP(AG1306,'Anexo ODS'!$G$3:$P$86,7,0)","v":9},{"$f":"VLOOKUP(AG1306,'Anexo ODS'!$G$3:$P$86,8,0)","v":"Industria, innovación e infraestructura"},{"$f":"VLOOKUP(AG1306,'Anexo ODS'!$G$3:$P$86,9,0)","v":"9.1"},{"$f":"VLOOKUP(AG1306,'Anexo ODS'!$G$3:$P$86,10,0)","v":"Desarrollar infraestructuras fiables, sostenibles, resilientes y de calidad, incluidas infraestructuras regionales y transfronterizas, para apoyar el desarrollo económico y el bienestar humano, haciendo especial hincapié en el acceso asequible y equitativo para todos"},null,null,null,null,null,null,null,null,1]
[1305,20,"Sumapaz",5,"Construir Bogotá-región con gobierno abierto, transparente y ciudadanía consciente.",57,"Gestión Pública Local",null,null,null,null,1305,"Realizar 1 rendición de cuentas anuales.",1696,"Gestión pública local","TRANSPARENCIA Y CONTROL SOCIAL","Constante",null,"Realizar",1,"Rendicion de cuenta","anuales.","Realizar 1 rendición de cuentas anuales.",{"$f":"VLOOKUP(AG1307,'Anexo PMR'!$B$4:$G$87,6,0)","v":"3_Flexible 5%"},10,"Participación\nCiudadana y\nconstrucción de\nconfianza.","Transparencia, control social y rendición de cuentas del Gobierno Local.",98,"GOBIERNO",35,"Espacios y procesos de participación ciudadana fortalecidos. ",83,"Número de Rendiciones de cuentas anuales.","TRANSPARENCIA Y CONTROL SOCIAL",null,null,null,1,1,1,1,34000000,41000000,48000000,53000000,176000000,1,0,0,0,0,"Bajo","Bajo",1.0647952084215621E-2,0,0,null,null,null,0,"2021_1",1,1,0,0,0,0,0,0,0,0,0,0,0,"",null,null,null,33323000,33323000,0,0,0,null,0,0,0,0,null,null,0,0,0,"",null,null,null,null,null,{"$f":"VLOOKUP(AG1307,'Anexo ODS'!$G$3:$P$86,5,0)","v":2},{"$f":"VLOOKUP(AG1307,'Anexo ODS'!$G$3:$P$86,6,0)","v":"La Paz"},{"$f":"VLOOKUP(AG1307,'Anexo ODS'!$G$3:$P$86,7,0)","v":16},{"$f":"VLOOKUP(AG1307,'Anexo ODS'!$G$3:$P$86,8,0)","v":"Paz, justicia e instituciones sólidas"},{"$f":"VLOOKUP(AG1307,'Anexo ODS'!$G$3:$P$86,9,0)","v":"16.6"},{"$f":"VLOOKUP(AG1307,'Anexo ODS'!$G$3:$P$86,10,0)","v":"Garantizar el acceso público a la información y proteger las libertades fundamentales, de conformidad con las leyes nacionales y los acuerdos internacionales"},null,null,null,null,null,null,null,null,1]
[1306,20,"Sumapaz",5,"Construir Bogotá-región con gobierno abierto, transparente y ciudadanía consciente.",57,"Gestión Pública Local",null,null,null,null,1306,"Realizar 20 acciones de inspección, vigilancia y control",1696,"Gestión pública local","IVC","Suma",null,"Realizar",20,"Acciones","de inspección, vigilancia y control","Realizar 20 acciones de inspección, vigilancia y control",{"$f":"VLOOKUP(AG1308,'Anexo PMR'!$B$4:$G$87,6,0)","v":"1_Inflexible 45%"},2,"Inspección, vigilancia y control","Inspección, vigilancia y control.",98,"GOBIERNO",38,"Inspección, vigilancia y control (IVC).",84,"Acciones de inspección, vigilancia y control realizadas","IVC",null,null,null,5,5,5,5,0,0,0,0,0,1,0,0,0,0,"Bajo","Bajo",0,0,0,null,null,null,0,"2021_1",5,5,0,0,0,0,0,0,0,0,0,0,0,"",null,null,null,0,0,0,0,0,null,0,0,0,0,null,null,0,0,0,"",null,null,null,null,null,{"$f":"VLOOKUP(AG1308,'Anexo ODS'!$G$3:$P$86,5,0)","v":2},{"$f":"VLOOKUP(AG1308,'Anexo ODS'!$G$3:$P$86,6,0)","v":"La Paz"},{"$f":"VLOOKUP(AG1308,'Anexo ODS'!$G$3:$P$86,7,0)","v":16},{"$f":"VLOOKUP(AG1308,'Anexo ODS'!$G$3:$P$86,8,0)","v":"Paz, justicia e instituciones sólidas"},{"$f":"VLOOKUP(AG1308,'Anexo ODS'!$G$3:$P$86,9,0)","v":"16.6"},{"$f":"VLOOKUP(AG1308,'Anexo ODS'!$G$3:$P$86,10,0)","v":"Garantizar el acceso público a la información y proteger las libertades fundamentales, de conformidad con las leyes nacionales y los acuerdos internacionales"},null,null,null,null,null,null,null,null,20]
[1307,20,"Sumapaz",5,"Construir Bogotá-región con gobierno abierto, transparente y ciudadanía consciente.",57,"Gestión Pública Local",null,null,null,null,1307,"Realizar 4 estrategias de fortalecimiento institucional.",1696,"Gestión pública local","FORTALECIMIENTO LOCAL","Suma",null,"Realizar",4,"Estrategias","de fortalecimiento institucional.","Realizar 4 estrategias de fortalecimiento institucional.\nDiferente en EBI",{"$f":"VLOOKUP(AG1309,'Anexo PMR'!$B$4:$G$87,6,0)","v":"1_Inflexible 45%"},1,"Gestión pública local","Fortalecimiento institucional.",98,"GOBIERNO",37,"Fortalecimiento institucional.",82,"Estrategias de fortalecimiento institucional realizadas","FORTALECIMIENTO LOCAL",null,null,null,1,1,1,1,3921000000,4034000000,4142000000,4256000000,16353000000,1,1,0.25,1,0.25,"Bajo","Bajo",0.98935204791578435,0.24733801197894609,0.24733801197894609,null,null,null,0,"2021_1",1,1,0,0,0,1,0,0,0,1,0,0,0,"Incompleto",null,null,null,3842901000,3842901000,0,0,0,3397280000,0,0,0,3397280000,89133498,89133498,0,0,0,"",null,null,null,null,null,{"$f":"VLOOKUP(AG1309,'Anexo ODS'!$G$3:$P$86,5,0)","v":2},{"$f":"VLOOKUP(AG1309,'Anexo ODS'!$G$3:$P$86,6,0)","v":"La Paz"},{"$f":"VLOOKUP(AG1309,'Anexo ODS'!$G$3:$P$86,7,0)","v":16},{"$f":"VLOOKUP(AG1309,'Anexo ODS'!$G$3:$P$86,8,0)","v":"Paz, justicia e instituciones sólidas"},{"$f":"VLOOKUP(AG1309,'Anexo ODS'!$G$3:$P$86,9,0)","v":"16.6"},{"$f":"VLOOKUP(AG1309,'Anexo ODS'!$G$3:$P$86,10,0)","v":"Garantizar el acceso público a la información y proteger las libertades fundamentales, de conformidad con las leyes nacionales y los acuerdos internacionales"},null,null,null,null,null,null,null,null,4]

{"sheet":"Pond Programa","index":6,"n_rows":609,"n_cols":40,"rows_kept":609,"cut":false,"hidden":true,"merged":[]}
["Año_corte","(Todas)"]
[null,null,null,null,null,null,null,null,null,null,null,null,null,null,null,null,null,null,null,null,null,null,null,null,null,null,null,null,null,null,null,null,null,null,null,null,null,null,"COMPARATIVO BMT"]
["No. Localidad","Nombre Localidad ","Código Eje/Pilar","Código Programa","Avance frente al programa Contratado","Avance frente al programa Entregado","Suma de CRITERIO 1",null,null,"No. Localidad","Nombre Localidad ","Código Propósito","Código Programa","Ponderador Local programa","Avance frente al programa Contratado","Avance frente al programa Entregado","Avance Ponderado  Programa contratado","Avance Ponderado  Programa entregado",null,"a","b",null,"No. Localidad","Nombre Localidad ","Código Propósito","Ponderador Local propósito","Avance Ponderado por propósito Contratado","Avance Ponderado por propósito Entregado","Avance propósito Contratado","Avance  propósito Entregado",null,null,"No. Localidad","Nombre Localidad ","AVANCE PLAN CONTRATADO","AVANCE PLAN ENTREGADO",null,null,"AVANCE PLAN CONTRATADO","AVANCE PLAN ENTREGADO"]
[1,"Usaquén",1,1,6.2499979908582443E-2,6.2499979908582443E-2,1,null,null,1,"Usaquén",1,1,7.9876320535944345E-2,{"$f":"E4","v":6.2499979908582443E-2},{"$f":"F4","v":6.2499979908582443E-2},{"$f":"N4*O4","v":4.9922684286680128E-3},{"$f":"N4*P4","v":4.9922684286680128E-3},null,1,{"$f":"M4-T4","v":0},null,1,"Usaquén",1,0.5,{"$f":"SUMIF($L$4:$L$26,Y4,$Q$4:$Q$26)","v":5.8595186362399168E-3},{"$f":"SUMIF($L$4:$L$26,Y4,$R$4:$R$26)","v":4.9922684286680128E-3},{"$f":"Z4*AA4","v":2.9297593181199584E-3},{"$f":"Z4*AB4","v":2.4961342143340064E-3},null,null,1,"Usaquén",{"$f":"SUMIF($X$4:$X$103,AH4,$AC$4:$AC$103)","v":2.1326784149384624E-2},{"$f":"SUMIF($X$4:$X$103,AH4,$AD$4:$AD$103)","v":1.9678254313083995E-2},null,null,2.7560787891459004E-2,2.7560787891459004E-2]
[1,"Usaquén",1,6,3.4698949026665568E-3,0,1,null,null,1,"Usaquén",1,6,0.24993558361247098,3.4698949026665568E-3,0,{"$f":"N5*O5","v":8.6725020757190407E-4},{"$f":"N5*P5","v":0},null,6,{"$f":"M5-T5","v":0},null,1,"Usaquén",2,0.1,{"$f":"SUMIF($L$4:$L$26,Y5,$Q$4:$Q$26)","v":0},{"$f":"SUMIF($L$4:$L$26,Y5,$R$4:$R$26)","v":0},{"$f":"Z5*AA5","v":0},{"$f":"Z5*AB5","v":0},null,null,2,"Chapinero",{"$f":"SUMIF($X$4:$X$103,AH5,$AC$4:$AC$103)","v":2.0388167247422494E-2},{"$f":"SUMIF($X$4:$X$103,AH5,$AD$4:$AD$103)","v":5.9035573961529753E-3},null,null,4.9265066589145881E-2,4.9265066589145881E-2]
[1,"Usaquén",1,12,0,0,1,null,null,1,"Usaquén",1,12,4.5349136820407115E-2,0,0,0,0,null,12,0,null,1,"Usaquén",3,7.0000000000000007E-2,2.2426788582725812E-2,2.2426788582725812E-2,1.569875200790807E-3,1.569875200790807E-3,null,null,3,"Santa Fe",1.3010319952531952E-2,1.0569232331549015E-2,null,null,7.466326587707782E-2,6.699080191939405E-2]
[1,"Usaquén",1,14,0,0,1,null,null,1,"Usaquén",1,14,4.1484153568667866E-2,0,0,0,0,null,14,0,null,1,"Usaquén",4,0.24,0,0,0,0,null,null,4,"San Cristóbal",2.6932044255524812E-2,2.5115880903045396E-2,null,null,3.4242568057004499E-2,3.0791637013225091E-2]
[1,"Usaquén",1,17,0,0,1,null,null,1,"Usaquén",1,17,0.11620716310229323,0,0,0,0,null,17,0,null,1,"Usaquén",5,0.09,0.1869683292274873,0.17346938775510204,1.6827149630473857E-2,1.5612244897959184E-2,null,null,5,"Usme",1.3947045321895338E-2,4.9071037575233109E-3,null,null,5.7344661208704094E-2,5.3239127578278075E-2]
[1,"Usaquén",1,20,0,0,1,null,null,1,"Usaquén",1,20,0.13656274156145323,0,0,0,0,null,20,0,null,2,"Chapinero",1,0.5,{"$f":"SUMIF($L$27:$L$53,Y9,$Q$27:$Q$53)","v":1.7754394718532591E-2},{"$f":"SUMIF($L$27:$L$53,Y9,$R$27:$R$53)","v":4.5794329423245721E-3},8.8771973592662954E-3,2.2897164711622861E-3,null,null,6,"Tunjuelito",1.2372750485782898E-2,8.6471686397463412E-3,null,null,7.0209157184268595E-2,7.0209157184268595E-2]
[1,"Usaquén",1,21,0,0,1,null,null,1,"Usaquén",1,21,0.17418191187838183,0,0,0,0,null,21,0,null,2,"Chapinero",2,0.1,{"$f":"SUMIF($L$27:$L$53,Y10,$Q$27:$Q$53)","v":0},{"$f":"SUMIF($L$27:$L$53,Y10,$R$27:$R$53)","v":0},0,0,null,null,7,"Bosa",2.6764329756368145E-2,2.2897252196002388E-2,null,null,4.0034792672265514E-2,4.0034792672265514E-2]
[1,"Usaquén",1,24,0,0,1,null,null,1,"Usaquén",1,24,0.15640298892038135,0,0,0,0,null,24,0,null,2,"Chapinero",3,7.0000000000000007E-2,9.7339649595040392E-2,0,6.8137754716528281E-3,0,null,null,8,"Kennedy",5.5513989700922148E-3,5.5513989700922148E-3,null,null,2.5993493874620337E-2,2.5993493874620337E-2]
[1,"Usaquén",2,27,0,0,1,null,null,1,"Usaquén",2,27,0.15094339622641509,0,0,0,0,null,27,0,null,2,"Chapinero",4,0.24,0,0,0,0,null,null,9,"Fontibón",1.8868877993063093E-2,7.239581537638819E-3,null,null,2.6573426027026611E-2,2.6573426027026611E-2]
[1,"Usaquén",2,28,0,0,1,null,null,1,"Usaquén",2,28,0.18867924528301888,0,0,0,0,null,28,0,null,2,"Chapinero",5,0.09,5.2191049072259681E-2,4.0153788055452104E-2,4.6971944165033709E-3,3.6138409249906892E-3,null,null,10,"Engativá",1.9607909954421136E-2,1.9607909954421136E-2,null,null,3.2049521481109997E-2,3.2049521481109997E-2]
[1,"Usaquén",2,30,0,0,1,null,null,1,"Usaquén",2,30,0.18867924528301888,0,0,0,0,null,30,0,null,3,"Santa Fe",1,0.5,{"$f":"SUMIF($L$54:$L$82,Y14,$Q$54:$Q$82)","v":1.7534687073844649E-2},{"$f":"SUMIF($L$54:$L$82,Y14,$R$54:$R$82)","v":1.2652511831878776E-2},8.7673435369223247E-3,6.3262559159393879E-3,null,null,11,"Suba",2.0038818245643901E-2,1.4797209093252793E-2,null,null,3.2088903776930161E-2,3.1571232117640159E-2]
[1,"Usaquén",2,33,0,0,1,null,null,1,"Usaquén",2,33,0.18867924528301888,0,0,0,0,null,33,0,null,3,"Santa Fe",2,0.1,{"$f":"SUMIF($L$54:$L$82,Y15,$Q$54:$Q$82)","v":0},{"$f":"SUMIF($L$54:$L$82,Y15,$R$54:$R$82)","v":0},0,0,null,null,12,"Barrios Unidos",3.4584534736978867E-2,2.4246626862419105E-2,null,null,3.1296410891089102E-2,3.1296410891089102E-2]
[1,"Usaquén",2,34,0,0,1,null,null,1,"Usaquén",2,34,9.4339622641509441E-2,0,0,0,0,null,34,0,null,3,"Santa Fe",3,7.0000000000000007E-2,4.4853577165451623E-2,4.4853577165451623E-2,3.1397504015816141E-3,3.1397504015816141E-3,null,null,13,"Teusaquillo",2.5491993320194063E-2,2.139781486353183E-2,null,null,3.1400283919185354E-2,3.1400283919185354E-2]
[1,"Usaquén",2,38,0,0,1,null,null,1,"Usaquén",2,38,0.18867924528301888,0,0,0,0,null,38,0,null,3,"Santa Fe",4,0.24,0,0,0,0,null,null,14,"Los Mártires",3.2264311590247195E-2,2.4103997609517522E-2,null,null,5.3249957045450436E-2,5.3249957045450436E-2]
[1,"Usaquén",3,39,0,0,1,null,null,1,"Usaquén",3,39,0.12220437415050044,0,0,0,0,null,39,0,null,3,"Santa Fe",5,0.09,1.225806682253348E-2,1.225806682253348E-2,1.1032260140280132E-3,1.1032260140280132E-3,null,null,15,"Antonio Nariño",2.9888362059010153E-2,2.0197168912999979E-2,null,null,5.7499999999670058E-2,4.7499999999727441E-2]
[1,"Usaquén",3,40,0,0,1,null,null,1,"Usaquén",3,40,0.10156925738292352,0,0,0,0,null,40,0,null,4,"San Cristóbal",1,0.5,{"$f":"SUMIF($L$83:$L$106,Y19,$Q$83:$Q$106)","v":1.9720101781170483E-2},{"$f":"SUMIF($L$83:$L$106,Y19,$R$83:$R$106)","v":1.6087775076211647E-2},9.8600508905852414E-3,8.0438875381058234E-3,null,null,16,"Puente Aranda",3.9533598745821727E-2,1.8777291905656145E-2,null,null,4.3737233994715047E-2,4.3737233994715047E-2]
[1,"Usaquén",3,43,0.25,0.25,1,null,null,1,"Usaquén",3,43,8.9707154330903247E-2,0.25,0.25,2.2426788582725812E-2,2.2426788582725812E-2,null,43,0,null,4,"San Cristóbal",2,0.1,{"$f":"SUMIF($L$83:$L$106,Y20,$Q$83:$Q$106)","v":0},{"$f":"SUMIF($L$83:$L$106,Y20,$R$83:$R$106)","v":0},0,0,null,null,17,"La Candelaria",1.5369041494294031E-2,8.1550351884930334E-3,null,null,0.10056110548048362,0.10056110548048362]
[1,"Usaquén",3,45,0,0,1,null,null,1,"Usaquén",3,45,5.5109353762510811E-2,0,0,0,0,null,45,0,null,4,"San Cristóbal",3,7.0000000000000007E-2,2.1871199466032012E-2,2.1871199466032012E-2,1.5309839626222411E-3,1.5309839626222411E-3,null,null,18,"Rafael Uribe Uribe",2.6477143054269632E-2,2.6477143054269632E-2,null,null,7.256376209618022E-2,7.256376209618022E-2]
[1,"Usaquén",3,48,0,0,1,null,null,1,"Usaquén",3,48,0.63140986037316194,0,0,0,0,null,48,0,null,4,"San Cristóbal",4,0.24,0,0,0,0,null,null,19,"Ciudad Bolívar",3.428033022045205E-2,2.9805624912617321E-2,null,null,2.8138098619988582E-2,2.8138098619988582E-2]
[1,"Usaquén",4,49,0,0,1,null,null,1,"Usaquén",4,49,1,0,0,0,0,null,49,0,null,4,"San Cristóbal",5,0.09,0.17267788224797034,0.17267788224797034,1.554100940231733E-2,1.554100940231733E-2,null,null,20,"Sumapaz",4.189358624562013E-3,4.189358624562013E-3,null,null,1.6091170609881134E-2,1.5167370582605554E-2]
[1,"Usaquén",5,55,4.4096542143125209E-2,0,1,null,null,1,"Usaquén",5,55,0.30612244897959179,4.4096542143125209E-2,0,1.3498941472385265E-2,0,null,55,0,null,5,"Usme",1,0.5,{"$f":"SUMIF($L$107:$L$133,Y24,$Q$107:$Q$133)","v":1.3105200586640156E-2},{"$f":"SUMIF($L$107:$L$133,Y24,$R$107:$R$133)","v":9.8142075150466218E-3},6.5526002933200779E-3,4.9071037575233109E-3]
[1,"Usaquén",5,56,0,0,0,null,null,1,"Usaquén",5,56,0,0,0,0,0,null,56,0,null,5,"Usme",2,0.1,{"$f":"SUMIF($L$107:$L$133,Y25,$Q$107:$Q$133)","v":1.9863389428606822E-2},{"$f":"SUMIF($L$107:$L$133,Y25,$R$107:$R$133)","v":0},1.9863389428606821E-3,0]
[1,"Usaquén",5,57,0.25,0.25,1,null,null,1,"Usaquén",5,57,0.69387755102040816,0.25,0.25,0.17346938775510204,0.17346938775510204,null,57,0,null,5,"Usme",3,7.0000000000000007E-2,0,0,0,0]
[2,"Chapinero",1,1,0.24798880364918099,6.3964337549243216E-2,1,null,null,2,"Chapinero",1,1,7.1593533487297925E-2,0.24798880364918099,6.3964337549243216E-2,1.7754394718532591E-2,4.5794329423245721E-3,null,1,0,null,5,"Usme",4,0.24,0,0,0,0]
[2,"Chapinero",1,6,0,0,1,null,null,2,"Chapinero",1,6,0.22401847575057737,0,0,0,0,null,6,0,null,5,"Usme",5,0.09,6.0090067619050877E-2,0,5.4081060857145789E-3,0]
[2,"Chapinero",1,8,0,0,1,null,null,2,"Chapinero",1,8,1.1316397228637415E-2,0,0,0,0,null,8,0,null,6,"Tunjuelito",1,0.5,{"$f":"SUMIF($L$134:$L$157,Y29,$Q$134:$Q$157)","v":1.9985883646586614E-2},{"$f":"SUMIF($L$134:$L$157,Y29,$R$134:$R$157)","v":1.2534719954513497E-2},9.9929418232933068E-3,6.2673599772567487E-3]
[2,"Chapinero",1,12,0,0,1,null,null,2,"Chapinero",1,12,4.0646651270207862E-2,0,0,0,0,null,12,0,null,6,"Tunjuelito",2,0.1,{"$f":"SUMIF($L$134:$L$157,Y30,$Q$134:$Q$157)","v":0},{"$f":"SUMIF($L$134:$L$157,Y30,$R$134:$R$157)","v":0},0,0]
[2,"Chapinero",1,14,0,0,1,null,null,2,"Chapinero",1,14,3.7182448036951504E-2,0,0,0,0,null,14,0,null,6,"Tunjuelito",3,7.0000000000000007E-2,1.7191266509406545E-2,1.7191266509406545E-2,1.2033886556584582E-3,1.2033886556584582E-3]
[2,"Chapinero",1,17,0,0,1,null,null,2,"Chapinero",1,17,0.10415704387990764,0,0,0,0,null,17,0,null,6,"Tunjuelito",4,0.24,0,0,0,0]
[2,"Chapinero",1,19,0,0,1,null,null,2,"Chapinero",1,19,7.9214780600461915E-2,0,0,0,0,null,19,0,null,6,"Tunjuelito",5,0.09,1.3071333409234814E-2,1.3071333409234814E-2,1.1764200068311332E-3,1.1764200068311332E-3]
[2,"Chapinero",1,20,0,0,1,null,null,2,"Chapinero",1,20,0.12240184757505775,0,0,0,0,null,20,0,null,7,"Bosa",1,0.5,{"$f":"SUMIF($L$158:$L$180,Y34,$Q$158:$Q$180)","v":2.0565050773941031E-2},{"$f":"SUMIF($L$158:$L$180,Y34,$R$158:$R$180)","v":1.283089565320952E-2},1.0282525386970515E-2,6.4154478266047598E-3]
[2,"Chapinero",1,21,0,0,1,null,null,2,"Chapinero",1,21,0.15612009237875291,0,0,0,0,null,21,0,null,7,"Bosa",2,0.1,{"$f":"SUMIF($L$158:$L$180,Y35,$Q$158:$Q$180)","v":0},{"$f":"SUMIF($L$158:$L$180,Y35,$R$158:$R$180)","v":0},0,0]
[2,"Chapinero",1,23,0,0,1,null,null,2,"Chapinero",1,23,1.3163972286374134E-2,0,0,0,0,null,23,0,null,7,"Bosa",3,7.0000000000000007E-2,1.2079015748493111E-2,1.2079015748493111E-2,8.4553110239451784E-4,8.4553110239451784E-4]
[2,"Chapinero",1,24,0,0,1,null,null,2,"Chapinero",1,24,0.14018475750577369,0,0,0,0,null,24,0,null,7,"Bosa",4,0.24,0,0,0,0]
[2,"Chapinero",2,27,0,0,1,null,null,2,"Chapinero",2,27,0.12698412698412698,0,0,0,0,null,27,0,null,7,"Bosa",5,0.09,0.17373636963336789,0.17373636963336789,1.563627326700311E-2,1.563627326700311E-2]
[2,"Chapinero",2,28,0,0,1,null,null,2,"Chapinero",2,28,0.15873015873015875,0,0,0,0,null,28,0,null,8,"Kennedy",1,0.5,{"$f":"SUMIF($L$181:$L$203,Y39,$Q$181:$Q$203)","v":8.7307049169286152E-3},{"$f":"SUMIF($L$181:$L$203,Y39,$R$181:$R$203)","v":8.7307049169286152E-3},4.3653524584643076E-3,4.3653524584643076E-3]
[2,"Chapinero",2,30,0,0,1,null,null,2,"Chapinero",2,30,0.15873015873015875,0,0,0,0,null,30,0,null,8,"Kennedy",2,0.1,{"$f":"SUMIF($L$181:$L$203,Y40,$Q$181:$Q$203)","v":0},{"$f":"SUMIF($L$181:$L$203,Y40,$R$181:$R$203)","v":0},0,0]
[2,"Chapinero",2,33,0,0,1,null,null,2,"Chapinero",2,33,0.15873015873015875,0,0,0,0,null,33,0,null,8,"Kennedy",3,7.0000000000000007E-2,0,0,0,0]
[2,"Chapinero",2,34,0,0,1,null,null,2,"Chapinero",2,34,7.9365079365079375E-2,0,0,0,0,null,34,0,null,8,"Kennedy",4,0.24,0,0,0,0]
[2,"Chapinero",2,37,0,0,1,null,null,2,"Chapinero",2,37,0.15873015873015875,0,0,0,0,null,37,0,null,8,"Kennedy",5,0.09,1.3178294573643411E-2,1.3178294573643411E-2,1.186046511627907E-3,1.186046511627907E-3]
[2,"Chapinero",2,38,0,0,1,null,null,2,"Chapinero",2,38,0.15873015873015875,0,0,0,0,null,38,0,null,9,"Fontibón",1,0.5,{"$f":"SUMIF($L$204:$L$226,Y44,$Q$204:$Q$226)","v":6.7262987716614538E-3},{"$f":"SUMIF($L$204:$L$226,Y44,$R$204:$R$226)","v":6.7262987716614538E-3},3.3631493858307269E-3,3.3631493858307269E-3]
[2,"Chapinero",3,39,0,0,1,null,null,2,"Chapinero",3,39,0.12220437415050044,0,0,0,0,null,39,0,null,9,"Fontibón",2,0.1,{"$f":"SUMIF($L$204:$L$226,Y45,$Q$204:$Q$226)","v":0},{"$f":"SUMIF($L$204:$L$226,Y45,$R$204:$R$226)","v":0},0,0]
[2,"Chapinero",3,40,0,0,1,null,null,2,"Chapinero",3,40,0.10156925738292352,0,0,0,0,null,40,0,null,9,"Fontibón",3,7.0000000000000007E-2,0,0,0,0]
[2,"Chapinero",3,43,0,0,1,null,null,2,"Chapinero",3,43,8.9707154330903247E-2,0,0,0,0,null,43,0,null,9,"Fontibón",4,0.24,0,0,0,0]
[2,"Chapinero",3,45,0,0,1,null,null,2,"Chapinero",3,45,5.5109353762510811E-2,0,0,0,0,null,45,0,null,9,"Fontibón",5,0.09,0.17228587341369297,4.3071468353423244E-2,1.5505728607232367E-2,3.8764321518080917E-3]
[2,"Chapinero",3,48,0.15416238437821173,0,1,null,null,2,"Chapinero",3,48,0.63140986037316194,0.15416238437821173,0,9.7339649595040392E-2,0,null,48,0,null,10,"Engativá",1,0.5,{"$f":"SUMIF($L$227:$L$248,Y49,$Q$227:$Q$248)","v":7.991330112923906E-3},{"$f":"SUMIF($L$227:$L$248,Y49,$R$227:$R$248)","v":7.991330112923906E-3},3.995665056461953E-3,3.995665056461953E-3]
[2,"Chapinero",4,49,0,0,1.0000000000000002,null,null,2,"Chapinero",4,49,1,0,0,0,0,null,49,0,null,10,"Engativá",2,0.1,{"$f":"SUMIF($L$227:$L$248,Y50,$Q$227:$Q$248)","v":0},{"$f":"SUMIF($L$227:$L$248,Y50,$R$227:$R$248)","v":0},0,0]
[2,"Chapinero",5,54,0,0,1,null,null,2,"Chapinero",5,54,0.47872340425531912,0,0,0,0,null,54,0,null,10,"Engativá",3,7.0000000000000007E-2,0,0,0,0]
[2,"Chapinero",5,55,0,0,1,null,null,2,"Chapinero",5,55,0.15957446808510636,0,0,0,0,null,55,0,null,10,"Engativá",4,0.24,0,0,0,0]
[2,"Chapinero",5,57,0.14429290037624734,0.1110134140356617,1,null,null,2,"Chapinero",5,57,0.36170212765957449,0.14429290037624734,0.1110134140356617,5.2191049072259681E-2,4.0153788055452104E-2,null,57,0,null,10,"Engativá",5,0.09,0.17346938775510204,0.17346938775510204,1.5612244897959184E-2,1.5612244897959184E-2]
[3,"Santa Fe",1,1,0.30120067312329912,0.2173375016282402,1,null,null,3,"Santa Fe",1,1,5.8215962441314571E-2,0.30120067312329912,0.2173375016282402,1.7534687073844649E-2,1.2652511831878776E-2,null,1,0,null,11,"Suba",1,0.5,{"$f":"SUMIF($L$249:$L$275,Y54,$Q$249:$Q$275)","v":2.259757980663122E-2},{"$f":"SUMIF($L$249:$L$275,Y54,$R$249:$R$275)","v":1.2114361501849007E-2},1.129878990331561E-2,6.0571807509245037E-3]
[3,"Santa Fe",1,6,0,0,1,null,null,3,"Santa Fe",1,6,0.18215962441314557,0,0,0,0,null,6,0,null,11,"Suba",2,0.1,{"$f":"SUMIF($L$249:$L$275,Y55,$Q$249:$Q$275)","v":0},{"$f":"SUMIF($L$249:$L$275,Y55,$R$249:$R$275)","v":0},0,0]
[3,"Santa Fe",1,7,0,0,1,null,null,3,"Santa Fe",1,7,0.18685446009389675,0,0,0,0,null,7,0,null,11,"Suba",3,7.0000000000000007E-2,8.9672697962809942E-3,8.9672697962809942E-3,6.2770888573966969E-4,6.2770888573966969E-4]
[3,"Santa Fe",1,8,0,0,1,null,null,3,"Santa Fe",1,8,9.2018779342723026E-3,0,0,0,0,null,8,0,null,11,"Suba",4,0.24,0,0,0,0]
[3,"Santa Fe",1,12,0,0,1,null,null,3,"Santa Fe",1,12,3.3051643192488274E-2,0,0,0,0,null,12,0,null,11,"Suba",5,0.09,9.0136882850984687E-2,9.0136882850984687E-2,8.1123194565886209E-3,8.1123194565886209E-3]
[3,"Santa Fe",1,14,0,0,1,null,null,3,"Santa Fe",1,14,3.0234741784037567E-2,0,0,0,0,null,14,0,null,12,"Barrios Unidos",1,0.5,{"$f":"SUMIF($L$276:$L$299,Y59,$Q$276:$Q$299)","v":2.6256996343292385E-2},{"$f":"SUMIF($L$276:$L$299,Y59,$R$276:$R$299)","v":5.5811805941728583E-3},1.3128498171646193E-2,2.7905902970864292E-3]
[3,"Santa Fe",1,17,0,0,1,null,null,3,"Santa Fe",1,17,8.4694835680751202E-2,0,0,0,0,null,17,0,null,12,"Barrios Unidos",2,0.1,{"$f":"SUMIF($L$276:$L$299,Y60,$Q$276:$Q$299)","v":4.716981132075472E-2},{"$f":"SUMIF($L$276:$L$299,Y60,$R$276:$R$299)","v":4.716981132075472E-2},4.7169811320754724E-3,4.7169811320754724E-3]
[3,"Santa Fe",1,19,0,0,1,null,null,3,"Santa Fe",1,19,6.4413145539906125E-2,0,0,0,0,null,19,0,null,12,"Barrios Unidos",3,7.0000000000000007E-2,1.6772577054453838E-2,1.6772577054453838E-2,1.1740803938117687E-3,1.1740803938117687E-3]
[3,"Santa Fe",1,20,0,0,1,null,null,3,"Santa Fe",1,20,9.9530516431924912E-2,0,0,0,0,null,20,0,null,12,"Barrios Unidos",4,0.24,0,0,0,0]
[3,"Santa Fe",1,21,0,0,1,null,null,3,"Santa Fe",1,21,0.12694835680751176,0,0,0,0,null,21,0,null,12,"Barrios Unidos",5,0.09,0.17294416710494928,0.17294416710494928,1.5564975039445435E-2,1.5564975039445435E-2]
[3,"Santa Fe",1,23,0,0,1,null,null,3,"Santa Fe",1,23,1.0704225352112677E-2,0,0,0,0,null,23,0,null,13,"Teusaquillo",1,0.5,{"$f":"SUMIF($L$300:$L$321,Y64,$Q$300:$Q$321)","v":3.6582586701328925E-3},{"$f":"SUMIF($L$300:$L$321,Y64,$R$300:$R$321)","v":3.3509649418417293E-3},1.8291293350664462E-3,1.6754824709208646E-3]
[3,"Santa Fe",1,24,0,0,1,null,null,3,"Santa Fe",1,24,0.11399061032863854,0,0,0,0,null,24,0,null,13,"Teusaquillo",2,0.1,{"$f":"SUMIF($L$300:$L$321,Y65,$Q$300:$Q$321)","v":4.2792327161426599E-2},{"$f":"SUMIF($L$300:$L$321,Y65,$R$300:$R$321)","v":4.2792327161426599E-2},4.2792327161426599E-3,4.2792327161426599E-3]
[3,"Santa Fe",2,27,0,0,1,null,null,3,"Santa Fe",2,27,0.12698412698412698,0,0,0,0,null,27,0,null,13,"Teusaquillo",3,7.0000000000000007E-2,5.6293308464523593E-2,0,3.9405315925166518E-3,0]
[3,"Santa Fe",2,28,0,0,1,null,null,3,"Santa Fe",2,28,0.15873015873015875,0,0,0,0,null,28,0,null,13,"Teusaquillo",4,0.24,0,0,0,0]
[3,"Santa Fe",2,30,0,0,1,null,null,3,"Santa Fe",2,30,0.15873015873015875,{"$f":"E68","v":0},{"$f":"F68","v":0},0,0,null,30,0,null,13,"Teusaquillo",5,0.09,0.17158999640520339,0.17158999640520339,1.5443099676468305E-2,1.5443099676468305E-2]
[3,"Santa Fe",2,33,0,0,1,null,null,3,"Santa Fe",2,33,0.15873015873015875,0,0,{"$f":"N69*O69","v":0},{"$f":"N69*P69","v":0},null,33,{"$f":"M69-T69","v":0},null,14,"Los Mártires",1,0.5,{"$f":"SUMIF($L$322:$L$344,Y69,$Q$322:$Q$344)","v":3.0300486825185123E-2},{"$f":"SUMIF($L$322:$L$344,Y69,$R$322:$R$344)","v":1.3979858863725773E-2},{"$f":"Z69*AA69","v":1.5150243412592562E-2},{"$f":"Z69*AB69","v":6.9899294318628864E-3}]
[3,"Santa Fe",2,34,0,0,1,null,null,3,"Santa Fe",2,34,7.9365079365079375E-2,0,0,0,0,null,34,0,null,14,"Los Mártires",2,0.1,{"$f":"SUMIF($L$322:$L$344,Y70,$Q$322:$Q$344)","v":0},{"$f":"SUMIF($L$322:$L$344,Y70,$R$322:$R$344)","v":0},0,0]
[3,"Santa Fe",2,37,0,0,1,null,null,3,"Santa Fe",2,37,0.15873015873015875,0,0,0,0,null,37,0,null,14,"Los Mártires",3,7.0000000000000007E-2,2.2426788582725812E-2,2.2426788582725812E-2,1.569875200790807E-3,1.569875200790807E-3]
[3,"Santa Fe",2,38,0,0,1,null,null,3,"Santa Fe",2,38,0.15873015873015875,0,0,0,0,null,38,0,null,14,"Los Mártires",4,0.24,0,0,0,0]
[3,"Santa Fe",3,39,0,0,1,null,null,3,"Santa Fe",3,39,0.12220437415050044,0,0,0,0,null,39,0,null,14,"Los Mártires",5,0.09,0.172713255298487,0.172713255298487,1.5544192976863829E-2,1.5544192976863829E-2]
[3,"Santa Fe",3,40,0,0,1,null,null,3,"Santa Fe",3,40,0.10156925738292352,0,0,0,0,null,40,0,null,15,"Antonio Nariño",1,0.5,{"$f":"SUMIF($L$345:$L$366,Y74,$Q$345:$Q$366)","v":2.893121063195429E-2},{"$f":"SUMIF($L$345:$L$366,Y74,$R$345:$R$366)","v":9.5488243399339447E-3},1.4465605315977145E-2,4.7744121699669724E-3]
[3,"Santa Fe",3,43,0.5,0.5,1,null,null,3,"Santa Fe",3,43,8.9707154330903247E-2,0.5,0.5,4.4853577165451623E-2,4.4853577165451623E-2,null,43,0,null,15,"Antonio Nariño",2,0.1,{"$f":"SUMIF($L$345:$L$366,Y75,$Q$345:$Q$366)","v":0},{"$f":"SUMIF($L$345:$L$366,Y75,$R$345:$R$366)","v":0},0,0]
[3,"Santa Fe",3,45,0,0,1,null,null,3,"Santa Fe",3,45,5.5109353762510811E-2,0,0,0,0,null,45,0,null,15,"Antonio Nariño",3,7.0000000000000007E-2,0,0,0,0]
[3,"Santa Fe",3,48,0,0,1,null,null,3,"Santa Fe",3,48,0.63140986037316194,0,0,0,0,null,48,0,null,15,"Antonio Nariño",4,0.24,0,0,0,0]
[3,"Santa Fe",4,49,0,0,1,null,null,3,"Santa Fe",4,49,1,0,0,0,0,null,49,0,null,15,"Antonio Nariño",5,0.09,0.17136396381147787,{"$f":"SUMIF($L$345:$L$366,Y78,$R$345:$R$366)","v":0.17136396381147787},1.5422756743033008E-2,1.5422756743033008E-2]
[3,"Santa Fe",5,54,0,0,1,null,null,3,"Santa Fe",5,54,6.5217391304347824E-2,0,0,0,0,null,54,0,null,16,"Puente Aranda",1,0.5,{"$f":"SUMIF($L$367:$L$389,Y79,$Q$367:$Q$389)","v":4.669666680813768E-2},{"$f":"SUMIF($L$367:$L$389,Y79,$R$367:$R$389)","v":6.4126511110341056E-3},2.334833340406884E-2,3.2063255555170528E-3]
[3,"Santa Fe",5,55,0,0,1,null,null,3,"Santa Fe",5,55,2.1739130434782608E-2,0,0,0,0,null,55,0,null,16,"Puente Aranda",2,0.1,{"$f":"SUMIF($L$367:$L$389,Y80,$Q$367:$Q$389)","v":0},{"$f":"SUMIF($L$367:$L$389,Y80,$R$367:$R$389)","v":0},0,0]
[3,"Santa Fe",5,56,0,0,1,null,null,3,"Santa Fe",5,56,0.86376811594202907,0,0,0,0,null,56,0,null,16,"Puente Aranda",3,7.0000000000000007E-2,9.750777644663396E-3,9.750777644663396E-4,6.8255443512643774E-4,6.8255443512643782E-5]
[3,"Santa Fe",5,57,0.24876665022200295,0.24876665022200295,1,null,null,3,"Santa Fe",5,57,4.9275362318840589E-2,0.24876665022200295,0.24876665022200295,1.225806682253348E-2,1.225806682253348E-2,null,57,0,null,16,"Puente Aranda",4,0.24,0,0,0,0]
[4,"San Cristóbal",1,1,0.25,0.20395147112745732,1,null,null,4,"San Cristóbal",1,1,7.8880407124681931E-2,0.25,0.20395147112745732,1.9720101781170483E-2,1.6087775076211647E-2,null,1,0,null,16,"Puente Aranda",5,0.09,0.17225234340696055,0.17225234340696055,1.5502710906626449E-2,1.5502710906626449E-2]
[4,"San Cristóbal",1,6,0,0,0.99999999999999978,null,null,4,"San Cristóbal",1,6,0.24681933842239182,0,0,0,0,null,6,0,null,17,"La Candelaria",1,0.5,{"$f":"SUMIF($L$390:$L$412,Y84,$Q$390:$Q$412)","v":2.2092538315584071E-2},{"$f":"SUMIF($L$390:$L$412,Y84,$R$390:$R$412)","v":7.6645257039820742E-3},1.1046269157792036E-2,3.8322628519910371E-3]
[4,"San Cristóbal",1,8,0,0,1,null,null,4,"San Cristóbal",1,8,1.2468193384223917E-2,0,0,0,0,null,8,0,null,17,"La Candelaria",2,0.1,{"$f":"SUMIF($L$390:$L$412,Y85,$Q$390:$Q$412)","v":0},{"$f":"SUMIF($L$390:$L$412,Y85,$R$390:$R$412)","v":0},0,0]
[4,"San Cristóbal",1,12,0,0,1,null,null,4,"San Cristóbal",1,12,4.4783715012722644E-2,0,0,0,0,null,12,0,null,17,"La Candelaria",3,7.0000000000000007E-2,4.4853577165451623E-2,4.4853577165451623E-2,3.1397504015816141E-3,3.1397504015816141E-3]
[4,"San Cristóbal",1,14,0,0,1,null,null,4,"San Cristóbal",1,14,4.0966921119592874E-2,0,0,0,0,null,14,0,null,17,"La Candelaria",4,0.24,0,0,0,0]
[4,"San Cristóbal",1,17,0,0,0.99999999999999989,null,null,4,"San Cristóbal",1,17,0.11475826972010178,0,0,0,0,null,17,0,null,17,"La Candelaria",5,0.09,1.3144688165782027E-2,1.3144688165782027E-2,1.1830219349203825E-3,1.1830219349203825E-3]
[4,"San Cristóbal",1,20,0,0,1,null,null,4,"San Cristóbal",1,20,0.13486005089058523,0,0,0,0,null,20,0,null,18,"Rafael Uribe Uribe",1,0.5,{"$f":"SUMIF($L$413:$L$435,Y89,$Q$413:$Q$435)","v":1.9720101781170483E-2},{"$f":"SUMIF($L$413:$L$435,Y89,$R$413:$R$435)","v":1.9720101781170483E-2},9.8600508905852414E-3,9.8600508905852414E-3]
[4,"San Cristóbal",1,21,0,0,0.99999999999999989,null,null,4,"San Cristóbal",1,21,0.17201017811704833,0,0,0,0,null,21,0,null,18,"Rafael Uribe Uribe",2,0.1,{"$f":"SUMIF($L$413:$L$435,Y90,$Q$413:$Q$435)","v":0},{"$f":"SUMIF($L$413:$L$435,Y90,$R$413:$R$435)","v":0},0,0]
[4,"San Cristóbal",1,24,0,0,1,null,null,4,"San Cristóbal",1,24,0.15445292620865139,0,0,0,0,null,24,0,null,18,"Rafael Uribe Uribe",3,7.0000000000000007E-2,1.5766511649167592E-2,1.5766511649167592E-2,1.1036558154417315E-3,1.1036558154417315E-3]
[4,"San Cristóbal",2,27,0,0,1,null,null,4,"San Cristóbal",2,27,0.15094339622641509,0,0,0,0,null,27,0,null,18,"Rafael Uribe Uribe",4,0.24,0,0,0,0]
[4,"San Cristóbal",2,28,0,0,1,null,null,4,"San Cristóbal",2,28,0.18867924528301888,0,0,0,0,null,28,0,null,18,"Rafael Uribe Uribe",5,0.09,0.17237151498047401,0.17237151498047401,1.5513436348242661E-2,1.5513436348242661E-2]
[4,"San Cristóbal",2,30,0,0,1,null,null,4,"San Cristóbal",2,30,0.18867924528301888,0,0,0,0,null,30,0,null,19,"Ciudad Bolívar",1,0.5,{"$f":"SUMIF($L$436:$L$462,Y94,$Q$436:$Q$462)","v":1.7898383371824481E-2},{"$f":"SUMIF($L$436:$L$462,Y94,$R$436:$R$462)","v":8.94897275615502E-3},8.9491916859122406E-3,4.47448637807751E-3]
[4,"San Cristóbal",2,33,0,0,1,null,null,4,"San Cristóbal",2,33,0.18867924528301888,0,0,0,0,null,33,0,null,19,"Ciudad Bolívar",2,0.1,{"$f":"SUMIF($L$436:$L$462,Y95,$Q$436:$Q$462)","v":0},{"$f":"SUMIF($L$436:$L$462,Y95,$R$436:$R$462)","v":0},0,0]
[4,"San Cristóbal",2,34,0,0,1,null,null,4,"San Cristóbal",2,34,9.4339622641509441E-2,0,0,0,0,null,34,0,null,19,"Ciudad Bolívar",3,7.0000000000000007E-2,0,0,0,0]
[4,"San Cristóbal",2,38,0,0,1,null,null,4,"San Cristóbal",2,38,0.18867924528301888,0,0,0,0,null,38,0,null,19,"Ciudad Bolívar",4,0.24,0,0,0,0]
[4,"San Cristóbal",3,39,0,0,1,null,null,4,"San Cristóbal",3,39,0.12220437415050044,0,0,0,0,null,39,0,null,19,"Ciudad Bolívar",5,0.09,0.28145709482822012,0.28145709482822012,2.5331138534539811E-2,2.5331138534539811E-2]
[4,"San Cristóbal",3,40,0,0,1,null,null,4,"San Cristóbal",3,40,0.10156925738292352,0,0,0,0,null,40,0,null,20,"Sumapaz",1,0.5,{"$f":"SUMIF($L$463:$L$490,Y99,$Q$463:$Q$490)","v":3.1537140374554682E-4},{"$f":"SUMIF($L$463:$L$490,Y99,$R$463:$R$490)","v":3.1537140374554682E-4},1.5768570187277341E-4,1.5768570187277341E-4]
[4,"San Cristóbal",3,43,0.19072317723770005,0.19072317723770005,1,null,null,4,"San Cristóbal",3,43,8.9707154330903247E-2,0.19072317723770005,0.19072317723770005,1.7109233494942571E-2,1.7109233494942571E-2,null,43,0,null,20,"Sumapaz",2,0.1,{"$f":"SUMIF($L$463:$L$490,Y100,$Q$463:$Q$490)","v":0},{"$f":"SUMIF($L$463:$L$490,Y100,$R$463:$R$490)","v":0},0,0]
[4,"San Cristóbal",3,45,8.6409395973154363E-2,8.6409395973154363E-2,1,null,null,4,"San Cristóbal",3,45,5.5109353762510811E-2,8.6409395973154363E-2,8.6409395973154363E-2,4.7619659710894406E-3,4.7619659710894406E-3,null,45,0,null,20,"Sumapaz",3,7.0000000000000007E-2,0,0,0,0]
[4,"San Cristóbal",3,48,0,0,1,null,null,4,"San Cristóbal",3,48,0.63140986037316194,0,0,0,0,null,48,0,null,20,"Sumapaz",4,0.24,0,0,0,0]
[4,"San Cristóbal",4,49,0,0,1,null,null,4,"San Cristóbal",4,49,1,0,0,0,0,null,49,0,null,20,"Sumapaz",5,0.09,4.4796365807658216E-2,4.4796365807658216E-2,4.0316729226892393E-3,4.0316729226892393E-3]
[4,"San Cristóbal",5,55,0,0,1,null,null,4,"San Cristóbal",5,55,0.30612244897959179,0,0,0,0,null,55,0]
[4,"San Cristóbal",5,56,0,0,0,null,null,4,"San Cristóbal",5,56,0,0,0,0,0,null,56,0]
[4,"San Cristóbal",5,57,0.24885930088678079,0.24885930088678079,1,null,null,4,"San Cristóbal",5,57,0.69387755102040816,0.24885930088678079,0.24885930088678079,0.17267788224797034,0.17267788224797034,null,57,0]
[5,"Usme",1,1,0.13708231787145764,0.13708231787145764,1,null,null,5,"Usme",1,1,7.1593533487297925E-2,0.13708231787145764,0.13708231787145764,9.8142075150466218E-3,9.8142075150466218E-3,null,1,0]
[5,"Usme",1,6,0,0,1.0000000000000002,null,null,5,"Usme",1,6,0.22401847575057737,0,0,0,0,null,6,0]
[5,"Usme",1,8,0,0,1,null,null,5,"Usme",1,8,1.1316397228637415E-2,0,0,0,0,null,8,0]
[5,"Usme",1,12,0,0,1,null,null,5,"Usme",1,12,4.0646651270207862E-2,0,0,0,0,null,12,0]
[5,"Usme",1,14,0,0,1,null,null,5,"Usme",1,14,3.7182448036951504E-2,0,0,0,0,null,14,0]
[5,"Usme",1,17,0,0,1,null,null,5,"Usme",1,17,0.10415704387990764,0,0,0,0,null,17,0]
[5,"Usme",1,19,0,0,1,null,null,5,"Usme",1,19,7.9214780600461915E-2,0,0,0,0,null,19,0]
[5,"Usme",1,20,0,0,1,null,null,5,"Usme",1,20,0.12240184757505775,0,0,0,0,null,20,0]
[5,"Usme",1,21,0,0,1,null,null,5,"Usme",1,21,0.15612009237875291,0,0,0,0,null,21,0]
[5,"Usme",1,23,0.25,0,1,null,null,5,"Usme",1,23,1.3163972286374134E-2,0.25,0,3.2909930715935335E-3,0,null,23,0]
[5,"Usme",1,24,0,0,1,null,null,5,"Usme",1,24,0.14018475750577369,0,0,0,0,null,24,0]
[5,"Usme",2,27,0,0,1,null,null,5,"Usme",2,27,0.12698412698412698,0,0,0,0,null,27,0]
[5,"Usme",2,28,0,0,1,null,null,5,"Usme",2,28,0.15873015873015875,0,0,0,0,null,28,0]
[5,"Usme",2,30,0.12513935340022297,0,1,null,null,5,"Usme",2,30,0.15873015873015875,0.12513935340022297,0,1.9863389428606822E-2,0,null,30,0]
[5,"Usme",2,33,0,0,1,null,null,5,"Usme",2,33,0.15873015873015875,0,0,0,0,null,33,0]
[5,"Usme",2,34,0,0,1,null,null,5,"Usme",2,34,7.9365079365079375E-2,0,0,0,0,null,34,0]
[5,"Usme",2,37,0,0,1,null,null,5,"Usme",2,37,0.15873015873015875,0,0,0,0,null,37,0]
[5,"Usme",2,38,0,0,1,null,null,5,"Usme",2,38,0.15873015873015875,0,0,0,0,null,38,0]
[5,"Usme",3,39,0,0,1,null,null,5,"Usme",3,39,0.12220437415050044,0,0,0,0,null,39,0]
[5,"Usme",3,40,0,0,1,null,null,5,"Usme",3,40,0.10156925738292352,0,0,0,0,null,40,0]
[5,"Usme",3,43,0,0,1,null,null,5,"Usme",3,43,8.9707154330903247E-2,0,0,0,0,null,43,0]
[5,"Usme",3,45,0,0,1,null,null,5,"Usme",3,45,5.5109353762510811E-2,0,0,0,0,null,45,0]
[5,"Usme",3,48,0,0,1,null,null,5,"Usme",3,48,0.63140986037316194,0,0,0,0,null,48,0]
[5,"Usme",4,49,0,0,1,null,null,5,"Usme",4,49,1,0,0,0,0,null,49,0]
[5,"Usme",5,54,0,0,1,null,null,5,"Usme",5,54,0.47872340425531912,0,0,0,0,null,54,0]
[5,"Usme",5,55,0,0,1,null,null,5,"Usme",5,55,0.15957446808510636,{"$f":"E132","v":0},{"$f":"F132","v":0},0,0,null,55,0]
[5,"Usme",5,57,0.16613136341737594,0,1,null,null,5,"Usme",5,57,0.36170212765957449,0.16613136341737594,0,{"$f":"N133*O133","v":6.0090067619050877E-2},{"$f":"N133*P133","v":0},null,57,{"$f":"M133-T133","v":0}]
[6,"Tunjuelito",1,1,0.25336942816479158,0.1589079013588324,1,null,null,6,"Tunjuelito",1,1,7.8880407124681931E-2,0.25336942816479158,0.1589079013588324,1.9985883646586614E-2,1.2534719954513497E-2,null,1,0]
[6,"Tunjuelito",1,6,0,0,1,null,null,6,"Tunjuelito",1,6,0.24681933842239182,0,0,0,0,null,6,0]
[6,"Tunjuelito",1,8,0,0,1,null,null,6,"Tunjuelito",1,8,1.2468193384223917E-2,0,0,0,0,null,8,0]
[6,"Tunjuelito",1,12,0,0,1,null,null,6,"Tunjuelito",1,12,4.4783715012722644E-2,0,0,0,0,null,12,0]
[6,"Tunjuelito",1,14,0,0,1,null,null,6,"Tunjuelito",1,14,4.0966921119592874E-2,0,0,0,0,null,14,0]
[6,"Tunjuelito",1,17,0,0,1,null,null,6,"Tunjuelito",1,17,0.11475826972010178,0,0,0,0,null,17,0]
[6,"Tunjuelito",1,20,0,0,1,null,null,6,"Tunjuelito",1,20,0.13486005089058523,0,0,0,0,null,20,0]
[6,"Tunjuelito",1,21,0,0,1,null,null,6,"Tunjuelito",1,21,0.17201017811704833,0,0,0,0,null,21,0]
[6,"Tunjuelito",1,24,0,0,1,null,null,6,"Tunjuelito",1,24,0.15445292620865139,0,0,0,0,null,24,0]
[6,"Tunjuelito",2,27,0,0,1,null,null,6,"Tunjuelito",2,27,0.15094339622641509,0,0,0,0,null,27,0]
[6,"Tunjuelito",2,28,0,0,1,null,null,6,"Tunjuelito",2,28,0.18867924528301888,0,0,0,0,null,28,0]
[6,"Tunjuelito",2,30,0,0,1,null,null,6,"Tunjuelito",2,30,0.18867924528301888,0,0,0,0,null,30,0]
[6,"Tunjuelito",2,33,0,0,1,null,null,6,"Tunjuelito",2,33,0.18867924528301888,0,0,0,0,null,33,0]
[6,"Tunjuelito",2,34,0,0,1,null,null,6,"Tunjuelito",2,34,9.4339622641509441E-2,0,0,0,0,null,34,0]
[6,"Tunjuelito",2,38,0,0,1,null,null,6,"Tunjuelito",2,38,0.18867924528301888,0,0,0,0,null,38,0]
[6,"Tunjuelito",3,39,0,0,1,null,null,6,"Tunjuelito",3,39,0.12220437415050044,0,0,0,0,null,39,0]
[6,"Tunjuelito",3,40,0,0,1,null,null,6,"Tunjuelito",3,40,0.10156925738292352,0,0,0,0,null,40,0]
[6,"Tunjuelito",3,43,0.19163763066202091,0.19163763066202091,1,null,null,6,"Tunjuelito",3,43,8.9707154330903247E-2,0.19163763066202091,0.19163763066202091,1.7191266509406545E-2,1.7191266509406545E-2,null,43,0]
[6,"Tunjuelito",3,45,0,0,1,null,null,6,"Tunjuelito",3,45,5.5109353762510811E-2,0,0,0,0,null,45,0]
[6,"Tunjuelito",3,48,0,0,1,null,null,6,"Tunjuelito",3,48,0.63140986037316194,0,0,0,0,null,48,0]
[6,"Tunjuelito",4,49,0,0,1,null,null,6,"Tunjuelito",4,49,1,0,0,0,0,null,49,0]
[6,"Tunjuelito",5,55,0,0,1,null,null,6,"Tunjuelito",5,55,2.3255813953488372E-2,0,0,0,0,null,55,0]
[6,"Tunjuelito",5,56,0,0,1,null,null,6,"Tunjuelito",5,56,0.92403100775193792,0,0,0,0,null,56,0]
[6,"Tunjuelito",5,57,0.24797088379283691,0.24797088379283691,1,null,null,6,"Tunjuelito",5,57,5.2713178294573643E-2,0.24797088379283691,0.24797088379283691,1.3071333409234814E-2,1.3071333409234814E-2,null,57,0]
[7,"Bosa",1,1,0.26071177271480084,0.16266264489391424,1,null,null,7,"Bosa",1,1,7.8880407124681931E-2,0.26071177271480084,0.16266264489391424,2.0565050773941031E-2,1.283089565320952E-2,null,1,0]
[7,"Bosa",1,6,0,0,1,null,null,7,"Bosa",1,6,0.24681933842239182,0,0,0,0,null,6,0]
[7,"Bosa",1,8,0,0,1,null,null,7,"Bosa",1,8,1.2468193384223917E-2,0,0,0,0,null,8,0]
[7,"Bosa",1,12,0,0,1,null,null,7,"Bosa",1,12,4.4783715012722644E-2,0,0,0,0,null,12,0]
[7,"Bosa",1,14,0,0,1,null,null,7,"Bosa",1,14,4.0966921119592874E-2,0,0,0,0,null,14,0]
[7,"Bosa",1,17,0,0,1,null,null,7,"Bosa",1,17,0.11475826972010178,0,0,0,0,null,17,0]
[7,"Bosa",1,20,0,0,1,null,null,7,"Bosa",1,20,0.13486005089058523,0,0,0,0,null,20,0]
[7,"Bosa",1,21,0,0,1,null,null,7,"Bosa",1,21,0.17201017811704833,0,0,0,0,null,21,0]
[7,"Bosa",1,24,0,0,1,null,null,7,"Bosa",1,24,0.15445292620865139,0,0,0,0,null,24,0]
[7,"Bosa",2,27,0,0,1,null,null,7,"Bosa",2,27,0.15094339622641509,0,0,0,0,null,27,0]
[7,"Bosa",2,28,0,0,1,null,null,7,"Bosa",2,28,0.18867924528301888,0,0,0,0,null,28,0]
[7,"Bosa",2,30,0,0,1,null,null,7,"Bosa",2,30,0.18867924528301888,0,0,0,0,null,30,0]
[7,"Bosa",2,33,0,0,1,null,null,7,"Bosa",2,33,0.18867924528301888,0,0,0,0,null,33,0]
[7,"Bosa",2,34,0,0,1,null,null,7,"Bosa",2,34,9.4339622641509441E-2,0,0,0,0,null,34,0]
[7,"Bosa",2,38,0,0,1,null,null,7,"Bosa",2,38,0.18867924528301888,0,0,0,0,null,38,0]
[7,"Bosa",3,39,0,0,1,null,null,7,"Bosa",3,39,0.12220437415050044,0,0,0,0,null,39,0]
[7,"Bosa",3,40,0,0,1,null,null,7,"Bosa",3,40,0.10156925738292352,0,0,0,0,null,40,0]
[7,"Bosa",3,43,0.13464941384649415,0.13464941384649415,1,null,null,7,"Bosa",3,43,8.9707154330903247E-2,0.13464941384649415,0.13464941384649415,1.2079015748493111E-2,1.2079015748493111E-2,null,43,0]
[7,"Bosa",3,45,0,0,1,null,null,7,"Bosa",3,45,5.5109353762510811E-2,0,0,0,0,null,45,0]
[7,"Bosa",3,48,0,0,1,null,null,7,"Bosa",3,48,0.63140986037316194,0,0,0,0,null,48,0]
[7,"Bosa",4,49,0,0,1,null,null,7,"Bosa",4,49,1,0,0,0,0,null,49,0]
[7,"Bosa",5,55,8.7214080233511716E-4,8.7214080233511716E-4,0.99999999999999989,null,null,7,"Bosa",5,55,0.30612244897959179,8.7214080233511716E-4,8.7214080233511716E-4,2.6698187826585215E-4,2.6698187826585215E-4,null,55,0]
[7,"Bosa",5,57,0.25,0.25,1,null,null,7,"Bosa",5,57,0.69387755102040816,0.25,0.25,0.17346938775510204,0.17346938775510204,null,57,0]
[8,"Kennedy",1,1,0.10930279284709664,0.10930279284709664,1,null,null,8,"Kennedy",1,1,7.9876320535944345E-2,0.10930279284709664,0.10930279284709664,8.7307049169286152E-3,8.7307049169286152E-3,null,1,0]
[8,"Kennedy",1,6,0,0,1,null,null,8,"Kennedy",1,6,0.24993558361247098,0,0,0,0,null,6,0]
[8,"Kennedy",1,12,0,0,1,null,null,8,"Kennedy",1,12,4.5349136820407115E-2,0,0,0,0,null,12,0]
[8,"Kennedy",1,14,0,0,1,null,null,8,"Kennedy",1,14,4.1484153568667866E-2,0,0,0,0,null,14,0]
[8,"Kennedy",1,17,0,0,1,null,null,8,"Kennedy",1,17,0.11620716310229323,0,0,0,0,null,17,0]
[8,"Kennedy",1,20,0,0,1,null,null,8,"Kennedy",1,20,0.13656274156145323,0,0,0,0,null,20,0]
[8,"Kennedy",1,21,0,0,1,null,null,8,"Kennedy",1,21,0.17418191187838183,0,0,0,0,null,21,0]
[8,"Kennedy",1,24,0,0,1,null,null,8,"Kennedy",1,24,0.15640298892038135,0,0,0,0,null,24,0]
[8,"Kennedy",2,27,0,0,1,null,null,8,"Kennedy",2,27,0.15094339622641509,0,0,0,0,null,27,0]
[8,"Kennedy",2,28,0,0,1,null,null,8,"Kennedy",2,28,0.18867924528301888,0,0,0,0,null,28,0]
[8,"Kennedy",2,30,0,0,1,null,null,8,"Kennedy",2,30,0.18867924528301888,0,0,0,0,null,30,0]
[8,"Kennedy",2,33,0,0,1,null,null,8,"Kennedy",2,33,0.18867924528301888,0,0,0,0,null,33,0]
[8,"Kennedy",2,34,0,0,1,null,null,8,"Kennedy",2,34,9.4339622641509441E-2,0,0,0,0,null,34,0]
[8,"Kennedy",2,38,0,0,1,null,null,8,"Kennedy",2,38,0.18867924528301888,0,0,0,0,null,38,0]
[8,"Kennedy",3,39,0,0,1,null,null,8,"Kennedy",3,39,0.12220437415050044,0,0,0,0,null,39,0]
[8,"Kennedy",3,40,0,0,1,null,null,8,"Kennedy",3,40,0.10156925738292352,{"$f":"E196","v":0},{"$f":"F196","v":0},0,0,null,40,0]
[8,"Kennedy",3,43,0,0,1,null,null,8,"Kennedy",3,43,8.9707154330903247E-2,0,0,{"$f":"N197*O197","v":0},{"$f":"N197*P197","v":0},null,43,{"$f":"M197-T197","v":0}]
[8,"Kennedy",3,45,0,0,1,null,null,8,"Kennedy",3,45,5.5109353762510811E-2,0,0,0,0,null,45,0]
[8,"Kennedy",3,48,0,0,0.99999999999999978,null,null,8,"Kennedy",3,48,0.63140986037316194,0,0,0,0,null,48,0]
[8,"Kennedy",4,49,0,0,1,null,null,8,"Kennedy",4,49,1,0,0,0,0,null,49,0]
[8,"Kennedy",5,55,0,0,1,null,null,8,"Kennedy",5,55,2.3255813953488372E-2,0,0,0,0,null,55,0]
[8,"Kennedy",5,56,0,0,1,null,null,8,"Kennedy",5,56,0.92403100775193792,0,0,0,0,null,56,0]
[8,"Kennedy",5,57,0.25,0.25,1,null,null,8,"Kennedy",5,57,5.2713178294573643E-2,0.25,0.25,1.3178294573643411E-2,1.3178294573643411E-2,null,57,0]
[9,"Fontibón",1,1,8.5272110234288753E-2,8.5272110234288753E-2,1,null,null,9,"Fontibón",1,1,7.8880407124681931E-2,8.5272110234288753E-2,8.5272110234288753E-2,6.7262987716614538E-3,6.7262987716614538E-3,null,1,0]
[9,"Fontibón",1,6,0,0,1.0000000000000002,null,null,9,"Fontibón",1,6,0.24681933842239182,0,0,0,0,null,6,0]
[9,"Fontibón",1,8,0,0,1,null,null,9,"Fontibón",1,8,1.2468193384223917E-2,0,0,0,0,null,8,0]
[9,"Fontibón",1,12,0,0,1,null,null,9,"Fontibón",1,12,4.4783715012722644E-2,0,0,0,0,null,12,0]
[9,"Fontibón",1,14,0,0,1,null,null,9,"Fontibón",1,14,4.0966921119592874E-2,0,0,0,0,null,14,0]
[9,"Fontibón",1,17,0,0,0.99999999999999989,null,null,9,"Fontibón",1,17,0.11475826972010178,0,0,0,0,null,17,0]
[9,"Fontibón",1,20,0,0,1,null,null,9,"Fontibón",1,20,0.13486005089058523,0,0,0,0,null,20,0]
[9,"Fontibón",1,21,0,0,1,null,null,9,"Fontibón",1,21,0.17201017811704833,0,0,0,0,null,21,0]
[9,"Fontibón",1,24,0,0,1,null,null,9,"Fontibón",1,24,0.15445292620865139,0,0,0,0,null,24,0]
[9,"Fontibón",2,27,0,0,0.99999999999999989,null,null,9,"Fontibón",2,27,0.15094339622641509,0,0,0,0,null,27,0]
[9,"Fontibón",2,28,0,0,1,null,null,9,"Fontibón",2,28,0.18867924528301888,0,0,0,0,null,28,0]
[9,"Fontibón",2,30,0,0,1,null,null,9,"Fontibón",2,30,0.18867924528301888,0,0,0,0,null,30,0]
[9,"Fontibón",2,33,0,0,1,null,null,9,"Fontibón",2,33,0.18867924528301888,0,0,0,0,null,33,0]
[9,"Fontibón",2,34,0,0,1,null,null,9,"Fontibón",2,34,9.4339622641509441E-2,0,0,0,0,null,34,0]
[9,"Fontibón",2,38,0,0,1,null,null,9,"Fontibón",2,38,0.18867924528301888,0,0,0,0,null,38,0]
[9,"Fontibón",3,39,0,0,1,null,null,9,"Fontibón",3,39,0.12220437415050044,0,0,0,0,null,39,0]
[9,"Fontibón",3,40,0,0,1,null,null,9,"Fontibón",3,40,0.10156925738292352,0,0,0,0,null,40,0]
[9,"Fontibón",3,43,0,0,1,null,null,9,"Fontibón",3,43,8.9707154330903247E-2,0,0,0,0,null,43,0]
[9,"Fontibón",3,45,0,0,1,null,null,9,"Fontibón",3,45,5.5109353762510811E-2,0,0,0,0,null,45,0]
[9,"Fontibón",3,48,0,0,1,null,null,9,"Fontibón",3,48,0.63140986037316194,0,0,0,0,null,48,0]
[9,"Fontibón",4,49,0,0,1,null,null,9,"Fontibón",4,49,1,0,0,0,0,null,49,0]
[9,"Fontibón",5,55,0,0,1,null,null,9,"Fontibón",5,55,0.30612244897959179,0,0,0,0,null,55,0]
[9,"Fontibón",5,57,0.24829434697855751,6.2073586744639378E-2,1,null,null,9,"Fontibón",5,57,0.69387755102040816,0.24829434697855751,6.2073586744639378E-2,0.17228587341369297,4.3071468353423244E-2,null,57,0]
[10,"Engativá",1,1,0.10004629731696026,0.10004629731696026,1,null,null,10,"Engativá",1,1,7.9876320535944345E-2,0.10004629731696026,0.10004629731696026,7.991330112923906E-3,7.991330112923906E-3,null,1,0]
[10,"Engativá",1,6,0,0,1,null,null,10,"Engativá",1,6,0.24993558361247098,0,0,0,0,null,6,0]
[10,"Engativá",1,12,0,0,1,null,null,10,"Engativá",1,12,4.5349136820407115E-2,0,0,0,0,null,12,0]
[10,"Engativá",1,14,0,0,1,null,null,10,"Engativá",1,14,4.1484153568667866E-2,0,0,0,0,null,14,0]
[10,"Engativá",1,17,0,0,1,null,null,10,"Engativá",1,17,0.11620716310229323,0,0,0,0,null,17,0]
[10,"Engativá",1,20,0,0,1,null,null,10,"Engativá",1,20,0.13656274156145323,0,0,0,0,null,20,0]
[10,"Engativá",1,21,0,0,0.99999999999999989,null,null,10,"Engativá",1,21,0.17418191187838183,0,0,0,0,null,21,0]
[10,"Engativá",1,24,0,0,1,null,null,10,"Engativá",1,24,0.15640298892038135,0,0,0,0,null,24,0]
[10,"Engativá",2,27,0,0,1,null,null,10,"Engativá",2,27,0.15094339622641509,0,0,0,0,null,27,0]
[10,"Engativá",2,28,0,0,1,null,null,10,"Engativá",2,28,0.18867924528301888,0,0,0,0,null,28,0]
[10,"Engativá",2,30,0,0,1,null,null,10,"Engativá",2,30,0.18867924528301888,0,0,0,0,null,30,0]
[10,"Engativá",2,33,0,0,1,null,null,10,"Engativá",2,33,0.18867924528301888,0,0,0,0,null,33,0]
[10,"Engativá",2,34,0,0,1,null,null,10,"Engativá",2,34,9.4339622641509441E-2,0,0,0,0,null,34,0]
[10,"Engativá",2,38,0,0,1,null,null,10,"Engativá",2,38,0.18867924528301888,0,0,0,0,null,38,0]
[10,"Engativá",3,39,0,0,1,null,null,10,"Engativá",3,39,0.12220437415050044,0,0,0,0,null,39,0]
[10,"Engativá",3,40,0,0,1,null,null,10,"Engativá",3,40,0.10156925738292352,0,0,0,0,null,40,0]
[10,"Engativá",3,43,0,0,1,null,null,10,"Engativá",3,43,8.9707154330903247E-2,0,0,0,0,null,43,0]
[10,"Engativá",3,45,0,0,1,null,null,10,"Engativá",3,45,5.5109353762510811E-2,0,0,0,0,null,45,0]
[10,"Engativá",3,48,0,0,1,null,null,10,"Engativá",3,48,0.63140986037316194,0,0,0,0,null,48,0]
[10,"Engativá",4,49,0,0,1,null,null,10,"Engativá",4,49,1,0,0,0,0,null,49,0]
[10,"Engativá",5,55,0,0,1,null,null,10,"Engativá",5,55,0.30612244897959179,0,0,0,0,null,55,0]
[10,"Engativá",5,57,0.25,0.25,1,null,null,10,"Engativá",5,57,0.69387755102040816,0.25,0.25,0.17346938775510204,0.17346938775510204,null,57,0]
[11,"Suba",1,1,0.31563716310552636,0.16921027517098775,1,null,null,11,"Suba",1,1,7.1593533487297925E-2,0.31563716310552636,0.16921027517098775,2.259757980663122E-2,1.2114361501849007E-2,null,1,0]
[11,"Suba",1,6,0,0,1,null,null,11,"Suba",1,6,0.22401847575057737,0,0,0,0,null,6,0]
[11,"Suba",1,8,0,0,1,null,null,11,"Suba",1,8,1.1316397228637415E-2,0,0,0,0,null,8,0]
[11,"Suba",1,12,0,0,1,null,null,11,"Suba",1,12,4.0646651270207862E-2,0,0,0,0,null,12,0]
[11,"Suba",1,14,0,0,1,null,null,11,"Suba",1,14,3.7182448036951504E-2,0,0,0,0,null,14,0]
[11,"Suba",1,17,0,0,1,null,null,11,"Suba",1,17,0.10415704387990764,0,0,0,0,null,17,0]
[11,"Suba",1,19,0,0,1,null,null,11,"Suba",1,19,7.9214780600461915E-2,0,0,0,0,null,19,0]
[11,"Suba",1,20,0,0,1,null,null,11,"Suba",1,20,0.12240184757505775,0,0,0,0,null,20,0]
[11,"Suba",1,21,0,0,1,null,null,11,"Suba",1,21,0.15612009237875291,0,0,0,0,null,21,0]
[11,"Suba",1,23,0,0,1,null,null,11,"Suba",1,23,1.3163972286374134E-2,0,0,0,0,null,23,0]
[11,"Suba",1,24,0,0,1,null,null,11,"Suba",1,24,0.14018475750577369,0,0,0,0,null,24,0]
[11,"Suba",2,27,0,0,1,null,null,11,"Suba",2,27,0.12698412698412698,{"$f":"E260","v":0},{"$f":"F260","v":0},0,0,null,27,0]
[11,"Suba",2,28,0,0,1,null,null,11,"Suba",2,28,0.15873015873015875,0,0,{"$f":"N261*O261","v":0},{"$f":"N261*P261","v":0},null,28,{"$f":"M261-T261","v":0}]
[11,"Suba",2,30,0,0,1,null,null,11,"Suba",2,30,0.15873015873015875,0,0,0,0,null,30,0]
[11,"Suba",2,33,0,0,1,null,null,11,"Suba",2,33,0.15873015873015875,0,0,0,0,null,33,0]
[11,"Suba",2,34,0,0,1,null,null,11,"Suba",2,34,7.9365079365079375E-2,0,0,0,0,null,34,0]
[11,"Suba",2,37,0,0,1,null,null,11,"Suba",2,37,0.15873015873015875,0,0,0,0,null,37,0]
[11,"Suba",2,38,0,0,1,null,null,11,"Suba",2,38,0.15873015873015875,0,0,0,0,null,38,0]
[11,"Suba",3,39,0,0,1,null,null,11,"Suba",3,39,0.12220437415050044,0,0,0,0,null,39,0]
[11,"Suba",3,40,0,0,1,null,null,11,"Suba",3,40,0.10156925738292352,0,0,0,0,null,40,0]
[11,"Suba",3,43,9.9961590167082767E-2,9.9961590167082767E-2,1,null,null,11,"Suba",3,43,8.9707154330903247E-2,9.9961590167082767E-2,9.9961590167082767E-2,8.9672697962809942E-3,8.9672697962809942E-3,null,43,0]
[11,"Suba",3,45,0,0,1,null,null,11,"Suba",3,45,5.5109353762510811E-2,0,0,0,0,null,45,0]
[11,"Suba",3,48,0,0,1,null,null,11,"Suba",3,48,0.63140986037316194,0,0,0,0,null,48,0]
[11,"Suba",4,49,0,0,1,null,null,11,"Suba",4,49,1,0,0,0,0,null,49,0]
[11,"Suba",5,54,0,0,1,null,null,11,"Suba",5,54,0.47872340425531912,0,0,0,0,null,54,0]
[11,"Suba",5,55,0,0,1,null,null,11,"Suba",5,55,0.15957446808510636,0,0,0,0,null,55,0]
[11,"Suba",5,57,0.24920197023507529,0.24920197023507529,1,null,null,11,"Suba",5,57,0.36170212765957449,0.24920197023507529,0.24920197023507529,9.0136882850984687E-2,9.0136882850984687E-2,null,57,0]
[12,"Barrios Unidos",1,1,0.33287095364238412,7.0754966887417212E-2,1,null,null,12,"Barrios Unidos",1,1,7.8880407124681931E-2,0.33287095364238412,7.0754966887417212E-2,2.6256996343292385E-2,5.5811805941728583E-3,null,1,0]
[12,"Barrios Unidos",1,6,0,0,1,null,null,12,"Barrios Unidos",1,6,0.24681933842239182,0,0,0,0,null,6,0]
[12,"Barrios Unidos",1,8,0,0,1,null,null,12,"Barrios Unidos",1,8,1.2468193384223917E-2,0,0,0,0,null,8,0]
[12,"Barrios Unidos",1,12,0,0,1,null,null,12,"Barrios Unidos",1,12,4.4783715012722644E-2,0,0,0,0,null,12,0]
[12,"Barrios Unidos",1,14,0,0,1,null,null,12,"Barrios Unidos",1,14,4.0966921119592874E-2,0,0,0,0,null,14,0]
[12,"Barrios Unidos",1,17,0,0,0.99999999999999989,null,null,12,"Barrios Unidos",1,17,0.11475826972010178,0,0,0,0,null,17,0]
[12,"Barrios Unidos",1,20,0,0,1,null,null,12,"Barrios Unidos",1,20,0.13486005089058523,0,0,0,0,null,20,0]
[12,"Barrios Unidos",1,21,0,0,1,null,null,12,"Barrios Unidos",1,21,0.17201017811704833,0,0,0,0,null,21,0]
[12,"Barrios Unidos",1,24,0,0,1,null,null,12,"Barrios Unidos",1,24,0.15445292620865139,0,0,0,0,null,24,0]
[12,"Barrios Unidos",2,27,0,0,1,null,null,12,"Barrios Unidos",2,27,0.15094339622641509,0,0,0,0,null,27,0]
[12,"Barrios Unidos",2,28,0,0,1,null,null,12,"Barrios Unidos",2,28,0.18867924528301888,0,0,0,0,null,28,0]
[12,"Barrios Unidos",2,30,0.25,0.25,1,null,null,12,"Barrios Unidos",2,30,0.18867924528301888,0.25,0.25,4.716981132075472E-2,4.716981132075472E-2,null,30,0]
[12,"Barrios Unidos",2,33,0,0,1,null,null,12,"Barrios Unidos",2,33,0.18867924528301888,0,0,0,0,null,33,0]
[12,"Barrios Unidos",2,34,0,0,1,null,null,12,"Barrios Unidos",2,34,9.4339622641509441E-2,0,0,0,0,null,34,0]
[12,"Barrios Unidos",2,38,0,0,1,null,null,12,"Barrios Unidos",2,38,0.18867924528301888,0,0,0,0,null,38,0]
[12,"Barrios Unidos",3,39,0,0,1,null,null,12,"Barrios Unidos",3,39,0.12220437415050044,0,0,0,0,null,39,0]
[12,"Barrios Unidos",3,40,0,0,1,null,null,12,"Barrios Unidos",3,40,0.10156925738292352,0,0,0,0,null,40,0]
[12,"Barrios Unidos",3,43,0.18697033898305085,0.18697033898305085,1,null,null,12,"Barrios Unidos",3,43,8.9707154330903247E-2,0.18697033898305085,0.18697033898305085,1.6772577054453838E-2,1.6772577054453838E-2,null,43,0]
[12,"Barrios Unidos",3,45,0,0,1,null,null,12,"Barrios Unidos",3,45,5.5109353762510811E-2,0,0,0,0,null,45,0]
[12,"Barrios Unidos",3,48,0,0,1,null,null,12,"Barrios Unidos",3,48,0.63140986037316194,0,0,0,0,null,48,0]
[12,"Barrios Unidos",4,49,0,0,1,null,null,12,"Barrios Unidos",4,49,1,0,0,0,0,null,49,0]
[12,"Barrios Unidos",5,55,0,0,1,null,null,12,"Barrios Unidos",5,55,0.30612244897959179,0,0,0,0,null,55,0]
[12,"Barrios Unidos",5,56,0,0,0,null,null,12,"Barrios Unidos",5,56,0,0,0,0,0,null,56,0]
[12,"Barrios Unidos",5,57,0.24924306435713278,0.24924306435713278,1,null,null,12,"Barrios Unidos",5,57,0.69387755102040816,0.24924306435713278,0.24924306435713278,0.17294416710494928,0.17294416710494928,null,57,0]
[13,"Teusaquillo",1,1,4.5799038383179856E-2,4.1951919158992747E-2,1,null,null,13,"Teusaquillo",1,1,7.9876320535944345E-2,4.5799038383179856E-2,4.1951919158992747E-2,3.6582586701328925E-3,3.3509649418417293E-3,null,1,0]
[13,"Teusaquillo",1,6,0,0,1,null,null,13,"Teusaquillo",1,6,0.24993558361247098,0,0,0,0,null,6,0]
[13,"Teusaquillo",1,12,0,0,1,null,null,13,"Teusaquillo",1,12,4.5349136820407115E-2,0,0,0,0,null,12,0]
[13,"Teusaquillo",1,14,0,0,1,null,null,13,"Teusaquillo",1,14,4.1484153568667866E-2,0,0,0,0,null,14,0]
[13,"Teusaquillo",1,17,0,0,1,null,null,13,"Teusaquillo",1,17,0.11620716310229323,0,0,0,0,null,17,0]
[13,"Teusaquillo",1,20,0,0,1,null,null,13,"Teusaquillo",1,20,0.13656274156145323,0,0,0,0,null,20,0]
[13,"Teusaquillo",1,21,0,0,1,null,null,13,"Teusaquillo",1,21,0.17418191187838183,0,0,0,0,null,21,0]
[13,"Teusaquillo",1,24,0,0,1,null,null,13,"Teusaquillo",1,24,0.15640298892038135,0,0,0,0,null,24,0]
[13,"Teusaquillo",2,27,0.28349916744445125,0.28349916744445125,1,null,null,13,"Teusaquillo",2,27,0.15094339622641509,0.28349916744445125,0.28349916744445125,4.2792327161426599E-2,4.2792327161426599E-2,null,27,0]
[13,"Teusaquillo",2,28,0,0,1,null,null,13,"Teusaquillo",2,28,0.18867924528301888,0,0,0,0,null,28,0]
[13,"Teusaquillo",2,30,0,0,1,null,null,13,"Teusaquillo",2,30,0.18867924528301888,0,0,0,0,null,30,0]
[13,"Teusaquillo",2,33,0,0,1,null,null,13,"Teusaquillo",2,33,0.18867924528301888,0,0,0,0,null,33,0]
[13,"Teusaquillo",2,34,0,0,1,null,null,13,"Teusaquillo",2,34,9.4339622641509441E-2,0,0,0,0,null,34,0]
[13,"Teusaquillo",2,38,0,0,1,null,null,13,"Teusaquillo",2,38,0.18867924528301888,0,0,0,0,null,38,0]
[13,"Teusaquillo",3,39,0,0,1,null,null,13,"Teusaquillo",3,39,0.12220437415050044,0,0,0,0,null,39,0]
[13,"Teusaquillo",3,40,0,0,1,null,null,13,"Teusaquillo",3,40,0.10156925738292352,0,0,0,0,null,40,0]
[13,"Teusaquillo",3,43,0.5,0,1,null,null,13,"Teusaquillo",3,43,8.9707154330903247E-2,0.5,0,4.4853577165451623E-2,0,null,43,0]
[13,"Teusaquillo",3,45,0.2075823887968373,0,1,null,null,13,"Teusaquillo",3,45,5.5109353762510811E-2,0.2075823887968373,0,1.1439731299071968E-2,0,null,45,0]
[13,"Teusaquillo",3,48,0,0,1,null,null,13,"Teusaquillo",3,48,0.63140986037316194,0,0,0,0,null,48,0]
[13,"Teusaquillo",4,49,0,0,1,null,null,13,"Teusaquillo",4,49,1,0,0,0,0,null,49,0]
[13,"Teusaquillo",5,55,0,0,1,null,null,13,"Teusaquillo",5,55,0.30612244897959179,0,0,0,0,null,55,0]
[13,"Teusaquillo",5,57,0.24729146540749902,0.24729146540749902,1,null,null,13,"Teusaquillo",5,57,0.69387755102040816,0.24729146540749902,0.24729146540749902,0.17158999640520339,0.17158999640520339,null,57,0]
[14,"Los Mártires",1,1,0.3793425463501402,0.17501881371006361,1,null,null,14,"Los Mártires",1,1,7.9876320535944345E-2,0.3793425463501402,0.17501881371006361,3.0300486825185123E-2,1.3979858863725773E-2,null,1,0]
[14,"Los Mártires",1,6,0,0,1,null,null,14,"Los Mártires",1,6,0.24993558361247098,0,0,0,0,null,6,0]
[14,"Los Mártires",1,12,0,0,1,null,null,14,"Los Mártires",1,12,4.5349136820407115E-2,{"$f":"E324","v":0},{"$f":"F324","v":0},0,0,null,12,0]
[14,"Los Mártires",1,14,0,0,1,null,null,14,"Los Mártires",1,14,4.1484153568667866E-2,0,0,{"$f":"N325*O325","v":0},{"$f":"N325*P325","v":0},null,14,{"$f":"M325-T325","v":0}]
[14,"Los Mártires",1,17,0,0,1,null,null,14,"Los Mártires",1,17,0.11620716310229323,0,0,0,0,null,17,0]
[14,"Los Mártires",1,20,0,0,1,null,null,14,"Los Mártires",1,20,0.13656274156145323,0,0,0,0,null,20,0]
[14,"Los Mártires",1,21,0,0,1,null,null,14,"Los Mártires",1,21,0.17418191187838183,0,0,0,0,null,21,0]
[14,"Los Mártires",1,24,0,0,1,null,null,14,"Los Mártires",1,24,0.15640298892038135,0,0,0,0,null,24,0]
[14,"Los Mártires",2,27,0,0,1,null,null,14,"Los Mártires",2,27,0.15094339622641509,0,0,0,0,null,27,0]
[14,"Los Mártires",2,28,0,0,1,null,null,14,"Los Mártires",2,28,0.18867924528301888,0,0,0,0,null,28,0]
[14,"Los Mártires",2,30,0,0,1,null,null,14,"Los Mártires",2,30,0.18867924528301888,0,0,0,0,null,30,0]
[14,"Los Mártires",2,33,0,0,1,null,null,14,"Los Mártires",2,33,0.18867924528301888,0,0,0,0,null,33,0]
[14,"Los Mártires",2,34,0,0,1,null,null,14,"Los Mártires",2,34,9.4339622641509441E-2,0,0,0,0,null,34,0]
[14,"Los Mártires",2,38,0,0,1,null,null,14,"Los Mártires",2,38,0.18867924528301888,0,0,0,0,null,38,0]
[14,"Los Mártires",3,39,0,0,1,null,null,14,"Los Mártires",3,39,0.12220437415050044,0,0,0,0,null,39,0]
[14,"Los Mártires",3,40,0,0,1,null,null,14,"Los Mártires",3,40,0.10156925738292352,0,0,0,0,null,40,0]
[14,"Los Mártires",3,43,0.25,0.25,1,null,null,14,"Los Mártires",3,43,8.9707154330903247E-2,0.25,0.25,2.2426788582725812E-2,2.2426788582725812E-2,null,43,0]
[14,"Los Mártires",3,45,0,0,1,null,null,14,"Los Mártires",3,45,5.5109353762510811E-2,0,0,0,0,null,45,0]
[14,"Los Mártires",3,48,0,0,1,null,null,14,"Los Mártires",3,48,0.63140986037316194,0,0,0,0,null,48,0]
[14,"Los Mártires",4,49,0,0,1,null,null,14,"Los Mártires",4,49,1,0,0,0,0,null,49,0]
[14,"Los Mártires",5,55,0,0,1,null,null,14,"Los Mártires",5,55,0.30612244897959179,0,0,0,0,null,55,0]
[14,"Los Mártires",5,56,0,0,0,null,null,14,"Los Mártires",5,56,0,0,0,0,0,null,56,0]
[14,"Los Mártires",5,57,0.24891027969487831,0.24891027969487831,1,null,null,14,"Los Mártires",5,57,0.69387755102040816,0.24891027969487831,0.24891027969487831,0.172713255298487,0.172713255298487,null,57,0]
[15,"Antonio Nariño",1,1,0.36677308962445276,0.12105445050303357,1,null,null,15,"Antonio Nariño",1,1,7.8880407124681931E-2,0.36677308962445276,0.12105445050303357,2.893121063195429E-2,9.5488243399339447E-3,null,1,0]
[15,"Antonio Nariño",1,6,0,0,1,null,null,15,"Antonio Nariño",1,6,0.24681933842239182,0,0,0,0,null,6,0]
[15,"Antonio Nariño",1,8,0,0,1,null,null,15,"Antonio Nariño",1,8,1.2468193384223917E-2,0,0,0,0,null,8,0]
[15,"Antonio Nariño",1,12,0,0,1,null,null,15,"Antonio Nariño",1,12,4.4783715012722644E-2,0,0,0,0,null,12,0]
[15,"Antonio Nariño",1,14,0,0,1,null,null,15,"Antonio Nariño",1,14,4.0966921119592874E-2,0,0,0,0,null,14,0]
[15,"Antonio Nariño",1,17,0,0,1,null,null,15,"Antonio Nariño",1,17,0.11475826972010178,0,0,0,0,null,17,0]
[15,"Antonio Nariño",1,20,0,0,1,null,null,15,"Antonio Nariño",1,20,0.13486005089058523,0,0,0,0,null,20,0]
[15,"Antonio Nariño",1,21,0,0,1,null,null,15,"Antonio Nariño",1,21,0.17201017811704833,0,0,0,0,null,21,0]
[15,"Antonio Nariño",1,24,0,0,1,null,null,15,"Antonio Nariño",1,24,0.15445292620865139,0,0,0,0,null,24,0]
[15,"Antonio Nariño",2,27,0,0,1,null,null,15,"Antonio Nariño",2,27,0.18604651162790695,0,0,0,0,null,27,0]
[15,"Antonio Nariño",2,30,0,0,1,null,null,15,"Antonio Nariño",2,30,0.23255813953488372,0,0,0,0,null,30,0]
[15,"Antonio Nariño",2,33,0,0,1,null,null,15,"Antonio Nariño",2,33,0.23255813953488372,0,0,0,0,null,33,0]
[15,"Antonio Nariño",2,34,0,0,1,null,null,15,"Antonio Nariño",2,34,0.11627906976744186,0,0,0,0,null,34,0]
[15,"Antonio Nariño",2,38,0,0,1,null,null,15,"Antonio Nariño",2,38,0.23255813953488372,0,0,0,0,null,38,0]
[15,"Antonio Nariño",3,39,0,0,1,null,null,15,"Antonio Nariño",3,39,0.12220437415050044,0,0,0,0,null,39,0]
[15,"Antonio Nariño",3,40,0,0,1,null,null,15,"Antonio Nariño",3,40,0.10156925738292352,0,0,0,0,null,40,0]
[15,"Antonio Nariño",3,43,0,0,1,null,null,15,"Antonio Nariño",3,43,8.9707154330903247E-2,0,0,0,0,null,43,0]
[15,"Antonio Nariño",3,45,0,0,1,null,null,15,"Antonio Nariño",3,45,5.5109353762510811E-2,0,0,0,0,null,45,0]
[15,"Antonio Nariño",3,48,0,0,1,null,null,15,"Antonio Nariño",3,48,0.63140986037316194,0,0,0,0,null,48,0]
[15,"Antonio Nariño",4,49,0,0,1,null,null,15,"Antonio Nariño",4,49,1,0,0,0,0,null,49,0]
[15,"Antonio Nariño",5,55,0,0,1,null,null,15,"Antonio Nariño",5,55,0.30612244897959179,0,0,0,0,null,55,0]
[15,"Antonio Nariño",5,57,0.24696571255183575,0.24696571255183575,1,null,null,15,"Antonio Nariño",5,57,0.69387755102040816,0.24696571255183575,0.24696571255183575,0.17136396381147787,0.17136396381147787,null,57,0]
[16,"Puente Aranda",1,1,0.25,8.1295867310851727E-2,1,null,null,16,"Puente Aranda",1,1,7.8880407124681931E-2,0.25,8.1295867310851727E-2,1.9720101781170483E-2,6.4126511110341056E-3,null,1,0]
[16,"Puente Aranda",1,6,2.8838604755495739E-2,0,1,null,null,16,"Puente Aranda",1,6,0.24681933842239182,2.8838604755495739E-2,0,7.117925346776301E-3,0,null,6,0]
[16,"Puente Aranda",1,8,0,0,1,null,null,16,"Puente Aranda",1,8,1.2468193384223917E-2,0,0,0,0,null,8,0]
[16,"Puente Aranda",1,12,0,0,1,null,null,16,"Puente Aranda",1,12,4.4783715012722644E-2,0,0,0,0,null,12,0]
[16,"Puente Aranda",1,14,0,0,1,null,null,16,"Puente Aranda",1,14,4.0966921119592874E-2,0,0,0,0,null,14,0]
[16,"Puente Aranda",1,17,0,0,1,null,null,16,"Puente Aranda",1,17,0.11475826972010178,0,0,0,0,null,17,0]
[16,"Puente Aranda",1,20,0.14725368668518912,0,1,null,null,16,"Puente Aranda",1,20,0.13486005089058523,0.14725368668518912,0,1.9858639680190898E-2,0,null,20,0]
[16,"Puente Aranda",1,21,0,0,1,null,null,16,"Puente Aranda",1,21,0.17201017811704833,0,0,0,0,null,21,0]
[16,"Puente Aranda",1,24,0,0,1,null,null,16,"Puente Aranda",1,24,0.15445292620865139,0,0,0,0,null,24,0]
[16,"Puente Aranda",2,27,0,0,1,null,null,16,"Puente Aranda",2,27,0.15094339622641509,0,0,0,0,null,27,0]
[16,"Puente Aranda",2,28,0,0,1,null,null,16,"Puente Aranda",2,28,0.18867924528301888,0,0,0,0,null,28,0]
[16,"Puente Aranda",2,30,0,0,1,null,null,16,"Puente Aranda",2,30,0.18867924528301888,0,0,0,0,null,30,0]
[16,"Puente Aranda",2,33,0,0,1,null,null,16,"Puente Aranda",2,33,0.18867924528301888,0,0,0,0,null,33,0]
[16,"Puente Aranda",2,34,0,0,1,null,null,16,"Puente Aranda",2,34,9.4339622641509441E-2,0,0,0,0,null,34,0]
[16,"Puente Aranda",2,38,0,0,1,null,null,16,"Puente Aranda",2,38,0.18867924528301888,0,0,0,0,null,38,0]
[16,"Puente Aranda",3,39,0,0,1,null,null,16,"Puente Aranda",3,39,0.12220437415050044,0,0,0,0,null,39,0]
[16,"Puente Aranda",3,40,0,0,1,null,null,16,"Puente Aranda",3,40,0.10156925738292352,0,0,0,0,null,40,0]
[16,"Puente Aranda",3,43,0.10869565217391304,1.0869565217391304E-2,1,null,null,16,"Puente Aranda",3,43,8.9707154330903247E-2,0.10869565217391304,1.0869565217391304E-2,9.750777644663396E-3,9.750777644663396E-4,null,43,0]
[16,"Puente Aranda",3,45,0,0,1,null,null,16,"Puente Aranda",3,45,5.5109353762510811E-2,0,0,0,0,null,45,0]
[16,"Puente Aranda",3,48,0,0,1,null,null,16,"Puente Aranda",3,48,0.63140986037316194,0,0,0,0,null,48,0]
[16,"Puente Aranda",4,49,0,0,1,null,null,16,"Puente Aranda",4,49,1,0,0,0,0,null,49,0]
[16,"Puente Aranda",5,55,0,0,1,null,null,16,"Puente Aranda",5,55,0.30612244897959179,{"$f":"E388","v":0},{"$f":"F388","v":0},0,0,null,55,0]
[16,"Puente Aranda",5,57,0.24824602432179607,0.24824602432179607,1,null,null,16,"Puente Aranda",5,57,0.69387755102040816,0.24824602432179607,0.24824602432179607,{"$f":"N389*O389","v":0.17225234340696055},{"$f":"N389*P389","v":0.17225234340696055},null,57,{"$f":"M389-T389","v":0}]
[17,"La Candelaria",1,1,0.27658432646058639,9.5954916958562675E-2,1,null,null,17,"La Candelaria",1,1,7.9876320535944345E-2,0.27658432646058639,9.5954916958562675E-2,2.2092538315584071E-2,7.6645257039820742E-3,null,1,0]
[17,"La Candelaria",1,6,0,0,0.99999999999999989,null,null,17,"La Candelaria",1,6,0.24993558361247098,0,0,0,0,null,6,0]
[17,"La Candelaria",1,12,0,0,1,null,null,17,"La Candelaria",1,12,4.5349136820407115E-2,0,0,0,0,null,12,0]
[17,"La Candelaria",1,14,0,0,1,null,null,17,"La Candelaria",1,14,4.1484153568667866E-2,0,0,0,0,null,14,0]
[17,"La Candelaria",1,17,0,0,1,null,null,17,"La Candelaria",1,17,0.11620716310229323,0,0,0,0,null,17,0]
[17,"La Candelaria",1,20,0,0,1,null,null,17,"La Candelaria",1,20,0.13656274156145323,0,0,0,0,null,20,0]
[17,"La Candelaria",1,21,0,0,1,null,null,17,"La Candelaria",1,21,0.17418191187838183,0,0,0,0,null,21,0]
[17,"La Candelaria",1,24,0,0,1,null,null,17,"La Candelaria",1,24,0.15640298892038135,0,0,0,0,null,24,0]
[17,"La Candelaria",2,27,0,0,1,null,null,17,"La Candelaria",2,27,0.15094339622641509,0,0,0,0,null,27,0]
[17,"La Candelaria",2,28,0,0,1,null,null,17,"La Candelaria",2,28,0.18867924528301888,0,0,0,0,null,28,0]
[17,"La Candelaria",2,30,0,0,1,null,null,17,"La Candelaria",2,30,0.18867924528301888,0,0,0,0,null,30,0]
[17,"La Candelaria",2,33,0,0,1,null,null,17,"La Candelaria",2,33,0.18867924528301888,0,0,0,0,null,33,0]
[17,"La Candelaria",2,34,0,0,1,null,null,17,"La Candelaria",2,34,9.4339622641509441E-2,0,0,0,0,null,34,0]
[17,"La Candelaria",2,38,0,0,1,null,null,17,"La Candelaria",2,38,0.18867924528301888,0,0,0,0,null,38,0]
[17,"La Candelaria",3,39,0,0,1,null,null,17,"La Candelaria",3,39,0.12220437415050044,0,0,0,0,null,39,0]
[17,"La Candelaria",3,40,0,0,1,null,null,17,"La Candelaria",3,40,0.10156925738292352,0,0,0,0,null,40,0]
[17,"La Candelaria",3,43,0.5,0.5,1,null,null,17,"La Candelaria",3,43,8.9707154330903247E-2,0.5,0.5,4.4853577165451623E-2,4.4853577165451623E-2,null,43,0]
[17,"La Candelaria",3,45,0,0,1,null,null,17,"La Candelaria",3,45,5.5109353762510811E-2,0,0,0,0,null,45,0]
[17,"La Candelaria",3,48,0,0,1,null,null,17,"La Candelaria",3,48,0.63140986037316194,0,0,0,0,null,48,0]
[17,"La Candelaria",4,49,0,0,1,null,null,17,"La Candelaria",4,49,1,0,0,0,0,null,49,0]
[17,"La Candelaria",5,55,0,0,1,null,null,17,"La Candelaria",5,55,2.3255813953488372E-2,0,0,0,0,null,55,0]
[17,"La Candelaria",5,56,0,0,1,null,null,17,"La Candelaria",5,56,0.92403100775193792,0,0,0,0,null,56,0]
[17,"La Candelaria",5,57,0.24936246667439432,0.24936246667439432,1,null,null,17,"La Candelaria",5,57,5.2713178294573643E-2,0.24936246667439432,0.24936246667439432,1.3144688165782027E-2,1.3144688165782027E-2,null,57,0]
[18,"Rafael Uribe Uribe",1,1,0.25,0.25,1,null,null,18,"Rafael Uribe Uribe",1,1,7.8880407124681931E-2,0.25,0.25,1.9720101781170483E-2,1.9720101781170483E-2,null,1,0]
[18,"Rafael Uribe Uribe",1,6,0,0,0.99999999999999989,null,null,18,"Rafael Uribe Uribe",1,6,0.24681933842239182,0,0,0,0,null,6,0]
[18,"Rafael Uribe Uribe",1,8,0,0,1,null,null,18,"Rafael Uribe Uribe",1,8,1.2468193384223917E-2,0,0,0,0,null,8,0]
[18,"Rafael Uribe Uribe",1,12,0,0,1,null,null,18,"Rafael Uribe Uribe",1,12,4.4783715012722644E-2,0,0,0,0,null,12,0]
[18,"Rafael Uribe Uribe",1,14,0,0,1,null,null,18,"Rafael Uribe Uribe",1,14,4.0966921119592874E-2,0,0,0,0,null,14,0]
[18,"Rafael Uribe Uribe",1,17,0,0,1,null,null,18,"Rafael Uribe Uribe",1,17,0.11475826972010178,0,0,0,0,null,17,0]
[18,"Rafael Uribe Uribe",1,20,0,0,1,null,null,18,"Rafael Uribe Uribe",1,20,0.13486005089058523,0,0,0,0,null,20,0]
[18,"Rafael Uribe Uribe",1,21,0,0,1,null,null,18,"Rafael Uribe Uribe",1,21,0.17201017811704833,0,0,0,0,null,21,0]
[18,"Rafael Uribe Uribe",1,24,0,0,1,null,null,18,"Rafael Uribe Uribe",1,24,0.15445292620865139,0,0,0,0,null,24,0]
[18,"Rafael Uribe Uribe",2,27,0,0,1,null,null,18,"Rafael Uribe Uribe",2,27,0.15094339622641509,0,0,0,0,null,27,0]
[18,"Rafael Uribe Uribe",2,28,0,0,1,null,null,18,"Rafael Uribe Uribe",2,28,0.18867924528301888,0,0,0,0,null,28,0]
[18,"Rafael Uribe Uribe",2,30,0,0,1,null,null,18,"Rafael Uribe Uribe",2,30,0.18867924528301888,0,0,0,0,null,30,0]
[18,"Rafael Uribe Uribe",2,33,0,0,1,null,null,18,"Rafael Uribe Uribe",2,33,0.18867924528301888,0,0,0,0,null,33,0]
[18,"Rafael Uribe Uribe",2,34,0,0,1,null,null,18,"Rafael Uribe Uribe",2,34,9.4339622641509441E-2,0,0,0,0,null,34,0]
[18,"Rafael Uribe Uribe",2,38,0,0,1,null,null,18,"Rafael Uribe Uribe",2,38,0.18867924528301888,0,0,0,0,null,38,0]
[18,"Rafael Uribe Uribe",3,39,0,0,1,null,null,18,"Rafael Uribe Uribe",3,39,0.12220437415050044,0,0,0,0,null,39,0]
[18,"Rafael Uribe Uribe",3,40,0,0,1,null,null,18,"Rafael Uribe Uribe",3,40,0.10156925738292352,0,0,0,0,null,40,0]
[18,"Rafael Uribe Uribe",3,43,0.17575534266764922,0.17575534266764922,1,null,null,18,"Rafael Uribe Uribe",3,43,8.9707154330903247E-2,0.17575534266764922,0.17575534266764922,1.5766511649167592E-2,1.5766511649167592E-2,null,43,0]
[18,"Rafael Uribe Uribe",3,45,0,0,1,null,null,18,"Rafael Uribe Uribe",3,45,5.5109353762510811E-2,0,0,0,0,null,45,0]
[18,"Rafael Uribe Uribe",3,48,0,0,1,null,null,18,"Rafael Uribe Uribe",3,48,0.63140986037316194,0,0,0,0,null,48,0]
[18,"Rafael Uribe Uribe",4,49,0,0,1,null,null,18,"Rafael Uribe Uribe",4,49,1,0,0,0,0,null,49,0]
[18,"Rafael Uribe Uribe",5,55,0,0,1,null,null,18,"Rafael Uribe Uribe",5,55,0.30612244897959179,0,0,0,0,null,55,0]
[18,"Rafael Uribe Uribe",5,57,0.24841777158950668,0.24841777158950668,1,null,null,18,"Rafael Uribe Uribe",5,57,0.69387755102040816,0.24841777158950668,0.24841777158950668,0.17237151498047401,0.17237151498047401,null,57,0]
[19,"Ciudad Bolívar",1,1,0.25,0.12499694204564914,1,null,null,19,"Ciudad Bolívar",1,1,7.1593533487297925E-2,0.25,0.12499694204564914,1.7898383371824481E-2,8.94897275615502E-3,null,1,0]
[19,"Ciudad Bolívar",1,6,0,0,1,null,null,19,"Ciudad Bolívar",1,6,0.22401847575057737,0,0,0,0,null,6,0]
[19,"Ciudad Bolívar",1,8,0,0,1,null,null,19,"Ciudad Bolívar",1,8,1.1316397228637415E-2,0,0,0,0,null,8,0]
[19,"Ciudad Bolívar",1,12,0,0,1,null,null,19,"Ciudad Bolívar",1,12,4.0646651270207862E-2,0,0,0,0,null,12,0]
[19,"Ciudad Bolívar",1,14,0,0,1,null,null,19,"Ciudad Bolívar",1,14,3.7182448036951504E-2,0,0,0,0,null,14,0]
[19,"Ciudad Bolívar",1,17,0,0,1,null,null,19,"Ciudad Bolívar",1,17,0.10415704387990764,0,0,0,0,null,17,0]
[19,"Ciudad Bolívar",1,19,0,0,1,null,null,19,"Ciudad Bolívar",1,19,7.9214780600461915E-2,0,0,0,0,null,19,0]
[19,"Ciudad Bolívar",1,20,0,0,1,null,null,19,"Ciudad Bolívar",1,20,0.12240184757505775,0,0,0,0,null,20,0]
[19,"Ciudad Bolívar",1,21,0,0,1,null,null,19,"Ciudad Bolívar",1,21,0.15612009237875291,0,0,0,0,null,21,0]
[19,"Ciudad Bolívar",1,23,0,0,1,null,null,19,"Ciudad Bolívar",1,23,1.3163972286374134E-2,0,0,0,0,null,23,0]
[19,"Ciudad Bolívar",1,24,0,0,1,null,null,19,"Ciudad Bolívar",1,24,0.14018475750577369,0,0,0,0,null,24,0]
[19,"Ciudad Bolívar",2,27,0,0,1,null,null,19,"Ciudad Bolívar",2,27,0.12698412698412698,0,0,0,0,null,27,0]
[19,"Ciudad Bolívar",2,28,0,0,1,null,null,19,"Ciudad Bolívar",2,28,0.15873015873015875,0,0,0,0,null,28,0]
[19,"Ciudad Bolívar",2,30,0,0,1,null,null,19,"Ciudad Bolívar",2,30,0.15873015873015875,0,0,0,0,null,30,0]
[19,"Ciudad Bolívar",2,33,0,0,1,null,null,19,"Ciudad Bolívar",2,33,0.15873015873015875,0,0,0,0,null,33,0]
[19,"Ciudad Bolívar",2,34,0,0,1,null,null,19,"Ciudad Bolívar",2,34,7.9365079365079375E-2,0,0,0,0,null,34,0]
[19,"Ciudad Bolívar",2,37,0,0,1,null,null,19,"Ciudad Bolívar",2,37,0.15873015873015875,{"$f":"E452","v":0},{"$f":"F452","v":0},0,0,null,37,0]
[19,"Ciudad Bolívar",2,38,0,0,1,null,null,19,"Ciudad Bolívar",2,38,0.15873015873015875,0,0,{"$f":"N453*O453","v":0},{"$f":"N453*P453","v":0},null,38,{"$f":"M453-T453","v":0}]
[19,"Ciudad Bolívar",3,39,0,0,1,null,null,19,"Ciudad Bolívar",3,39,0.12220437415050044,0,0,0,0,null,39,0]
[19,"Ciudad Bolívar",3,40,0,0,1,null,null,19,"Ciudad Bolívar",3,40,0.10156925738292352,0,0,0,0,null,40,0]
[19,"Ciudad Bolívar",3,43,0,0,1,null,null,19,"Ciudad Bolívar",3,43,8.9707154330903247E-2,0,0,0,0,null,43,0]
[19,"Ciudad Bolívar",3,45,0,0,1,null,null,19,"Ciudad Bolívar",3,45,5.5109353762510811E-2,0,0,0,0,null,45,0]
[19,"Ciudad Bolívar",3,48,0,0,0.99999999999999989,null,null,19,"Ciudad Bolívar",3,48,0.63140986037316194,0,0,0,0,null,48,0]
[19,"Ciudad Bolívar",4,49,0,0,1,null,null,19,"Ciudad Bolívar",4,49,1,0,0,0,0,null,49,0]
[19,"Ciudad Bolívar",5,54,0.4,0.4,1,null,null,19,"Ciudad Bolívar",5,54,0.47872340425531912,0.4,0.4,0.19148936170212766,0.19148936170212766,null,54,0]
[19,"Ciudad Bolívar",5,55,0,0,1,null,null,19,"Ciudad Bolívar",5,55,0.15957446808510636,0,0,0,0,null,55,0]
[19,"Ciudad Bolívar",5,57,0.24873432099566747,0.24873432099566747,1,null,null,19,"Ciudad Bolívar",5,57,0.36170212765957449,0.24873432099566747,0.24873432099566747,8.9967733126092492E-2,8.9967733126092492E-2,null,57,0]
[20,"Sumapaz",1,1,4.4050263813490888E-3,4.4050263813490888E-3,1,null,null,20,"Sumapaz",1,1,7.1593533487297925E-2,4.4050263813490888E-3,4.4050263813490888E-3,3.1537140374554682E-4,3.1537140374554682E-4,null,1,0]
[20,"Sumapaz",1,6,0,0,1.0000000000000002,null,null,20,"Sumapaz",1,6,0.22401847575057737,0,0,0,0,null,6,0]
[20,"Sumapaz",1,8,0,0,1,null,null,20,"Sumapaz",1,8,1.1316397228637415E-2,0,0,0,0,null,8,0]
[20,"Sumapaz",1,12,0,0,1,null,null,20,"Sumapaz",1,12,4.0646651270207862E-2,0,0,0,0,null,12,0]
[20,"Sumapaz",1,14,0,0,1,null,null,20,"Sumapaz",1,14,3.7182448036951504E-2,0,0,0,0,null,14,0]
[20,"Sumapaz",1,17,0,0,1,null,null,20,"Sumapaz",1,17,0.10415704387990764,0,0,0,0,null,17,0]
[20,"Sumapaz",1,19,0,0,1,null,null,20,"Sumapaz",1,19,7.9214780600461915E-2,0,0,0,0,null,19,0]
[20,"Sumapaz",1,20,0,0,1,null,null,20,"Sumapaz",1,20,0.12240184757505775,0,0,0,0,null,20,0]
[20,"Sumapaz",1,21,0,0,1,null,null,20,"Sumapaz",1,21,0.15612009237875291,0,0,0,0,null,21,0]
[20,"Sumapaz",1,23,0,0,1,null,null,20,"Sumapaz",1,23,1.3163972286374134E-2,0,0,0,0,null,23,0]
[20,"Sumapaz",1,24,0,0,1,null,null,20,"Sumapaz",1,24,0.14018475750577369,0,0,0,0,null,24,0]
[20,"Sumapaz",2,27,0,0,1,null,null,20,"Sumapaz",2,27,0.12698412698412698,0,0,0,0,null,27,0]
[20,"Sumapaz",2,28,0,0,1,null,null,20,"Sumapaz",2,28,0.15873015873015875,0,0,0,0,null,28,0]
[20,"Sumapaz",2,30,0,0,1,null,null,20,"Sumapaz",2,30,0.15873015873015875,0,0,0,0,null,30,0]
[20,"Sumapaz",2,33,0,0,1,null,null,20,"Sumapaz",2,33,0.15873015873015875,0,0,0,0,null,33,0]
[20,"Sumapaz",2,34,0,0,1,null,null,20,"Sumapaz",2,34,7.9365079365079375E-2,0,0,0,0,null,34,0]
[20,"Sumapaz",2,37,0,0,1,null,null,20,"Sumapaz",2,37,0.15873015873015875,0,0,0,0,null,37,0]
[20,"Sumapaz",2,38,0,0,1,null,null,20,"Sumapaz",2,38,0.15873015873015875,0,0,0,0,null,38,0]
[20,"Sumapaz",3,39,0,0,1,null,null,20,"Sumapaz",3,39,0.12220437415050044,0,0,0,0,null,39,0]
[20,"Sumapaz",3,40,0,0,1,null,null,20,"Sumapaz",3,40,0.10156925738292352,0,0,0,0,null,40,0]
[20,"Sumapaz",3,43,0,0,1,null,null,20,"Sumapaz",3,43,8.9707154330903247E-2,0,0,0,0,null,43,0]
[20,"Sumapaz",3,45,0,0,1,null,null,20,"Sumapaz",3,45,5.5109353762510811E-2,0,0,0,0,null,45,0]
[20,"Sumapaz",3,48,0,0,0.99999999999999989,null,null,20,"Sumapaz",3,48,0.63140986037316194,0,0,0,0,null,48,0]
[20,"Sumapaz",4,49,0,0,1,null,null,20,"Sumapaz",4,49,1,0,0,0,0,null,49,0]
[20,"Sumapaz",5,54,0.5,0.5,1,null,null,20,"Sumapaz",5,54,6.5217391304347824E-2,0.5,0.5,3.2608695652173912E-2,3.2608695652173912E-2,null,54,0]
[20,"Sumapaz",5,55,0,0,1,null,null,20,"Sumapaz",5,55,2.1739130434782608E-2,0,0,0,0,null,55,0]
[20,"Sumapaz",5,56,0,0,1,null,null,20,"Sumapaz",5,56,0.86376811594202907,0,0,0,0,null,56,0]
[20,"Sumapaz",5,57,0.24733801197894609,0.24733801197894609,1,null,null,20,"Sumapaz",5,57,4.9275362318840589E-2,0.24733801197894609,0.24733801197894609,1.2187670155484302E-2,1.2187670155484302E-2,null,57,0]
["Total general",null,null,null,14.636629558278212,10.849413219352968,483]
[]
[]
[]
[]
[]
[]
[]
[]
[]
[]
[]
[]
[]
[]
[]
[]
[null,null,"No. Localidad","Código Propósito","Suma de Ponderador Local programa"]
[null,null,1,1,0.99999999999999978]
[null,null,1,2,1]
[null,null,1,3,1]
[null,null,1,4,1]
[null,null,1,5,1]
[null,null,2,1,1.0000000000000002]
[null,null,2,2,1]
[null,null,2,3,1]
[null,null,2,4,1]
[null,null,2,5,1]
[null,null,3,1,1.0000000000000002]
[null,null,3,2,1]
[null,null,3,3,1]
[null,null,3,4,1]
[null,null,3,5,1.0000000000000002]
[null,null,4,1,0.99999999999999989]
[null,null,4,2,1]
[null,null,4,3,1]
[null,null,4,4,1]
[null,null,4,5,1]
[null,null,5,1,1.0000000000000002]
[null,null,5,2,1]
[null,null,5,3,1]
[null,null,5,4,1]
[null,null,5,5,1]
[null,null,6,1,0.99999999999999989]
[null,null,6,2,1]
[null,null,6,3,1]
[null,null,6,4,1]
[null,null,6,5,1]
[null,null,7,1,0.99999999999999989]
[null,null,7,2,1]
[null,null,7,3,1]
[null,null,7,4,1]
[null,null,7,5,1]
[null,null,8,1,0.99999999999999978]
[null,null,8,2,1]
[null,null,8,3,1]
[null,null,8,4,1]
[null,null,8,5,1]
[null,null,9,1,0.99999999999999989]
[null,null,9,2,1]
[null,null,9,3,1]
[null,null,9,4,1]
[null,null,9,5,1]
[null,null,10,1,0.99999999999999978]
[null,null,10,2,1]
[null,null,10,3,1]
[null,null,10,4,1]
[null,null,10,5,1]
[null,null,11,1,1.0000000000000002]
[null,null,11,2,1]
[null,null,11,3,1]
[null,null,11,4,1]
[null,null,11,5,1]
[null,null,12,1,0.99999999999999989]
[null,null,12,2,1]
[null,null,12,3,1]
[null,null,12,4,1]
[null,null,12,5,1]
[null,null,13,1,0.99999999999999978]
[null,null,13,2,1]
[null,null,13,3,1]
[null,null,13,4,1]
[null,null,13,5,1]
[null,null,14,1,0.99999999999999978]
[null,null,14,2,1]
[null,null,14,3,1]
[null,null,14,4,1]
[null,null,14,5,1]
[null,null,15,1,0.99999999999999989]
[null,null,15,2,0.99999999999999989]
[null,null,15,3,1]
[null,null,15,4,1]
[null,null,15,5,1]
[null,null,16,1,0.99999999999999989]
[null,null,16,2,1]
[null,null,16,3,1]
[null,null,16,4,1]
[null,null,16,5,1]
[null,null,17,1,0.99999999999999978]
[null,null,17,2,1]
[null,null,17,3,1]
[null,null,17,4,1]
[null,null,17,5,1]
[null,null,18,1,0.99999999999999989]
[null,null,18,2,1]
[null,null,18,3,1]
[null,null,18,4,1]
[null,null,18,5,1]
[null,null,19,1,1.0000000000000002]
[null,null,19,2,1]
[null,null,19,3,1]
[null,null,19,4,1]
[null,null,19,5,1]
[null,null,20,1,1.0000000000000002]
[null,null,20,2,1]
[null,null,20,3,1]
[null,null,20,4,1]
[null,null,20,5,1.0000000000000002]
[null,null,"Total general",null,100]

{"sheet":"LISTAS 02","index":7,"n_rows":139,"n_cols":15,"rows_kept":139,"cut":false,"hidden":true,"merged":[]}
[1,2,3,4,null,5,6,7,8,9,10,11,12,13]
["INDICADOR DE PRODUCTO","No PROYECTO  DE INVERSIÓN","COMPETENCIA","SECTOR","Código Línea de inversión","LINEA","CONCEPTO","ESTRUCTURA META","INDICADOR DE PRODUCTO","TEMA","PROPOSITO","Código Programa","PROGRAMA PDD","COMPONENTE PROYECTO","CODIGO INDICADOR"]
["Hogares atendidos con apoyos que contribuyan al ingreso mínimo garantizado",1,"11. Realizar inversiones complementarias a los programas y proyectos de la Administración Distrital en los sectores de Salud, Integración Social, Educación, Mujer, poblaciones, ruralidad, de conformidad con la reglamentación que se expida para el efecto.","INTEGRACIÓN SOCIAL",3,"Sistema Bogotá Solidaria (20%)","Ingreso mínimo garantizado","Atender XXX hogares con apoyos que contribuyan al ingreso mínimo garantizado. ","Hogares atendidos con apoyos que contribuyan al ingreso mínimo garantizado","INGRESO MÍNIMO","Propósito 1. Hacer un nuevo contrato social con igualdad de oportunidades para la inclusión social, productiva y política",1,"Subsidios y transferencias para la equidad","INGRESO MÍNIMO",1]
["Número de personas mayores con apoyo económico tipo C",1,"11. Realizar inversiones complementarias a los programas y proyectos de la Administración Distrital en los sectores de Salud, Integración Social, Educación, Mujer, poblaciones, ruralidad, de conformidad con la reglamentación que se expida para el efecto.","INTEGRACIÓN SOCIAL",3,"Sistema Bogotá Solidaria (20%)","Subsidio tipo C adulto mayor.","Beneficiar XXX personas mayores con apoyo económico tipo C.","Número de personas mayores con apoyo económico tipo C","SUBSIDIO TIPO C","Propósito 1. Hacer un nuevo contrato social con igualdad de oportunidades para la inclusión social, productiva y política",1,"Subsidios y transferencias para la equidad","SUBSIDIO TIPO C",2]
["Proyectos para el desarrollo integral de la primera infancia y la relación escuela, familia y comunidad.",2,"11. Realizar inversiones complementarias a los programas y proyectos de la Administración Distrital en los sectores de Salud, Integración Social, Educación, Mujer, poblaciones, ruralidad, de conformidad con la reglamentación que se expida para el efecto.","EDUCACIÓN",4,"Educación superior y primera infancia (10%)","Apoyo para educación inicial.","Implementar XXX Proyectos para el desarrollo integral de la primera infancia y la relación escuela, familia y comunidad.","Proyectos para el desarrollo integral de la primera infancia y la relación escuela, familia y comunidad.","PROYECTOS PRIMERA INFANCIA","Propósito 1. Hacer un nuevo contrato social con igualdad de oportunidades para la inclusión social, productiva y política",12,"Educación inicial: Bases sólidas para la vida","EDUCACIÓN INICIAL",3]
["Sedes educativas urbanas y rurales dotadas",3,"11. Realizar inversiones complementarias a los programas y proyectos de la Administración Distrital en los sectores de Salud, Integración Social, Educación, Mujer, poblaciones, ruralidad, de conformidad con la reglamentación que se expida para el efecto.","EDUCACIÓN",6,"Infraestructura","Dotación pedagógica a colegios.","Dotar XXX sedes educativas urbanas y rurales.","Sedes educativas urbanas y rurales dotadas","SEDES EDUCATIVAS","Propósito 1. Hacer un nuevo contrato social con igualdad de oportunidades para la inclusión social, productiva y política",14,"Formación integral: más y mejor tiempo en los colegios","DOTACIÓN",4]
["Personas beneficiadas con  apoyo para la educación superior",4,"11. Realizar inversiones complementarias a los programas y proyectos de la Administración Distrital en los sectores de Salud, Integración Social, Educación, Mujer, poblaciones, ruralidad, de conformidad con la reglamentación que se expida para el efecto.","EDUCACIÓN",4,"Educación superior y primera infancia (10%)","Apoyo para educación superior.","Beneficiar XXX personas con apoyo para la educación superior.","Personas beneficiadas con  apoyo para la educación superior","EDUCACIÓN SUPERIOR","Propósito 1. Hacer un nuevo contrato social con igualdad de oportunidades para la inclusión social, productiva y política",17,"Jóvenes con capacidades: Proyecto de vida para la ciudadanía, la innovación y el trabajo del siglo XXI","APOYO EDUCACIÓN SUPERIOR",5]
["Número de estudiantes de programas de educación superior con apoyo de sostenimiento para la permanencia.",4,"11. Realizar inversiones complementarias a los programas y proyectos de la Administración Distrital en los sectores de Salud, Integración Social, Educación, Mujer, poblaciones, ruralidad, de conformidad con la reglamentación que se expida para el efecto.","EDUCACIÓN",4,"Educación superior y primera infancia (10%)","Apoyo para educación superior.","Beneficiar XXX estudiantes de programas de educación superior con apoyo de sostenimiento para la permanencia.","Número de estudiantes de programas de educación superior con apoyo de sostenimiento para la permanencia.","EDUCACIÓN SUPERIOR","Propósito 1. Hacer un nuevo contrato social con igualdad de oportunidades para la inclusión social, productiva y política",17,"Jóvenes con capacidades: Proyecto de vida para la ciudadanía, la innovación y el trabajo del siglo XXI","SOSTENIMIENTO",6]
["Sedes de Casas de juventud dotadas",5,"11. Realizar inversiones complementarias a los programas y proyectos de la Administración Distrital en los sectores de Salud, Integración Social, Educación, Mujer, poblaciones, ruralidad, de conformidad con la reglamentación que se expida para el efecto.","INTEGRACIÓN SOCIAL",6,"Infraestructura","Dotación Casas de Juventud.","Dotar XXX sedes de casas de juventud.","Sedes de Casas de juventud dotadas","CASAS DE JUVENTUD","Propósito 1. Hacer un nuevo contrato social con igualdad de oportunidades para la inclusión social, productiva y política",17,"Jóvenes con capacidades: Proyecto de vida para la ciudadanía, la innovación y el trabajo del siglo XXI","DOTACIÓN",7]
["Sedes de atención a adolescentes y jovenes vinculados al sistema de responsabilidad penal adolescente dotados.",5,"11. Realizar inversiones complementarias a los programas y proyectos de la Administración Distrital en los sectores de Salud, Integración Social, Educación, Mujer, poblaciones, ruralidad, de conformidad con la reglamentación que se expida para el efecto.","INTEGRACIÓN SOCIAL",6,"Infraestructura","Dotación a Jardines Infantiles, Centros Amar y Forjar.","Dotar XXX sedes de atención a adolescentes y jóvenes vinculados al sistema de responsabilidad penal adolescente (Centros Forjar).","Sedes de atención a adolescentes y jovenes vinculados al sistema de responsabilidad penal adolescente dotados.","SEDES ATENCIÓN A JÓVENES","Propósito 1. Hacer un nuevo contrato social con igualdad de oportunidades para la inclusión social, productiva y política",17,"Jóvenes con capacidades: Proyecto de vida para la ciudadanía, la innovación y el trabajo del siglo XXI","DOTACIÓN",8]
["Viviendas de interés social rurales mejoradas ",6,"11. Realizar inversiones complementarias a los programas y proyectos de la Administración Distrital en los sectores de Salud, Integración Social, Educación, Mujer, poblaciones, ruralidad, de conformidad con la reglamentación que se expida para el efecto.","HÁBITAT",9,"Ruralidad","Mejoramiento de vivienda rural.","Mejorar XXX viviendas de interés social rurales.","Viviendas de interés social rurales mejoradas ","VIVIENDA RURAL","Propósito 1. Hacer un nuevo contrato social con igualdad de oportunidades para la inclusión social, productiva y política",19,"Vivienda y entornos dignos en el territorio urbano y rural","MEJORAMIENTO DE VIVIENDA",9]
["Personas vinculadas en actividades recreo-deportivas comunitarias",7,"02. Realizar inversiones complementarias a las realizadas por el sector en la prestación de servicios culturales, recreativos y deportivos locales.","CULTURA, RECREACIÓN Y DEPORTE",7,"Desarrollo social y cultural","Eventos recreo-deportivos.","Vincular XXX personas en actividades recreo-deportivas comunitarias.","Personas vinculadas en actividades recreo-deportivas comunitarias","ACTIVIDAD DEPORTIVA","Propósito 1. Hacer un nuevo contrato social con igualdad de oportunidades para la inclusión social, productiva y política",20,"Bogotá, referente en cultura, deporte, recreación y actividad física, con parques para el desarrollo y la salud","EVENTOS",10]
["Personas capacitadas en los campos deportivos",7,"02. Realizar inversiones complementarias a las realizadas por el sector en la prestación de servicios culturales, recreativos y deportivos locales.","CULTURA, RECREACIÓN Y DEPORTE",7,"Desarrollo social y cultural","Procesos de formación y dotación de insumos para los campos artísticos, interculturales, culturales, patrimoniales y deportivos.","Capacitar XXX personas en los campos deportivos.","Personas capacitadas en los campos deportivos","FORMACIÓN DEPORTIVA","Propósito 1. Hacer un nuevo contrato social con igualdad de oportunidades para la inclusión social, productiva y política",20,"Bogotá, referente en cultura, deporte, recreación y actividad física, con parques para el desarrollo y la salud","FORMACIÓN DEPORTIVA",11]
["Personas beneficiadas con artículos entregados.",7,"02. Realizar inversiones complementarias a las realizadas por el sector en la prestación de servicios culturales, recreativos y deportivos locales.","CULTURA, RECREACIÓN Y DEPORTE",7,"Desarrollo social y cultural","Procesos de formación y dotación de insumos para los campos artísticos, interculturales, culturales, patrimoniales y deportivos.","Beneficiar XXX Personas con artículos deportivos entregados.","Personas beneficiadas con artículos entregados.","ACTIVIDAD DEPORTIVA","Propósito 1. Hacer un nuevo contrato social con igualdad de oportunidades para la inclusión social, productiva y política",20,"Bogotá, referente en cultura, deporte, recreación y actividad física, con parques para el desarrollo y la salud","DOTACIÓN",12]
["Eventos de promoción de actividades culturales realizadas",8,"02. Realizar inversiones complementarias a las realizadas por el sector en la prestación de servicios culturales, recreativos y deportivos locales.","CULTURA, RECREACIÓN Y DEPORTE",7,"Desarrollo social y cultural","Circulación y apropiación de prácticas artísticas, interculturales, culturales y patrimoniales.","Realizar XXX eventos de promoción de actividades culturales.","Eventos de promoción de actividades culturales realizadas","ACTIVIDAD CULTURAL","Propósito 1. Hacer un nuevo contrato social con igualdad de oportunidades para la inclusión social, productiva y política",21,"Creación y vida cotidiana: Apropiación ciudadana del arte, la cultura y el patrimonio, para la democracia cultural","EVENTOS",13]
["Estímulos otorgados de apoyo al sector artístico y cultural ",8,"02. Realizar inversiones complementarias a las realizadas por el sector en la prestación de servicios culturales, recreativos y deportivos locales.","CULTURA, RECREACIÓN Y DEPORTE",7,"Desarrollo social y cultural","Iniciativas de interés cultural, artístico, patrimonial y recreo deportivas.","Otorgar XXX estímulos de apoyo al sector artístico y cultural.","Estímulos otorgados de apoyo al sector artístico y cultural ","ESTIMULOS CULTURALES","Propósito 1. Hacer un nuevo contrato social con igualdad de oportunidades para la inclusión social, productiva y política",21,"Creación y vida cotidiana: Apropiación ciudadana del arte, la cultura y el patrimonio, para la democracia cultural","ESTÍMULOS",14]
["Personas capacitadas en los campos artísticos, interculturales, culturales y/o patrimoniales",8,"02. Realizar inversiones complementarias a las realizadas por el sector en la prestación de servicios culturales, recreativos y deportivos locales.","CULTURA, RECREACIÓN Y DEPORTE",7,"Desarrollo social y cultural","Procesos de formación y dotación de insumos para los campos artísticos, interculturales, culturales, patrimoniales y deportivos.","Capacitar XXX personas en los campos artísticos, interculturales, culturales y/o patrimoniales.","Personas capacitadas en los campos artísticos, interculturales, culturales y/o patrimoniales","FORMACIÓN CULTURAL","Propósito 1. Hacer un nuevo contrato social con igualdad de oportunidades para la inclusión social, productiva y política",21,"Creación y vida cotidiana: Apropiación ciudadana del arte, la cultura y el patrimonio, para la democracia cultural","FORMACIÓN",15]
["Sedes dotadas/Sedes adecuadas",8,"02. Realizar inversiones complementarias a las realizadas por el sector en la prestación de servicios culturales, recreativos y deportivos locales.","CULTURA, RECREACIÓN Y DEPORTE",6,"Infraestructura","Dotación e infraestructura cultural.","Intervenir XXX sedes culturales con dotación y/o adecuación.","Sedes dotadas/Sedes adecuadas","SEDES CULTURALES","Propósito 1. Hacer un nuevo contrato social con igualdad de oportunidades para la inclusión social, productiva y política",21,"Creación y vida cotidiana: Apropiación ciudadana del arte, la cultura y el patrimonio, para la democracia cultural","FORTALECIMIENTO INFRAESTRUCTURA",16]
["Número de Predios rurales con asistencia técnica agropecuaria y/o ambiental",9,"11. Realizar inversiones complementarias a los programas y proyectos de la Administración Distrital en los sectores de Salud, Integración Social, Educación, Mujer, poblaciones, ruralidad, de conformidad con la reglamentación que se expida para el efecto.","AMBIENTE / DESARROLLO ECONÓMICO",9,"Ruralidad","Asistencia técnica agropecuaria y ambiental y productividad rural.","Apoyar XXX predios rurales con asistencia técnica agropecuaria y/o ambiental. ","Número de Predios rurales con asistencia técnica agropecuaria y/o ambiental","ASISTENCIA TÉCNICA Y COMERCIALIZACIÓN RURAL","Propósito 1. Hacer un nuevo contrato social con igualdad de oportunidades para la inclusión social, productiva y política",23,"Bogotá rural","ASESORÍA Y ASISTENCIA TÉCNICA ",17]
["Número  de hogares y/o unidades productivas vinculadas a procesos productivos y de comercialización en el sector rural",9,"11. Realizar inversiones complementarias a los programas y proyectos de la Administración Distrital en los sectores de Salud, Integración Social, Educación, Mujer, poblaciones, ruralidad, de conformidad con la reglamentación que se expida para el efecto.","AMBIENTE / DESARROLLO ECONÓMICO",9,"Ruralidad","Asistencia técnica agropecuaria y ambiental y productividad rural.","Vincular XXX hogares y/o unidades productivas a procesos productivos y de comercialización en el sector rural.","Número  de hogares y/o unidades productivas vinculadas a procesos productivos y de comercialización en el sector rural","ASISTENCIA TÉCNICA RURAL","Propósito 1. Hacer un nuevo contrato social con igualdad de oportunidades para la inclusión social, productiva y política",23,"Bogotá rural","EMPRENDIMIENTO RURAL",18]
["Número acciones de fomento para la agricultura urbana",10,"07. Orientar la gestión ambiental.","AMBIENTE",8,"Inversiones ambientales sostenibles","Agricultura urbana.","Implementar XXX acciones de fomento para la agricultura urbana.","Número acciones de fomento para la agricultura urbana","AGRICULTURA URBANA","Propósito 1. Hacer un nuevo contrato social con igualdad de oportunidades para la inclusión social, productiva y política",24,"Bogotá región emprendedora e innovadora","AGRICULTURA URBANA",19]
["Número de proyectos financiados y acompañados del sector cultural y creativo.",11,"Nueva PDD","CULTURA, RECREACIÓN Y DEPORTE",7,"Desarrollo social y cultural","Apoyo y fortalecimiento a las industrias culturales y creativas en las localidades","Financiar XXX proyectos del sector cultural y creativo.","Número de proyectos financiados y acompañados del sector cultural y creativo.","ACTIVIDAD CULTURAL","Propósito 1. Hacer un nuevo contrato social con igualdad de oportunidades para la inclusión social, productiva y política",24,"Bogotá región emprendedora e innovadora","FORTALECIMIENTO INDUSTRIA CULTURAL",20]
["Número de Mipymes y/o emprendimientos culturales y creativos apoyados",12,"Nueva PDD","DESARROLLO ECONÓMICO, INDUSTRIA Y TURISMO",5,"Desarrollo de la Economía Local","Apoyo a industrias culturales y creativas.","Apoyar XXX Mipymes y/o emprendimientos culturales y creativos.","Número de Mipymes y/o emprendimientos culturales y creativos apoyados","DESARROLLO DE LA ECONOMÍA LOCAL","Propósito 1. Hacer un nuevo contrato social con igualdad de oportunidades para la inclusión social, productiva y política",6,"Sistema Distrital de Cuidado","FORTALECIMIENTO MIPYMES",21]
["Número de Mipymes y/o emprendimientos con procesos de reconversión hacia actividades sostenibles",12,"Nueva PDD","DESARROLLO ECONÓMICO, INDUSTRIA Y TURISMO",5,"Desarrollo de la Economía Local","Reactivación y reconversión verde","Promover en XXX Mipymes y/o emprendimientos procesos de reconversión hacia actividades sostenibles.","Número de Mipymes y/o emprendimientos con procesos de reconversión hacia actividades sostenibles","DESARROLLO DE LA ECONOMÍA LOCAL","Propósito 1. Hacer un nuevo contrato social con igualdad de oportunidades para la inclusión social, productiva y política",6,"Sistema Distrital de Cuidado","REACTIVACIÓN",22]
["Número de Mipymes y/o emprendimientos con transformacion empresarial y/o productiva",12,"Nueva PDD","DESARROLLO ECONÓMICO, INDUSTRIA Y TURISMO",5,"Desarrollo de la Economía Local","Transformación productiva y formación de capacidades","Promover en XXX Mipymes y/o emprendimientos la transformación empresarial y/o productiva.","Número de Mipymes y/o emprendimientos con transformacion empresarial y/o productiva","DESARROLLO DE LA ECONOMÍA LOCAL","Propósito 1. Hacer un nuevo contrato social con igualdad de oportunidades para la inclusión social, productiva y política",6,"Sistema Distrital de Cuidado","TRANSFORMACIÓN PRODUCTIVA",23]
["Número de Mipymes  y/o emprendimientos revitalizadas o potencializadas dentro de las aglomeraciones económicas que fomentan el empleo y/o nuevas actividades económicas",12,"Nueva PDD","DESARROLLO ECONÓMICO, INDUSTRIA Y TURISMO",5,"Desarrollo de la Economía Local","Revitalización del corazón productivo de las localidades","Revitalizar XXX Mipymes y/o emprendimientos potencializadas dentro de las aglomeraciones económicas que fomentan el empleo y/o nuevas actividades económicas.","Número de Mipymes  y/o emprendimientos revitalizadas o potencializadas dentro de las aglomeraciones económicas que fomentan el empleo y/o nuevas actividades económicas","DESARROLLO DE LA ECONOMÍA LOCAL","Propósito 1. Hacer un nuevo contrato social con igualdad de oportunidades para la inclusión social, productiva y política",6,"Sistema Distrital de Cuidado","REVITALIZACIÓN",24]
["Número de Personas formadas u orientadas o sensibilizadas en prevención de violencia intrafamiliar y/o violencia sexual.            ",13,"05. Desarrollar acciones que promuevan los derechos de las mujeres, desde los enfoques de género, de derechos, diferencial y territorial.","INTEGRACIÓN SOCIAL",7,"Desarrollo social y cultural","Prevención y atención de violencia intrafamiliar y sexual para poblaciones en situaciones de riesgo y vulneración de derechos.","Formar XXX personas en prevención de violencia intrafamiliar y/o violencia sexual.","Número de Personas formadas u orientadas o sensibilizadas en prevención de violencia intrafamiliar y/o violencia sexual.            ","PREVENCIÓN DE LA VIOLENCIA","Propósito 1. Hacer un nuevo contrato social con igualdad de oportunidades para la inclusión social, productiva y política",6,"Sistema Distrital de Cuidado","PREVENCIÓN DE VIOLENCIAS",25]
["Centros de atención especializada dotados",13,"11. Realizar inversiones complementarias a los programas y proyectos de la Administración Distrital en los sectores de Salud, Integración Social, Educación, Mujer, poblaciones, ruralidad, de conformidad con la reglamentación que se expida para el efecto.","INTEGRACIÓN SOCIAL",6,"Infraestructura","Dotación a Centros Crecer, Renacer.","Dotar XXX centros de atención especializados.","Centros de atención especializada dotados","CENTROS DE ATENCIÓN ESPECIALIZADOS","Propósito 1. Hacer un nuevo contrato social con igualdad de oportunidades para la inclusión social, productiva y política",6,"Sistema Distrital de Cuidado","DOTACIÓN CENTROS DE ATENCIÓN ESPECIALIZADOS",26]
["Sedes de Centros de Desarrollo comunitarios dotados",13,"11. Realizar inversiones complementarias a los programas y proyectos de la Administración Distrital en los sectores de Salud, Integración Social, Educación, Mujer, poblaciones, ruralidad, de conformidad con la reglamentación que se expida para el efecto.","INTEGRACIÓN SOCIAL",6,"Infraestructura","Dotación Centros de Desarrollo Comunitario.","Dotar XXX Centros de Desarrollo comunitarios","Sedes de Centros de Desarrollo comunitarios dotados","CENTROS DE DESARROLLO COMUNITARIO","Propósito 1. Hacer un nuevo contrato social con igualdad de oportunidades para la inclusión social, productiva y política",6,"Sistema Distrital de Cuidado","DOTACIÓN CDC",27]
["Sedes de atención a la primera infancia y/o adolescencia dotadas.",13,"11. Realizar inversiones complementarias a los programas y proyectos de la Administración Distrital en los sectores de Salud, Integración Social, Educación, Mujer, poblaciones, ruralidad, de conformidad con la reglamentación que se expida para el efecto.","INTEGRACIÓN SOCIAL",6,"Infraestructura","Dotación a Jardines Infantiles, Centros Amar y Forjar.","Dotar XXX Sedes de atención a la primera infancia y/o adolescencia (jardines infantiles y Centros Amar).","Sedes de atención a la primera infancia y/o adolescencia dotadas.","JARDINES INFANTILES Y CENTROS AMAR","Propósito 1. Hacer un nuevo contrato social con igualdad de oportunidades para la inclusión social, productiva y política",6,"Sistema Distrital de Cuidado","DOTACIÓN JARDINES IFANTILES Y CENTROS AMAR",28]
["Unidades Operativas de los Centros de Atención Integral a la Diversidad Sexual y de Géneros dotadas",13,"11. Realizar inversiones complementarias a los programas y proyectos de la Administración Distrital en los sectores de Salud, Integración Social, Educación, Mujer, poblaciones, ruralidad, de conformidad con la reglamentación que se expida para el efecto.","INTEGRACIÓN SOCIAL",6,"Infraestructura","Dotación a Centro de Atención a la diversidad Sexual y de géneros – CAIDSG.","Dotar XXX Unidades Operativas de los Centros de Atención Integral a la Diversidad Sexual y de Géneros.","Unidades Operativas de los Centros de Atención Integral a la Diversidad Sexual y de Géneros dotadas","Centros de Atención Integral a la Diversidad Sexual","Propósito 1. Hacer un nuevo contrato social con igualdad de oportunidades para la inclusión social, productiva y política",6,"Sistema Distrital de Cuidado","DOTACIÓN CAIDSG",29]
["Mujeres cuidadoras vinculadas a estrategias de cuidado",14,"05. Desarrollar acciones que promuevan los derechos de las mujeres, desde los enfoques de género, de derechos, diferencial y territorial.","MUJER",7,"Desarrollo social y cultural","Estrategias de cuidado para cuidadoras, cuidadores y a personas con discapacidad","Vincular XXX mujeres cuidadoras a estrategias de cuidado.","Mujeres cuidadoras vinculadas a estrategias de cuidado","ESTRATEGIAS DE CUIDADO","Propósito 1. Hacer un nuevo contrato social con igualdad de oportunidades para la inclusión social, productiva y política",6,"Sistema Distrital de Cuidado","ESTRATEGIAS DE CUIDADO",30]
["Número de personas con discapacidad, cuidadadores y cuidadoras, vinculados en actividades alernativas de salud.",15,"11. Realizar inversiones complementarias a los programas y proyectos de la Administración Distrital en los sectores de Salud, Integración Social, Educación, Mujer, poblaciones, ruralidad, de conformidad con la reglamentación que se expida para el efecto.","SALUD",11,"Condiciones de salud","Acciones complementarias para personas en condición de discapacidad y sus cuidadores.","Vincular XXX personas con discapacidad, cuidadores y cuidadoras, en actividades alternativas de salud.","Número de personas con discapacidad, cuidadadores y cuidadoras, vinculados en actividades alernativas de salud.","ATENCIÓN  A LA DISCAPACIDAD Y SUS CUIDADORES","Propósito 1. Hacer un nuevo contrato social con igualdad de oportunidades para la inclusión social, productiva y política",6,"Sistema Distrital de Cuidado","ACCIONES COMPLEMENTARIAS ",31]
["Números de personas vinculadas a las acciones desarrolladas desde los dispositivos de base comunitaria en respuesta al consumo de SPA.",15,"12. Realizar inversiones complementarias a las realizadas por la Administración Central y desarrollar acciones en el ámbito social que promuevan la prevención del embarazo en adolescentes, así como de los factores de riesgo frente al consumo de sustancias psicoactivas. ","SALUD",11,"Condiciones de salud","Acciones para la disminución de los factores de riesgo frente al consumo de sustancias psicoactivas.","Vincular XXX personas a las acciones desarrolladas desde los dispositivos de base comunitaria en respuesta al consumo de SPA.","Números de personas vinculadas a las acciones desarrolladas desde los dispositivos de base comunitaria en respuesta al consumo de SPA.","SPA","Propósito 1. Hacer un nuevo contrato social con igualdad de oportunidades para la inclusión social, productiva y política",6,"Sistema Distrital de Cuidado","DISMINUCIÓN FACTORES DE RIESGO SPA",32]
["Número de personas con discapacidad beneficiadas con Dispostivos de Asistencia Personal - Ayudas Técnicas (no incluidas en los Planes de Beneficios).",15,"11. Realizar inversiones complementarias a los programas y proyectos de la Administración Distrital en los sectores de Salud, Integración Social, Educación, Mujer, poblaciones, ruralidad, de conformidad con la reglamentación que se expida para el efecto.","SALUD",11,"Condiciones de salud","Dispositivos de asistencia personal -DAP- Ayudas técnicas a personas con discapacidad (No incluidas en el POS).","Beneficiar XXX personas con discapacidad a través de Dispositivos de Asistencia Personal - Ayudas Técnicas (no incluidas en los Planes de Beneficios).","Número de personas con discapacidad beneficiadas con Dispostivos de Asistencia Personal - Ayudas Técnicas (no incluidas en los Planes de Beneficios).","ATENCIÓN  A LA DISCAPACIDAD Y SUS CUIDADORES","Propósito 1. Hacer un nuevo contrato social con igualdad de oportunidades para la inclusión social, productiva y política",6,"Sistema Distrital de Cuidado","DISPOSITIVOS DE ASISTENCIA PERSONAL",33]
["Número de personas vinculadas a las acciones y estrategias de reconocimiento de los saberes ancestrales en medicina.",15,"11. Realizar inversiones complementarias a los programas y proyectos de la Administración Distrital en los sectores de Salud, Integración Social, Educación, Mujer, poblaciones, ruralidad, de conformidad con la reglamentación que se expida para el efecto.","SALUD",11,"Condiciones de salud","Reconocimiento de los saberes ancestrales en medicina.","Vincular XXX personas a las acciones y estrategias de reconocimiento de los saberes ancestrales en medicina.","Número de personas vinculadas a las acciones y estrategias de reconocimiento de los saberes ancestrales en medicina.","SABERES ANCESTRALES","Propósito 1. Hacer un nuevo contrato social con igualdad de oportunidades para la inclusión social, productiva y política",6,"Sistema Distrital de Cuidado","SABERES ANCESTRALES",34]
["Número de mujeres gestantes, niños y niñas, migrantes irregulares, vinvulados en acciones de protección específica y detección temprana.",15,"11. Realizar inversiones complementarias a los programas y proyectos de la Administración Distrital en los sectores de Salud, Integración Social, Educación, Mujer, poblaciones, ruralidad, de conformidad con la reglamentación que se expida para el efecto.","SALUD",11,"Condiciones de salud","Acciones de cuidado y protección para madres gestantes, niños y niñas migrantes.","Vincular XXX mujeres gestantes, niños y niñas, migrantes irregulares, vinculados en acciones de protección específica y detección temprana.","Número de mujeres gestantes, niños y niñas, migrantes irregulares, vinvulados en acciones de protección específica y detección temprana.","MUJERES GESTANTES","Propósito 1. Hacer un nuevo contrato social con igualdad de oportunidades para la inclusión social, productiva y política",6,"Sistema Distrital de Cuidado","ACCIONES DE CUIDADO",35]
["Número de personas vinculadas en las acciones complementarias de la estrategia territorial de salud.",15,"11. Realizar inversiones complementarias a los programas y proyectos de la Administración Distrital en los sectores de Salud, Integración Social, Educación, Mujer, poblaciones, ruralidad, de conformidad con la reglamentación que se expida para el efecto.","SALUD",11,"Condiciones de salud","Coinversión en la estrategia territorial de salud.","Vincular XXX personas en acciones complementarias de la estrategia territorial de salud.","Número de personas vinculadas en las acciones complementarias de la estrategia territorial de salud.","ESTRATEGIA TERRITORIAL DE SALUD","Propósito 1. Hacer un nuevo contrato social con igualdad de oportunidades para la inclusión social, productiva y política",6,"Sistema Distrital de Cuidado","ESTRATEGIA TERRITORIAL DE SALUD",36]
["Número de personas vinculadas a las acciones y estrategias para la prevención del embarazo adolescente",16,"12. Realizar inversiones complementarias a las realizadas por la Administración Central y desarrollar acciones en el ámbito social que promuevan la prevención del embarazo en adolescentes, así como de los factores de riesgo frente al consumo de sustancias psicoactivas. ","SALUD",11,"Condiciones de salud","Prevención del embarazo en adolescentes.","Vincular XXX personas a las acciones y estrategias para la prevención del embarazo adolescente.","Número de personas vinculadas a las acciones y estrategias para la prevención del embarazo adolescente","PREVENCIÓN DEL EMBARAZO","Propósito 1. Hacer un nuevo contrato social con igualdad de oportunidades para la inclusión social, productiva y política",8,"Prevención y atención de maternidad temprana","PREVENCIÓN",37]
["Número de PROCEDAS implementados ",17,"07. Orientar la gestión ambiental.","AMBIENTE",8,"Inversiones ambientales sostenibles","Educación ambiental.","Implementar XXX PROCEDAS.","Número de PROCEDAS implementados ","PROCEDAS","Propósito 2. Cambiar nuestros hábitos de vida para reverdecer a Bogotá y adaptarnos y mitigar el cambio climático.",27,"Cambio cultural para la gestión de la crisis climática","EDUCACIÓN AMBIENTAL",38]
["m2 de muros y techos verdes",17,"07. Orientar la gestión ambiental.","AMBIENTE",8,"Inversiones ambientales sostenibles","Eco-urbanismo.","Construir XXX m2 de muros y techos verdes.","m2 de muros y techos verdes","INTERVENCIONES VERDES","Propósito 2. Cambiar nuestros hábitos de vida para reverdecer a Bogotá y adaptarnos y mitigar el cambio climático.",27,"Cambio cultural para la gestión de la crisis climática","MUROS VERDES",39]
["m2 de jardinería y coberturas verdes",17,"07. Orientar la gestión ambiental.","AMBIENTE",8,"Inversiones ambientales sostenibles","Eco-urbanismo.","Intervenir XXX m2 de jardinería y coberturas verdes. ","m2 de jardinería y coberturas verdes","INTERVENCIONES VERDES","Propósito 2. Cambiar nuestros hábitos de vida para reverdecer a Bogotá y adaptarnos y mitigar el cambio climático.",27,"Cambio cultural para la gestión de la crisis climática","JARDINERÍA",40]
["Hectáreas en restauración, rehabilitación o recuperación ecológica y mantenimiento ",18,"07. Orientar la gestión ambiental.","AMBIENTE",8,"Inversiones ambientales sostenibles","Restauración ecológica urbana y/o rural.","Intervenir XXX hectáreas con procesos de restauración, rehabilitación o recuperación ecológica.","Hectáreas en restauración, rehabilitación o recuperación ecológica y mantenimiento ","INTERVENCIONES VERDES","Propósito 2. Cambiar nuestros hábitos de vida para reverdecer a Bogotá y adaptarnos y mitigar el cambio climático.",28,"Bogotá protectora de sus recursos naturales","RESTAURACIÓN ECOLÓGICA",41]
["Acciones efectivas para el fortalecimiento de las capacidades locales para la respuesta a emergencias y desastres",19,"08. Atender y prevenir riesgos de desastres naturales.","AMBIENTE",8,"Inversiones ambientales sostenibles","Manejo de emergencias y desastres.","Realizar XXX acciones efectivas para el fortalecimiento de las capacidades locales para la respuesta a emergencias y desastres.","Acciones efectivas para el fortalecimiento de las capacidades locales para la respuesta a emergencias y desastres","REDUCCIÓN DEL RIESGO","Propósito 2. Cambiar nuestros hábitos de vida para reverdecer a Bogotá y adaptarnos y mitigar el cambio climático.",30,"Eficiencia en la atención de emergencias","MANEJO DE EMERGENCIAS, CALAMIDADES Y DESASTRES",42]
["Intervenciones para la reducción del riesgo y adaptación al cambio climático",19,"08. Atender y prevenir riesgos de desastres naturales.","AMBIENTE",8,"Inversiones ambientales sostenibles","Mitigación del riesgo. ","Desarrollar XXX intervenciones para la reducción del riesgo y adaptación al cambio climático.","Intervenciones para la reducción del riesgo y adaptación al cambio climático","REDUCCIÓN DEL RIESGO","Propósito 2. Cambiar nuestros hábitos de vida para reverdecer a Bogotá y adaptarnos y mitigar el cambio climático.",30,"Eficiencia en la atención de emergencias","REDUCCIÓN DEL RIESGO Y ADAPTACIÓN AL CAMBIO CLIMÁTICO",43]
["Número de árboles mantenidos",20,"07. Orientar la gestión ambiental.","AMBIENTE",8,"Inversiones ambientales sostenibles","Arbolado urbano y/o rural.","Mantener XXX árboles urbanos y/o rurales.","Número de árboles mantenidos","ARBOLADO","Propósito 2. Cambiar nuestros hábitos de vida para reverdecer a Bogotá y adaptarnos y mitigar el cambio climático.",33,"Más árboles y más y mejor espacio público ","ARBORIZACIÓN",44]
["Número de árboles plantados",20,"07. Orientar la gestión ambiental.","AMBIENTE",8,"Inversiones ambientales sostenibles","Arbolado urbano y/o rural.","Plantar XXX árboles urbanos y/o rurales.","Número de árboles plantados","ARBOLADO","Propósito 2. Cambiar nuestros hábitos de vida para reverdecer a Bogotá y adaptarnos y mitigar el cambio climático.",33,"Más árboles y más y mejor espacio público ","ARBORIZACIÓN",45]
["m2 de Parques vecinales y/o de bolsillo construidos y dotados",21,"04. Adelantar la construcción y mantenimiento de parques vecinales y de bolsillo.","CULTURA, RECREACIÓN Y DEPORTE",6,"Infraestructura","Construcción, mantenimiento y dotación de parques vecinales y/o de bolsillo.","Construir XXX m2 de Parques vecinales y/o de bolsillo (la construcción incluye su dotación).","m2 de Parques vecinales y/o de bolsillo construidos y dotados","PARQUES","Propósito 2. Cambiar nuestros hábitos de vida para reverdecer a Bogotá y adaptarnos y mitigar el cambio climático.",33,"Más árboles y más y mejor espacio público ","CONSTRUCCIÓN",46]
["Número de Parques vecinales y/o de bolsillo intervenidos en mejoramiento, mantenimiento y/o dotación",21,"04. Adelantar la construcción y mantenimiento de parques vecinales y de bolsillo.","CULTURA, RECREACIÓN Y DEPORTE",6,"Infraestructura","Construcción, mantenimiento y dotación de parques vecinales y/o de bolsillo.","Intervenir XXX Parques vecinales y/o de bolsillo con acciones de mejoramiento, mantenimiento y/o dotación. ","Número de Parques vecinales y/o de bolsillo intervenidos en mejoramiento, mantenimiento y/o dotación","PARQUES","Propósito 2. Cambiar nuestros hábitos de vida para reverdecer a Bogotá y adaptarnos y mitigar el cambio climático.",33,"Más árboles y más y mejor espacio público ","INTERVENCIÓN",47]
["Número de animales atendidos",22,"07. Orientar la gestión ambiental.","AMBIENTE",8,"Inversiones ambientales sostenibles","Acuerdos con las redes locales de proteccionistas de animales para urgencias, brigadas médico veterinarias, acciones de esterilización, educación y adopción  ","Atender XXX animales en urgencias, brigadas médico veterinarias, acciones de esterilización, educación y adopción.","Número de animales atendidos","PROTECCIÓN ANIMAL","Propósito 2. Cambiar nuestros hábitos de vida para reverdecer a Bogotá y adaptarnos y mitigar el cambio climático.",34,"Bogotá protectora de los animales","BIENESTAR ANIMAL",48]
["Número de acueductos verdales asistidos o intervenidos técnica u organizacionalmente.",23,"11. Realizar inversiones complementarias a los programas y proyectos de la Administración Distrital en los sectores de Salud, Integración Social, Educación, Mujer, poblaciones, ruralidad, de conformidad con la reglamentación que se expida para el efecto.","HÁBITAT",9,"Ruralidad","Acueductos veredales y saneamiento básico.","Fortalecer XXX acueductos veredales con asistencia, intervenir técnica u organizativa","Número de acueductos verdales asistidos o intervenidos técnica u organizacionalmente.","ACUEDUCTOS VEREDALES","Propósito 2. Cambiar nuestros hábitos de vida para reverdecer a Bogotá y adaptarnos y mitigar el cambio climático.",37,"Provisión y mejoramiento de servicios públicos","ACUEDUCTOS VEREDALES",49]
["Personas capacitadas en separación en la fuente y reciclaje",24,"07. Orientar la gestión ambiental.","HÁBITAT",8,"Inversiones ambientales sostenibles","Cambios de hábitos de consumo, separación en la fuente y reciclaje.","Capacitar XXX personas en separación en la fuente y reciclaje.","Personas capacitadas en separación en la fuente y reciclaje","RECICLAJE","Propósito 2. Cambiar nuestros hábitos de vida para reverdecer a Bogotá y adaptarnos y mitigar el cambio climático.",38,"Ecoeficiencia, reciclaje, manejo de residuos e inclusión de la población recicladora","HÁBITOS DE CONSUMO",50]
["Acciones con energías alternativas para el área rural realizadas.",24,"11. Realizar inversiones complementarias a los programas y proyectos de la Administración Distrital en los sectores de Salud, Integración Social, Educación, Mujer, poblaciones, ruralidad, de conformidad con la reglamentación que se expida para el efecto.","HÁBITAT",9,"Ruralidad","Energías alternativas para el área rural.","Realizar XXX acciones  con energías alternativas para el área rural.","Acciones con energías alternativas para el área rural realizadas.","ENERGÍAS ALTERNATIVAS","Propósito 2. Cambiar nuestros hábitos de vida para reverdecer a Bogotá y adaptarnos y mitigar el cambio climático.",38,"Ecoeficiencia, reciclaje, manejo de residuos e inclusión de la población recicladora","ENERGÍAS ALTERNATIVAS",51]
["Personas vinculadas a procesos de construcción de memoria, verdad, reparación integral a víctimas, paz y reconciliación",25,"06. Promover la seguridad y convivencia ciudadanas.","GESTIÓN PÚBLICA",7,"Desarrollo social y cultural","Construcción de memoria, verdad, reparación, víctimas, paz y reconciliación.","Vincular XXX personas a procesos de construcción de memoria, verdad, reparación integral a víctimas, paz y reconciliación.","Personas vinculadas a procesos de construcción de memoria, verdad, reparación integral a víctimas, paz y reconciliación","PAZ, MEMORIA Y RECONCILIACIÓN","Propósito 3. Inspirar confianza y legitimidad para vivir sin miedo y ser epicentro de cultura ciudadana, paz y reconciliación.",39,"Bogotá territorio de paz y atención integral a las víctimas del conflicto armado","ENERGÍAS ALTERNATIVAS",52]
["Personas capacitadas para la construcción de ciudadanía y desarrollo de capacidades para el ejercicio de derechos de las mujeres.",26,"05. Desarrollar acciones que promuevan los derechos de las mujeres, desde los enfoques de género, de derechos, diferencial y territorial.","MUJER",7,"Desarrollo social y cultural","Construcción de ciudadanía y desarrollo de capacidades para el ejercicio de derechos de las mujeres.","Capacitar XXX personas para la construcción de ciudadanía y desarrollo de capacidades para el ejercicio de derechos de las mujeres.","Personas capacitadas para la construcción de ciudadanía y desarrollo de capacidades para el ejercicio de derechos de las mujeres.","DERECHOS DE LA MUJER","Propósito 3. Inspirar confianza y legitimidad para vivir sin miedo y ser epicentro de cultura ciudadana, paz y reconciliación.",40,"Más mujeres viven una vida libre de violencias, se sienten seguras y acceden con confianza al sistema de justicia","DESARROLLO DE CAPACIDADES",53]
["Número de Personas vinculadas en acciones para la prevención del feminicidio y la violencia contra la mujer",26,"05. Desarrollar acciones que promuevan los derechos de las mujeres, desde los enfoques de género, de derechos, diferencial y territorial.","MUJER",7,"Desarrollo social y cultural","Prevención del feminicidio y la violencia contra la mujer.","Vincular XXX personas en acciones para la prevención del feminicidio y la violencia contra la mujer.","Número de Personas vinculadas en acciones para la prevención del feminicidio y la violencia contra la mujer","PREVENCIÓN DE LA VIOLENCIA","Propósito 3. Inspirar confianza y legitimidad para vivir sin miedo y ser epicentro de cultura ciudadana, paz y reconciliación.",40,"Más mujeres viven una vida libre de violencias, se sienten seguras y acceden con confianza al sistema de justicia","PREVENCIÓN",54]
["Estrategia de atención de movilizaciones y aglomeraciones en el territorio implementada a traves de equipos de gestores de convivencia bajo el direccionamiento estrategico de la Secretaria de Seguridad, Convivencia y Justicia",27,"06. Promover la seguridad y convivencia ciudadanas.","SEGURIDAD, CONVIVENCIA Y JUSTICIA",7,"Desarrollo social y cultural","Promoción de la convivencia ciudadana.","Implementar XXX estrategia de atención de movilizaciones y aglomeraciones en el territorio a través de equipos de gestores de convivencia bajo el direccionamiento estratégico de la Secretaria de Seguridad, Convivencia y Justicia.","Estrategia de atención de movilizaciones y aglomeraciones en el territorio implementada a traves de equipos de gestores de convivencia bajo el direccionamiento estrategico de la Secretaria de Seguridad, Convivencia y Justicia","ACCIONES DE CONVIVENCIA","Propósito 3. Inspirar confianza y legitimidad para vivir sin miedo y ser epicentro de cultura ciudadana, paz y reconciliación.",43,"Cultura ciudadana para la confianza, la convivencia y la participación desde la vida cotidiana","GESTORES DE CONVIVENCIA",55]
["Número de personas formadas en la escuela de seguridad",27,"06. Promover la seguridad y convivencia ciudadanas.","SEGURIDAD, CONVIVENCIA Y JUSTICIA",7,"Desarrollo social y cultural","Promoción de la convivencia ciudadana.","Formar XXX personas en la escuela de seguridad.","Número de personas formadas en la escuela de seguridad","ACCIONES DE CONVIVENCIA","Propósito 3. Inspirar confianza y legitimidad para vivir sin miedo y ser epicentro de cultura ciudadana, paz y reconciliación.",43,"Cultura ciudadana para la confianza, la convivencia y la participación desde la vida cotidiana","ESCUELA DE SEGURIDAD",56]
["Personas incluidas en actividades de educación para la resiliencia y la prevención de hechos delictivos. ",27,"06. Promover la seguridad y convivencia ciudadanas.","SEGURIDAD, CONVIVENCIA Y JUSTICIA",7,"Desarrollo social y cultural","Promoción de la convivencia ciudadana.","Incluir XXX personas en actividades de educación para la resiliencia y la prevención de hechos delictivos.","Personas incluidas en actividades de educación para la resiliencia y la prevención de hechos delictivos. ","ACCIONES DE CONVIVENCIA","Propósito 3. Inspirar confianza y legitimidad para vivir sin miedo y ser epicentro de cultura ciudadana, paz y reconciliación.",43,"Cultura ciudadana para la confianza, la convivencia y la participación desde la vida cotidiana","PREVENCIÓN",57]
["Acuerdos realizados para el uso del EP con fines culturales, deportivos, recreacionales o de mercados temporales.",28,"06. Promover la seguridad y convivencia ciudadanas.","GOBIERNO",7,"Desarrollo social y cultural","Acuerdos para el uso, acceso y aprovechamiento del espacio público.","Realizar XXX acuerdos para el uso del EP con fines culturales, deportivos, recreacionales o de mercados temporales.","Acuerdos realizados para el uso del EP con fines culturales, deportivos, recreacionales o de mercados temporales.","\nACUERDOS DE ESPACIO PÚBLICO","Propósito 3. Inspirar confianza y legitimidad para vivir sin miedo y ser epicentro de cultura ciudadana, paz y reconciliación.",45,"Espacio público más seguro y construido colectivamente","ACUERDOS CIUDADANOS",58]
["Acuerdos realizados para la promover la formalización de vendedores informales a circulos económicos productivos de la ciudad",28,"06. Promover la seguridad y convivencia ciudadanas.","GOBIERNO",7,"Desarrollo social y cultural","Acuerdos para fortalecer la formalidad.","Realizar XXX acuerdos para la promover la formalización de vendedores informales a círculos económicos productivos de la ciudad.","Acuerdos realizados para la promover la formalización de vendedores informales a circulos económicos productivos de la ciudad","\nACUERDOS DE ESPACIO PÚBLICO","Propósito 3. Inspirar confianza y legitimidad para vivir sin miedo y ser epicentro de cultura ciudadana, paz y reconciliación.",45,"Espacio público más seguro y construido colectivamente","ACUERDOS CIUDADANOS",59]
["Acuerdos realizados para la vinculación de la ciudadanía en los programas adelantados por el IDRD y acuerdos con vendedores informales o estacionarios ",28,"06. Promover la seguridad y convivencia ciudadanas.","GOBIERNO",7,"Desarrollo social y cultural","Acuerdos para mejorar el uso de medios de transporte no motorizados.","Realizar XXX acuerdos para la vinculación de la ciudadanía en los programas adelantados por el IDRD y acuerdos con vendedores informales o estacionarios","Acuerdos realizados para la vinculación de la ciudadanía en los programas adelantados por el IDRD y acuerdos con vendedores informales o estacionarios ","\nACUERDOS DE ESPACIO PÚBLICO","Propósito 3. Inspirar confianza y legitimidad para vivir sin miedo y ser epicentro de cultura ciudadana, paz y reconciliación.",45,"Espacio público más seguro y construido colectivamente","ACUERDOS CIUDADANOS",60]
["Beneficiarios de las estrategias para el fortalecimiento  de los mecanismos  de justicia comunitaria.",29,"06. Promover la seguridad y convivencia ciudadanas.","SEGURIDAD, CONVIVENCIA Y JUSTICIA",7,"Desarrollo social y cultural","Acceso a la Justicia.","Beneficiar XXX personas a través de estrategias para el fortalecimiento de los mecanismos de justicia comunitaria.","Beneficiarios de las estrategias para el fortalecimiento  de los mecanismos  de justicia comunitaria.","ACCESO A LA JUSTICIA","Propósito 3. Inspirar confianza y legitimidad para vivir sin miedo y ser epicentro de cultura ciudadana, paz y reconciliación.",48,"Plataforma institucional para la seguridad y justicia","JUSTICIA COMUNITARIA",61]
["Personas atendidas en estrategias de acceso a la justicia integral en la ciudad.",29,"06. Promover la seguridad y convivencia ciudadanas.","SEGURIDAD, CONVIVENCIA Y JUSTICIA",7,"Desarrollo social y cultural","Acceso a la Justicia.","Atender XXX personas en estrategias de acceso a la justicia integral en la ciudad.","Personas atendidas en estrategias de acceso a la justicia integral en la ciudad.","ACCESO A LA JUSTICIA","Propósito 3. Inspirar confianza y legitimidad para vivir sin miedo y ser epicentro de cultura ciudadana, paz y reconciliación.",48,"Plataforma institucional para la seguridad y justicia","JUECES DE PAZ",62]
["Instituciones educativas vinculadas al programa pedagógico de resolución de conflictos en la comunidad escolar.",29,"06. Promover la seguridad y convivencia ciudadanas.","SEGURIDAD, CONVIVENCIA Y JUSTICIA",7,"Desarrollo social y cultural","Acceso a la Justicia.","Vincular XXX Instituciones educativas al programa pedagógico de resolución de conflictos en la comunidad escolar.","Instituciones educativas vinculadas al programa pedagógico de resolución de conflictos en la comunidad escolar.","ACCESO A LA JUSTICIA","Propósito 3. Inspirar confianza y legitimidad para vivir sin miedo y ser epicentro de cultura ciudadana, paz y reconciliación.",48,"Plataforma institucional para la seguridad y justicia","RESOLUCIÓN DE CONFLICTOS ESCOLARES",63]
["Estrategia local de acciones pedagógicas del Código Nacional de Seguridad y Convivencia Ciudadana implementada en la localidad.",29,"06. Promover la seguridad y convivencia ciudadanas.","SEGURIDAD, CONVIVENCIA Y JUSTICIA",7,"Desarrollo social y cultural","Acceso a la Justicia.","Implementar 1 estrategia local de acciones pedagógicas del Código Nacional de Seguridad y Convivencia Ciudadana en la localidad.","Estrategia local de acciones pedagógicas del Código Nacional de Seguridad y Convivencia Ciudadana implementada en la localidad.","ACCESO A LA JUSTICIA","Propósito 3. Inspirar confianza y legitimidad para vivir sin miedo y ser epicentro de cultura ciudadana, paz y reconciliación.",48,"Plataforma institucional para la seguridad y justicia","ACCIONES PEDAGÓGICAS",64]
["Dotaciones tecnológicas suministradas a organismos de seguridad.",30,"06. Promover la seguridad y convivencia ciudadanas.","SEGURIDAD, CONVIVENCIA Y JUSTICIA",7,"Desarrollo social y cultural","Dotación para instancias de seguridad.","Suministrar XXX dotaciones tecnológicas a organismos de seguridad.","Dotaciones tecnológicas suministradas a organismos de seguridad.","DOTACIÓN EN SEGURIDAD","Propósito 3. Inspirar confianza y legitimidad para vivir sin miedo y ser epicentro de cultura ciudadana, paz y reconciliación.",48,"Plataforma institucional para la seguridad y justicia","DOTACIÓN",65]
["Dotaciones logísticas suministradas a organismos de seguridad.",30,"06. Promover la seguridad y convivencia ciudadanas.","SEGURIDAD, CONVIVENCIA Y JUSTICIA",7,"Desarrollo social y cultural","Dotación para instancias de seguridad.","Suministrar XXX dotaciones logísticas a organismos de seguridad.","Dotaciones logísticas suministradas a organismos de seguridad.","DOTACIÓN EN SEGURIDAD","Propósito 3. Inspirar confianza y legitimidad para vivir sin miedo y ser epicentro de cultura ciudadana, paz y reconciliación.",48,"Plataforma institucional para la seguridad y justicia","DOTACIÓN",66]
["Dotaciones de equipos especiales de protección  suministradas a organismos de seguridad.",30,"06. Promover la seguridad y convivencia ciudadanas.","SEGURIDAD, CONVIVENCIA Y JUSTICIA",7,"Desarrollo social y cultural","Dotación para instancias de seguridad.","Suministrar XXX dotaciones de equipos especiales de protección a organismos de seguridad.","Dotaciones de equipos especiales de protección  suministradas a organismos de seguridad.","DOTACIÓN EN SEGURIDAD","Propósito 3. Inspirar confianza y legitimidad para vivir sin miedo y ser epicentro de cultura ciudadana, paz y reconciliación.",48,"Plataforma institucional para la seguridad y justicia","DOTACIÓN",67]
["Dotación del parque automotor suministrada a organismos de seguridad.",30,"06. Promover la seguridad y convivencia ciudadanas.","SEGURIDAD, CONVIVENCIA Y JUSTICIA",7,"Desarrollo social y cultural","Dotación para instancias de seguridad.","Suministrar XXX dotaciones del parque automotor a organismos de seguridad.","Dotación del parque automotor suministrada a organismos de seguridad.","DOTACIÓN EN SEGURIDAD","Propósito 3. Inspirar confianza y legitimidad para vivir sin miedo y ser epicentro de cultura ciudadana, paz y reconciliación.",48,"Plataforma institucional para la seguridad y justicia","DOTACIÓN",68]
["Metros cuadrados construidos y/o conservados de elementos del sistema de espacio público peatonal.",31,"03. Adelantar el diseño, construcción y conservación de la malla vial local e intermedia, del espacio público y peatonal local e intermedio; así como de los puentes peatonales y/o vehiculares que pertenezcan a la malla vial local e intermedia, incluyendo los ubicados sobre cuerpos de agua. Así mismo, podrán coordinar con las entidades del sector movilidad su participación en la conservación de la malla vial y espacio público arterial, sin transporte masivo.","MOVILIDAD",6,"Infraestructura","Construcción y/o conservación de elementos del sistema de espacio público peatonal.","Intervenir XXX metros cuadrados de elementos del sistema de espacio público peatonal con acciones de construcción y/o conservación.","Metros cuadrados construidos y/o conservados de elementos del sistema de espacio público peatonal.","ESPACIO PÚBLICO","Propósito 4. Hacer de Bogotá-región un modelo de movilidad, creatividad y productividad incluyente y sostenible",49,"Movilidad segura, sostenible y accesible","CONSTRUCCIÓN Y CONSERVACIÓN ",69]
["Metros cuadrados de Puentes vehiculares y/o peatonales de escala local sobre cuerpos de agua construidos y/o intervenidos",31,"03. Adelantar el diseño, construcción y conservación de la malla vial local e intermedia, del espacio público y peatonal local e intermedio; así como de los puentes peatonales y/o vehiculares que pertenezcan a la malla vial local e intermedia, incluyendo los ubicados sobre cuerpos de agua. Así mismo, podrán coordinar con las entidades del sector movilidad su participación en la conservación de la malla vial y espacio público arterial, sin transporte masivo.","MOVILIDAD",6,"Infraestructura","Construcción y/o conservación de puentes peatonales y/o vehiculares sobre cuerpos de agua (de escala local: urbana y/o rural).","Intervenir XXX metros cuadrados de Puentes vehiculares y/o peatonales de escala local sobre cuerpos de agua con acciones de construcción y/o conservación.","Metros cuadrados de Puentes vehiculares y/o peatonales de escala local sobre cuerpos de agua construidos y/o intervenidos","PUENTES","Propósito 4. Hacer de Bogotá-región un modelo de movilidad, creatividad y productividad incluyente y sostenible",49,"Movilidad segura, sostenible y accesible","INTERVENCIÓN PUENTES",70]
["Kilómetros-carril construidos y/o conservados de malla vial urbana (local y/o intermedia)",31,"03. Adelantar el diseño, construcción y conservación de la malla vial local e intermedia, del espacio público y peatonal local e intermedio; así como de los puentes peatonales y/o vehiculares que pertenezcan a la malla vial local e intermedia, incluyendo los ubicados sobre cuerpos de agua. Así mismo, podrán coordinar con las entidades del sector movilidad su participación en la conservación de la malla vial y espacio público arterial, sin transporte masivo.","MOVILIDAD",6,"Infraestructura","Diseño, construcción y conservación (mantenimiento y rehabilitación) de la malla vial local e intermedia urbana o rural.","Intervenir XXX Kilómetros-carril de malla vial urbana (local y/o intermedia) con acciones de construcción y/o conservación","Kilómetros-carril construidos y/o conservados de malla vial urbana (local y/o intermedia)","MALLA VIAL","Propósito 4. Hacer de Bogotá-región un modelo de movilidad, creatividad y productividad incluyente y sostenible",49,"Movilidad segura, sostenible y accesible","INTERVENCIÓN MALLA VIAL LOCAL",71]
["Kilómetros-carril construidos y/o conservados de malla vial rural",31,"03. Adelantar el diseño, construcción y conservación de la malla vial local e intermedia, del espacio público y peatonal local e intermedio; así como de los puentes peatonales y/o vehiculares que pertenezcan a la malla vial local e intermedia, incluyendo los ubicados sobre cuerpos de agua. Así mismo, podrán coordinar con las entidades del sector movilidad su participación en la conservación de la malla vial y espacio público arterial, sin transporte masivo.","MOVILIDAD",6,"Infraestructura","Diseño, construcción y conservación (mantenimiento y rehabilitación) de la malla vial local e intermedia urbana o rural.","Intervenir XXX Kilómetros-carril de malla vial rural con acciones de construcción y/o conservación","Kilómetros-carril construidos y/o conservados de malla vial rural","MALLA VIAL","Propósito 4. Hacer de Bogotá-región un modelo de movilidad, creatividad y productividad incluyente y sostenible",49,"Movilidad segura, sostenible y accesible","INTERVENCIÓN MALLA VIAL RURAL",72]
["Metros lineales construidos y/o conservados de Ciclo-infraestructura",31,"03. Adelantar el diseño, construcción y conservación de la malla vial local e intermedia, del espacio público y peatonal local e intermedio; así como de los puentes peatonales y/o vehiculares que pertenezcan a la malla vial local e intermedia, incluyendo los ubicados sobre cuerpos de agua. Así mismo, podrán coordinar con las entidades del sector movilidad su participación en la conservación de la malla vial y espacio público arterial, sin transporte masivo.","MOVILIDAD",6,"Infraestructura","Diseño, construcción y conservación de ciclo-infraestructura.","Intervenir XXX metros lineales de Ciclo-infraestructura con acciones de construcción y/o conservación.","Metros lineales construidos y/o conservados de Ciclo-infraestructura","CICLO-INFRAESTRUCTURA","Propósito 4. Hacer de Bogotá-región un modelo de movilidad, creatividad y productividad incluyente y sostenible",49,"Movilidad segura, sostenible y accesible","CICLO INFRAESTRUCTURA",73]
["Centros de Acceso Comunitario en zonas rurales y/o apartadas funcionando ",32,"11. Realizar inversiones complementarias a los programas y proyectos de la Administración Distrital en los sectores de Salud, Integración Social, Educación, Mujer, poblaciones, ruralidad, de conformidad con la reglamentación que se expida para el efecto.","GESTIÓN PÚBLICA",9,"Ruralidad","Conectividad y redes de comunicación.","Operativizar XXX Centros de Acceso Comunitario en zonas rurales y/o apartadas.","Centros de Acceso Comunitario en zonas rurales y/o apartadas funcionando ","CONECTIVIDAD RURAL","Propósito 5. Construir Bogotá-región con gobierno abierto, transparente y ciudadanía consciente.",54,"Transformación digital y gestión de TIC para un territorio inteligente","CONECTIVIDAD",74]
["Sedes intervenidas de salones comunales.",33,"09. Fomentar la participación ciudadana.","GOBIERNO",6,"Infraestructura","Intervención y dotación de salones comunales.","Intervenir XXX sedes de salones comunales.","Sedes intervenidas de salones comunales.","SALONES COMUNALES","Propósito 5. Construir Bogotá-región con gobierno abierto, transparente y ciudadanía consciente.",55,"Fortalecimiento de Cultura Ciudadana y su institucionalidad","INTERVENCIÓN",75]
["Sedes dotadas de salones comunales.",33,"09. Fomentar la participación ciudadana.","GOBIERNO",6,"Infraestructura","Intervención y dotación de salones comunales.","Dotar XXX sedes de salones comunales.","Sedes dotadas de salones comunales.","SALONES COMUNALES","Propósito 5. Construir Bogotá-región con gobierno abierto, transparente y ciudadanía consciente.",55,"Fortalecimiento de Cultura Ciudadana y su institucionalidad","DOTACIÓN",76]
["Sedes construidas de salones comunales",33,"09. Fomentar la participación ciudadana.","GOBIERNO",6,"Infraestructura","Intervención y dotación de salones comunales.","Construir XXX sedes de salones comunales","Sedes construidas de salones comunales","SALONES COMUNALES","Propósito 5. Construir Bogotá-región con gobierno abierto, transparente y ciudadanía consciente.",55,"Fortalecimiento de Cultura Ciudadana y su institucionalidad","CONSTRUCCIÓN",77]
["Número de Personas capacitadas a través de procesos de formación para la participación de manera virtual y presencial.",33,"09. Fomentar la participación ciudadana.","GOBIERNO",7,"Participación ciudadana y construcción de confianza / Desarrollo social y cultural","Escuelas y procesos de formación para la participación ciudadana y/u organizaciones para los procesos de presupuestos participativos.","Capacitar XXX personas a través de procesos de formación para la participación de manera virtual y presencial.","Número de Personas capacitadas a través de procesos de formación para la participación de manera virtual y presencial.","FORMACIÓN CIUDADANA","Propósito 5. Construir Bogotá-región con gobierno abierto, transparente y ciudadanía consciente.",55,"Fortalecimiento de Cultura Ciudadana y su institucionalidad","FORMACIÓN",78]
["Número de Organizaciones, JAC e Instancias de participación ciudadana fortalecidas.",33,"09. Fomentar la participación ciudadana.","GOBIERNO",7,"Participación ciudadana y construcción de confianza / Desarrollo social y cultural","Fortalecimiento de organizaciones sociales, comunitarias, comunales, propiedad horizontal e instancias y mecanismos de participación, con énfasis en jóvenes y asociatividad productiva.","Fortalecer XXX Organizaciones, JAC e Instancias de participación ciudadana.","Número de Organizaciones, JAC e Instancias de participación ciudadana fortalecidas.","FORTALECIMIENTO ORGANIZATIVO","Propósito 5. Construir Bogotá-región con gobierno abierto, transparente y ciudadanía consciente.",55,"Fortalecimiento de Cultura Ciudadana y su institucionalidad","FORTALECIMIENTO ORGANIZATIVO",79]
["Sedes administrativas locales terminadas.",34,"01. Administrar las Alcaldías Locales y los Fondos de Desarrollo Local.","GOBIERNO",1,"Gestión pública local","Terminación de infraestructuras (sedes administrativas locales).","Terminar 1 sedes administrativas locales.","Sedes administrativas locales terminadas.","FORTALECIMIENTO ORGANIZATIVO","Propósito 5. Construir Bogotá-región con gobierno abierto, transparente y ciudadanía consciente.",56,"Gestión pública efectiva","FORTALECIMIENTO ORGANIZATIVO",80]
["Sedes administrativas locales construidas.",34,"01. Administrar las Alcaldías Locales y los Fondos de Desarrollo Local.","GOBIERNO",1,"Gestión pública local","Terminación de infraestructuras (sedes administrativas locales).","Construir 1 sedes administrativas locales.","Sedes administrativas locales construidas.","FORTALECIMIENTO ORGANIZATIVO","Propósito 5. Construir Bogotá-región con gobierno abierto, transparente y ciudadanía consciente.",56,"Gestión pública efectiva","SEDE ADMINISTRATIVA",81]
["Estrategias de fortalecimiento institucional realizadas",35,"01. Administrar las Alcaldías Locales y los Fondos de Desarrollo Local.","GOBIERNO",1,"Gestión pública local","Fortalecimiento institucional.","Realizar 4 estrategias de fortalecimiento institucional.","Estrategias de fortalecimiento institucional realizadas","FORTALECIMIENTO LOCAL","Propósito 5. Construir Bogotá-región con gobierno abierto, transparente y ciudadanía consciente.",57,"Gestión Pública Local","FORTALECIMIENTO LOCAL",82]
["Número de Rendiciones de cuentas anuales.",35,"09. Fomentar la participación ciudadana.","GOBIERNO",10,"Participación ciudadana y construcción de confianza","Transparencia, control social y rendición de cuentas del Gobierno Local.","Realizar 1 rendición de cuentas anuales.","Número de Rendiciones de cuentas anuales.","TRANSPARENCIA Y CONTROL SOCIAL","Propósito 5. Construir Bogotá-región con gobierno abierto, transparente y ciudadanía consciente.",57,"Gestión Pública Local","TRANSPARENCIA Y CONTROL SOCIAL",83]
["Acciones de inspección, vigilancia y control realizadas",36,"10. Coordinar la inspección, vigilancia y control.","GOBIERNO",2,"Inspección, vigilancia y control","Inspección, vigilancia y control.","Realizar 4 acciones de inspección, vigilancia y control.","Acciones de inspección, vigilancia y control realizadas","IVC","Propósito 5. Construir Bogotá-región con gobierno abierto, transparente y ciudadanía consciente.",57,"Gestión Pública Local","IVC",84]
[]
[]
[]
[null,null,null,null,null,null,null,null,null,null,null," "]
[]
[null,"Código Programa","PROGRAMA PDD","Código Programa"]
[null,1,"Subsidios y transferencias para la equidad",1]
[null,12,"Educación inicial: Bases sólidas para la vida",12]
[null,14,"Formación integral: más y mejor tiempo en los colegios",14]
[null,17,"Jóvenes con capacidades: Proyecto de vida para la ciudadanía, la innovación y el trabajo del siglo XXI",17]
[null,19,"Vivienda y entornos dignos en el territorio urbano y rural",19]
[null,20,"Bogotá, referente en cultura, deporte, recreación y actividad física, con parques para el desarrollo y la salud",20]
[null,21,"Creación y vida cotidiana: Apropiación ciudadana del arte, la cultura y el patrimonio, para la democracia cultural",21]
[null,23,"Bogotá rural",23]
[null,24,"Bogotá región emprendedora e innovadora",24]
[null,6,"Sistema Distrital de Cuidado",6]
[null,8,"Prevención y atención de maternidad temprana",8]
[null,27,"Cambio cultural para la gestión de la crisis climática",27]
[null,28,"Bogotá protectora de sus recursos naturales",28]
[null,30,"Eficiencia en la atención de emergencias",30]
[null,33,"Más árboles y más y mejor espacio público ",33]
[null,34,"Bogotá protectora de los animales",34]
[null,37,"Provisión y mejoramiento de servicios públicos",37]
[null,38,"Ecoeficiencia, reciclaje, manejo de residuos e inclusión de la población recicladora",38]
[null,39,"Bogotá territorio de paz y atención integral a las víctimas del conflicto armado",39]
[null,40,"Más mujeres viven una vida libre de violencias, se sienten seguras y acceden con confianza al sistema de justicia",40]
[null,43,"Cultura ciudadana para la confianza, la convivencia y la participación desde la vida cotidiana",43]
[null,45,"Espacio público más seguro y construido colectivamente",45]
[null,48,"Plataforma institucional para la seguridad y justicia",48]
[null,49,"Movilidad segura, sostenible y accesible",49]
[null,54,"Transformación digital y gestión de TIC para un territorio inteligente",54]
[null,55,"Fortalecimiento de Cultura Ciudadana y su institucionalidad",55]
[null,56,"Gestión pública efectiva",56]
[null,57,"Gestión Pública Local",57]
[]
[]
[]
[]
[]
[null,null,null,"INTEGRACIÓN SOCIAL",92,null,122,"Sector Mujeres",100]
[null,null,null,"EDUCACIÓN",90,null,112,"Sector Seguridad, Convivencia y Justicia",102]
[null,null,null,"HÁBITAT",96,null,118,"Sector Gestión pública",85]
[null,null,null,"CULTURA, RECREACIÓN Y DEPORTE",93,null,119,"Sector Hacienda",87]
[null,null,null,"AMBIENTE / DESARROLLO ECONÓMICO","94-89",null,"129-117","Sector Planeación",88]
[null,null,null,"AMBIENTE",94,null,126,"Sector Desarrollo económico, industria y turismo",89]
[null,null,null,"DESARROLLO ECONÓMICO, INDUSTRIA Y TURISMO",89,null,117,"Sector Educación",90]
[null,null,null,"MUJERES",100,null,121,"Sector Salud",91]
[null,null,null,"SALUD",91,null,201,"Sector Integración social",92]
[null,null,null,"GESTIÓN PÚBLICA",85,null,104,"Sector Cultura, recreación y deporte",93]
[null,null,null,"SEGURIDAD, CONVIVENCIA Y JUSTICIA",102,null,137,"Sector Ambiente",94]
[null,null,null,"GOBIERNO",98,null,110,"Sector Movilidad",95]
[null,null,null,"MOVILIDAD",95,null,113,"Sector Hábitat",96]
[null,null,null,null,null,null,null,"Sector Gobierno",98]

{"sheet":"Inf Ejec","index":8,"n_rows":136,"n_cols":24,"rows_kept":136,"cut":false,"hidden":false,"merged":[[16,9,16,12]]}
[]
[]
[]
[]
[]
[]
[]
[]
[]
[]
[]
[]
[null,"INFORME EJECUTIVO AVANCE METAS PDL 2021-2024"]
[]
[null,{"$f":"NomLocIE!$G$12","v":"Marzo 31 de 2021"}]
[null,"Dirección de planes de Desarrollo y Fortalecimiento Local - SDP"]
[null,"Localidad:",null,null,{"$f":"NomLocIE!B4","v":"Usaquén"},null,null,null,null,"*Recursos en millones de pesos"]
[]
[null,"Cód Eje/Pilar","Cód Programa","Código Proyecto","Meta PDL","Tipo de anualización","Año_corte","Magnitud programada POAI 2021","Magnitud contratada 2021 ","Magnitud entregada 2021","Magnitud contratada 2022","Magnitud entregada 2022","Magnitud contratada 2023","Magnitud entregada 2023","Magnitud contratada 2024","Magnitud entregada 2024","Avance acum. contratado (%)","Avance acum. Entregado (%)","Apropiación inicial POAI vigencia","Compromisos 2021","Giros 2021","Compromisos 2022","Compromisos 2023","Compromisos 2024"]
[null,1,1,1960,"Atender 977 hogares con apoyos que contribuyan al ingreso mínimo garantizado.","Constante","2021_1",977,0,0,0,0,0,0,0,0,0,0,5406826000,4447080000,4331333333,0,0,0]
[]
[null,1,1,1960,"Beneficiar 950 personas mayores con apoyo económico tipo C.","Constante","2021_1",950,950,950,0,0,0,0,0,0,0.25,0.25,1802275000,462004000,4017566,0,0,0]
[]
[null,1,6,1941,"Promover en 210 Mipymes y/o emprendimientos procesos de reconversión hacia actividades sostenibles","Suma","2021_1",86,0,0,0,0,0,0,0,0,0,0,874137000,52332000,0,0,0,0]
[]
[null,1,6,1941,"Promover en 208 Mipymes y/o emprendimientos la transformación empresarial y/o productiva","Suma","2021_1",90,5,0,0,0,0,0,0,0,2.403846153846154E-2,0,1068389000,102580000,5151333,0,0,0]
[]
[null,1,6,1941,"Revitalizar 211 Mipymes y/o emprendimientos potencializadas dentro de las aglomeraciones económicas que fomentan el empleo y/o nuevas actividades económicas","Suma","2021_1",98,0,0,0,0,0,0,0,0,0,0,971263000,50166000,0,0,0,0]
[]
[null,1,6,1941,"Apoyar 267 Mipymes y/o emprendimientos culturales y creativos","Suma","2021_1",119,0,0,0,0,0,0,0,0,0,0,1408331000,163500000,3250000,0,0,0]
[]
[null,1,6,1961,"Beneficiar 711 personas con discapacidad a través de Dispositivos de Asistencia Personal - Ayudas Técnicas (no incluidas en los Planes de Beneficios).","Suma","2021_1",175,0,0,0,0,0,0,0,0,0,0,331715000,71500000,0,0,0,0]
[]
[null,1,6,1988,"Formar 1020 personas en prevención de violencia intrafamiliar y/o violencia sexual.","Suma","2021_1",185,0,0,0,0,0,0,0,0,0,0,485631000,50000000,0,0,0,0]
[]
[null,1,6,1988,"Dotar 1 centro de atención especializado","Suma","2021_1",0,0,0,0,0,0,0,0,0,0,0,0,null,null,0,0,0]
[]
[null,1,6,1988,"Dotar 11 Sedes de atención a la primera infancia y/o adolescencia (jardines infantiles y Centros Amar).","Suma","2021_1",0,0,0,0,0,0,0,0,0,0,0,0,null,null,0,0,0]
[]
[null,1,6,1988,"Dotar 1 Centro de Desarrollo comunitario.","Suma","2021_1",0,0,0,0,0,0,0,0,0,0,0,0,null,null,0,0,0]
[]
[null,1,6,1989,"Vincular 711 mujeres cuidadoras a estrategias de cuidado","Suma","2021_1",175,0,0,0,0,0,0,0,0,0,0,291379000,24000000,0,0,0,0]
[]
[null,1,12,1943,"Implementar 12 Proyectos para el desarrollo integral de la primera infancia y la relación escuela, familia y comunidad.","Suma","2021_1",3,0,0,0,0,0,0,0,0,0,0,360455000,36000000,3300000,0,0,0]
[]
[null,1,14,1947,"Dotar 10 sedes educativas urbanas","Suma","2021_1",0,0,0,0,0,0,0,0,0,0,0,0,null,null,0,0,0]
[]
[null,1,17,1687,"Beneficiar 250 personas con apoyo para la educación superior","Suma","2021_1",60,0,0,0,0,0,0,0,0,0,0,3142385000,212810000,581466,0,0,0]
[]
[null,1,17,1687,"Beneficiar 250 estudiantes de programas de educación superior con apoyo de sostenimiento para la permanencia","Suma","2021_1",60,0,0,0,0,0,0,0,0,0,0,101711000,null,null,0,0,0]
[]
[null,1,20,1939,"Vincular 9142 personas en actividades recreodeportivas comunitarias","Suma","2021_1",2200,0,0,0,0,0,0,0,0,0,0,498569000,47808000,0,0,0,0]
[]
[null,1,20,1939,"Capacitar 680 personas en los campos deportivos","Suma","2021_1",170,0,0,0,0,0,0,0,0,0,0,194253000,18000000,0,0,0,0]
[]
[null,1,20,1939,"Beneficiar 680 Personas con artículos deportivos entregados","Suma","2021_1",170,0,0,0,0,0,0,0,0,0,0,279520000,36000000,0,0,0,0]
[]
[null,1,21,1992,"Realizar 16 eventos de promoción de actividades culturales","Suma","2021_1",4,0,0,0,0,0,0,0,0,0,0,447228000,null,null,0,0,0]
[]
[null,1,21,1992,"Otorgar 50 estímulos de apoyo al sector artístico y cultural","Suma","2021_1",12,0,0,0,0,0,0,0,0,0,0,582758000,45000000,0,0,0,0]
[]
[null,1,21,1992,"Capacitar 680 personas en los campos artísticos, interculturales, culturales y/o patrimoniales.","Suma","2021_1",170,0,0,0,0,0,0,0,0,0,0,194253000,null,null,0,0,0]
[]
[null,1,21,1992,"Intervenir 1 sede cultural con dotación y/o adecuación","Suma","2021_1",0.25,0,0,0,0,0,0,0,0,0,0,582758000,61366000,3960000,0,0,0]
[]
[null,1,24,1932,"Implementar 4 acciones de fomento para la agricultura urbana","Suma","2021_1",1,0,0,0,0,0,0,0,0,0,0,194253000,49500000,0,0,0,0]
[]
[null,1,24,1990,"Financiar 65 proyectos del sector cultural y creativo","Suma","2021_1",15,0,0,0,0,0,0,0,0,0,0,485631000,35319280,0,0,0,0]
[]
[null,2,27,1944,"Implementar 6 PROCEDAS.","Suma","2021_1",1,0,0,0,0,0,0,0,0,0,0,194253000,52000000,0,0,0,0]
[]
[null,2,27,1944,"Construir 167 m2 de muros y techos verdes","Suma","2021_1",0,0,0,0,0,0,0,0,0,0,0,0,null,null,0,0,0]
[]
[null,2,27,1944,"Intervenir 9000 m2 de jardinería y coberturas verdes","Suma","2021_1",0,0,0,0,0,0,0,0,0,0,0,0,null,null,0,0,0]
[]
[null,2,28,1935,"Intervenir 6 hectáreas con procesos de restauración, rehabilitación o recuperación ecológica.","Suma","2021_1",0,0,0,0,0,0,0,0,0,0,0,0,null,null,0,0,0]
[]
[null,2,30,1940,"Desarrollar 1 intervención para la reducción del riesgo y adaptación al cambio climático","Suma","2021_1",0,0,0,0,0,0,0,0,0,0,0,0,null,null,0,0,0]
[]
[null,2,30,1940,"Realizar 1 acción efectiva para el fortalecimiento de las capacidades locales para la respuesta a emergencias y desastres","Suma","2021_1",0,0,0,0,0,0,0,0,0,0,0,0,null,null,0,0,0]
[]
[null,2,33,1942,"Mantener 8000 árboles urbanos y/o rurales","Suma","2021_1",2000,0,0,0,0,0,0,0,0,0,0,194253000,null,null,0,0,0]
[]
[null,2,33,1942,"Plantar 340 árboles urbanos y/o rurales.","Suma","2021_1",0,0,0,0,0,0,0,0,0,0,0,0,null,null,0,0,0]
[]
[null,2,33,1945,"Intervenir 30 Parques vecinales y/o de bolsillo con acciones de mejoramiento, mantenimiento y/o dotación","Suma","2021_1",7,0,0,0,0,0,0,0,0,0,0,700514000,118400000,2786667,0,0,0]
[]
[null,2,34,1933,"Atender 4000 animales en urgencias, brigadas médicoveterinarias, acciones de esterilización, educación y adopción.","Suma","2021_1",747,0,0,0,0,0,0,0,0,0,0,485631000,90000000,0,0,0,0]
[]
[null,2,38,1955,"Capacitar 2500 personas en separación en la fuente y reciclaje.","Suma","2021_1",454,0,0,0,0,0,0,0,0,0,0,388505000,44000000,5316667,0,0,0]
[]
[null,3,39,1946,"Vincular 150 personas a procesos de construcción de memoria, verdad, reparación integral a víctimas, paz y reconciliación.","Suma","2021_1",35,0,0,0,0,0,0,0,0,0,0,194253000,null,null,0,0,0]
[]
[null,3,40,1991,"Capacitar 1530 personas para la construcción de ciudadanía y desarrollo de capacidades para el ejercicio de derechos de las mujeres","Suma","2021_1",305,0,0,0,0,0,0,0,0,0,0,242816000,26166000,0,0,0,0]
[]
[null,3,40,1991,"Vincular 2500 personas en acciones para la prevención del feminicidio y la violencia contra la  mujer.","Suma","2021_1",473,0,0,0,0,0,0,0,0,0,0,485631000,46400000,0,0,0,0]
[]
[null,3,43,1948,"Implementar 4 estrategias de atención de movilizaciones y aglomeraciones en el territorio a través de equipos de gestores de convivencia bajo el direccionamiento estratégico de la Secretaria de Seguridad, Convivencia y Justicia.","Suma","2021_1",1,1,1,0,0,0,0,0,0,0.25,0.25,463593000,282000000,0,0,0,0]
[]
[null,3,45,1959,"Realizar 4 acuerdos para el uso del EP con fines culturales, deportivos, recreacionales o de mercados temporales.","Suma","2021_1",1,0,0,0,0,0,0,0,0,0,0,194253000,28000000,0,0,0,0]
[]
[null,3,45,1959,"Realizar 4 acuerdos para la vinculación de la ciudadanía en los programas adelantados por el IDRD y acuerdos con vendedores informales o estacionarios","Suma","2021_1",0,0,0,0,0,0,0,0,0,0,0,0,null,null,0,0,0]
[]
[null,3,45,1959,"Realizar 1 acuerdo para promover la formalización de vendedores informales a círculos económicos productivos de la ciudad que incluya formación para el trabajo.","Suma","2021_1",0.25,0,0,0,0,0,0,0,0,0,0,254918000,80400000,0,0,0,0]
[]
[null,3,48,1951,"Atender 150 personas en estrategias de acceso a la justicia integral en la ciudad.","Suma","2021_1",0,0,0,0,0,0,0,0,0,0,0,0,null,null,0,0,0]
[]
[null,3,48,1951,"Implementar 2 estrategias locales de acciones pedagógicas del Código Nacional de Seguridad y Convivencia Ciudadana en la localidad.","Suma","2021_1",0,0,0,0,0,0,0,0,0,0,0,0,null,null,0,0,0]
[]
[null,3,48,1956,"Suministrar 2 dotaciones tecnológicas a organismos de seguridad.","Suma","2021_1",1,0,0,0,0,0,0,0,0,0,0,1651147000,355300000,9873334,0,0,0]
[]
[null,3,48,1956,"Suministrar 1  dotación logística a organismos de seguridad","Suma","2021_1",0,0,0,0,0,0,0,0,0,0,0,0,null,null,0,0,0]
[]
[null,4,49,1954,"Intervenir 1700 metros cuadrados de elementos del sistema de espacio público peatonal con acciones de construcción y/o conservación.","Suma","2021_1",0,0,0,0,0,0,0,0,0,0,0,0,null,null,0,0,0]
[]
[null,4,49,1954,"Intervenir 500 metros cuadrados de Puentes vehiculares y/o peatonales de escala local sobre cuerpos de agua con acciones de construcción y/o conservación.","Suma","2021_1",0,0,0,0,0,0,0,0,0,0,0,0,null,null,0,0,0]
[]
[null,4,49,1954,"Intervenir 2 Kilómetros-carril de malla vial urbana (local y/o intermedia) con acciones de construcción y/o conservación.","Suma","2021_1",0.7,0,0,0,0,0,0,0,0,0,0,2913788000,152700000,5750000,0,0,0]
[]
[null,4,49,1954,"Intervenir 800 metros lineales de Ciclo-infraestructura con acciones de construcción y/o conservación.","Suma","2021_1",200,0,0,0,0,0,0,0,0,0,0,383338000,35319280,2207455,0,0,0]
[]
[null,5,55,1950,"Intervenir 3 sedes de salones comunales","Suma","2021_1",0,0,0,0,0,0,0,0,0,0,0,0,null,null,0,0,0]
[]
[null,5,55,1950,"Dotar 38 sedes de salones comunales","Suma","2021_1",0,0,0,0,0,0,0,0,0,0,0,0,null,null,0,0,0]
[]
[null,5,55,1950,"Capacitar 734 personas a través de procesos de formación para la participación de manera virtual y presencial.","Suma","2021_1",180,120,0,0,0,0,0,0,0,0.16348773841961853,0,300052000,204373280,0,0,0,0]
[]
[null,5,55,1950,"Fortalecer 43 Organizaciones, JAC e Instancias de participación ciudadana","Suma","2021_1",10,0,0,0,0,0,0,0,0,0,0,417488000,100000000,4766667,0,0,0]
[]
[null,5,56,0,"Construir 1 sede administrativa local","Suma","2021_1",0,0,0,0,0,0,0,0,0,0,0,0,null,null,0,0,0]
[]
[null,5,57,1949,"Realizar 4 estrategias de fortalecimiento institucional.","Suma","2021_1",1,1,1,0,0,0,0,0,0,0.25,0.25,5406826000,2643777464,90863412,0,0,0]
[]
[null,5,57,1949,"Realizar 1 rendición de cuenta anual","Constante","2021_1",1,1,1,0,0,0,0,0,0,0.25,0.25,28735000,null,null,0,0,0]
[]
[null,5,57,1952,"Realizar 4 acciones de inspección, vigilancia y control.","Suma","2021_1",1,1,1,0,0,0,0,0,0,0.25,0.25,1441820000,1614222380,11893206,0,0,0]

{"sheet":"NomLocIE","index":9,"n_rows":12,"n_cols":7,"rows_kept":12,"cut":false,"hidden":true,"merged":[]}
["Año_corte","2021_1"]
[]
["No. Localidad","Nombre Localidad "]
[1,"Usaquén"]
["Total general"]
[]
[]
[]
[]
[]
[]
[null,null,null,null,null,null,{"$f":"VLOOKUP(B1,FECHAS,2,0)","v":"Marzo 31 de 2021"}]

{"sheet":"Anexo PMR","index":10,"n_rows":137,"n_cols":8,"rows_kept":137,"cut":false,"hidden":true,"merged":[]}
[]
[null,1,2,3,4,5,6]
["ESTRUCTURA META","INDICADOR DE PRODUCTO","PROPOSITO","PROGRAMA PDD","COMPONENTE PROYECTO","PRODUCTO PMR","COMPONENTE LINEAS"]
["Atender XXX hogares con apoyos que contribuyan al ingreso mínimo garantizado. ","Hogares atendidos con apoyos que contribuyan al ingreso mínimo garantizado","Propósito 1. Hacer un nuevo contrato social con igualdad de oportunidades para la inclusión social, productiva y política","Subsidios y transferencias para la equidad","INGRESO MÍNIMO","Protección integral a personas y familias en situación de vulneración.","1_Inflexible 45%"]
["Beneficiar XXX personas mayores con apoyo económico tipo C.","Número de personas mayores con apoyo económico tipo C","Propósito 1. Hacer un nuevo contrato social con igualdad de oportunidades para la inclusión social, productiva y política","Subsidios y transferencias para la equidad","SUBSIDIO TIPO C","Protección integral a personas y familias en situación de vulneración.","1_Inflexible 45%"]
["Implementar XXX Proyectos para el desarrollo integral de la primera infancia y la relación escuela, familia y comunidad.","Proyectos para el desarrollo integral de la primera infancia y la relación escuela, familia y comunidad.","Propósito 1. Hacer un nuevo contrato social con igualdad de oportunidades para la inclusión social, productiva y política","Educación inicial: Bases sólidas para la vida","EDUCACIÓN INICIAL","Protección integral a niños y niñas y adolescentes.","1_Inflexible 45%"]
["Dotar XXX sedes educativas urbanas y rurales.","Sedes educativas urbanas y rurales dotadas","Propósito 1. Hacer un nuevo contrato social con igualdad de oportunidades para la inclusión social, productiva y política","Formación integral: más y mejor tiempo en los colegios","DOTACIÓN","Infraestructura y dotación escolar.","2_Presupuestos Participativos 50%"]
["Beneficiar XXX personas con apoyo para la educación superior.","Personas beneficiadas con  apoyo para la educación superior","Propósito 1. Hacer un nuevo contrato social con igualdad de oportunidades para la inclusión social, productiva y política","Jóvenes con capacidades: Proyecto de vida para la ciudadanía, la innovación y el trabajo del siglo XXI","APOYO EDUCACIÓN SUPERIOR","Apoyo a la educación superior.","1_Inflexible 45%"]
["Beneficiar XXX estudiantes de programas de educación superior con apoyo de sostenimiento para la permanencia.","Número de estudiantes de programas de educación superior con apoyo de sostenimiento para la permanencia.","Propósito 1. Hacer un nuevo contrato social con igualdad de oportunidades para la inclusión social, productiva y política","Jóvenes con capacidades: Proyecto de vida para la ciudadanía, la innovación y el trabajo del siglo XXI","SOSTENIMIENTO","Apoyo a la educación superior.","1_Inflexible 45%"]
["Dotar XXX sedes de casas de juventud.","Sedes de Casas de juventud dotadas","Propósito 1. Hacer un nuevo contrato social con igualdad de oportunidades para la inclusión social, productiva y política","Jóvenes con capacidades: Proyecto de vida para la ciudadanía, la innovación y el trabajo del siglo XXI","DOTACIÓN","Dotación para la atención y la prestación de los servicios en la infraestructura del sector Integración Social.","2_Presupuestos Participativos 50%"]
["Dotar XXX sedes de atención a adolescentes y jóvenes vinculados al sistema de responsabilidad penal adolescente (Centros Forjar).","Sedes de atención a adolescentes y jovenes vinculados al sistema de responsabilidad penal adolescente dotados.","Propósito 1. Hacer un nuevo contrato social con igualdad de oportunidades para la inclusión social, productiva y política","Jóvenes con capacidades: Proyecto de vida para la ciudadanía, la innovación y el trabajo del siglo XXI","DOTACIÓN","Protección integral a niños y niñas y adolescentes.","2_Presupuestos Participativos 50%"]
["Mejorar XXX viviendas de interés social rurales.","Viviendas de interés social rurales mejoradas ","Propósito 1. Hacer un nuevo contrato social con igualdad de oportunidades para la inclusión social, productiva y política","Vivienda y entornos dignos en el territorio urbano y rural.","MEJORAMIENTO DE VIVIENDA","Viviendas de interés social rural mejoradas.","2_Presupuestos Participativos 50%"]
["Vincular XXX personas en actividades recreo-deportivas comunitarias.","Personas vinculadas en actividades recreo-deportivas comunitarias","Propósito 1. Hacer un nuevo contrato social con igualdad de oportunidades para la inclusión social, productiva y política","Bogotá, referente en cultura, deporte, recreación y actividad física, con parques para el desarrollo y la salud","EVENTOS","Eventos y actividades recreativas y deportivas.","2_Presupuestos Participativos 50%"]
["Capacitar XXX personas en los campos deportivos.","Personas capacitadas en los campos deportivos","Propósito 1. Hacer un nuevo contrato social con igualdad de oportunidades para la inclusión social, productiva y política","Bogotá, referente en cultura, deporte, recreación y actividad física, con parques para el desarrollo y la salud","FORMACIÓN DEPORTIVA","Eventos y actividades recreativas y deportivas.","2_Presupuestos Participativos 50%"]
["Beneficiar XXX Personas con artículos deportivos entregados.","Personas beneficiadas con artículos entregados.","Propósito 1. Hacer un nuevo contrato social con igualdad de oportunidades para la inclusión social, productiva y política","Bogotá, referente en cultura, deporte, recreación y actividad física, con parques para el desarrollo y la salud","DOTACIÓN","Eventos y actividades recreativas y deportivas.","2_Presupuestos Participativos 50%"]
["Realizar XXX eventos de promoción de actividades culturales.","Eventos de promoción de actividades culturales realizadas","Propósito 1. Hacer un nuevo contrato social con igualdad de oportunidades para la inclusión social, productiva y política","Creación y vida cotidiana: Apropiación ciudadana del arte, la cultura y el patrimonio, para la democracia cultural","EVENTOS","Espacios artísticos y culturales.","2_Presupuestos Participativos 50%"]
["Otorgar XXX estímulos de apoyo al sector artístico y cultural.","Estímulos otorgados de apoyo al sector artístico y cultural ","Propósito 1. Hacer un nuevo contrato social con igualdad de oportunidades para la inclusión social, productiva y política","Creación y vida cotidiana: Apropiación ciudadana del arte, la cultura y el patrimonio, para la democracia cultural","ESTÍMULOS","Servicio de apoyo financiero para el desarrollo de prácticas artísticas y culturales en el Distrito de Bogotá.","2_Presupuestos Participativos 50%"]
["Capacitar XXX personas en los campos artísticos, interculturales, culturales y/o patrimoniales.","Personas capacitadas en los campos artísticos, interculturales, culturales y/o patrimoniales","Propósito 1. Hacer un nuevo contrato social con igualdad de oportunidades para la inclusión social, productiva y política","Creación y vida cotidiana: Apropiación ciudadana del arte, la cultura y el patrimonio, para la democracia cultural","FORMACIÓN","Formación artística y cultural.","2_Presupuestos Participativos 50%"]
["Intervenir XXX sedes culturales con dotación y/o adecuación.","Sedes dotadas/Sedes adecuadas","Propósito 1. Hacer un nuevo contrato social con igualdad de oportunidades para la inclusión social, productiva y política","Creación y vida cotidiana: Apropiación ciudadana del arte, la cultura y el patrimonio, para la democracia cultural","FORTALECIMIENTO INFRAESTRUCTURA","Infraestructura y dotación a centros artísticos y culturales.","2_Presupuestos Participativos 50%"]
["Apoyar XXX predios rurales con asistencia técnica agropecuaria y/o ambiental. ","Número de Predios rurales con asistencia técnica agropecuaria y/o ambiental","Propósito 1. Hacer un nuevo contrato social con igualdad de oportunidades para la inclusión social, productiva y política","Bogotá rural","ASESORÍA Y ASISTENCIA TÉCNICA ","Servicios de asistencia técnica agropecuaria y/o ambiental.","2_Presupuestos Participativos 50%"]
["Vincular XXX hogares y/o unidades productivas a procesos productivos y de comercialización en el sector rural.","Número  de hogares y/o unidades productivas vinculadas a procesos productivos y de comercialización en el sector rural","Propósito 1. Hacer un nuevo contrato social con igualdad de oportunidades para la inclusión social, productiva y política","Bogotá rural","EMPRENDIMIENTO RURAL","Servicios de asistencia técnica agropecuaria y/o ambiental.","2_Presupuestos Participativos 50%"]
["Implementar XXX acciones de fomento para la agricultura urbana.","Número acciones de fomento para la agricultura urbana","Propósito 1. Hacer un nuevo contrato social con igualdad de oportunidades para la inclusión social, productiva y política","Bogotá región emprendedora e innovadora.","AGRICULTURA URBANA","Servicios de asesoría, asistencia técnica integral y dotación de infraestructura productiva para la Agricultura urbana y periurbana.","2_Presupuestos Participativos 50%"]
["Financiar XXX proyectos del sector cultural y creativo.","Número de proyectos financiados y acompañados del sector cultural y creativo.","Propósito 1. Hacer un nuevo contrato social con igualdad de oportunidades para la inclusión social, productiva y política","Bogotá región emprendedora e innovadora.","FORTALECIMIENTO INDUSTRIA CULTURAL","Servicio de apoyo financiero para el desarrollo de prácticas artísticas y culturales en el Distrito de Bogotá.","2_Presupuestos Participativos 50%"]
["Apoyar XXX Mipymes y/o emprendimientos culturales y creativos.","Número de Mipymes y/o emprendimientos culturales y creativos apoyados","Propósito 1. Hacer un nuevo contrato social con igualdad de oportunidades para la inclusión social, productiva y política","Sistema Distrital de Cuidado","FORTALECIMIENTO MIPYMES","Servicios de asesoría, asistencia técnica integral, dotación y/o apoyo financiero a Mipymes y/o emprendimientos.","2_Presupuestos Participativos 50%"]
["Promover en XXX Mipymes y/o emprendimientos procesos de reconversión hacia actividades sostenibles.","Número de Mipymes y/o emprendimientos con procesos de reconversión hacia actividades sostenibles","Propósito 1. Hacer un nuevo contrato social con igualdad de oportunidades para la inclusión social, productiva y política","Sistema Distrital de Cuidado","REACTIVACIÓN","Servicios de asesoría, asistencia técnica integral, dotación y/o apoyo financiero a Mipymes y/o emprendimientos.","2_Presupuestos Participativos 50%"]
["Promover en XXX Mipymes y/o emprendimientos la transformación empresarial y/o productiva.","Número de Mipymes y/o emprendimientos con transformacion empresarial y/o productiva","Propósito 1. Hacer un nuevo contrato social con igualdad de oportunidades para la inclusión social, productiva y política","Sistema Distrital de Cuidado","TRANSFORMACIÓN PRODUCTIVA","Servicios de asesoría, asistencia técnica integral, dotación y/o apoyo financiero a Mipymes y/o emprendimientos.","2_Presupuestos Participativos 50%"]
["Revitalizar XXX Mipymes y/o emprendimientos potencializadas dentro de las aglomeraciones económicas que fomentan el empleo y/o nuevas actividades económicas.","Número de Mipymes  y/o emprendimientos revitalizadas o potencializadas dentro de las aglomeraciones económicas que fomentan el empleo y/o nuevas actividades económicas","Propósito 1. Hacer un nuevo contrato social con igualdad de oportunidades para la inclusión social, productiva y política","Sistema Distrital de Cuidado","REVITALIZACIÓN","Servicios de asesoría, asistencia técnica integral, dotación y/o apoyo financiero a Mipymes y/o emprendimientos.","2_Presupuestos Participativos 50%"]
["Formar XXX personas en prevención de violencia intrafamiliar y/o violencia sexual.","Número de Personas formadas u orientadas o sensibilizadas en prevención de violencia intrafamiliar y/o violencia sexual.            ","Propósito 1. Hacer un nuevo contrato social con igualdad de oportunidades para la inclusión social, productiva y política","Sistema Distrital de Cuidado","PREVENCIÓN DE VIOLENCIAS","Protección integral a niños y niñas y adolescentes.","2_Presupuestos Participativos 50%"]
["Dotar XXX centros de atención especializados.","Centros de atención especializada dotados","Propósito 1. Hacer un nuevo contrato social con igualdad de oportunidades para la inclusión social, productiva y política","Sistema Distrital de Cuidado","DOTACIÓN CENTROS DE ATENCIÓN ESPECIALIZADOS","Dotación para la atención y la prestación de los servicios en la infraestructura del sector Integración Social.","2_Presupuestos Participativos 50%"]
["Dotar XXX Centros de Desarrollo comunitarios","Sedes de Centros de Desarrollo comunitarios dotados","Propósito 1. Hacer un nuevo contrato social con igualdad de oportunidades para la inclusión social, productiva y política","Sistema Distrital de Cuidado","DOTACIÓN CDC","Dotación para la atención y la prestación de los servicios en la infraestructura del sector Integración Social.","2_Presupuestos Participativos 50%"]
["Dotar XXX Sedes de atención a la primera infancia y/o adolescencia (jardines infantiles y Centros Amar).","Sedes de atención a la primera infancia y/o adolescencia dotadas.","Propósito 1. Hacer un nuevo contrato social con igualdad de oportunidades para la inclusión social, productiva y política","Sistema Distrital de Cuidado","DOTACIÓN JARDINES IFANTILES Y CENTROS AMAR","Protección integral a niños y niñas y adolescentes.","2_Presupuestos Participativos 50%"]
["Dotar XXX Unidades Operativas de los Centros de Atención Integral a la Diversidad Sexual y de Géneros.","Unidades Operativas de los Centros de Atención Integral a la Diversidad Sexual y de Géneros dotadas","Propósito 1. Hacer un nuevo contrato social con igualdad de oportunidades para la inclusión social, productiva y política","Sistema Distrital de Cuidado","DOTACIÓN CAIDSG","Dotación para la atención y la prestación de los servicios en la infraestructura del sector Integración Social.","2_Presupuestos Participativos 50%"]
["Vincular XXX mujeres cuidadoras a estrategias de cuidado.","Mujeres cuidadoras vinculadas a estrategias de cuidado","Propósito 1. Hacer un nuevo contrato social con igualdad de oportunidades para la inclusión social, productiva y política","Sistema Distrital de Cuidado","ESTRATEGIAS DE CUIDADO","Estrategias del cuidado para cuidadoras.","2_Presupuestos Participativos 50%"]
["Vincular XXX personas con discapacidad, cuidadores y cuidadoras, en actividades alternativas de salud.","Número de personas con discapacidad, cuidadadores y cuidadoras, vinculados en actividades alernativas de salud.","Propósito 1. Hacer un nuevo contrato social con igualdad de oportunidades para la inclusión social, productiva y política","Sistema Distrital de Cuidado","ACCIONES COMPLEMENTARIAS ","Promoción, prevención e intervención en salud.","3_Flexible 5%"]
["Vincular XXX personas a las acciones desarrolladas desde los dispositivos de base comunitaria en respuesta al consumo de SPA.","Números de personas vinculadas a las acciones desarrolladas desde los dispositivos de base comunitaria en respuesta al consumo de SPA.","Propósito 1. Hacer un nuevo contrato social con igualdad de oportunidades para la inclusión social, productiva y política","Sistema Distrital de Cuidado","DISMINUCIÓN FACTORES DE RIESGO SPA","Promoción, prevención e intervención en salud.","3_Flexible 5%"]
["Beneficiar XXX personas con discapacidad a través de Dispositivos de Asistencia Personal - Ayudas Técnicas (no incluidas en los Planes de Beneficios).","Número de personas con discapacidad beneficiadas con Dispostivos de Asistencia Personal - Ayudas Técnicas (no incluidas en los Planes de Beneficios).","Propósito 1. Hacer un nuevo contrato social con igualdad de oportunidades para la inclusión social, productiva y política","Sistema Distrital de Cuidado","DISPOSITIVOS DE ASISTENCIA PERSONAL","Promoción, prevención e intervención en salud.","3_Flexible 5%"]
["Vincular XXX personas a las acciones y estrategias de reconocimiento de los saberes ancestrales en medicina.","Número de personas vinculadas a las acciones y estrategias de reconocimiento de los saberes ancestrales en medicina.","Propósito 1. Hacer un nuevo contrato social con igualdad de oportunidades para la inclusión social, productiva y política","Sistema Distrital de Cuidado","SABERES ANCESTRALES","Promoción, prevención e intervención en salud.","3_Flexible 5%"]
["Vincular XXX mujeres gestantes, niños y niñas, migrantes irregulares, vinculados en acciones de protección específica y detección temprana.","Número de mujeres gestantes, niños y niñas, migrantes irregulares, vinvulados en acciones de protección específica y detección temprana.","Propósito 1. Hacer un nuevo contrato social con igualdad de oportunidades para la inclusión social, productiva y política","Sistema Distrital de Cuidado","ACCIONES DE CUIDADO","Promoción, prevención e intervención en salud.","3_Flexible 5%"]
["Vincular XXX personas en acciones complementarias de la estrategia territorial de salud.","Número de personas vinculadas en las acciones complementarias de la estrategia territorial de salud.","Propósito 1. Hacer un nuevo contrato social con igualdad de oportunidades para la inclusión social, productiva y política","Sistema Distrital de Cuidado","ESTRATEGIA TERRITORIAL DE SALUD","Promoción, prevención e intervención en salud.","3_Flexible 5%"]
["Vincular XXX personas a las acciones y estrategias para la prevención del embarazo adolescente.","Número de personas vinculadas a las acciones y estrategias para la prevención del embarazo adolescente","Propósito 1. Hacer un nuevo contrato social con igualdad de oportunidades para la inclusión social, productiva y política","Prevención y atención de maternidad temprana","PREVENCIÓN","Promoción, prevención e intervención en salud.","3_Flexible 5%"]
["Implementar XXX PROCEDAS.","Número de PROCEDAS implementados ","Propósito 2. Cambiar nuestros hábitos de vida para reverdecer a Bogotá y adaptarnos y mitigar el cambio climático.","Cambio cultural para la gestión de la crisis climática.","EDUCACIÓN AMBIENTAL","Calidad ambiental y preservación del patrimonio natural.","2_Presupuestos Participativos 50%"]
["Construir XXX m2 de muros y techos verdes.","m2 de muros y techos verdes","Propósito 2. Cambiar nuestros hábitos de vida para reverdecer a Bogotá y adaptarnos y mitigar el cambio climático.","Cambio cultural para la gestión de la crisis climática.","MUROS VERDES","Calidad ambiental y preservación del patrimonio natural.","2_Presupuestos Participativos 50%"]
["Intervenir XXX m2 de jardinería y coberturas verdes. ","m2 de jardinería y coberturas verdes","Propósito 2. Cambiar nuestros hábitos de vida para reverdecer a Bogotá y adaptarnos y mitigar el cambio climático.","Cambio cultural para la gestión de la crisis climática.","JARDINERÍA","Calidad ambiental y preservación del patrimonio natural.","2_Presupuestos Participativos 50%"]
["Intervenir XXX hectáreas con procesos de restauración, rehabilitación o recuperación ecológica.","Hectáreas en restauración, rehabilitación o recuperación ecológica y mantenimiento ","Propósito 2. Cambiar nuestros hábitos de vida para reverdecer a Bogotá y adaptarnos y mitigar el cambio climático.","Bogotá protectora de sus recursos naturales","RESTAURACIÓN ECOLÓGICA","Calidad ambiental y preservación del patrimonio natural.","2_Presupuestos Participativos 50%"]
["Realizar XXX acciones efectivas para el fortalecimiento de las capacidades locales para la respuesta a emergencias y desastres.","Acciones efectivas para el fortalecimiento de las capacidades locales para la respuesta a emergencias y desastres","Propósito 2. Cambiar nuestros hábitos de vida para reverdecer a Bogotá y adaptarnos y mitigar el cambio climático.","Eficiencia en la atención de emergencias","MANEJO DE EMERGENCIAS, CALAMIDADES Y DESASTRES","Gestión para la prevención y mitigación del riesgo.","2_Presupuestos Participativos 50%"]
["Desarrollar XXX intervenciones para la reducción del riesgo y adaptación al cambio climático.","Intervenciones para la reducción del riesgo y adaptación al cambio climático","Propósito 2. Cambiar nuestros hábitos de vida para reverdecer a Bogotá y adaptarnos y mitigar el cambio climático.","Eficiencia en la atención de emergencias","REDUCCIÓN DEL RIESGO Y ADAPTACIÓN AL CAMBIO CLIMÁTICO","Gestión para la prevención y mitigación del riesgo.","2_Presupuestos Participativos 50%"]
["Mantener XXX árboles urbanos y/o rurales.","Número de árboles mantenidos","Propósito 2. Cambiar nuestros hábitos de vida para reverdecer a Bogotá y adaptarnos y mitigar el cambio climático.","Más árboles y más y mejor espacio público","ARBORIZACIÓN","Plantación y mantenimiento de árboles, jardines y especies vegetales. ","2_Presupuestos Participativos 50%"]
["Plantar XXX árboles urbanos y/o rurales.","Número de árboles plantados","Propósito 2. Cambiar nuestros hábitos de vida para reverdecer a Bogotá y adaptarnos y mitigar el cambio climático.","Más árboles y más y mejor espacio público","ARBORIZACIÓN","Plantación y mantenimiento de árboles, jardines y especies vegetales. ","2_Presupuestos Participativos 50%"]
["Construir XXX m2 de Parques vecinales y/o de bolsillo (la construcción incluye su dotación).","m2 de Parques vecinales y/o de bolsillo construidos y dotados","Propósito 2. Cambiar nuestros hábitos de vida para reverdecer a Bogotá y adaptarnos y mitigar el cambio climático.","Más árboles y más y mejor espacio público","CONSTRUCCIÓN","Parques y escenarios deportivos.","2_Presupuestos Participativos 50%"]
["Intervenir XXX Parques vecinales y/o de bolsillo con acciones de mejoramiento, mantenimiento y/o dotación. ","Número de Parques vecinales y/o de bolsillo intervenidos en mejoramiento, mantenimiento y/o dotación","Propósito 2. Cambiar nuestros hábitos de vida para reverdecer a Bogotá y adaptarnos y mitigar el cambio climático.","Más árboles y más y mejor espacio público","INTERVENCIÓN","Parques y escenarios deportivos.","2_Presupuestos Participativos 50%"]
["Atender XXX animales en urgencias, brigadas médico veterinarias, acciones de esterilización, educación y adopción.","Número de animales atendidos","Propósito 2. Cambiar nuestros hábitos de vida para reverdecer a Bogotá y adaptarnos y mitigar el cambio climático.","Bogotá protectora de los animales","BIENESTAR ANIMAL","Servicios de protección y bienestar animal.","2_Presupuestos Participativos 50%"]
["Fortalecer XXX acueductos veredales con asistencia, intervenir técnica u organizativa","Número de acueductos verdales asistidos o intervenidos técnica u organizacionalmente.","Propósito 2. Cambiar nuestros hábitos de vida para reverdecer a Bogotá y adaptarnos y mitigar el cambio climático.","Provisión y mejoramiento de servicios públicos","ACUEDUCTOS VEREDALES","Acueductos y alcantarillados.","2_Presupuestos Participativos 50%"]
["Capacitar XXX personas en separación en la fuente y reciclaje.","Personas capacitadas en separación en la fuente y reciclaje","Propósito 2. Cambiar nuestros hábitos de vida para reverdecer a Bogotá y adaptarnos y mitigar el cambio climático.","Ecoeficiencia, reciclaje, manejo de residuos e inclusión de la población recicladora","HÁBITOS DE CONSUMO","Manejo integral de residuos sólidos. ","2_Presupuestos Participativos 50%"]
["Realizar XXX acciones  con energías alternativas para el área rural.","Acciones con energías alternativas para el área rural realizadas.","Propósito 2. Cambiar nuestros hábitos de vida para reverdecer a Bogotá y adaptarnos y mitigar el cambio climático.","Ecoeficiencia, reciclaje, manejo de residuos e inclusión de la población recicladora","ENERGÍAS ALTERNATIVAS","Fuentes de energías alternativas para el área rural.","2_Presupuestos Participativos 50%"]
["Vincular XXX personas a procesos de construcción de memoria, verdad, reparación integral a víctimas, paz y reconciliación.","Personas vinculadas a procesos de construcción de memoria, verdad, reparación integral a víctimas, paz y reconciliación","Propósito 3. Inspirar confianza y legitimidad para vivir sin miedo y ser epicentro de cultura ciudadana, paz y reconciliación.","Bogotá territorio de paz y atención integral a las víctimas del conflicto armado","PAZ, MEMORIA Y RECONCILIACIÓN","Servicio de apoyo y fortalecimiento a los procesos de construcción de memoria, verdad, reparación integral a víctimas, paz y reconciliación.","2_Presupuestos Participativos 50%"]
["Capacitar XXX personas para la construcción de ciudadanía y desarrollo de capacidades para el ejercicio de derechos de las mujeres.","Personas capacitadas para la construcción de ciudadanía y desarrollo de capacidades para el ejercicio de derechos de las mujeres.","Propósito 3. Inspirar confianza y legitimidad para vivir sin miedo y ser epicentro de cultura ciudadana, paz y reconciliación.","Más mujeres viven una vida libre de violencias, se sienten seguras y acceden con confianza al sistema de justicia","DESARROLLO DE CAPACIDADES","Servicios de promoción y capacitación para la construcción de ciudadanía y desarrollo de capacidades para el ejercicio de derechos de las mujeres.","2_Presupuestos Participativos 50%"]
["Vincular XXX personas en acciones para la prevención del feminicidio y la violencia contra la mujer.","Número de Personas vinculadas en acciones para la prevención del feminicidio y la violencia contra la mujer","Propósito 3. Inspirar confianza y legitimidad para vivir sin miedo y ser epicentro de cultura ciudadana, paz y reconciliación.","Más mujeres viven una vida libre de violencias, se sienten seguras y acceden con confianza al sistema de justicia","PREVENCIÓN","Prevención, atención y gestión del conflicto en la localidad.","2_Presupuestos Participativos 50%"]
["Implementar XXX estrategia de atención de movilizaciones y aglomeraciones en el territorio a través de equipos de gestores de convivencia bajo el direccionamiento estratégico de la Secretaria de Seguridad, Convivencia y Justicia.","Estrategia de atención de movilizaciones y aglomeraciones en el territorio implementada a traves de equipos de gestores de convivencia bajo el direccionamiento estrategico de la Secretaria de Seguridad, Convivencia y Justicia","Propósito 3. Inspirar confianza y legitimidad para vivir sin miedo y ser epicentro de cultura ciudadana, paz y reconciliación.","Cultura ciudadana para la confianza, la convivencia y la participación desde la vida cotidiana","GESTORES DE CONVIVENCIA","Prevención, atención y gestión del conflicto en la localidad.","2_Presupuestos Participativos 50%"]
["Formar XXX personas en la escuela de seguridad.","Número de personas formadas en la escuela de seguridad","Propósito 3. Inspirar confianza y legitimidad para vivir sin miedo y ser epicentro de cultura ciudadana, paz y reconciliación.","Cultura ciudadana para la confianza, la convivencia y la participación desde la vida cotidiana","ESCUELA DE SEGURIDAD","Prevención, atención y gestión del conflicto en la localidad.","2_Presupuestos Participativos 50%"]
["Incluir XXX personas en actividades de educación para la resiliencia y la prevención de hechos delictivos.","Personas incluidas en actividades de educación para la resiliencia y la prevención de hechos delictivos. ","Propósito 3. Inspirar confianza y legitimidad para vivir sin miedo y ser epicentro de cultura ciudadana, paz y reconciliación.","Cultura ciudadana para la confianza, la convivencia y la participación desde la vida cotidiana","PREVENCIÓN","Prevención, atención y gestión del conflicto en la localidad.","2_Presupuestos Participativos 50%"]
["Realizar XXX acuerdos para el uso del EP con fines culturales, deportivos, recreacionales o de mercados temporales.","Acuerdos realizados para el uso del EP con fines culturales, deportivos, recreacionales o de mercados temporales.","Propósito 3. Inspirar confianza y legitimidad para vivir sin miedo y ser epicentro de cultura ciudadana, paz y reconciliación.","Espacio público más seguro y construido colectivamente.","ACUERDOS CIUDADANOS","Acuerdos ciudadanos suscritos.","2_Presupuestos Participativos 50%"]
["Realizar XXX acuerdos para la promover la formalización de vendedores informales a círculos económicos productivos de la ciudad.","Acuerdos realizados para la promover la formalización de vendedores informales a circulos económicos productivos de la ciudad","Propósito 3. Inspirar confianza y legitimidad para vivir sin miedo y ser epicentro de cultura ciudadana, paz y reconciliación.","Espacio público más seguro y construido colectivamente.","ACUERDOS CIUDADANOS","Acuerdos ciudadanos suscritos.","2_Presupuestos Participativos 50%"]
["Realizar XXX acuerdos para la vinculación de la ciudadanía en los programas adelantados por el IDRD y acuerdos con vendedores informales o estacionarios","Acuerdos realizados para la vinculación de la ciudadanía en los programas adelantados por el IDRD y acuerdos con vendedores informales o estacionarios ","Propósito 3. Inspirar confianza y legitimidad para vivir sin miedo y ser epicentro de cultura ciudadana, paz y reconciliación.","Espacio público más seguro y construido colectivamente.","ACUERDOS CIUDADANOS","Acuerdos ciudadanos suscritos.","2_Presupuestos Participativos 50%"]
["Beneficiar XXX personas a través de estrategias para el fortalecimiento de los mecanismos de justicia comunitaria.","Beneficiarios de las estrategias para el fortalecimiento  de los mecanismos  de justicia comunitaria.","Propósito 3. Inspirar confianza y legitimidad para vivir sin miedo y ser epicentro de cultura ciudadana, paz y reconciliación.","Plataforma institucional para la seguridad y justicia","JUSTICIA COMUNITARIA","Bienes y  servicios de apoyo para el fortalecimiento de la justicia comunitaria y la justicia integral en la ciudad.","2_Presupuestos Participativos 50%"]
["Atender XXX personas en estrategias de acceso a la justicia integral en la ciudad.","Personas atendidas en estrategias de acceso a la justicia integral en la ciudad.","Propósito 3. Inspirar confianza y legitimidad para vivir sin miedo y ser epicentro de cultura ciudadana, paz y reconciliación.","Plataforma institucional para la seguridad y justicia","JUECES DE PAZ","Bienes y  servicios de apoyo para el fortalecimiento de la justicia comunitaria y la justicia integral en la ciudad.","2_Presupuestos Participativos 50%"]
["Vincular XXX Instituciones educativas al programa pedagógico de resolución de conflictos en la comunidad escolar.","Instituciones educativas vinculadas al programa pedagógico de resolución de conflictos en la comunidad escolar.","Propósito 3. Inspirar confianza y legitimidad para vivir sin miedo y ser epicentro de cultura ciudadana, paz y reconciliación.","Plataforma institucional para la seguridad y justicia","RESOLUCIÓN DE CONFLICTOS ESCOLARES","Prevención, atención y gestión del conflicto en la localidad.","2_Presupuestos Participativos 50%"]
["Implementar 1 estrategia local de acciones pedagógicas del Código Nacional de Seguridad y Convivencia Ciudadana en la localidad.","Estrategia local de acciones pedagógicas del Código Nacional de Seguridad y Convivencia Ciudadana implementada en la localidad.","Propósito 3. Inspirar confianza y legitimidad para vivir sin miedo y ser epicentro de cultura ciudadana, paz y reconciliación.","Plataforma institucional para la seguridad y justicia","ACCIONES PEDAGÓGICAS","Prevención, atención y gestión del conflicto en la localidad.","2_Presupuestos Participativos 50%"]
["Suministrar XXX dotaciones tecnológicas a organismos de seguridad.","Dotaciones tecnológicas suministradas a organismos de seguridad.","Propósito 3. Inspirar confianza y legitimidad para vivir sin miedo y ser epicentro de cultura ciudadana, paz y reconciliación.","Plataforma institucional para la seguridad y justicia","DOTACIÓN","Infraestructura y dotaciones para seguridad.","2_Presupuestos Participativos 50%"]
["Suministrar XXX dotaciones logísticas a organismos de seguridad.","Dotaciones logísticas suministradas a organismos de seguridad.","Propósito 3. Inspirar confianza y legitimidad para vivir sin miedo y ser epicentro de cultura ciudadana, paz y reconciliación.","Plataforma institucional para la seguridad y justicia","DOTACIÓN","Infraestructura y dotaciones para seguridad.","2_Presupuestos Participativos 50%"]
["Suministrar XXX dotaciones de equipos especiales de protección a organismos de seguridad.","Dotaciones de equipos especiales de protección  suministradas a organismos de seguridad.","Propósito 3. Inspirar confianza y legitimidad para vivir sin miedo y ser epicentro de cultura ciudadana, paz y reconciliación.","Plataforma institucional para la seguridad y justicia","DOTACIÓN","Infraestructura y dotaciones para seguridad.","2_Presupuestos Participativos 50%"]
["Suministrar XXX dotaciones del parque automotor a organismos de seguridad.","Dotación del parque automotor suministrada a organismos de seguridad.","Propósito 3. Inspirar confianza y legitimidad para vivir sin miedo y ser epicentro de cultura ciudadana, paz y reconciliación.","Plataforma institucional para la seguridad y justicia","DOTACIÓN","Infraestructura y dotaciones para seguridad.","2_Presupuestos Participativos 50%"]
["Intervenir XXX metros cuadrados de elementos del sistema de espacio público peatonal con acciones de construcción y/o conservación.","Metros cuadrados construidos y/o conservados de elementos del sistema de espacio público peatonal.","Propósito 4. Hacer de Bogotá-región un modelo de movilidad, creatividad y productividad incluyente y sostenible","Movilidad segura, sostenible y accesible","CONSTRUCCIÓN Y CONSERVACIÓN "," Espacio público.","2_Presupuestos Participativos 50%"]
["Intervenir XXX metros cuadrados de Puentes vehiculares y/o peatonales de escala local sobre cuerpos de agua con acciones de construcción y/o conservación.","Metros cuadrados de Puentes vehiculares y/o peatonales de escala local sobre cuerpos de agua construidos y/o intervenidos","Propósito 4. Hacer de Bogotá-región un modelo de movilidad, creatividad y productividad incluyente y sostenible","Movilidad segura, sostenible y accesible","INTERVENCIÓN PUENTES"," Espacio público.","2_Presupuestos Participativos 50%"]
["Intervenir XXX Kilómetros-carril de malla vial urbana (local y/o intermedia) con acciones de construcción y/o conservación","Kilómetros-carril construidos y/o conservados de malla vial urbana (local y/o intermedia)","Propósito 4. Hacer de Bogotá-región un modelo de movilidad, creatividad y productividad incluyente y sostenible","Movilidad segura, sostenible y accesible","INTERVENCIÓN MALLA VIAL LOCAL","Vías locales.","2_Presupuestos Participativos 50%"]
["Intervenir XXX Kilómetros-carril de malla vial rural con acciones de construcción y/o conservación","Kilómetros-carril construidos y/o conservados de malla vial rural","Propósito 4. Hacer de Bogotá-región un modelo de movilidad, creatividad y productividad incluyente y sostenible","Movilidad segura, sostenible y accesible","INTERVENCIÓN MALLA VIAL RURAL","Vías locales.","2_Presupuestos Participativos 50%"]
["Intervenir XXX metros lineales de Ciclo-infraestructura con acciones de construcción y/o conservación.","Metros lineales construidos y/o conservados de Ciclo-infraestructura","Propósito 4. Hacer de Bogotá-región un modelo de movilidad, creatividad y productividad incluyente y sostenible","Movilidad segura, sostenible y accesible","CICLO INFRAESTRUCTURA","Ciclo infraestructura construida y/o conservada.","2_Presupuestos Participativos 50%"]
["Operativizar XXX Centros de Acceso Comunitario en zonas rurales y/o apartadas.","Centros de Acceso Comunitario en zonas rurales y/o apartadas funcionando ","Propósito 5. Construir Bogotá-región con gobierno abierto, transparente y ciudadanía consciente.","Transformación digital y gestión de TIC para un territorio inteligente","CONECTIVIDAD","Servicios de Conectividad y redes de comunicación.","2_Presupuestos Participativos 50%"]
["Intervenir XXX sedes de salones comunales.","Sedes intervenidas de salones comunales.","Propósito 5. Construir Bogotá-región con gobierno abierto, transparente y ciudadanía consciente.","Fortalecimiento de cultura ciudadana y su institucionalidad","INTERVENCIÓN","Espacios y procesos de participación ciudadana fortalecidos. ","2_Presupuestos Participativos 50%"]
["Dotar XXX sedes de salones comunales.","Sedes dotadas de salones comunales.","Propósito 5. Construir Bogotá-región con gobierno abierto, transparente y ciudadanía consciente.","Fortalecimiento de cultura ciudadana y su institucionalidad","DOTACIÓN","Espacios y procesos de participación ciudadana fortalecidos. ","2_Presupuestos Participativos 50%"]
["Construir XXX sedes de salones comunales","Sedes construidas de salones comunales","Propósito 5. Construir Bogotá-región con gobierno abierto, transparente y ciudadanía consciente.","Fortalecimiento de cultura ciudadana y su institucionalidad","CONSTRUCCIÓN","Espacios y procesos de participación ciudadana fortalecidos. ","2_Presupuestos Participativos 50%"]
["Capacitar XXX personas a través de procesos de formación para la participación de manera virtual y presencial.","Número de Personas capacitadas a través de procesos de formación para la participación de manera virtual y presencial.","Propósito 5. Construir Bogotá-región con gobierno abierto, transparente y ciudadanía consciente.","Fortalecimiento de cultura ciudadana y su institucionalidad","FORMACIÓN","Espacios y procesos de participación ciudadana fortalecidos. ","2_Presupuestos Participativos 50%"]
["Fortalecer XXX Organizaciones, JAC e Instancias de participación ciudadana.","Número de Organizaciones, JAC e Instancias de participación ciudadana fortalecidas.","Propósito 5. Construir Bogotá-región con gobierno abierto, transparente y ciudadanía consciente.","Fortalecimiento de cultura ciudadana y su institucionalidad","FORTALECIMIENTO ORGANIZATIVO","Espacios y procesos de participación ciudadana fortalecidos. ","2_Presupuestos Participativos 50%"]
["Terminar 1 sedes administrativas locales.","Sedes administrativas locales terminadas.","Propósito 5. Construir Bogotá-región con gobierno abierto, transparente y ciudadanía consciente.","Gestión Pública Efectiva","SEDE ADMINISTRATIVA","Infraestructura para la atención de servicio al ciudadano.","1_Inflexible 45%"]
["Construir 1 sedes administrativas locales.","Sedes administrativas locales construidas.","Propósito 5. Construir Bogotá-región con gobierno abierto, transparente y ciudadanía consciente.","Gestión Pública Efectiva","SEDE ADMINISTRATIVA","Infraestructura para la atención de servicio al ciudadano.","1_Inflexible 45%"]
["Realizar 4 estrategias de fortalecimiento institucional.","Estrategias de fortalecimiento institucional realizadas","Propósito 5. Construir Bogotá-región con gobierno abierto, transparente y ciudadanía consciente.","Gestión Pública Local.","FORTALECIMIENTO LOCAL","Fortalecimiento institucional.","1_Inflexible 45%"]
["Realizar 1 rendición de cuentas anuales.","Número de Rendiciones de cuentas anuales.","Propósito 5. Construir Bogotá-región con gobierno abierto, transparente y ciudadanía consciente.","Gestión Pública Local.","TRANSPARENCIA Y CONTROL SOCIAL","Espacios y procesos de participación ciudadana fortalecidos. ","3_Flexible 5%"]
["Realizar 4 acciones de inspección, vigilancia y control.","Acciones de inspección, vigilancia y control realizadas","Propósito 5. Construir Bogotá-región con gobierno abierto, transparente y ciudadanía consciente.","Gestión Pública Local.","IVC","Inspección, vigilancia y control (IVC).","1_Inflexible 45%"]
[]
[]
[]
[]
[]
[]
[null,null,null,null,null,null,"Inflexible 45%",1]
[null,null,null,null,null,null,"Presupuestos Participativos 50%",2]
[null,null,null,null,null,null,"Flexible 5%",3]
[]
[]
[null,null,null,null,null,"PRODUCTO PMR","No. PRODUCTO PMR"]
[null,null,null,null,null,"Protección integral a personas y familias en situación de vulneración.",1]
[null,null,null,null,null,"Protección integral a niños y niñas y adolescentes.",2]
[null,null,null,null,null,"Infraestructura y dotación escolar.",3]
[null,null,null,null,null,"Apoyo a la educación superior.",4]
[null,null,null,null,null,"Dotación para la atención y la prestación de los servicios en la infraestructura del sector Integración Social.",5]
[null,null,null,null,null,"Viviendas de interés social rural mejoradas.",6]
[null,null,null,null,null,"Eventos y actividades recreativas y deportivas.",7]
[null,null,null,null,null,"Espacios artísticos y culturales.",8]
[null,null,null,null,null,"Servicio de apoyo financiero para el desarrollo de prácticas artísticas y culturales en el Distrito de Bogotá.",9]
[null,null,null,null,null,"Formación artística y cultural.",10]
[null,null,null,null,null,"Infraestructura y dotación a centros artísticos y culturales.",11]
[null,null,null,null,null,"Servicios de asistencia técnica agropecuaria y/o ambiental.",12]
[null,null,null,null,null,"Servicios de asesoría, asistencia técnica integral y dotación de infraestructura productiva para la Agricultura urbana y periurbana.",13]
[null,null,null,null,null,"Servicios de asesoría, asistencia técnica integral, dotación y/o apoyo financiero a Mipymes y/o emprendimientos.",14]
[null,null,null,null,null,"Estrategias del cuidado para cuidadoras.",15]
[null,null,null,null,null,"Promoción, prevención e intervención en salud.",16]
[null,null,null,null,null,"Calidad ambiental y preservación del patrimonio natural.",17]
[null,null,null,null,null,"Gestión para la prevención y mitigación del riesgo.",18]
[null,null,null,null,null,"Plantación y mantenimiento de árboles, jardines y especies vegetales. ",19]
[null,null,null,null,null,"Parques y escenarios deportivos.",20]
[null,null,null,null,null,"Servicios de protección y bienestar animal.",21]
[null,null,null,null,null,"Acueductos y alcantarillados.",22]
[null,null,null,null,null,"Manejo integral de residuos sólidos. ",23]
[null,null,null,null,null,"Fuentes de energías alternativas para el área rural.",24]
[null,null,null,null,null,"Servicio de apoyo y fortalecimiento a los procesos de construcción de memoria, verdad, reparación integral a víctimas, paz y reconciliación.",25]
[null,null,null,null,null,"Servicios de promoción y capacitación para la construcción de ciudadanía y desarrollo de capacidades para el ejercicio de derechos de las mujeres.",26]
[null,null,null,null,null,"Prevención, atención y gestión del conflicto en la localidad.",27]
[null,null,null,null,null,"Acuerdos ciudadanos suscritos.",28]
[null,null,null,null,null,"Bienes y  servicios de apoyo para el fortalecimiento de la justicia comunitaria y la justicia integral en la ciudad.",29]
[null,null,null,null,null,"Infraestructura y dotaciones para seguridad.",30]
[null,null,null,null,null," Espacio público.",31]
[null,null,null,null,null,"Vías locales.",32]
[null,null,null,null,null,"Ciclo infraestructura construida y/o conservada.",33]
[null,null,null,null,null,"Servicios de Conectividad y redes de comunicación.",34]
[null,null,null,null,null,"Espacios y procesos de participación ciudadana fortalecidos. ",35]
[null,null,null,null,null,"Infraestructura para la atención de servicio al ciudadano.",36]
[null,null,null,null,null,"Fortalecimiento institucional.",37]
[null,null,null,null,null,"Inspección, vigilancia y control (IVC).",38]

{"sheet":"PMR","index":11,"n_rows":135,"n_cols":16,"rows_kept":135,"cut":false,"hidden":false,"merged":[[15,0,15,1],[13,0,13,1],[11,0,12,3]]}
[]
[]
[]
[]
[]
[]
[]
[]
[]
[]
[]
["Matriz Productos, Metas y Resultados"]
[]
[{"$f":"NomLocPMR!$D$9","v":"Marzo 31 de 2021"}]
[]
["Localidad:",null,{"$f":"NomLocPMR!B4","v":"Usaquén"}]
[]
["Código sector","Sector relacionado ","Producto PMR","Código Indicador ","Nombre Indicador ","Año corte","Magnitud 2021-2024","Magnitud contratada 2021 ","Magnitud entregada 2021","Magnitud contratada 2022","Magnitud entregada 2022","Magnitud contratada 2023","Magnitud entregada 2023","Magnitud contratada 2024","Magnitud entregada 2024","Compromisos 2021-2024"]
[85,"GESTIÓN PÚBLICA","Servicio de apoyo y fortalecimiento a los procesos de construcción de memoria, verdad, reparación integral a víctimas, paz y reconciliación.",52,"Personas vinculadas a procesos de construcción de memoria, verdad, reparación integral a víctimas, paz y reconciliación","2021_1",150,0,0,0,0,0,0,0,0,0]
[]
[89,"DESARROLLO ECONÓMICO, INDUSTRIA Y TURISMO","Servicios de asesoría, asistencia técnica integral, dotación y/o apoyo financiero a Mipymes y/o emprendimientos.",21,"Número de Mipymes y/o emprendimientos culturales y creativos apoyados","2021_1",267,0,0,0,0,0,0,0,0,163500000]
[]
[89,"DESARROLLO ECONÓMICO, INDUSTRIA Y TURISMO","Servicios de asesoría, asistencia técnica integral, dotación y/o apoyo financiero a Mipymes y/o emprendimientos.",22,"Número de Mipymes y/o emprendimientos con procesos de reconversión hacia actividades sostenibles","2021_1",210,0,0,0,0,0,0,0,0,52332000]
[]
[89,"DESARROLLO ECONÓMICO, INDUSTRIA Y TURISMO","Servicios de asesoría, asistencia técnica integral, dotación y/o apoyo financiero a Mipymes y/o emprendimientos.",23,"Número de Mipymes y/o emprendimientos con transformacion empresarial y/o productiva","2021_1",208,5,0,0,0,0,0,0,0,102580000]
[]
[89,"DESARROLLO ECONÓMICO, INDUSTRIA Y TURISMO","Servicios de asesoría, asistencia técnica integral, dotación y/o apoyo financiero a Mipymes y/o emprendimientos.",24,"Número de Mipymes  y/o emprendimientos revitalizadas o potencializadas dentro de las aglomeraciones económicas que fomentan el empleo y/o nuevas actividades económicas","2021_1",211,0,0,0,0,0,0,0,0,50166000]
[]
[90,"EDUCACIÓN","Protección integral a niños y niñas y adolescentes.",3,"Proyectos para el desarrollo integral de la primera infancia y la relación escuela, familia y comunidad.","2021_1",12,0,0,0,0,0,0,0,0,36000000]
[]
[90,"EDUCACIÓN","Infraestructura y dotación escolar.",4,"Sedes educativas urbanas y rurales dotadas","2021_1",10,0,0,0,0,0,0,0,0,0]
[]
[90,"EDUCACIÓN","Apoyo a la educación superior.",5,"Personas beneficiadas con  apoyo para la educación superior","2021_1",250,0,0,0,0,0,0,0,0,212810000]
[]
[90,"EDUCACIÓN","Apoyo a la educación superior.",6,"Número de estudiantes de programas de educación superior con apoyo de sostenimiento para la permanencia.","2021_1",250,0,0,0,0,0,0,0,0,0]
[]
[91,"SALUD","Promoción, prevención e intervención en salud.",33,"Número de personas con discapacidad beneficiadas con Dispostivos de Asistencia Personal - Ayudas Técnicas (no incluidas en los Planes de Beneficios).","2021_1",711,0,0,0,0,0,0,0,0,71500000]
[]
[92,"INTEGRACIÓN SOCIAL","Protección integral a personas y familias en situación de vulneración.",1,"Hogares atendidos con apoyos que contribuyan al ingreso mínimo garantizado","2021_1",977,0,0,0,0,0,0,0,0,4447080000]
[]
[92,"INTEGRACIÓN SOCIAL","Protección integral a personas y familias en situación de vulneración.",2,"Número de personas mayores con apoyo económico tipo C","2021_1",950,950,950,0,0,0,0,0,0,462004000]
[]
[92,"INTEGRACIÓN SOCIAL","Protección integral a niños y niñas y adolescentes.",25,"Número de Personas formadas u orientadas o sensibilizadas en prevención de violencia intrafamiliar y/o violencia sexual.            ","2021_1",1020,0,0,0,0,0,0,0,0,50000000]
[]
[92,"INTEGRACIÓN SOCIAL","Protección integral a niños y niñas y adolescentes.",28,"Sedes de atención a la primera infancia y/o adolescencia dotadas.","2021_1",11,0,0,0,0,0,0,0,0,0]
[]
[92,"INTEGRACIÓN SOCIAL","Dotación para la atención y la prestación de los servicios en la infraestructura del sector Integración Social.",26,"Centros de atención especializada dotados","2021_1",1,0,0,0,0,0,0,0,0,0]
[]
[92,"INTEGRACIÓN SOCIAL","Dotación para la atención y la prestación de los servicios en la infraestructura del sector Integración Social.",27,"Sedes de Centros de Desarrollo comunitarios dotados","2021_1",1,0,0,0,0,0,0,0,0,0]
[]
[93,"CULTURA, RECREACIÓN Y DEPORTE","Eventos y actividades recreativas y deportivas.",10,"Personas vinculadas en actividades recreo-deportivas comunitarias","2021_1",9142,0,0,0,0,0,0,0,0,47808000]
[]
[93,"CULTURA, RECREACIÓN Y DEPORTE","Eventos y actividades recreativas y deportivas.",11,"Personas capacitadas en los campos deportivos","2021_1",680,0,0,0,0,0,0,0,0,18000000]
[]
[93,"CULTURA, RECREACIÓN Y DEPORTE","Eventos y actividades recreativas y deportivas.",12,"Personas beneficiadas con artículos entregados.","2021_1",680,0,0,0,0,0,0,0,0,36000000]
[]
[93,"CULTURA, RECREACIÓN Y DEPORTE","Formación artística y cultural.",15,"Personas capacitadas en los campos artísticos, interculturales, culturales y/o patrimoniales","2021_1",680,0,0,0,0,0,0,0,0,0]
[]
[93,"CULTURA, RECREACIÓN Y DEPORTE","Espacios artísticos y culturales.",13,"Eventos de promoción de actividades culturales realizadas","2021_1",16,0,0,0,0,0,0,0,0,0]
[]
[93,"CULTURA, RECREACIÓN Y DEPORTE","Infraestructura y dotación a centros artísticos y culturales.",16,"Sedes dotadas/Sedes adecuadas","2021_1",1,0,0,0,0,0,0,0,0,61366000]
[]
[93,"CULTURA, RECREACIÓN Y DEPORTE","Parques y escenarios deportivos.",47,"Número de Parques vecinales y/o de bolsillo intervenidos en mejoramiento, mantenimiento y/o dotación","2021_1",30,0,0,0,0,0,0,0,0,118400000]
[]
[93,"CULTURA, RECREACIÓN Y DEPORTE","Servicio de apoyo financiero para el desarrollo de prácticas artísticas y culturales en el Distrito de Bogotá.",14,"Estímulos otorgados de apoyo al sector artístico y cultural ","2021_1",50,0,0,0,0,0,0,0,0,45000000]
[]
[93,"CULTURA, RECREACIÓN Y DEPORTE","Servicio de apoyo financiero para el desarrollo de prácticas artísticas y culturales en el Distrito de Bogotá.",20,"Número de proyectos financiados y acompañados del sector cultural y creativo.","2021_1",65,0,0,0,0,0,0,0,0,35319280]
[]
[94,"AMBIENTE","Calidad ambiental y preservación del patrimonio natural.",38,"Número de PROCEDAS implementados ","2021_1",6,0,0,0,0,0,0,0,0,52000000]
[]
[94,"AMBIENTE","Calidad ambiental y preservación del patrimonio natural.",39,"m2 de muros y techos verdes","2021_1",167,0,0,0,0,0,0,0,0,0]
[]
[94,"AMBIENTE","Calidad ambiental y preservación del patrimonio natural.",40,"m2 de jardinería y coberturas verdes","2021_1",9000,0,0,0,0,0,0,0,0,0]
[]
[94,"AMBIENTE","Calidad ambiental y preservación del patrimonio natural.",41,"Hectáreas en restauración, rehabilitación o recuperación ecológica y mantenimiento ","2021_1",6,0,0,0,0,0,0,0,0,0]
[]
[94,"AMBIENTE","Gestión para la prevención y mitigación del riesgo.",42,"Acciones efectivas para el fortalecimiento de las capacidades locales para la respuesta a emergencias y desastres","2021_1",1,0,0,0,0,0,0,0,0,0]
[]
[94,"AMBIENTE","Gestión para la prevención y mitigación del riesgo.",43,"Intervenciones para la reducción del riesgo y adaptación al cambio climático","2021_1",1,0,0,0,0,0,0,0,0,0]
[]
[94,"AMBIENTE","Plantación y mantenimiento de árboles, jardines y especies vegetales. ",44,"Número de árboles mantenidos","2021_1",8000,0,0,0,0,0,0,0,0,0]
[]
[94,"AMBIENTE","Plantación y mantenimiento de árboles, jardines y especies vegetales. ",45,"Número de árboles plantados","2021_1",340,0,0,0,0,0,0,0,0,0]
[]
[94,"AMBIENTE","Servicios de asesoría, asistencia técnica integral y dotación de infraestructura productiva para la Agricultura urbana y periurbana.",19,"Número acciones de fomento para la agricultura urbana","2021_1",4,0,0,0,0,0,0,0,0,49500000]
[]
[94,"AMBIENTE","Servicios de protección y bienestar animal.",48,"Número de animales atendidos","2021_1",4000,0,0,0,0,0,0,0,0,90000000]
[]
[95,"MOVILIDAD"," Espacio público.",69,"Metros cuadrados construidos y/o conservados de elementos del sistema de espacio público peatonal.","2021_1",1700,0,0,0,0,0,0,0,0,0]
[]
[95,"MOVILIDAD"," Espacio público.",70,"Metros cuadrados de Puentes vehiculares y/o peatonales de escala local sobre cuerpos de agua construidos y/o intervenidos","2021_1",500,0,0,0,0,0,0,0,0,0]
[]
[95,"MOVILIDAD","Vías locales.",71,"Kilómetros-carril construidos y/o conservados de malla vial urbana (local y/o intermedia)","2021_1",2,0,0,0,0,0,0,0,0,152700000]
[]
[95,"MOVILIDAD","Ciclo infraestructura construida y/o conservada.",73,"Metros lineales construidos y/o conservados de Ciclo-infraestructura","2021_1",800,0,0,0,0,0,0,0,0,35319280]
[]
[96,"HÁBITAT","Manejo integral de residuos sólidos. ",50,"Personas capacitadas en separación en la fuente y reciclaje","2021_1",2500,0,0,0,0,0,0,0,0,44000000]
[]
[98,"GOBIERNO","Espacios y procesos de participación ciudadana fortalecidos. ",75,"Sedes intervenidas de salones comunales.","2021_1",3,0,0,0,0,0,0,0,0,0]
[]
[98,"GOBIERNO","Espacios y procesos de participación ciudadana fortalecidos. ",76,"Sedes dotadas de salones comunales.","2021_1",38,0,0,0,0,0,0,0,0,0]
[]
[98,"GOBIERNO","Espacios y procesos de participación ciudadana fortalecidos. ",78,"Número de Personas capacitadas a través de procesos de formación para la participación de manera virtual y presencial.","2021_1",734,120,0,0,0,0,0,0,0,204373280]
[]
[98,"GOBIERNO","Espacios y procesos de participación ciudadana fortalecidos. ",79,"Número de Organizaciones, JAC e Instancias de participación ciudadana fortalecidas.","2021_1",43,0,0,0,0,0,0,0,0,100000000]
[]
[98,"GOBIERNO","Espacios y procesos de participación ciudadana fortalecidos. ",83,"Número de Rendiciones de cuentas anuales.","2021_1",1,1,1,0,0,0,0,0,0,0]
[]
[98,"GOBIERNO","Infraestructura para la atención de servicio al ciudadano.",81,"Sedes administrativas locales construidas.","2021_1",1,0,0,0,0,0,0,0,0,0]
[]
[98,"GOBIERNO","Fortalecimiento institucional.",82,"Estrategias de fortalecimiento institucional realizadas","2021_1",4,1,1,0,0,0,0,0,0,2643777464]
[]
[98,"GOBIERNO","Inspección, vigilancia y control (IVC).",84,"Acciones de inspección, vigilancia y control realizadas","2021_1",4,1,1,0,0,0,0,0,0,1614222380]
[]
[98,"GOBIERNO","Acuerdos ciudadanos suscritos.",58,"Acuerdos realizados para el uso del EP con fines culturales, deportivos, recreacionales o de mercados temporales.","2021_1",4,0,0,0,0,0,0,0,0,28000000]
[]
[98,"GOBIERNO","Acuerdos ciudadanos suscritos.",59,"Acuerdos realizados para la promover la formalización de vendedores informales a circulos económicos productivos de la ciudad","2021_1",1,0,0,0,0,0,0,0,0,80400000]
[]
[98,"GOBIERNO","Acuerdos ciudadanos suscritos.",60,"Acuerdos realizados para la vinculación de la ciudadanía en los programas adelantados por el IDRD y acuerdos con vendedores informales o estacionarios ","2021_1",4,0,0,0,0,0,0,0,0,0]
[]
[100,"MUJERES","Prevención, atención y gestión del conflicto en la localidad.",54,"Número de Personas vinculadas en acciones para la prevención del feminicidio y la violencia contra la mujer","2021_1",2500,0,0,0,0,0,0,0,0,46400000]
[]
[100,"MUJERES","Estrategias del cuidado para cuidadoras.",30,"Mujeres cuidadoras vinculadas a estrategias de cuidado","2021_1",711,0,0,0,0,0,0,0,0,24000000]
[]
[100,"MUJERES","Servicios de promoción y capacitación para la construcción de ciudadanía y desarrollo de capacidades para el ejercicio de derechos de las mujeres.",53,"Personas capacitadas para la construcción de ciudadanía y desarrollo de capacidades para el ejercicio de derechos de las mujeres.","2021_1",1530,0,0,0,0,0,0,0,0,26166000]
[]
[102,"SEGURIDAD, CONVIVENCIA Y JUSTICIA","Prevención, atención y gestión del conflicto en la localidad.",55,"Estrategia de atención de movilizaciones y aglomeraciones en el territorio implementada a traves de equipos de gestores de convivencia bajo el direccionamiento estrategico de la Secretaria de Seguridad, Convivencia y Justicia","2021_1",4,1,1,0,0,0,0,0,0,282000000]
[]
[102,"SEGURIDAD, CONVIVENCIA Y JUSTICIA","Prevención, atención y gestión del conflicto en la localidad.",64,"Estrategia local de acciones pedagógicas del Código Nacional de Seguridad y Convivencia Ciudadana implementada en la localidad.","2021_1",2,0,0,0,0,0,0,0,0,0]
[]
[102,"SEGURIDAD, CONVIVENCIA Y JUSTICIA","Infraestructura y dotaciones para seguridad.",65,"Dotaciones tecnológicas suministradas a organismos de seguridad.","2021_1",2,0,0,0,0,0,0,0,0,355300000]
[]
[102,"SEGURIDAD, CONVIVENCIA Y JUSTICIA","Infraestructura y dotaciones para seguridad.",66,"Dotaciones logísticas suministradas a organismos de seguridad.","2021_1",1,0,0,0,0,0,0,0,0,0]
[]
[102,"SEGURIDAD, CONVIVENCIA Y JUSTICIA","Bienes y  servicios de apoyo para el fortalecimiento de la justicia comunitaria y la justicia integral en la ciudad.",62,"Personas atendidas en estrategias de acceso a la justicia integral en la ciudad.","2021_1",150,0,0,0,0,0,0,0,0,0]

{"sheet":"NomLocPMR","index":12,"n_rows":9,"n_cols":4,"rows_kept":9,"cut":false,"hidden":true,"merged":[]}
["Año_corte","2021_1"]
[]
["No. Localidad","Nombre Localidad "]
[1,"Usaquén"]
["Total general"]
[]
[]
[]
[null,null,null,{"$f":"VLOOKUP(B1,FECHAS,2,0)","v":"Marzo 31 de 2021"}]

{"sheet":"Dashboard","index":13,"n_rows":207,"n_cols":6,"rows_kept":207,"cut":false,"hidden":false,"merged":[[14,0,15,21],[80,0,81,21],[206,0,207,21],[9,0,10,21],[11,0,11,21],[131,0,131,21],[12,5,12,9],[12,0,12,4],[20,1,24,3],[27,1,31,3],[129,0,130,21]]}
[]
[]
[]
[]
[]
[]
[]
[]
[]
["INFORME AVANCE PDL 2021 - 2024"]
[]
[{"$f":"'DBO1'!$N$35","v":"Marzo 31 de 2021"}]
["LOCALIDAD:",null,null,null,null,{"$f":"'DBO1'!A4","v":"Usaquén"}]
[]
["AVANCE DEL PLAN DE DESARROLLO LOCAL"]
[]
[]
[]
[]
[]
[]
[]
[]
[]
[]
[]
[]
[]
[]
[]
[]
[]
[]
[]
[]
[]
[]
[]
[]
[]
[]
[]
[]
[]
[]
[]
[]
[]
[]
[]
[]
[]
[]
[]
[]
[]
[]
[]
[]
[]
[]
[]
[]
[]
[]
[]
[]
[]
[]
[]
[]
[]
[]
[]
[]
[]
[]
[]
[]
[]
["AVANCE POR ESTRUCTURA DEL PLAN"]
[]
[]
[]
[]
[]
[]
[]
[]
[]
[]
[]
[]
[]
[]
[]
[]
[]
[]
[]
[]
[]
[]
[]
[]
[]
[]
[]
[]
[]
[]
[]
[]
[]
[]
[]
[]
[]
[]
[]
[]
[]
[]
[]
[]
[]
[]
[]
[]
["AVANCE POR SECTOR"]
[]
[]
[]
[]
[]
[]
[]
[]
[]
[]
[]
[]
[]
[]
[]
[]
[]
[]
[]
[]
[]
[]
[]
[]
[]
[]
[]
[]
[]
[]
[]
[]
[]
[]
[]
[]
[]
[]
[]
[]
[]
[]
[]
[]
[]
[]
[]
[]
[]
[]
[]
[]
[]
[]
[]
[]
[]
[]
[]
[]
[]
[]
[]
[]
[]
[]
[]
[]
[]
[]
[]
[]
[]
[]
[]
[]
["AVANCE POR LÍNEA DE INVERSIÓN FRENTE AL TOTAL DEL PRESUPUESTO"]

{"sheet":"INFORME INDICADOR SECTORIAL","index":14,"n_rows":63,"n_cols":22,"rows_kept":63,"cut":false,"hidden":false,"merged":[[62,1,62,21],[7,0,7,3],[8,13,8,18],[5,0,6,18],[8,0,8,4],[28,1,28,20],[10,0,11,21]]}
[]
[]
[]
[]
[]
["INFORME POR INDICADOR SECTORIAL"]
[]
[{"$f":"VLOOKUP(C36,FECHAS,2,0)","v":"Marzo 31 de 2021"}]
[]
[]
["DATOS POR INDICADOR"]
[]
[]
[]
[]
[]
[]
[]
[]
[]
[]
[]
[]
[]
[]
[]
[]
[]
[null,{"$f":"C37","v":"EDUCACIÓN"}]
[]
[null,"Corte:",null,{"$f":"C36","v":"2021_1"}]
[null,"Indicador:",null,{"$f":"C38","v":"Proyectos para el desarrollo integral de la primera infancia y la relación escuela, familia y comunidad."}]
[]
[]
[]
[null,"Año_corte","2021_1"]
[null,"Sector relacionado ","EDUCACIÓN"]
[null,"Nombre Indicador ","Proyectos para el desarrollo integral de la primera infancia y la relación escuela, familia y comunidad."]
[]
[null,"No. Localidad","Nombre Localidad ","Tipo de anualización meta"," Magnitud Meta Plan 2017-2020","Magnitud programada POAI 2021","Magnitud contratada 2021 ","Magnitud entregada 2021","Compromisos 2021","Giros 2021","Magnitud programada POAI 2022","Magnitud contratada 2022","Magnitud entregada 2022","Compromisos 2022","Magnitud programada POAI 2023","Magnitud contratada 2023","Magnitud entregada 2023","Compromisos 2023","Magnitud programada POAI 2024","Magnitud contratada 2024","Magnitud entregada 2024","Compromisos 2024"]
[null,1,"Usaquén","Suma",12,3,0,0,36000000,3300000,0,0,0,0,0,0,0,0,0,0,0,0]
[null,2,"Chapinero","Suma",16,4,0,0,33000000,0,0,0,0,0,0,0,0,0,0,0,0,0]
[null,3,"Santa Fe","Suma",4,1,0,0,null,null,0,0,0,0,0,0,0,0,0,0,0,0]
[null,4,"San Cristóbal","Suma",34,9,0,0,null,null,0,0,0,0,0,0,0,0,0,0,0,0]
[null,5,"Usme","Suma",51,12,0,0,null,null,0,0,0,0,0,0,0,0,0,0,0,0]
[null,6,"Tunjuelito","Suma",12,3,0,0,72000000,0,0,0,0,0,0,0,0,0,0,0,0,0]
[null,7,"Bosa","Suma",27,6,0,0,null,null,0,0,0,0,0,0,0,0,0,0,0,0]
[null,8,"Kennedy","Suma",20,5,0,0,null,null,0,0,0,0,0,0,0,0,0,0,0,0]
[null,9,"Fontibón","Suma",28,7,0,0,21630000,0,0,0,0,0,0,0,0,0,0,0,0,0]
[null,10,"Engativá","Suma",33,8,0,0,null,null,0,0,0,0,0,0,0,0,0,0,0,0]
[null,11,"Suba","Suma",58,14,0,0,null,null,0,0,0,0,0,0,0,0,0,0,0,0]
[null,12,"Barrios Unidos","Suma",4,1,0,0,41515000,0,0,0,0,0,0,0,0,0,0,0,0,0]
[null,13,"Teusaquillo","Suma",4,1,0,0,43610000,1889767,0,0,0,0,0,0,0,0,0,0,0,0]
[null,14,"Los Mártires","Constante",8,8,0,0,null,null,0,0,0,0,0,0,0,0,0,0,0,0]
[null,15,"Antonio Nariño","Suma",4,1,0,0,null,null,0,0,0,0,0,0,0,0,0,0,0,0]
[null,16,"Puente Aranda","Suma",15,3,0,0,null,null,0,0,0,0,0,0,0,0,0,0,0,0]
[null,17,"La Candelaria","Suma",2,1,0,0,null,null,0,0,0,0,0,0,0,0,0,0,0,0]
[null,18,"Rafael Uribe Uribe","Suma",100,25,0,0,null,null,0,0,0,0,0,0,0,0,0,0,0,0]
[null,19,"Ciudad Bolívar","Suma",80,20,0,0,null,null,0,0,0,0,0,0,0,0,0,0,0,0]
[null,20,"Sumapaz","Constante",1,1,0,0,null,null,0,0,0,0,0,0,0,0,0,0,0,0]
[null,"Total general",null,null,513,133,0,0,247755000,5189767,0,0,0,0,0,0,0,0,0,0,0,0]
[]
[null,"Compromisos y giros en millones de pesos"]

{"sheet":"LINEA DE TIEMPO","index":15,"n_rows":168,"n_cols":22,"rows_kept":168,"cut":false,"hidden":true,"merged":[[45,1,49,3],[9,0,10,21],[11,0,11,21],[12,0,12,4],[12,5,12,9],[14,0,15,21],[135,0,135,21],[167,0,168,21],[131,0,131,21],[133,0,134,21],[54,0,55,21]]}
[]
[]
[]
[]
[]
[]
[]
[]
[]
["INFORME LINEA DE TIEMPO 2017 - 2020"]
[]
[{"$f":"'DBO1'!$N$35","v":"Marzo 31 de 2021"}]
["LOCALIDAD:",null,null,null,null,{"$f":"'DBO1'!A4","v":"Usaquén"},null,null,null,null,null,null,null,null,null,null,null,null,null,null,null,"Dirección de planes de Desarrollo y Fortalecimiento Local - SDP"]
[]
["AVANCE DEL PLAN DE DESARROLLO"]
[]
[]
[]
[]
[]
[]
[]
[]
[]
[]
[]
[]
[]
[]
[]
[]
[]
[]
[]
[]
[]
[]
[]
[]
[]
[]
[]
[]
[]
[]
[]
[]
[]
[]
[]
[]
[]
[]
[]
["AVANCE DEL PLAN DE DESARROLLO"]
[]
[]
[]
[]
[]
[]
[]
[]
[]
[]
[]
[]
[]
[]
[]
[]
[]
[]
[]
[]
[]
[]
[]
[]
[]
[]
[]
[]
[]
[]
[]
[]
[]
[]
[]
[]
[]
[]
[]
[]
[]
[]
[]
[]
[]
[]
[]
[]
[]
[]
[]
[]
[]
[]
[]
[]
[]
[]
[]
[]
[]
[]
[]
[]
[]
[]
[]
[]
[]
[]
[]
[]
[]
[]
[]
[]
[]
[]
["AVANCE POR SECTOR"]
[]
[]
[]
[]
[]
[]
[]
[]
[]
[]
[]
[]
[]
[]
[]
[]
[]
[]
[]
[]
[]
[]
[]
[]
[]
[]
[]
[]
[]
[]
[]
[]
[]
["AVANCE POR LÍNEA DE INVERSIÓN"]

{"sheet":"DBO1","index":16,"n_rows":57,"n_cols":14,"rows_kept":57,"cut":false,"hidden":true,"merged":[]}
["Año_corte","2021_1"]
[]
["Nombre Localidad "]
["Usaquén",null,null,null,"% Cumplimiento:",null,{"$f":"$N$5","v":2.1326784149384624E-2},null,0.1,1,null,null,null,"AVANCE CONTRATADO"]
[null,null,null,null,null,null,null,null,0.2,1,null,null,null,{"$f":"VLOOKUP(A4,'Pond Programa'!$AH$4:$AI$23,2,0)","v":2.1326784149384624E-2}]
[null,null,null,null,"Grado",{"$f":"G4*PI()","v":6.7000068408401975E-2},null,null,0.3,1]
[null,null,null,null,null,null,null,null,0.4,1]
[null,null,null,null,null,null,null,null,0.5,1]
[null,null,null,null,null,null,null,null,0.6,1]
[null,null,null,null,null,null,null,null,0.7,1]
[null,null,null,null,null,null,null,null,0.8,1]
[null,null,null,null,null,null,null,null,0.9,1]
[null,null,null,null,null,null,null,null,1,9]
[]
[]
[]
[null,null,null,null,null,null,null,null,"Puntos","x","y"]
[null,null,null,null,null,null,null,null,"Inicio",0,0]
[null,null,null,null,null,null,null,null,"Fin",{"$f":"COS(F6)*-1","v":-0.99775633492447813},{"$f":"SIN(F6)","v":6.6949952338090035E-2}]
[]
[]
[]
[]
[]
[]
[]
[]
[]
[]
[]
[]
[]
[]
[]
[null,null,null,null,null,null,null,null,null,null,null,null,null,{"$f":"VLOOKUP(B1,FECHAS,2,0)","v":"Marzo 31 de 2021"}]
[]
[]
[]
[]
[]
[]
[null,null,null,null,null,null,null,null,null,null,null,null,"2021_1","Marzo 31 de 2021"]
[null,null,null,null,null,null,null,null,null,null,null,null,"2021_2","Junio 30 de 2021"]
[null,null,null,null,null,null,null,null,null,null,null,null,"2021_3","Septiembre 30 de 2021"]
[null,null,null,null,null,null,null,null,null,null,null,null,"2021_4","Diciembre 31 de 2021"]
[null,null,null,null,null,null,null,null,null,null,null,null,"2022_1","Marzo 31 de 2022"]
[null,null,null,null,null,null,null,null,null,null,null,null,"2022_2","Junio 30 de 2022"]
[null,null,null,null,null,null,null,null,null,null,null,null,"2022_3","Septiembre 30 de 2022"]
[null,null,null,null,null,null,null,null,null,null,null,null,"2022_4","Diciembre 31 de 2022"]
[null,null,null,null,null,null,null,null,null,null,null,null,"2023_1","Marzo 31 de 2023"]
[null,null,null,null,null,null,null,null,null,null,null,null,"2023_2","Junio 30 de 2023"]
[null,null,null,null,null,null,null,null,null,null,null,null,"2023_3","Septiembre 30 de 2023"]
[null,null,null,null,null,null,null,null,null,null,null,null,"2023_4","Diciembre 31 de 2023"]
[null,null,null,null,null,null,null,null,null,null,null,null,"2024_1","Marzo 31 de 2024"]
[null,null,null,null,null,null,null,null,null,null,null,null,"2024_2","Junio 30 de 2024"]
[null,null,null,null,null,null,null,null,null,null,null,null,"2024_3","Septiembre 30 de 2024"]
[null,null,null,null,null,null,null,null,null,null,null,null,"2024_4","Diciembre 31 de 2024"]

{"sheet":"DB02","index":17,"n_rows":19,"n_cols":14,"rows_kept":19,"cut":false,"hidden":true,"merged":[]}
["Año_corte","2021_1"]
[]
["Nombre Localidad "]
["Usaquén",null,null,null,"% Cumplimiento:",null,{"$f":"$N$5","v":1.9678254313083995E-2},null,0.1,1,null,null,null,"AVANCE CONTRATADO"]
[null,null,null,null,null,null,null,null,0.2,1,null,null,null,{"$f":"VLOOKUP(A4,'Pond Programa'!$AH$4:$AJ$23,3,0)","v":1.9678254313083995E-2}]
[null,null,null,null,"Grado",{"$f":"G4*PI()","v":6.1821059185456342E-2},null,null,0.3,1]
[null,null,null,null,null,null,null,null,0.4,1]
[null,null,null,null,null,null,null,null,0.5,1]
[null,null,null,null,null,null,null,null,0.6,1]
[null,null,null,null,null,null,null,null,0.7,1]
[null,null,null,null,null,null,null,null,0.8,1]
[null,null,null,null,null,null,null,null,0.9,1]
[null,null,null,null,null,null,null,null,1,9]
[]
[]
[]
[null,null,null,null,null,null,null,null,"Puntos","x","y"]
[null,null,null,null,null,null,null,null,"Inicio",0,0]
[null,null,null,null,null,null,null,null,"Fin",{"$f":"COS(F6)*-1","v":-0.99808968684667732},{"$f":"SIN(F6)","v":6.1781688308928502E-2}]

{"sheet":"DB03","index":18,"n_rows":86,"n_cols":16,"rows_kept":86,"cut":false,"hidden":true,"merged":[[63,0,63,6],[63,10,63,16]]}
[]
["Año_corte","2021_1"]
["Nombre Localidad ","Usaquén"]
[]
["Código Eje/Pilar","Nombre Eje/Pilar"]
[1,"Hacer un nuevo contrato social con igualdad de oportunidades para la inclusión social, productiva y política"]
[2,"Cambiar nuestros hábitos de vida para reverdecer a Bogotá y adaptarnos y mitigar el cambio climático."]
[3,"Inspirar confianza y legitimidad para vivir sin miedo y ser epicentro de cultura ciudadana, paz y reconciliación."]
[5,"Construir Bogotá-región con gobierno abierto, transparente y ciudadanía consciente."]
[4,"Hacer de Bogotá-región un modelo de movilidad, creatividad y productividad incluyente y sostenible"]
[]
[]
[]
[]
[]
[]
[]
[null,"Código Eje/Pilar","Nombre Eje/Pilar","% CONTRATADO","% ENTREGADO"]
[null,1,"Hacer un nuevo contrato social con igualdad de oportunidades para la inclusión social, productiva y política",{"$f":"VLOOKUP($B$3,$B$67:$G$86,2,0)","v":2.9297593181199584E-3},{"$f":"VLOOKUP($B$3,$K$67:$P$86,2,0)","v":2.4961342143340064E-3},{"$f":"VLOOKUP($B$3,'Pond Programa'!$X$4:$AD$8,6,0)","v":2.9297593181199584E-3}]
[null,2,"Cambiar nuestros hábitos de vida para reverdecer a Bogotá y adaptarnos y mitigar el cambio climático.",{"$f":"VLOOKUP($B$3,$B$67:$G$86,3,0)","v":0},{"$f":"VLOOKUP($B$3,$K$67:$P$86,3,0)","v":0}]
[null,3,"Inspirar confianza y legitimidad para vivir sin miedo y ser epicentro de cultura ciudadana, paz y reconciliación.",{"$f":"VLOOKUP($B$3,$B$67:$G$86,4,0)","v":1.569875200790807E-3},{"$f":"VLOOKUP($B$3,$K$67:$P$86,4,0)","v":1.569875200790807E-3}]
[null,5,"Construir Bogotá-región con gobierno abierto, transparente y ciudadanía consciente.",{"$f":"VLOOKUP($B$3,$B$67:$G$86,5,0)","v":0},{"$f":"VLOOKUP($B$3,$K$67:$P$86,5,0)","v":0}]
[null,4,"Hacer de Bogotá-región un modelo de movilidad, creatividad y productividad incluyente y sostenible",{"$f":"VLOOKUP($B$3,$B$67:$G$86,6,0)","v":1.6827149630473857E-2},{"$f":"VLOOKUP($B$3,$K$67:$P$86,6,0)","v":1.5612244897959184E-2}]
[]
[]
[]
[]
[]
[]
[]
[]
[]
[]
[]
[]
[]
[]
[]
[]
[]
[]
[]
[]
[]
[]
[]
[]
[]
[]
[]
[]
[]
[]
[]
[]
[]
[]
[]
[]
[]
[]
[]
[]
["CONTRATADO",null,null,null,null,null,null,null,null,null,"ENTREGADO"]
[]
[null,null,1,2,3,4,5,null,null,null,null,1,2,3,4,5]
[1,"Usaquén",{"$f":"'Pond Programa'!$AC$4","v":2.9297593181199584E-3},{"$f":"'Pond Programa'!$AC$5","v":0},{"$f":"'Pond Programa'!$AC$6","v":1.569875200790807E-3},{"$f":"'Pond Programa'!$AC$7","v":0},{"$f":"'Pond Programa'!$AC$8","v":1.6827149630473857E-2},null,null,1,"Usaquén",{"$f":"'Pond Programa'!$AD$4","v":2.4961342143340064E-3},{"$f":"'Pond Programa'!$AD$5","v":0},{"$f":"'Pond Programa'!$AD$6","v":1.569875200790807E-3},{"$f":"'Pond Programa'!$AD$7","v":0},{"$f":"'Pond Programa'!$AD$8","v":1.5612244897959184E-2}]
[2,"Chapinero",{"$f":"'Pond Programa'!$AC$9","v":8.8771973592662954E-3},{"$f":"'Pond Programa'!$AC$10","v":0},{"$f":"'Pond Programa'!$AC$11","v":6.8137754716528281E-3},{"$f":"'Pond Programa'!$AC$12","v":0},{"$f":"'Pond Programa'!$AC$13","v":4.6971944165033709E-3},null,null,2,"Chapinero",{"$f":"'Pond Programa'!$AD$9","v":2.2897164711622861E-3},{"$f":"'Pond Programa'!$AD$10","v":0},{"$f":"'Pond Programa'!$AD$11","v":0},{"$f":"'Pond Programa'!$AD$12","v":0},{"$f":"'Pond Programa'!$AD$13","v":3.6138409249906892E-3}]
[3,"Santa Fe",{"$f":"'Pond Programa'!$AC$14","v":8.7673435369223247E-3},{"$f":"'Pond Programa'!$AC$15","v":0},{"$f":"'Pond Programa'!$AC$16","v":3.1397504015816141E-3},{"$f":"'Pond Programa'!$AC$17","v":0},{"$f":"'Pond Programa'!$AC$18","v":1.1032260140280132E-3},null,null,3,"Santa Fe",{"$f":"'Pond Programa'!$AD$14","v":6.3262559159393879E-3},{"$f":"'Pond Programa'!$AD$15","v":0},{"$f":"'Pond Programa'!$AD$16","v":3.1397504015816141E-3},{"$f":"'Pond Programa'!$AD$17","v":0},{"$f":"'Pond Programa'!$AD$18","v":1.1032260140280132E-3}]
[4,"San Cristóbal",{"$f":"'Pond Programa'!$AC$19","v":9.8600508905852414E-3},{"$f":"'Pond Programa'!$AC$20","v":0},{"$f":"'Pond Programa'!$AC$21","v":1.5309839626222411E-3},{"$f":"'Pond Programa'!$AC$22","v":0},{"$f":"'Pond Programa'!$AC$23","v":1.554100940231733E-2},null,null,4,"San Cristóbal",{"$f":"'Pond Programa'!$AD$19","v":8.0438875381058234E-3},{"$f":"'Pond Programa'!$AD$20","v":0},{"$f":"'Pond Programa'!$AD$21","v":1.5309839626222411E-3},{"$f":"'Pond Programa'!$AD$22","v":0},{"$f":"'Pond Programa'!$AD$23","v":1.554100940231733E-2}]
[5,"Usme",{"$f":"'Pond Programa'!$AC$24","v":6.5526002933200779E-3},{"$f":"'Pond Programa'!$AC$25","v":1.9863389428606821E-3},{"$f":"'Pond Programa'!$AC$26","v":0},{"$f":"'Pond Programa'!$AC$27","v":0},{"$f":"'Pond Programa'!$AC$28","v":5.4081060857145789E-3},null,null,5,"Usme",{"$f":"'Pond Programa'!$AD$24","v":4.9071037575233109E-3},{"$f":"'Pond Programa'!$AD$25","v":0},{"$f":"'Pond Programa'!$AD$26","v":0},{"$f":"'Pond Programa'!$AD$27","v":0},{"$f":"'Pond Programa'!$AD$28","v":0}]
[6,"Tunjuelito",{"$f":"'Pond Programa'!$AC$29","v":9.9929418232933068E-3},{"$f":"'Pond Programa'!$AC$30","v":0},{"$f":"'Pond Programa'!$AC$31","v":1.2033886556584582E-3},{"$f":"'Pond Programa'!$AC$32","v":0},{"$f":"'Pond Programa'!$AC$33","v":1.1764200068311332E-3},null,null,6,"Tunjuelito",{"$f":"'Pond Programa'!$AD$29","v":6.2673599772567487E-3},{"$f":"'Pond Programa'!$AD$30","v":0},{"$f":"'Pond Programa'!$AD$31","v":1.2033886556584582E-3},{"$f":"'Pond Programa'!$AD$32","v":0},{"$f":"'Pond Programa'!$AD$33","v":1.1764200068311332E-3}]
[7,"Bosa",{"$f":"'Pond Programa'!$AC$34","v":1.0282525386970515E-2},{"$f":"'Pond Programa'!$AC$35","v":0},{"$f":"'Pond Programa'!$AC$36","v":8.4553110239451784E-4},{"$f":"'Pond Programa'!$AC$37","v":0},{"$f":"'Pond Programa'!$AC$38","v":1.563627326700311E-2},null,null,7,"Bosa",{"$f":"'Pond Programa'!$AD$34","v":6.4154478266047598E-3},{"$f":"'Pond Programa'!$AD$35","v":0},{"$f":"'Pond Programa'!$AD$36","v":8.4553110239451784E-4},{"$f":"'Pond Programa'!$AD$37","v":0},{"$f":"'Pond Programa'!$AD$38","v":1.563627326700311E-2}]
[8,"Kennedy",{"$f":"'Pond Programa'!$AC$39","v":4.3653524584643076E-3},{"$f":"'Pond Programa'!$AC$40","v":0},{"$f":"'Pond Programa'!$AC$41","v":0},{"$f":"'Pond Programa'!$AC$42","v":0},{"$f":"'Pond Programa'!$AC$43","v":1.186046511627907E-3},null,null,8,"Kennedy",{"$f":"'Pond Programa'!$AD$39","v":4.3653524584643076E-3},{"$f":"'Pond Programa'!$AD$40","v":0},{"$f":"'Pond Programa'!$AD$41","v":0},{"$f":"'Pond Programa'!$AD$42","v":0},{"$f":"'Pond Programa'!$AD$43","v":1.186046511627907E-3}]
[9,"Fontibón",{"$f":"'Pond Programa'!$AC$44","v":3.3631493858307269E-3},{"$f":"'Pond Programa'!$AC$45","v":0},{"$f":"'Pond Programa'!$AC$46","v":0},{"$f":"'Pond Programa'!$AC$47","v":0},{"$f":"'Pond Programa'!$AC$48","v":1.5505728607232367E-2},null,null,9,"Fontibón",{"$f":"'Pond Programa'!$AD$44","v":3.3631493858307269E-3},{"$f":"'Pond Programa'!$AD$45","v":0},{"$f":"'Pond Programa'!$AD$46","v":0},{"$f":"'Pond Programa'!$AD$47","v":0},{"$f":"'Pond Programa'!$AD$48","v":3.8764321518080917E-3}]
[10,"Engativá",{"$f":"'Pond Programa'!$AC$49","v":3.995665056461953E-3},{"$f":"'Pond Programa'!$AC$50","v":0},{"$f":"'Pond Programa'!$AC$51","v":0},{"$f":"'Pond Programa'!$AC$52","v":0},{"$f":"'Pond Programa'!$AC$53","v":1.5612244897959184E-2},null,null,10,"Engativá",{"$f":"'Pond Programa'!$AD$49","v":3.995665056461953E-3},{"$f":"'Pond Programa'!$AD$50","v":0},{"$f":"'Pond Programa'!$AD$51","v":0},{"$f":"'Pond Programa'!$AD$52","v":0},{"$f":"'Pond Programa'!$AD$53","v":1.5612244897959184E-2}]
[11,"Suba",{"$f":"'Pond Programa'!$AC$54","v":1.129878990331561E-2},{"$f":"'Pond Programa'!$AC$55","v":0},{"$f":"'Pond Programa'!$AC$56","v":6.2770888573966969E-4},{"$f":"'Pond Programa'!$AC$57","v":0},{"$f":"'Pond Programa'!$AC$58","v":8.1123194565886209E-3},null,null,11,"Suba",{"$f":"'Pond Programa'!$AD$54","v":6.0571807509245037E-3},{"$f":"'Pond Programa'!$AD$55","v":0},{"$f":"'Pond Programa'!$AD$56","v":6.2770888573966969E-4},{"$f":"'Pond Programa'!$AD$57","v":0},{"$f":"'Pond Programa'!$AD$58","v":8.1123194565886209E-3}]
[12,"Barrios Unidos",{"$f":"'Pond Programa'!$AC$59","v":1.3128498171646193E-2},{"$f":"'Pond Programa'!$AC$60","v":4.7169811320754724E-3},{"$f":"'Pond Programa'!$AC$61","v":1.1740803938117687E-3},{"$f":"'Pond Programa'!$AC$62","v":0},{"$f":"'Pond Programa'!$AC$63","v":1.5564975039445435E-2},null,null,12,"Barrios Unidos",{"$f":"'Pond Programa'!$AD$59","v":2.7905902970864292E-3},{"$f":"'Pond Programa'!$AD$60","v":4.7169811320754724E-3},{"$f":"'Pond Programa'!$AD$61","v":1.1740803938117687E-3},{"$f":"'Pond Programa'!$AD$62","v":0},{"$f":"'Pond Programa'!$AD$63","v":1.5564975039445435E-2}]
[13,"Teusaquillo",{"$f":"'Pond Programa'!$AC$64","v":1.8291293350664462E-3},{"$f":"'Pond Programa'!$AC$65","v":4.2792327161426599E-3},{"$f":"'Pond Programa'!$AC$66","v":3.9405315925166518E-3},{"$f":"'Pond Programa'!$AC$67","v":0},{"$f":"'Pond Programa'!$AC$68","v":1.5443099676468305E-2},null,null,13,"Teusaquillo",{"$f":"'Pond Programa'!$AD$64","v":1.6754824709208646E-3},{"$f":"'Pond Programa'!$AD$65","v":4.2792327161426599E-3},{"$f":"'Pond Programa'!$AD$66","v":0},{"$f":"'Pond Programa'!$AD$67","v":0},{"$f":"'Pond Programa'!$AD$68","v":1.5443099676468305E-2}]
[14,"Los Mártires",{"$f":"'Pond Programa'!$AC$69","v":1.5150243412592562E-2},{"$f":"'Pond Programa'!$AC$70","v":0},{"$f":"'Pond Programa'!$AC$71","v":1.569875200790807E-3},{"$f":"'Pond Programa'!$AC$72","v":0},{"$f":"'Pond Programa'!$AC$73","v":1.5544192976863829E-2},null,null,14,"Los Mártires",{"$f":"'Pond Programa'!$AD$69","v":6.9899294318628864E-3},{"$f":"'Pond Programa'!$AD$70","v":0},{"$f":"'Pond Programa'!$AD$71","v":1.569875200790807E-3},{"$f":"'Pond Programa'!$AD$72","v":0},{"$f":"'Pond Programa'!$AD$73","v":1.5544192976863829E-2}]
[15,"Antonio Nariño",{"$f":"'Pond Programa'!$AC$74","v":1.4465605315977145E-2},{"$f":"'Pond Programa'!$AC$75","v":0},{"$f":"'Pond Programa'!$AC$76","v":0},{"$f":"'Pond Programa'!$AC$77","v":0},{"$f":"'Pond Programa'!$AC$78","v":1.5422756743033008E-2},null,null,15,"Antonio Nariño",{"$f":"'Pond Programa'!$AD$74","v":4.7744121699669724E-3},{"$f":"'Pond Programa'!$AD$75","v":0},{"$f":"'Pond Programa'!$AD$76","v":0},{"$f":"'Pond Programa'!$AD$77","v":0},{"$f":"'Pond Programa'!$AD$78","v":1.5422756743033008E-2}]
[16,"Puente Aranda",{"$f":"'Pond Programa'!$AC$79","v":2.334833340406884E-2},{"$f":"'Pond Programa'!$AC$80","v":0},{"$f":"'Pond Programa'!$AC$81","v":6.8255443512643774E-4},{"$f":"'Pond Programa'!$AC$82","v":0},{"$f":"'Pond Programa'!$AC$83","v":1.5502710906626449E-2},null,null,16,"Puente Aranda",{"$f":"'Pond Programa'!$AD$79","v":3.2063255555170528E-3},{"$f":"'Pond Programa'!$AD$80","v":0},{"$f":"'Pond Programa'!$AD$81","v":6.8255443512643782E-5},{"$f":"'Pond Programa'!$AD$82","v":0},{"$f":"'Pond Programa'!$AD$83","v":1.5502710906626449E-2}]
[17,"La Candelaria",{"$f":"'Pond Programa'!$AC$84","v":1.1046269157792036E-2},{"$f":"'Pond Programa'!$AC$85","v":0},{"$f":"'Pond Programa'!$AC$86","v":3.1397504015816141E-3},{"$f":"'Pond Programa'!$AC$87","v":0},{"$f":"'Pond Programa'!$AC$88","v":1.1830219349203825E-3},null,null,17,"La Candelaria",{"$f":"'Pond Programa'!$AD$84","v":3.8322628519910371E-3},{"$f":"'Pond Programa'!$AD$85","v":0},{"$f":"'Pond Programa'!$AD$86","v":3.1397504015816141E-3},{"$f":"'Pond Programa'!$AD$87","v":0},{"$f":"'Pond Programa'!$AD$88","v":1.1830219349203825E-3}]
[18,"Rafael Uribe Uribe",{"$f":"'Pond Programa'!$AC$89","v":9.8600508905852414E-3},{"$f":"'Pond Programa'!$AC$90","v":0},{"$f":"'Pond Programa'!$AC$91","v":1.1036558154417315E-3},{"$f":"'Pond Programa'!$AC$92","v":0},{"$f":"'Pond Programa'!$AC$93","v":1.5513436348242661E-2},null,null,18,"Rafael Uribe Uribe",{"$f":"'Pond Programa'!$AD$89","v":9.8600508905852414E-3},{"$f":"'Pond Programa'!$AD$90","v":0},{"$f":"'Pond Programa'!$AD$91","v":1.1036558154417315E-3},{"$f":"'Pond Programa'!$AD$92","v":0},{"$f":"'Pond Programa'!$AD$93","v":1.5513436348242661E-2}]
[19,"Ciudad Bolívar",{"$f":"'Pond Programa'!$AC$94","v":8.9491916859122406E-3},{"$f":"'Pond Programa'!$AC$95","v":0},{"$f":"'Pond Programa'!$AC$96","v":0},{"$f":"'Pond Programa'!$AC$97","v":0},{"$f":"'Pond Programa'!$AC$98","v":2.5331138534539811E-2},null,null,19,"Ciudad Bolívar",{"$f":"'Pond Programa'!$AD$94","v":4.47448637807751E-3},{"$f":"'Pond Programa'!$AD$95","v":0},{"$f":"'Pond Programa'!$AD$96","v":0},{"$f":"'Pond Programa'!$AD$97","v":0},{"$f":"'Pond Programa'!$AD$98","v":2.5331138534539811E-2}]
[20,"Sumapaz",{"$f":"'Pond Programa'!$AC$99","v":1.5768570187277341E-4},{"$f":"'Pond Programa'!$AC$100","v":0},{"$f":"'Pond Programa'!$AC$101","v":0},{"$f":"'Pond Programa'!$AC$102","v":0},{"$f":"'Pond Programa'!$AC$103","v":4.0316729226892393E-3},null,null,20,"Sumapaz",{"$f":"'Pond Programa'!$AD$99","v":1.5768570187277341E-4},{"$f":"'Pond Programa'!$AD$100","v":0},{"$f":"'Pond Programa'!$AD$101","v":0},{"$f":"'Pond Programa'!$AD$102","v":0},{"$f":"'Pond Programa'!$AD$103","v":4.0316729226892393E-3}]

{"sheet":"DB04","index":19,"n_rows":28,"n_cols":3,"rows_kept":28,"cut":false,"hidden":true,"merged":[]}
[]
["Año_corte","2021_1"]
["Nombre Localidad ","Usaquén"]
[]
["Nombre Programa","Avance programa Contratado","Avance programa Entregado"]
["Bogotá protectora de sus recursos naturales",0,0]
["Jóvenes con capacidades: Proyecto de vida para la ciudadanía, la innovación y el trabajo del siglo XXI",0,0]
["Gestión pública efectiva",0,0]
["Eficiencia en la atención de emergencias",0,0]
["Educación inicial: Bases sólidas para la vida",0,0]
["Más árboles y más y mejor espacio público ",0,0]
["Bogotá, referente en cultura, deporte, recreación y actividad física, con parques para el desarrollo y la salud",0,0]
["Ecoeficiencia, reciclaje, manejo de residuos e inclusión de la población recicladora",0,0]
["Bogotá región emprendedora e innovadora",0,0]
["Bogotá territorio de paz y atención integral a las víctimas del conflicto armado",0,0]
["Cambio cultural para la gestión de la crisis climática",0,0]
["Más mujeres viven una vida libre de violencias, se sienten seguras y acceden con confianza al sistema de justicia",0,0]
["Formación integral: más y mejor tiempo en los colegios",0,0]
["Espacio público más seguro y construido colectivamente",0,0]
["Creación y vida cotidiana: Apropiación ciudadana del arte, la cultura y el patrimonio, para la democracia cultural",0,0]
["Bogotá protectora de los animales",0,0]
["Movilidad segura, sostenible y accesible",0,0]
["Plataforma institucional para la seguridad y justicia",0,0]
["Sistema Distrital de Cuidado",3.4698949026665568E-3,0]
["Fortalecimiento de Cultura Ciudadana y su institucionalidad",4.4096542143125209E-2,0]
["Subsidios y transferencias para la equidad",6.2499979908582443E-2,6.2499979908582443E-2]
["Cultura ciudadana para la confianza, la convivencia y la participación desde la vida cotidiana",0.25,0.25]
["Gestión Pública Local",0.25,0.25]

{"sheet":"DB05","index":20,"n_rows":14,"n_cols":7,"rows_kept":14,"cut":false,"hidden":true,"merged":[]}
["Año_corte","2021_1"]
["Nombre Localidad ","Usaquén"]
[]
["Cuenta de Código meta PDL"]
[59]
[]
[]
[]
[]
[]
[]
[]
[]
[null,null,null,null,null,"No de Metas",{"$f":"$A$5","v":59}]

{"sheet":"DB06","index":21,"n_rows":10,"n_cols":3,"rows_kept":10,"cut":false,"hidden":true,"merged":[]}
["Año_corte","2021_1"]
["Nombre Localidad ","Usaquén"]
[]
["Cuenta de Código meta PDL",null,"Nivel de avance Contratado"]
["Código Eje/Pilar","Nombre Eje/Pilar","Bajo"]
[5,"Construir Bogotá-región con gobierno abierto, transparente y ciudadanía consciente.",8]
[4,"Hacer de Bogotá-región un modelo de movilidad, creatividad y productividad incluyente y sostenible",4]
[3,"Inspirar confianza y legitimidad para vivir sin miedo y ser epicentro de cultura ciudadana, paz y reconciliación.",11]
[2,"Cambiar nuestros hábitos de vida para reverdecer a Bogotá y adaptarnos y mitigar el cambio climático.",11]
[1,"Hacer un nuevo contrato social con igualdad de oportunidades para la inclusión social, productiva y política",25]

{"sheet":"DB07","index":22,"n_rows":37,"n_cols":22,"rows_kept":37,"cut":false,"hidden":true,"merged":[[16,20,17,20],[16,21,17,21],[14,16,15,16],[14,17,15,17],[14,18,15,18],[14,20,15,20],[14,21,15,21]]}
["Año_corte","2021_1"]
["Nombre Localidad ","Usaquén"]
[1,2,3,4,1,2,3,4,1,2,3,4]
["Apropiacion POAI 2021","Apropiación POAI 2022","Apropiación POAI 2023","Apropiación POAI 2024","Compromisos 2021","Compromisos 2022","Compromisos 2023","Compromisos 2024","Giros 2021","Giros 2022","Giros 2023","Giros 2024"]
[36045534000,0,0,0,11838023684,0,0,0,4485051106,0,0,0]
[]
[]
[]
[]
[]
[]
[]
[]
[null,null,null,null,null,null,null,null,null,null,null,null,null,null,null,null,"Vigencia corte ","Apropiación POAI","Apropiación Disponible",null,"Compromisos","Giros"]
[null,null,null,{"$f":"VLOOKUP($B$1,NUMERO_DEVOLVER,2,0)","v":1},null,null,null,null,null,null,null,null,null,null,null,null,{"$f":"$B$1","v":"2021_1"},{"$f":"HLOOKUP($D$15,A3:D5,3,0)","v":36045534000},{"$f":"'DB08'!$B$8","v":33522924000},null,{"$f":"HLOOKUP($D$15,E3:H5,3,0)","v":11838023684},{"$f":"HLOOKUP($D$15,I3:L5,3,0)","v":4485051106}]
[]
[null,null,null,null,null,null,null,null,null,null,null,null,null,null,null,null,null,null,null,null,{"$f":"U15/S15","v":0.35313219348049713},{"$f":"V15/S15","v":0.1337905698798828}]
[]
[]
[]
[]
[null,"2021_1",1]
[null,"2021_2",1]
[null,"2021_3",1]
[null,"2021_4",1]
[null,"2022_1",2]
[null,"2022_2",2]
[null,"2022_3",2]
[null,"2022_4",2]
[null,"2023_1",3]
[null,"2023_2",3]
[null,"2023_3",3]
[null,"2023_4",3]
[null,"2024_1",4]
[null,"2024_2",4]
[null,"2024_3",4]
[null,"2024_4",4]

{"sheet":"DB08","index":23,"n_rows":31,"n_cols":26,"rows_kept":31,"cut":false,"hidden":true,"merged":[]}
["Año_corte","2021_1"]
["Nombre Localidad ","Usaquén",null,{"$f":"VLOOKUP($B$2,NUMERO_LOCALIDAD,2,0)+1","v":2}]
[]
[]
[]
[]
[]
["Presupuesto disponible 2017",{"$f":"VLOOKUP($B$1,PRESUPUESTO_DISPONIBLE,$D$2,0)","v":33522924000}]
[]
[]
[null,null,null,null,null,null,null,null,null,null,null,null,null,null,null,null,null,null,null,null,null,null,null,null,"15.14"]
[null,null,null,null,null,null,null,null,null,null,null,null,"85.06","95.78","96.46","97.61",null,"84.97",null,"98.85","99.36","93.19","88.85","87.65","90.39"]
[]
[null,null,null,null,null,null,"Usaquén","Chapinero","Santa Fe","San Cristóbal","Usme","Tunjuelito","Bosa","Kennedy","Fontibón","Engativá","Suba","Barrios Unidos","Teusaquillo","Los Mártires","Antonio Nariño","Puente Aranda","La Candelaria","Rafael Uribe Uribe","Ciudad Bolívar","Sumapaz"]
[null,null,null,null,null,1,2,3,4,5,6,7,8,9,10,11,12,13,14,15,16,17,18,19,20,21]
[null,null,null,null,null,"2021_1",33522924000,14767665000,23287141000,58455151000,55840423000,24010458000,70493247000,82169016000,25199249000,48636213000,87897495000,20045336000,12451967000,29559789000,13777413000,24345328000,9492675000,50922377000,93334126000,28793908000]
[null,null,null,null,null,"2021_2"]
[null,null,null,null,null,"2021_3"]
[null,null,null,null,null,"2021_4"]
[null,null,null,null,null,"2022_1"]
[null,null,null,null,null,"2022_2"]
[null,null,null,null,null,"2022_3"]
[null,null,null,null,null,"2022_4"]
[null,null,null,null,null,"2023_1"]
[null,null,null,null,null,"2023_2"]
[null,null,null,null,null,"2023_3"]
[null,null,null,null,null,"2023_4"]
[null,null,null,null,null,"2024_1"]
[null,null,null,null,null,"2024_2"]
[null,null,null,null,null,"2024_3"]
[null,null,null,null,null,"2024_4"]

{"sheet":"DB09","index":24,"n_rows":19,"n_cols":7,"rows_kept":19,"cut":false,"hidden":true,"merged":[[18,0,18,6]]}
["Año_corte","2021_1"]
["Nombre Localidad ","Usaquén"]
[]
["SECTOR","Compromisos 2021","Compromisos 2022","Compromisos 2023","Compromisos 2024","Compromisos 2021-2024","% Compromisos 2021-2024"]
["INTEGRACIÓN SOCIAL",4959084000,0,0,0,4959084000,0.4189114781635877]
["GOBIERNO",4670773124,0,0,0,4670773124,0.39455683217739373]
["SEGURIDAD, CONVIVENCIA Y JUSTICIA",637300000,0,0,0,637300000,5.3834999575255116E-2]
["DESARROLLO ECONÓMICO, INDUSTRIA Y TURISMO",368578000,0,0,0,368578000,3.1135095674640484E-2]
["CULTURA, RECREACIÓN Y DEPORTE",361893280,0,0,0,361893280,3.0570413580868792E-2]
["EDUCACIÓN",248810000,0,0,0,248810000,2.1017866380541698E-2]
["AMBIENTE",191500000,0,0,0,191500000,1.6176686676073051E-2]
["MOVILIDAD",188019280,0,0,0,188019280,1.588265786747179E-2]
["MUJERES",96566000,0,0,0,96566000,8.1572737627241265E-3]
["SALUD",71500000,0,0,0,71500000,6.0398595161317127E-3]
["HÁBITAT",44000000,0,0,0,44000000,3.7168366253118234E-3]
["GESTIÓN PÚBLICA",null,0,0,0,0,0]
["TOTALES",11838023684,0,0,0,11838023684,1]
[]
["Compromisos  en millones de pesos"]

{"sheet":"DB10","index":25,"n_rows":49,"n_cols":37,"rows_kept":49,"cut":false,"hidden":true,"merged":[[26,28,26,31],[26,17,26,18],[48,14,48,27],[19,0,19,4]]}
["Año_corte","2021_1"]
["Nombre Localidad ","Usaquén"]
[]
["Anexos Linea de inversión","POAI 2021","%_POAI 2021","Compromisos 2021","%_Compromisos 2021"]
["1_Inflexible 45%",17662298000,0.48999962103488326,9415893844,0.79539407044153032]
["Gestión pública local",5406826000,0.14999988625497959,2643777464,0.22332929334930024]
["Sistema Bogotá Solidaria (20%)",7209101000,0.19999983909241018,4909084000,0.41468780018027879]
["Educación superior y primera infancia (10%)",3604551000,9.9999933417549036E-2,248810000,2.1017866380541698E-2]
["Inspección, vigilancia y control",1441820000,3.9999962269944456E-2,1614222380,0.13635911053140953]
["2_Presupuestos Participativos 50%",18022786000,0.50000052711107013,2350629840,0.19856607004233798]
["Inversiones ambientales sostenibles",1456895000,4.0418183290057516E-2,235500000,1.9893523301384872E-2]
["Infraestructura",4580398000,0.12707255217803126,367785280,3.1068131794421913E-2]
["Desarrollo social y cultural",7663373000,0.21260256541073855,1378766560,0.11646931927189072]
["Desarrollo de la Economía Local",4322120000,0.11990722623224281,368578000,3.1135095674640484E-2]
["3_Flexible 5%",360450000,9.9998518540466066E-3,71500000,6.0398595161317127E-3]
["Condiciones de salud",331715000,9.2026657172009155E-3,71500000,6.0398595161317127E-3]
["Participación\nCiudadana y\nconstrucción de\nconfianza.",28735000,7.9718613684569078E-4,0,0]
[]
[]
["Compromisos  en millones de pesos"]
[]
[]
[]
[]
[]
[]
[null,null,null,null,null,null,null,null,null,null,null,null,null,null,null,null,null,null,null,null,null,null,null,null,null,null,null,null,"Tasa de variación"]
[null,null,null,null,null,null,null,null,null,null,null,null,null,null,"Anexos Linea de inversión","POAI 2021","Compromisos 2021","POAI 2022","Compromisos 2022","POAI 2023","Compromisos 2023","POAI 2024","Compromisos 2024",null,null,null,null,null,2021,2022,2023,2024]
[null,null,null,null,null,null,null,null,null,null,null,null,null,null,"1_Inflexible 45%",17662298000,9415893844,0,0,0,0,0,0,null,null,null,null,null,{"$f":"IFERROR((Q29-P29)/P29,\" \")","v":-0.46689304845836027},{"$f":"IFERROR((S29-R29)/R29,\" \")","v":" "},{"$f":"IFERROR((U29-T29)/T29,\" \")","v":" "},{"$f":"IFERROR((W29-V29)/V29,\" \")","v":" "},null,{"$f":"(Q29/P29)-1","v":-0.46689304845836033},null,null,12188194351]
[null,null,null,null,null,null,null,null,null,null,null,null,null,null,"Gestión pública local",5406826000,2643777464,0,0,0,0,0,0,null,null,null,null,null,-0.51102967545099476," "," "," ",null,-0.51102967545099465,null,null,7104400000]
[null,null,null,null,null,null,null,null,null,null,null,null,null,null,"Sistema Bogotá Solidaria (20%)",7209101000,4909084000,0,0,0,0,0,0,null,null,null,null,null,-0.31904352567677996," "," "," ",null,-0.31904352567677996,null,null,3788441000]
[null,null,null,null,null,null,null,null,null,null,null,null,null,null,"Educación superior y primera infancia (10%)",3604551000,248810000,0,0,0,0,0,0,null,null,null,null,null,-0.93097337227299604," "," "," ",null,-0.93097337227299604,null,null,841500000]
[null,null,null,null,null,null,null,null,null,null,null,null,null,null,"Inspección, vigilancia y control",1441820000,1614222380,0,0,0,0,0,0,null,null,null,null,null,0.11957274833196932," "," "," ",null,0.11957274833196929,null,null,337866200]
[null,null,null,null,null,null,null,null,null,null,null,null,null,null,"2_Presupuestos Participativos 50%",18022786000,2350629840,0,0,0,0,0,0,null,null,null,null,null,-0.86957455745188339," "," "," ",null,-0.86957455745188339,null,null,70644000]
[null,null,null,null,null,null,null,null,null,null,null,null,null,null,"Inversiones ambientales sostenibles",1456895000,235500000,0,0,0,0,0,0,null,null,null,null,null,-0.83835485741937477," "," "," ",null,-0.83835485741937477,null,null,45343151]
[null,null,null,null,null,null,null,null,null,null,null,null,null,null,"Infraestructura",4580398000,367785280,0,0,0,0,0,0,null,null,null,null,null,-0.91970451476050774," "," "," ",null,-0.91970451476050774,null,null,82686823]
[null,null,null,null,null,null,null,null,null,null,null,null,null,null,"Desarrollo social y cultural",7663373000,1378766560,0,0,0,0,0,0,null,null,null,null,null,-0.82008358982395868," "," "," ",null,-0.82008358982395868,null,null,0]
[null,null,null,null,null,null,null,null,null,null,null,null,null,null,"Desarrollo de la Economía Local",4322120000,368578000,0,0,0,0,0,0,null,null,null,null,null,-0.91472286748169884," "," "," ",null,-0.91472286748169884,null,null,0]
[null,null,null,null,null,null,null,null,null,null,null,null,null,null,"3_Flexible 5%",360450000,71500000,0,0,0,0,0,0,null,null,null,null,null,-0.80163684283534475," "," "," ",null,-0.80163684283534464,null,null,0]
[null,null,null,null,null,null,null,null,null,null,null,null,null,null,"Condiciones de salud",331715000,71500000,0,0,0,0,0,0,null,null,null,null,null,-0.78445352184857486," "," "," ",null,-0.78445352184857486,null,null,0]
[null,null,null,null,null,null,null,null,null,null,null,null,null,null,"Participación\nCiudadana y\nconstrucción de\nconfianza.",28735000,null,0,0,0,0,0,0,null,null,null,null,null,-1," "," "," ",null,-1,null,null,0]
[null,null,null,null,null,null,null,null,null,null,null,null,null,null,null,null,null,null,null,null,null,null,null,null,null,null,null,null," "," "," "," ",null,{"$error":"#DIV/0!"},null,null,0]
[null,null,null,null,null,null,null,null,null,null,null,null,null,null,null,null,null,null,null,null,null,null,null,null,null,null,null,null," "," "," "," ",null,{"$error":"#DIV/0!"},null,null,82686823]
[null,null,null,null,null,null,null,null,null,null,null,null,null,null,null,null,null,null,null,null,null,null,null,null,null,null,null,null," "," "," "," ",null,{"$error":"#DIV/0!"},null,null,0]
[null,null,null,null,null,null,null,null,null,null,null,null,null,null,null,null,null,null,null,null,null,null,null,null,null,null,null,null," "," "," "," ",null,{"$error":"#DIV/0!"},null,null,0]
[null,null,null,null,null,null,null,null,null,null,null,null,null,null,null,null,null,null,null,null,null,null,null,null,null,null,null,null," "," "," "," ",null,{"$error":"#DIV/0!"},null,null,168900719]
[null,null,null,null,null,null,null,null,null,null,null,null,null,null,null,null,null,null,null,null,null,null,null,null,null,null,null,null," "," "," "," ",null,{"$error":"#DIV/0!"},null,null,168900719]
[]
[null,null,null,null,null,null,null,null,null,null,null,null,null,null,"Compromisos  en millones de pesos"]

{"sheet":"DB11","index":26,"n_rows":17,"n_cols":6,"rows_kept":17,"cut":false,"hidden":true,"merged":[[16,5,20,9]]}
["Año_corte","2021_1"]
["Nombre Localidad ","Usaquén"]
[]
["Etiquetas de fila","Promedio de % Avance Acumulado contratado","No de metas"]
["INTEGRACIÓN SOCIAL",4.1666666666666664E-2,6]
["EDUCACIÓN",0,4]
["AMBIENTE",0,10]
["CULTURA, RECREACIÓN Y DEPORTE",0,9]
["DESARROLLO ECONÓMICO, INDUSTRIA Y TURISMO",6.0096153846153849E-3,4]
["SALUD",0,1]
["HÁBITAT",0,1]
["GESTIÓN PÚBLICA",0,1]
["SEGURIDAD, CONVIVENCIA Y JUSTICIA",0.05,5]
["GOBIERNO",8.3044339856328961E-2,11]
["MOVILIDAD",0,4]
["MUJERES",0,3]
["Total general",2.4364850846747117E-2,59,null,null,"AVANCE POR SECTOR"]

{"sheet":"DB12","index":27,"n_rows":34,"n_cols":8,"rows_kept":34,"cut":false,"hidden":true,"merged":[]}
["Año_corte","2021_1"]
["Nombre Localidad ","Usaquén"]
[]
["Código Proyecto","Nombre Proyecto","AVANCE CONTRATADO","AVANCE ENTREGADO","Compromisos 2021","Compromisos 2022","Compromisos 2023","Compromisos 2024"]
[1960,"Integración económica y social de Usaquén",null,null,4909084000,0,0,0]
[1943,"Oportunidades para la primera infancia",null,null,36000000,0,0,0]
[1947,"Dotaciones tecnológicas para al innovación en educación",null,null,null,0,0,0]
[1687,"Usaquén, territorio de oportunidades para los jóvenes",null,null,212810000,0,0,0]
[1939,"Usaquén deportiva y recreativa",null,null,101808000,0,0,0]
[1992,"Usaquén cultura creativa y diversa",null,null,106366000,0,0,0]
[1932,"Cultivando en Usaquén",null,null,49500000,0,0,0]
[1990,"Usaquén emprendedora y creativa",null,null,35319280,0,0,0]
[1941,"Reactivación económica por Usaquén",null,null,368578000,0,0,0]
[1988,"Formación de familia Usaquén",null,null,50000000,0,0,0]
[1989,"Usaquén cuidadora",null,null,24000000,0,0,0]
[1961,"Usaquén te cuida",null,null,71500000,0,0,0]
[1944,"Usaquén más verde",null,null,52000000,0,0,0]
[1935,"Recuperación de la estructura , composición , función y conservación de ecosistemas de Usaquén",null,null,null,0,0,0]
[1940,"Adaptación del territorio a los efectos del cambio climático",null,null,null,0,0,0]
[1942,"Usaquén reverdece",null,null,null,0,0,0]
[1945,"Parques más verdes y activos",null,null,118400000,0,0,0]
[1933,"Protegemos la vida y el bienestar de nuestros animales",null,null,90000000,0,0,0]
[1955,"Escuela de economía circular",null,null,44000000,0,0,0]
[1946,"Usaquén territorio de paz y reconciliación",null,null,null,0,0,0]
[1991,"Usaquén territorio de mujeres sin miedo",null,null,72566000,0,0,0]
[1948,"Usaquén segura, responsabilidad de todos",null,null,282000000,0,0,0]
[1959,"Usaquén con espacio público inclusivo",null,null,108400000,0,0,0]
[1951,"Usaquén con acceso a la justicia",null,null,null,0,0,0]
[1956,"Usaquén fortalecida y segura",null,null,355300000,0,0,0]
[1954,"Movilidad sostenible local",null,null,188019280,0,0,0]
[1950,"Usaquén fortalece la participación ciudadana",null,null,304373280,0,0,0]
[1949,"Fortalecimiento local y participativo",null,null,2643777464,0,0,0]
[1952,"Inspección vigilancia y control local",null,null,1614222380,0,0,0]
[0,"(en blanco)",null,null,null,0,0,0]

{"sheet":"AGREGACION","index":28,"n_rows":289,"n_cols":22,"rows_kept":289,"cut":false,"hidden":false,"merged":[[94,0,95,21],[103,2,103,6],[104,2,104,6],[110,2,110,6],[112,2,112,6],[197,2,197,6],[128,2,128,6],[99,1,100,21],[148,2,148,6],[149,2,149,6],[150,2,150,6],[151,2,151,6],[152,2,152,6],[153,2,153,6],[159,1,160,21],[131,2,131,6],[132,2,132,6],[130,2,130,6],[108,2,108,6],[109,2,109,6],[111,2,111,6],[121,2,121,6],[129,2,129,6],[143,1,144,21],[6,0,7,21],[8,0,8,21],[11,0,12,21],[219,1,220,21],[222,2,222,6],[154,2,154,6],[155,2,155,6],[163,2,163,6],[164,2,164,6],[165,2,165,6],[173,2,173,6],[174,2,174,6],[188,2,188,6],[189,2,189,6],[190,2,190,6],[102,2,102,6],[192,2,192,6],[193,2,193,6],[194,2,194,6],[105,2,105,6],[106,2,106,6],[107,2,107,6],[207,2,207,6],[208,2,208,6],[146,2,146,6],[120,2,120,6],[116,1,117,21],[119,2,119,6],[125,1,126,21],[252,2,252,6],[236,1,237,21],[239,2,239,6],[240,2,240,6],[244,2,244,6],[247,1,248,21],[209,2,209,6],[147,2,147,6],[156,2,156,6],[166,2,166,6],[186,2,186,6],[187,2,187,6],[195,2,195,6],[196,2,196,6],[202,1,203,21],[205,2,205,6],[169,1,170,21],[185,2,185,6],[182,1,183,21],[206,2,206,6],[162,2,162,6],[198,2,198,6],[172,2,172,6],[191,2,191,6],[250,2,250,6],[251,2,251,6],[224,2,224,6],[225,2,225,6],[226,2,226,6],[227,2,227,6],[228,2,228,6],[229,2,229,6],[230,2,230,6],[231,2,231,6],[241,2,241,6],[242,2,242,6],[243,2,243,6],[223,2,223,6],[267,2,267,6],[268,2,268,6],[269,2,269,6],[265,2,265,6],[266,2,266,6],[253,2,253,6],[259,1,260,21],[262,2,262,6],[263,2,263,6],[264,2,264,6],[280,2,280,6],[285,2,285,6],[287,2,287,6],[281,2,281,6],[282,2,282,6],[283,2,283,6],[284,2,284,6],[286,2,286,6],[273,1,274,21],[276,2,276,6],[277,2,277,6],[278,2,278,6],[279,2,279,6]]}
[]
[]
[]
[]
[]
[]
["INFORME AGREGADO 2021 - 2024"]
[]
[{"$f":"'Indicadores agregados'!$T$107","v":"Marzo 31 de 2021"}]
[]
[]
["AVANCE PDL AGREGADO"]
[]
[]
[]
[]
[]
[]
[]
[]
[]
[]
[]
[]
[]
[]
[]
[]
[]
[]
[]
[]
[]
[]
[]
[]
[]
[]
[]
[]
[]
[]
[]
[]
[]
[]
[]
[]
[]
[]
[]
[]
[]
[]
[]
[]
[]
[]
[]
[]
[]
[]
[]
[]
[]
[]
[]
[]
[]
[]
[]
[]
[]
[]
[]
[]
[]
[]
[]
[]
[]
[]
[]
[]
[]
[]
[]
[]
[]
[]
[]
[]
[]
[]
["DATOS POR INDICADOR AGREGADO"]
[]
[]
[]
[]
[null,"Sector Ambiente"]
[]
[]
[null,"Cód.","Indicador",null,null,null,null,"Magnitud Programada 2021-2024","Magnitud contratada 2021","Magnitud entregada 2021","Compromisos 2021","Magnitud contratada 2022","Magnitud entregada 2022","Compromisos 2022","Magnitud contratada 2023","Magnitud entregada 2023","Compromisos 2023","Magnitud contratada 2024","Magnitud entregada 2024","Compromisos 2024","% avance contratado","% avance entregado"]
[null,{"$f":"'Indicadores agregados'!B5","v":19},{"$f":"'Indicadores agregados'!C5","v":"Número acciones de fomento para la agricultura urbana"},null,null,null,null,1225,{"$f":"'Indicadores agregados'!D5","v":0},{"$f":"'Indicadores agregados'!E5","v":0},{"$f":"'Indicadores agregados'!F5","v":329320667},{"$f":"'Indicadores agregados'!G5","v":0},{"$f":"'Indicadores agregados'!H5","v":0},{"$f":"'Indicadores agregados'!I5","v":0},{"$f":"'Indicadores agregados'!J5","v":0},{"$f":"'Indicadores agregados'!K5","v":0},{"$f":"'Indicadores agregados'!L5","v":0},{"$f":"'Indicadores agregados'!M5","v":0},{"$f":"'Indicadores agregados'!N5","v":0},{"$f":"'Indicadores agregados'!O5","v":0},{"$f":"SUM(I104+L104+O104+R104)/H104","v":0},{"$f":"SUM(J104+M104+P104+S104)/H104","v":0}]
[null,{"$f":"'Indicadores agregados'!B6","v":38},{"$f":"'Indicadores agregados'!C6","v":"Número de PROCEDAS implementados "},null,null,null,null,985,{"$f":"'Indicadores agregados'!D6","v":1},{"$f":"'Indicadores agregados'!E6","v":1},{"$f":"'Indicadores agregados'!F6","v":615955666},{"$f":"'Indicadores agregados'!G6","v":0},{"$f":"'Indicadores agregados'!H6","v":0},{"$f":"'Indicadores agregados'!I6","v":0},{"$f":"'Indicadores agregados'!J6","v":0},{"$f":"'Indicadores agregados'!K6","v":0},{"$f":"'Indicadores agregados'!L6","v":0},{"$f":"'Indicadores agregados'!M6","v":0},{"$f":"'Indicadores agregados'!N6","v":0},{"$f":"'Indicadores agregados'!O6","v":0},{"$f":"SUM(I105+L105+O105+R105)/H105","v":1.0152284263959391E-3},{"$f":"SUM(J105+M105+P105+S105)/H105","v":1.0152284263959391E-3}]
[null,{"$f":"'Indicadores agregados'!B7","v":39},{"$f":"'Indicadores agregados'!C7","v":"m2 de muros y techos verdes"},null,null,null,null,4484,{"$f":"'Indicadores agregados'!D7","v":0},{"$f":"'Indicadores agregados'!E7","v":0},{"$f":"'Indicadores agregados'!F7","v":50433993},{"$f":"'Indicadores agregados'!G7","v":0},{"$f":"'Indicadores agregados'!H7","v":0},{"$f":"'Indicadores agregados'!I7","v":0},{"$f":"'Indicadores agregados'!J7","v":0},{"$f":"'Indicadores agregados'!K7","v":0},{"$f":"'Indicadores agregados'!L7","v":0},{"$f":"'Indicadores agregados'!M7","v":0},{"$f":"'Indicadores agregados'!N7","v":0},{"$f":"'Indicadores agregados'!O7","v":0},0,0]
[null,{"$f":"'Indicadores agregados'!B8","v":40},{"$f":"'Indicadores agregados'!C8","v":"m2 de jardinería y coberturas verdes"},null,null,null,null,62080,{"$f":"'Indicadores agregados'!D8","v":0},{"$f":"'Indicadores agregados'!E8","v":0},{"$f":"'Indicadores agregados'!F8","v":0},{"$f":"'Indicadores agregados'!G8","v":0},{"$f":"'Indicadores agregados'!H8","v":0},{"$f":"'Indicadores agregados'!I8","v":0},{"$f":"'Indicadores agregados'!J8","v":0},{"$f":"'Indicadores agregados'!K8","v":0},{"$f":"'Indicadores agregados'!L8","v":0},{"$f":"'Indicadores agregados'!M8","v":0},{"$f":"'Indicadores agregados'!N8","v":0},{"$f":"'Indicadores agregados'!O8","v":0},0,0]
[null,{"$f":"'Indicadores agregados'!B9","v":41},{"$f":"'Indicadores agregados'!C9","v":"Hectáreas en restauración, rehabilitación o recuperación ecológica y mantenimiento "},null,null,null,null,176.01,{"$f":"'Indicadores agregados'!D9","v":0},{"$f":"'Indicadores agregados'!E9","v":0},{"$f":"'Indicadores agregados'!F9","v":568980000},{"$f":"'Indicadores agregados'!G9","v":0},{"$f":"'Indicadores agregados'!H9","v":0},{"$f":"'Indicadores agregados'!I9","v":0},{"$f":"'Indicadores agregados'!J9","v":0},{"$f":"'Indicadores agregados'!K9","v":0},{"$f":"'Indicadores agregados'!L9","v":0},{"$f":"'Indicadores agregados'!M9","v":0},{"$f":"'Indicadores agregados'!N9","v":0},{"$f":"'Indicadores agregados'!O9","v":0},0,0]
[null,{"$f":"'Indicadores agregados'!B10","v":42},{"$f":"'Indicadores agregados'!C10","v":"Acciones efectivas para el fortalecimiento de las capacidades locales para la respuesta a emergencias y desastres"},null,null,null,null,160,{"$f":"'Indicadores agregados'!D10","v":2},{"$f":"'Indicadores agregados'!E10","v":1},{"$f":"'Indicadores agregados'!F10","v":370604000},{"$f":"'Indicadores agregados'!G10","v":0},{"$f":"'Indicadores agregados'!H10","v":0},{"$f":"'Indicadores agregados'!I10","v":0},{"$f":"'Indicadores agregados'!J10","v":0},{"$f":"'Indicadores agregados'!K10","v":0},{"$f":"'Indicadores agregados'!L10","v":0},{"$f":"'Indicadores agregados'!M10","v":0},{"$f":"'Indicadores agregados'!N10","v":0},{"$f":"'Indicadores agregados'!O10","v":0},1.2500000000000001E-2,6.2500000000000003E-3]
[null,{"$f":"'Indicadores agregados'!B11","v":43},{"$f":"'Indicadores agregados'!C11","v":"Intervenciones para la reducción del riesgo y adaptación al cambio climático"},null,null,null,null,43,{"$f":"'Indicadores agregados'!D11","v":0},{"$f":"'Indicadores agregados'!E11","v":0},{"$f":"'Indicadores agregados'!F11","v":235093333},{"$f":"'Indicadores agregados'!G11","v":0},{"$f":"'Indicadores agregados'!H11","v":0},{"$f":"'Indicadores agregados'!I11","v":0},{"$f":"'Indicadores agregados'!J11","v":0},{"$f":"'Indicadores agregados'!K11","v":0},{"$f":"'Indicadores agregados'!L11","v":0},{"$f":"'Indicadores agregados'!M11","v":0},{"$f":"'Indicadores agregados'!N11","v":0},{"$f":"'Indicadores agregados'!O11","v":0},0,0]
[null,{"$f":"'Indicadores agregados'!B12","v":44},{"$f":"'Indicadores agregados'!C12","v":"Número de árboles mantenidos"},null,null,null,null,75653,{"$f":"'Indicadores agregados'!D12","v":0},{"$f":"'Indicadores agregados'!E12","v":0},{"$f":"'Indicadores agregados'!F12","v":199745233},{"$f":"'Indicadores agregados'!G12","v":0},{"$f":"'Indicadores agregados'!H12","v":0},{"$f":"'Indicadores agregados'!I12","v":0},{"$f":"'Indicadores agregados'!J12","v":0},{"$f":"'Indicadores agregados'!K12","v":0},{"$f":"'Indicadores agregados'!L12","v":0},{"$f":"'Indicadores agregados'!M12","v":0},{"$f":"'Indicadores agregados'!N12","v":0},{"$f":"'Indicadores agregados'!O12","v":0},0,0]
[null,{"$f":"'Indicadores agregados'!B13","v":45},{"$f":"'Indicadores agregados'!C13","v":"Número de árboles plantados"},null,null,null,null,26226,{"$f":"'Indicadores agregados'!D13","v":0},{"$f":"'Indicadores agregados'!E13","v":0},{"$f":"'Indicadores agregados'!F13","v":68052000},{"$f":"'Indicadores agregados'!G13","v":0},{"$f":"'Indicadores agregados'!H13","v":0},{"$f":"'Indicadores agregados'!I13","v":0},{"$f":"'Indicadores agregados'!J13","v":0},{"$f":"'Indicadores agregados'!K13","v":0},{"$f":"'Indicadores agregados'!L13","v":0},{"$f":"'Indicadores agregados'!M13","v":0},{"$f":"'Indicadores agregados'!N13","v":0},{"$f":"'Indicadores agregados'!O13","v":0},0,0]
[null,{"$f":"'Indicadores agregados'!B14","v":48},{"$f":"'Indicadores agregados'!C14","v":"Número de animales atendidos"},null,null,null,null,234907,{"$f":"'Indicadores agregados'!D14","v":0},{"$f":"'Indicadores agregados'!E14","v":0},{"$f":"'Indicadores agregados'!F14","v":553323333},{"$f":"'Indicadores agregados'!G14","v":0},{"$f":"'Indicadores agregados'!H14","v":0},{"$f":"'Indicadores agregados'!I14","v":0},{"$f":"'Indicadores agregados'!J14","v":0},{"$f":"'Indicadores agregados'!K14","v":0},{"$f":"'Indicadores agregados'!L14","v":0},{"$f":"'Indicadores agregados'!M14","v":0},{"$f":"'Indicadores agregados'!N14","v":0},{"$f":"'Indicadores agregados'!O14","v":0},0,0]
[null,null,null,null,null,null,null,null,null,null,null,null,null,null,null,null,null,null,null,"Compromisos y giros en millones de pesos"]
[]
[]
[null,"Sector Ambiente/Desarrollo económico"]
[]
[]
[null,"Cód.","Indicador",null,null,null,null,"Magnitud Programada 2021-2024","Magnitud contratada 2021","Magnitud entregada 2021","Compromisos 2021","Magnitud contratada 2022","Magnitud entregada 2022","Compromisos 2022","Magnitud contratada 2023","Magnitud entregada 2023","Compromisos 2023","Magnitud contratada 2024","Magnitud entregada 2024","Compromisos 2024","% avance contratado","% avance entregado"]
[null,{"$f":"'Indicadores agregados'!B15","v":17},{"$f":"'Indicadores agregados'!C15","v":"Número de Predios rurales con asistencia técnica agropecuaria y/o ambiental"},null,null,null,null,{"$f":"'Indicadores agregados'!P15","v":1900},{"$f":"'Indicadores agregados'!D15","v":100},{"$f":"'Indicadores agregados'!E15","v":0},{"$f":"'Indicadores agregados'!F15","v":268536683},{"$f":"'Indicadores agregados'!G15","v":0},{"$f":"'Indicadores agregados'!H15","v":0},{"$f":"'Indicadores agregados'!I15","v":0},{"$f":"'Indicadores agregados'!J15","v":0},{"$f":"'Indicadores agregados'!K15","v":0},{"$f":"'Indicadores agregados'!L15","v":0},{"$f":"'Indicadores agregados'!M15","v":0},{"$f":"'Indicadores agregados'!N15","v":0},{"$f":"'Indicadores agregados'!O15","v":0},{"$f":"SUM(I121+L121+O121+R121)/H121","v":5.2631578947368418E-2},{"$f":"SUM(J121+M121+P121+S121)/H121","v":0}]
[null,{"$f":"'Indicadores agregados'!B16","v":18},{"$f":"'Indicadores agregados'!C16","v":"Número  de hogares y/o unidades productivas vinculadas a procesos productivos y de comercialización en el sector rural"},null,null,null,null,{"$f":"'Indicadores agregados'!P16","v":424},{"$f":"'Indicadores agregados'!D16","v":20},{"$f":"'Indicadores agregados'!E16","v":0},{"$f":"'Indicadores agregados'!F16","v":127536685},{"$f":"'Indicadores agregados'!G16","v":0},{"$f":"'Indicadores agregados'!H16","v":0},{"$f":"'Indicadores agregados'!I16","v":0},{"$f":"'Indicadores agregados'!J16","v":0},{"$f":"'Indicadores agregados'!K16","v":0},{"$f":"'Indicadores agregados'!L16","v":0},{"$f":"'Indicadores agregados'!M16","v":0},{"$f":"'Indicadores agregados'!N16","v":0},{"$f":"'Indicadores agregados'!O16","v":0},4.716981132075472E-2,0]
[null,null,null,null,null,null,null,null,null,null,null,null,null,null,null,null,null,null,null,"Compromisos y giros en millones de pesos"]
[]
[]
[null,"Desarrollo económico"]
[]
[]
[null,"Cód.","Indicador",null,null,null,null,"Magnitud Programada 2021-2024","Magnitud contratada 2021","Magnitud entregada 2021","Compromisos 2021","Magnitud contratada 2022","Magnitud entregada 2022","Compromisos 2022","Magnitud contratada 2023","Magnitud entregada 2023","Compromisos 2023","Magnitud contratada 2024","Magnitud entregada 2024","Compromisos 2024","% avance contratado","% avance entregado"]
[null,{"$f":"'Indicadores agregados'!B27","v":21},{"$f":"'Indicadores agregados'!C27","v":"Número de Mipymes y/o emprendimientos culturales y creativos apoyados"},null,null,null,null,{"$f":"'Indicadores agregados'!P27","v":7591},{"$f":"'Indicadores agregados'!D27","v":0},{"$f":"'Indicadores agregados'!E27","v":0},{"$f":"'Indicadores agregados'!F27","v":1302085122},{"$f":"'Indicadores agregados'!G27","v":0},{"$f":"'Indicadores agregados'!H27","v":0},{"$f":"'Indicadores agregados'!I27","v":0},{"$f":"'Indicadores agregados'!J27","v":0},{"$f":"'Indicadores agregados'!K27","v":0},{"$f":"'Indicadores agregados'!L27","v":0},{"$f":"'Indicadores agregados'!M27","v":0},{"$f":"'Indicadores agregados'!N27","v":0},{"$f":"'Indicadores agregados'!O27","v":0},{"$f":"SUM(I130+L130+O130+R130)/H130","v":0},{"$f":"SUM(J130+M130+P130+S130)/H130","v":0}]
[null,{"$f":"'Indicadores agregados'!B28","v":22},{"$f":"'Indicadores agregados'!C28","v":"Número de Mipymes y/o emprendimientos con procesos de reconversión hacia actividades sostenibles"},null,null,null,null,{"$f":"'Indicadores agregados'!P28","v":6156},{"$f":"'Indicadores agregados'!D28","v":0},{"$f":"'Indicadores agregados'!E28","v":0},{"$f":"'Indicadores agregados'!F28","v":246262925},{"$f":"'Indicadores agregados'!G28","v":0},{"$f":"'Indicadores agregados'!H28","v":0},{"$f":"'Indicadores agregados'!I28","v":0},{"$f":"'Indicadores agregados'!J28","v":0},{"$f":"'Indicadores agregados'!K28","v":0},{"$f":"'Indicadores agregados'!L28","v":0},{"$f":"'Indicadores agregados'!M28","v":0},{"$f":"'Indicadores agregados'!N28","v":0},{"$f":"'Indicadores agregados'!O28","v":0},{"$f":"SUM(I131+L131+O131+R131)/H131","v":0},{"$f":"SUM(J131+M131+P131+S131)/H131","v":0}]
[null,{"$f":"'Indicadores agregados'!B29","v":23},{"$f":"'Indicadores agregados'!C29","v":"Número de Mipymes y/o emprendimientos con transformacion empresarial y/o productiva"},null,null,null,null,{"$f":"'Indicadores agregados'!P29","v":12520},{"$f":"'Indicadores agregados'!D29","v":5},{"$f":"'Indicadores agregados'!E29","v":0},{"$f":"'Indicadores agregados'!F29","v":1164429790},{"$f":"'Indicadores agregados'!G29","v":0},{"$f":"'Indicadores agregados'!H29","v":0},{"$f":"'Indicadores agregados'!I29","v":0},{"$f":"'Indicadores agregados'!J29","v":0},{"$f":"'Indicadores agregados'!K29","v":0},{"$f":"'Indicadores agregados'!L29","v":0},{"$f":"'Indicadores agregados'!M29","v":0},{"$f":"'Indicadores agregados'!N29","v":0},{"$f":"'Indicadores agregados'!O29","v":0},3.9936102236421724E-4,0]
[null,{"$f":"'Indicadores agregados'!B30","v":24},{"$f":"'Indicadores agregados'!C30","v":"Número de Mipymes  y/o emprendimientos revitalizadas o potencializadas dentro de las aglomeraciones económicas que fomentan el empleo y/o nuevas actividades económicas"},null,null,null,null,{"$f":"'Indicadores agregados'!P30","v":7786},{"$f":"'Indicadores agregados'!D30","v":0},{"$f":"'Indicadores agregados'!E30","v":0},{"$f":"'Indicadores agregados'!F30","v":665028797},{"$f":"'Indicadores agregados'!G30","v":0},{"$f":"'Indicadores agregados'!H30","v":0},{"$f":"'Indicadores agregados'!I30","v":0},{"$f":"'Indicadores agregados'!J30","v":0},{"$f":"'Indicadores agregados'!K30","v":0},{"$f":"'Indicadores agregados'!L30","v":0},{"$f":"'Indicadores agregados'!M30","v":0},{"$f":"'Indicadores agregados'!N30","v":0},{"$f":"'Indicadores agregados'!O30","v":0},0,0]
[]
[]
[]
[]
[]
[]
[]
[]
[]
[]
[null,"Sector Cultura, recreación y deporte"]
[]
[]
[null,"Cód.","Indicador",null,null,null,null,"Magnitud Programada 2021-2024","Magnitud contratada 2021","Magnitud entregada 2021","Compromisos 2021","Magnitud contratada 2022","Magnitud entregada 2022","Compromisos 2022","Magnitud contratada 2023","Magnitud entregada 2023","Compromisos 2023","Magnitud contratada 2024","Magnitud entregada 2024","Compromisos 2024","% avance contratado","% avance entregado"]
[null,{"$f":"'Indicadores agregados'!B17","v":10},{"$f":"'Indicadores agregados'!C17","v":"Personas vinculadas en actividades recreo-deportivas comunitarias"},null,null,null,null,191435,{"$f":"'Indicadores agregados'!D17","v":1500},{"$f":"'Indicadores agregados'!E17","v":0},{"$f":"'Indicadores agregados'!F17","v":507038016},{"$f":"'Indicadores agregados'!G17","v":0},{"$f":"'Indicadores agregados'!H17","v":0},{"$f":"'Indicadores agregados'!I17","v":0},{"$f":"'Indicadores agregados'!J17","v":0},{"$f":"'Indicadores agregados'!K17","v":0},{"$f":"'Indicadores agregados'!L17","v":0},{"$f":"'Indicadores agregados'!M17","v":0},{"$f":"'Indicadores agregados'!N17","v":0},{"$f":"'Indicadores agregados'!O17","v":0},{"$f":"SUM(I148+L148+O148+R148)/H148","v":7.8355577611199621E-3},{"$f":"SUM(J148+M148+P148+S148)/H148","v":0}]
[null,{"$f":"'Indicadores agregados'!B18","v":11},{"$f":"'Indicadores agregados'!C18","v":"Personas capacitadas en los campos deportivos"},null,null,null,null,37780,{"$f":"'Indicadores agregados'!D18","v":1000},{"$f":"'Indicadores agregados'!E18","v":0},{"$f":"'Indicadores agregados'!F18","v":291595000},{"$f":"'Indicadores agregados'!G18","v":0},{"$f":"'Indicadores agregados'!H18","v":0},{"$f":"'Indicadores agregados'!I18","v":0},{"$f":"'Indicadores agregados'!J18","v":0},{"$f":"'Indicadores agregados'!K18","v":0},{"$f":"'Indicadores agregados'!L18","v":0},{"$f":"'Indicadores agregados'!M18","v":0},{"$f":"'Indicadores agregados'!N18","v":0},{"$f":"'Indicadores agregados'!O18","v":0},{"$f":"SUM(I149+L149+O149+R149)/H149","v":2.6469031233456855E-2},{"$f":"SUM(J149+M149+P149+S149)/H149","v":0}]
[null,{"$f":"'Indicadores agregados'!B19","v":12},{"$f":"'Indicadores agregados'!C19","v":"Personas beneficiadas con artículos entregados."},null,null,null,null,19433,{"$f":"'Indicadores agregados'!D19","v":0},{"$f":"'Indicadores agregados'!E19","v":0},{"$f":"'Indicadores agregados'!F19","v":489499991},{"$f":"'Indicadores agregados'!G19","v":0},{"$f":"'Indicadores agregados'!H19","v":0},{"$f":"'Indicadores agregados'!I19","v":0},{"$f":"'Indicadores agregados'!J19","v":0},{"$f":"'Indicadores agregados'!K19","v":0},{"$f":"'Indicadores agregados'!L19","v":0},{"$f":"'Indicadores agregados'!M19","v":0},{"$f":"'Indicadores agregados'!N19","v":0},{"$f":"'Indicadores agregados'!O19","v":0},0,0]
[null,{"$f":"'Indicadores agregados'!B20","v":13},{"$f":"'Indicadores agregados'!C20","v":"Eventos de promoción de actividades culturales realizadas"},null,null,null,null,505,{"$f":"'Indicadores agregados'!D20","v":0},{"$f":"'Indicadores agregados'!E20","v":0},{"$f":"'Indicadores agregados'!F20","v":63325000},{"$f":"'Indicadores agregados'!G20","v":0},{"$f":"'Indicadores agregados'!H20","v":0},{"$f":"'Indicadores agregados'!I20","v":0},{"$f":"'Indicadores agregados'!J20","v":0},{"$f":"'Indicadores agregados'!K20","v":0},{"$f":"'Indicadores agregados'!L20","v":0},{"$f":"'Indicadores agregados'!M20","v":0},{"$f":"'Indicadores agregados'!N20","v":0},{"$f":"'Indicadores agregados'!O20","v":0},0,0]
[null,{"$f":"'Indicadores agregados'!B21","v":14},{"$f":"'Indicadores agregados'!C21","v":"Estímulos otorgados de apoyo al sector artístico y cultural "},null,null,null,null,1766,{"$f":"'Indicadores agregados'!D21","v":0},{"$f":"'Indicadores agregados'!E21","v":0},{"$f":"'Indicadores agregados'!F21","v":481800000},{"$f":"'Indicadores agregados'!G21","v":0},{"$f":"'Indicadores agregados'!H21","v":0},{"$f":"'Indicadores agregados'!I21","v":0},{"$f":"'Indicadores agregados'!J21","v":0},{"$f":"'Indicadores agregados'!K21","v":0},{"$f":"'Indicadores agregados'!L21","v":0},{"$f":"'Indicadores agregados'!M21","v":0},{"$f":"'Indicadores agregados'!N21","v":0},{"$f":"'Indicadores agregados'!O21","v":0},0,0]
[null,{"$f":"'Indicadores agregados'!B22","v":15},{"$f":"'Indicadores agregados'!C22","v":"Personas capacitadas en los campos artísticos, interculturales, culturales y/o patrimoniales"},null,null,null,null,31547,{"$f":"'Indicadores agregados'!D22","v":0},{"$f":"'Indicadores agregados'!E22","v":0},{"$f":"'Indicadores agregados'!F22","v":11475000},{"$f":"'Indicadores agregados'!G22","v":0},{"$f":"'Indicadores agregados'!H22","v":0},{"$f":"'Indicadores agregados'!I22","v":0},{"$f":"'Indicadores agregados'!J22","v":0},{"$f":"'Indicadores agregados'!K22","v":0},{"$f":"'Indicadores agregados'!L22","v":0},{"$f":"'Indicadores agregados'!M22","v":0},{"$f":"'Indicadores agregados'!N22","v":0},{"$f":"'Indicadores agregados'!O22","v":0},0,0]
[null,{"$f":"'Indicadores agregados'!B23","v":16},{"$f":"'Indicadores agregados'!C23","v":"Sedes dotadas/Sedes adecuadas"},null,null,null,null,77,{"$f":"'Indicadores agregados'!D23","v":0},{"$f":"'Indicadores agregados'!E23","v":0},{"$f":"'Indicadores agregados'!F23","v":266311584},{"$f":"'Indicadores agregados'!G23","v":0},{"$f":"'Indicadores agregados'!H23","v":0},{"$f":"'Indicadores agregados'!I23","v":0},{"$f":"'Indicadores agregados'!J23","v":0},{"$f":"'Indicadores agregados'!K23","v":0},{"$f":"'Indicadores agregados'!L23","v":0},{"$f":"'Indicadores agregados'!M23","v":0},{"$f":"'Indicadores agregados'!N23","v":0},{"$f":"'Indicadores agregados'!O23","v":0},0,0]
[null,{"$f":"'Indicadores agregados'!B24","v":20},{"$f":"'Indicadores agregados'!C24","v":"Número de proyectos financiados y acompañados del sector cultural y creativo."},null,null,null,null,946,{"$f":"'Indicadores agregados'!D24","v":0},{"$f":"'Indicadores agregados'!E24","v":0},{"$f":"'Indicadores agregados'!F24","v":199719280},{"$f":"'Indicadores agregados'!G24","v":0},{"$f":"'Indicadores agregados'!H24","v":0},{"$f":"'Indicadores agregados'!I24","v":0},{"$f":"'Indicadores agregados'!J24","v":0},{"$f":"'Indicadores agregados'!K24","v":0},{"$f":"'Indicadores agregados'!L24","v":0},{"$f":"'Indicadores agregados'!M24","v":0},{"$f":"'Indicadores agregados'!N24","v":0},{"$f":"'Indicadores agregados'!O24","v":0},0,0]
[null,{"$f":"'Indicadores agregados'!B25","v":46},{"$f":"'Indicadores agregados'!C25","v":"m2 de Parques vecinales y/o de bolsillo construidos y dotados"},null,null,null,null,29400,{"$f":"'Indicadores agregados'!D25","v":0},{"$f":"'Indicadores agregados'!E25","v":0},{"$f":"'Indicadores agregados'!F25","v":208240000},{"$f":"'Indicadores agregados'!G25","v":0},{"$f":"'Indicadores agregados'!H25","v":0},{"$f":"'Indicadores agregados'!I25","v":0},{"$f":"'Indicadores agregados'!J25","v":0},{"$f":"'Indicadores agregados'!K25","v":0},{"$f":"'Indicadores agregados'!L25","v":0},{"$f":"'Indicadores agregados'!M25","v":0},{"$f":"'Indicadores agregados'!N25","v":0},{"$f":"'Indicadores agregados'!O25","v":0},0,0]
[null,{"$f":"'Indicadores agregados'!B26","v":47},{"$f":"'Indicadores agregados'!C26","v":"Número de Parques vecinales y/o de bolsillo intervenidos en mejoramiento, mantenimiento y/o dotación"},null,null,null,null,1036,{"$f":"'Indicadores agregados'!D26","v":0},{"$f":"'Indicadores agregados'!E26","v":0},{"$f":"'Indicadores agregados'!F26","v":611909700},{"$f":"'Indicadores agregados'!G26","v":0},{"$f":"'Indicadores agregados'!H26","v":0},{"$f":"'Indicadores agregados'!I26","v":0},{"$f":"'Indicadores agregados'!J26","v":0},{"$f":"'Indicadores agregados'!K26","v":0},{"$f":"'Indicadores agregados'!L26","v":0},{"$f":"'Indicadores agregados'!M26","v":0},{"$f":"'Indicadores agregados'!N26","v":0},{"$f":"'Indicadores agregados'!O26","v":0},0,0]
[null,null,null,null,null,null,null,null,null,null,null,null,null,null,null,null,null,null,null,"Compromisos y giros en millones de pesos"]
[]
[null,"Sector Educación"]
[]
[]
[null,"Cód.","Indicador",null,null,null,null,"Magnitud Programada 2021-2024","Magnitud contratada 2021","Magnitud entregada 2021","Compromisos 2021","Magnitud contratada 2022","Magnitud entregada 2022","Compromisos 2022","Magnitud contratada 2023","Magnitud entregada 2023","Compromisos 2023","Magnitud contratada 2024","Magnitud entregada 2024","Compromisos 2024","% avance contratado","% avance entregado"]
[null,{"$f":"'Indicadores agregados'!B32","v":3},{"$f":"'Indicadores agregados'!C32","v":"Proyectos para el desarrollo integral de la primera infancia y la relación escuela, familia y comunidad."},null,null,null,null,516,{"$f":"'Indicadores agregados'!D32","v":0},{"$f":"'Indicadores agregados'!E32","v":0},{"$f":"'Indicadores agregados'!F32","v":247755000},{"$f":"'Indicadores agregados'!G32","v":0},{"$f":"'Indicadores agregados'!H32","v":0},{"$f":"'Indicadores agregados'!I32","v":0},{"$f":"'Indicadores agregados'!J32","v":0},{"$f":"'Indicadores agregados'!K32","v":0},{"$f":"'Indicadores agregados'!L32","v":0},{"$f":"'Indicadores agregados'!M32","v":0},{"$f":"'Indicadores agregados'!N32","v":0},{"$f":"'Indicadores agregados'!O32","v":0},{"$f":"SUM(I164+L164+O164+R164)/H164","v":0},{"$f":"SUM(J164+M164+P164+S164)/H164","v":0}]
[null,{"$f":"'Indicadores agregados'!B33","v":4},{"$f":"'Indicadores agregados'!C33","v":"Sedes educativas urbanas y rurales dotadas"},null,null,null,null,421,{"$f":"'Indicadores agregados'!D33","v":0},{"$f":"'Indicadores agregados'!E33","v":0},{"$f":"'Indicadores agregados'!F33","v":0},{"$f":"'Indicadores agregados'!G33","v":0},{"$f":"'Indicadores agregados'!H33","v":0},{"$f":"'Indicadores agregados'!I33","v":0},{"$f":"'Indicadores agregados'!J33","v":0},{"$f":"'Indicadores agregados'!K33","v":0},{"$f":"'Indicadores agregados'!L33","v":0},{"$f":"'Indicadores agregados'!M33","v":0},{"$f":"'Indicadores agregados'!N33","v":0},{"$f":"'Indicadores agregados'!O33","v":0},0,0]
[null,{"$f":"'Indicadores agregados'!B34","v":5},{"$f":"'Indicadores agregados'!C34","v":"Personas beneficiadas con  apoyo para la educación superior"},null,null,null,null,5364,{"$f":"'Indicadores agregados'!D34","v":0},{"$f":"'Indicadores agregados'!E34","v":0},{"$f":"'Indicadores agregados'!F34","v":841176333},{"$f":"'Indicadores agregados'!G34","v":0},{"$f":"'Indicadores agregados'!H34","v":0},{"$f":"'Indicadores agregados'!I34","v":0},{"$f":"'Indicadores agregados'!J34","v":0},{"$f":"'Indicadores agregados'!K34","v":0},{"$f":"'Indicadores agregados'!L34","v":0},{"$f":"'Indicadores agregados'!M34","v":0},{"$f":"'Indicadores agregados'!N34","v":0},{"$f":"'Indicadores agregados'!O34","v":0},0,0]
[null,{"$f":"'Indicadores agregados'!B35","v":6},{"$f":"'Indicadores agregados'!C35","v":"Número de estudiantes de programas de educación superior con apoyo de sostenimiento para la permanencia."},null,null,null,null,7275,{"$f":"'Indicadores agregados'!D35","v":0},{"$f":"'Indicadores agregados'!E35","v":0},{"$f":"'Indicadores agregados'!F35","v":101938334},{"$f":"'Indicadores agregados'!G35","v":0},{"$f":"'Indicadores agregados'!H35","v":0},{"$f":"'Indicadores agregados'!I35","v":0},{"$f":"'Indicadores agregados'!J35","v":0},{"$f":"'Indicadores agregados'!K35","v":0},{"$f":"'Indicadores agregados'!L35","v":0},{"$f":"'Indicadores agregados'!M35","v":0},{"$f":"'Indicadores agregados'!N35","v":0},{"$f":"'Indicadores agregados'!O35","v":0},0,0]
[null,null,null,null,null,null,null,null,null,null,null,null,null,null,null,null,null,null,null,"Compromisos y giros en millones de pesos"]
[]
[null,"Sector Gestión Pública"]
[]
[]
[null,"Cód.","Indicador",null,null,null,null,"Magnitud Programada 2021-2024","Magnitud contratada 2021","Magnitud entregada 2021","Compromisos 2021","Magnitud contratada 2022","Magnitud entregada 2022","Compromisos 2022","Magnitud contratada 2023","Magnitud entregada 2023","Compromisos 2023","Magnitud contratada 2024","Magnitud entregada 2024","Compromisos 2024","% avance contratado","% avance entregado"]
[null,{"$f":"'Indicadores agregados'!B36","v":52},{"$f":"'Indicadores agregados'!C36","v":"Personas vinculadas a procesos de construcción de memoria, verdad, reparación integral a víctimas, paz y reconciliación"},null,null,null,null,{"$f":"'Indicadores agregados'!P36","v":21021},{"$f":"'Indicadores agregados'!D36","v":0},{"$f":"'Indicadores agregados'!E36","v":0},{"$f":"'Indicadores agregados'!F36","v":355834801},{"$f":"'Indicadores agregados'!G36","v":0},{"$f":"'Indicadores agregados'!H36","v":0},{"$f":"'Indicadores agregados'!I36","v":0},{"$f":"'Indicadores agregados'!J36","v":0},{"$f":"'Indicadores agregados'!K36","v":0},{"$f":"'Indicadores agregados'!L36","v":0},{"$f":"'Indicadores agregados'!M36","v":0},{"$f":"'Indicadores agregados'!N36","v":0},{"$f":"'Indicadores agregados'!O36","v":0},{"$f":"SUM(I174+L174+O174+R174)/H174","v":0},{"$f":"SUM(J174+M174+P174+S174)/H174","v":0}]
[null,{"$f":"'Indicadores agregados'!B37","v":74},{"$f":"'Indicadores agregados'!C37","v":"Centros de Acceso Comunitario en zonas rurales y/o apartadas funcionando "},null,null,null,null,{"$f":"'Indicadores agregados'!P37","v":90},{"$f":"'Indicadores agregados'!D37","v":11},{"$f":"'Indicadores agregados'!E37","v":11},{"$f":"'Indicadores agregados'!F37","v":278000000},{"$f":"'Indicadores agregados'!G37","v":0},{"$f":"'Indicadores agregados'!H37","v":0},{"$f":"'Indicadores agregados'!I37","v":0},{"$f":"'Indicadores agregados'!J37","v":0},{"$f":"'Indicadores agregados'!K37","v":0},{"$f":"'Indicadores agregados'!L37","v":0},{"$f":"'Indicadores agregados'!M37","v":0},{"$f":"'Indicadores agregados'!N37","v":0},{"$f":"'Indicadores agregados'!O37","v":0},0.12222222222222222,0.12222222222222222]
[null,null,null,null,null,null,null,null,null,null,null,null,null,null,null,null,null,null,null,"Compromisos y giros en millones de pesos"]
[]
[]
[]
[]
[]
[]
[null,"Sector Gobierno"]
[]
[]
[null,"Cód.","Indicador",null,null,null,null,"Magnitud Programada 2021-2024","Magnitud contratada 2021","Magnitud entregada 2021","Compromisos 2021","Magnitud contratada 2022","Magnitud entregada 2022","Compromisos 2022","Magnitud contratada 2023","Magnitud entregada 2023","Compromisos 2023","Magnitud contratada 2024","Magnitud entregada 2024","Compromisos 2024","% avance contratado","% avance entregado"]
[null,{"$f":"'Indicadores agregados'!B38","v":58},{"$f":"'Indicadores agregados'!C38","v":"Acuerdos realizados para el uso del EP con fines culturales, deportivos, recreacionales o de mercados temporales."},null,null,null,null,106,{"$f":"'Indicadores agregados'!D38","v":3},{"$f":"'Indicadores agregados'!E38","v":2},{"$f":"'Indicadores agregados'!F38","v":464957900},{"$f":"'Indicadores agregados'!G38","v":0},{"$f":"'Indicadores agregados'!H38","v":0},{"$f":"'Indicadores agregados'!I38","v":0},{"$f":"'Indicadores agregados'!J38","v":0},{"$f":"'Indicadores agregados'!K38","v":0},{"$f":"'Indicadores agregados'!L38","v":0},{"$f":"'Indicadores agregados'!M38","v":0},{"$f":"'Indicadores agregados'!N38","v":0},{"$f":"'Indicadores agregados'!O38","v":0},{"$f":"SUM(I187+L187+O187+R187)/H187","v":2.8301886792452831E-2},{"$f":"SUM(J187+M187+P187+S187)/H187","v":1.8867924528301886E-2}]
[null,{"$f":"'Indicadores agregados'!B39","v":59},{"$f":"'Indicadores agregados'!C39","v":"Acuerdos realizados para la promover la formalización de vendedores informales a circulos económicos productivos de la ciudad"},null,null,null,null,83,{"$f":"'Indicadores agregados'!D39","v":0},{"$f":"'Indicadores agregados'!E39","v":0},{"$f":"'Indicadores agregados'!F39","v":294803334},{"$f":"'Indicadores agregados'!G39","v":0},{"$f":"'Indicadores agregados'!H39","v":0},{"$f":"'Indicadores agregados'!I39","v":0},{"$f":"'Indicadores agregados'!J39","v":0},{"$f":"'Indicadores agregados'!K39","v":0},{"$f":"'Indicadores agregados'!L39","v":0},{"$f":"'Indicadores agregados'!M39","v":0},{"$f":"'Indicadores agregados'!N39","v":0},{"$f":"'Indicadores agregados'!O39","v":0},0,0]
[null,{"$f":"'Indicadores agregados'!B40","v":60},{"$f":"'Indicadores agregados'!C40","v":"Acuerdos realizados para la vinculación de la ciudadanía en los programas adelantados por el IDRD y acuerdos con vendedores informales o estacionarios "},null,null,null,null,141,{"$f":"'Indicadores agregados'!D40","v":2},{"$f":"'Indicadores agregados'!E40","v":0},{"$f":"'Indicadores agregados'!F40","v":72321033},{"$f":"'Indicadores agregados'!G40","v":0},{"$f":"'Indicadores agregados'!H40","v":0},{"$f":"'Indicadores agregados'!I40","v":0},{"$f":"'Indicadores agregados'!J40","v":0},{"$f":"'Indicadores agregados'!K40","v":0},{"$f":"'Indicadores agregados'!L40","v":0},{"$f":"'Indicadores agregados'!M40","v":0},{"$f":"'Indicadores agregados'!N40","v":0},{"$f":"'Indicadores agregados'!O40","v":0},1.4184397163120567E-2,0]
[null,{"$f":"'Indicadores agregados'!B41","v":75},{"$f":"'Indicadores agregados'!C41","v":"Sedes intervenidas de salones comunales."},null,null,null,null,285,{"$f":"'Indicadores agregados'!D41","v":0},{"$f":"'Indicadores agregados'!E41","v":0},{"$f":"'Indicadores agregados'!F41","v":0},{"$f":"'Indicadores agregados'!G41","v":0},{"$f":"'Indicadores agregados'!H41","v":0},{"$f":"'Indicadores agregados'!I41","v":0},{"$f":"'Indicadores agregados'!J41","v":0},{"$f":"'Indicadores agregados'!K41","v":0},{"$f":"'Indicadores agregados'!L41","v":0},{"$f":"'Indicadores agregados'!M41","v":0},{"$f":"'Indicadores agregados'!N41","v":0},{"$f":"'Indicadores agregados'!O41","v":0},0,0]
[null,{"$f":"'Indicadores agregados'!B42","v":76},{"$f":"'Indicadores agregados'!C42","v":"Sedes dotadas de salones comunales."},null,null,null,null,548,{"$f":"'Indicadores agregados'!D42","v":0},{"$f":"'Indicadores agregados'!E42","v":0},{"$f":"'Indicadores agregados'!F42","v":0},{"$f":"'Indicadores agregados'!G42","v":0},{"$f":"'Indicadores agregados'!H42","v":0},{"$f":"'Indicadores agregados'!I42","v":0},{"$f":"'Indicadores agregados'!J42","v":0},{"$f":"'Indicadores agregados'!K42","v":0},{"$f":"'Indicadores agregados'!L42","v":0},{"$f":"'Indicadores agregados'!M42","v":0},{"$f":"'Indicadores agregados'!N42","v":0},{"$f":"'Indicadores agregados'!O42","v":0},0,0]
[null,{"$f":"'Indicadores agregados'!B43","v":77},{"$f":"'Indicadores agregados'!C43","v":"Sedes construidas de salones comunales"},null,null,null,null,17,{"$f":"'Indicadores agregados'!D43","v":0},{"$f":"'Indicadores agregados'!E43","v":0},{"$f":"'Indicadores agregados'!F43","v":93102038},{"$f":"'Indicadores agregados'!G43","v":0},{"$f":"'Indicadores agregados'!H43","v":0},{"$f":"'Indicadores agregados'!I43","v":0},{"$f":"'Indicadores agregados'!J43","v":0},{"$f":"'Indicadores agregados'!K43","v":0},{"$f":"'Indicadores agregados'!L43","v":0},{"$f":"'Indicadores agregados'!M43","v":0},{"$f":"'Indicadores agregados'!N43","v":0},{"$f":"'Indicadores agregados'!O43","v":0},0,0]
[null,{"$f":"'Indicadores agregados'!B44","v":78},{"$f":"'Indicadores agregados'!C44","v":"Número de Personas capacitadas a través de procesos de formación para la participación de manera virtual y presencial."},null,null,null,null,22109,{"$f":"'Indicadores agregados'!D44","v":120},{"$f":"'Indicadores agregados'!E44","v":0},{"$f":"'Indicadores agregados'!F44","v":781617913},{"$f":"'Indicadores agregados'!G44","v":0},{"$f":"'Indicadores agregados'!H44","v":0},{"$f":"'Indicadores agregados'!I44","v":0},{"$f":"'Indicadores agregados'!J44","v":0},{"$f":"'Indicadores agregados'!K44","v":0},{"$f":"'Indicadores agregados'!L44","v":0},{"$f":"'Indicadores agregados'!M44","v":0},{"$f":"'Indicadores agregados'!N44","v":0},{"$f":"'Indicadores agregados'!O44","v":0},5.4276538966031929E-3,0]
[null,{"$f":"'Indicadores agregados'!B45","v":79},{"$f":"'Indicadores agregados'!C45","v":"Número de Organizaciones, JAC e Instancias de participación ciudadana fortalecidas."},null,null,null,null,3889,{"$f":"'Indicadores agregados'!D45","v":1},{"$f":"'Indicadores agregados'!E45","v":1},{"$f":"'Indicadores agregados'!F45","v":1604785476},{"$f":"'Indicadores agregados'!G45","v":0},{"$f":"'Indicadores agregados'!H45","v":0},{"$f":"'Indicadores agregados'!I45","v":0},{"$f":"'Indicadores agregados'!J45","v":0},{"$f":"'Indicadores agregados'!K45","v":0},{"$f":"'Indicadores agregados'!L45","v":0},{"$f":"'Indicadores agregados'!M45","v":0},{"$f":"'Indicadores agregados'!N45","v":0},{"$f":"'Indicadores agregados'!O45","v":0},2.5713551041398817E-4,2.5713551041398817E-4]
[null,{"$f":"'Indicadores agregados'!B46","v":80},{"$f":"'Indicadores agregados'!C46","v":"Sedes administrativas locales terminadas."},null,null,null,null,2,{"$f":"'Indicadores agregados'!D46","v":0},{"$f":"'Indicadores agregados'!E46","v":0},{"$f":"'Indicadores agregados'!F46","v":65000000},{"$f":"'Indicadores agregados'!G46","v":0},{"$f":"'Indicadores agregados'!H46","v":0},{"$f":"'Indicadores agregados'!I46","v":0},{"$f":"'Indicadores agregados'!J46","v":0},{"$f":"'Indicadores agregados'!K46","v":0},{"$f":"'Indicadores agregados'!L46","v":0},{"$f":"'Indicadores agregados'!M46","v":0},{"$f":"'Indicadores agregados'!N46","v":0},{"$f":"'Indicadores agregados'!O46","v":0},0,0]
[null,{"$f":"'Indicadores agregados'!B47","v":81},{"$f":"'Indicadores agregados'!C47","v":"Sedes administrativas locales construidas."},null,null,null,null,8,{"$f":"'Indicadores agregados'!D47","v":0},{"$f":"'Indicadores agregados'!E47","v":0},{"$f":"'Indicadores agregados'!F47","v":52000000},{"$f":"'Indicadores agregados'!G47","v":0},{"$f":"'Indicadores agregados'!H47","v":0},{"$f":"'Indicadores agregados'!I47","v":0},{"$f":"'Indicadores agregados'!J47","v":0},{"$f":"'Indicadores agregados'!K47","v":0},{"$f":"'Indicadores agregados'!L47","v":0},{"$f":"'Indicadores agregados'!M47","v":0},{"$f":"'Indicadores agregados'!N47","v":0},{"$f":"'Indicadores agregados'!O47","v":0},0,0]
[null,{"$f":"'Indicadores agregados'!B48","v":82},{"$f":"'Indicadores agregados'!C48","v":"Estrategias de fortalecimiento institucional realizadas"},null,null,null,null,80,{"$f":"'Indicadores agregados'!D48","v":20},{"$f":"'Indicadores agregados'!E48","v":17.25},{"$f":"'Indicadores agregados'!F48","v":64656735869},{"$f":"'Indicadores agregados'!G48","v":0},{"$f":"'Indicadores agregados'!H48","v":0},{"$f":"'Indicadores agregados'!I48","v":0},{"$f":"'Indicadores agregados'!J48","v":0},{"$f":"'Indicadores agregados'!K48","v":0},{"$f":"'Indicadores agregados'!L48","v":0},{"$f":"'Indicadores agregados'!M48","v":0},{"$f":"'Indicadores agregados'!N48","v":0},{"$f":"'Indicadores agregados'!O48","v":0},0.25,0.21562500000000001]
[null,{"$f":"'Indicadores agregados'!B49","v":83},"Número de Rendiciones de cuentas anuales.*",null,null,null,null,20,{"$f":"'Indicadores agregados'!D49","v":4},{"$f":"'Indicadores agregados'!E49","v":4},{"$f":"'Indicadores agregados'!F49","v":47883670},{"$f":"'Indicadores agregados'!G49","v":0},{"$f":"'Indicadores agregados'!H49","v":0},{"$f":"'Indicadores agregados'!I49","v":0},{"$f":"'Indicadores agregados'!J49","v":0},{"$f":"'Indicadores agregados'!K49","v":0},{"$f":"'Indicadores agregados'!L49","v":0},{"$f":"'Indicadores agregados'!M49","v":0},{"$f":"'Indicadores agregados'!N49","v":0},{"$f":"'Indicadores agregados'!O49","v":0},0.2,0.2]
[null,{"$f":"'Indicadores agregados'!B50","v":84},{"$f":"'Indicadores agregados'!C50","v":"Acciones de inspección, vigilancia y control realizadas"},null,null,null,null,96,{"$f":"'Indicadores agregados'!D50","v":18},{"$f":"'Indicadores agregados'!E50","v":17.25},{"$f":"'Indicadores agregados'!F50","v":22021131933},{"$f":"'Indicadores agregados'!G50","v":0},{"$f":"'Indicadores agregados'!H50","v":0},{"$f":"'Indicadores agregados'!I50","v":0},{"$f":"'Indicadores agregados'!J50","v":0},{"$f":"'Indicadores agregados'!K50","v":0},{"$f":"'Indicadores agregados'!L50","v":0},{"$f":"'Indicadores agregados'!M50","v":0},{"$f":"'Indicadores agregados'!N50","v":0},{"$f":"'Indicadores agregados'!O50","v":0},0.1875,0.1796875]
[null,null,null,null,null,null,null,null,null,null,null,null,null,null,null,null,null,null,null,"Compromisos y giros en millones de pesos"]
[null,null,"* El cálculo del avance corresponde a un promedio de los avances anuales (contrato o entregado) divido por la magnitud programada 2021-2024."]
[]
[null,"Sector Hábitat"]
[]
[]
[null,"Cód.","Indicador",null,null,null,null,"Magnitud Programada 2021-2024","Magnitud contratada 2021","Magnitud entregada 2021","Compromisos 2021","Magnitud contratada 2022","Magnitud entregada 2022","Compromisos 2022","Magnitud contratada 2023","Magnitud entregada 2023","Compromisos 2023","Magnitud contratada 2024","Magnitud entregada 2024","Compromisos 2024","% avance contratado","% avance entregado"]
[null,{"$f":"'Indicadores agregados'!B51","v":9},{"$f":"'Indicadores agregados'!C51","v":"Viviendas de interés social rurales mejoradas "},null,null,null,null,{"$f":"'Indicadores agregados'!P51","v":690},{"$f":"'Indicadores agregados'!D51","v":0},{"$f":"'Indicadores agregados'!E51","v":0},{"$f":"'Indicadores agregados'!F51","v":133800000},{"$f":"'Indicadores agregados'!G51","v":0},{"$f":"'Indicadores agregados'!H51","v":0},{"$f":"'Indicadores agregados'!I51","v":0},{"$f":"'Indicadores agregados'!J51","v":0},{"$f":"'Indicadores agregados'!K51","v":0},{"$f":"'Indicadores agregados'!L51","v":0},{"$f":"'Indicadores agregados'!M51","v":0},{"$f":"'Indicadores agregados'!N51","v":0},{"$f":"'Indicadores agregados'!O51","v":0},{"$f":"SUM(I207+L207+O207+R207)/H207","v":0},{"$f":"SUM(J207+M207+P207+S207)/H207","v":0}]
[null,{"$f":"'Indicadores agregados'!B52","v":49},{"$f":"'Indicadores agregados'!C52","v":"Número de acueductos verdales asistidos o intervenidos técnica u organizacionalmente."},null,null,null,null,{"$f":"'Indicadores agregados'!P52","v":23},{"$f":"'Indicadores agregados'!D52","v":0},{"$f":"'Indicadores agregados'!E52","v":0},{"$f":"'Indicadores agregados'!F52","v":0},{"$f":"'Indicadores agregados'!G52","v":0},{"$f":"'Indicadores agregados'!H52","v":0},{"$f":"'Indicadores agregados'!I52","v":0},{"$f":"'Indicadores agregados'!J52","v":0},{"$f":"'Indicadores agregados'!K52","v":0},{"$f":"'Indicadores agregados'!L52","v":0},{"$f":"'Indicadores agregados'!M52","v":0},{"$f":"'Indicadores agregados'!N52","v":0},{"$f":"'Indicadores agregados'!O52","v":0},0,0]
[null,{"$f":"'Indicadores agregados'!B53","v":50},{"$f":"'Indicadores agregados'!C53","v":"Personas capacitadas en separación en la fuente y reciclaje"},null,null,null,null,{"$f":"'Indicadores agregados'!P53","v":122618},{"$f":"'Indicadores agregados'!D53","v":0},{"$f":"'Indicadores agregados'!E53","v":0},{"$f":"'Indicadores agregados'!F53","v":558145668},{"$f":"'Indicadores agregados'!G53","v":0},{"$f":"'Indicadores agregados'!H53","v":0},{"$f":"'Indicadores agregados'!I53","v":0},{"$f":"'Indicadores agregados'!J53","v":0},{"$f":"'Indicadores agregados'!K53","v":0},{"$f":"'Indicadores agregados'!L53","v":0},{"$f":"'Indicadores agregados'!M53","v":0},{"$f":"'Indicadores agregados'!N53","v":0},{"$f":"'Indicadores agregados'!O53","v":0},0,0]
[null,{"$f":"'Indicadores agregados'!B54","v":51},{"$f":"'Indicadores agregados'!C54","v":"Acciones con energías alternativas para el área rural realizadas."},null,null,null,null,{"$f":"'Indicadores agregados'!P54","v":139},{"$f":"'Indicadores agregados'!D54","v":0},{"$f":"'Indicadores agregados'!E54","v":0},{"$f":"'Indicadores agregados'!F54","v":0},{"$f":"'Indicadores agregados'!G54","v":0},{"$f":"'Indicadores agregados'!H54","v":0},{"$f":"'Indicadores agregados'!I54","v":0},{"$f":"'Indicadores agregados'!J54","v":0},{"$f":"'Indicadores agregados'!K54","v":0},{"$f":"'Indicadores agregados'!L54","v":0},{"$f":"'Indicadores agregados'!M54","v":0},{"$f":"'Indicadores agregados'!N54","v":0},{"$f":"'Indicadores agregados'!O54","v":0},0,0]
[null,null,null,null,null,null,null,null,null,null,null,null,null,null,null,null,null,null,null,"Compromisos y giros en millones de pesos"]
[]
[]
[]
[]
[]
[]
[]
[]
[null,"Sector Integración Social"]
[]
[]
[null,"Cód.","Indicador",null,null,null,null,"Magnitud Programada 2021-2024","Magnitud contratada 2021","Magnitud entregada 2021","Compromisos 2021","Magnitud contratada 2022","Magnitud entregada 2022","Compromisos 2022","Magnitud contratada 2023","Magnitud entregada 2023","Compromisos 2023","Magnitud contratada 2024","Magnitud entregada 2024","Compromisos 2024","% avance contratado","% avance entregado"]
[null,1,"Hogares atendidos con apoyos que contribuyan al ingreso mínimo garantizado",null,null,null,null,241058,{"$f":"'Indicadores agregados'!D55","v":52475},{"$f":"'Indicadores agregados'!E55","v":0},{"$f":"'Indicadores agregados'!F55","v":60733587000},{"$f":"'Indicadores agregados'!G55","v":0},{"$f":"'Indicadores agregados'!H55","v":0},{"$f":"'Indicadores agregados'!I55","v":0},{"$f":"'Indicadores agregados'!J55","v":0},{"$f":"'Indicadores agregados'!K55","v":0},{"$f":"'Indicadores agregados'!L55","v":0},{"$f":"'Indicadores agregados'!M55","v":0},{"$f":"'Indicadores agregados'!N55","v":0},{"$f":"'Indicadores agregados'!O55","v":0},{"$f":"SUM(I224+L224+O224+R224)/H224","v":0.21768620000165936},{"$f":"SUM(J224+M224+P224+S224)/H224","v":0}]
[null,2,"Número de personas mayores con apoyo económico tipo C*",null,null,null,null,46707,{"$f":"'Indicadores agregados'!D56","v":45720},{"$f":"'Indicadores agregados'!E56","v":45646},{"$f":"'Indicadores agregados'!F56","v":37674094212},{"$f":"'Indicadores agregados'!G56","v":0},{"$f":"'Indicadores agregados'!H56","v":0},{"$f":"'Indicadores agregados'!I56","v":0},{"$f":"'Indicadores agregados'!J56","v":0},{"$f":"'Indicadores agregados'!K56","v":0},{"$f":"'Indicadores agregados'!L56","v":0},{"$f":"'Indicadores agregados'!M56","v":0},{"$f":"'Indicadores agregados'!N56","v":0},{"$f":"'Indicadores agregados'!O56","v":0},{"$f":"AVERAGE(I225,L225,O225,R225)/H225","v":0.24471706596441647},{"$f":"AVERAGE(J225,M225,P225,S225)/H225","v":0.24432097972466654}]
[null,7,"Sedes de Casas de juventud dotadas",null,null,null,null,13,{"$f":"'Indicadores agregados'!D57","v":0},{"$f":"'Indicadores agregados'!E57","v":0},{"$f":"'Indicadores agregados'!F57","v":22000000},{"$f":"'Indicadores agregados'!G57","v":0},{"$f":"'Indicadores agregados'!H57","v":0},{"$f":"'Indicadores agregados'!I57","v":0},{"$f":"'Indicadores agregados'!J57","v":0},{"$f":"'Indicadores agregados'!K57","v":0},{"$f":"'Indicadores agregados'!L57","v":0},{"$f":"'Indicadores agregados'!M57","v":0},{"$f":"'Indicadores agregados'!N57","v":0},{"$f":"'Indicadores agregados'!O57","v":0},0,0]
[null,8,"Sedes de atención a adolescentes y jovenes vinculados al sistema de responsabilidad penal adolescente dotados.",null,null,null,null,11,{"$f":"'Indicadores agregados'!D58","v":0},{"$f":"'Indicadores agregados'!E58","v":0},{"$f":"'Indicadores agregados'!F58","v":0},{"$f":"'Indicadores agregados'!G58","v":0},{"$f":"'Indicadores agregados'!H58","v":0},{"$f":"'Indicadores agregados'!I58","v":0},{"$f":"'Indicadores agregados'!J58","v":0},{"$f":"'Indicadores agregados'!K58","v":0},{"$f":"'Indicadores agregados'!L58","v":0},{"$f":"'Indicadores agregados'!M58","v":0},{"$f":"'Indicadores agregados'!N58","v":0},{"$f":"'Indicadores agregados'!O58","v":0},0,0]
[null,25,"Número de Personas formadas u orientadas o sensibilizadas en prevención de violencia intrafamiliar y/o violencia sexual.            ",null,null,null,null,95069,{"$f":"'Indicadores agregados'!D59","v":300},{"$f":"'Indicadores agregados'!E59","v":0},{"$f":"'Indicadores agregados'!F59","v":670623000},{"$f":"'Indicadores agregados'!G59","v":0},{"$f":"'Indicadores agregados'!H59","v":0},{"$f":"'Indicadores agregados'!I59","v":0},{"$f":"'Indicadores agregados'!J59","v":0},{"$f":"'Indicadores agregados'!K59","v":0},{"$f":"'Indicadores agregados'!L59","v":0},{"$f":"'Indicadores agregados'!M59","v":0},{"$f":"'Indicadores agregados'!N59","v":0},{"$f":"'Indicadores agregados'!O59","v":0},3.1556027727229698E-3,0]
[null,26,"Centros de atención especializada dotados",null,null,null,null,16,{"$f":"'Indicadores agregados'!D60","v":0},{"$f":"'Indicadores agregados'!E60","v":0},{"$f":"'Indicadores agregados'!F60","v":0},{"$f":"'Indicadores agregados'!G60","v":0},{"$f":"'Indicadores agregados'!H60","v":0},{"$f":"'Indicadores agregados'!I60","v":0},{"$f":"'Indicadores agregados'!J60","v":0},{"$f":"'Indicadores agregados'!K60","v":0},{"$f":"'Indicadores agregados'!L60","v":0},{"$f":"'Indicadores agregados'!M60","v":0},{"$f":"'Indicadores agregados'!N60","v":0},{"$f":"'Indicadores agregados'!O60","v":0},0,0]
[null,27,"Sedes de Centros de Desarrollo comunitarios dotados",null,null,null,null,16,{"$f":"'Indicadores agregados'!D61","v":0},{"$f":"'Indicadores agregados'!E61","v":0},{"$f":"'Indicadores agregados'!F61","v":0},{"$f":"'Indicadores agregados'!G61","v":0},{"$f":"'Indicadores agregados'!H61","v":0},{"$f":"'Indicadores agregados'!I61","v":0},{"$f":"'Indicadores agregados'!J61","v":0},{"$f":"'Indicadores agregados'!K61","v":0},{"$f":"'Indicadores agregados'!L61","v":0},{"$f":"'Indicadores agregados'!M61","v":0},{"$f":"'Indicadores agregados'!N61","v":0},{"$f":"'Indicadores agregados'!O61","v":0},0,0]
[null,28,"Sedes de atención a la primera infancia y/o adolescencia dotadas.",null,null,null,null,435,{"$f":"'Indicadores agregados'!D62","v":0},{"$f":"'Indicadores agregados'!E62","v":0},{"$f":"'Indicadores agregados'!F62","v":0},{"$f":"'Indicadores agregados'!G62","v":0},{"$f":"'Indicadores agregados'!H62","v":0},{"$f":"'Indicadores agregados'!I62","v":0},{"$f":"'Indicadores agregados'!J62","v":0},{"$f":"'Indicadores agregados'!K62","v":0},{"$f":"'Indicadores agregados'!L62","v":0},{"$f":"'Indicadores agregados'!M62","v":0},{"$f":"'Indicadores agregados'!N62","v":0},{"$f":"'Indicadores agregados'!O62","v":0},0,0]
[null,29,"Unidades Operativas de los Centros de Atención Integral a la Diversidad Sexual y de Géneros dotadas",null,null,null,null,2,{"$f":"'Indicadores agregados'!D63","v":0},{"$f":"'Indicadores agregados'!E63","v":0},{"$f":"'Indicadores agregados'!F63","v":0},{"$f":"'Indicadores agregados'!G63","v":0},{"$f":"'Indicadores agregados'!H63","v":0},{"$f":"'Indicadores agregados'!I63","v":0},{"$f":"'Indicadores agregados'!J63","v":0},{"$f":"'Indicadores agregados'!K63","v":0},{"$f":"'Indicadores agregados'!L63","v":0},{"$f":"'Indicadores agregados'!M63","v":0},{"$f":"'Indicadores agregados'!N63","v":0},{"$f":"'Indicadores agregados'!O63","v":0},0,0]
[null,null,null,null,null,null,null,null,null,null,null,null,null,null,null,null,null,null,null,"Compromisos y giros en millones de pesos"]
[null,null,"* El cálculo del avance corresponde a un promedio de los avances anuales (contrato o entregado) divido por la magnitud programada 2021-2024."]
[]
[]
[null,"Sector Movilidad"]
[]
[]
[null,"Cód.","Indicador",null,null,null,null,"Magnitud Programada 2021-2024","Magnitud contratada 2021","Magnitud entregada 2021","Compromisos 2021","Magnitud contratada 2022","Magnitud entregada 2022","Compromisos 2022","Magnitud contratada 2023","Magnitud entregada 2023","Compromisos 2023","Magnitud contratada 2024","Magnitud entregada 2024","Compromisos 2024","% avance contratado","% avance entregado"]
[null,69,"Metros cuadrados construidos y/o conservados de elementos del sistema de espacio público peatonal.",null,null,null,null,86421,{"$f":"'Indicadores agregados'!D65","v":0},{"$f":"'Indicadores agregados'!E65","v":0},{"$f":"'Indicadores agregados'!F65","v":1001001422},{"$f":"'Indicadores agregados'!G65","v":0},{"$f":"'Indicadores agregados'!H65","v":0},{"$f":"'Indicadores agregados'!I65","v":0},{"$f":"'Indicadores agregados'!J65","v":0},{"$f":"'Indicadores agregados'!K65","v":0},{"$f":"'Indicadores agregados'!L65","v":0},{"$f":"'Indicadores agregados'!M65","v":0},{"$f":"'Indicadores agregados'!N65","v":0},{"$f":"'Indicadores agregados'!O65","v":0},{"$f":"SUM(I241+L241+O241+R241)/H241","v":0},{"$f":"SUM(J241+M241+P241+S241)/H241","v":0}]
[null,70,"Metros cuadrados de Puentes vehiculares y/o peatonales de escala local sobre cuerpos de agua construidos y/o intervenidos",null,null,null,null,60867,{"$f":"'Indicadores agregados'!D66","v":0},{"$f":"'Indicadores agregados'!E66","v":0},{"$f":"'Indicadores agregados'!F66","v":153697000},{"$f":"'Indicadores agregados'!G66","v":0},{"$f":"'Indicadores agregados'!H66","v":0},{"$f":"'Indicadores agregados'!I66","v":0},{"$f":"'Indicadores agregados'!J66","v":0},{"$f":"'Indicadores agregados'!K66","v":0},{"$f":"'Indicadores agregados'!L66","v":0},{"$f":"'Indicadores agregados'!M66","v":0},{"$f":"'Indicadores agregados'!N66","v":0},{"$f":"'Indicadores agregados'!O66","v":0},0,0]
[null,71,"Kilómetros-carril construidos y/o conservados de malla vial urbana (local y/o intermedia)",null,null,null,null,85.3,{"$f":"'Indicadores agregados'!D67","v":0},{"$f":"'Indicadores agregados'!E67","v":0},{"$f":"'Indicadores agregados'!F67","v":1866503334},{"$f":"'Indicadores agregados'!G67","v":0},{"$f":"'Indicadores agregados'!H67","v":0},{"$f":"'Indicadores agregados'!I67","v":0},{"$f":"'Indicadores agregados'!J67","v":0},{"$f":"'Indicadores agregados'!K67","v":0},{"$f":"'Indicadores agregados'!L67","v":0},{"$f":"'Indicadores agregados'!M67","v":0},{"$f":"'Indicadores agregados'!N67","v":0},{"$f":"'Indicadores agregados'!O67","v":0},0,0]
[null,72,"Kilómetros-carril construidos y/o conservados de malla vial rural",null,null,null,null,9.1999999999999993,{"$f":"'Indicadores agregados'!D68","v":0},{"$f":"'Indicadores agregados'!E68","v":0},{"$f":"'Indicadores agregados'!F68","v":959621603},{"$f":"'Indicadores agregados'!G68","v":0},{"$f":"'Indicadores agregados'!H68","v":0},{"$f":"'Indicadores agregados'!I68","v":0},{"$f":"'Indicadores agregados'!J68","v":0},{"$f":"'Indicadores agregados'!K68","v":0},{"$f":"'Indicadores agregados'!L68","v":0},{"$f":"'Indicadores agregados'!M68","v":0},{"$f":"'Indicadores agregados'!N68","v":0},{"$f":"'Indicadores agregados'!O68","v":0},0,0]
[null,73,"Metros lineales construidos y/o conservados de Ciclo-infraestructura",null,null,null,null,51259,{"$f":"'Indicadores agregados'!D69","v":0},{"$f":"'Indicadores agregados'!E69","v":0},{"$f":"'Indicadores agregados'!F69","v":244859282},{"$f":"'Indicadores agregados'!G69","v":0},{"$f":"'Indicadores agregados'!H69","v":0},{"$f":"'Indicadores agregados'!I69","v":0},{"$f":"'Indicadores agregados'!J69","v":0},{"$f":"'Indicadores agregados'!K69","v":0},{"$f":"'Indicadores agregados'!L69","v":0},{"$f":"'Indicadores agregados'!M69","v":0},{"$f":"'Indicadores agregados'!N69","v":0},{"$f":"'Indicadores agregados'!O69","v":0},0,0]
[null,null,null,null,null,null,null,null,null,null,null,null,null,null,null,null,null,null,null,"Compromisos y giros en millones de pesos"]
[]
[null,"Sector Mujer"]
[]
[]
[null,"Cód.","Indicador",null,null,null,null,"Magnitud Programada 2021-2024","Magnitud contratada 2021","Magnitud entregada 2021","Compromisos 2021","Magnitud contratada 2022","Magnitud entregada 2022","Compromisos 2022","Magnitud contratada 2023","Magnitud entregada 2023","Compromisos 2023","Magnitud contratada 2024","Magnitud entregada 2024","Compromisos 2024","% avance contratado","% avance entregado"]
[null,30,"Mujeres cuidadoras vinculadas a estrategias de cuidado",null,null,null,null,38046,{"$f":"'Indicadores agregados'!D88","v":0},{"$f":"'Indicadores agregados'!E88","v":0},{"$f":"'Indicadores agregados'!F88","v":83742000},{"$f":"'Indicadores agregados'!G88","v":0},{"$f":"'Indicadores agregados'!H88","v":0},{"$f":"'Indicadores agregados'!I88","v":0},{"$f":"'Indicadores agregados'!J88","v":0},{"$f":"'Indicadores agregados'!K88","v":0},{"$f":"'Indicadores agregados'!L88","v":0},{"$f":"'Indicadores agregados'!M88","v":0},{"$f":"'Indicadores agregados'!N88","v":0},{"$f":"'Indicadores agregados'!O88","v":0},{"$f":"SUM(I252+L252+O252+R252)/H252","v":0},{"$f":"SUM(J252+M252+P252+S252)/H252","v":0}]
[null,53,"Personas capacitadas para la construcción de ciudadanía y desarrollo de capacidades para el ejercicio de derechos de las mujeres.",null,null,null,null,39619,{"$f":"'Indicadores agregados'!D89","v":0},{"$f":"'Indicadores agregados'!E89","v":0},{"$f":"'Indicadores agregados'!F89","v":409705329},{"$f":"'Indicadores agregados'!G89","v":0},{"$f":"'Indicadores agregados'!H89","v":0},{"$f":"'Indicadores agregados'!I89","v":0},{"$f":"'Indicadores agregados'!J89","v":0},{"$f":"'Indicadores agregados'!K89","v":0},{"$f":"'Indicadores agregados'!L89","v":0},{"$f":"'Indicadores agregados'!M89","v":0},{"$f":"'Indicadores agregados'!N89","v":0},{"$f":"'Indicadores agregados'!O89","v":0},0,0]
[null,54,"Número de Personas vinculadas en acciones para la prevención del feminicidio y la violencia contra la mujer",null,null,null,null,66409,{"$f":"'Indicadores agregados'!D90","v":0},{"$f":"'Indicadores agregados'!E90","v":0},{"$f":"'Indicadores agregados'!F90","v":528498000},{"$f":"'Indicadores agregados'!G90","v":0},{"$f":"'Indicadores agregados'!H90","v":0},{"$f":"'Indicadores agregados'!I90","v":0},{"$f":"'Indicadores agregados'!J90","v":0},{"$f":"'Indicadores agregados'!K90","v":0},{"$f":"'Indicadores agregados'!L90","v":0},{"$f":"'Indicadores agregados'!M90","v":0},{"$f":"'Indicadores agregados'!N90","v":0},{"$f":"'Indicadores agregados'!O90","v":0},0,0]
[null,null,null,null,null,null,null,null,null,null,null,null,null,null,null,null,null,null,null,"Compromisos y giros en millones de pesos"]
[]
[]
[]
[]
[null,"Sector Salud"]
[]
[]
[null,"Cód.","Indicador",null,null,null,null,"Magnitud Programada 2021-2024","Magnitud contratada 2021","Magnitud entregada 2021","Compromisos 2021","Magnitud contratada 2022","Magnitud entregada 2022","Compromisos 2022","Magnitud contratada 2023","Magnitud entregada 2023","Compromisos 2023","Magnitud contratada 2024","Magnitud entregada 2024","Compromisos 2024","% avance contratado","% avance entregado"]
[null,{"$f":"'Indicadores agregados'!B70","v":31},{"$f":"'Indicadores agregados'!C70","v":"Número de personas con discapacidad, cuidadadores y cuidadoras, vinculados en actividades alernativas de salud."},null,null,null,null,9250,{"$f":"'Indicadores agregados'!D70","v":0},{"$f":"'Indicadores agregados'!E70","v":0},{"$f":"'Indicadores agregados'!F70","v":80200000},{"$f":"'Indicadores agregados'!G70","v":0},{"$f":"'Indicadores agregados'!H70","v":0},{"$f":"'Indicadores agregados'!I70","v":0},{"$f":"'Indicadores agregados'!J70","v":0},{"$f":"'Indicadores agregados'!K70","v":0},{"$f":"'Indicadores agregados'!L70","v":0},{"$f":"'Indicadores agregados'!M70","v":0},{"$f":"'Indicadores agregados'!N70","v":0},{"$f":"'Indicadores agregados'!O70","v":0},{"$f":"SUM(I264+L264+O264+R264)/H264","v":0},{"$f":"SUM(J264+M264+P264+S264)/H264","v":0}]
[null,{"$f":"'Indicadores agregados'!B71","v":32},{"$f":"'Indicadores agregados'!C71","v":"Números de personas vinculadas a las acciones desarrolladas desde los dispositivos de base comunitaria en respuesta al consumo de SPA."},null,null,null,null,18072,{"$f":"'Indicadores agregados'!D71","v":0},{"$f":"'Indicadores agregados'!E71","v":0},{"$f":"'Indicadores agregados'!F71","v":27000000},{"$f":"'Indicadores agregados'!G71","v":0},{"$f":"'Indicadores agregados'!H71","v":0},{"$f":"'Indicadores agregados'!I71","v":0},{"$f":"'Indicadores agregados'!J71","v":0},{"$f":"'Indicadores agregados'!K71","v":0},{"$f":"'Indicadores agregados'!L71","v":0},{"$f":"'Indicadores agregados'!M71","v":0},{"$f":"'Indicadores agregados'!N71","v":0},{"$f":"'Indicadores agregados'!O71","v":0},0,0]
[null,{"$f":"'Indicadores agregados'!B72","v":33},{"$f":"'Indicadores agregados'!C72","v":"Número de personas con discapacidad beneficiadas con Dispostivos de Asistencia Personal - Ayudas Técnicas (no incluidas en los Planes de Beneficios)."},null,null,null,null,15089,{"$f":"'Indicadores agregados'!D72","v":0},{"$f":"'Indicadores agregados'!E72","v":0},{"$f":"'Indicadores agregados'!F72","v":229190000},{"$f":"'Indicadores agregados'!G72","v":0},{"$f":"'Indicadores agregados'!H72","v":0},{"$f":"'Indicadores agregados'!I72","v":0},{"$f":"'Indicadores agregados'!J72","v":0},{"$f":"'Indicadores agregados'!K72","v":0},{"$f":"'Indicadores agregados'!L72","v":0},{"$f":"'Indicadores agregados'!M72","v":0},{"$f":"'Indicadores agregados'!N72","v":0},{"$f":"'Indicadores agregados'!O72","v":0},0,0]
[null,{"$f":"'Indicadores agregados'!B73","v":34},{"$f":"'Indicadores agregados'!C73","v":"Número de personas vinculadas a las acciones y estrategias de reconocimiento de los saberes ancestrales en medicina."},null,null,null,null,12225,{"$f":"'Indicadores agregados'!D73","v":0},{"$f":"'Indicadores agregados'!E73","v":0},{"$f":"'Indicadores agregados'!F73","v":5000000},{"$f":"'Indicadores agregados'!G73","v":0},{"$f":"'Indicadores agregados'!H73","v":0},{"$f":"'Indicadores agregados'!I73","v":0},{"$f":"'Indicadores agregados'!J73","v":0},{"$f":"'Indicadores agregados'!K73","v":0},{"$f":"'Indicadores agregados'!L73","v":0},{"$f":"'Indicadores agregados'!M73","v":0},{"$f":"'Indicadores agregados'!N73","v":0},{"$f":"'Indicadores agregados'!O73","v":0},0,0]
[null,{"$f":"'Indicadores agregados'!B74","v":35},{"$f":"'Indicadores agregados'!C74","v":"Número de mujeres gestantes, niños y niñas, migrantes irregulares, vinvulados en acciones de protección específica y detección temprana."},null,null,null,null,4342,{"$f":"'Indicadores agregados'!D74","v":0},{"$f":"'Indicadores agregados'!E74","v":0},{"$f":"'Indicadores agregados'!F74","v":5000000},{"$f":"'Indicadores agregados'!G74","v":0},{"$f":"'Indicadores agregados'!H74","v":0},{"$f":"'Indicadores agregados'!I74","v":0},{"$f":"'Indicadores agregados'!J74","v":0},{"$f":"'Indicadores agregados'!K74","v":0},{"$f":"'Indicadores agregados'!L74","v":0},{"$f":"'Indicadores agregados'!M74","v":0},{"$f":"'Indicadores agregados'!N74","v":0},{"$f":"'Indicadores agregados'!O74","v":0},0,0]
[null,{"$f":"'Indicadores agregados'!B75","v":36},{"$f":"'Indicadores agregados'!C75","v":"Número de personas vinculadas en las acciones complementarias de la estrategia territorial de salud."},null,null,null,null,17826,{"$f":"'Indicadores agregados'!D75","v":0},{"$f":"'Indicadores agregados'!E75","v":0},{"$f":"'Indicadores agregados'!F75","v":372748666},{"$f":"'Indicadores agregados'!G75","v":0},{"$f":"'Indicadores agregados'!H75","v":0},{"$f":"'Indicadores agregados'!I75","v":0},{"$f":"'Indicadores agregados'!J75","v":0},{"$f":"'Indicadores agregados'!K75","v":0},{"$f":"'Indicadores agregados'!L75","v":0},{"$f":"'Indicadores agregados'!M75","v":0},{"$f":"'Indicadores agregados'!N75","v":0},{"$f":"'Indicadores agregados'!O75","v":0},0,0]
[null,{"$f":"'Indicadores agregados'!B76","v":37},{"$f":"'Indicadores agregados'!C76","v":"Número de personas vinculadas a las acciones y estrategias para la prevención del embarazo adolescente"},null,null,null,null,13300,{"$f":"'Indicadores agregados'!D76","v":0},{"$f":"'Indicadores agregados'!E76","v":0},{"$f":"'Indicadores agregados'!F76","v":39330000},{"$f":"'Indicadores agregados'!G76","v":0},{"$f":"'Indicadores agregados'!H76","v":0},{"$f":"'Indicadores agregados'!I76","v":0},{"$f":"'Indicadores agregados'!J76","v":0},{"$f":"'Indicadores agregados'!K76","v":0},{"$f":"'Indicadores agregados'!L76","v":0},{"$f":"'Indicadores agregados'!M76","v":0},{"$f":"'Indicadores agregados'!N76","v":0},{"$f":"'Indicadores agregados'!O76","v":0},0,0]
[null,null,null,null,null,null,null,null,null,null,null,null,null,null,null,null,null,null,null,"Compromisos y giros en millones de pesos"]
[]
[]
[null,"Sector Seguridad, Convivencia y Justicia"]
[]
[]
[null,"Cód.","Indicador",null,null,null,null,"Magnitud Programada 2021-2024","Magnitud contratada 2021","Magnitud entregada 2021","Compromisos 2021","Magnitud contratada 2022","Magnitud entregada 2022","Compromisos 2022","Magnitud contratada 2023","Magnitud entregada 2023","Compromisos 2023","Magnitud contratada 2024","Magnitud entregada 2024","Compromisos 2024","% avance contratado","% avance entregado"]
[null,{"$f":"'Indicadores agregados'!B77","v":55},{"$f":"'Indicadores agregados'!C77","v":"Estrategia de atención de movilizaciones y aglomeraciones en el territorio implementada a traves de equipos de gestores de convivencia bajo el direccionamiento estrategico de la Secretaria de Seguridad, Convivencia y Justicia"},null,null,null,null,147,{"$f":"'Indicadores agregados'!D77","v":18},{"$f":"'Indicadores agregados'!E77","v":16.100000000000001},{"$f":"'Indicadores agregados'!F77","v":3013104767},{"$f":"'Indicadores agregados'!G77","v":0},{"$f":"'Indicadores agregados'!H77","v":0},{"$f":"'Indicadores agregados'!I77","v":0},{"$f":"'Indicadores agregados'!J77","v":0},{"$f":"'Indicadores agregados'!K77","v":0},{"$f":"'Indicadores agregados'!L77","v":0},{"$f":"'Indicadores agregados'!M77","v":0},{"$f":"'Indicadores agregados'!N77","v":0},{"$f":"'Indicadores agregados'!O77","v":0},{"$f":"SUM(I278+L278+O278+R278)/H278","v":0.12244897959183673},{"$f":"SUM(J278+M278+P278+S278)/H278","v":0.10952380952380954}]
[null,{"$f":"'Indicadores agregados'!B78","v":56},{"$f":"'Indicadores agregados'!C78","v":"Número de personas formadas en la escuela de seguridad"},null,null,null,null,15142,{"$f":"'Indicadores agregados'!D78","v":0},{"$f":"'Indicadores agregados'!E78","v":0},{"$f":"'Indicadores agregados'!F78","v":0},{"$f":"'Indicadores agregados'!G78","v":0},{"$f":"'Indicadores agregados'!H78","v":0},{"$f":"'Indicadores agregados'!I78","v":0},{"$f":"'Indicadores agregados'!J78","v":0},{"$f":"'Indicadores agregados'!K78","v":0},{"$f":"'Indicadores agregados'!L78","v":0},{"$f":"'Indicadores agregados'!M78","v":0},{"$f":"'Indicadores agregados'!N78","v":0},{"$f":"'Indicadores agregados'!O78","v":0},{"$f":"SUM(I279+L279+O279+R279)/H279","v":0},{"$f":"SUM(J279+M279+P279+S279)/H279","v":0}]
[null,{"$f":"'Indicadores agregados'!B79","v":57},{"$f":"'Indicadores agregados'!C79","v":"Personas incluidas en actividades de educación para la resiliencia y la prevención de hechos delictivos. "},null,null,null,null,26736,{"$f":"'Indicadores agregados'!D79","v":0},{"$f":"'Indicadores agregados'!E79","v":0},{"$f":"'Indicadores agregados'!F79","v":214477200},{"$f":"'Indicadores agregados'!G79","v":0},{"$f":"'Indicadores agregados'!H79","v":0},{"$f":"'Indicadores agregados'!I79","v":0},{"$f":"'Indicadores agregados'!J79","v":0},{"$f":"'Indicadores agregados'!K79","v":0},{"$f":"'Indicadores agregados'!L79","v":0},{"$f":"'Indicadores agregados'!M79","v":0},{"$f":"'Indicadores agregados'!N79","v":0},{"$f":"'Indicadores agregados'!O79","v":0},0,0]
[null,{"$f":"'Indicadores agregados'!B80","v":61},{"$f":"'Indicadores agregados'!C80","v":"Beneficiarios de las estrategias para el fortalecimiento  de los mecanismos  de justicia comunitaria."},null,null,null,null,28400,{"$f":"'Indicadores agregados'!D80","v":0},{"$f":"'Indicadores agregados'!E80","v":0},{"$f":"'Indicadores agregados'!F80","v":66990000},{"$f":"'Indicadores agregados'!G80","v":0},{"$f":"'Indicadores agregados'!H80","v":0},{"$f":"'Indicadores agregados'!I80","v":0},{"$f":"'Indicadores agregados'!J80","v":0},{"$f":"'Indicadores agregados'!K80","v":0},{"$f":"'Indicadores agregados'!L80","v":0},{"$f":"'Indicadores agregados'!M80","v":0},{"$f":"'Indicadores agregados'!N80","v":0},{"$f":"'Indicadores agregados'!O80","v":0},0,0]
[null,{"$f":"'Indicadores agregados'!B81","v":62},{"$f":"'Indicadores agregados'!C81","v":"Personas atendidas en estrategias de acceso a la justicia integral en la ciudad."},null,null,null,null,20450,{"$f":"'Indicadores agregados'!D81","v":0},{"$f":"'Indicadores agregados'!E81","v":0},{"$f":"'Indicadores agregados'!F81","v":25000000},{"$f":"'Indicadores agregados'!G81","v":0},{"$f":"'Indicadores agregados'!H81","v":0},{"$f":"'Indicadores agregados'!I81","v":0},{"$f":"'Indicadores agregados'!J81","v":0},{"$f":"'Indicadores agregados'!K81","v":0},{"$f":"'Indicadores agregados'!L81","v":0},{"$f":"'Indicadores agregados'!M81","v":0},{"$f":"'Indicadores agregados'!N81","v":0},{"$f":"'Indicadores agregados'!O81","v":0},0,0]
[null,{"$f":"'Indicadores agregados'!B82","v":63},{"$f":"'Indicadores agregados'!C82","v":"Instituciones educativas vinculadas al programa pedagógico de resolución de conflictos en la comunidad escolar."},null,null,null,null,285,{"$f":"'Indicadores agregados'!D82","v":0},{"$f":"'Indicadores agregados'!E82","v":0},{"$f":"'Indicadores agregados'!F82","v":5000000},{"$f":"'Indicadores agregados'!G82","v":0},{"$f":"'Indicadores agregados'!H82","v":0},{"$f":"'Indicadores agregados'!I82","v":0},{"$f":"'Indicadores agregados'!J82","v":0},{"$f":"'Indicadores agregados'!K82","v":0},{"$f":"'Indicadores agregados'!L82","v":0},{"$f":"'Indicadores agregados'!M82","v":0},{"$f":"'Indicadores agregados'!N82","v":0},{"$f":"'Indicadores agregados'!O82","v":0},0,0]
[null,{"$f":"'Indicadores agregados'!B83","v":64},{"$f":"'Indicadores agregados'!C83","v":"Estrategia local de acciones pedagógicas del Código Nacional de Seguridad y Convivencia Ciudadana implementada en la localidad."},null,null,null,null,26,{"$f":"'Indicadores agregados'!D83","v":0},{"$f":"'Indicadores agregados'!E83","v":0},{"$f":"'Indicadores agregados'!F83","v":128420000},{"$f":"'Indicadores agregados'!G83","v":0},{"$f":"'Indicadores agregados'!H83","v":0},{"$f":"'Indicadores agregados'!I83","v":0},{"$f":"'Indicadores agregados'!J83","v":0},{"$f":"'Indicadores agregados'!K83","v":0},{"$f":"'Indicadores agregados'!L83","v":0},{"$f":"'Indicadores agregados'!M83","v":0},{"$f":"'Indicadores agregados'!N83","v":0},{"$f":"'Indicadores agregados'!O83","v":0},0,0]
[null,{"$f":"'Indicadores agregados'!B84","v":65},{"$f":"'Indicadores agregados'!C84","v":"Dotaciones tecnológicas suministradas a organismos de seguridad."},null,null,null,null,217,{"$f":"'Indicadores agregados'!D84","v":1},{"$f":"'Indicadores agregados'!E84","v":0},{"$f":"'Indicadores agregados'!F84","v":389500000},{"$f":"'Indicadores agregados'!G84","v":0},{"$f":"'Indicadores agregados'!H84","v":0},{"$f":"'Indicadores agregados'!I84","v":0},{"$f":"'Indicadores agregados'!J84","v":0},{"$f":"'Indicadores agregados'!K84","v":0},{"$f":"'Indicadores agregados'!L84","v":0},{"$f":"'Indicadores agregados'!M84","v":0},{"$f":"'Indicadores agregados'!N84","v":0},{"$f":"'Indicadores agregados'!O84","v":0},4.608294930875576E-3,0]
[null,{"$f":"'Indicadores agregados'!B85","v":66},{"$f":"'Indicadores agregados'!C85","v":"Dotaciones logísticas suministradas a organismos de seguridad."},null,null,null,null,2065,{"$f":"'Indicadores agregados'!D85","v":0},{"$f":"'Indicadores agregados'!E85","v":0},{"$f":"'Indicadores agregados'!F85","v":90615000},{"$f":"'Indicadores agregados'!G85","v":0},{"$f":"'Indicadores agregados'!H85","v":0},{"$f":"'Indicadores agregados'!I85","v":0},{"$f":"'Indicadores agregados'!J85","v":0},{"$f":"'Indicadores agregados'!K85","v":0},{"$f":"'Indicadores agregados'!L85","v":0},{"$f":"'Indicadores agregados'!M85","v":0},{"$f":"'Indicadores agregados'!N85","v":0},{"$f":"'Indicadores agregados'!O85","v":0},0,0]
[null,{"$f":"'Indicadores agregados'!B86","v":67},{"$f":"'Indicadores agregados'!C86","v":"Dotaciones de equipos especiales de protección  suministradas a organismos de seguridad."},null,null,null,null,374,{"$f":"'Indicadores agregados'!D86","v":0},{"$f":"'Indicadores agregados'!E86","v":0},{"$f":"'Indicadores agregados'!F86","v":0},{"$f":"'Indicadores agregados'!G86","v":0},{"$f":"'Indicadores agregados'!H86","v":0},{"$f":"'Indicadores agregados'!I86","v":0},{"$f":"'Indicadores agregados'!J86","v":0},{"$f":"'Indicadores agregados'!K86","v":0},{"$f":"'Indicadores agregados'!L86","v":0},{"$f":"'Indicadores agregados'!M86","v":0},{"$f":"'Indicadores agregados'!N86","v":0},{"$f":"'Indicadores agregados'!O86","v":0},0,0]
[null,{"$f":"'Indicadores agregados'!B87","v":68},{"$f":"'Indicadores agregados'!C87","v":"Dotación del parque automotor suministrada a organismos de seguridad."},null,null,null,null,18,{"$f":"'Indicadores agregados'!D87","v":0},{"$f":"'Indicadores agregados'!E87","v":0},{"$f":"'Indicadores agregados'!F87","v":0},{"$f":"'Indicadores agregados'!G87","v":0},{"$f":"'Indicadores agregados'!H87","v":0},{"$f":"'Indicadores agregados'!I87","v":0},{"$f":"'Indicadores agregados'!J87","v":0},{"$f":"'Indicadores agregados'!K87","v":0},{"$f":"'Indicadores agregados'!L87","v":0},{"$f":"'Indicadores agregados'!M87","v":0},{"$f":"'Indicadores agregados'!N87","v":0},{"$f":"'Indicadores agregados'!O87","v":0},0,0]
[null,null,null,null,null,null,null,null,null,null,null,null,null,null,null,null,null,null,null,"Compromisos y giros en millones de pesos"]

{"sheet":"AI1","index":29,"n_rows":65,"n_cols":12,"rows_kept":65,"cut":false,"hidden":true,"merged":[]}
[]
[]
[]
["No. Localidad","Nombre Localidad ","CONTRATADO"]
[1,"Usaquén",{"$f":"'Pond Programa'!AI4","v":2.1326784149384624E-2}]
[2,"Chapinero",{"$f":"'Pond Programa'!AI5","v":2.0388167247422494E-2}]
[3,"Santa Fe",{"$f":"'Pond Programa'!AI6","v":1.3010319952531952E-2}]
[4,"San Cristóbal",{"$f":"'Pond Programa'!AI7","v":2.6932044255524812E-2}]
[5,"Usme",{"$f":"'Pond Programa'!AI8","v":1.3947045321895338E-2}]
[6,"Tunjuelito",{"$f":"'Pond Programa'!AI9","v":1.2372750485782898E-2}]
[7,"Bosa",{"$f":"'Pond Programa'!AI10","v":2.6764329756368145E-2}]
[8,"Kennedy",{"$f":"'Pond Programa'!AI11","v":5.5513989700922148E-3}]
[9,"Fontibón",{"$f":"'Pond Programa'!AI12","v":1.8868877993063093E-2}]
[10,"Engativá",{"$f":"'Pond Programa'!AI13","v":1.9607909954421136E-2}]
[11,"Suba",{"$f":"'Pond Programa'!AI14","v":2.0038818245643901E-2}]
[12,"Barrios Unidos",{"$f":"'Pond Programa'!AI15","v":3.4584534736978867E-2}]
[13,"Teusaquillo",{"$f":"'Pond Programa'!AI16","v":2.5491993320194063E-2}]
[14,"Los Mártires",{"$f":"'Pond Programa'!AI17","v":3.2264311590247195E-2}]
[15,"Antonio Nariño",{"$f":"'Pond Programa'!AI18","v":2.9888362059010153E-2}]
[16,"Puente Aranda",{"$f":"'Pond Programa'!AI19","v":3.9533598745821727E-2}]
[17,"La Candelaria",{"$f":"'Pond Programa'!AI20","v":1.5369041494294031E-2}]
[18,"Rafael Uribe Uribe",{"$f":"'Pond Programa'!AI21","v":2.6477143054269632E-2}]
[19,"Ciudad Bolívar",{"$f":"'Pond Programa'!AI22","v":3.428033022045205E-2}]
[20,"Sumapaz",{"$f":"'Pond Programa'!AI23","v":4.189358624562013E-3}]
[]
[]
[null,"PROMEDIO",{"$f":"AVERAGE(C5:C24)","v":2.2044356008898015E-2}]
[]
[]
[]
[]
[]
[]
[]
[]
[]
[]
[]
[]
[]
[]
[]
[]
[]
[]
[]
[]
[]
[]
[null,null,null,null,null,"% Cumplimiento:",null,{"$f":"$C$27","v":2.2044356008898015E-2},null,0.1,1]
[null,null,null,null,null,null,null,null,null,0.2,1]
[null,null,null,null,null,"Grado",{"$f":"H50*PI()","v":6.9254386890672023E-2},null,null,0.3,1]
[null,null,null,null,null,null,null,null,null,0.4,1]
[null,null,null,null,null,null,null,null,null,0.5,1]
[null,null,null,null,null,null,null,null,null,0.6,1]
[null,null,null,null,null,null,null,null,null,0.7,1]
[null,null,null,null,null,null,null,null,null,0.8,1]
[null,null,null,null,null,null,null,null,null,0.9,1]
[null,null,null,null,null,null,null,null,null,1,9]
[]
[]
[]
[null,null,null,null,null,null,null,null,null,"Puntos","x","y"]
[null,null,null,null,null,null,null,null,null,"Inicio",0,0]
[null,null,null,null,null,null,null,null,null,"Fin",{"$f":"COS(G52)*-1","v":-0.99760287326363162},{"$f":"SIN(G52)","v":6.9199040861463168E-2}]

{"sheet":"AI2","index":30,"n_rows":66,"n_cols":12,"rows_kept":66,"cut":false,"hidden":true,"merged":[]}
[]
[]
[]
["No. Localidad","Nombre Localidad ","ENTREGADO"]
[1,"Usaquén",{"$f":"'Pond Programa'!AJ4","v":1.9678254313083995E-2}]
[2,"Chapinero",{"$f":"'Pond Programa'!AJ5","v":5.9035573961529753E-3}]
[3,"Santa Fe",{"$f":"'Pond Programa'!AJ6","v":1.0569232331549015E-2}]
[4,"San Cristóbal",{"$f":"'Pond Programa'!AJ7","v":2.5115880903045396E-2}]
[5,"Usme",{"$f":"'Pond Programa'!AJ8","v":4.9071037575233109E-3}]
[6,"Tunjuelito",{"$f":"'Pond Programa'!AJ9","v":8.6471686397463412E-3}]
[7,"Bosa",{"$f":"'Pond Programa'!AJ10","v":2.2897252196002388E-2}]
[8,"Kennedy",{"$f":"'Pond Programa'!AJ11","v":5.5513989700922148E-3}]
[9,"Fontibón",{"$f":"'Pond Programa'!AJ12","v":7.239581537638819E-3}]
[10,"Engativá",{"$f":"'Pond Programa'!AJ13","v":1.9607909954421136E-2}]
[11,"Suba",{"$f":"'Pond Programa'!AJ14","v":1.4797209093252793E-2}]
[12,"Barrios Unidos",{"$f":"'Pond Programa'!AJ15","v":2.4246626862419105E-2}]
[13,"Teusaquillo",{"$f":"'Pond Programa'!AJ16","v":2.139781486353183E-2}]
[14,"Los Mártires",{"$f":"'Pond Programa'!AJ17","v":2.4103997609517522E-2}]
[15,"Antonio Nariño",{"$f":"'Pond Programa'!AJ18","v":2.0197168912999979E-2}]
[16,"Puente Aranda",{"$f":"'Pond Programa'!AJ19","v":1.8777291905656145E-2}]
[17,"La Candelaria",{"$f":"'Pond Programa'!AJ20","v":8.1550351884930334E-3}]
[18,"Rafael Uribe Uribe",{"$f":"'Pond Programa'!AJ21","v":2.6477143054269632E-2}]
[19,"Ciudad Bolívar",{"$f":"'Pond Programa'!AJ22","v":2.9805624912617321E-2}]
[20,"Sumapaz",{"$f":"'Pond Programa'!AJ23","v":4.189358624562013E-3}]
[]
[]
[null,"PROMEDIO",{"$f":"AVERAGE(C5:C24)","v":1.6113230551328749E-2}]
[]
[]
[]
[]
[]
[]
[]
[]
[]
[]
[]
[]
[]
[]
[]
[]
[]
[]
[]
[]
[]
[]
[]
[null,null,null,null,null,"% Cumplimiento:",null,{"$f":"$C$27","v":1.6113230551328749E-2},null,0.1,1]
[null,null,null,null,null,null,null,null,null,0.2,1]
[null,null,null,null,null,"Grado",{"$f":"H51*PI()","v":5.0621206725653012E-2},null,null,0.3,1]
[null,null,null,null,null,null,null,null,null,0.4,1]
[null,null,null,null,null,null,null,null,null,0.5,1]
[null,null,null,null,null,null,null,null,null,0.6,1]
[null,null,null,null,null,null,null,null,null,0.7,1]
[null,null,null,null,null,null,null,null,null,0.8,1]
[null,null,null,null,null,null,null,null,null,0.9,1]
[null,null,null,null,null,null,null,null,null,1,9]
[]
[]
[]
[null,null,null,null,null,null,null,null,null,"Puntos","x","y"]
[null,null,null,null,null,null,null,null,null,"Inicio",0,0]
[null,null,null,null,null,null,null,null,null,"Fin",{"$f":"COS(G53)*-1","v":-0.99871902029311366},{"$f":"SIN(G53)","v":5.0599589966354268E-2}]

{"sheet":"ATotal","index":31,"n_rows":151,"n_cols":5,"rows_kept":151,"cut":false,"hidden":true,"merged":[]}
[]
[]
["No. Localidad","Nombre Localidad ","% AVANCE CONTRATADO","% AVANCE ENTREGADO","Total Compromisos 2021-2024"]
[1,"Usaquén",{"$f":"'Pond Programa'!AI4","v":2.1326784149384624E-2},{"$f":"'Pond Programa'!AJ4","v":1.9678254313083995E-2},{"$f":"C96","v":11838023684}]
[2,"Chapinero",{"$f":"'Pond Programa'!AI5","v":2.0388167247422494E-2},{"$f":"'Pond Programa'!AJ5","v":5.9035573961529753E-3},4044961800]
[3,"Santa Fe",{"$f":"'Pond Programa'!AI6","v":1.3010319952531952E-2},{"$f":"'Pond Programa'!AJ6","v":1.0569232331549015E-2},5005486175]
[4,"San Cristóbal",{"$f":"'Pond Programa'!AI7","v":2.6932044255524812E-2},{"$f":"'Pond Programa'!AJ7","v":2.5115880903045396E-2},13691254823]
[5,"Usme",{"$f":"'Pond Programa'!AI8","v":1.3947045321895338E-2},{"$f":"'Pond Programa'!AJ8","v":4.9071037575233109E-3},15717069326]
[6,"Tunjuelito",{"$f":"'Pond Programa'!AI9","v":1.2372750485782898E-2},{"$f":"'Pond Programa'!AJ9","v":8.6471686397463412E-3},7439845700]
[7,"Bosa",{"$f":"'Pond Programa'!AI10","v":2.6764329756368145E-2},{"$f":"'Pond Programa'!AJ10","v":2.2897252196002388E-2},18943195081]
[8,"Kennedy",{"$f":"'Pond Programa'!AI11","v":5.5513989700922148E-3},{"$f":"'Pond Programa'!AJ11","v":5.5513989700922148E-3},21579931504]
[9,"Fontibón",{"$f":"'Pond Programa'!AI12","v":1.8868877993063093E-2},{"$f":"'Pond Programa'!AJ12","v":7.239581537638819E-3},7513858947]
[10,"Engativá",{"$f":"'Pond Programa'!AI13","v":1.9607909954421136E-2},{"$f":"'Pond Programa'!AJ13","v":1.9607909954421136E-2},17305019100]
[11,"Suba",{"$f":"'Pond Programa'!AI14","v":2.0038818245643901E-2},{"$f":"'Pond Programa'!AJ14","v":1.4797209093252793E-2},19137418177]
[12,"Barrios Unidos",{"$f":"'Pond Programa'!AI15","v":3.4584534736978867E-2},{"$f":"'Pond Programa'!AJ15","v":2.4246626862419105E-2},6788564200]
[13,"Teusaquillo",{"$f":"'Pond Programa'!AI16","v":2.5491993320194063E-2},{"$f":"'Pond Programa'!AJ16","v":2.139781486353183E-2},3461264066]
[14,"Los Mártires",{"$f":"'Pond Programa'!AI17","v":3.2264311590247195E-2},{"$f":"'Pond Programa'!AJ17","v":2.4103997609517522E-2},4078549455]
[15,"Antonio Nariño",{"$f":"'Pond Programa'!AI18","v":2.9888362059010153E-2},{"$f":"'Pond Programa'!AJ18","v":2.0197168912999979E-2},4251732400]
[16,"Puente Aranda",{"$f":"'Pond Programa'!AI19","v":3.9533598745821727E-2},{"$f":"'Pond Programa'!AJ19","v":1.8777291905656145E-2},8243166011]
[17,"La Candelaria",{"$f":"'Pond Programa'!AI20","v":1.5369041494294031E-2},{"$f":"'Pond Programa'!AJ20","v":8.1550351884930334E-3},3697409500]
[18,"Rafael Uribe Uribe",{"$f":"'Pond Programa'!AI21","v":2.6477143054269632E-2},{"$f":"'Pond Programa'!AJ21","v":2.6477143054269632E-2},12773752800]
[19,"Ciudad Bolívar",{"$f":"'Pond Programa'!AI22","v":3.428033022045205E-2},{"$f":"'Pond Programa'!AJ22","v":2.9805624912617321E-2},20901083333]
[20,"Sumapaz",{"$f":"'Pond Programa'!AI23","v":4.189358624562013E-3},{"$f":"'Pond Programa'!AJ23","v":4.189358624562013E-3},5195212833]
[]
[]
[]
[]
[]
[]
[]
[]
[]
[]
[]
[]
[]
[]
[]
[]
[]
[]
[]
[]
[]
[]
[]
[]
[]
[]
[]
[]
[]
[]
[]
[]
[]
[]
[]
[]
[]
[]
[]
[]
[]
[]
[]
[]
[]
[]
[]
[]
[]
[]
[]
[]
[]
[]
[]
[]
[]
[]
[]
[]
[]
[]
[]
[]
[]
[]
[]
[]
[]
["Año_corte","2021_1"]
[]
["No. Localidad","Nombre Localidad ","Suma de Total Compromisos 2021-2024"]
[1,"Usaquén",11838023684]
[2,"Chapinero",4044961800]
[3,"Santa Fe",5005486175]
[4,"San Cristóbal",13691254823]
[5,"Usme",15717069326]
[6,"Tunjuelito",7439845700]
[7,"Bosa",18943195081]
[8,"Kennedy",21579931504]
[9,"Fontibón",7513858947]
[10,"Engativá",17305019100]
[11,"Suba",19137418177]
[12,"Barrios Unidos",6788564200]
[13,"Teusaquillo",3461264066]
[14,"Los Mártires",4078549455]
[15,"Antonio Nariño",4251732400]
[16,"Puente Aranda",8243166011]
[17,"La Candelaria",3697409500]
[18,"Rafael Uribe Uribe",12773752800]
[19,"Ciudad Bolívar",20901083333]
[20,"Sumapaz",5195212833]
["Total general",null,211606798915]
[]
[]
[]
[]
[]
[]
[]
[]
[]
[]
[]
["Año_corte","2021_1"]
[]
["No. Localidad","Nombre Localidad "]
[20,"Sumapaz"]
[19,"Ciudad Bolívar"]
[18,"Rafael Uribe Uribe"]
[17,"La Candelaria"]
[16,"Puente Aranda"]
[15,"Antonio Nariño"]
[14,"Los Mártires"]
[13,"Teusaquillo"]
[12,"Barrios Unidos"]
[11,"Suba"]
[10,"Engativá"]
[9,"Fontibón"]
[8,"Kennedy"]
[7,"Bosa"]
[6,"Tunjuelito"]
[5,"Usme"]
[4,"San Cristóbal"]
[3,"Santa Fe"]
[2,"Chapinero"]
[1,"Usaquén"]
["Total general"]

{"sheet":"IA03","index":32,"n_rows":491,"n_cols":7,"rows_kept":491,"cut":false,"hidden":true,"merged":[]}
["Año_corte","2021_1"]
[]
["No. Localidad","Nombre Localidad ","Código Eje/Pilar","Código Programa","Avance frente al programa Contratado","Avance frente al programa Entregado","Suma de CRITERIO 1"]
[1,"Usaquén",1,1,6.2499979908582443E-2,6.2499979908582443E-2,1]
[1,"Usaquén",1,6,3.4698949026665568E-3,0,1]
[1,"Usaquén",1,12,0,0,1]
[1,"Usaquén",1,14,0,0,1]
[1,"Usaquén",1,17,0,0,1]
[1,"Usaquén",1,20,0,0,1]
[1,"Usaquén",1,21,0,0,1]
[1,"Usaquén",1,24,0,0,1]
[1,"Usaquén",2,27,0,0,1]
[1,"Usaquén",2,28,0,0,1]
[1,"Usaquén",2,30,0,0,1]
[1,"Usaquén",2,33,0,0,1]
[1,"Usaquén",2,34,0,0,1]
[1,"Usaquén",2,38,0,0,1]
[1,"Usaquén",3,39,0,0,1]
[1,"Usaquén",3,40,0,0,1]
[1,"Usaquén",3,43,0.25,0.25,1]
[1,"Usaquén",3,45,0,0,1]
[1,"Usaquén",3,48,0,0,1]
[1,"Usaquén",4,49,0,0,1]
[1,"Usaquén",5,55,4.4096542143125209E-2,0,1]
[1,"Usaquén",5,56,0,0,0]
[1,"Usaquén",5,57,0.25,0.25,1]
[2,"Chapinero",1,1,0.24798880364918099,6.3964337549243216E-2,1]
[2,"Chapinero",1,6,0,0,1]
[2,"Chapinero",1,8,0,0,1]
[2,"Chapinero",1,12,0,0,1]
[2,"Chapinero",1,14,0,0,1]
[2,"Chapinero",1,17,0,0,1]
[2,"Chapinero",1,19,0,0,1]
[2,"Chapinero",1,20,0,0,1]
[2,"Chapinero",1,21,0,0,1]
[2,"Chapinero",1,23,0,0,1]
[2,"Chapinero",1,24,0,0,1]
[2,"Chapinero",2,27,0,0,1]
[2,"Chapinero",2,28,0,0,1]
[2,"Chapinero",2,30,0,0,1]
[2,"Chapinero",2,33,0,0,1]
[2,"Chapinero",2,34,0,0,1]
[2,"Chapinero",2,37,0,0,1]
[2,"Chapinero",2,38,0,0,1]
[2,"Chapinero",3,39,0,0,1]
[2,"Chapinero",3,40,0,0,1]
[2,"Chapinero",3,43,0,0,1]
[2,"Chapinero",3,45,0,0,1]
[2,"Chapinero",3,48,0.15416238437821173,0,1]
[2,"Chapinero",4,49,0,0,1.0000000000000002]
[2,"Chapinero",5,54,0,0,1]
[2,"Chapinero",5,55,0,0,1]
[2,"Chapinero",5,57,0.14429290037624734,0.1110134140356617,1]
[3,"Santa Fe",1,1,0.30120067312329912,0.2173375016282402,1]
[3,"Santa Fe",1,6,0,0,1]
[3,"Santa Fe",1,7,0,0,1]
[3,"Santa Fe",1,8,0,0,1]
[3,"Santa Fe",1,12,0,0,1]
[3,"Santa Fe",1,14,0,0,1]
[3,"Santa Fe",1,17,0,0,1]
[3,"Santa Fe",1,19,0,0,1]
[3,"Santa Fe",1,20,0,0,1]
[3,"Santa Fe",1,21,0,0,1]
[3,"Santa Fe",1,23,0,0,1]
[3,"Santa Fe",1,24,0,0,1]
[3,"Santa Fe",2,27,0,0,1]
[3,"Santa Fe",2,28,0,0,1]
[3,"Santa Fe",2,30,0,0,1]
[3,"Santa Fe",2,33,0,0,1]
[3,"Santa Fe",2,34,0,0,1]
[3,"Santa Fe",2,37,0,0,1]
[3,"Santa Fe",2,38,0,0,1]
[3,"Santa Fe",3,39,0,0,1]
[3,"Santa Fe",3,40,0,0,1]
[3,"Santa Fe",3,43,0.5,0.5,1]
[3,"Santa Fe",3,45,0,0,1]
[3,"Santa Fe",3,48,0,0,1]
[3,"Santa Fe",4,49,0,0,1]
[3,"Santa Fe",5,54,0,0,1]
[3,"Santa Fe",5,55,0,0,1]
[3,"Santa Fe",5,56,0,0,1]
[3,"Santa Fe",5,57,0.24876665022200295,0.24876665022200295,1]
[4,"San Cristóbal",1,1,0.25,0.20395147112745732,1]
[4,"San Cristóbal",1,6,0,0,0.99999999999999978]
[4,"San Cristóbal",1,8,0,0,1]
[4,"San Cristóbal",1,12,0,0,1]
[4,"San Cristóbal",1,14,0,0,1]
[4,"San Cristóbal",1,17,0,0,0.99999999999999989]
[4,"San Cristóbal",1,20,0,0,1]
[4,"San Cristóbal",1,21,0,0,0.99999999999999989]
[4,"San Cristóbal",1,24,0,0,1]
[4,"San Cristóbal",2,27,0,0,1]
[4,"San Cristóbal",2,28,0,0,1]
[4,"San Cristóbal",2,30,0,0,1]
[4,"San Cristóbal",2,33,0,0,1]
[4,"San Cristóbal",2,34,0,0,1]
[4,"San Cristóbal",2,38,0,0,1]
[4,"San Cristóbal",3,39,0,0,1]
[4,"San Cristóbal",3,40,0,0,1]
[4,"San Cristóbal",3,43,0.19072317723770005,0.19072317723770005,1]
[4,"San Cristóbal",3,45,8.6409395973154363E-2,8.6409395973154363E-2,1]
[4,"San Cristóbal",3,48,0,0,1]
[4,"San Cristóbal",4,49,0,0,1]
[4,"San Cristóbal",5,55,0,0,1]
[4,"San Cristóbal",5,56,0,0,0]
[4,"San Cristóbal",5,57,0.24885930088678079,0.24885930088678079,1]
[5,"Usme",1,1,0.13708231787145764,0.13708231787145764,1]
[5,"Usme",1,6,0,0,1.0000000000000002]
[5,"Usme",1,8,0,0,1]
[5,"Usme",1,12,0,0,1]
[5,"Usme",1,14,0,0,1]
[5,"Usme",1,17,0,0,1]
[5,"Usme",1,19,0,0,1]
[5,"Usme",1,20,0,0,1]
[5,"Usme",1,21,0,0,1]
[5,"Usme",1,23,0.25,0,1]
[5,"Usme",1,24,0,0,1]
[5,"Usme",2,27,0,0,1]
[5,"Usme",2,28,0,0,1]
[5,"Usme",2,30,0.12513935340022297,0,1]
[5,"Usme",2,33,0,0,1]
[5,"Usme",2,34,0,0,1]
[5,"Usme",2,37,0,0,1]
[5,"Usme",2,38,0,0,1]
[5,"Usme",3,39,0,0,1]
[5,"Usme",3,40,0,0,1]
[5,"Usme",3,43,0,0,1]
[5,"Usme",3,45,0,0,1]
[5,"Usme",3,48,0,0,1]
[5,"Usme",4,49,0,0,1]
[5,"Usme",5,54,0,0,1]
[5,"Usme",5,55,0,0,1]
[5,"Usme",5,57,0.16613136341737594,0,1]
[6,"Tunjuelito",1,1,0.25336942816479158,0.1589079013588324,1]
[6,"Tunjuelito",1,6,0,0,1]
[6,"Tunjuelito",1,8,0,0,1]
[6,"Tunjuelito",1,12,0,0,1]
[6,"Tunjuelito",1,14,0,0,1]
[6,"Tunjuelito",1,17,0,0,1]
[6,"Tunjuelito",1,20,0,0,1]
[6,"Tunjuelito",1,21,0,0,1]
[6,"Tunjuelito",1,24,0,0,1]
[6,"Tunjuelito",2,27,0,0,1]
[6,"Tunjuelito",2,28,0,0,1]
[6,"Tunjuelito",2,30,0,0,1]
[6,"Tunjuelito",2,33,0,0,1]
[6,"Tunjuelito",2,34,0,0,1]
[6,"Tunjuelito",2,38,0,0,1]
[6,"Tunjuelito",3,39,0,0,1]
[6,"Tunjuelito",3,40,0,0,1]
[6,"Tunjuelito",3,43,0.19163763066202091,0.19163763066202091,1]
[6,"Tunjuelito",3,45,0,0,1]
[6,"Tunjuelito",3,48,0,0,1]
[6,"Tunjuelito",4,49,0,0,1]
[6,"Tunjuelito",5,55,0,0,1]
[6,"Tunjuelito",5,56,0,0,1]
[6,"Tunjuelito",5,57,0.24797088379283691,0.24797088379283691,1]
[7,"Bosa",1,1,0.26071177271480084,0.16266264489391424,1]
[7,"Bosa",1,6,0,0,1]
[7,"Bosa",1,8,0,0,1]
[7,"Bosa",1,12,0,0,1]
[7,"Bosa",1,14,0,0,1]
[7,"Bosa",1,17,0,0,1]
[7,"Bosa",1,20,0,0,1]
[7,"Bosa",1,21,0,0,1]
[7,"Bosa",1,24,0,0,1]
[7,"Bosa",2,27,0,0,1]
[7,"Bosa",2,28,0,0,1]
[7,"Bosa",2,30,0,0,1]
[7,"Bosa",2,33,0,0,1]
[7,"Bosa",2,34,0,0,1]
[7,"Bosa",2,38,0,0,1]
[7,"Bosa",3,39,0,0,1]
[7,"Bosa",3,40,0,0,1]
[7,"Bosa",3,43,0.13464941384649415,0.13464941384649415,1]
[7,"Bosa",3,45,0,0,1]
[7,"Bosa",3,48,0,0,1]
[7,"Bosa",4,49,0,0,1]
[7,"Bosa",5,55,8.7214080233511716E-4,8.7214080233511716E-4,0.99999999999999989]
[7,"Bosa",5,57,0.25,0.25,1]
[8,"Kennedy",1,1,0.10930279284709664,0.10930279284709664,1]
[8,"Kennedy",1,6,0,0,1]
[8,"Kennedy",1,12,0,0,1]
[8,"Kennedy",1,14,0,0,1]
[8,"Kennedy",1,17,0,0,1]
[8,"Kennedy",1,20,0,0,1]
[8,"Kennedy",1,21,0,0,1]
[8,"Kennedy",1,24,0,0,1]
[8,"Kennedy",2,27,0,0,1]
[8,"Kennedy",2,28,0,0,1]
[8,"Kennedy",2,30,0,0,1]
[8,"Kennedy",2,33,0,0,1]
[8,"Kennedy",2,34,0,0,1]
[8,"Kennedy",2,38,0,0,1]
[8,"Kennedy",3,39,0,0,1]
[8,"Kennedy",3,40,0,0,1]
[8,"Kennedy",3,43,0,0,1]
[8,"Kennedy",3,45,0,0,1]
[8,"Kennedy",3,48,0,0,0.99999999999999978]
[8,"Kennedy",4,49,0,0,1]
[8,"Kennedy",5,55,0,0,1]
[8,"Kennedy",5,56,0,0,1]
[8,"Kennedy",5,57,0.25,0.25,1]
[9,"Fontibón",1,1,8.5272110234288753E-2,8.5272110234288753E-2,1]
[9,"Fontibón",1,6,0,0,1.0000000000000002]
[9,"Fontibón",1,8,0,0,1]
[9,"Fontibón",1,12,0,0,1]
[9,"Fontibón",1,14,0,0,1]
[9,"Fontibón",1,17,0,0,0.99999999999999989]
[9,"Fontibón",1,20,0,0,1]
[9,"Fontibón",1,21,0,0,1]
[9,"Fontibón",1,24,0,0,1]
[9,"Fontibón",2,27,0,0,0.99999999999999989]
[9,"Fontibón",2,28,0,0,1]
[9,"Fontibón",2,30,0,0,1]
[9,"Fontibón",2,33,0,0,1]
[9,"Fontibón",2,34,0,0,1]
[9,"Fontibón",2,38,0,0,1]
[9,"Fontibón",3,39,0,0,1]
[9,"Fontibón",3,40,0,0,1]
[9,"Fontibón",3,43,0,0,1]
[9,"Fontibón",3,45,0,0,1]
[9,"Fontibón",3,48,0,0,1]
[9,"Fontibón",4,49,0,0,1]
[9,"Fontibón",5,55,0,0,1]
[9,"Fontibón",5,57,0.24829434697855751,6.2073586744639378E-2,1]
[10,"Engativá",1,1,0.10004629731696026,0.10004629731696026,1]
[10,"Engativá",1,6,0,0,1]
[10,"Engativá",1,12,0,0,1]
[10,"Engativá",1,14,0,0,1]
[10,"Engativá",1,17,0,0,1]
[10,"Engativá",1,20,0,0,1]
[10,"Engativá",1,21,0,0,0.99999999999999989]
[10,"Engativá",1,24,0,0,1]
[10,"Engativá",2,27,0,0,1]
[10,"Engativá",2,28,0,0,1]
[10,"Engativá",2,30,0,0,1]
[10,"Engativá",2,33,0,0,1]
[10,"Engativá",2,34,0,0,1]
[10,"Engativá",2,38,0,0,1]
[10,"Engativá",3,39,0,0,1]
[10,"Engativá",3,40,0,0,1]
[10,"Engativá",3,43,0,0,1]
[10,"Engativá",3,45,0,0,1]
[10,"Engativá",3,48,0,0,1]
[10,"Engativá",4,49,0,0,1]
[10,"Engativá",5,55,0,0,1]
[10,"Engativá",5,57,0.25,0.25,1]
[11,"Suba",1,1,0.31563716310552636,0.16921027517098775,1]
[11,"Suba",1,6,0,0,1]
[11,"Suba",1,8,0,0,1]
[11,"Suba",1,12,0,0,1]
[11,"Suba",1,14,0,0,1]
[11,"Suba",1,17,0,0,1]
[11,"Suba",1,19,0,0,1]
[11,"Suba",1,20,0,0,1]
[11,"Suba",1,21,0,0,1]
[11,"Suba",1,23,0,0,1]
[11,"Suba",1,24,0,0,1]
[11,"Suba",2,27,0,0,1]
[11,"Suba",2,28,0,0,1]
[11,"Suba",2,30,0,0,1]
[11,"Suba",2,33,0,0,1]
[11,"Suba",2,34,0,0,1]
[11,"Suba",2,37,0,0,1]
[11,"Suba",2,38,0,0,1]
[11,"Suba",3,39,0,0,1]
[11,"Suba",3,40,0,0,1]
[11,"Suba",3,43,9.9961590167082767E-2,9.9961590167082767E-2,1]
[11,"Suba",3,45,0,0,1]
[11,"Suba",3,48,0,0,1]
[11,"Suba",4,49,0,0,1]
[11,"Suba",5,54,0,0,1]
[11,"Suba",5,55,0,0,1]
[11,"Suba",5,57,0.24920197023507529,0.24920197023507529,1]
[12,"Barrios Unidos",1,1,0.33287095364238412,7.0754966887417212E-2,1]
[12,"Barrios Unidos",1,6,0,0,1]
[12,"Barrios Unidos",1,8,0,0,1]
[12,"Barrios Unidos",1,12,0,0,1]
[12,"Barrios Unidos",1,14,0,0,1]
[12,"Barrios Unidos",1,17,0,0,0.99999999999999989]
[12,"Barrios Unidos",1,20,0,0,1]
[12,"Barrios Unidos",1,21,0,0,1]
[12,"Barrios Unidos",1,24,0,0,1]
[12,"Barrios Unidos",2,27,0,0,1]
[12,"Barrios Unidos",2,28,0,0,1]
[12,"Barrios Unidos",2,30,0.25,0.25,1]
[12,"Barrios Unidos",2,33,0,0,1]
[12,"Barrios Unidos",2,34,0,0,1]
[12,"Barrios Unidos",2,38,0,0,1]
[12,"Barrios Unidos",3,39,0,0,1]
[12,"Barrios Unidos",3,40,0,0,1]
[12,"Barrios Unidos",3,43,0.18697033898305085,0.18697033898305085,1]
[12,"Barrios Unidos",3,45,0,0,1]
[12,"Barrios Unidos",3,48,0,0,1]
[12,"Barrios Unidos",4,49,0,0,1]
[12,"Barrios Unidos",5,55,0,0,1]
[12,"Barrios Unidos",5,56,0,0,0]
[12,"Barrios Unidos",5,57,0.24924306435713278,0.24924306435713278,1]
[13,"Teusaquillo",1,1,4.5799038383179856E-2,4.1951919158992747E-2,1]
[13,"Teusaquillo",1,6,0,0,1]
[13,"Teusaquillo",1,12,0,0,1]
[13,"Teusaquillo",1,14,0,0,1]
[13,"Teusaquillo",1,17,0,0,1]
[13,"Teusaquillo",1,20,0,0,1]
[13,"Teusaquillo",1,21,0,0,1]
[13,"Teusaquillo",1,24,0,0,1]
[13,"Teusaquillo",2,27,0.28349916744445125,0.28349916744445125,1]
[13,"Teusaquillo",2,28,0,0,1]
[13,"Teusaquillo",2,30,0,0,1]
[13,"Teusaquillo",2,33,0,0,1]
[13,"Teusaquillo",2,34,0,0,1]
[13,"Teusaquillo",2,38,0,0,1]
[13,"Teusaquillo",3,39,0,0,1]
[13,"Teusaquillo",3,40,0,0,1]
[13,"Teusaquillo",3,43,0.5,0,1]
[13,"Teusaquillo",3,45,0.2075823887968373,0,1]
[13,"Teusaquillo",3,48,0,0,1]
[13,"Teusaquillo",4,49,0,0,1]
[13,"Teusaquillo",5,55,0,0,1]
[13,"Teusaquillo",5,57,0.24729146540749902,0.24729146540749902,1]
[14,"Los Mártires",1,1,0.3793425463501402,0.17501881371006361,1]
[14,"Los Mártires",1,6,0,0,1]
[14,"Los Mártires",1,12,0,0,1]
[14,"Los Mártires",1,14,0,0,1]
[14,"Los Mártires",1,17,0,0,1]
[14,"Los Mártires",1,20,0,0,1]
[14,"Los Mártires",1,21,0,0,1]
[14,"Los Mártires",1,24,0,0,1]
[14,"Los Mártires",2,27,0,0,1]
[14,"Los Mártires",2,28,0,0,1]
[14,"Los Mártires",2,30,0,0,1]
[14,"Los Mártires",2,33,0,0,1]
[14,"Los Mártires",2,34,0,0,1]
[14,"Los Mártires",2,38,0,0,1]
[14,"Los Mártires",3,39,0,0,1]
[14,"Los Mártires",3,40,0,0,1]
[14,"Los Mártires",3,43,0.25,0.25,1]
[14,"Los Mártires",3,45,0,0,1]
[14,"Los Mártires",3,48,0,0,1]
[14,"Los Mártires",4,49,0,0,1]
[14,"Los Mártires",5,55,0,0,1]
[14,"Los Mártires",5,56,0,0,0]
[14,"Los Mártires",5,57,0.24891027969487831,0.24891027969487831,1]
[15,"Antonio Nariño",1,1,0.36677308962445276,0.12105445050303357,1]
[15,"Antonio Nariño",1,6,0,0,1]
[15,"Antonio Nariño",1,8,0,0,1]
[15,"Antonio Nariño",1,12,0,0,1]
[15,"Antonio Nariño",1,14,0,0,1]
[15,"Antonio Nariño",1,17,0,0,1]
[15,"Antonio Nariño",1,20,0,0,1]
[15,"Antonio Nariño",1,21,0,0,1]
[15,"Antonio Nariño",1,24,0,0,1]
[15,"Antonio Nariño",2,27,0,0,1]
[15,"Antonio Nariño",2,30,0,0,1]
[15,"Antonio Nariño",2,33,0,0,1]
[15,"Antonio Nariño",2,34,0,0,1]
[15,"Antonio Nariño",2,38,0,0,1]
[15,"Antonio Nariño",3,39,0,0,1]
[15,"Antonio Nariño",3,40,0,0,1]
[15,"Antonio Nariño",3,43,0,0,1]
[15,"Antonio Nariño",3,45,0,0,1]
[15,"Antonio Nariño",3,48,0,0,1]
[15,"Antonio Nariño",4,49,0,0,1]
[15,"Antonio Nariño",5,55,0,0,1]
[15,"Antonio Nariño",5,57,0.24696571255183575,0.24696571255183575,1]
[16,"Puente Aranda",1,1,0.25,8.1295867310851727E-2,1]
[16,"Puente Aranda",1,6,2.8838604755495739E-2,0,1]
[16,"Puente Aranda",1,8,0,0,1]
[16,"Puente Aranda",1,12,0,0,1]
[16,"Puente Aranda",1,14,0,0,1]
[16,"Puente Aranda",1,17,0,0,1]
[16,"Puente Aranda",1,20,0.14725368668518912,0,1]
[16,"Puente Aranda",1,21,0,0,1]
[16,"Puente Aranda",1,24,0,0,1]
[16,"Puente Aranda",2,27,0,0,1]
[16,"Puente Aranda",2,28,0,0,1]
[16,"Puente Aranda",2,30,0,0,1]
[16,"Puente Aranda",2,33,0,0,1]
[16,"Puente Aranda",2,34,0,0,1]
[16,"Puente Aranda",2,38,0,0,1]
[16,"Puente Aranda",3,39,0,0,1]
[16,"Puente Aranda",3,40,0,0,1]
[16,"Puente Aranda",3,43,0.10869565217391304,1.0869565217391304E-2,1]
[16,"Puente Aranda",3,45,0,0,1]
[16,"Puente Aranda",3,48,0,0,1]
[16,"Puente Aranda",4,49,0,0,1]
[16,"Puente Aranda",5,55,0,0,1]
[16,"Puente Aranda",5,57,0.24824602432179607,0.24824602432179607,1]
[17,"La Candelaria",1,1,0.27658432646058639,9.5954916958562675E-2,1]
[17,"La Candelaria",1,6,0,0,0.99999999999999989]
[17,"La Candelaria",1,12,0,0,1]
[17,"La Candelaria",1,14,0,0,1]
[17,"La Candelaria",1,17,0,0,1]
[17,"La Candelaria",1,20,0,0,1]
[17,"La Candelaria",1,21,0,0,1]
[17,"La Candelaria",1,24,0,0,1]
[17,"La Candelaria",2,27,0,0,1]
[17,"La Candelaria",2,28,0,0,1]
[17,"La Candelaria",2,30,0,0,1]
[17,"La Candelaria",2,33,0,0,1]
[17,"La Candelaria",2,34,0,0,1]
[17,"La Candelaria",2,38,0,0,1]
[17,"La Candelaria",3,39,0,0,1]
[17,"La Candelaria",3,40,0,0,1]
[17,"La Candelaria",3,43,0.5,0.5,1]
[17,"La Candelaria",3,45,0,0,1]
[17,"La Candelaria",3,48,0,0,1]
[17,"La Candelaria",4,49,0,0,1]
[17,"La Candelaria",5,55,0,0,1]
[17,"La Candelaria",5,56,0,0,1]
[17,"La Candelaria",5,57,0.24936246667439432,0.24936246667439432,1]
[18,"Rafael Uribe Uribe",1,1,0.25,0.25,1]
[18,"Rafael Uribe Uribe",1,6,0,0,0.99999999999999989]
[18,"Rafael Uribe Uribe",1,8,0,0,1]
[18,"Rafael Uribe Uribe",1,12,0,0,1]
[18,"Rafael Uribe Uribe",1,14,0,0,1]
[18,"Rafael Uribe Uribe",1,17,0,0,1]
[18,"Rafael Uribe Uribe",1,20,0,0,1]
[18,"Rafael Uribe Uribe",1,21,0,0,1]
[18,"Rafael Uribe Uribe",1,24,0,0,1]
[18,"Rafael Uribe Uribe",2,27,0,0,1]
[18,"Rafael Uribe Uribe",2,28,0,0,1]
[18,"Rafael Uribe Uribe",2,30,0,0,1]
[18,"Rafael Uribe Uribe",2,33,0,0,1]
[18,"Rafael Uribe Uribe",2,34,0,0,1]
[18,"Rafael Uribe Uribe",2,38,0,0,1]
[18,"Rafael Uribe Uribe",3,39,0,0,1]
[18,"Rafael Uribe Uribe",3,40,0,0,1]
[18,"Rafael Uribe Uribe",3,43,0.17575534266764922,0.17575534266764922,1]
[18,"Rafael Uribe Uribe",3,45,0,0,1]
[18,"Rafael Uribe Uribe",3,48,0,0,1]
[18,"Rafael Uribe Uribe",4,49,0,0,1]
[18,"Rafael Uribe Uribe",5,55,0,0,1]
[18,"Rafael Uribe Uribe",5,57,0.24841777158950668,0.24841777158950668,1]
[19,"Ciudad Bolívar",1,1,0.25,0.12499694204564914,1]
[19,"Ciudad Bolívar",1,6,0,0,1]
[19,"Ciudad Bolívar",1,8,0,0,1]
[19,"Ciudad Bolívar",1,12,0,0,1]
[19,"Ciudad Bolívar",1,14,0,0,1]
[19,"Ciudad Bolívar",1,17,0,0,1]
[19,"Ciudad Bolívar",1,19,0,0,1]
[19,"Ciudad Bolívar",1,20,0,0,1]
[19,"Ciudad Bolívar",1,21,0,0,1]
[19,"Ciudad Bolívar",1,23,0,0,1]
[19,"Ciudad Bolívar",1,24,0,0,1]
[19,"Ciudad Bolívar",2,27,0,0,1]
[19,"Ciudad Bolívar",2,28,0,0,1]
[19,"Ciudad Bolívar",2,30,0,0,1]
[19,"Ciudad Bolívar",2,33,0,0,1]
[19,"Ciudad Bolívar",2,34,0,0,1]
[19,"Ciudad Bolívar",2,37,0,0,1]
[19,"Ciudad Bolívar",2,38,0,0,1]
[19,"Ciudad Bolívar",3,39,0,0,1]
[19,"Ciudad Bolívar",3,40,0,0,1]
[19,"Ciudad Bolívar",3,43,0,0,1]
[19,"Ciudad Bolívar",3,45,0,0,1]
[19,"Ciudad Bolívar",3,48,0,0,0.99999999999999989]
[19,"Ciudad Bolívar",4,49,0,0,1]
[19,"Ciudad Bolívar",5,54,0.4,0.4,1]
[19,"Ciudad Bolívar",5,55,0,0,1]
[19,"Ciudad Bolívar",5,57,0.24873432099566747,0.24873432099566747,1]
[20,"Sumapaz",1,1,4.4050263813490888E-3,4.4050263813490888E-3,1]
[20,"Sumapaz",1,6,0,0,1.0000000000000002]
[20,"Sumapaz",1,8,0,0,1]
[20,"Sumapaz",1,12,0,0,1]
[20,"Sumapaz",1,14,0,0,1]
[20,"Sumapaz",1,17,0,0,1]
[20,"Sumapaz",1,19,0,0,1]
[20,"Sumapaz",1,20,0,0,1]
[20,"Sumapaz",1,21,0,0,1]
[20,"Sumapaz",1,23,0,0,1]
[20,"Sumapaz",1,24,0,0,1]
[20,"Sumapaz",2,27,0,0,1]
[20,"Sumapaz",2,28,0,0,1]
[20,"Sumapaz",2,30,0,0,1]
[20,"Sumapaz",2,33,0,0,1]
[20,"Sumapaz",2,34,0,0,1]
[20,"Sumapaz",2,37,0,0,1]
[20,"Sumapaz",2,38,0,0,1]
[20,"Sumapaz",3,39,0,0,1]
[20,"Sumapaz",3,40,0,0,1]
[20,"Sumapaz",3,43,0,0,1]
[20,"Sumapaz",3,45,0,0,1]
[20,"Sumapaz",3,48,0,0,0.99999999999999989]
[20,"Sumapaz",4,49,0,0,1]
[20,"Sumapaz",5,54,0.5,0.5,1]
[20,"Sumapaz",5,55,0,0,1]
[20,"Sumapaz",5,56,0,0,1]
[20,"Sumapaz",5,57,0.24733801197894609,0.24733801197894609,1]
["Total general",null,null,null,14.636629558278212,10.849413219352968,483]

{"sheet":"Indicadores agregados","index":33,"n_rows":107,"n_cols":20,"rows_kept":107,"cut":false,"hidden":true,"merged":[]}
[]
["Año_corte","2021_1"]
[]
["Sector relacionado ","Código Indicador ","Nombre Indicador ","Magnitud contratada 2021 ","Magnitud entregada 2021","Compromisos 2021","Magnitud contratada 2022","Magnitud entregada 2022","Compromisos 2022","Magnitud contratada 2023","Magnitud entregada 2023","Compromisos 2023","Magnitud contratada 2024","Magnitud entregada 2024","Compromisos 2024","Magn 2021-2024 normalizada"]
["AMBIENTE",19,"Número acciones de fomento para la agricultura urbana",0,0,329320667,0,0,0,0,0,0,0,0,0,1225]
["AMBIENTE",38,"Número de PROCEDAS implementados ",1,1,615955666,0,0,0,0,0,0,0,0,0,985]
["AMBIENTE",39,"m2 de muros y techos verdes",0,0,50433993,0,0,0,0,0,0,0,0,0,4484]
["AMBIENTE",40,"m2 de jardinería y coberturas verdes",0,0,null,0,0,0,0,0,0,0,0,0,62080]
["AMBIENTE",41,"Hectáreas en restauración, rehabilitación o recuperación ecológica y mantenimiento ",0,0,568980000,0,0,0,0,0,0,0,0,0,176.01]
["AMBIENTE",42,"Acciones efectivas para el fortalecimiento de las capacidades locales para la respuesta a emergencias y desastres",2,1,370604000,0,0,0,0,0,0,0,0,0,160]
["AMBIENTE",43,"Intervenciones para la reducción del riesgo y adaptación al cambio climático",0,0,235093333,0,0,0,0,0,0,0,0,0,43]
["AMBIENTE",44,"Número de árboles mantenidos",0,0,199745233,0,0,0,0,0,0,0,0,0,75653]
["AMBIENTE",45,"Número de árboles plantados",0,0,68052000,0,0,0,0,0,0,0,0,0,26226]
["AMBIENTE",48,"Número de animales atendidos",0,0,553323333,0,0,0,0,0,0,0,0,0,234907]
["AMBIENTE / DESARROLLO ECONÓMICO",17,"Número de Predios rurales con asistencia técnica agropecuaria y/o ambiental",100,0,268536683,0,0,0,0,0,0,0,0,0,1900]
["AMBIENTE / DESARROLLO ECONÓMICO",18,"Número  de hogares y/o unidades productivas vinculadas a procesos productivos y de comercialización en el sector rural",20,0,127536685,0,0,0,0,0,0,0,0,0,424]
["CULTURA, RECREACIÓN Y DEPORTE",10,"Personas vinculadas en actividades recreo-deportivas comunitarias",1500,0,507038016,0,0,0,0,0,0,0,0,0,191435]
["CULTURA, RECREACIÓN Y DEPORTE",11,"Personas capacitadas en los campos deportivos",1000,0,291595000,0,0,0,0,0,0,0,0,0,37780]
["CULTURA, RECREACIÓN Y DEPORTE",12,"Personas beneficiadas con artículos entregados.",0,0,489499991,0,0,0,0,0,0,0,0,0,19433]
["CULTURA, RECREACIÓN Y DEPORTE",13,"Eventos de promoción de actividades culturales realizadas",0,0,63325000,0,0,0,0,0,0,0,0,0,505]
["CULTURA, RECREACIÓN Y DEPORTE",14,"Estímulos otorgados de apoyo al sector artístico y cultural ",0,0,481800000,0,0,0,0,0,0,0,0,0,1766]
["CULTURA, RECREACIÓN Y DEPORTE",15,"Personas capacitadas en los campos artísticos, interculturales, culturales y/o patrimoniales",0,0,11475000,0,0,0,0,0,0,0,0,0,31547]
["CULTURA, RECREACIÓN Y DEPORTE",16,"Sedes dotadas/Sedes adecuadas",0,0,266311584,0,0,0,0,0,0,0,0,0,77]
["CULTURA, RECREACIÓN Y DEPORTE",20,"Número de proyectos financiados y acompañados del sector cultural y creativo.",0,0,199719280,0,0,0,0,0,0,0,0,0,946]
["CULTURA, RECREACIÓN Y DEPORTE",46,"m2 de Parques vecinales y/o de bolsillo construidos y dotados",0,0,208240000,0,0,0,0,0,0,0,0,0,29400]
["CULTURA, RECREACIÓN Y DEPORTE",47,"Número de Parques vecinales y/o de bolsillo intervenidos en mejoramiento, mantenimiento y/o dotación",0,0,611909700,0,0,0,0,0,0,0,0,0,1036]
["DESARROLLO ECONÓMICO, INDUSTRIA Y TURISMO",21,"Número de Mipymes y/o emprendimientos culturales y creativos apoyados",0,0,1302085122,0,0,0,0,0,0,0,0,0,7591]
["DESARROLLO ECONÓMICO, INDUSTRIA Y TURISMO",22,"Número de Mipymes y/o emprendimientos con procesos de reconversión hacia actividades sostenibles",0,0,246262925,0,0,0,0,0,0,0,0,0,6156]
["DESARROLLO ECONÓMICO, INDUSTRIA Y TURISMO",23,"Número de Mipymes y/o emprendimientos con transformacion empresarial y/o productiva",5,0,1164429790,0,0,0,0,0,0,0,0,0,12520]
["DESARROLLO ECONÓMICO, INDUSTRIA Y TURISMO",24,"Número de Mipymes  y/o emprendimientos revitalizadas o potencializadas dentro de las aglomeraciones económicas que fomentan el empleo y/o nuevas actividades económicas",0,0,665028797,0,0,0,0,0,0,0,0,0,7786]
["DESARROLLO ECONÓMICO, INDUSTRIA Y TURISMO",85,"NO APLICA",0,0,null,0,0,0,0,0,0,0,0,0,1000]
["EDUCACIÓN",3,"Proyectos para el desarrollo integral de la primera infancia y la relación escuela, familia y comunidad.",0,0,247755000,0,0,0,0,0,0,0,0,0,516]
["EDUCACIÓN",4,"Sedes educativas urbanas y rurales dotadas",0,0,null,0,0,0,0,0,0,0,0,0,421]
["EDUCACIÓN",5,"Personas beneficiadas con  apoyo para la educación superior",0,0,841176333,0,0,0,0,0,0,0,0,0,5364]
["EDUCACIÓN",6,"Número de estudiantes de programas de educación superior con apoyo de sostenimiento para la permanencia.",0,0,101938334,0,0,0,0,0,0,0,0,0,7275]
["GESTIÓN PÚBLICA",52,"Personas vinculadas a procesos de construcción de memoria, verdad, reparación integral a víctimas, paz y reconciliación",0,0,355834801,0,0,0,0,0,0,0,0,0,21021]
["GESTIÓN PÚBLICA",74,"Centros de Acceso Comunitario en zonas rurales y/o apartadas funcionando ",11,11,278000000,0,0,0,0,0,0,0,0,0,90]
["GOBIERNO",58,"Acuerdos realizados para el uso del EP con fines culturales, deportivos, recreacionales o de mercados temporales.",3,2,464957900,0,0,0,0,0,0,0,0,0,106]
["GOBIERNO",59,"Acuerdos realizados para la promover la formalización de vendedores informales a circulos económicos productivos de la ciudad",0,0,294803334,0,0,0,0,0,0,0,0,0,83]
["GOBIERNO",60,"Acuerdos realizados para la vinculación de la ciudadanía en los programas adelantados por el IDRD y acuerdos con vendedores informales o estacionarios ",2,0,72321033,0,0,0,0,0,0,0,0,0,141]
["GOBIERNO",75,"Sedes intervenidas de salones comunales.",0,0,null,0,0,0,0,0,0,0,0,0,285]
["GOBIERNO",76,"Sedes dotadas de salones comunales.",0,0,null,0,0,0,0,0,0,0,0,0,548]
["GOBIERNO",77,"Sedes construidas de salones comunales",0,0,93102038,0,0,0,0,0,0,0,0,0,17]
["GOBIERNO",78,"Número de Personas capacitadas a través de procesos de formación para la participación de manera virtual y presencial.",120,0,781617913,0,0,0,0,0,0,0,0,0,22109]
["GOBIERNO",79,"Número de Organizaciones, JAC e Instancias de participación ciudadana fortalecidas.",1,1,1604785476,0,0,0,0,0,0,0,0,0,3889]
["GOBIERNO",80,"Sedes administrativas locales terminadas.",0,0,65000000,0,0,0,0,0,0,0,0,0,2]
["GOBIERNO",81,"Sedes administrativas locales construidas.",0,0,52000000,0,0,0,0,0,0,0,0,0,8]
["GOBIERNO",82,"Estrategias de fortalecimiento institucional realizadas",20,17.25,64656735869,0,0,0,0,0,0,0,0,0,80]
["GOBIERNO",83,"Número de Rendiciones de cuentas anuales.",4,4,47883670,0,0,0,0,0,0,0,0,0,20]
["GOBIERNO",84,"Acciones de inspección, vigilancia y control realizadas",18,17.25,22021131933,0,0,0,0,0,0,0,0,0,96]
["HÁBITAT",9,"Viviendas de interés social rurales mejoradas ",0,0,133800000,0,0,0,0,0,0,0,0,0,690]
["HÁBITAT",49,"Número de acueductos verdales asistidos o intervenidos técnica u organizacionalmente.",0,0,null,0,0,0,0,0,0,0,0,0,23]
["HÁBITAT",50,"Personas capacitadas en separación en la fuente y reciclaje",0,0,558145668,0,0,0,0,0,0,0,0,0,122618]
["HÁBITAT",51,"Acciones con energías alternativas para el área rural realizadas.",0,0,null,0,0,0,0,0,0,0,0,0,139]
["INTEGRACIÓN SOCIAL",1,"Hogares atendidos con apoyos que contribuyan al ingreso mínimo garantizado",52475,0,60733587000,0,0,0,0,0,0,0,0,0,241058]
["INTEGRACIÓN SOCIAL",2,"Número de personas mayores con apoyo económico tipo C",45720,45646,37674094212,0,0,0,0,0,0,0,0,0,46707]
["INTEGRACIÓN SOCIAL",7,"Sedes de Casas de juventud dotadas",0,0,22000000,0,0,0,0,0,0,0,0,0,13]
["INTEGRACIÓN SOCIAL",8,"Sedes de atención a adolescentes y jovenes vinculados al sistema de responsabilidad penal adolescente dotados.",0,0,null,0,0,0,0,0,0,0,0,0,11]
["INTEGRACIÓN SOCIAL",25,"Número de Personas formadas u orientadas o sensibilizadas en prevención de violencia intrafamiliar y/o violencia sexual.            ",300,0,670623000,0,0,0,0,0,0,0,0,0,95069]
["INTEGRACIÓN SOCIAL",26,"Centros de atención especializada dotados",0,0,null,0,0,0,0,0,0,0,0,0,16]
["INTEGRACIÓN SOCIAL",27,"Sedes de Centros de Desarrollo comunitarios dotados",0,0,null,0,0,0,0,0,0,0,0,0,16]
["INTEGRACIÓN SOCIAL",28,"Sedes de atención a la primera infancia y/o adolescencia dotadas.",0,0,null,0,0,0,0,0,0,0,0,0,435]
["INTEGRACIÓN SOCIAL",29,"Unidades Operativas de los Centros de Atención Integral a la Diversidad Sexual y de Géneros dotadas",0,0,null,0,0,0,0,0,0,0,0,0,2]
["INTEGRACIÓN SOCIAL",86,"Niños y niñas de cero a cinco años de los hogares de bienestar familiar del ICBF de la localidad de Fontibón con contribución en sus procesos nutricionales",0,0,null,0,0,0,0,0,0,0,0,0,4000]
["MOVILIDAD",69,"Metros cuadrados construidos y/o conservados de elementos del sistema de espacio público peatonal.",0,0,1001001422,0,0,0,0,0,0,0,0,0,86421]
["MOVILIDAD",70,"Metros cuadrados de Puentes vehiculares y/o peatonales de escala local sobre cuerpos de agua construidos y/o intervenidos",0,0,153697000,0,0,0,0,0,0,0,0,0,60867]
["MOVILIDAD",71,"Kilómetros-carril construidos y/o conservados de malla vial urbana (local y/o intermedia)",0,0,1866503334,0,0,0,0,0,0,0,0,0,85.3]
["MOVILIDAD",72,"Kilómetros-carril construidos y/o conservados de malla vial rural",0,0,959621603,0,0,0,0,0,0,0,0,0,9.1999999999999993]
["MOVILIDAD",73,"Metros lineales construidos y/o conservados de Ciclo-infraestructura",0,0,244859282,0,0,0,0,0,0,0,0,0,51259]
["SALUD",31,"Número de personas con discapacidad, cuidadadores y cuidadoras, vinculados en actividades alernativas de salud.",0,0,80200000,0,0,0,0,0,0,0,0,0,9250]
["SALUD",32,"Números de personas vinculadas a las acciones desarrolladas desde los dispositivos de base comunitaria en respuesta al consumo de SPA.",0,0,27000000,0,0,0,0,0,0,0,0,0,18072]
["SALUD",33,"Número de personas con discapacidad beneficiadas con Dispostivos de Asistencia Personal - Ayudas Técnicas (no incluidas en los Planes de Beneficios).",0,0,229190000,0,0,0,0,0,0,0,0,0,15089]
["SALUD",34,"Número de personas vinculadas a las acciones y estrategias de reconocimiento de los saberes ancestrales en medicina.",0,0,5000000,0,0,0,0,0,0,0,0,0,12225]
["SALUD",35,"Número de mujeres gestantes, niños y niñas, migrantes irregulares, vinvulados en acciones de protección específica y detección temprana.",0,0,5000000,0,0,0,0,0,0,0,0,0,4342]
["SALUD",36,"Número de personas vinculadas en las acciones complementarias de la estrategia territorial de salud.",0,0,372748666,0,0,0,0,0,0,0,0,0,17826]
["SALUD",37,"Número de personas vinculadas a las acciones y estrategias para la prevención del embarazo adolescente",0,0,39330000,0,0,0,0,0,0,0,0,0,13300]
["SEGURIDAD, CONVIVENCIA Y JUSTICIA",55,"Estrategia de atención de movilizaciones y aglomeraciones en el territorio implementada a traves de equipos de gestores de convivencia bajo el direccionamiento estrategico de la Secretaria de Seguridad, Convivencia y Justicia",18,16.100000000000001,3013104767,0,0,0,0,0,0,0,0,0,147]
["SEGURIDAD, CONVIVENCIA Y JUSTICIA",56,"Número de personas formadas en la escuela de seguridad",0,0,null,0,0,0,0,0,0,0,0,0,15142]
["SEGURIDAD, CONVIVENCIA Y JUSTICIA",57,"Personas incluidas en actividades de educación para la resiliencia y la prevención de hechos delictivos. ",0,0,214477200,0,0,0,0,0,0,0,0,0,26736]
["SEGURIDAD, CONVIVENCIA Y JUSTICIA",61,"Beneficiarios de las estrategias para el fortalecimiento  de los mecanismos  de justicia comunitaria.",0,0,66990000,0,0,0,0,0,0,0,0,0,28400]
["SEGURIDAD, CONVIVENCIA Y JUSTICIA",62,"Personas atendidas en estrategias de acceso a la justicia integral en la ciudad.",0,0,25000000,0,0,0,0,0,0,0,0,0,20450]
["SEGURIDAD, CONVIVENCIA Y JUSTICIA",63,"Instituciones educativas vinculadas al programa pedagógico de resolución de conflictos en la comunidad escolar.",0,0,5000000,0,0,0,0,0,0,0,0,0,285]
["SEGURIDAD, CONVIVENCIA Y JUSTICIA",64,"Estrategia local de acciones pedagógicas del Código Nacional de Seguridad y Convivencia Ciudadana implementada en la localidad.",0,0,128420000,0,0,0,0,0,0,0,0,0,26]
["SEGURIDAD, CONVIVENCIA Y JUSTICIA",65,"Dotaciones tecnológicas suministradas a organismos de seguridad.",1,0,389500000,0,0,0,0,0,0,0,0,0,217]
["SEGURIDAD, CONVIVENCIA Y JUSTICIA",66,"Dotaciones logísticas suministradas a organismos de seguridad.",0,0,90615000,0,0,0,0,0,0,0,0,0,2065]
["SEGURIDAD, CONVIVENCIA Y JUSTICIA",67,"Dotaciones de equipos especiales de protección  suministradas a organismos de seguridad.",0,0,null,0,0,0,0,0,0,0,0,0,374]
["SEGURIDAD, CONVIVENCIA Y JUSTICIA",68,"Dotación del parque automotor suministrada a organismos de seguridad.",0,0,null,0,0,0,0,0,0,0,0,0,18]
["MUJERES",30,"Mujeres cuidadoras vinculadas a estrategias de cuidado",0,0,83742000,0,0,0,0,0,0,0,0,0,38046]
["MUJERES",53,"Personas capacitadas para la construcción de ciudadanía y desarrollo de capacidades para el ejercicio de derechos de las mujeres.",0,0,409705329,0,0,0,0,0,0,0,0,0,39619]
["MUJERES",54,"Número de Personas vinculadas en acciones para la prevención del feminicidio y la violencia contra la mujer",0,0,528498000,0,0,0,0,0,0,0,0,0,66409]
["Total general",null,null,101321,45716.6,211606798915,0,0,0,0,0,0,0,0,0,1856788.51]
[]
[]
[]
[]
[]
[]
[]
[]
[]
[]
[]
[]
[]
[]
[]
[null,null,null,null,null,null,null,null,null,null,null,null,null,null,null,null,null,null,null,{"$f":"VLOOKUP(B2,FECHAS,2,0)","v":"Marzo 31 de 2021"}]

{"sheet":"listas","index":34,"n_rows":242,"n_cols":31,"rows_kept":242,"cut":false,"hidden":true,"merged":[]}
[]
[null,null,null,null,"Anualización"]
[null,null,null,null,"Suma"]
[null,null,null,null,"Constante"]
[]
[]
[]
[]
[null,null,null,"Usaquén",1]
[null,null,null,"Chapinero",2]
[null,null,null,"Santa Fe",3]
[null,null,null,"San Cristóbal",4]
[null,null,null,"Usme",5]
[null,null,null,"Tunjuelito",6]
[null,null,null,"Bosa",7]
[null,null,null,"Kennedy",8]
[null,null,null,"Fontibón",9]
[null,null,null,"Engativá",10]
[null,null,null,"Suba",11]
[null,null,null,"Barrios Unidos",12]
[null,null,null,"Teusaquillo",13]
[null,null,null,"Los Mártires",14]
[null,null,null,"Antonio Nariño",15]
[null,null,null,"Puente Aranda",16]
[null,null,null,"La Candelaria",17]
[null,null,null,"Rafael Uribe Uribe",18]
[null,null,null,"Ciudad Bolívar",19]
[null,null,null,"Sumapaz",20]
[]
[]
[]
[]
[null,null,null,"Marzo 31 de 2021",1]
[null,null,null,"Junio 30 de 2021",2]
[null,null,null,"Septiembre 30 de 2021",3]
[null,null,null,"Diciembre 31 de 2021",4]
[null,null,null,"Marzo 31 de 2022",5]
[null,null,null,"Junio 30 de 2022",6]
[null,null,null,"Septiembre 30 de 2022",7]
[null,null,null,"Diciembre 31 de 2022",8]
[null,null,null,"Marzo 31 de 2023",9]
[null,null,null,"Junio 30 de 2023",10]
[null,null,null,"Septiembre 30 de 2023",11]
[null,null,null,"Diciembre 31 de 2023",12]
[null,null,null,"Marzo 31 de 2024",13]
[null,null,null,"Junio 30 de 2024",14]
[null,null,null,"Septiembre 30 de 2024",15]
[null,null,null,"Diciembre 31 de 2024",16]
[]
[]
[]
[]
[]
[]
[null,null,null,"SI"]
[null,null,null,"NO"]
[]
[]
[]
[null,null,null,"SI","NO"]
[null,null,null,"Polígono","Local"]
[null,null,null,"Barrio"]
[null,null,null,"UPZ"]
[null,null,null,"Territorio estratégico intra y supra local"]
[]
[]
[]
[]
[]
[null,null,null,"codigo_pilar_eje","nombre_pilar_eje"]
[null,null,null,1,"Pilar Igualdad de calidad de vida",1]
[null,null,null,2,"Pilar Democracia urbana",2]
[null,null,null,3,"Pilar Construcción de comunidad y cultura ciudadana",3]
[null,null,null,4,"Eje transversal Nuevo ordenamiento territorial",4]
[null,null,null,5,"Eje transversal Desarrollo económico basado en el conocimiento",5]
[null,null,null,6,"Eje transversal Sostenibilidad ambiental basada en la eficiencia energética",6]
[null,null,null,7,"Eje transversal Gobierno legítimo, fortalecimiento local y eficiencia",7]
[]
[]
[]
[null,null,null,"codigo_sector","bt_desc_codigo_sector"]
[null,null,null,100,"Sector Mujeres",100]
[null,null,null,102,"Sector Seguridad, Convivencia y Justicia",102]
[null,null,null,85,"Sector Gestión pública",85]
[null,null,null,87,"Sector Hacienda",87]
[null,null,null,88,"Sector Planeación",88]
[null,null,null,89,"Sector Desarrollo económico, industria y turismo",89]
[null,null,null,90,"Sector Educación",90]
[null,null,null,91,"Sector Salud",91]
[null,null,null,92,"Sector Integración social",92]
[null,null,null,93,"Sector Cultura, recreación y deporte",93]
[null,null,null,94,"Sector Ambiente",94]
[null,null,null,95,"Sector Movilidad",95]
[null,null,null,96,"Sector Hábitat",96]
[null,null,null,98,"Sector Gobierno",98]
[]
[]
[]
[]
[]
[]
[]
[]
[]
[]
[]
[]
[]
[]
[]
[]
[]
[]
[]
[]
[null,null,null,null,null,null,null,null,null,"Código sector","Sector relacionado ","No PILAR O ET","PILAR/EJE PLAN DE DESARROLLO DISTRITAL","No.","PROGRAMA","LÍNEA DE INVERSIÓN","CONCEPTO LINEA DE INVERSION","COMPONENTE ","Nombre Indicador ","Código Indicador ","Código producto","Producto PMR","Cod. Meta PDD","Nombre meta Resultado plan de Desarrollo Distrital asociada","Cod. Meta PDD","Nombre meta Producto plan de Desarrollo Distrital asociada","Observaciones","Cod. PP","Política Pública Distrital","Eje Estructurante / Dimensión/  Líneas de Acción / Eje Temático"]
[null,null,null,null,null,null,null,null,null,92,"Sector Integración social",1,"Igualdad en calidad de vida",2,"Desarrollo integral desde la gestación hasta la adolescencia","Adecuación","Dotación pedagógica y adecuación de jardines infantiles","ADECUACIÓN DE ESPACIOS","Jardines infantiles adecuados",1,2,"Adecuación , habilitación y dotación de jardines",10,"Alcanzar 159.054 cupos para la atención integral de niños y niñas de primera infancia con estándares de calidad superiores al 80% en el ámbito institucional.",382,"83.000 cupos para la atención integral de niños y niñas de 4 y 5 años",null,38,"Política Pública de Infancia y Adolescencia de Bogotá D.C.","2. Bogotá construye ciudad con los niños y las niñas y los/las adolescentes"]
[null,null,null,null,null,null,null,null,null,92,"Sector Integración social",1,"Igualdad en calidad de vida",2,"Desarrollo integral desde la gestación hasta la adolescencia","Dotación","Dotación pedagógica y adecuación de jardines infantiles","DOTACIÓN","Jardines infantiles dotados",2,2,"Adecuación , habilitación y dotación de jardines",10,"Alcanzar 159.054 cupos para la atención integral de niños y niñas de primera infancia con estándares de calidad superiores al 80% en el ámbito institucional.",382,"83.000 cupos para la atención integral de niños y niñas de 4 y 5 años",null,38,"Política Pública de Infancia y Adolescencia de Bogotá D.C.","2. Bogotá construye ciudad con los niños y las niñas y los/las adolescentes"]
[null,null,null,null,null,null,null,null,null,92,"Sector Integración social",1,"Igualdad en calidad de vida",2,"Desarrollo integral desde la gestación hasta la adolescencia","Atención a población vulnerable","Prevención de violencia infantil y promoción del buen trato","BUEN TRATO INFANTIL","Personas vinculadas a acciones de promoción del buen trato infantil",3,1,"Protección integral a niños y niñas y adolescentes",6,"Alcanzar 232.687 cupos de ámbitos institucionales y de los programas del orden nacional relacionados con la atención integral de niños, niñas y de primera infancia, en el marco de la RIA.",298,"76.241 cupos para atender niños y niñas de 0 a 5 años en el marco de la Ruta Integral de Atenciones",null,38,"Política Pública de Infancia y Adolescencia de Bogotá D.C.","1. Niños, niñas y adolescentes en ciudadanía plena"]
[null,null,null,null,null,null,null,null,null,92,"Sector Integración social",1,"Igualdad en calidad de vida",3,"Igualdad y autonomía para una Bogotá incluyente","Atención a población vulnerable","Subsidio C a persona mayor","SUBSIDIO TIPO C","Personas con subsidio tipo C  beneficiadas",4,2,"Protección  integral a personas y familias en situación de vulneración",27,"Incrementar en un 25% la vinculación de personas mayores en procesos de fortalecimiento de sus proyectos de vida a través de los servicios de la SDIS",306," Entregar a 90.318 personas mayores en situación de vulnerabilidad socioeconómica apoyos económicos ",null,39,"Política Pública Social para el Envejecimiento y la Vejez en el D.C. 2010 - 2026","2. Vivir bien en la vejez"]
[null,null,null,null,null,null,null,null,null,91,"Sector Salud",1,"Igualdad en calidad de vida",3,"Igualdad y autonomía para una Bogotá incluyente","Atención a población vulnerable","Ayudas Técnicas a personas con discapacidad (no incluidas en el POS)","AYUDAS TÉCNICAS"," Personas beneficiadas con ayudas técnicas no POS ",5,3,"Promoción, prevención e intervención en salud",34,"Incrementar a 2.000 personas con discapacidad con procesos de inclusión efectivos en el Distrito.",null,null,null,40,"Política Pública de Discapacidad para el Distrito Capital","1. Desarrollo de capacidades y oportunidades"]
[null,null,null,null,null,null,null,null,null,94,"Sector Ambiente",1,"Igualdad en calidad de vida",4,"Familias protegidas y adaptadas al cambio climático","Obras prioritarias de mitigación o prevención de riesgo","Obras de intervención de puntos críticos identificados con problemas de inundación, deslizamiento y remoción en masa","OBRAS DE MITIGACIÓN"," Obras de mitigación de riesgo realizadas  ",6,24,"Gestión para la prevención y mitigación del riesgo",50,"Beneficiar a 8.750 familias localizadas en zonas de riesgo mitigable por fenómenos de remoción en masa, con obras de mitigación",432," Construcción de 16 obras de mitigación ",null,32,"Plan Distrital para la Prevención y Atención de Emergencias para Bogotá D.C.\"","3. Mitigación de riesgos"]
[null,null,null,null,null,null,null,null,null,90,"Sector Educación",1,"Igualdad en calidad de vida",7,"Inclusión educativa para la equidad","Dotación","Dotación pedagógica a colegios","DOTACIÓN","IED dotados con material pedagógico",7,5,"Infraestructura y dotación escolar",105,"Contar con 30 colegios nuevos correspondientes a: 3 en ejecución, 5 en diseño y 22 en gestión de predios.",407,"300 sedes de IED con mejoramientos de infraestructura",null,24,"Plan Sectorial de Educación 2012-2016","3. Educación Media fortalecida y mayor acceso a la educación superior"]
[null,null,null,null,null,null,null,null,null,93,"Sector Cultura, recreación y deporte",1,"Igualdad en calidad de vida",11,"Mejores oportunidades para el desarrollo a través de la cultura, la recreación y el deporte","Eventos artísticos, culturales y deportivos","Eventos artísticos, culturales y deportivos","EVENTOS CULTURALES Y ARTISTICOS","Eventos artísticos y culturales realizados",8,12,"Espacios artísticos y culturales",159,"Aumentar a 15% el porcentaje de la población que realiza prácticas culturales"]
[null,null,null,null,null,null,null,null,null,93,"Sector Cultura, recreación y deporte",1,"Igualdad en calidad de vida",11,"Mejores oportunidades para el desarrollo a través de la cultura, la recreación y el deporte","Eventos artísticos, culturales y deportivos","Eventos artísticos, culturales y deportivos","EVENTOS RECREATIVOS Y DEPORTIVOS","Eventos de recreación y deporte realizados",9,16,"Eventos y actividades recreativas y deportivas",192,"Aumentar a 36% el porcentaje de la población que practica algún deporte",350,"Realizar torneos interbarriales en 4 deportes",null,9,"Política Pública de Deporte, Recreación ,\nActividad Física y Parques para Bogotá 2009-2019, denominada “Bogotá mas\nactiva”.","1. Aumentar la participación"]
[null,null,null,null,null,null,null,null,null,93,"Sector Cultura, recreación y deporte",1,"Igualdad en calidad de vida",11,"Mejores oportunidades para el desarrollo a través de la cultura, la recreación y el deporte","Procesos de formación artística, cultural y deportiva","Procesos de formación artística, cultural y deportiva\n","PROCESOS DE FORMACIÓN ARTÍSTICA Y CULTURAL ","Personas vinculadas a procesos de  formación artística y cultural",10,13,"Formación artística y cultural",159,"Aumentar a 15% el porcentaje de la población que realiza prácticas culturales",352,"Implementar el Sistema Distrital de Formación Artística y Cultural (SIDFAC)"]
[null,null,null,null,null,null,null,null,null,93,"Sector Cultura, recreación y deporte",1,"Igualdad en calidad de vida",11,"Mejores oportunidades para el desarrollo a través de la cultura, la recreación y el deporte","Procesos de formación artística, cultural y deportiva","Procesos de formación artística, cultural y deportiva\n","PROCESOS DE FORMACIÓN DEPORTIVA ","Personas vinculadas a procesos de  formación deportiva",11,16,"Eventos y actividades recreativas y deportivas",192,"Aumentar a 36% el porcentaje de la población que practica algún deporte",349,"Garantizar la asistencia técnica del IDRD a las escuelas de formación deportiva por los Fondos de Desarrollo Local",null,9,"Política Pública de Deporte, Recreación ,\nActividad Física y Parques para Bogotá 2009-2019, denominada “Bogotá mas\nactiva”.","1. Aumentar la participación"]
[null,null,null,null,null,null,null,null,null,96,"Sector Hábitat",2,"Democracia Urbana ",15,"Recuperación, incorporación, vida urbana y control de la ilegalidad","Inspección, vigilancia y control - IVC","Asesoría para legalización de barrios y titulación de predios","DEMANDAS DE TITULACIÓN","Demandas  de titulación predial presentadas ",12,19,"Regulación legalización de predios y apoyo a la vivienda",258," 100% de polígonos identificados de control y prevención, monitoreados en áreas susceptibles de ocupación ilegal ",176," Monitorear el 100% de polígonos identificados de control y prevención, en áreas susceptibles de ocupación ilegal ",null,34,"Política Distrital Integral de Vivienda y Hábitat","3. Asentamientos humanos y mejoramiento integral de barrios y vivienda"]
[null,null,null,null,null,null,null,null,null,96,"Sector Hábitat",2,"Democracia Urbana ",15,"Recuperación, incorporación, vida urbana y control de la ilegalidad","Inspección, vigilancia y control - IVC","Asesoría para legalización de barrios y titulación de predios","ESTUDIOS DE REGULARIZACIÓN","Estudios preliminares para la regularización urbanística (levantamiento topográficos y análisis de los mismos)  a asentamientos de origen informal previamente legalizados y priorizados en los territorios diagnosticados por la SDHT\n",13,19,"Regulación legalización de predios y apoyo a la vivienda",258," 100% de polígonos identificados de control y prevención, monitoreados en áreas susceptibles de ocupación ilegal ",176," Monitorear el 100% de polígonos identificados de control y prevención, en áreas susceptibles de ocupación ilegal ",null,34,"Política Distrital Integral de Vivienda y Hábitat","3. Asentamientos humanos y mejoramiento integral de barrios y vivienda"]
[null,null,null,null,null,null,null,null,null,93,"Sector Cultura, recreación y deporte",2,"Democracia Urbana ",17,"Espacio público, derecho de todos","Parques","Construcción, mantenimiento y dotación de parques vecinales y/o de bolsillo","CONSTRUCCIÓN DE PARQUES","Parques vecinales y/o de bolsillo construidos",14,17,"Parques y escenarios deportivos",296,"Disminuir a 11,21% el porcentaje de personas que considera que las canchas y escenarios deportivos han empeorado ",368,"Construcción y/o mejoramiento de 64 parques en todas las escalas, en los que se construirán cuatro xtreme parks",null,9,"Política Pública de Deporte, Recreación ,\nActividad Física y Parques para Bogotá 2009-2019, denominada “Bogotá mas\nactiva”.","5. Mejorar los parques, escenarios y entornos"]
[null,null,null,null,null,null,null,null,null,93,"Sector Cultura, recreación y deporte",2,"Democracia Urbana ",17,"Espacio público, derecho de todos","Parques","Construcción, mantenimiento y dotación de parques vecinales y/o de bolsillo","INTERVENCIÓN DE PARQUES","Parques vecinales y/o de bolsillo intervenidos",15,17,"Parques y escenarios deportivos",296,"Disminuir a 11,21% el porcentaje de personas que considera que las canchas y escenarios deportivos han empeorado ",368,"Construcción y/o mejoramiento de 64 parques en todas las escalas, en los que se construirán cuatro xtreme parks",null,9,"Política Pública de Deporte, Recreación ,\nActividad Física y Parques para Bogotá 2009-2019, denominada “Bogotá mas\nactiva”.","5. Mejorar los parques, escenarios y entornos"]
[null,null,null,null,null,null,null,null,null,95,"Sector Movilidad",2,"Democracia Urbana ",18,"Mejor movilidad para todos","Malla vial, espacio público y peatonal","Construcción y/o mantenimiento de malla vial, espacio público y peatonal, y puentes peatonales y/o vehiculares sobre cuerpos de agua (de escala local: urbana y/o rural)\n","CONSTRUCCIÓN MALLA VIAL RURAL"," Km/carril de malla vial rural construidos ",16,22,"Vías Locales",300,"Alcanzar 50% de malla vial en buen estado",225,"Construir 30 km de nueva malla vial"]
[null,null,null,null,null,null,null,null,null,95,"Sector Movilidad",2,"Democracia Urbana ",18,"Mejor movilidad para todos","Malla vial, espacio público y peatonal","Construcción y/o mantenimiento de malla vial, espacio público y peatonal, y puentes peatonales y/o vehiculares sobre cuerpos de agua (de escala local: urbana y/o rural)\n","CONSTRUCCIÓN MALLA VIAL LOCAL","Km/carril de malla vial local construido",17,22,"Vías Locales",300," Alcanzar 50% de malla vial en buen estado ",225,"Construir 30 km de nueva malla vial"]
[null,null,null,null,null,null,null,null,null,95,"Sector Movilidad",2,"Democracia Urbana ",18,"Mejor movilidad para todos","Malla vial, espacio público y peatonal","Construcción y/o mantenimiento de malla vial, espacio público y peatonal, y puentes peatonales y/o vehiculares sobre cuerpos de agua (de escala local: urbana y/o rural)\n","MANTENIMIENTO MALLA VIAL LOCAL","Km/carril de malla vial local mantenido",18,22,"Vías Locales",300," Alcanzar 50% de malla vial en buen estado ","229-226","Conservar y rehabilitar 1,083 km carril de la infraestructura vial local (por donde no circulan rutas de Transmilenio zonal)/\nConservar 750 km carril de malla vial arterial, troncal e intermedia y local (por donde circulan las rutas de Transmilenio troncal y zonal) circulan rutas de Transmilenio zonal)"]
[null,null,null,null,null,null,null,null,null,95,"Sector Movilidad",2,"Democracia Urbana ",18,"Mejor movilidad para todos","Malla vial, espacio público y peatonal","Construcción y/o mantenimiento de malla vial, espacio público y peatonal, y puentes peatonales y/o vehiculares sobre cuerpos de agua (de escala local: urbana y/o rural)\n","MANTENIMIENTO MALLA VIAL RURAL","Km/carril de malla vial rural mantenidos",19,22,"Vías Locales",300," Alcanzar 50% de malla vial en buen estado ",228,"Mantener periódicamente de 50 km carril de malla vial rural"]
[null,null,null,null,null,null,null,null,null,95,"Sector Movilidad",2,"Democracia Urbana ",18,"Mejor movilidad para todos","Malla vial, espacio público y peatonal","Construcción y/o mantenimiento de malla vial, espacio público y peatonal, y puentes peatonales y/o vehiculares sobre cuerpos de agua (de escala local: urbana y/o rural)\n","CONSTRUCCIÓN ESPACIO PÚBLICO","m2 de espacio público construidos",20,23,"Espacio Público",313,"Llevar a 20% la satisfacción con el viaje a pie"]
[null,null,null,null,null,null,null,null,null,95,"Sector Movilidad",2,"Democracia Urbana ",18,"Mejor movilidad para todos","Malla vial, espacio público y peatonal","Construcción y/o mantenimiento de malla vial, espacio público y peatonal, y puentes peatonales y/o vehiculares sobre cuerpos de agua (de escala local: urbana y/o rural)\n","MANTENIMIENTO ESPACIO PÚBLICO","m2 de espacio público mantenidos",21,23,"Espacio Público",313,"Llevar a 20% la satisfacción con el viaje a pie"]
[null,null,null,null,null,null,null,null,null,95,"Sector Movilidad",2,"Democracia Urbana ",18,"Mejor movilidad para todos","Malla vial, espacio público y peatonal","Construcción y/o mantenimiento de malla vial, espacio público y peatonal, y puentes peatonales y/o vehiculares sobre cuerpos de agua (de escala local: urbana y/o rural)\n","INTERVENCIÓN PUENTES","Puentes vehiculares y/o peatonales, de escala local sobre cuerpos de agua intervenidos",22,23,"Espacio Público",313,"Llevar a 20% la satisfacción con el viaje a pie"]
[null,null,null,null,null,null,null,null,null,102,"Sector Seguridad, Convivencia y Justicia",3,"Construcción de Comunidad y cultura ciudadana",19,"Seguridad y convivencia para todos","Seguridad y convivencia","Dotación con recursos tecnológicos para la seguridad","DOTACIÓN","Dotaciones para seguridad realizadas",23,31,"Infraestructura y dotaciones para seguridad",363,"Aumentar en 17 puntos porcentuales las personas que consideran que el barrio en el que habitan es seguro",null,null,"Para dotaciones de seguridad encontré 8 metas resultado que creo pueden servir y una meta producto (alguna de las dos metas producto me parece la más apropiada , incluso creo que también es la más apropiada para el indicador: \"Personas vinculadas a ejercicios de convivencia ciudadana\")",31,"Política Pública Distrital de Convivencia y Seguridad Ciudadana",null,"Dentro de la estructura de la política no es clara la delimitación entre ejes, estrategias y acciones. "]
[null,null,null,null,null,null,null,null,null,102,"Sector Seguridad, Convivencia y Justicia",3,"Construcción de Comunidad y cultura ciudadana",19,"Seguridad y convivencia para todos","Seguridad y convivencia","Promoción de la convivencia ciudadana","CONVIVENCIA CIUDADANA","Personas vinculadas a ejercicios de convivencia ciudadana",24,11,"Prevención, atención y gestión del conflicto en la localidad",363,"Aumentar en 17 puntos porcentuales las personas que consideran que el barrio en el que habitan es seguro",null,null,"Para ejercicios de convivencia encontré 4 metas resultado y dos metas producto que son las mismas de dotaciones de seguridad, si me tocara elegir elegiría una de las dos metas producto.",31,"Política Pública Distrital de Convivencia y Seguridad Ciudadana",null,"Dentro de la estructura de la política no es clara la delimitación entre ejes, estrategias y acciones. "]
[null,null,null,null,null,null,null,null,null,85,"Sector Gestión pública",5,"Desarrollo económico basado en el conocimiento",36,"Bogotá, una ciudad digital","Conexión y redes de comunicación","Mantenimiento de líneas telefónicas satelitales instaladas y portales interactivos (aplica de manera exclusiva para la localidad de Sumapaz)","LÍNEAS TELEFÓNICAS","Líneas telefónicas satelitales instaladas y/o mantenidas",25,30,"No Aplica",525,"Mejorar en 5% los indicadores básicos de tenencia y uso de TIC en la Ciudad.",485,"Realizar 1 Plan de Conectividad Rural",null,37,"Política Pública de transparencia, integridad y no tolerancia con la corrupción en Bogotá","7. Formación, comunicación y asistencia técnica"]
[null,null,null,null,null,null,null,null,null,85,"Sector Gestión pública",5,"Desarrollo económico basado en el conocimiento",36,"Bogotá, una ciudad digital","Conexión y redes de comunicación","Mantenimiento de líneas telefónicas satelitales instaladas y portales interactivos (aplica de manera exclusiva para la localidad de Sumapaz)","PORTALES INTERACTIVOS","Portales interactivos con operación sostenible garantizada",26,30,"No Aplica",525,"Mejorar en 5% los indicadores básicos de tenencia y uso de TIC en la Ciudad.",485,"Realizar 1 Plan de Conectividad Rural",null,37,"Política Pública de transparencia, integridad y no tolerancia con la corrupción en Bogotá","7. Formación, comunicación y asistencia técnica"]
[null,null,null,null,null,null,null,null,null,94,"Sector Ambiente",6,"Sostenibilidad ambiental basada en la eficiencia energética",38,"Recuperación y manejo de la Estructura Ecológica Principal","Protección y recuperación de los recursos ambientales","Intervención física en renaturalización, ecourbanismo, arborización, coberturas vegetales, muros verdes, paisajismo y jardinería","ARBORIZACIÓN","Arboles sembrados o intervenidos",27,26,"Plantación y mantenimiento de arboles, jardines y especies vegetales ",597,"Aumentar en valor real de la cobertura verde en el espacio público urbano de Bogotá D.C. (arbolado 7%, zonas verdes en 0,2% y jardinería en 20%) garantizando el mantenimiento de lo generado y lo existente.",453,"Plantar 86.000 los árboles y arbustos en el espacio Público urbano","Meta correspondiente al programa 39 en el PDD",2,"Política para la Gestión de la Conservación de la Biodiversidad en el Distrito Capital","3. Restauración de los ecosistemas degradados en el territorio."]
[null,null,null,null,null,null,null,null,null,94,"Sector Ambiente",6,"Sostenibilidad ambiental basada en la eficiencia energética",38,"Recuperación y manejo de la Estructura Ecológica Principal","Protección y recuperación de los recursos ambientales","Intervención física en renaturalización, ecourbanismo, arborización, coberturas vegetales, muros verdes, paisajismo y jardinería","RESTAURACIÓN ECOLÓGICA","Hectáreas de espacio público intervenidas  con acciones de renaturalización y/o ecourbanismo",28,20,"Calidad ambiental y preservación del patrimonio natural",554,"Restaurar 200 hectáreas nuevas en Cerros Orientales, ríos y quebradas y/o zonas de riesgo no mitigable que aportan a la conectividad ecológica de la región",439,"Aplicar acciones del protocolo de restauración ecológica (diagnóstico, diseño, implementación y mantenimiento) del Distrito en 200 has",null,2,"Política para la Gestión de la Conservación de la Biodiversidad en el Distrito Capital","3. Restauración de los ecosistemas degradados en el territorio."]
[null,null,null,null,null,null,null,null,null,94,"Sector Ambiente",6,"Sostenibilidad ambiental basada en la eficiencia energética",38,"Recuperación y manejo de la Estructura Ecológica Principal","Protección y recuperación de los recursos ambientales","Intervención física en renaturalización, ecourbanismo, arborización, coberturas vegetales, muros verdes, paisajismo y jardinería","COBERTURAS VERDES","m2 de espacio público intervenidos con acciones de jardinería, muros verdes y/o paisajismo",29,20,"Calidad ambiental y preservación del patrimonio natural",597,"Aumentar en valor real de la cobertura verde en el espacio público urbano de Bogotá D.C. (arbolado 7%, zonas verdes en 0,2% y jardinería en 20%) garantizando el mantenimiento de lo generado y lo existente.",454,"Incrementar las zonas verdes de jardinería en 18.000 metros cuadrados nuevos","Meta correspondiente al programa 39 en el PDD",2,"Política para la Gestión de la Conservación de la Biodiversidad en el Distrito Capital","3. Restauración de los ecosistemas degradados en el territorio."]
[null,null,null,null,null,null,null,null,null,94,"Sector Ambiente",6,"Sostenibilidad ambiental basada en la eficiencia energética",41,"Desarrollo rural sostenible","Protección y recuperación de los recursos ambientales","Apoyo a emprendimientos productivos rurales","EMPRENDIMIENTO RURAL","Personas beneficiadas a través de emprendimientos rurales",30,30,"No Aplica",642,"Alcanzar un aumento del 20% en al menos uno de los componentes del índice de sostenibilidad de las unidades  productivas intervenidas",280,"Implementar en 80 unidades agrícolas familiares procesos de reconversión productiva",null,6,"Política Pública Distrital de Ruralidad","2. Desarrollo Humano Sostenible, Productividad y Seguridad Alimentaria. "]
[null,null,null,null,null,null,null,null,null,94,"Sector Ambiente",6,"Sostenibilidad ambiental basada en la eficiencia energética",41,"Desarrollo rural sostenible","Protección y recuperación de los recursos ambientales","Asesoría técnica agropecuaria, asistencia en tecnologías ambientales sostenibles y temas de productividad rural","ASESORÍA Y ASISTENCIA TÉCNICA RURAL","Personas beneficiadas con acciones de asesoría técnica agropecuaria y/o asistencia en tecnologías ambientales sostenibles",31,30,"No Aplica",639,"Duplicar el número de predios con adopción de buenas prácticas productivas que contribuyan a la adaptación y reducción de la vulnerabilidad frente al cambio climático y la promoción del desarrollo sostenible.",468,"Duplicar el número de predios con adopción de buenas prácticas productivas que contribuyan a la adaptación y reducción de la vulnerabilidad frente al cambio climático y la promoción del desarrollo sostenible.",null,6,"Política Pública Distrital de Ruralidad","2. Desarrollo Humano Sostenible, Productividad y Seguridad Alimentaria. "]
[null,null,null,null,null,null,null,null,null,98,"Sector Gobierno",7,"Gobierno legítimo, fortalecimiento local y eficiencia",45,"Gobernanza e influencia local, regional e internacional","Gestión pública local","Fortalecimiento institucional y pago de honorarios de ediles","HONORARIOS A EDILES","Ediles con pago de honorarios cubierto",32,29,"Fortalecimiento institucional",null,null,158,"Implementar en un 100% en las Alcaldías Locales un nuevo modelo de gestión","Para esta meta que es especial, las metas PDD que más se acercan son estas tres metas producto. Hay que decidir cuál le pega más o si no le pega ninguna",37,"Política Pública de transparencia, integridad y no tolerancia con la corrupción en Bogotá"]
[null,null,null,null,null,null,null,null,null,98,"Sector Gobierno",7,"Gobierno legítimo, fortalecimiento local y eficiencia",45,"Gobernanza e influencia local, regional e internacional","Gestión pública local","Fortalecimiento institucional y pago de honorarios de ediles","FORTALECIMIENTO LOCAL","Estrategias de fortalecimiento institucional realizadas",33,29,"Fortalecimiento institucional",null,null,158,"Implementar en un 100% en las Alcaldías Locales un nuevo modelo de gestión","Para esta meta que es especial, las metas PDD que más se acercan son estas tres metas producto. Hay que decidir cuál le pega más o si no le pega ninguna",37,"Política Pública de transparencia, integridad y no tolerancia con la corrupción en Bogotá"]
[null,null,null,null,null,null,null,null,null,98,"Sector Gobierno",7,"Gobierno legítimo, fortalecimiento local y eficiencia",45,"Gobernanza e influencia local, regional e internacional","Inspección, vigilancia y control - IVC","Acciones de control urbanístico","IVC","Acciones de inspección, vigilancia y control realizadas",34,32,"Inspección, vigilancia y control (IVC)",null,null,160," Disminuir el número de actuaciones administrativas activas y las represadas a 21.513 ",null,31,"Política Pública Distrital de Convivencia y Seguridad Ciudadana",null,"Dentro de la estructura de la política no es clara la delimitación entre ejes, estrategias y acciones."]
[null,null,null,null,null,null,null,null,null,98,"Sector Gobierno",7,"Gobierno legítimo, fortalecimiento local y eficiencia",45,"Gobernanza e influencia local, regional e internacional","Participación","Fomento a la participación","FORTALECIMIENTO PARA LA PARTICIPACIÓN","Organizaciones, instancias y expresiones sociales ciudadanas fortalecidas para la participación",35,9,"Espacios y procesos de participación ciudadana fortalecidos ","824-832","Llegar a un 50% de organizaciones comunales de primer grado fortalecidas en su capacidad institucional/ Fortalecer 20 organizaciones comunales de segundo grado en su capacidad institucional",null,null,"Las dos metas que más se ajustan son estas metas resultado",30,"Polìtica Pública de Participación Incidente para el Distrito Capital","1. Fortalecimiento de la Participación Incidente de la Ciudadanía"]
[null,null,null,null,null,null,null,null,null,98,"Sector Gobierno",7,"Gobierno legítimo, fortalecimiento local y eficiencia",45,"Gobernanza e influencia local, regional e internacional","Participación","Fomento a la participación","PARTICIPACIÓN CIUDADANA Y CONTROL SOCIAL","Personas vinculadas a procesos de participación ciudadana y/o control social",36,9,"Espacios y procesos de participación ciudadana fortalecidos ",825,"Realizar 350 Acciones de participación ciudadana desarrolladas por organizaciones comunales, sociales y comunitarias",148,"Formar a 10.000 ciudadanos en participación ",null,30,"Polìtica Pública de Participación Incidente para el Distrito Capital","1. Fortalecimiento de la Participación Incidente de la Ciudadanía"]
[null,null,null,null,null,null,null,null,null,98,"Sector Gobierno",7,"Eje transversal Gobierno legítimo, fortalecimiento local y eficiencia",45,"Gobernanza e influencia local, regional e internacional","Proyecto estratégico","Proyecto estratégico","SEDE ADMINISTRATIVA","Sede administrativa local adecuada",37,28,"Infraestructura para la atención de servicio al ciudadano",null,null,"155-156","Actualizar Tecnológicamente 5 Sedes administrativas de Alcaldías Locales/Construir 5 sedes administrativas de Alcaldías Locales",null,37,"Política Pública de transparencia, integridad y no tolerancia con la corrupción en Bogotá"]
[null,null,null,null,null,null,null,null,null,94,"Sector Ambiente",1,"Pilar Igualdad de calidad de vida",4,"Familias protegidas y adaptadas al cambio climático","Proyecto estratégico","Proyecto estratégico","DOTACIÓN","Camión de bomberos adquirido",38,30,"No Aplica",45,"Reasentar a 4286 familias localizadas en zonas de riesgo no mitigable (286 a cargo del IDIGER)",431,"Atender al 100% de la población afectada por emergencias y desastres con respuesta integral y cordinada del SDGR - CC",null,32,"Plan Distrital para la Prevención y Atención de Emergencias para Bogotá D.C.\"","2. Prevención de nuevos riesgos (generación y acumulación del riesgo)."]
[null,null,null,null,null,null,null,null,null,94,"Sector Ambiente",1,"Pilar Igualdad de calidad de vida",4,"Familias protegidas y adaptadas al cambio climático","Proyecto estratégico","Proyecto estratégico","OBRAS DE MITIGACIÓN","Estrategias integrales para la prevención del riesgo natural y antrópico realizadas",39,24,"Gestión para la prevención y mitigación del riesgo",50,"Beneficiar a 8.750 familias localizadas en zonas de riesgo mitigable por fenómenos de remoción en masa, con obras de mitigación",432," Construcción de 16 obras de mitigación ",null,32,"Plan Distrital para la Prevención y Atención de Emergencias para Bogotá D.C.\"","2. Prevención de nuevos riesgos (generación y acumulación del riesgo)."]
[null,null,null,null,null,null,null,null,null,90,"Sector Educación",1,"Pilar Igualdad de calidad de vida",8,"Acceso con calidad a la educación superior","Proyecto estratégico","Proyecto estratégico","FORMACION","Personas formadas en  hotelería y turismo y/o ecoturismo y/o comunicación y mercadeo y/o publicidad y/o administración e ingles",40,8,"Apoyo a la educación superior",110,"Promover  35.000 cupos para el acceso a la educación superior",408,"Promover 35.000 cupos para el acceso a la educación superior",null,24,"Plan Sectorial de Educación 2012-2016","3. Educación Media fortalecida y mayor acceso a la educación superior"]
[null,null,null,null,null,null,null,null,null,85,"Sector Gestión pública",3,"Pilar Construcción de comunidad y cultura ciudadana",23,"Bogotá mejor para las víctimas, la paz y la reconciliación","Proyecto estratégico","Proyecto estratégico","PAZ, MEMORIA Y RECONCILIACIÓN","Personas vinculadas a procesos integrales en materia de paz y reconciliación",41,30,"No Aplica",425,"Cumplir el 85% de las metas del PAD (Plan de Acción Distrital)",210,"Diseñar e implementar 3 estrategias para la memoria, la paz y la reconciliación"]
[null,null,null,null,null,null,null,null,null,98,"Sector Gobierno",7,"Eje transversal Gobierno legítimo, fortalecimiento local y eficiencia",45,"Gobernanza e influencia local, regional e internacional","Proyecto estratégico","Proyecto estratégico","CASA DE PARTICIPACIÓN CIUDADANA LOCAL","Casas de la participación ciudadana  local acondicionadas",42,14,"Infraestructura y dotación a centros artísticos y culturales","824-832","Llegar a un 50% de organizaciones comunales de primer grado fortalecidas en su capacidad institucional/\nFortalecer 20 organizaciones comunales de segundo grado en su capacidad institucional",null,null,null,30,"Polìtica Pública de Participación Incidente para el Distrito Capital","1. Fortalecimiento de la Participación Incidente de la Ciudadanía"]
[null,null,null,null,null,null,null,null,null,92,"Sector Integración social",1,"Pilar Igualdad de calidad de vida",2,"Desarrollo integral desde la gestación hasta la adolescencia","Proyecto estratégico","Proyecto estratégico","MINUTAS NUTTRICIONALES","Niños y niñas vinculados a estrategias orientadas a la atención nutricional y prevención de enfermedades prevalentes de la primera infancia",43,30,"No Aplica",10,"Alcanzar 159.054 cupos para la atención integral de niños y niñas de primera infancia con estándares de calidad superiores al 80% en el ámbito institucional.",null,null,null,38,"Política Pública de Infancia y Adolescencia de Bogotá D.C.","1. Niños, niñas y adolescentes en ciudadanía plena"]
[null,null,null,null,null,null,null,null,null,90,"Sector Educación",1,"Pilar Igualdad de calidad de vida",7,"Inclusión educativa para la equidad","Proyecto estratégico","Proyecto estratégico","CONSTRUCCIÓN","Construcciones de planteles educativos apoyadas",44,30,"No Aplica",105,"Contar con 30 colegios nuevos correspondientes a: 3 en ejecución, 5 en diseño y 22 en gestión de predios.",null,null,null,24,"Plan Sectorial de Educación 2012-2016","1. Currículo para la excelencia académica y la formación integral"]
[null,null,null,null,null,null,null,null,null,102,"Sector Seguridad, Convivencia y Justicia",3,"Pilar Construcción de comunidad y cultura ciudadana",19,"Seguridad y convivencia para todos","Proyecto estratégico","Proyecto estratégico","CAI","CAIs construidos y dotados",45,31,"Infraestructura y dotaciones para seguridad",354,"Disminuir 10% la tasa de riñas por cada cien mil habitantes",111,"Incrementar en un 10% los Centros de Atención Inmediata (CAI) construidos en Bogotá",null,31,"Política Pública Distrital de Convivencia y Seguridad Ciudadana",null,"Dentro de la estructura de la política no es clara la delimitación entre ejes, estrategias y acciones."]
[null,null,null,null,null,null,null,null,null,100,"Sector Mujeres",3,"Pilar Construcción de comunidad y cultura ciudadana",20,"Fortalecimiento del Sistema de Protección Integral a Mujeres Víctimas de Violencia - SOFIA","Proyecto estratégico","Proyecto estratégico","SOFIA","Personas vinculadas en acciones contra la violencia y discriminación de la mujer",46,11,"Prevención, atención y gestión del conflicto en la localidad",3,"Alcanzar una tasa de utilización del servicio de  atención socio jurídica a mujeres correspondiente a dos puntos",null,null,null,29,"Política Pública de Mujeres y Equidad de Género en el Distrito Capital","1. Derechos de las mujeres. "]
[null,null,null,null,null,null,null,null,null,89,"Sector Desarrollo económico, industria y turismo",5,"Eje transversal Desarrollo económico basado en el conocimiento",31,"Fundamentar el desarrollo económico en la generación y uso del conocimiento para mejorar la competitividad de la Ciudad Región","Proyecto estratégico","Proyecto estratégico","EMPRENDIMIENTO","Jóvenes con acciones de ampliación de oportunidades de generación de ingresos y de estabilidad económica beneficiados",47,30,"No Aplica",474,"Lograr que el 50% de empresas fortalecidas implementen procesos de mejora",290,"Fortalecer 535 unidades productivas en capacidades empresariales y/o formalizarlas",null,41,"Política Pública de Juventud para Bogotá D.C. 2006-2016","1. Político- Administrativa"]
[null,null,null,null,null,null,null,null,null,96,"Sector Hábitat",2,"Pilar Democracia urbana",13,"Infraestructura para el desarrollo del hábitat","Proyecto estratégico","Proyecto estratégico","RESIDUOS SOLIDOS","Procesos de recolección y clasificación de residuos sólidos aprovechables implementados",48,25,"Manejo integral de residuos sólidos ",224,"Disminuir en 6% las toneladas de residuos urbanos dispuestos en el relleno sanitario. (Cambio cultural en manejo de residuos y separación en fuente).",null,null,null,7,"Política de Producción Sostenible para Bogotá D.C.","2. Promoción de producción más limpia."]
[null,null,null,null,null,null,null,null,null,102,"Sector Seguridad, Convivencia y Justicia",3,"Pilar Construcción de comunidad y cultura ciudadana",19,"Seguridad y convivencia para todos","Proyecto estratégico","Proyecto estratégico","CAI","Centros de Atención Inmediata \nadquiridos y/o construidos",49,31,"Infraestructura y dotaciones para seguridad",354,"Disminuir 10% la tasa de riñas por cada cien mil habitantes",111,"Incrementar en un 10% los Centros de Atención Inmediata (CAI) construidos en Bogotá",null,31,"Política Pública Distrital de Convivencia y Seguridad Ciudadana",null,"Dentro de la estructura de la política no es clara la delimitación entre ejes, estrategias y acciones."]
[null,null,null,null,null,null,null,null,null,85,"Sector Gestión pública",5,"Eje transversal Desarrollo económico basado en el conocimiento",36,"Bogotá, una ciudad digital","Proyecto estratégico","Proyecto estratégico","TIC","Estrategias para el fortalecimiento de la apropiación de las TIC implementadas",50,30,"No Aplica",533,"Incrementar un 30% la participación del tele-trabajo en las empresas Bogotanas.",487,"Diseñar e implementar una estrategia para el fortalecimiento de la apropiación de las TIC",null,37,"Política Pública de transparencia, integridad y no tolerancia con la corrupción en Bogotá"]
[null,null,null,null,null,null,null,null,null,90,"Sector Educación",1,"Pilar Igualdad de calidad de vida",8,"Acceso con calidad a la educación superior","Proyecto estratégico","Proyecto estratégico","FORMACION","Cupos de Educación Técnica, Tecnológica y profesional promovidos",51,8,"Apoyo a la educación superior",110,"Promover  35.000 cupos para el acceso a la educación superior",408,"Promover 35.000 cupos para el acceso a la educación superior",null,24,"Plan Sectorial de Educación 2012-2016","3. Educación Media fortalecida y mayor acceso a la educación superior"]
[null,null,null,null,null,null,null,null,null,96,"Sector Hábitat",6,"Eje transversal Sostenibilidad ambiental basada en la eficiencia energética",41,"Desarrollo rural sostenible","Proyecto estratégico","Proyecto estratégico","ACUEDUCTOS VEREDALES","Procesos de reconocimiento e identificación de necesidades  y acciones para la legalización y funcionamiento de acueductos veredales durante la vigencia  del Plan",52,18,"Acueductos y alcantarillados",636,"Aumentar a 200 las hectáreas en proceso de restauración, mantenimiento y/o conservación sobre áreas abastecedoras de acueductos veredales asociadas a ecosistemas de montaña, bosques, humedales, ríos, nacimientos, reservorios y lagos.",456,"Realizar un diagnóstico de áreas para restauración, mantenimiento y/o conservación",null,6,"Política Pública Distrital de Ruralidad","1. Territorialidad."]
[null,null,null,null,null,null,null,null,null,94,"Sector Ambiente",1,"Pilar Igualdad de calidad de vida",4,"Familias protegidas y adaptadas al cambio climático","Proyecto estratégico","Proyecto estratégico","REASENTAMIENTOS URBANOS","Personas beneficiadas",53,24,"Gestión para la prevención y mitigación del riesgo",50,"Beneficiar a 8.750 familias localizadas en zonas de riesgo mitigable por fenómenos de remoción en masa, con obras de mitigación",432," Construcción de 16 obras de mitigación ",null,34,"Política Distrital Integral de Vivienda y Hábitat","3. Asentamientos humanos y mejoramiento integral de barrios y vivienda"]
[null,null,null,null,null,null,null,null,null,100,"Sector Mujeres",3,"Pilar Construcción de comunidad y cultura ciudadana",20,"Fortalecimiento del Sistema de Protección Integral a Mujeres Víctimas de Violencia - SOFIA","Proyecto estratégico","Proyecto estratégico","SOFIA","Personas beneficiadas en estrategias para el cierre de brechas de género",54,30,"No Aplica",3,"Alcanzar una tasa de utilización del servicio de  atención socio jurídica a mujeres correspondiente a dos puntos",null,null,null,29,"Política Pública de Mujeres y Equidad de Género en el Distrito Capital","1. Derechos de las mujeres. "]
[null,null,null,null,null,null,null,null,null,89,"Sector Desarrollo económico, industria y turismo",5,"Eje transversal Desarrollo económico basado en el conocimiento",37,"Consolidar el turismo como factor de desarrollo, confianza y felicidad para Bogotá Región","Proyecto estratégico","Proyecto estratégico","ECOTURISMO","Personas vinculadas en el proyecto estratégico ecoturístico de conservación ambiental",55,15,"Promoción turística y posicionamiento de la localidad como destino turístico",536,"Aumentar 13% el número de viajeros extranjeros que visitan Bogotá","277-278-276","Fortalecer doscientas (200) empresas, prestadores de servicios turísticos y complementarios/\nQuinientas (500) personas vinculadas a procesos de formación/\nParticipar y/o realizar doscientas cincuenta (250) actividades de promoción y posicionamiento turístico",null,14,"Política Distrital de Turismo para Bogotá, D.C. y su zona de influencia Región Capital","2. Mercadeo y promoción."]
[null,null,null,null,null,null,null,null,null,89,"Sector Desarrollo económico, industria y turismo",5,"Eje transversal Desarrollo económico basado en el conocimiento",37,"Consolidar el turismo como factor de desarrollo, confianza y felicidad para Bogotá Región","Proyecto estratégico","Proyecto estratégico","TURISMO","Acciones realizadas para el desarrollo de segmentos, actividades, productos y/o servicios turísticos",56,15,"Promoción turística y posicionamiento de la localidad como destino turístico",536,"Aumentar 13% el número de viajeros extranjeros que visitan Bogotá","277-278-276","Fortalecer doscientas (200) empresas, prestadores de servicios turísticos y complementarios/\nQuinientas (500) personas vinculadas a procesos de formación/\nParticipar y/o realizar doscientas cincuenta (250) actividades de promoción y posicionamiento turístico",null,14,"Política Distrital de Turismo para Bogotá, D.C. y su zona de influencia Región Capital","2. Mercadeo y promoción."]
[null,null,null,null,null,null,null,null,null,94,"Sector Ambiente",6,"Eje transversal Sostenibilidad ambiental basada en la eficiencia energética",38,"Recuperación y manejo de la Estructura Ecológica Principal","Proyecto estratégico","Proyecto estratégico","PROTECCION ANIMAL","Acciones de protección animal realizadas",57,30,"No Aplica",587,"Priorizar e implementar 16 proyectos del plan de acción de la Política de Bienestar Animal",449,"Priorizar e implementar 16 proyectos del plan de acción de la Política de Bienestar Animal \n",null,8,"Política Pública Distrital de Protección y Bienestar Animal","1. Cultura ciudadana para la protección y el bienestar animal"]
[null,null,null,null,null,null,null,null,null,94,"Sector Ambiente",6,"Eje transversal Sostenibilidad ambiental basada en la eficiencia energética",38,"Recuperación y manejo de la Estructura Ecológica Principal","SIN LINEA","SIN LINEA","PROTECCION ANIMAL","Estrategias  implementadas del plan de acción de la política de bienestar animal",58,30,"No Aplica",587,"Priorizar e implementar 16 proyectos del plan de acción de la Política de Bienestar Animal",449,"Priorizar e implementar 16 proyectos del plan de acción de la Política de Bienestar Animal \n",null,8,"Política Pública Distrital de Protección y Bienestar Animal","3. Gestión del conocimiento para la protección y el bienestar animal "]
[null,null,null,null,null,null,null,null,null,94,"Sector Ambiente",6,"Eje transversal Sostenibilidad ambiental basada en la eficiencia energética",38,"Recuperación y manejo de la Estructura Ecológica Principal","Proyecto estratégico","Proyecto estratégico","AGRICULTURA URBANA","Acciones de agricultura urbana implementadas",59,30,"No Aplica",null,null,null,null,null,6,"Política Pública Distrital de Ruralidad","2. Desarrollo Humano Sostenible, Productividad y Seguridad Alimentaria. "]
[null,null,null,null,null,null,null,null,null,null,null,null,null,null,null,null,null,null,"Hogares en condición de vulnerabilidad y situación de pobreza beneficiados",61,30,"No Aplica"]
[null,null,null,null,null,null,null,null,null,null,null,null,null,null,null,null,null,null,"Salones comunales intervenidos",60,9,"Espacios y procesos de participación ciudadana fortalecidos "]
[]
[]
[]
[]
[]
[]
[]
[]
[null,null,null,null,null,null,null,null,null,null,null,"CORTES"]
[null,null,null,null,null,null,null,null,null,null,null,"2021_1"]
[null,null,null,null,null,null,null,null,null,null,null,"2021_2"]
[null,null,null,null,null,null,null,null,null,null,null,"2021_3"]
[null,null,null,null,null,null,null,null,null,null,null,"2021_4"]
[null,null,null,null,null,null,null,null,null,null,null,"2022_1"]
[null,null,null,null,null,null,null,null,null,null,null,"2022_2"]
[null,null,null,null,null,null,null,null,null,null,null,"2022_3"]
[null,null,null,null,null,null,null,null,null,null,null,"2022_4"]
[null,null,null,null,null,null,null,null,null,null,null,"2023_1"]
[null,null,null,null,null,null,null,null,null,null,null,"2023_2"]
[null,null,null,null,null,null,null,null,null,null,null,"2023_3"]
[null,null,null,null,null,null,null,null,null,null,null,"2023_4"]
[null,null,null,null,null,null,null,null,null,null,null,"2024_1"]
[null,null,null,null,null,null,null,null,null,null,null,"2024_2"]
[null,null,null,null,null,null,null,null,null,null,null,"2024_3"]
[null,null,null,null,null,null,null,null,null,null,null,"2024_4"]
[]
[]
[]
[]
[]
[]
[]
[null,null,null,null,null,null,null,null,null,null,null,"CÓDIGO","PRODUCTO","CÓDIGO"]
[null,null,null,null,null,null,null,null,null,null,null,1,"Protección integral a niños y niñas y adolescentes",1]
[null,null,null,null,null,null,null,null,null,null,null,2,"Adecuación , habilitación y dotación de jardines",2]
[null,null,null,null,null,null,null,null,null,null,null,3,"Promoción, prevención e intervención en salud",3]
[null,null,null,null,null,null,null,null,null,null,null,4,"Inspección, vigilancia y control(IVC) del sistema de salud",4]
[null,null,null,null,null,null,null,null,null,null,null,5,"Infraestructura y dotación escolar",5]
[null,null,null,null,null,null,null,null,null,null,null,6,"Actividades Extraescolares",6]
[null,null,null,null,null,null,null,null,null,null,null,7,"Validación Escolar",7]
[null,null,null,null,null,null,null,null,null,null,null,8,"Apoyo a la educación superior",8]
[null,null,null,null,null,null,null,null,null,null,null,9,"Espacios y procesos de participación ciudadana fortalecidos ",9]
[null,null,null,null,null,null,null,null,null,null,null,10,"Protección  integral a personas y familias en situación de vulneración",10]
[null,null,null,null,null,null,null,null,null,null,null,11,"Prevención, atención y gestión del conflicto en la localidad",11]
[null,null,null,null,null,null,null,null,null,null,null,12,"Espacios artísticos y culturales",12]
[null,null,null,null,null,null,null,null,null,null,null,13,"Formación artística y cultural",13]
[null,null,null,null,null,null,null,null,null,null,null,14,"Infraestructura y dotación a centros artísticos y culturales",14]
[null,null,null,null,null,null,null,null,null,null,null,15,"Promoción turística y posicionamiento de la localidad como destino turístico",15]
[null,null,null,null,null,null,null,null,null,null,null,16,"Eventos y actividades recreativas y deportivas",16]
[null,null,null,null,null,null,null,null,null,null,null,17,"Parques y escenarios deportivos",17]
[null,null,null,null,null,null,null,null,null,null,null,18,"Acueductos y alcantarillados",18]
[null,null,null,null,null,null,null,null,null,null,null,19,"Regulación legalización de predios y apoyo a la vivienda",19]
[null,null,null,null,null,null,null,null,null,null,null,20,"Calidad ambiental y preservación del patrimonio natural",20]
[null,null,null,null,null,null,null,null,null,null,null,21,"Sistema de información ambiental",21]
[null,null,null,null,null,null,null,null,null,null,null,22,"Vías Locales",22]
[null,null,null,null,null,null,null,null,null,null,null,23,"Espacio Publico",23]
[null,null,null,null,null,null,null,null,null,null,null,24,"Gestión para la prevención y mitigación del riesgo",24]
[null,null,null,null,null,null,null,null,null,null,null,25,"Manejo integral de residuos sólidos ",25]
[null,null,null,null,null,null,null,null,null,null,null,26,"Plantación y mantenimiento de arboles, jardines y especies vegetales ",26]
[null,null,null,null,null,null,null,null,null,null,null,27,"Espacios para el control social",27]
[null,null,null,null,null,null,null,null,null,null,null,28,"Infraestructura para la atención de servicio al ciudadano",28]
[null,null,null,null,null,null,null,null,null,null,null,29,"Fortalecimiento institucional",29]
[null,null,null,null,null,null,null,null,null,null,null,30,"No Aplica",30]
[null,null,null,null,null,null,null,null,null,null,null,31,"Infraestructura y dotaciones para seguridad",31]
[null,null,null,null,null,null,null,null,null,null,null,32,"Inspección, vigilancia y control (IVC)",32]